{"text_format":"1","workbook":"xlsx","n_sheets":5,"sheets":["Info","Spiele","Wetten","Tabelle","Teilnehmerliste"],"not_rendered":{"charts":0,"images":0,"macros":1,"external_links":0,"defined_names":2,"comments":0,"pivot_tables":0},"unopened":[],"bounds":{"document_bytes":16777216,"sheet_cells":100000,"rows_first":2000,"rows_last":500,"rows_between":2000,"halvings":0,"cell_chars":16384,"cell_head_chars":4096},"cells_cut":0,"cells_raw":0,"read":"whole","date_system":"1900"}

{"sheet":"Info","index":0,"n_rows":20,"n_cols":3,"rows_kept":20,"cut":false,"hidden":false,"merged":[[19,1,20,2],[1,1,1,2]]}
[]
[null,"Punktevergabe am Beispiel: Ergebnis = 3:2"]
[null,null,"1 Punkt für den Trend (Sieg der Heimmannschaft)"]
[null,"Tipp = 3:2 (3 Punkte)","1 Punkt für die richtige Toranzahl der Heimmannschaft"]
[null,null,"1 Punkt für die richtige Toranzahl der Gastmannschaft"]
[null,null,"1 Punkt für den Trend (Sieg der Heimmannschaft)"]
[null,"Tipp = 3:1 (2 Punkte)","1 Punkt für die richtige Toranzahl der Heimmannschaft"]
[null,null,"0 Punkte für die richtige Toranzahl der Gastmannschaft"]
[null,null,"1 Punkt für den Trend (Sieg der Heimmannschaft)"]
[null,"Tipp = 4:1 (1 Punkt)","0 Punkte für die richtige Toranzahl der Heimmannschaft"]
[null,null,"0 Punkte für die richtige Toranzahl der Gastmannschaft"]
[null,null,"0 Punkte für den Trend (Sieg der Heimmannschaft)"]
[null,"Tipp = 1:2 (1 Punkt)","0 Punkte für die richtige Toranzahl der Heimmannschaft"]
[null,null,"1 Punkt für die richtige Toranzahl der Gastmannschaft"]
[null,null,"0 Punkte für den Trend (Sieg der Heimmannschaft)"]
[null,"Tipp = 3:3 (1 Punkt)","1 Punkt für die richtige Toranzahl der Heimmannschaft"]
[null,null,"0 Punkte für die richtige Toranzahl der Gastmannschaft"]
[null,"Tipp = 2:3 (0 Punkte)","Keine der drei Bedingungen trifft zu"]
[]
[null,"In allen grau unterlegten Zellen können Sie Ihre eigenen Eingaben machen.\nHier allerdings nicht!"]

{"sheet":"Spiele","index":1,"n_rows":1002,"n_cols":6,"rows_kept":1002,"cut":false,"hidden":false,"merged":[[1,4,1,5]]}
[null,null,null,null,"-","-"]
[null,"Spiel-Nr.","Heim","Gast","Ergebnis"]
[null,1,"Bayern","Leverkusen","-","-"]
[null,2,"Hoffenheim","Bremen","-","-"]
[null,3,"Hertha","Stuttgart","-","-"]
[null,4,"Hamburg","Augsburg","-","-"]
[null,5,"Mainz","Hannover","-","-"]
[null,6,"Wolfsburg","Dortmund","-","-"]
[null,7,"Schalke","Leipzig","-","-"]
[null,8,"Freiburg","Frankfurt","-","-"]
[null,9,"Mönchengladbach","Köln","-","-"]
[null,10,"Köln","Hamburg","-","-"]
[null,11,"Bremen","Bayern","-","-"]
[null,12,"Frankfurt","Wolfsburg","-","-"]
[null,13,"Leverkusen","Hoffenheim","-","-"]
[null,14,"Augsburg","Mönchengladbach","-","-"]
[null,15,"Stuttgart","Mainz","-","-"]
[null,16,"Dortmund","Hertha","-","-"]
[null,17,"Leipzig","Freiburg","-","-"]
[null,18,"Hannover","Schalke","-","-"]
[null,19,"Hamburg","Leipzig","-","-"]
[null,20,"Freiburg","Dortmund","-","-"]
[null,21,"Mönchengladbach","Frankfurt","-","-"]
[null,22,"Augsburg","Köln","-","-"]
[null,23,"Mainz","Leverkusen","-","-"]
[null,24,"Wolfsburg","Hannover","-","-"]
[null,25,"Hoffenheim","Bayern","-","-"]
[null,26,"Hertha","Bremen","-","-"]
[null,27,"Schalke","Stuttgart","-","-"]
[null,28,"Hannover","Hamburg","-","-"]
[null,29,"Bayern","Mainz","-","-"]
[null,30,"Bremen","Schalke","-","-"]
[null,31,"Frankfurt","Augsburg","-","-"]
[null,32,"Stuttgart","Wolfsburg","-","-"]
[null,33,"Leipzig","Mönchengladbach","-","-"]
[null,34,"Hoffenheim","Hertha","-","-"]
[null,35,"Leverkusen","Freiburg","-","-"]
[null,36,"Dortmund","Köln","-","-"]
[null,37,"Mönchengladbach","Stuttgart","-","-"]
[null,38,"Schalke","Bayern","-","-"]
[null,39,"Augsburg","Leipzig","-","-"]
[null,40,"Wolfsburg","Bremen","-","-"]
[null,41,"Köln","Frankfurt","-","-"]
[null,42,"Hertha","Leverkusen","-","-"]
[null,43,"Freiburg","Hannover","-","-"]
[null,44,"Hamburg","Dortmund","-","-"]
[null,45,"Mainz","Hoffenheim","-","-"]
[null,46,"Bayern","Wolfsburg","-","-"]
[null,47,"Leipzig","Frankfurt","-","-"]
[null,48,"Hoffenheim","Schalke","-","-"]
[null,49,"Bremen","Freiburg","-","-"]
[null,50,"Mainz","Hertha","-","-"]
[null,51,"Stuttgart","Augsburg","-","-"]
[null,52,"Dortmund","Mönchengladbach","-","-"]
[null,53,"Hannover","Köln","-","-"]
[null,54,"Leverkusen","Hamburg","-","-"]
[null,55,"Köln","Leipzig","-","-"]
[null,56,"Hertha","Bayern","-","-"]
[null,57,"Freiburg","Hoffenheim","-","-"]
[null,58,"Mönchengladbach","Hannover","-","-"]
[null,59,"Schalke","Leverkusen","-","-"]
[null,60,"Frankfurt","Stuttgart","-","-"]
[null,61,"Augsburg","Dortmund","-","-"]
[null,62,"Hamburg","Bremen","-","-"]
[null,63,"Wolfsburg","Mainz","-","-"]
[null,64,"Bayern","Freiburg","-","-"]
[null,65,"Dortmund","Leipzig","-","-"]
[null,66,"Hoffenheim","Augsburg","-","-"]
[null,67,"Hertha","Schalke","-","-"]
[null,68,"Bremen","Mönchengladbach","-","-"]
[null,69,"Leverkusen","Wolfsburg","-","-"]
[null,70,"Mainz","Hamburg","-","-"]
[null,71,"Hannover","Frankfurt","-","-"]
[null,72,"Stuttgart","Köln","-","-"]
[null,73,"Leipzig","Stuttgart","-","-"]
[null,74,"Köln","Bremen","-","-"]
[null,75,"Freiburg","Hertha","-","-"]
[null,76,"Mönchengladbach","Leverkusen","-","-"]
[null,77,"Schalke","Mainz","-","-"]
[null,78,"Frankfurt","Dortmund","-","-"]
[null,79,"Augsburg","Hannover","-","-"]
[null,80,"Hamburg","Bayern","-","-"]
[null,81,"Wolfsburg","Hoffenheim","-","-"]
[null,82,"Bayern","Leipzig","-","-"]
[null,83,"Hoffenheim","Mönchengladbach","-","-"]
[null,84,"Hertha","Hamburg","-","-"]
[null,85,"Bremen","Augsburg","-","-"]
[null,86,"Schalke","Wolfsburg","-","-"]
[null,87,"Leverkusen","Köln","-","-"]
[null,88,"Mainz","Frankfurt","-","-"]
[null,89,"Hannover","Dortmund","-","-"]
[null,90,"Stuttgart","Freiburg","-","-"]
[null,91,"Dortmund","Bayern","-","-"]
[null,92,"Leipzig","Hannover","-","-"]
[null,93,"Köln","Hoffenheim","-","-"]
[null,94,"Freiburg","Schalke","-","-"]
[null,95,"Mönchengladbach","Mainz","-","-"]
[null,96,"Frankfurt","Bremen","-","-"]
[null,97,"Augsburg","Leverkusen","-","-"]
[null,98,"Hamburg","Stuttgart","-","-"]
[null,99,"Wolfsburg","Hertha","-","-"]
[null,100,"Bayern","Augsburg","-","-"]
[null,101,"Hoffenheim","Frankfurt","-","-"]
[null,102,"Hertha","Mönchengladbach","-","-"]
[null,103,"Bremen","Hannover","-","-"]
[null,104,"Schalke","Hamburg","-","-"]
[null,105,"Leverkusen","Leipzig","-","-"]
[null,106,"Mainz","Köln","-","-"]
[null,107,"Wolfsburg","Freiburg","-","-"]
[null,108,"Stuttgart","Dortmund","-","-"]
[null,109,"Dortmund","Schalke","-","-"]
[null,110,"Leipzig","Bremen","-","-"]
[null,111,"Köln","Hertha","-","-"]
[null,112,"Freiburg","Mainz","-","-"]
[null,113,"Mönchengladbach","Bayern","-","-"]
[null,114,"Frankfurt","Leverkusen","-","-"]
[null,115,"Augsburg","Wolfsburg","-","-"]
[null,116,"Hamburg","Hoffenheim","-","-"]
[null,117,"Hannover","Stuttgart","-","-"]
[null,118,"Bayern","Hannover","-","-"]
[null,119,"Hoffenheim","Leipzig","-","-"]
[null,120,"Hertha","Frankfurt","-","-"]
[null,121,"Freiburg","Hamburg","-","-"]
[null,122,"Bremen","Stuttgart","-","-"]
[null,123,"Schalke","Köln","-","-"]
[null,124,"Leverkusen","Dortmund","-","-"]
[null,125,"Mainz","Augsburg","-","-"]
[null,126,"Wolfsburg","Mönchengladbach","-","-"]
[null,127,"Dortmund","Bremen","-","-"]
[null,128,"Leipzig","Mainz","-","-"]
[null,129,"Köln","Freiburg","-","-"]
[null,130,"Mönchengladbach","Schalke","-","-"]
[null,131,"Frankfurt","Bayern","-","-"]
[null,132,"Augsburg","Hertha","-","-"]
[null,133,"Hamburg","Wolfsburg","-","-"]
[null,134,"Hannover","Hoffenheim","-","-"]
[null,135,"Stuttgart","Leverkusen","-","-"]
[null,136,"Bayern","Köln","-","-"]
[null,137,"Hoffenheim","Stuttgart","-","-"]
[null,138,"Hertha","Hannover","-","-"]
[null,139,"Freiburg","Mönchengladbach","-","-"]
[null,140,"Schalke","Augsburg","-","-"]
[null,141,"Leverkusen","Bremen","-","-"]
[null,142,"Hamburg","Frankfurt","-","-"]
[null,143,"Mainz","Dortmund","-","-"]
[null,144,"Wolfsburg","Leipzig","-","-"]
[null,145,"Dortmund","Hoffenheim","-","-"]
[null,146,"Leipzig","Hertha","-","-"]
[null,147,"Köln","Wolfsburg","-","-"]
[null,148,"Bremen","Mainz","-","-"]
[null,149,"Mönchengladbach","Hamburg","-","-"]
[null,150,"Frankfurt","Schalke","-","-"]
[null,151,"Augsburg","Freiburg","-","-"]
[null,152,"Hannover","Leverkusen","-","-"]
[null,153,"Stuttgart","Bayern","-","-"]
[null,154,"Leverkusen","Bayern","-","-"]
[null,155,"Bremen","Hoffenheim","-","-"]
[null,156,"Stuttgart","Hertha","-","-"]
[null,157,"Augsburg","Hamburg","-","-"]
[null,158,"Hannover","Mainz","-","-"]
[null,159,"Dortmund","Wolfsburg","-","-"]
[null,160,"Leipzig","Schalke","-","-"]
[null,161,"Frankfurt","Freiburg","-","-"]
[null,162,"Köln","Mönchengladbach","-","-"]
[null,163,"Hamburg","Köln","-","-"]
[null,164,"Bayern","Bremen","-","-"]
[null,165,"Wolfsburg","Frankfurt","-","-"]
[null,166,"Hoffenheim","Leverkusen","-","-"]
[null,167,"Mönchengladbach","Augsburg","-","-"]
[null,168,"Mainz","Stuttgart","-","-"]
[null,169,"Hertha","Dortmund","-","-"]
[null,170,"Freiburg","Leipzig","-","-"]
[null,171,"Schalke","Hannover","-","-"]
[null,172,"Leipzig","Hamburg","-","-"]
[null,173,"Dortmund","Freiburg","-","-"]
[null,174,"Frankfurt","Mönchengladbach","-","-"]
[null,175,"Köln","Augsburg","-","-"]
[null,176,"Leverkusen","Mainz","-","-"]
[null,177,"Hannover","Wolfsburg","-","-"]
[null,178,"Bayern","Hoffenheim","-","-"]
[null,179,"Bremen","Hertha","-","-"]
[null,180,"Stuttgart","Schalke","-","-"]
[null,181,"Hamburg","Hannover","-","-"]
[null,182,"Mainz","Bayern","-","-"]
[null,183,"Schalke","Bremen","-","-"]
[null,184,"Augsburg","Frankfurt","-","-"]
[null,185,"Wolfsburg","Stuttgart","-","-"]
[null,186,"Mönchengladbach","Leipzig","-","-"]
[null,187,"Hertha","Hoffenheim","-","-"]
[null,188,"Freiburg","Leverkusen","-","-"]
[null,189,"Köln","Dortmund","-","-"]
[null,190,"Stuttgart","Mönchengladbach","-","-"]
[null,191,"Bayern","Schalke","-","-"]
[null,192,"Leipzig","Augsburg","-","-"]
[null,193,"Bremen","Wolfsburg","-","-"]
[null,194,"Frankfurt","Köln","-","-"]
[null,195,"Leverkusen","Hertha","-","-"]
[null,196,"Hannover","Freiburg","-","-"]
[null,197,"Dortmund","Hamburg","-","-"]
[null,198,"Hoffenheim","Mainz","-","-"]
[null,199,"Wolfsburg","Bayern","-","-"]
[null,200,"Frankfurt","Leipzig","-","-"]
[null,201,"Schalke","Hoffenheim","-","-"]
[null,202,"Freiburg","Bremen","-","-"]
[null,203,"Hertha","Mainz","-","-"]
[null,204,"Augsburg","Stuttgart","-","-"]
[null,205,"Mönchengladbach","Dortmund","-","-"]
[null,206,"Köln","Hannover","-","-"]
[null,207,"Hamburg","Leverkusen","-","-"]
[null,208,"Leipzig","Köln","-","-"]
[null,209,"Bayern","Hertha","-","-"]
[null,210,"Hoffenheim","Freiburg","-","-"]
[null,211,"Hannover","Mönchengladbach","-","-"]
[null,212,"Leverkusen","Schalke","-","-"]
[null,213,"Stuttgart","Frankfurt","-","-"]
[null,214,"Dortmund","Augsburg","-","-"]
[null,215,"Bremen","Hamburg","-","-"]
[null,216,"Mainz","Wolfsburg","-","-"]
[null,217,"Freiburg","Bayern","-","-"]
[null,218,"Leipzig","Dortmund","-","-"]
[null,219,"Augsburg","Hoffenheim","-","-"]
[null,220,"Schalke","Hertha","-","-"]
[null,221,"Mönchengladbach","Bremen","-","-"]
[null,222,"Wolfsburg","Leverkusen","-","-"]
[null,223,"Hamburg","Mainz","-","-"]
[null,224,"Frankfurt","Hannover","-","-"]
[null,225,"Köln","Stuttgart","-","-"]
[null,226,"Stuttgart","Leipzig","-","-"]
[null,227,"Bremen","Köln","-","-"]
[null,228,"Hertha","Freiburg","-","-"]
[null,229,"Leverkusen","Mönchengladbach","-","-"]
[null,230,"Mainz","Schalke","-","-"]
[null,231,"Dortmund","Frankfurt","-","-"]
[null,232,"Hannover","Augsburg","-","-"]
[null,233,"Bayern","Hamburg","-","-"]
[null,234,"Hoffenheim","Wolfsburg","-","-"]
[null,235,"Leipzig","Bayern","-","-"]
[null,236,"Mönchengladbach","Hoffenheim","-","-"]
[null,237,"Hamburg","Hertha","-","-"]
[null,238,"Augsburg","Bremen","-","-"]
[null,239,"Wolfsburg","Schalke","-","-"]
[null,240,"Köln","Leverkusen","-","-"]
[null,241,"Frankfurt","Mainz","-","-"]
[null,242,"Dortmund","Hannover","-","-"]
[null,243,"Freiburg","Stuttgart","-","-"]
[null,244,"Bayern","Dortmund","-","-"]
[null,245,"Hannover","Leipzig","-","-"]
[null,246,"Hoffenheim","Köln","-","-"]
[null,247,"Schalke","Freiburg","-","-"]
[null,248,"Mainz","Mönchengladbach","-","-"]
[null,249,"Bremen","Frankfurt","-","-"]
[null,250,"Leverkusen","Augsburg","-","-"]
[null,251,"Stuttgart","Hamburg","-","-"]
[null,252,"Hertha","Wolfsburg","-","-"]
[null,253,"Augsburg","Bayern","-","-"]
[null,254,"Frankfurt","Hoffenheim","-","-"]
[null,255,"Mönchengladbach","Hertha","-","-"]
[null,256,"Hannover","Bremen","-","-"]
[null,257,"Hamburg","Schalke","-","-"]
[null,258,"Leipzig","Leverkusen","-","-"]
[null,259,"Köln","Mainz","-","-"]
[null,260,"Freiburg","Wolfsburg","-","-"]
[null,261,"Dortmund","Stuttgart","-","-"]
[null,262,"Schalke","Dortmund","-","-"]
[null,263,"Bremen","Leipzig","-","-"]
[null,264,"Hertha","Köln","-","-"]
[null,265,"Mainz","Freiburg","-","-"]
[null,266,"Bayern","Mönchengladbach","-","-"]
[null,267,"Leverkusen","Frankfurt","-","-"]
[null,268,"Wolfsburg","Augsburg","-","-"]
[null,269,"Hoffenheim","Hamburg","-","-"]
[null,270,"Stuttgart","Hannover","-","-"]
[null,271,"Hannover","Bayern","-","-"]
[null,272,"Leipzig","Hoffenheim","-","-"]
[null,273,"Frankfurt","Hertha","-","-"]
[null,274,"Hamburg","Freiburg","-","-"]
[null,275,"Stuttgart","Bremen","-","-"]
[null,276,"Köln","Schalke","-","-"]
[null,277,"Dortmund","Leverkusen","-","-"]
[null,278,"Augsburg","Mainz","-","-"]
[null,279,"Mönchengladbach","Wolfsburg","-","-"]
[null,280,"Bremen","Dortmund","-","-"]
[null,281,"Mainz","Leipzig","-","-"]
[null,282,"Freiburg","Köln","-","-"]
[null,283,"Schalke","Mönchengladbach","-","-"]
[null,284,"Bayern","Frankfurt","-","-"]
[null,285,"Hertha","Augsburg","-","-"]
[null,286,"Wolfsburg","Hamburg","-","-"]
[null,287,"Hoffenheim","Hannover","-","-"]
[null,288,"Leverkusen","Stuttgart","-","-"]
[null,289,"Köln","Bayern","-","-"]
[null,290,"Stuttgart","Hoffenheim","-","-"]
[null,291,"Hannover","Hertha","-","-"]
[null,292,"Mönchengladbach","Freiburg","-","-"]
[null,293,"Augsburg","Schalke","-","-"]
[null,294,"Bremen","Leverkusen","-","-"]
[null,295,"Frankfurt","Hamburg","-","-"]
[null,296,"Dortmund","Mainz","-","-"]
[null,297,"Leipzig","Wolfsburg","-","-"]
[null,298,"Hoffenheim","Dortmund","-","-"]
[null,299,"Hertha","Leipzig","-","-"]
[null,300,"Wolfsburg","Köln","-","-"]
[null,301,"Mainz","Bremen","-","-"]
[null,302,"Hamburg","Mönchengladbach","-","-"]
[null,303,"Schalke","Frankfurt","-","-"]
[null,304,"Freiburg","Augsburg","-","-"]
[null,305,"Leverkusen","Hannover","-","-"]
[null,306,"Bayern","Stuttgart","-","-"]
[null,307,null,null,"-","-"]
[null,308,null,null,"-","-"]
[null,309,null,null,"-","-"]
[null,310,null,null,"-","-"]
[null,311,null,null,"-","-"]
[null,312,null,null,"-","-"]
[null,313,null,null,"-","-"]
[null,314,null,null,"-","-"]
[null,315,null,null,"-","-"]
[null,316,null,null,"-","-"]
[null,317,null,null,"-","-"]
[null,318,null,null,"-","-"]
[null,319,null,null,"-","-"]
[null,320,null,null,"-","-"]
[null,321,null,null,"-","-"]
[null,322,null,null,"-","-"]
[null,323,null,null,"-","-"]
[null,324,null,null,"-","-"]
[null,325,null,null,"-","-"]
[null,326,null,null,"-","-"]
[null,327,null,null,"-","-"]
[null,328,null,null,"-","-"]
[null,329,null,null,"-","-"]
[null,330,null,null,"-","-"]
[null,331,null,null,"-","-"]
[null,332,null,null,"-","-"]
[null,333,null,null,"-","-"]
[null,334,null,null,"-","-"]
[null,335,null,null,"-","-"]
[null,336,null,null,"-","-"]
[null,337,null,null,"-","-"]
[null,338,null,null,"-","-"]
[null,339,null,null,"-","-"]
[null,340,null,null,"-","-"]
[null,341,null,null,"-","-"]
[null,342,null,null,"-","-"]
[null,343,null,null,"-","-"]
[null,344,null,null,"-","-"]
[null,345,null,null,"-","-"]
[null,346,null,null,"-","-"]
[null,347,null,null,"-","-"]
[null,348,null,null,"-","-"]
[null,349,null,null,"-","-"]
[null,350,null,null,"-","-"]
[null,351,null,null,"-","-"]
[null,352,null,null,"-","-"]
[null,353,null,null,"-","-"]
[null,354,null,null,"-","-"]
[null,355,null,null,"-","-"]
[null,356,null,null,"-","-"]
[null,357,null,null,"-","-"]
[null,358,null,null,"-","-"]
[null,359,null,null,"-","-"]
[null,360,null,null,"-","-"]
[null,361,null,null,"-","-"]
[null,362,null,null,"-","-"]
[null,363,null,null,"-","-"]
[null,364,null,null,"-","-"]
[null,365,null,null,"-","-"]
[null,366,null,null,"-","-"]
[null,367,null,null,"-","-"]
[null,368,null,null,"-","-"]
[null,369,null,null,"-","-"]
[null,370,null,null,"-","-"]
[null,371,null,null,"-","-"]
[null,372,null,null,"-","-"]
[null,373,null,null,"-","-"]
[null,374,null,null,"-","-"]
[null,375,null,null,"-","-"]
[null,376,null,null,"-","-"]
[null,377,null,null,"-","-"]
[null,378,null,null,"-","-"]
[null,379,null,null,"-","-"]
[null,380,null,null,"-","-"]
[null,381,null,null,"-","-"]
[null,382,null,null,"-","-"]
[null,383,null,null,"-","-"]
[null,384,null,null,"-","-"]
[null,385,null,null,"-","-"]
[null,386,null,null,"-","-"]
[null,387,null,null,"-","-"]
[null,388,null,null,"-","-"]
[null,389,null,null,"-","-"]
[null,390,null,null,"-","-"]
[null,391,null,null,"-","-"]
[null,392,null,null,"-","-"]
[null,393,null,null,"-","-"]
[null,394,null,null,"-","-"]
[null,395,null,null,"-","-"]
[null,396,null,null,"-","-"]
[null,397,null,null,"-","-"]
[null,398,null,null,"-","-"]
[null,399,null,null,"-","-"]
[null,400,null,null,"-","-"]
[null,401,null,null,"-","-"]
[null,402,null,null,"-","-"]
[null,403,null,null,"-","-"]
[null,404,null,null,"-","-"]
[null,405,null,null,"-","-"]
[null,406,null,null,"-","-"]
[null,407,null,null,"-","-"]
[null,408,null,null,"-","-"]
[null,409,null,null,"-","-"]
[null,410,null,null,"-","-"]
[null,411,null,null,"-","-"]
[null,412,null,null,"-","-"]
[null,413,null,null,"-","-"]
[null,414,null,null,"-","-"]
[null,415,null,null,"-","-"]
[null,416,null,null,"-","-"]
[null,417,null,null,"-","-"]
[null,418,null,null,"-","-"]
[null,419,null,null,"-","-"]
[null,420,null,null,"-","-"]
[null,421,null,null,"-","-"]
[null,422,null,null,"-","-"]
[null,423,null,null,"-","-"]
[null,424,null,null,"-","-"]
[null,425,null,null,"-","-"]
[null,426,null,null,"-","-"]
[null,427,null,null,"-","-"]
[null,428,null,null,"-","-"]
[null,429,null,null,"-","-"]
[null,430,null,null,"-","-"]
[null,431,null,null,"-","-"]
[null,432,null,null,"-","-"]
[null,433,null,null,"-","-"]
[null,434,null,null,"-","-"]
[null,435,null,null,"-","-"]
[null,436,null,null,"-","-"]
[null,437,null,null,"-","-"]
[null,438,null,null,"-","-"]
[null,439,null,null,"-","-"]
[null,440,null,null,"-","-"]
[null,441,null,null,"-","-"]
[null,442,null,null,"-","-"]
[null,443,null,null,"-","-"]
[null,444,null,null,"-","-"]
[null,445,null,null,"-","-"]
[null,446,null,null,"-","-"]
[null,447,null,null,"-","-"]
[null,448,null,null,"-","-"]
[null,449,null,null,"-","-"]
[null,450,null,null,"-","-"]
[null,451,null,null,"-","-"]
[null,452,null,null,"-","-"]
[null,453,null,null,"-","-"]
[null,454,null,null,"-","-"]
[null,455,null,null,"-","-"]
[null,456,null,null,"-","-"]
[null,457,null,null,"-","-"]
[null,458,null,null,"-","-"]
[null,459,null,null,"-","-"]
[null,460,null,null,"-","-"]
[null,461,null,null,"-","-"]
[null,462,null,null,"-","-"]
[null,463,null,null,"-","-"]
[null,464,null,null,"-","-"]
[null,465,null,null,"-","-"]
[null,466,null,null,"-","-"]
[null,467,null,null,"-","-"]
[null,468,null,null,"-","-"]
[null,469,null,null,"-","-"]
[null,470,null,null,"-","-"]
[null,471,null,null,"-","-"]
[null,472,null,null,"-","-"]
[null,473,null,null,"-","-"]
[null,474,null,null,"-","-"]
[null,475,null,null,"-","-"]
[null,476,null,null,"-","-"]
[null,477,null,null,"-","-"]
[null,478,null,null,"-","-"]
[null,479,null,null,"-","-"]
[null,480,null,null,"-","-"]
[null,481,null,null,"-","-"]
[null,482,null,null,"-","-"]
[null,483,null,null,"-","-"]
[null,484,null,null,"-","-"]
[null,485,null,null,"-","-"]
[null,486,null,null,"-","-"]
[null,487,null,null,"-","-"]
[null,488,null,null,"-","-"]
[null,489,null,null,"-","-"]
[null,490,null,null,"-","-"]
[null,491,null,null,"-","-"]
[null,492,null,null,"-","-"]
[null,493,null,null,"-","-"]
[null,494,null,null,"-","-"]
[null,495,null,null,"-","-"]
[null,496,null,null,"-","-"]
[null,497,null,null,"-","-"]
[null,498,null,null,"-","-"]
[null,499,null,null,"-","-"]
[null,500,null,null,"-","-"]
[null,501,null,null,"-","-"]
[null,502,null,null,"-","-"]
[null,503,null,null,"-","-"]
[null,504,null,null,"-","-"]
[null,505,null,null,"-","-"]
[null,506,null,null,"-","-"]
[null,507,null,null,"-","-"]
[null,508,null,null,"-","-"]
[null,509,null,null,"-","-"]
[null,510,null,null,"-","-"]
[null,511,null,null,"-","-"]
[null,512,null,null,"-","-"]
[null,513,null,null,"-","-"]
[null,514,null,null,"-","-"]
[null,515,null,null,"-","-"]
[null,516,null,null,"-","-"]
[null,517,null,null,"-","-"]
[null,518,null,null,"-","-"]
[null,519,null,null,"-","-"]
[null,520,null,null,"-","-"]
[null,521,null,null,"-","-"]
[null,522,null,null,"-","-"]
[null,523,null,null,"-","-"]
[null,524,null,null,"-","-"]
[null,525,null,null,"-","-"]
[null,526,null,null,"-","-"]
[null,527,null,null,"-","-"]
[null,528,null,null,"-","-"]
[null,529,null,null,"-","-"]
[null,530,null,null,"-","-"]
[null,531,null,null,"-","-"]
[null,532,null,null,"-","-"]
[null,533,null,null,"-","-"]
[null,534,null,null,"-","-"]
[null,535,null,null,"-","-"]
[null,536,null,null,"-","-"]
[null,537,null,null,"-","-"]
[null,538,null,null,"-","-"]
[null,539,null,null,"-","-"]
[null,540,null,null,"-","-"]
[null,541,null,null,"-","-"]
[null,542,null,null,"-","-"]
[null,543,null,null,"-","-"]
[null,544,null,null,"-","-"]
[null,545,null,null,"-","-"]
[null,546,null,null,"-","-"]
[null,547,null,null,"-","-"]
[null,548,null,null,"-","-"]
[null,549,null,null,"-","-"]
[null,550,null,null,"-","-"]
[null,551,null,null,"-","-"]
[null,552,null,null,"-","-"]
[null,553,null,null,"-","-"]
[null,554,null,null,"-","-"]
[null,555,null,null,"-","-"]
[null,556,null,null,"-","-"]
[null,557,null,null,"-","-"]
[null,558,null,null,"-","-"]
[null,559,null,null,"-","-"]
[null,560,null,null,"-","-"]
[null,561,null,null,"-","-"]
[null,562,null,null,"-","-"]
[null,563,null,null,"-","-"]
[null,564,null,null,"-","-"]
[null,565,null,null,"-","-"]
[null,566,null,null,"-","-"]
[null,567,null,null,"-","-"]
[null,568,null,null,"-","-"]
[null,569,null,null,"-","-"]
[null,570,null,null,"-","-"]
[null,571,null,null,"-","-"]
[null,572,null,null,"-","-"]
[null,573,null,null,"-","-"]
[null,574,null,null,"-","-"]
[null,575,null,null,"-","-"]
[null,576,null,null,"-","-"]
[null,577,null,null,"-","-"]
[null,578,null,null,"-","-"]
[null,579,null,null,"-","-"]
[null,580,null,null,"-","-"]
[null,581,null,null,"-","-"]
[null,582,null,null,"-","-"]
[null,583,null,null,"-","-"]
[null,584,null,null,"-","-"]
[null,585,null,null,"-","-"]
[null,586,null,null,"-","-"]
[null,587,null,null,"-","-"]
[null,588,null,null,"-","-"]
[null,589,null,null,"-","-"]
[null,590,null,null,"-","-"]
[null,591,null,null,"-","-"]
[null,592,null,null,"-","-"]
[null,593,null,null,"-","-"]
[null,594,null,null,"-","-"]
[null,595,null,null,"-","-"]
[null,596,null,null,"-","-"]
[null,597,null,null,"-","-"]
[null,598,null,null,"-","-"]
[null,599,null,null,"-","-"]
[null,600,null,null,"-","-"]
[null,601,null,null,"-","-"]
[null,602,null,null,"-","-"]
[null,603,null,null,"-","-"]
[null,604,null,null,"-","-"]
[null,605,null,null,"-","-"]
[null,606,null,null,"-","-"]
[null,607,null,null,"-","-"]
[null,608,null,null,"-","-"]
[null,609,null,null,"-","-"]
[null,610,null,null,"-","-"]
[null,611,null,null,"-","-"]
[null,612,null,null,"-","-"]
[null,613,null,null,"-","-"]
[null,614,null,null,"-","-"]
[null,615,null,null,"-","-"]
[null,616,null,null,"-","-"]
[null,617,null,null,"-","-"]
[null,618,null,null,"-","-"]
[null,619,null,null,"-","-"]
[null,620,null,null,"-","-"]
[null,621,null,null,"-","-"]
[null,622,null,null,"-","-"]
[null,623,null,null,"-","-"]
[null,624,null,null,"-","-"]
[null,625,null,null,"-","-"]
[null,626,null,null,"-","-"]
[null,627,null,null,"-","-"]
[null,628,null,null,"-","-"]
[null,629,null,null,"-","-"]
[null,630,null,null,"-","-"]
[null,631,null,null,"-","-"]
[null,632,null,null,"-","-"]
[null,633,null,null,"-","-"]
[null,634,null,null,"-","-"]
[null,635,null,null,"-","-"]
[null,636,null,null,"-","-"]
[null,637,null,null,"-","-"]
[null,638,null,null,"-","-"]
[null,639,null,null,"-","-"]
[null,640,null,null,"-","-"]
[null,641,null,null,"-","-"]
[null,642,null,null,"-","-"]
[null,643,null,null,"-","-"]
[null,644,null,null,"-","-"]
[null,645,null,null,"-","-"]
[null,646,null,null,"-","-"]
[null,647,null,null,"-","-"]
[null,648,null,null,"-","-"]
[null,649,null,null,"-","-"]
[null,650,null,null,"-","-"]
[null,651,null,null,"-","-"]
[null,652,null,null,"-","-"]
[null,653,null,null,"-","-"]
[null,654,null,null,"-","-"]
[null,655,null,null,"-","-"]
[null,656,null,null,"-","-"]
[null,657,null,null,"-","-"]
[null,658,null,null,"-","-"]
[null,659,null,null,"-","-"]
[null,660,null,null,"-","-"]
[null,661,null,null,"-","-"]
[null,662,null,null,"-","-"]
[null,663,null,null,"-","-"]
[null,664,null,null,"-","-"]
[null,665,null,null,"-","-"]
[null,666,null,null,"-","-"]
[null,667,null,null,"-","-"]
[null,668,null,null,"-","-"]
[null,669,null,null,"-","-"]
[null,670,null,null,"-","-"]
[null,671,null,null,"-","-"]
[null,672,null,null,"-","-"]
[null,673,null,null,"-","-"]
[null,674,null,null,"-","-"]
[null,675,null,null,"-","-"]
[null,676,null,null,"-","-"]
[null,677,null,null,"-","-"]
[null,678,null,null,"-","-"]
[null,679,null,null,"-","-"]
[null,680,null,null,"-","-"]
[null,681,null,null,"-","-"]
[null,682,null,null,"-","-"]
[null,683,null,null,"-","-"]
[null,684,null,null,"-","-"]
[null,685,null,null,"-","-"]
[null,686,null,null,"-","-"]
[null,687,null,null,"-","-"]
[null,688,null,null,"-","-"]
[null,689,null,null,"-","-"]
[null,690,null,null,"-","-"]
[null,691,null,null,"-","-"]
[null,692,null,null,"-","-"]
[null,693,null,null,"-","-"]
[null,694,null,null,"-","-"]
[null,695,null,null,"-","-"]
[null,696,null,null,"-","-"]
[null,697,null,null,"-","-"]
[null,698,null,null,"-","-"]
[null,699,null,null,"-","-"]
[null,700,null,null,"-","-"]
[null,701,null,null,"-","-"]
[null,702,null,null,"-","-"]
[null,703,null,null,"-","-"]
[null,704,null,null,"-","-"]
[null,705,null,null,"-","-"]
[null,706,null,null,"-","-"]
[null,707,null,null,"-","-"]
[null,708,null,null,"-","-"]
[null,709,null,null,"-","-"]
[null,710,null,null,"-","-"]
[null,711,null,null,"-","-"]
[null,712,null,null,"-","-"]
[null,713,null,null,"-","-"]
[null,714,null,null,"-","-"]
[null,715,null,null,"-","-"]
[null,716,null,null,"-","-"]
[null,717,null,null,"-","-"]
[null,718,null,null,"-","-"]
[null,719,null,null,"-","-"]
[null,720,null,null,"-","-"]
[null,721,null,null,"-","-"]
[null,722,null,null,"-","-"]
[null,723,null,null,"-","-"]
[null,724,null,null,"-","-"]
[null,725,null,null,"-","-"]
[null,726,null,null,"-","-"]
[null,727,null,null,"-","-"]
[null,728,null,null,"-","-"]
[null,729,null,null,"-","-"]
[null,730,null,null,"-","-"]
[null,731,null,null,"-","-"]
[null,732,null,null,"-","-"]
[null,733,null,null,"-","-"]
[null,734,null,null,"-","-"]
[null,735,null,null,"-","-"]
[null,736,null,null,"-","-"]
[null,737,null,null,"-","-"]
[null,738,null,null,"-","-"]
[null,739,null,null,"-","-"]
[null,740,null,null,"-","-"]
[null,741,null,null,"-","-"]
[null,742,null,null,"-","-"]
[null,743,null,null,"-","-"]
[null,744,null,null,"-","-"]
[null,745,null,null,"-","-"]
[null,746,null,null,"-","-"]
[null,747,null,null,"-","-"]
[null,748,null,null,"-","-"]
[null,749,null,null,"-","-"]
[null,750,null,null,"-","-"]
[null,751,null,null,"-","-"]
[null,752,null,null,"-","-"]
[null,753,null,null,"-","-"]
[null,754,null,null,"-","-"]
[null,755,null,null,"-","-"]
[null,756,null,null,"-","-"]
[null,757,null,null,"-","-"]
[null,758,null,null,"-","-"]
[null,759,null,null,"-","-"]
[null,760,null,null,"-","-"]
[null,761,null,null,"-","-"]
[null,762,null,null,"-","-"]
[null,763,null,null,"-","-"]
[null,764,null,null,"-","-"]
[null,765,null,null,"-","-"]
[null,766,null,null,"-","-"]
[null,767,null,null,"-","-"]
[null,768,null,null,"-","-"]
[null,769,null,null,"-","-"]
[null,770,null,null,"-","-"]
[null,771,null,null,"-","-"]
[null,772,null,null,"-","-"]
[null,773,null,null,"-","-"]
[null,774,null,null,"-","-"]
[null,775,null,null,"-","-"]
[null,776,null,null,"-","-"]
[null,777,null,null,"-","-"]
[null,778,null,null,"-","-"]
[null,779,null,null,"-","-"]
[null,780,null,null,"-","-"]
[null,781,null,null,"-","-"]
[null,782,null,null,"-","-"]
[null,783,null,null,"-","-"]
[null,784,null,null,"-","-"]
[null,785,null,null,"-","-"]
[null,786,null,null,"-","-"]
[null,787,null,null,"-","-"]
[null,788,null,null,"-","-"]
[null,789,null,null,"-","-"]
[null,790,null,null,"-","-"]
[null,791,null,null,"-","-"]
[null,792,null,null,"-","-"]
[null,793,null,null,"-","-"]
[null,794,null,null,"-","-"]
[null,795,null,null,"-","-"]
[null,796,null,null,"-","-"]
[null,797,null,null,"-","-"]
[null,798,null,null,"-","-"]
[null,799,null,null,"-","-"]
[null,800,null,null,"-","-"]
[null,801,null,null,"-","-"]
[null,802,null,null,"-","-"]
[null,803,null,null,"-","-"]
[null,804,null,null,"-","-"]
[null,805,null,null,"-","-"]
[null,806,null,null,"-","-"]
[null,807,null,null,"-","-"]
[null,808,null,null,"-","-"]
[null,809,null,null,"-","-"]
[null,810,null,null,"-","-"]
[null,811,null,null,"-","-"]
[null,812,null,null,"-","-"]
[null,813,null,null,"-","-"]
[null,814,null,null,"-","-"]
[null,815,null,null,"-","-"]
[null,816,null,null,"-","-"]
[null,817,null,null,"-","-"]
[null,818,null,null,"-","-"]
[null,819,null,null,"-","-"]
[null,820,null,null,"-","-"]
[null,821,null,null,"-","-"]
[null,822,null,null,"-","-"]
[null,823,null,null,"-","-"]
[null,824,null,null,"-","-"]
[null,825,null,null,"-","-"]
[null,826,null,null,"-","-"]
[null,827,null,null,"-","-"]
[null,828,null,null,"-","-"]
[null,829,null,null,"-","-"]
[null,830,null,null,"-","-"]
[null,831,null,null,"-","-"]
[null,832,null,null,"-","-"]
[null,833,null,null,"-","-"]
[null,834,null,null,"-","-"]
[null,835,null,null,"-","-"]
[null,836,null,null,"-","-"]
[null,837,null,null,"-","-"]
[null,838,null,null,"-","-"]
[null,839,null,null,"-","-"]
[null,840,null,null,"-","-"]
[null,841,null,null,"-","-"]
[null,842,null,null,"-","-"]
[null,843,null,null,"-","-"]
[null,844,null,null,"-","-"]
[null,845,null,null,"-","-"]
[null,846,null,null,"-","-"]
[null,847,null,null,"-","-"]
[null,848,null,null,"-","-"]
[null,849,null,null,"-","-"]
[null,850,null,null,"-","-"]
[null,851,null,null,"-","-"]
[null,852,null,null,"-","-"]
[null,853,null,null,"-","-"]
[null,854,null,null,"-","-"]
[null,855,null,null,"-","-"]
[null,856,null,null,"-","-"]
[null,857,null,null,"-","-"]
[null,858,null,null,"-","-"]
[null,859,null,null,"-","-"]
[null,860,null,null,"-","-"]
[null,861,null,null,"-","-"]
[null,862,null,null,"-","-"]
[null,863,null,null,"-","-"]
[null,864,null,null,"-","-"]
[null,865,null,null,"-","-"]
[null,866,null,null,"-","-"]
[null,867,null,null,"-","-"]
[null,868,null,null,"-","-"]
[null,869,null,null,"-","-"]
[null,870,null,null,"-","-"]
[null,871,null,null,"-","-"]
[null,872,null,null,"-","-"]
[null,873,null,null,"-","-"]
[null,874,null,null,"-","-"]
[null,875,null,null,"-","-"]
[null,876,null,null,"-","-"]
[null,877,null,null,"-","-"]
[null,878,null,null,"-","-"]
[null,879,null,null,"-","-"]
[null,880,null,null,"-","-"]
[null,881,null,null,"-","-"]
[null,882,null,null,"-","-"]
[null,883,null,null,"-","-"]
[null,884,null,null,"-","-"]
[null,885,null,null,"-","-"]
[null,886,null,null,"-","-"]
[null,887,null,null,"-","-"]
[null,888,null,null,"-","-"]
[null,889,null,null,"-","-"]
[null,890,null,null,"-","-"]
[null,891,null,null,"-","-"]
[null,892,null,null,"-","-"]
[null,893,null,null,"-","-"]
[null,894,null,null,"-","-"]
[null,895,null,null,"-","-"]
[null,896,null,null,"-","-"]
[null,897,null,null,"-","-"]
[null,898,null,null,"-","-"]
[null,899,null,null,"-","-"]
[null,900,null,null,"-","-"]
[null,901,null,null,"-","-"]
[null,902,null,null,"-","-"]
[null,903,null,null,"-","-"]
[null,904,null,null,"-","-"]
[null,905,null,null,"-","-"]
[null,906,null,null,"-","-"]
[null,907,null,null,"-","-"]
[null,908,null,null,"-","-"]
[null,909,null,null,"-","-"]
[null,910,null,null,"-","-"]
[null,911,null,null,"-","-"]
[null,912,null,null,"-","-"]
[null,913,null,null,"-","-"]
[null,914,null,null,"-","-"]
[null,915,null,null,"-","-"]
[null,916,null,null,"-","-"]
[null,917,null,null,"-","-"]
[null,918,null,null,"-","-"]
[null,919,null,null,"-","-"]
[null,920,null,null,"-","-"]
[null,921,null,null,"-","-"]
[null,922,null,null,"-","-"]
[null,923,null,null,"-","-"]
[null,924,null,null,"-","-"]
[null,925,null,null,"-","-"]
[null,926,null,null,"-","-"]
[null,927,null,null,"-","-"]
[null,928,null,null,"-","-"]
[null,929,null,null,"-","-"]
[null,930,null,null,"-","-"]
[null,931,null,null,"-","-"]
[null,932,null,null,"-","-"]
[null,933,null,null,"-","-"]
[null,934,null,null,"-","-"]
[null,935,null,null,"-","-"]
[null,936,null,null,"-","-"]
[null,937,null,null,"-","-"]
[null,938,null,null,"-","-"]
[null,939,null,null,"-","-"]
[null,940,null,null,"-","-"]
[null,941,null,null,"-","-"]
[null,942,null,null,"-","-"]
[null,943,null,null,"-","-"]
[null,944,null,null,"-","-"]
[null,945,null,null,"-","-"]
[null,946,null,null,"-","-"]
[null,947,null,null,"-","-"]
[null,948,null,null,"-","-"]
[null,949,null,null,"-","-"]
[null,950,null,null,"-","-"]
[null,951,null,null,"-","-"]
[null,952,null,null,"-","-"]
[null,953,null,null,"-","-"]
[null,954,null,null,"-","-"]
[null,955,null,null,"-","-"]
[null,956,null,null,"-","-"]
[null,957,null,null,"-","-"]
[null,958,null,null,"-","-"]
[null,959,null,null,"-","-"]
[null,960,null,null,"-","-"]
[null,961,null,null,"-","-"]
[null,962,null,null,"-","-"]
[null,963,null,null,"-","-"]
[null,964,null,null,"-","-"]
[null,965,null,null,"-","-"]
[null,966,null,null,"-","-"]
[null,967,null,null,"-","-"]
[null,968,null,null,"-","-"]
[null,969,null,null,"-","-"]
[null,970,null,null,"-","-"]
[null,971,null,null,"-","-"]
[null,972,null,null,"-","-"]
[null,973,null,null,"-","-"]
[null,974,null,null,"-","-"]
[null,975,null,null,"-","-"]
[null,976,null,null,"-","-"]
[null,977,null,null,"-","-"]
[null,978,null,null,"-","-"]
[null,979,null,null,"-","-"]
[null,980,null,null,"-","-"]
[null,981,null,null,"-","-"]
[null,982,null,null,"-","-"]
[null,983,null,null,"-","-"]
[null,984,null,null,"-","-"]
[null,985,null,null,"-","-"]
[null,986,null,null,"-","-"]
[null,987,null,null,"-","-"]
[null,988,null,null,"-","-"]
[null,989,null,null,"-","-"]
[null,990,null,null,"-","-"]
[null,991,null,null,"-","-"]
[null,992,null,null,"-","-"]
[null,993,null,null,"-","-"]
[null,994,null,null,"-","-"]
[null,995,null,null,"-","-"]
[null,996,null,null,"-","-"]
[null,997,null,null,"-","-"]
[null,998,null,null,"-","-"]
[null,999,null,null,"-","-"]
[null,1000,null,null,"-","-"]

{"sheet":"Wetten","index":2,"n_rows":10002,"n_cols":16,"rows_kept":4500,"cut":true,"hidden":false,"merged":[[1,4,1,5],[1,9,1,10]],"bounds":{"rows_first":2000,"rows_last":500,"rows_between":2000,"halvings":0}}
[]
[null,"Spiel-Nr.","Heim","Gast","Ergebnis",null,"H","G","U","Tipp",null,"H","G","U","Pkte.","Wett-Teilnehmer"]
[null,1,{"$f":"IF(B3=\"\",\"\",LOOKUP(B3,Spiele!B:B,Spiele!C:C))","v":"Bayern"},{"$f":"IF(B3=\"\",\"\",LOOKUP(B3,Spiele!B:B,Spiele!D:D))","v":"Leverkusen"},{"$f":"IF(B3=\"\",\"\",LOOKUP(B3,Spiele!B:B,Spiele!E:E))","v":"-"},{"$f":"IF(B3=\"\",\"\",LOOKUP(B3,Spiele!B:B,Spiele!F:F))","v":"-"},{"$f":"IF(E3=\"\",\"\",IF(E3>F3,1,0))","v":0},{"$f":"IF(F3=\"\",\"\",IF(E3<F3,1,0))","v":0},{"$f":"IF(E3=\"\",\"\",IF(E3=F3,1,0))","v":1},4,0,{"$f":"IF(E3=\"\",-1,IF(J3>K3,1,-1))","v":1},{"$f":"IF(F3=\"\",-1,IF(J3<K3,1,-1))","v":-1},{"$f":"IF(E3=\"-\",-1,IF(J3=K3,1,-1))","v":-1},{"$f":"IF(E3=\"\",0,IF(E3=J3,1,0)+IF(F3=K3,1,0)+IF(G3=L3,1,0)+IF(H3=M3,1,0)+IF(I3=N3,1,0))","v":0},"Blutgrätsche"]
[null,1,{"$f":"IF(B4=\"\",\"\",LOOKUP(B4,Spiele!B:B,Spiele!C:C))","v":"Bayern"},{"$f":"IF(B4=\"\",\"\",LOOKUP(B4,Spiele!B:B,Spiele!D:D))","v":"Leverkusen"},{"$f":"IF(B4=\"\",\"\",LOOKUP(B4,Spiele!B:B,Spiele!E:E))","v":"-"},{"$f":"IF(B4=\"\",\"\",LOOKUP(B4,Spiele!B:B,Spiele!F:F))","v":"-"},{"$f":"IF(E4=\"\",\"\",IF(E4>F4,1,0))","v":0},{"$f":"IF(F4=\"\",\"\",IF(E4<F4,1,0))","v":0},{"$f":"IF(E4=\"\",\"\",IF(E4=F4,1,0))","v":1},2,0,{"$f":"IF(E4=\"\",-1,IF(J4>K4,1,-1))","v":1},{"$f":"IF(F4=\"\",-1,IF(J4<K4,1,-1))","v":-1},-1,0,"Lattenkracher"]
[null,1,{"$f":"IF(B5=\"\",\"\",LOOKUP(B5,Spiele!B:B,Spiele!C:C))","v":"Bayern"},{"$f":"IF(B5=\"\",\"\",LOOKUP(B5,Spiele!B:B,Spiele!D:D))","v":"Leverkusen"},{"$f":"IF(B5=\"\",\"\",LOOKUP(B5,Spiele!B:B,Spiele!E:E))","v":"-"},{"$f":"IF(B5=\"\",\"\",LOOKUP(B5,Spiele!B:B,Spiele!F:F))","v":"-"},{"$f":"IF(E5=\"\",\"\",IF(E5>F5,1,0))","v":0},{"$f":"IF(F5=\"\",\"\",IF(E5<F5,1,0))","v":0},{"$f":"IF(E5=\"\",\"\",IF(E5=F5,1,0))","v":1},5,1,{"$f":"IF(E5=\"\",-1,IF(J5>K5,1,-1))","v":1},{"$f":"IF(F5=\"\",-1,IF(J5<K5,1,-1))","v":-1},-1,0,"Vollpfosten"]
[null,1,{"$f":"IF(B6=\"\",\"\",LOOKUP(B6,Spiele!B:B,Spiele!C:C))","v":"Bayern"},{"$f":"IF(B6=\"\",\"\",LOOKUP(B6,Spiele!B:B,Spiele!D:D))","v":"Leverkusen"},{"$f":"IF(B6=\"\",\"\",LOOKUP(B6,Spiele!B:B,Spiele!E:E))","v":"-"},{"$f":"IF(B6=\"\",\"\",LOOKUP(B6,Spiele!B:B,Spiele!F:F))","v":"-"},{"$f":"IF(E6=\"\",\"\",IF(E6>F6,1,0))","v":0},{"$f":"IF(F6=\"\",\"\",IF(E6<F6,1,0))","v":0},{"$f":"IF(E6=\"\",\"\",IF(E6=F6,1,0))","v":1},4,1,{"$f":"IF(E6=\"\",-1,IF(J6>K6,1,-1))","v":1},{"$f":"IF(F6=\"\",-1,IF(J6<K6,1,-1))","v":-1},-1,0,"Stürmer"]
[null,1,{"$f":"IF(B7=\"\",\"\",LOOKUP(B7,Spiele!B:B,Spiele!C:C))","v":"Bayern"},{"$f":"IF(B7=\"\",\"\",LOOKUP(B7,Spiele!B:B,Spiele!D:D))","v":"Leverkusen"},{"$f":"IF(B7=\"\",\"\",LOOKUP(B7,Spiele!B:B,Spiele!E:E))","v":"-"},{"$f":"IF(B7=\"\",\"\",LOOKUP(B7,Spiele!B:B,Spiele!F:F))","v":"-"},{"$f":"IF(E7=\"\",\"\",IF(E7>F7,1,0))","v":0},{"$f":"IF(F7=\"\",\"\",IF(E7<F7,1,0))","v":0},{"$f":"IF(E7=\"\",\"\",IF(E7=F7,1,0))","v":1},7,1,{"$f":"IF(E7=\"\",-1,IF(J7>K7,1,-1))","v":1},{"$f":"IF(F7=\"\",-1,IF(J7<K7,1,-1))","v":-1},-1,0,"Torwart"]
[null,null,{"$f":"IF(B8=\"\",\"\",LOOKUP(B8,Spiele!B:B,Spiele!C:C))","v":""},{"$f":"IF(B8=\"\",\"\",LOOKUP(B8,Spiele!B:B,Spiele!D:D))","v":""},{"$f":"IF(B8=\"\",\"\",LOOKUP(B8,Spiele!B:B,Spiele!E:E))","v":""},{"$f":"IF(B8=\"\",\"\",LOOKUP(B8,Spiele!B:B,Spiele!F:F))","v":""},{"$f":"IF(E8=\"\",\"\",IF(E8>F8,1,0))","v":""},{"$f":"IF(F8=\"\",\"\",IF(E8<F8,1,0))","v":""},{"$f":"IF(E8=\"\",\"\",IF(E8=F8,1,0))","v":""},null,null,{"$f":"IF(E8=\"\",-1,IF(J8>K8,1,-1))","v":-1},{"$f":"IF(F8=\"\",-1,IF(J8<K8,1,-1))","v":-1},1,0]
[null,null,{"$f":"IF(B9=\"\",\"\",LOOKUP(B9,Spiele!B:B,Spiele!C:C))","v":""},{"$f":"IF(B9=\"\",\"\",LOOKUP(B9,Spiele!B:B,Spiele!D:D))","v":""},{"$f":"IF(B9=\"\",\"\",LOOKUP(B9,Spiele!B:B,Spiele!E:E))","v":""},{"$f":"IF(B9=\"\",\"\",LOOKUP(B9,Spiele!B:B,Spiele!F:F))","v":""},"","","",null,null,-1,-1,1,0]
[null,null,{"$f":"IF(B10=\"\",\"\",LOOKUP(B10,Spiele!B:B,Spiele!C:C))","v":""},{"$f":"IF(B10=\"\",\"\",LOOKUP(B10,Spiele!B:B,Spiele!D:D))","v":""},{"$f":"IF(B10=\"\",\"\",LOOKUP(B10,Spiele!B:B,Spiele!E:E))","v":""},{"$f":"IF(B10=\"\",\"\",LOOKUP(B10,Spiele!B:B,Spiele!F:F))","v":""},"","","",null,null,-1,-1,1,0]
[null,null,{"$f":"IF(B11=\"\",\"\",LOOKUP(B11,Spiele!B:B,Spiele!C:C))","v":""},{"$f":"IF(B11=\"\",\"\",LOOKUP(B11,Spiele!B:B,Spiele!D:D))","v":""},{"$f":"IF(B11=\"\",\"\",LOOKUP(B11,Spiele!B:B,Spiele!E:E))","v":""},{"$f":"IF(B11=\"\",\"\",LOOKUP(B11,Spiele!B:B,Spiele!F:F))","v":""},"","","",null,null,-1,-1,1,0]
[null,null,{"$f":"IF(B12=\"\",\"\",LOOKUP(B12,Spiele!B:B,Spiele!C:C))","v":""},{"$f":"IF(B12=\"\",\"\",LOOKUP(B12,Spiele!B:B,Spiele!D:D))","v":""},{"$f":"IF(B12=\"\",\"\",LOOKUP(B12,Spiele!B:B,Spiele!E:E))","v":""},{"$f":"IF(B12=\"\",\"\",LOOKUP(B12,Spiele!B:B,Spiele!F:F))","v":""},"","","",null,null,-1,-1,1,0]
[null,null,{"$f":"IF(B13=\"\",\"\",LOOKUP(B13,Spiele!B:B,Spiele!C:C))","v":""},{"$f":"IF(B13=\"\",\"\",LOOKUP(B13,Spiele!B:B,Spiele!D:D))","v":""},{"$f":"IF(B13=\"\",\"\",LOOKUP(B13,Spiele!B:B,Spiele!E:E))","v":""},{"$f":"IF(B13=\"\",\"\",LOOKUP(B13,Spiele!B:B,Spiele!F:F))","v":""},"","","",null,null,-1,-1,1,0]
[null,null,{"$f":"IF(B14=\"\",\"\",LOOKUP(B14,Spiele!B:B,Spiele!C:C))","v":""},{"$f":"IF(B14=\"\",\"\",LOOKUP(B14,Spiele!B:B,Spiele!D:D))","v":""},{"$f":"IF(B14=\"\",\"\",LOOKUP(B14,Spiele!B:B,Spiele!E:E))","v":""},{"$f":"IF(B14=\"\",\"\",LOOKUP(B14,Spiele!B:B,Spiele!F:F))","v":""},"","","",null,null,-1,-1,1,0]
[null,null,{"$f":"IF(B15=\"\",\"\",LOOKUP(B15,Spiele!B:B,Spiele!C:C))","v":""},{"$f":"IF(B15=\"\",\"\",LOOKUP(B15,Spiele!B:B,Spiele!D:D))","v":""},{"$f":"IF(B15=\"\",\"\",LOOKUP(B15,Spiele!B:B,Spiele!E:E))","v":""},{"$f":"IF(B15=\"\",\"\",LOOKUP(B15,Spiele!B:B,Spiele!F:F))","v":""},"","","",null,null,-1,-1,{"$f":"IF(E15=\"-\",-1,IF(J15=K15,1,-1))","v":1},0]
[null,null,{"$f":"IF(B16=\"\",\"\",LOOKUP(B16,Spiele!B:B,Spiele!C:C))","v":""},{"$f":"IF(B16=\"\",\"\",LOOKUP(B16,Spiele!B:B,Spiele!D:D))","v":""},{"$f":"IF(B16=\"\",\"\",LOOKUP(B16,Spiele!B:B,Spiele!E:E))","v":""},{"$f":"IF(B16=\"\",\"\",LOOKUP(B16,Spiele!B:B,Spiele!F:F))","v":""},"","","",null,null,-1,-1,{"$f":"IF(E16=\"-\",-1,IF(J16=K16,1,-1))","v":1},0]
[null,null,{"$f":"IF(B17=\"\",\"\",LOOKUP(B17,Spiele!B:B,Spiele!C:C))","v":""},{"$f":"IF(B17=\"\",\"\",LOOKUP(B17,Spiele!B:B,Spiele!D:D))","v":""},{"$f":"IF(B17=\"\",\"\",LOOKUP(B17,Spiele!B:B,Spiele!E:E))","v":""},{"$f":"IF(B17=\"\",\"\",LOOKUP(B17,Spiele!B:B,Spiele!F:F))","v":""},"","","",null,null,-1,-1,1,0]
[null,null,{"$f":"IF(B18=\"\",\"\",LOOKUP(B18,Spiele!B:B,Spiele!C:C))","v":""},{"$f":"IF(B18=\"\",\"\",LOOKUP(B18,Spiele!B:B,Spiele!D:D))","v":""},{"$f":"IF(B18=\"\",\"\",LOOKUP(B18,Spiele!B:B,Spiele!E:E))","v":""},{"$f":"IF(B18=\"\",\"\",LOOKUP(B18,Spiele!B:B,Spiele!F:F))","v":""},"","","",null,null,-1,-1,1,0]
[null,null,{"$f":"IF(B19=\"\",\"\",LOOKUP(B19,Spiele!B:B,Spiele!C:C))","v":""},{"$f":"IF(B19=\"\",\"\",LOOKUP(B19,Spiele!B:B,Spiele!D:D))","v":""},{"$f":"IF(B19=\"\",\"\",LOOKUP(B19,Spiele!B:B,Spiele!E:E))","v":""},{"$f":"IF(B19=\"\",\"\",LOOKUP(B19,Spiele!B:B,Spiele!F:F))","v":""},"","","",null,null,-1,-1,1,0]
[null,null,{"$f":"IF(B20=\"\",\"\",LOOKUP(B20,Spiele!B:B,Spiele!C:C))","v":""},{"$f":"IF(B20=\"\",\"\",LOOKUP(B20,Spiele!B:B,Spiele!D:D))","v":""},{"$f":"IF(B20=\"\",\"\",LOOKUP(B20,Spiele!B:B,Spiele!E:E))","v":""},{"$f":"IF(B20=\"\",\"\",LOOKUP(B20,Spiele!B:B,Spiele!F:F))","v":""},"","","",null,null,-1,-1,1,0]
[null,null,{"$f":"IF(B21=\"\",\"\",LOOKUP(B21,Spiele!B:B,Spiele!C:C))","v":""},{"$f":"IF(B21=\"\",\"\",LOOKUP(B21,Spiele!B:B,Spiele!D:D))","v":""},{"$f":"IF(B21=\"\",\"\",LOOKUP(B21,Spiele!B:B,Spiele!E:E))","v":""},{"$f":"IF(B21=\"\",\"\",LOOKUP(B21,Spiele!B:B,Spiele!F:F))","v":""},"","","",null,null,-1,-1,1,0]
[null,null,{"$f":"IF(B22=\"\",\"\",LOOKUP(B22,Spiele!B:B,Spiele!C:C))","v":""},{"$f":"IF(B22=\"\",\"\",LOOKUP(B22,Spiele!B:B,Spiele!D:D))","v":""},{"$f":"IF(B22=\"\",\"\",LOOKUP(B22,Spiele!B:B,Spiele!E:E))","v":""},{"$f":"IF(B22=\"\",\"\",LOOKUP(B22,Spiele!B:B,Spiele!F:F))","v":""},"","","",null,null,-1,-1,1,0]
[null,null,{"$f":"IF(B23=\"\",\"\",LOOKUP(B23,Spiele!B:B,Spiele!C:C))","v":""},{"$f":"IF(B23=\"\",\"\",LOOKUP(B23,Spiele!B:B,Spiele!D:D))","v":""},{"$f":"IF(B23=\"\",\"\",LOOKUP(B23,Spiele!B:B,Spiele!E:E))","v":""},{"$f":"IF(B23=\"\",\"\",LOOKUP(B23,Spiele!B:B,Spiele!F:F))","v":""},"","","",null,null,-1,-1,1,0]
[null,null,{"$f":"IF(B24=\"\",\"\",LOOKUP(B24,Spiele!B:B,Spiele!C:C))","v":""},{"$f":"IF(B24=\"\",\"\",LOOKUP(B24,Spiele!B:B,Spiele!D:D))","v":""},{"$f":"IF(B24=\"\",\"\",LOOKUP(B24,Spiele!B:B,Spiele!E:E))","v":""},{"$f":"IF(B24=\"\",\"\",LOOKUP(B24,Spiele!B:B,Spiele!F:F))","v":""},"","","",null,null,-1,-1,1,0]
[null,null,{"$f":"IF(B25=\"\",\"\",LOOKUP(B25,Spiele!B:B,Spiele!C:C))","v":""},{"$f":"IF(B25=\"\",\"\",LOOKUP(B25,Spiele!B:B,Spiele!D:D))","v":""},{"$f":"IF(B25=\"\",\"\",LOOKUP(B25,Spiele!B:B,Spiele!E:E))","v":""},{"$f":"IF(B25=\"\",\"\",LOOKUP(B25,Spiele!B:B,Spiele!F:F))","v":""},"","","",null,null,-1,-1,1,0]
[null,null,{"$f":"IF(B26=\"\",\"\",LOOKUP(B26,Spiele!B:B,Spiele!C:C))","v":""},{"$f":"IF(B26=\"\",\"\",LOOKUP(B26,Spiele!B:B,Spiele!D:D))","v":""},{"$f":"IF(B26=\"\",\"\",LOOKUP(B26,Spiele!B:B,Spiele!E:E))","v":""},{"$f":"IF(B26=\"\",\"\",LOOKUP(B26,Spiele!B:B,Spiele!F:F))","v":""},"","","",null,null,-1,-1,1,0]
[null,null,{"$f":"IF(B27=\"\",\"\",LOOKUP(B27,Spiele!B:B,Spiele!C:C))","v":""},{"$f":"IF(B27=\"\",\"\",LOOKUP(B27,Spiele!B:B,Spiele!D:D))","v":""},{"$f":"IF(B27=\"\",\"\",LOOKUP(B27,Spiele!B:B,Spiele!E:E))","v":""},{"$f":"IF(B27=\"\",\"\",LOOKUP(B27,Spiele!B:B,Spiele!F:F))","v":""},"","","",null,null,-1,-1,1,0]
[null,null,{"$f":"IF(B28=\"\",\"\",LOOKUP(B28,Spiele!B:B,Spiele!C:C))","v":""},{"$f":"IF(B28=\"\",\"\",LOOKUP(B28,Spiele!B:B,Spiele!D:D))","v":""},{"$f":"IF(B28=\"\",\"\",LOOKUP(B28,Spiele!B:B,Spiele!E:E))","v":""},{"$f":"IF(B28=\"\",\"\",LOOKUP(B28,Spiele!B:B,Spiele!F:F))","v":""},"","","",null,null,-1,-1,1,0]
[null,null,{"$f":"IF(B29=\"\",\"\",LOOKUP(B29,Spiele!B:B,Spiele!C:C))","v":""},{"$f":"IF(B29=\"\",\"\",LOOKUP(B29,Spiele!B:B,Spiele!D:D))","v":""},{"$f":"IF(B29=\"\",\"\",LOOKUP(B29,Spiele!B:B,Spiele!E:E))","v":""},{"$f":"IF(B29=\"\",\"\",LOOKUP(B29,Spiele!B:B,Spiele!F:F))","v":""},"","","",null,null,-1,-1,1,0]
[null,null,{"$f":"IF(B30=\"\",\"\",LOOKUP(B30,Spiele!B:B,Spiele!C:C))","v":""},{"$f":"IF(B30=\"\",\"\",LOOKUP(B30,Spiele!B:B,Spiele!D:D))","v":""},{"$f":"IF(B30=\"\",\"\",LOOKUP(B30,Spiele!B:B,Spiele!E:E))","v":""},{"$f":"IF(B30=\"\",\"\",LOOKUP(B30,Spiele!B:B,Spiele!F:F))","v":""},"","","",null,null,-1,-1,1,0]
[null,null,{"$f":"IF(B31=\"\",\"\",LOOKUP(B31,Spiele!B:B,Spiele!C:C))","v":""},{"$f":"IF(B31=\"\",\"\",LOOKUP(B31,Spiele!B:B,Spiele!D:D))","v":""},{"$f":"IF(B31=\"\",\"\",LOOKUP(B31,Spiele!B:B,Spiele!E:E))","v":""},{"$f":"IF(B31=\"\",\"\",LOOKUP(B31,Spiele!B:B,Spiele!F:F))","v":""},"","","",null,null,-1,-1,1,0]
[null,null,{"$f":"IF(B32=\"\",\"\",LOOKUP(B32,Spiele!B:B,Spiele!C:C))","v":""},{"$f":"IF(B32=\"\",\"\",LOOKUP(B32,Spiele!B:B,Spiele!D:D))","v":""},{"$f":"IF(B32=\"\",\"\",LOOKUP(B32,Spiele!B:B,Spiele!E:E))","v":""},{"$f":"IF(B32=\"\",\"\",LOOKUP(B32,Spiele!B:B,Spiele!F:F))","v":""},"","","",null,null,-1,-1,1,0]
[null,null,{"$f":"IF(B33=\"\",\"\",LOOKUP(B33,Spiele!B:B,Spiele!C:C))","v":""},{"$f":"IF(B33=\"\",\"\",LOOKUP(B33,Spiele!B:B,Spiele!D:D))","v":""},{"$f":"IF(B33=\"\",\"\",LOOKUP(B33,Spiele!B:B,Spiele!E:E))","v":""},{"$f":"IF(B33=\"\",\"\",LOOKUP(B33,Spiele!B:B,Spiele!F:F))","v":""},"","","",null,null,-1,-1,1,0]
[null,null,{"$f":"IF(B34=\"\",\"\",LOOKUP(B34,Spiele!B:B,Spiele!C:C))","v":""},{"$f":"IF(B34=\"\",\"\",LOOKUP(B34,Spiele!B:B,Spiele!D:D))","v":""},{"$f":"IF(B34=\"\",\"\",LOOKUP(B34,Spiele!B:B,Spiele!E:E))","v":""},{"$f":"IF(B34=\"\",\"\",LOOKUP(B34,Spiele!B:B,Spiele!F:F))","v":""},"","","",null,null,-1,-1,1,0]
[null,null,{"$f":"IF(B35=\"\",\"\",LOOKUP(B35,Spiele!B:B,Spiele!C:C))","v":""},{"$f":"IF(B35=\"\",\"\",LOOKUP(B35,Spiele!B:B,Spiele!D:D))","v":""},{"$f":"IF(B35=\"\",\"\",LOOKUP(B35,Spiele!B:B,Spiele!E:E))","v":""},{"$f":"IF(B35=\"\",\"\",LOOKUP(B35,Spiele!B:B,Spiele!F:F))","v":""},"","","",null,null,-1,-1,1,0]
[null,null,{"$f":"IF(B36=\"\",\"\",LOOKUP(B36,Spiele!B:B,Spiele!C:C))","v":""},{"$f":"IF(B36=\"\",\"\",LOOKUP(B36,Spiele!B:B,Spiele!D:D))","v":""},{"$f":"IF(B36=\"\",\"\",LOOKUP(B36,Spiele!B:B,Spiele!E:E))","v":""},{"$f":"IF(B36=\"\",\"\",LOOKUP(B36,Spiele!B:B,Spiele!F:F))","v":""},"","","",null,null,-1,-1,1,0]
[null,null,{"$f":"IF(B37=\"\",\"\",LOOKUP(B37,Spiele!B:B,Spiele!C:C))","v":""},{"$f":"IF(B37=\"\",\"\",LOOKUP(B37,Spiele!B:B,Spiele!D:D))","v":""},{"$f":"IF(B37=\"\",\"\",LOOKUP(B37,Spiele!B:B,Spiele!E:E))","v":""},{"$f":"IF(B37=\"\",\"\",LOOKUP(B37,Spiele!B:B,Spiele!F:F))","v":""},"","","",null,null,-1,-1,1,0]
[null,null,{"$f":"IF(B38=\"\",\"\",LOOKUP(B38,Spiele!B:B,Spiele!C:C))","v":""},{"$f":"IF(B38=\"\",\"\",LOOKUP(B38,Spiele!B:B,Spiele!D:D))","v":""},{"$f":"IF(B38=\"\",\"\",LOOKUP(B38,Spiele!B:B,Spiele!E:E))","v":""},{"$f":"IF(B38=\"\",\"\",LOOKUP(B38,Spiele!B:B,Spiele!F:F))","v":""},"","","",null,null,-1,-1,1,0]
[null,null,{"$f":"IF(B39=\"\",\"\",LOOKUP(B39,Spiele!B:B,Spiele!C:C))","v":""},{"$f":"IF(B39=\"\",\"\",LOOKUP(B39,Spiele!B:B,Spiele!D:D))","v":""},{"$f":"IF(B39=\"\",\"\",LOOKUP(B39,Spiele!B:B,Spiele!E:E))","v":""},{"$f":"IF(B39=\"\",\"\",LOOKUP(B39,Spiele!B:B,Spiele!F:F))","v":""},"","","",null,null,-1,-1,1,{"$f":"IF(E39=\"\",0,IF(E39=J39,1,0)+IF(F39=K39,1,0)+IF(G39=L39,1,0)+IF(H39=M39,1,0)+IF(I39=N39,1,0))","v":0}]
[null,null,{"$f":"IF(B40=\"\",\"\",LOOKUP(B40,Spiele!B:B,Spiele!C:C))","v":""},{"$f":"IF(B40=\"\",\"\",LOOKUP(B40,Spiele!B:B,Spiele!D:D))","v":""},{"$f":"IF(B40=\"\",\"\",LOOKUP(B40,Spiele!B:B,Spiele!E:E))","v":""},{"$f":"IF(B40=\"\",\"\",LOOKUP(B40,Spiele!B:B,Spiele!F:F))","v":""},"","","",null,null,-1,-1,1,0]
[null,null,{"$f":"IF(B41=\"\",\"\",LOOKUP(B41,Spiele!B:B,Spiele!C:C))","v":""},{"$f":"IF(B41=\"\",\"\",LOOKUP(B41,Spiele!B:B,Spiele!D:D))","v":""},{"$f":"IF(B41=\"\",\"\",LOOKUP(B41,Spiele!B:B,Spiele!E:E))","v":""},{"$f":"IF(B41=\"\",\"\",LOOKUP(B41,Spiele!B:B,Spiele!F:F))","v":""},"","","",null,null,-1,-1,1,0]
[null,null,{"$f":"IF(B42=\"\",\"\",LOOKUP(B42,Spiele!B:B,Spiele!C:C))","v":""},{"$f":"IF(B42=\"\",\"\",LOOKUP(B42,Spiele!B:B,Spiele!D:D))","v":""},{"$f":"IF(B42=\"\",\"\",LOOKUP(B42,Spiele!B:B,Spiele!E:E))","v":""},{"$f":"IF(B42=\"\",\"\",LOOKUP(B42,Spiele!B:B,Spiele!F:F))","v":""},"","","",null,null,-1,-1,1,0]
[null,null,{"$f":"IF(B43=\"\",\"\",LOOKUP(B43,Spiele!B:B,Spiele!C:C))","v":""},{"$f":"IF(B43=\"\",\"\",LOOKUP(B43,Spiele!B:B,Spiele!D:D))","v":""},{"$f":"IF(B43=\"\",\"\",LOOKUP(B43,Spiele!B:B,Spiele!E:E))","v":""},{"$f":"IF(B43=\"\",\"\",LOOKUP(B43,Spiele!B:B,Spiele!F:F))","v":""},"","","",null,null,-1,-1,1,0]
[null,null,{"$f":"IF(B44=\"\",\"\",LOOKUP(B44,Spiele!B:B,Spiele!C:C))","v":""},{"$f":"IF(B44=\"\",\"\",LOOKUP(B44,Spiele!B:B,Spiele!D:D))","v":""},{"$f":"IF(B44=\"\",\"\",LOOKUP(B44,Spiele!B:B,Spiele!E:E))","v":""},{"$f":"IF(B44=\"\",\"\",LOOKUP(B44,Spiele!B:B,Spiele!F:F))","v":""},"","","",null,null,-1,-1,1,0]
[null,null,{"$f":"IF(B45=\"\",\"\",LOOKUP(B45,Spiele!B:B,Spiele!C:C))","v":""},{"$f":"IF(B45=\"\",\"\",LOOKUP(B45,Spiele!B:B,Spiele!D:D))","v":""},{"$f":"IF(B45=\"\",\"\",LOOKUP(B45,Spiele!B:B,Spiele!E:E))","v":""},{"$f":"IF(B45=\"\",\"\",LOOKUP(B45,Spiele!B:B,Spiele!F:F))","v":""},"","","",null,null,-1,-1,1,0]
[null,null,{"$f":"IF(B46=\"\",\"\",LOOKUP(B46,Spiele!B:B,Spiele!C:C))","v":""},{"$f":"IF(B46=\"\",\"\",LOOKUP(B46,Spiele!B:B,Spiele!D:D))","v":""},{"$f":"IF(B46=\"\",\"\",LOOKUP(B46,Spiele!B:B,Spiele!E:E))","v":""},{"$f":"IF(B46=\"\",\"\",LOOKUP(B46,Spiele!B:B,Spiele!F:F))","v":""},"","","",null,null,-1,-1,1,0]
[null,null,{"$f":"IF(B47=\"\",\"\",LOOKUP(B47,Spiele!B:B,Spiele!C:C))","v":""},{"$f":"IF(B47=\"\",\"\",LOOKUP(B47,Spiele!B:B,Spiele!D:D))","v":""},{"$f":"IF(B47=\"\",\"\",LOOKUP(B47,Spiele!B:B,Spiele!E:E))","v":""},{"$f":"IF(B47=\"\",\"\",LOOKUP(B47,Spiele!B:B,Spiele!F:F))","v":""},"","","",null,null,-1,-1,1,0]
[null,null,{"$f":"IF(B48=\"\",\"\",LOOKUP(B48,Spiele!B:B,Spiele!C:C))","v":""},{"$f":"IF(B48=\"\",\"\",LOOKUP(B48,Spiele!B:B,Spiele!D:D))","v":""},{"$f":"IF(B48=\"\",\"\",LOOKUP(B48,Spiele!B:B,Spiele!E:E))","v":""},{"$f":"IF(B48=\"\",\"\",LOOKUP(B48,Spiele!B:B,Spiele!F:F))","v":""},"","","",null,null,-1,-1,1,0]
[null,null,{"$f":"IF(B49=\"\",\"\",LOOKUP(B49,Spiele!B:B,Spiele!C:C))","v":""},{"$f":"IF(B49=\"\",\"\",LOOKUP(B49,Spiele!B:B,Spiele!D:D))","v":""},{"$f":"IF(B49=\"\",\"\",LOOKUP(B49,Spiele!B:B,Spiele!E:E))","v":""},{"$f":"IF(B49=\"\",\"\",LOOKUP(B49,Spiele!B:B,Spiele!F:F))","v":""},"","","",null,null,-1,-1,1,0]
[null,null,{"$f":"IF(B50=\"\",\"\",LOOKUP(B50,Spiele!B:B,Spiele!C:C))","v":""},{"$f":"IF(B50=\"\",\"\",LOOKUP(B50,Spiele!B:B,Spiele!D:D))","v":""},{"$f":"IF(B50=\"\",\"\",LOOKUP(B50,Spiele!B:B,Spiele!E:E))","v":""},{"$f":"IF(B50=\"\",\"\",LOOKUP(B50,Spiele!B:B,Spiele!F:F))","v":""},"","","",null,null,-1,-1,1,0]
[null,null,{"$f":"IF(B51=\"\",\"\",LOOKUP(B51,Spiele!B:B,Spiele!C:C))","v":""},{"$f":"IF(B51=\"\",\"\",LOOKUP(B51,Spiele!B:B,Spiele!D:D))","v":""},{"$f":"IF(B51=\"\",\"\",LOOKUP(B51,Spiele!B:B,Spiele!E:E))","v":""},{"$f":"IF(B51=\"\",\"\",LOOKUP(B51,Spiele!B:B,Spiele!F:F))","v":""},"","","",null,null,-1,-1,1,0]
[null,null,{"$f":"IF(B52=\"\",\"\",LOOKUP(B52,Spiele!B:B,Spiele!C:C))","v":""},{"$f":"IF(B52=\"\",\"\",LOOKUP(B52,Spiele!B:B,Spiele!D:D))","v":""},{"$f":"IF(B52=\"\",\"\",LOOKUP(B52,Spiele!B:B,Spiele!E:E))","v":""},{"$f":"IF(B52=\"\",\"\",LOOKUP(B52,Spiele!B:B,Spiele!F:F))","v":""},"","","",null,null,-1,-1,1,0]
[null,null,{"$f":"IF(B53=\"\",\"\",LOOKUP(B53,Spiele!B:B,Spiele!C:C))","v":""},{"$f":"IF(B53=\"\",\"\",LOOKUP(B53,Spiele!B:B,Spiele!D:D))","v":""},{"$f":"IF(B53=\"\",\"\",LOOKUP(B53,Spiele!B:B,Spiele!E:E))","v":""},{"$f":"IF(B53=\"\",\"\",LOOKUP(B53,Spiele!B:B,Spiele!F:F))","v":""},"","","",null,null,-1,-1,1,0]
[null,null,{"$f":"IF(B54=\"\",\"\",LOOKUP(B54,Spiele!B:B,Spiele!C:C))","v":""},{"$f":"IF(B54=\"\",\"\",LOOKUP(B54,Spiele!B:B,Spiele!D:D))","v":""},{"$f":"IF(B54=\"\",\"\",LOOKUP(B54,Spiele!B:B,Spiele!E:E))","v":""},{"$f":"IF(B54=\"\",\"\",LOOKUP(B54,Spiele!B:B,Spiele!F:F))","v":""},"","","",null,null,-1,-1,1,0]
[null,null,{"$f":"IF(B55=\"\",\"\",LOOKUP(B55,Spiele!B:B,Spiele!C:C))","v":""},{"$f":"IF(B55=\"\",\"\",LOOKUP(B55,Spiele!B:B,Spiele!D:D))","v":""},{"$f":"IF(B55=\"\",\"\",LOOKUP(B55,Spiele!B:B,Spiele!E:E))","v":""},{"$f":"IF(B55=\"\",\"\",LOOKUP(B55,Spiele!B:B,Spiele!F:F))","v":""},"","","",null,null,-1,-1,1,0]
[null,null,{"$f":"IF(B56=\"\",\"\",LOOKUP(B56,Spiele!B:B,Spiele!C:C))","v":""},{"$f":"IF(B56=\"\",\"\",LOOKUP(B56,Spiele!B:B,Spiele!D:D))","v":""},{"$f":"IF(B56=\"\",\"\",LOOKUP(B56,Spiele!B:B,Spiele!E:E))","v":""},{"$f":"IF(B56=\"\",\"\",LOOKUP(B56,Spiele!B:B,Spiele!F:F))","v":""},"","","",null,null,-1,-1,1,0]
[null,null,{"$f":"IF(B57=\"\",\"\",LOOKUP(B57,Spiele!B:B,Spiele!C:C))","v":""},{"$f":"IF(B57=\"\",\"\",LOOKUP(B57,Spiele!B:B,Spiele!D:D))","v":""},{"$f":"IF(B57=\"\",\"\",LOOKUP(B57,Spiele!B:B,Spiele!E:E))","v":""},{"$f":"IF(B57=\"\",\"\",LOOKUP(B57,Spiele!B:B,Spiele!F:F))","v":""},"","","",null,null,-1,-1,1,0]
[null,null,{"$f":"IF(B58=\"\",\"\",LOOKUP(B58,Spiele!B:B,Spiele!C:C))","v":""},{"$f":"IF(B58=\"\",\"\",LOOKUP(B58,Spiele!B:B,Spiele!D:D))","v":""},{"$f":"IF(B58=\"\",\"\",LOOKUP(B58,Spiele!B:B,Spiele!E:E))","v":""},{"$f":"IF(B58=\"\",\"\",LOOKUP(B58,Spiele!B:B,Spiele!F:F))","v":""},"","","",null,null,-1,-1,1,0]
[null,null,{"$f":"IF(B59=\"\",\"\",LOOKUP(B59,Spiele!B:B,Spiele!C:C))","v":""},{"$f":"IF(B59=\"\",\"\",LOOKUP(B59,Spiele!B:B,Spiele!D:D))","v":""},{"$f":"IF(B59=\"\",\"\",LOOKUP(B59,Spiele!B:B,Spiele!E:E))","v":""},{"$f":"IF(B59=\"\",\"\",LOOKUP(B59,Spiele!B:B,Spiele!F:F))","v":""},"","","",null,null,-1,-1,1,0]
[null,null,{"$f":"IF(B60=\"\",\"\",LOOKUP(B60,Spiele!B:B,Spiele!C:C))","v":""},{"$f":"IF(B60=\"\",\"\",LOOKUP(B60,Spiele!B:B,Spiele!D:D))","v":""},{"$f":"IF(B60=\"\",\"\",LOOKUP(B60,Spiele!B:B,Spiele!E:E))","v":""},{"$f":"IF(B60=\"\",\"\",LOOKUP(B60,Spiele!B:B,Spiele!F:F))","v":""},"","","",null,null,-1,-1,1,0]
[null,null,{"$f":"IF(B61=\"\",\"\",LOOKUP(B61,Spiele!B:B,Spiele!C:C))","v":""},{"$f":"IF(B61=\"\",\"\",LOOKUP(B61,Spiele!B:B,Spiele!D:D))","v":""},{"$f":"IF(B61=\"\",\"\",LOOKUP(B61,Spiele!B:B,Spiele!E:E))","v":""},{"$f":"IF(B61=\"\",\"\",LOOKUP(B61,Spiele!B:B,Spiele!F:F))","v":""},"","","",null,null,-1,-1,1,0]
[null,null,{"$f":"IF(B62=\"\",\"\",LOOKUP(B62,Spiele!B:B,Spiele!C:C))","v":""},{"$f":"IF(B62=\"\",\"\",LOOKUP(B62,Spiele!B:B,Spiele!D:D))","v":""},{"$f":"IF(B62=\"\",\"\",LOOKUP(B62,Spiele!B:B,Spiele!E:E))","v":""},{"$f":"IF(B62=\"\",\"\",LOOKUP(B62,Spiele!B:B,Spiele!F:F))","v":""},"","","",null,null,-1,-1,1,0]
[null,null,{"$f":"IF(B63=\"\",\"\",LOOKUP(B63,Spiele!B:B,Spiele!C:C))","v":""},{"$f":"IF(B63=\"\",\"\",LOOKUP(B63,Spiele!B:B,Spiele!D:D))","v":""},{"$f":"IF(B63=\"\",\"\",LOOKUP(B63,Spiele!B:B,Spiele!E:E))","v":""},{"$f":"IF(B63=\"\",\"\",LOOKUP(B63,Spiele!B:B,Spiele!F:F))","v":""},"","","",null,null,-1,-1,1,0]
[null,null,{"$f":"IF(B64=\"\",\"\",LOOKUP(B64,Spiele!B:B,Spiele!C:C))","v":""},{"$f":"IF(B64=\"\",\"\",LOOKUP(B64,Spiele!B:B,Spiele!D:D))","v":""},{"$f":"IF(B64=\"\",\"\",LOOKUP(B64,Spiele!B:B,Spiele!E:E))","v":""},{"$f":"IF(B64=\"\",\"\",LOOKUP(B64,Spiele!B:B,Spiele!F:F))","v":""},"","","",null,null,-1,-1,1,0]
[null,null,{"$f":"IF(B65=\"\",\"\",LOOKUP(B65,Spiele!B:B,Spiele!C:C))","v":""},{"$f":"IF(B65=\"\",\"\",LOOKUP(B65,Spiele!B:B,Spiele!D:D))","v":""},{"$f":"IF(B65=\"\",\"\",LOOKUP(B65,Spiele!B:B,Spiele!E:E))","v":""},{"$f":"IF(B65=\"\",\"\",LOOKUP(B65,Spiele!B:B,Spiele!F:F))","v":""},"","","",null,null,-1,-1,1,0]
[null,null,{"$f":"IF(B66=\"\",\"\",LOOKUP(B66,Spiele!B:B,Spiele!C:C))","v":""},{"$f":"IF(B66=\"\",\"\",LOOKUP(B66,Spiele!B:B,Spiele!D:D))","v":""},{"$f":"IF(B66=\"\",\"\",LOOKUP(B66,Spiele!B:B,Spiele!E:E))","v":""},{"$f":"IF(B66=\"\",\"\",LOOKUP(B66,Spiele!B:B,Spiele!F:F))","v":""},"","","",null,null,-1,-1,1,0]
[null,null,{"$f":"IF(B67=\"\",\"\",LOOKUP(B67,Spiele!B:B,Spiele!C:C))","v":""},{"$f":"IF(B67=\"\",\"\",LOOKUP(B67,Spiele!B:B,Spiele!D:D))","v":""},{"$f":"IF(B67=\"\",\"\",LOOKUP(B67,Spiele!B:B,Spiele!E:E))","v":""},{"$f":"IF(B67=\"\",\"\",LOOKUP(B67,Spiele!B:B,Spiele!F:F))","v":""},"","","",null,null,-1,-1,1,0]
[null,null,{"$f":"IF(B68=\"\",\"\",LOOKUP(B68,Spiele!B:B,Spiele!C:C))","v":""},{"$f":"IF(B68=\"\",\"\",LOOKUP(B68,Spiele!B:B,Spiele!D:D))","v":""},{"$f":"IF(B68=\"\",\"\",LOOKUP(B68,Spiele!B:B,Spiele!E:E))","v":""},{"$f":"IF(B68=\"\",\"\",LOOKUP(B68,Spiele!B:B,Spiele!F:F))","v":""},"","","",null,null,-1,-1,1,0]
[null,null,{"$f":"IF(B69=\"\",\"\",LOOKUP(B69,Spiele!B:B,Spiele!C:C))","v":""},{"$f":"IF(B69=\"\",\"\",LOOKUP(B69,Spiele!B:B,Spiele!D:D))","v":""},{"$f":"IF(B69=\"\",\"\",LOOKUP(B69,Spiele!B:B,Spiele!E:E))","v":""},{"$f":"IF(B69=\"\",\"\",LOOKUP(B69,Spiele!B:B,Spiele!F:F))","v":""},"","","",null,null,-1,-1,1,0]
[null,null,{"$f":"IF(B70=\"\",\"\",LOOKUP(B70,Spiele!B:B,Spiele!C:C))","v":""},{"$f":"IF(B70=\"\",\"\",LOOKUP(B70,Spiele!B:B,Spiele!D:D))","v":""},{"$f":"IF(B70=\"\",\"\",LOOKUP(B70,Spiele!B:B,Spiele!E:E))","v":""},{"$f":"IF(B70=\"\",\"\",LOOKUP(B70,Spiele!B:B,Spiele!F:F))","v":""},"","","",null,null,-1,-1,1,0]
[null,null,{"$f":"IF(B71=\"\",\"\",LOOKUP(B71,Spiele!B:B,Spiele!C:C))","v":""},{"$f":"IF(B71=\"\",\"\",LOOKUP(B71,Spiele!B:B,Spiele!D:D))","v":""},{"$f":"IF(B71=\"\",\"\",LOOKUP(B71,Spiele!B:B,Spiele!E:E))","v":""},{"$f":"IF(B71=\"\",\"\",LOOKUP(B71,Spiele!B:B,Spiele!F:F))","v":""},"","","",null,null,-1,-1,1,0]
[null,null,{"$f":"IF(B72=\"\",\"\",LOOKUP(B72,Spiele!B:B,Spiele!C:C))","v":""},{"$f":"IF(B72=\"\",\"\",LOOKUP(B72,Spiele!B:B,Spiele!D:D))","v":""},{"$f":"IF(B72=\"\",\"\",LOOKUP(B72,Spiele!B:B,Spiele!E:E))","v":""},{"$f":"IF(B72=\"\",\"\",LOOKUP(B72,Spiele!B:B,Spiele!F:F))","v":""},{"$f":"IF(E72=\"\",\"\",IF(E72>F72,1,0))","v":""},{"$f":"IF(F72=\"\",\"\",IF(E72<F72,1,0))","v":""},{"$f":"IF(E72=\"\",\"\",IF(E72=F72,1,0))","v":""},null,null,{"$f":"IF(E72=\"\",-1,IF(J72>K72,1,-1))","v":-1},{"$f":"IF(F72=\"\",-1,IF(J72<K72,1,-1))","v":-1},1,{"$f":"IF(E72=\"\",0,IF(E72=J72,1,0)+IF(F72=K72,1,0)+IF(G72=L72,1,0)+IF(H72=M72,1,0)+IF(I72=N72,1,0))","v":0}]
[null,null,{"$f":"IF(B73=\"\",\"\",LOOKUP(B73,Spiele!B:B,Spiele!C:C))","v":""},{"$f":"IF(B73=\"\",\"\",LOOKUP(B73,Spiele!B:B,Spiele!D:D))","v":""},{"$f":"IF(B73=\"\",\"\",LOOKUP(B73,Spiele!B:B,Spiele!E:E))","v":""},{"$f":"IF(B73=\"\",\"\",LOOKUP(B73,Spiele!B:B,Spiele!F:F))","v":""},"","","",null,null,-1,-1,1,0]
[null,null,{"$f":"IF(B74=\"\",\"\",LOOKUP(B74,Spiele!B:B,Spiele!C:C))","v":""},{"$f":"IF(B74=\"\",\"\",LOOKUP(B74,Spiele!B:B,Spiele!D:D))","v":""},{"$f":"IF(B74=\"\",\"\",LOOKUP(B74,Spiele!B:B,Spiele!E:E))","v":""},{"$f":"IF(B74=\"\",\"\",LOOKUP(B74,Spiele!B:B,Spiele!F:F))","v":""},"","","",null,null,-1,-1,1,0]
[null,null,{"$f":"IF(B75=\"\",\"\",LOOKUP(B75,Spiele!B:B,Spiele!C:C))","v":""},{"$f":"IF(B75=\"\",\"\",LOOKUP(B75,Spiele!B:B,Spiele!D:D))","v":""},{"$f":"IF(B75=\"\",\"\",LOOKUP(B75,Spiele!B:B,Spiele!E:E))","v":""},{"$f":"IF(B75=\"\",\"\",LOOKUP(B75,Spiele!B:B,Spiele!F:F))","v":""},"","","",null,null,-1,-1,1,0]
[null,null,{"$f":"IF(B76=\"\",\"\",LOOKUP(B76,Spiele!B:B,Spiele!C:C))","v":""},{"$f":"IF(B76=\"\",\"\",LOOKUP(B76,Spiele!B:B,Spiele!D:D))","v":""},{"$f":"IF(B76=\"\",\"\",LOOKUP(B76,Spiele!B:B,Spiele!E:E))","v":""},{"$f":"IF(B76=\"\",\"\",LOOKUP(B76,Spiele!B:B,Spiele!F:F))","v":""},"","","",null,null,-1,-1,1,0]
[null,null,{"$f":"IF(B77=\"\",\"\",LOOKUP(B77,Spiele!B:B,Spiele!C:C))","v":""},{"$f":"IF(B77=\"\",\"\",LOOKUP(B77,Spiele!B:B,Spiele!D:D))","v":""},{"$f":"IF(B77=\"\",\"\",LOOKUP(B77,Spiele!B:B,Spiele!E:E))","v":""},{"$f":"IF(B77=\"\",\"\",LOOKUP(B77,Spiele!B:B,Spiele!F:F))","v":""},"","","",null,null,-1,-1,1,0]
[null,null,{"$f":"IF(B78=\"\",\"\",LOOKUP(B78,Spiele!B:B,Spiele!C:C))","v":""},{"$f":"IF(B78=\"\",\"\",LOOKUP(B78,Spiele!B:B,Spiele!D:D))","v":""},{"$f":"IF(B78=\"\",\"\",LOOKUP(B78,Spiele!B:B,Spiele!E:E))","v":""},{"$f":"IF(B78=\"\",\"\",LOOKUP(B78,Spiele!B:B,Spiele!F:F))","v":""},"","","",null,null,-1,-1,1,0]
[null,null,{"$f":"IF(B79=\"\",\"\",LOOKUP(B79,Spiele!B:B,Spiele!C:C))","v":""},{"$f":"IF(B79=\"\",\"\",LOOKUP(B79,Spiele!B:B,Spiele!D:D))","v":""},{"$f":"IF(B79=\"\",\"\",LOOKUP(B79,Spiele!B:B,Spiele!E:E))","v":""},{"$f":"IF(B79=\"\",\"\",LOOKUP(B79,Spiele!B:B,Spiele!F:F))","v":""},"","","",null,null,-1,-1,1,0]
[null,null,{"$f":"IF(B80=\"\",\"\",LOOKUP(B80,Spiele!B:B,Spiele!C:C))","v":""},{"$f":"IF(B80=\"\",\"\",LOOKUP(B80,Spiele!B:B,Spiele!D:D))","v":""},{"$f":"IF(B80=\"\",\"\",LOOKUP(B80,Spiele!B:B,Spiele!E:E))","v":""},{"$f":"IF(B80=\"\",\"\",LOOKUP(B80,Spiele!B:B,Spiele!F:F))","v":""},"","","",null,null,-1,-1,{"$f":"IF(E80=\"-\",-1,IF(J80=K80,1,-1))","v":1},0]
[null,null,{"$f":"IF(B81=\"\",\"\",LOOKUP(B81,Spiele!B:B,Spiele!C:C))","v":""},{"$f":"IF(B81=\"\",\"\",LOOKUP(B81,Spiele!B:B,Spiele!D:D))","v":""},{"$f":"IF(B81=\"\",\"\",LOOKUP(B81,Spiele!B:B,Spiele!E:E))","v":""},{"$f":"IF(B81=\"\",\"\",LOOKUP(B81,Spiele!B:B,Spiele!F:F))","v":""},"","","",null,null,-1,-1,1,0]
[null,null,{"$f":"IF(B82=\"\",\"\",LOOKUP(B82,Spiele!B:B,Spiele!C:C))","v":""},{"$f":"IF(B82=\"\",\"\",LOOKUP(B82,Spiele!B:B,Spiele!D:D))","v":""},{"$f":"IF(B82=\"\",\"\",LOOKUP(B82,Spiele!B:B,Spiele!E:E))","v":""},{"$f":"IF(B82=\"\",\"\",LOOKUP(B82,Spiele!B:B,Spiele!F:F))","v":""},"","","",null,null,-1,-1,1,0]
[null,null,{"$f":"IF(B83=\"\",\"\",LOOKUP(B83,Spiele!B:B,Spiele!C:C))","v":""},{"$f":"IF(B83=\"\",\"\",LOOKUP(B83,Spiele!B:B,Spiele!D:D))","v":""},{"$f":"IF(B83=\"\",\"\",LOOKUP(B83,Spiele!B:B,Spiele!E:E))","v":""},{"$f":"IF(B83=\"\",\"\",LOOKUP(B83,Spiele!B:B,Spiele!F:F))","v":""},"","","",null,null,-1,-1,1,0]
[null,null,{"$f":"IF(B84=\"\",\"\",LOOKUP(B84,Spiele!B:B,Spiele!C:C))","v":""},{"$f":"IF(B84=\"\",\"\",LOOKUP(B84,Spiele!B:B,Spiele!D:D))","v":""},{"$f":"IF(B84=\"\",\"\",LOOKUP(B84,Spiele!B:B,Spiele!E:E))","v":""},{"$f":"IF(B84=\"\",\"\",LOOKUP(B84,Spiele!B:B,Spiele!F:F))","v":""},"","","",null,null,-1,-1,1,0]
[null,null,{"$f":"IF(B85=\"\",\"\",LOOKUP(B85,Spiele!B:B,Spiele!C:C))","v":""},{"$f":"IF(B85=\"\",\"\",LOOKUP(B85,Spiele!B:B,Spiele!D:D))","v":""},{"$f":"IF(B85=\"\",\"\",LOOKUP(B85,Spiele!B:B,Spiele!E:E))","v":""},{"$f":"IF(B85=\"\",\"\",LOOKUP(B85,Spiele!B:B,Spiele!F:F))","v":""},"","","",null,null,-1,-1,1,0]
[null,null,{"$f":"IF(B86=\"\",\"\",LOOKUP(B86,Spiele!B:B,Spiele!C:C))","v":""},{"$f":"IF(B86=\"\",\"\",LOOKUP(B86,Spiele!B:B,Spiele!D:D))","v":""},{"$f":"IF(B86=\"\",\"\",LOOKUP(B86,Spiele!B:B,Spiele!E:E))","v":""},{"$f":"IF(B86=\"\",\"\",LOOKUP(B86,Spiele!B:B,Spiele!F:F))","v":""},"","","",null,null,-1,-1,1,0]
[null,null,{"$f":"IF(B87=\"\",\"\",LOOKUP(B87,Spiele!B:B,Spiele!C:C))","v":""},{"$f":"IF(B87=\"\",\"\",LOOKUP(B87,Spiele!B:B,Spiele!D:D))","v":""},{"$f":"IF(B87=\"\",\"\",LOOKUP(B87,Spiele!B:B,Spiele!E:E))","v":""},{"$f":"IF(B87=\"\",\"\",LOOKUP(B87,Spiele!B:B,Spiele!F:F))","v":""},"","","",null,null,-1,-1,1,0]
[null,null,{"$f":"IF(B88=\"\",\"\",LOOKUP(B88,Spiele!B:B,Spiele!C:C))","v":""},{"$f":"IF(B88=\"\",\"\",LOOKUP(B88,Spiele!B:B,Spiele!D:D))","v":""},{"$f":"IF(B88=\"\",\"\",LOOKUP(B88,Spiele!B:B,Spiele!E:E))","v":""},{"$f":"IF(B88=\"\",\"\",LOOKUP(B88,Spiele!B:B,Spiele!F:F))","v":""},"","","",null,null,-1,-1,1,0]
[null,null,{"$f":"IF(B89=\"\",\"\",LOOKUP(B89,Spiele!B:B,Spiele!C:C))","v":""},{"$f":"IF(B89=\"\",\"\",LOOKUP(B89,Spiele!B:B,Spiele!D:D))","v":""},{"$f":"IF(B89=\"\",\"\",LOOKUP(B89,Spiele!B:B,Spiele!E:E))","v":""},{"$f":"IF(B89=\"\",\"\",LOOKUP(B89,Spiele!B:B,Spiele!F:F))","v":""},"","","",null,null,-1,-1,1,0]
[null,null,{"$f":"IF(B90=\"\",\"\",LOOKUP(B90,Spiele!B:B,Spiele!C:C))","v":""},{"$f":"IF(B90=\"\",\"\",LOOKUP(B90,Spiele!B:B,Spiele!D:D))","v":""},{"$f":"IF(B90=\"\",\"\",LOOKUP(B90,Spiele!B:B,Spiele!E:E))","v":""},{"$f":"IF(B90=\"\",\"\",LOOKUP(B90,Spiele!B:B,Spiele!F:F))","v":""},"","","",null,null,-1,-1,1,0]
[null,null,{"$f":"IF(B91=\"\",\"\",LOOKUP(B91,Spiele!B:B,Spiele!C:C))","v":""},{"$f":"IF(B91=\"\",\"\",LOOKUP(B91,Spiele!B:B,Spiele!D:D))","v":""},{"$f":"IF(B91=\"\",\"\",LOOKUP(B91,Spiele!B:B,Spiele!E:E))","v":""},{"$f":"IF(B91=\"\",\"\",LOOKUP(B91,Spiele!B:B,Spiele!F:F))","v":""},"","","",null,null,-1,-1,1,0]
[null,null,{"$f":"IF(B92=\"\",\"\",LOOKUP(B92,Spiele!B:B,Spiele!C:C))","v":""},{"$f":"IF(B92=\"\",\"\",LOOKUP(B92,Spiele!B:B,Spiele!D:D))","v":""},{"$f":"IF(B92=\"\",\"\",LOOKUP(B92,Spiele!B:B,Spiele!E:E))","v":""},{"$f":"IF(B92=\"\",\"\",LOOKUP(B92,Spiele!B:B,Spiele!F:F))","v":""},"","","",null,null,-1,-1,1,0]
[null,null,{"$f":"IF(B93=\"\",\"\",LOOKUP(B93,Spiele!B:B,Spiele!C:C))","v":""},{"$f":"IF(B93=\"\",\"\",LOOKUP(B93,Spiele!B:B,Spiele!D:D))","v":""},{"$f":"IF(B93=\"\",\"\",LOOKUP(B93,Spiele!B:B,Spiele!E:E))","v":""},{"$f":"IF(B93=\"\",\"\",LOOKUP(B93,Spiele!B:B,Spiele!F:F))","v":""},"","","",null,null,-1,-1,1,0]
[null,null,{"$f":"IF(B94=\"\",\"\",LOOKUP(B94,Spiele!B:B,Spiele!C:C))","v":""},{"$f":"IF(B94=\"\",\"\",LOOKUP(B94,Spiele!B:B,Spiele!D:D))","v":""},{"$f":"IF(B94=\"\",\"\",LOOKUP(B94,Spiele!B:B,Spiele!E:E))","v":""},{"$f":"IF(B94=\"\",\"\",LOOKUP(B94,Spiele!B:B,Spiele!F:F))","v":""},"","","",null,null,-1,-1,1,0]
[null,null,{"$f":"IF(B95=\"\",\"\",LOOKUP(B95,Spiele!B:B,Spiele!C:C))","v":""},{"$f":"IF(B95=\"\",\"\",LOOKUP(B95,Spiele!B:B,Spiele!D:D))","v":""},{"$f":"IF(B95=\"\",\"\",LOOKUP(B95,Spiele!B:B,Spiele!E:E))","v":""},{"$f":"IF(B95=\"\",\"\",LOOKUP(B95,Spiele!B:B,Spiele!F:F))","v":""},"","","",null,null,-1,-1,1,0]
[null,null,{"$f":"IF(B96=\"\",\"\",LOOKUP(B96,Spiele!B:B,Spiele!C:C))","v":""},{"$f":"IF(B96=\"\",\"\",LOOKUP(B96,Spiele!B:B,Spiele!D:D))","v":""},{"$f":"IF(B96=\"\",\"\",LOOKUP(B96,Spiele!B:B,Spiele!E:E))","v":""},{"$f":"IF(B96=\"\",\"\",LOOKUP(B96,Spiele!B:B,Spiele!F:F))","v":""},"","","",null,null,-1,-1,1,0]
[null,null,{"$f":"IF(B97=\"\",\"\",LOOKUP(B97,Spiele!B:B,Spiele!C:C))","v":""},{"$f":"IF(B97=\"\",\"\",LOOKUP(B97,Spiele!B:B,Spiele!D:D))","v":""},{"$f":"IF(B97=\"\",\"\",LOOKUP(B97,Spiele!B:B,Spiele!E:E))","v":""},{"$f":"IF(B97=\"\",\"\",LOOKUP(B97,Spiele!B:B,Spiele!F:F))","v":""},"","","",null,null,-1,-1,1,0]
[null,null,{"$f":"IF(B98=\"\",\"\",LOOKUP(B98,Spiele!B:B,Spiele!C:C))","v":""},{"$f":"IF(B98=\"\",\"\",LOOKUP(B98,Spiele!B:B,Spiele!D:D))","v":""},{"$f":"IF(B98=\"\",\"\",LOOKUP(B98,Spiele!B:B,Spiele!E:E))","v":""},{"$f":"IF(B98=\"\",\"\",LOOKUP(B98,Spiele!B:B,Spiele!F:F))","v":""},"","","",null,null,-1,-1,1,0]
[null,null,{"$f":"IF(B99=\"\",\"\",LOOKUP(B99,Spiele!B:B,Spiele!C:C))","v":""},{"$f":"IF(B99=\"\",\"\",LOOKUP(B99,Spiele!B:B,Spiele!D:D))","v":""},{"$f":"IF(B99=\"\",\"\",LOOKUP(B99,Spiele!B:B,Spiele!E:E))","v":""},{"$f":"IF(B99=\"\",\"\",LOOKUP(B99,Spiele!B:B,Spiele!F:F))","v":""},"","","",null,null,-1,-1,1,0]
[null,null,{"$f":"IF(B100=\"\",\"\",LOOKUP(B100,Spiele!B:B,Spiele!C:C))","v":""},{"$f":"IF(B100=\"\",\"\",LOOKUP(B100,Spiele!B:B,Spiele!D:D))","v":""},{"$f":"IF(B100=\"\",\"\",LOOKUP(B100,Spiele!B:B,Spiele!E:E))","v":""},{"$f":"IF(B100=\"\",\"\",LOOKUP(B100,Spiele!B:B,Spiele!F:F))","v":""},"","","",null,null,-1,-1,1,0]
[null,null,{"$f":"IF(B101=\"\",\"\",LOOKUP(B101,Spiele!B:B,Spiele!C:C))","v":""},{"$f":"IF(B101=\"\",\"\",LOOKUP(B101,Spiele!B:B,Spiele!D:D))","v":""},{"$f":"IF(B101=\"\",\"\",LOOKUP(B101,Spiele!B:B,Spiele!E:E))","v":""},{"$f":"IF(B101=\"\",\"\",LOOKUP(B101,Spiele!B:B,Spiele!F:F))","v":""},"","","",null,null,-1,-1,1,0]
[null,null,{"$f":"IF(B102=\"\",\"\",LOOKUP(B102,Spiele!B:B,Spiele!C:C))","v":""},{"$f":"IF(B102=\"\",\"\",LOOKUP(B102,Spiele!B:B,Spiele!D:D))","v":""},{"$f":"IF(B102=\"\",\"\",LOOKUP(B102,Spiele!B:B,Spiele!E:E))","v":""},{"$f":"IF(B102=\"\",\"\",LOOKUP(B102,Spiele!B:B,Spiele!F:F))","v":""},"","","",null,null,-1,-1,1,0]
[null,null,{"$f":"IF(B103=\"\",\"\",LOOKUP(B103,Spiele!B:B,Spiele!C:C))","v":""},{"$f":"IF(B103=\"\",\"\",LOOKUP(B103,Spiele!B:B,Spiele!D:D))","v":""},{"$f":"IF(B103=\"\",\"\",LOOKUP(B103,Spiele!B:B,Spiele!E:E))","v":""},{"$f":"IF(B103=\"\",\"\",LOOKUP(B103,Spiele!B:B,Spiele!F:F))","v":""},"","","",null,null,-1,-1,1,0]
[null,null,{"$f":"IF(B104=\"\",\"\",LOOKUP(B104,Spiele!B:B,Spiele!C:C))","v":""},{"$f":"IF(B104=\"\",\"\",LOOKUP(B104,Spiele!B:B,Spiele!D:D))","v":""},{"$f":"IF(B104=\"\",\"\",LOOKUP(B104,Spiele!B:B,Spiele!E:E))","v":""},{"$f":"IF(B104=\"\",\"\",LOOKUP(B104,Spiele!B:B,Spiele!F:F))","v":""},"","","",null,null,-1,-1,1,0]
[null,null,{"$f":"IF(B105=\"\",\"\",LOOKUP(B105,Spiele!B:B,Spiele!C:C))","v":""},{"$f":"IF(B105=\"\",\"\",LOOKUP(B105,Spiele!B:B,Spiele!D:D))","v":""},{"$f":"IF(B105=\"\",\"\",LOOKUP(B105,Spiele!B:B,Spiele!E:E))","v":""},{"$f":"IF(B105=\"\",\"\",LOOKUP(B105,Spiele!B:B,Spiele!F:F))","v":""},"","","",null,null,-1,-1,1,0]
[null,null,{"$f":"IF(B106=\"\",\"\",LOOKUP(B106,Spiele!B:B,Spiele!C:C))","v":""},{"$f":"IF(B106=\"\",\"\",LOOKUP(B106,Spiele!B:B,Spiele!D:D))","v":""},{"$f":"IF(B106=\"\",\"\",LOOKUP(B106,Spiele!B:B,Spiele!E:E))","v":""},{"$f":"IF(B106=\"\",\"\",LOOKUP(B106,Spiele!B:B,Spiele!F:F))","v":""},"","","",null,null,-1,-1,1,0]
[null,null,{"$f":"IF(B107=\"\",\"\",LOOKUP(B107,Spiele!B:B,Spiele!C:C))","v":""},{"$f":"IF(B107=\"\",\"\",LOOKUP(B107,Spiele!B:B,Spiele!D:D))","v":""},{"$f":"IF(B107=\"\",\"\",LOOKUP(B107,Spiele!B:B,Spiele!E:E))","v":""},{"$f":"IF(B107=\"\",\"\",LOOKUP(B107,Spiele!B:B,Spiele!F:F))","v":""},"","","",null,null,-1,-1,1,0]
[null,null,{"$f":"IF(B108=\"\",\"\",LOOKUP(B108,Spiele!B:B,Spiele!C:C))","v":""},{"$f":"IF(B108=\"\",\"\",LOOKUP(B108,Spiele!B:B,Spiele!D:D))","v":""},{"$f":"IF(B108=\"\",\"\",LOOKUP(B108,Spiele!B:B,Spiele!E:E))","v":""},{"$f":"IF(B108=\"\",\"\",LOOKUP(B108,Spiele!B:B,Spiele!F:F))","v":""},"","","",null,null,-1,-1,1,0]
[null,null,{"$f":"IF(B109=\"\",\"\",LOOKUP(B109,Spiele!B:B,Spiele!C:C))","v":""},{"$f":"IF(B109=\"\",\"\",LOOKUP(B109,Spiele!B:B,Spiele!D:D))","v":""},{"$f":"IF(B109=\"\",\"\",LOOKUP(B109,Spiele!B:B,Spiele!E:E))","v":""},{"$f":"IF(B109=\"\",\"\",LOOKUP(B109,Spiele!B:B,Spiele!F:F))","v":""},"","","",null,null,-1,-1,1,0]
[null,null,{"$f":"IF(B110=\"\",\"\",LOOKUP(B110,Spiele!B:B,Spiele!C:C))","v":""},{"$f":"IF(B110=\"\",\"\",LOOKUP(B110,Spiele!B:B,Spiele!D:D))","v":""},{"$f":"IF(B110=\"\",\"\",LOOKUP(B110,Spiele!B:B,Spiele!E:E))","v":""},{"$f":"IF(B110=\"\",\"\",LOOKUP(B110,Spiele!B:B,Spiele!F:F))","v":""},"","","",null,null,-1,-1,1,0]
[null,null,{"$f":"IF(B111=\"\",\"\",LOOKUP(B111,Spiele!B:B,Spiele!C:C))","v":""},{"$f":"IF(B111=\"\",\"\",LOOKUP(B111,Spiele!B:B,Spiele!D:D))","v":""},{"$f":"IF(B111=\"\",\"\",LOOKUP(B111,Spiele!B:B,Spiele!E:E))","v":""},{"$f":"IF(B111=\"\",\"\",LOOKUP(B111,Spiele!B:B,Spiele!F:F))","v":""},"","","",null,null,-1,-1,1,0]
[null,null,{"$f":"IF(B112=\"\",\"\",LOOKUP(B112,Spiele!B:B,Spiele!C:C))","v":""},{"$f":"IF(B112=\"\",\"\",LOOKUP(B112,Spiele!B:B,Spiele!D:D))","v":""},{"$f":"IF(B112=\"\",\"\",LOOKUP(B112,Spiele!B:B,Spiele!E:E))","v":""},{"$f":"IF(B112=\"\",\"\",LOOKUP(B112,Spiele!B:B,Spiele!F:F))","v":""},"","","",null,null,-1,-1,1,0]
[null,null,{"$f":"IF(B113=\"\",\"\",LOOKUP(B113,Spiele!B:B,Spiele!C:C))","v":""},{"$f":"IF(B113=\"\",\"\",LOOKUP(B113,Spiele!B:B,Spiele!D:D))","v":""},{"$f":"IF(B113=\"\",\"\",LOOKUP(B113,Spiele!B:B,Spiele!E:E))","v":""},{"$f":"IF(B113=\"\",\"\",LOOKUP(B113,Spiele!B:B,Spiele!F:F))","v":""},"","","",null,null,-1,-1,1,0]
[null,null,{"$f":"IF(B114=\"\",\"\",LOOKUP(B114,Spiele!B:B,Spiele!C:C))","v":""},{"$f":"IF(B114=\"\",\"\",LOOKUP(B114,Spiele!B:B,Spiele!D:D))","v":""},{"$f":"IF(B114=\"\",\"\",LOOKUP(B114,Spiele!B:B,Spiele!E:E))","v":""},{"$f":"IF(B114=\"\",\"\",LOOKUP(B114,Spiele!B:B,Spiele!F:F))","v":""},"","","",null,null,-1,-1,1,0]
[null,null,{"$f":"IF(B115=\"\",\"\",LOOKUP(B115,Spiele!B:B,Spiele!C:C))","v":""},{"$f":"IF(B115=\"\",\"\",LOOKUP(B115,Spiele!B:B,Spiele!D:D))","v":""},{"$f":"IF(B115=\"\",\"\",LOOKUP(B115,Spiele!B:B,Spiele!E:E))","v":""},{"$f":"IF(B115=\"\",\"\",LOOKUP(B115,Spiele!B:B,Spiele!F:F))","v":""},"","","",null,null,-1,-1,1,0]
[null,null,{"$f":"IF(B116=\"\",\"\",LOOKUP(B116,Spiele!B:B,Spiele!C:C))","v":""},{"$f":"IF(B116=\"\",\"\",LOOKUP(B116,Spiele!B:B,Spiele!D:D))","v":""},{"$f":"IF(B116=\"\",\"\",LOOKUP(B116,Spiele!B:B,Spiele!E:E))","v":""},{"$f":"IF(B116=\"\",\"\",LOOKUP(B116,Spiele!B:B,Spiele!F:F))","v":""},"","","",null,null,-1,-1,1,0]
[null,null,{"$f":"IF(B117=\"\",\"\",LOOKUP(B117,Spiele!B:B,Spiele!C:C))","v":""},{"$f":"IF(B117=\"\",\"\",LOOKUP(B117,Spiele!B:B,Spiele!D:D))","v":""},{"$f":"IF(B117=\"\",\"\",LOOKUP(B117,Spiele!B:B,Spiele!E:E))","v":""},{"$f":"IF(B117=\"\",\"\",LOOKUP(B117,Spiele!B:B,Spiele!F:F))","v":""},"","","",null,null,-1,-1,1,0]
[null,null,{"$f":"IF(B118=\"\",\"\",LOOKUP(B118,Spiele!B:B,Spiele!C:C))","v":""},{"$f":"IF(B118=\"\",\"\",LOOKUP(B118,Spiele!B:B,Spiele!D:D))","v":""},{"$f":"IF(B118=\"\",\"\",LOOKUP(B118,Spiele!B:B,Spiele!E:E))","v":""},{"$f":"IF(B118=\"\",\"\",LOOKUP(B118,Spiele!B:B,Spiele!F:F))","v":""},"","","",null,null,-1,-1,1,0]
[null,null,{"$f":"IF(B119=\"\",\"\",LOOKUP(B119,Spiele!B:B,Spiele!C:C))","v":""},{"$f":"IF(B119=\"\",\"\",LOOKUP(B119,Spiele!B:B,Spiele!D:D))","v":""},{"$f":"IF(B119=\"\",\"\",LOOKUP(B119,Spiele!B:B,Spiele!E:E))","v":""},{"$f":"IF(B119=\"\",\"\",LOOKUP(B119,Spiele!B:B,Spiele!F:F))","v":""},"","","",null,null,-1,-1,1,0]
[null,null,{"$f":"IF(B120=\"\",\"\",LOOKUP(B120,Spiele!B:B,Spiele!C:C))","v":""},{"$f":"IF(B120=\"\",\"\",LOOKUP(B120,Spiele!B:B,Spiele!D:D))","v":""},{"$f":"IF(B120=\"\",\"\",LOOKUP(B120,Spiele!B:B,Spiele!E:E))","v":""},{"$f":"IF(B120=\"\",\"\",LOOKUP(B120,Spiele!B:B,Spiele!F:F))","v":""},"","","",null,null,-1,-1,1,0]
[null,null,{"$f":"IF(B121=\"\",\"\",LOOKUP(B121,Spiele!B:B,Spiele!C:C))","v":""},{"$f":"IF(B121=\"\",\"\",LOOKUP(B121,Spiele!B:B,Spiele!D:D))","v":""},{"$f":"IF(B121=\"\",\"\",LOOKUP(B121,Spiele!B:B,Spiele!E:E))","v":""},{"$f":"IF(B121=\"\",\"\",LOOKUP(B121,Spiele!B:B,Spiele!F:F))","v":""},"","","",null,null,-1,-1,1,0]
[null,null,{"$f":"IF(B122=\"\",\"\",LOOKUP(B122,Spiele!B:B,Spiele!C:C))","v":""},{"$f":"IF(B122=\"\",\"\",LOOKUP(B122,Spiele!B:B,Spiele!D:D))","v":""},{"$f":"IF(B122=\"\",\"\",LOOKUP(B122,Spiele!B:B,Spiele!E:E))","v":""},{"$f":"IF(B122=\"\",\"\",LOOKUP(B122,Spiele!B:B,Spiele!F:F))","v":""},"","","",null,null,-1,-1,1,0]
[null,null,{"$f":"IF(B123=\"\",\"\",LOOKUP(B123,Spiele!B:B,Spiele!C:C))","v":""},{"$f":"IF(B123=\"\",\"\",LOOKUP(B123,Spiele!B:B,Spiele!D:D))","v":""},{"$f":"IF(B123=\"\",\"\",LOOKUP(B123,Spiele!B:B,Spiele!E:E))","v":""},{"$f":"IF(B123=\"\",\"\",LOOKUP(B123,Spiele!B:B,Spiele!F:F))","v":""},"","","",null,null,-1,-1,1,0]
[null,null,{"$f":"IF(B124=\"\",\"\",LOOKUP(B124,Spiele!B:B,Spiele!C:C))","v":""},{"$f":"IF(B124=\"\",\"\",LOOKUP(B124,Spiele!B:B,Spiele!D:D))","v":""},{"$f":"IF(B124=\"\",\"\",LOOKUP(B124,Spiele!B:B,Spiele!E:E))","v":""},{"$f":"IF(B124=\"\",\"\",LOOKUP(B124,Spiele!B:B,Spiele!F:F))","v":""},"","","",null,null,-1,-1,1,0]
[null,null,{"$f":"IF(B125=\"\",\"\",LOOKUP(B125,Spiele!B:B,Spiele!C:C))","v":""},{"$f":"IF(B125=\"\",\"\",LOOKUP(B125,Spiele!B:B,Spiele!D:D))","v":""},{"$f":"IF(B125=\"\",\"\",LOOKUP(B125,Spiele!B:B,Spiele!E:E))","v":""},{"$f":"IF(B125=\"\",\"\",LOOKUP(B125,Spiele!B:B,Spiele!F:F))","v":""},"","","",null,null,-1,-1,1,0]
[null,null,{"$f":"IF(B126=\"\",\"\",LOOKUP(B126,Spiele!B:B,Spiele!C:C))","v":""},{"$f":"IF(B126=\"\",\"\",LOOKUP(B126,Spiele!B:B,Spiele!D:D))","v":""},{"$f":"IF(B126=\"\",\"\",LOOKUP(B126,Spiele!B:B,Spiele!E:E))","v":""},{"$f":"IF(B126=\"\",\"\",LOOKUP(B126,Spiele!B:B,Spiele!F:F))","v":""},"","","",null,null,-1,-1,1,0]
[null,null,{"$f":"IF(B127=\"\",\"\",LOOKUP(B127,Spiele!B:B,Spiele!C:C))","v":""},{"$f":"IF(B127=\"\",\"\",LOOKUP(B127,Spiele!B:B,Spiele!D:D))","v":""},{"$f":"IF(B127=\"\",\"\",LOOKUP(B127,Spiele!B:B,Spiele!E:E))","v":""},{"$f":"IF(B127=\"\",\"\",LOOKUP(B127,Spiele!B:B,Spiele!F:F))","v":""},"","","",null,null,-1,-1,1,0]
[null,null,{"$f":"IF(B128=\"\",\"\",LOOKUP(B128,Spiele!B:B,Spiele!C:C))","v":""},{"$f":"IF(B128=\"\",\"\",LOOKUP(B128,Spiele!B:B,Spiele!D:D))","v":""},{"$f":"IF(B128=\"\",\"\",LOOKUP(B128,Spiele!B:B,Spiele!E:E))","v":""},{"$f":"IF(B128=\"\",\"\",LOOKUP(B128,Spiele!B:B,Spiele!F:F))","v":""},"","","",null,null,-1,-1,1,0]
[null,null,{"$f":"IF(B129=\"\",\"\",LOOKUP(B129,Spiele!B:B,Spiele!C:C))","v":""},{"$f":"IF(B129=\"\",\"\",LOOKUP(B129,Spiele!B:B,Spiele!D:D))","v":""},{"$f":"IF(B129=\"\",\"\",LOOKUP(B129,Spiele!B:B,Spiele!E:E))","v":""},{"$f":"IF(B129=\"\",\"\",LOOKUP(B129,Spiele!B:B,Spiele!F:F))","v":""},"","","",null,null,-1,-1,1,0]
[null,null,{"$f":"IF(B130=\"\",\"\",LOOKUP(B130,Spiele!B:B,Spiele!C:C))","v":""},{"$f":"IF(B130=\"\",\"\",LOOKUP(B130,Spiele!B:B,Spiele!D:D))","v":""},{"$f":"IF(B130=\"\",\"\",LOOKUP(B130,Spiele!B:B,Spiele!E:E))","v":""},{"$f":"IF(B130=\"\",\"\",LOOKUP(B130,Spiele!B:B,Spiele!F:F))","v":""},"","","",null,null,-1,-1,1,0]
[null,null,{"$f":"IF(B131=\"\",\"\",LOOKUP(B131,Spiele!B:B,Spiele!C:C))","v":""},{"$f":"IF(B131=\"\",\"\",LOOKUP(B131,Spiele!B:B,Spiele!D:D))","v":""},{"$f":"IF(B131=\"\",\"\",LOOKUP(B131,Spiele!B:B,Spiele!E:E))","v":""},{"$f":"IF(B131=\"\",\"\",LOOKUP(B131,Spiele!B:B,Spiele!F:F))","v":""},"","","",null,null,-1,-1,1,0]
[null,null,{"$f":"IF(B132=\"\",\"\",LOOKUP(B132,Spiele!B:B,Spiele!C:C))","v":""},{"$f":"IF(B132=\"\",\"\",LOOKUP(B132,Spiele!B:B,Spiele!D:D))","v":""},{"$f":"IF(B132=\"\",\"\",LOOKUP(B132,Spiele!B:B,Spiele!E:E))","v":""},{"$f":"IF(B132=\"\",\"\",LOOKUP(B132,Spiele!B:B,Spiele!F:F))","v":""},"","","",null,null,-1,-1,1,0]
[null,null,{"$f":"IF(B133=\"\",\"\",LOOKUP(B133,Spiele!B:B,Spiele!C:C))","v":""},{"$f":"IF(B133=\"\",\"\",LOOKUP(B133,Spiele!B:B,Spiele!D:D))","v":""},{"$f":"IF(B133=\"\",\"\",LOOKUP(B133,Spiele!B:B,Spiele!E:E))","v":""},{"$f":"IF(B133=\"\",\"\",LOOKUP(B133,Spiele!B:B,Spiele!F:F))","v":""},"","","",null,null,-1,-1,1,0]
[null,null,{"$f":"IF(B134=\"\",\"\",LOOKUP(B134,Spiele!B:B,Spiele!C:C))","v":""},{"$f":"IF(B134=\"\",\"\",LOOKUP(B134,Spiele!B:B,Spiele!D:D))","v":""},{"$f":"IF(B134=\"\",\"\",LOOKUP(B134,Spiele!B:B,Spiele!E:E))","v":""},{"$f":"IF(B134=\"\",\"\",LOOKUP(B134,Spiele!B:B,Spiele!F:F))","v":""},"","","",null,null,-1,-1,1,0]
[null,null,{"$f":"IF(B135=\"\",\"\",LOOKUP(B135,Spiele!B:B,Spiele!C:C))","v":""},{"$f":"IF(B135=\"\",\"\",LOOKUP(B135,Spiele!B:B,Spiele!D:D))","v":""},{"$f":"IF(B135=\"\",\"\",LOOKUP(B135,Spiele!B:B,Spiele!E:E))","v":""},{"$f":"IF(B135=\"\",\"\",LOOKUP(B135,Spiele!B:B,Spiele!F:F))","v":""},"","","",null,null,-1,-1,1,0]
[null,null,{"$f":"IF(B136=\"\",\"\",LOOKUP(B136,Spiele!B:B,Spiele!C:C))","v":""},{"$f":"IF(B136=\"\",\"\",LOOKUP(B136,Spiele!B:B,Spiele!D:D))","v":""},{"$f":"IF(B136=\"\",\"\",LOOKUP(B136,Spiele!B:B,Spiele!E:E))","v":""},{"$f":"IF(B136=\"\",\"\",LOOKUP(B136,Spiele!B:B,Spiele!F:F))","v":""},{"$f":"IF(E136=\"\",\"\",IF(E136>F136,1,0))","v":""},{"$f":"IF(F136=\"\",\"\",IF(E136<F136,1,0))","v":""},{"$f":"IF(E136=\"\",\"\",IF(E136=F136,1,0))","v":""},null,null,{"$f":"IF(E136=\"\",-1,IF(J136>K136,1,-1))","v":-1},{"$f":"IF(F136=\"\",-1,IF(J136<K136,1,-1))","v":-1},1,{"$f":"IF(E136=\"\",0,IF(E136=J136,1,0)+IF(F136=K136,1,0)+IF(G136=L136,1,0)+IF(H136=M136,1,0)+IF(I136=N136,1,0))","v":0}]
[null,null,{"$f":"IF(B137=\"\",\"\",LOOKUP(B137,Spiele!B:B,Spiele!C:C))","v":""},{"$f":"IF(B137=\"\",\"\",LOOKUP(B137,Spiele!B:B,Spiele!D:D))","v":""},{"$f":"IF(B137=\"\",\"\",LOOKUP(B137,Spiele!B:B,Spiele!E:E))","v":""},{"$f":"IF(B137=\"\",\"\",LOOKUP(B137,Spiele!B:B,Spiele!F:F))","v":""},"","","",null,null,-1,-1,1,0]
[null,null,{"$f":"IF(B138=\"\",\"\",LOOKUP(B138,Spiele!B:B,Spiele!C:C))","v":""},{"$f":"IF(B138=\"\",\"\",LOOKUP(B138,Spiele!B:B,Spiele!D:D))","v":""},{"$f":"IF(B138=\"\",\"\",LOOKUP(B138,Spiele!B:B,Spiele!E:E))","v":""},{"$f":"IF(B138=\"\",\"\",LOOKUP(B138,Spiele!B:B,Spiele!F:F))","v":""},"","","",null,null,-1,-1,1,0]
[null,null,{"$f":"IF(B139=\"\",\"\",LOOKUP(B139,Spiele!B:B,Spiele!C:C))","v":""},{"$f":"IF(B139=\"\",\"\",LOOKUP(B139,Spiele!B:B,Spiele!D:D))","v":""},{"$f":"IF(B139=\"\",\"\",LOOKUP(B139,Spiele!B:B,Spiele!E:E))","v":""},{"$f":"IF(B139=\"\",\"\",LOOKUP(B139,Spiele!B:B,Spiele!F:F))","v":""},"","","",null,null,-1,-1,1,0]
[null,null,{"$f":"IF(B140=\"\",\"\",LOOKUP(B140,Spiele!B:B,Spiele!C:C))","v":""},{"$f":"IF(B140=\"\",\"\",LOOKUP(B140,Spiele!B:B,Spiele!D:D))","v":""},{"$f":"IF(B140=\"\",\"\",LOOKUP(B140,Spiele!B:B,Spiele!E:E))","v":""},{"$f":"IF(B140=\"\",\"\",LOOKUP(B140,Spiele!B:B,Spiele!F:F))","v":""},"","","",null,null,-1,-1,1,0]
[null,null,{"$f":"IF(B141=\"\",\"\",LOOKUP(B141,Spiele!B:B,Spiele!C:C))","v":""},{"$f":"IF(B141=\"\",\"\",LOOKUP(B141,Spiele!B:B,Spiele!D:D))","v":""},{"$f":"IF(B141=\"\",\"\",LOOKUP(B141,Spiele!B:B,Spiele!E:E))","v":""},{"$f":"IF(B141=\"\",\"\",LOOKUP(B141,Spiele!B:B,Spiele!F:F))","v":""},"","","",null,null,-1,-1,1,0]
[null,null,{"$f":"IF(B142=\"\",\"\",LOOKUP(B142,Spiele!B:B,Spiele!C:C))","v":""},{"$f":"IF(B142=\"\",\"\",LOOKUP(B142,Spiele!B:B,Spiele!D:D))","v":""},{"$f":"IF(B142=\"\",\"\",LOOKUP(B142,Spiele!B:B,Spiele!E:E))","v":""},{"$f":"IF(B142=\"\",\"\",LOOKUP(B142,Spiele!B:B,Spiele!F:F))","v":""},"","","",null,null,-1,-1,1,0]
[null,null,{"$f":"IF(B143=\"\",\"\",LOOKUP(B143,Spiele!B:B,Spiele!C:C))","v":""},{"$f":"IF(B143=\"\",\"\",LOOKUP(B143,Spiele!B:B,Spiele!D:D))","v":""},{"$f":"IF(B143=\"\",\"\",LOOKUP(B143,Spiele!B:B,Spiele!E:E))","v":""},{"$f":"IF(B143=\"\",\"\",LOOKUP(B143,Spiele!B:B,Spiele!F:F))","v":""},"","","",null,null,-1,-1,1,0]
[null,null,{"$f":"IF(B144=\"\",\"\",LOOKUP(B144,Spiele!B:B,Spiele!C:C))","v":""},{"$f":"IF(B144=\"\",\"\",LOOKUP(B144,Spiele!B:B,Spiele!D:D))","v":""},{"$f":"IF(B144=\"\",\"\",LOOKUP(B144,Spiele!B:B,Spiele!E:E))","v":""},{"$f":"IF(B144=\"\",\"\",LOOKUP(B144,Spiele!B:B,Spiele!F:F))","v":""},"","","",null,null,-1,-1,{"$f":"IF(E144=\"-\",-1,IF(J144=K144,1,-1))","v":1},0]
[null,null,{"$f":"IF(B145=\"\",\"\",LOOKUP(B145,Spiele!B:B,Spiele!C:C))","v":""},{"$f":"IF(B145=\"\",\"\",LOOKUP(B145,Spiele!B:B,Spiele!D:D))","v":""},{"$f":"IF(B145=\"\",\"\",LOOKUP(B145,Spiele!B:B,Spiele!E:E))","v":""},{"$f":"IF(B145=\"\",\"\",LOOKUP(B145,Spiele!B:B,Spiele!F:F))","v":""},"","","",null,null,-1,-1,1,0]
[null,null,{"$f":"IF(B146=\"\",\"\",LOOKUP(B146,Spiele!B:B,Spiele!C:C))","v":""},{"$f":"IF(B146=\"\",\"\",LOOKUP(B146,Spiele!B:B,Spiele!D:D))","v":""},{"$f":"IF(B146=\"\",\"\",LOOKUP(B146,Spiele!B:B,Spiele!E:E))","v":""},{"$f":"IF(B146=\"\",\"\",LOOKUP(B146,Spiele!B:B,Spiele!F:F))","v":""},"","","",null,null,-1,-1,1,0]
[null,null,{"$f":"IF(B147=\"\",\"\",LOOKUP(B147,Spiele!B:B,Spiele!C:C))","v":""},{"$f":"IF(B147=\"\",\"\",LOOKUP(B147,Spiele!B:B,Spiele!D:D))","v":""},{"$f":"IF(B147=\"\",\"\",LOOKUP(B147,Spiele!B:B,Spiele!E:E))","v":""},{"$f":"IF(B147=\"\",\"\",LOOKUP(B147,Spiele!B:B,Spiele!F:F))","v":""},"","","",null,null,-1,-1,1,0]
[null,null,{"$f":"IF(B148=\"\",\"\",LOOKUP(B148,Spiele!B:B,Spiele!C:C))","v":""},{"$f":"IF(B148=\"\",\"\",LOOKUP(B148,Spiele!B:B,Spiele!D:D))","v":""},{"$f":"IF(B148=\"\",\"\",LOOKUP(B148,Spiele!B:B,Spiele!E:E))","v":""},{"$f":"IF(B148=\"\",\"\",LOOKUP(B148,Spiele!B:B,Spiele!F:F))","v":""},"","","",null,null,-1,-1,1,0]
[null,null,{"$f":"IF(B149=\"\",\"\",LOOKUP(B149,Spiele!B:B,Spiele!C:C))","v":""},{"$f":"IF(B149=\"\",\"\",LOOKUP(B149,Spiele!B:B,Spiele!D:D))","v":""},{"$f":"IF(B149=\"\",\"\",LOOKUP(B149,Spiele!B:B,Spiele!E:E))","v":""},{"$f":"IF(B149=\"\",\"\",LOOKUP(B149,Spiele!B:B,Spiele!F:F))","v":""},"","","",null,null,-1,-1,1,0]
[null,null,{"$f":"IF(B150=\"\",\"\",LOOKUP(B150,Spiele!B:B,Spiele!C:C))","v":""},{"$f":"IF(B150=\"\",\"\",LOOKUP(B150,Spiele!B:B,Spiele!D:D))","v":""},{"$f":"IF(B150=\"\",\"\",LOOKUP(B150,Spiele!B:B,Spiele!E:E))","v":""},{"$f":"IF(B150=\"\",\"\",LOOKUP(B150,Spiele!B:B,Spiele!F:F))","v":""},"","","",null,null,-1,-1,1,0]
[null,null,{"$f":"IF(B151=\"\",\"\",LOOKUP(B151,Spiele!B:B,Spiele!C:C))","v":""},{"$f":"IF(B151=\"\",\"\",LOOKUP(B151,Spiele!B:B,Spiele!D:D))","v":""},{"$f":"IF(B151=\"\",\"\",LOOKUP(B151,Spiele!B:B,Spiele!E:E))","v":""},{"$f":"IF(B151=\"\",\"\",LOOKUP(B151,Spiele!B:B,Spiele!F:F))","v":""},"","","",null,null,-1,-1,1,0]
[null,null,{"$f":"IF(B152=\"\",\"\",LOOKUP(B152,Spiele!B:B,Spiele!C:C))","v":""},{"$f":"IF(B152=\"\",\"\",LOOKUP(B152,Spiele!B:B,Spiele!D:D))","v":""},{"$f":"IF(B152=\"\",\"\",LOOKUP(B152,Spiele!B:B,Spiele!E:E))","v":""},{"$f":"IF(B152=\"\",\"\",LOOKUP(B152,Spiele!B:B,Spiele!F:F))","v":""},"","","",null,null,-1,-1,1,0]
[null,null,{"$f":"IF(B153=\"\",\"\",LOOKUP(B153,Spiele!B:B,Spiele!C:C))","v":""},{"$f":"IF(B153=\"\",\"\",LOOKUP(B153,Spiele!B:B,Spiele!D:D))","v":""},{"$f":"IF(B153=\"\",\"\",LOOKUP(B153,Spiele!B:B,Spiele!E:E))","v":""},{"$f":"IF(B153=\"\",\"\",LOOKUP(B153,Spiele!B:B,Spiele!F:F))","v":""},"","","",null,null,-1,-1,1,0]
[null,null,{"$f":"IF(B154=\"\",\"\",LOOKUP(B154,Spiele!B:B,Spiele!C:C))","v":""},{"$f":"IF(B154=\"\",\"\",LOOKUP(B154,Spiele!B:B,Spiele!D:D))","v":""},{"$f":"IF(B154=\"\",\"\",LOOKUP(B154,Spiele!B:B,Spiele!E:E))","v":""},{"$f":"IF(B154=\"\",\"\",LOOKUP(B154,Spiele!B:B,Spiele!F:F))","v":""},"","","",null,null,-1,-1,1,0]
[null,null,{"$f":"IF(B155=\"\",\"\",LOOKUP(B155,Spiele!B:B,Spiele!C:C))","v":""},{"$f":"IF(B155=\"\",\"\",LOOKUP(B155,Spiele!B:B,Spiele!D:D))","v":""},{"$f":"IF(B155=\"\",\"\",LOOKUP(B155,Spiele!B:B,Spiele!E:E))","v":""},{"$f":"IF(B155=\"\",\"\",LOOKUP(B155,Spiele!B:B,Spiele!F:F))","v":""},"","","",null,null,-1,-1,1,0]
[null,null,{"$f":"IF(B156=\"\",\"\",LOOKUP(B156,Spiele!B:B,Spiele!C:C))","v":""},{"$f":"IF(B156=\"\",\"\",LOOKUP(B156,Spiele!B:B,Spiele!D:D))","v":""},{"$f":"IF(B156=\"\",\"\",LOOKUP(B156,Spiele!B:B,Spiele!E:E))","v":""},{"$f":"IF(B156=\"\",\"\",LOOKUP(B156,Spiele!B:B,Spiele!F:F))","v":""},"","","",null,null,-1,-1,1,0]
[null,null,{"$f":"IF(B157=\"\",\"\",LOOKUP(B157,Spiele!B:B,Spiele!C:C))","v":""},{"$f":"IF(B157=\"\",\"\",LOOKUP(B157,Spiele!B:B,Spiele!D:D))","v":""},{"$f":"IF(B157=\"\",\"\",LOOKUP(B157,Spiele!B:B,Spiele!E:E))","v":""},{"$f":"IF(B157=\"\",\"\",LOOKUP(B157,Spiele!B:B,Spiele!F:F))","v":""},"","","",null,null,-1,-1,1,0]
[null,null,{"$f":"IF(B158=\"\",\"\",LOOKUP(B158,Spiele!B:B,Spiele!C:C))","v":""},{"$f":"IF(B158=\"\",\"\",LOOKUP(B158,Spiele!B:B,Spiele!D:D))","v":""},{"$f":"IF(B158=\"\",\"\",LOOKUP(B158,Spiele!B:B,Spiele!E:E))","v":""},{"$f":"IF(B158=\"\",\"\",LOOKUP(B158,Spiele!B:B,Spiele!F:F))","v":""},"","","",null,null,-1,-1,1,0]
[null,null,{"$f":"IF(B159=\"\",\"\",LOOKUP(B159,Spiele!B:B,Spiele!C:C))","v":""},{"$f":"IF(B159=\"\",\"\",LOOKUP(B159,Spiele!B:B,Spiele!D:D))","v":""},{"$f":"IF(B159=\"\",\"\",LOOKUP(B159,Spiele!B:B,Spiele!E:E))","v":""},{"$f":"IF(B159=\"\",\"\",LOOKUP(B159,Spiele!B:B,Spiele!F:F))","v":""},"","","",null,null,-1,-1,1,0]
[null,null,{"$f":"IF(B160=\"\",\"\",LOOKUP(B160,Spiele!B:B,Spiele!C:C))","v":""},{"$f":"IF(B160=\"\",\"\",LOOKUP(B160,Spiele!B:B,Spiele!D:D))","v":""},{"$f":"IF(B160=\"\",\"\",LOOKUP(B160,Spiele!B:B,Spiele!E:E))","v":""},{"$f":"IF(B160=\"\",\"\",LOOKUP(B160,Spiele!B:B,Spiele!F:F))","v":""},"","","",null,null,-1,-1,1,0]
[null,null,{"$f":"IF(B161=\"\",\"\",LOOKUP(B161,Spiele!B:B,Spiele!C:C))","v":""},{"$f":"IF(B161=\"\",\"\",LOOKUP(B161,Spiele!B:B,Spiele!D:D))","v":""},{"$f":"IF(B161=\"\",\"\",LOOKUP(B161,Spiele!B:B,Spiele!E:E))","v":""},{"$f":"IF(B161=\"\",\"\",LOOKUP(B161,Spiele!B:B,Spiele!F:F))","v":""},"","","",null,null,-1,-1,1,0]
[null,null,{"$f":"IF(B162=\"\",\"\",LOOKUP(B162,Spiele!B:B,Spiele!C:C))","v":""},{"$f":"IF(B162=\"\",\"\",LOOKUP(B162,Spiele!B:B,Spiele!D:D))","v":""},{"$f":"IF(B162=\"\",\"\",LOOKUP(B162,Spiele!B:B,Spiele!E:E))","v":""},{"$f":"IF(B162=\"\",\"\",LOOKUP(B162,Spiele!B:B,Spiele!F:F))","v":""},"","","",null,null,-1,-1,1,0]
[null,null,{"$f":"IF(B163=\"\",\"\",LOOKUP(B163,Spiele!B:B,Spiele!C:C))","v":""},{"$f":"IF(B163=\"\",\"\",LOOKUP(B163,Spiele!B:B,Spiele!D:D))","v":""},{"$f":"IF(B163=\"\",\"\",LOOKUP(B163,Spiele!B:B,Spiele!E:E))","v":""},{"$f":"IF(B163=\"\",\"\",LOOKUP(B163,Spiele!B:B,Spiele!F:F))","v":""},"","","",null,null,-1,-1,1,0]
[null,null,{"$f":"IF(B164=\"\",\"\",LOOKUP(B164,Spiele!B:B,Spiele!C:C))","v":""},{"$f":"IF(B164=\"\",\"\",LOOKUP(B164,Spiele!B:B,Spiele!D:D))","v":""},{"$f":"IF(B164=\"\",\"\",LOOKUP(B164,Spiele!B:B,Spiele!E:E))","v":""},{"$f":"IF(B164=\"\",\"\",LOOKUP(B164,Spiele!B:B,Spiele!F:F))","v":""},"","","",null,null,-1,-1,1,0]
[null,null,{"$f":"IF(B165=\"\",\"\",LOOKUP(B165,Spiele!B:B,Spiele!C:C))","v":""},{"$f":"IF(B165=\"\",\"\",LOOKUP(B165,Spiele!B:B,Spiele!D:D))","v":""},{"$f":"IF(B165=\"\",\"\",LOOKUP(B165,Spiele!B:B,Spiele!E:E))","v":""},{"$f":"IF(B165=\"\",\"\",LOOKUP(B165,Spiele!B:B,Spiele!F:F))","v":""},"","","",null,null,-1,-1,1,0]
[null,null,{"$f":"IF(B166=\"\",\"\",LOOKUP(B166,Spiele!B:B,Spiele!C:C))","v":""},{"$f":"IF(B166=\"\",\"\",LOOKUP(B166,Spiele!B:B,Spiele!D:D))","v":""},{"$f":"IF(B166=\"\",\"\",LOOKUP(B166,Spiele!B:B,Spiele!E:E))","v":""},{"$f":"IF(B166=\"\",\"\",LOOKUP(B166,Spiele!B:B,Spiele!F:F))","v":""},"","","",null,null,-1,-1,1,0]
[null,null,{"$f":"IF(B167=\"\",\"\",LOOKUP(B167,Spiele!B:B,Spiele!C:C))","v":""},{"$f":"IF(B167=\"\",\"\",LOOKUP(B167,Spiele!B:B,Spiele!D:D))","v":""},{"$f":"IF(B167=\"\",\"\",LOOKUP(B167,Spiele!B:B,Spiele!E:E))","v":""},{"$f":"IF(B167=\"\",\"\",LOOKUP(B167,Spiele!B:B,Spiele!F:F))","v":""},"","","",null,null,-1,-1,1,0]
[null,null,{"$f":"IF(B168=\"\",\"\",LOOKUP(B168,Spiele!B:B,Spiele!C:C))","v":""},{"$f":"IF(B168=\"\",\"\",LOOKUP(B168,Spiele!B:B,Spiele!D:D))","v":""},{"$f":"IF(B168=\"\",\"\",LOOKUP(B168,Spiele!B:B,Spiele!E:E))","v":""},{"$f":"IF(B168=\"\",\"\",LOOKUP(B168,Spiele!B:B,Spiele!F:F))","v":""},"","","",null,null,-1,-1,1,0]
[null,null,{"$f":"IF(B169=\"\",\"\",LOOKUP(B169,Spiele!B:B,Spiele!C:C))","v":""},{"$f":"IF(B169=\"\",\"\",LOOKUP(B169,Spiele!B:B,Spiele!D:D))","v":""},{"$f":"IF(B169=\"\",\"\",LOOKUP(B169,Spiele!B:B,Spiele!E:E))","v":""},{"$f":"IF(B169=\"\",\"\",LOOKUP(B169,Spiele!B:B,Spiele!F:F))","v":""},"","","",null,null,-1,-1,1,0]
[null,null,{"$f":"IF(B170=\"\",\"\",LOOKUP(B170,Spiele!B:B,Spiele!C:C))","v":""},{"$f":"IF(B170=\"\",\"\",LOOKUP(B170,Spiele!B:B,Spiele!D:D))","v":""},{"$f":"IF(B170=\"\",\"\",LOOKUP(B170,Spiele!B:B,Spiele!E:E))","v":""},{"$f":"IF(B170=\"\",\"\",LOOKUP(B170,Spiele!B:B,Spiele!F:F))","v":""},"","","",null,null,-1,-1,1,0]
[null,null,{"$f":"IF(B171=\"\",\"\",LOOKUP(B171,Spiele!B:B,Spiele!C:C))","v":""},{"$f":"IF(B171=\"\",\"\",LOOKUP(B171,Spiele!B:B,Spiele!D:D))","v":""},{"$f":"IF(B171=\"\",\"\",LOOKUP(B171,Spiele!B:B,Spiele!E:E))","v":""},{"$f":"IF(B171=\"\",\"\",LOOKUP(B171,Spiele!B:B,Spiele!F:F))","v":""},"","","",null,null,-1,-1,1,0]
[null,null,{"$f":"IF(B172=\"\",\"\",LOOKUP(B172,Spiele!B:B,Spiele!C:C))","v":""},{"$f":"IF(B172=\"\",\"\",LOOKUP(B172,Spiele!B:B,Spiele!D:D))","v":""},{"$f":"IF(B172=\"\",\"\",LOOKUP(B172,Spiele!B:B,Spiele!E:E))","v":""},{"$f":"IF(B172=\"\",\"\",LOOKUP(B172,Spiele!B:B,Spiele!F:F))","v":""},"","","",null,null,-1,-1,1,0]
[null,null,{"$f":"IF(B173=\"\",\"\",LOOKUP(B173,Spiele!B:B,Spiele!C:C))","v":""},{"$f":"IF(B173=\"\",\"\",LOOKUP(B173,Spiele!B:B,Spiele!D:D))","v":""},{"$f":"IF(B173=\"\",\"\",LOOKUP(B173,Spiele!B:B,Spiele!E:E))","v":""},{"$f":"IF(B173=\"\",\"\",LOOKUP(B173,Spiele!B:B,Spiele!F:F))","v":""},"","","",null,null,-1,-1,1,0]
[null,null,{"$f":"IF(B174=\"\",\"\",LOOKUP(B174,Spiele!B:B,Spiele!C:C))","v":""},{"$f":"IF(B174=\"\",\"\",LOOKUP(B174,Spiele!B:B,Spiele!D:D))","v":""},{"$f":"IF(B174=\"\",\"\",LOOKUP(B174,Spiele!B:B,Spiele!E:E))","v":""},{"$f":"IF(B174=\"\",\"\",LOOKUP(B174,Spiele!B:B,Spiele!F:F))","v":""},"","","",null,null,-1,-1,1,0]
[null,null,{"$f":"IF(B175=\"\",\"\",LOOKUP(B175,Spiele!B:B,Spiele!C:C))","v":""},{"$f":"IF(B175=\"\",\"\",LOOKUP(B175,Spiele!B:B,Spiele!D:D))","v":""},{"$f":"IF(B175=\"\",\"\",LOOKUP(B175,Spiele!B:B,Spiele!E:E))","v":""},{"$f":"IF(B175=\"\",\"\",LOOKUP(B175,Spiele!B:B,Spiele!F:F))","v":""},"","","",null,null,-1,-1,1,0]
[null,null,{"$f":"IF(B176=\"\",\"\",LOOKUP(B176,Spiele!B:B,Spiele!C:C))","v":""},{"$f":"IF(B176=\"\",\"\",LOOKUP(B176,Spiele!B:B,Spiele!D:D))","v":""},{"$f":"IF(B176=\"\",\"\",LOOKUP(B176,Spiele!B:B,Spiele!E:E))","v":""},{"$f":"IF(B176=\"\",\"\",LOOKUP(B176,Spiele!B:B,Spiele!F:F))","v":""},"","","",null,null,-1,-1,1,0]
[null,null,{"$f":"IF(B177=\"\",\"\",LOOKUP(B177,Spiele!B:B,Spiele!C:C))","v":""},{"$f":"IF(B177=\"\",\"\",LOOKUP(B177,Spiele!B:B,Spiele!D:D))","v":""},{"$f":"IF(B177=\"\",\"\",LOOKUP(B177,Spiele!B:B,Spiele!E:E))","v":""},{"$f":"IF(B177=\"\",\"\",LOOKUP(B177,Spiele!B:B,Spiele!F:F))","v":""},"","","",null,null,-1,-1,1,0]
[null,null,{"$f":"IF(B178=\"\",\"\",LOOKUP(B178,Spiele!B:B,Spiele!C:C))","v":""},{"$f":"IF(B178=\"\",\"\",LOOKUP(B178,Spiele!B:B,Spiele!D:D))","v":""},{"$f":"IF(B178=\"\",\"\",LOOKUP(B178,Spiele!B:B,Spiele!E:E))","v":""},{"$f":"IF(B178=\"\",\"\",LOOKUP(B178,Spiele!B:B,Spiele!F:F))","v":""},"","","",null,null,-1,-1,1,0]
[null,null,{"$f":"IF(B179=\"\",\"\",LOOKUP(B179,Spiele!B:B,Spiele!C:C))","v":""},{"$f":"IF(B179=\"\",\"\",LOOKUP(B179,Spiele!B:B,Spiele!D:D))","v":""},{"$f":"IF(B179=\"\",\"\",LOOKUP(B179,Spiele!B:B,Spiele!E:E))","v":""},{"$f":"IF(B179=\"\",\"\",LOOKUP(B179,Spiele!B:B,Spiele!F:F))","v":""},"","","",null,null,-1,-1,1,0]
[null,null,{"$f":"IF(B180=\"\",\"\",LOOKUP(B180,Spiele!B:B,Spiele!C:C))","v":""},{"$f":"IF(B180=\"\",\"\",LOOKUP(B180,Spiele!B:B,Spiele!D:D))","v":""},{"$f":"IF(B180=\"\",\"\",LOOKUP(B180,Spiele!B:B,Spiele!E:E))","v":""},{"$f":"IF(B180=\"\",\"\",LOOKUP(B180,Spiele!B:B,Spiele!F:F))","v":""},"","","",null,null,-1,-1,1,0]
[null,null,{"$f":"IF(B181=\"\",\"\",LOOKUP(B181,Spiele!B:B,Spiele!C:C))","v":""},{"$f":"IF(B181=\"\",\"\",LOOKUP(B181,Spiele!B:B,Spiele!D:D))","v":""},{"$f":"IF(B181=\"\",\"\",LOOKUP(B181,Spiele!B:B,Spiele!E:E))","v":""},{"$f":"IF(B181=\"\",\"\",LOOKUP(B181,Spiele!B:B,Spiele!F:F))","v":""},"","","",null,null,-1,-1,1,0]
[null,null,{"$f":"IF(B182=\"\",\"\",LOOKUP(B182,Spiele!B:B,Spiele!C:C))","v":""},{"$f":"IF(B182=\"\",\"\",LOOKUP(B182,Spiele!B:B,Spiele!D:D))","v":""},{"$f":"IF(B182=\"\",\"\",LOOKUP(B182,Spiele!B:B,Spiele!E:E))","v":""},{"$f":"IF(B182=\"\",\"\",LOOKUP(B182,Spiele!B:B,Spiele!F:F))","v":""},"","","",null,null,-1,-1,1,0]
[null,null,{"$f":"IF(B183=\"\",\"\",LOOKUP(B183,Spiele!B:B,Spiele!C:C))","v":""},{"$f":"IF(B183=\"\",\"\",LOOKUP(B183,Spiele!B:B,Spiele!D:D))","v":""},{"$f":"IF(B183=\"\",\"\",LOOKUP(B183,Spiele!B:B,Spiele!E:E))","v":""},{"$f":"IF(B183=\"\",\"\",LOOKUP(B183,Spiele!B:B,Spiele!F:F))","v":""},"","","",null,null,-1,-1,1,0]
[null,null,{"$f":"IF(B184=\"\",\"\",LOOKUP(B184,Spiele!B:B,Spiele!C:C))","v":""},{"$f":"IF(B184=\"\",\"\",LOOKUP(B184,Spiele!B:B,Spiele!D:D))","v":""},{"$f":"IF(B184=\"\",\"\",LOOKUP(B184,Spiele!B:B,Spiele!E:E))","v":""},{"$f":"IF(B184=\"\",\"\",LOOKUP(B184,Spiele!B:B,Spiele!F:F))","v":""},"","","",null,null,-1,-1,1,0]
[null,null,{"$f":"IF(B185=\"\",\"\",LOOKUP(B185,Spiele!B:B,Spiele!C:C))","v":""},{"$f":"IF(B185=\"\",\"\",LOOKUP(B185,Spiele!B:B,Spiele!D:D))","v":""},{"$f":"IF(B185=\"\",\"\",LOOKUP(B185,Spiele!B:B,Spiele!E:E))","v":""},{"$f":"IF(B185=\"\",\"\",LOOKUP(B185,Spiele!B:B,Spiele!F:F))","v":""},"","","",null,null,-1,-1,1,0]
[null,null,{"$f":"IF(B186=\"\",\"\",LOOKUP(B186,Spiele!B:B,Spiele!C:C))","v":""},{"$f":"IF(B186=\"\",\"\",LOOKUP(B186,Spiele!B:B,Spiele!D:D))","v":""},{"$f":"IF(B186=\"\",\"\",LOOKUP(B186,Spiele!B:B,Spiele!E:E))","v":""},{"$f":"IF(B186=\"\",\"\",LOOKUP(B186,Spiele!B:B,Spiele!F:F))","v":""},"","","",null,null,-1,-1,1,0]
[null,null,{"$f":"IF(B187=\"\",\"\",LOOKUP(B187,Spiele!B:B,Spiele!C:C))","v":""},{"$f":"IF(B187=\"\",\"\",LOOKUP(B187,Spiele!B:B,Spiele!D:D))","v":""},{"$f":"IF(B187=\"\",\"\",LOOKUP(B187,Spiele!B:B,Spiele!E:E))","v":""},{"$f":"IF(B187=\"\",\"\",LOOKUP(B187,Spiele!B:B,Spiele!F:F))","v":""},"","","",null,null,-1,-1,1,0]
[null,null,{"$f":"IF(B188=\"\",\"\",LOOKUP(B188,Spiele!B:B,Spiele!C:C))","v":""},{"$f":"IF(B188=\"\",\"\",LOOKUP(B188,Spiele!B:B,Spiele!D:D))","v":""},{"$f":"IF(B188=\"\",\"\",LOOKUP(B188,Spiele!B:B,Spiele!E:E))","v":""},{"$f":"IF(B188=\"\",\"\",LOOKUP(B188,Spiele!B:B,Spiele!F:F))","v":""},"","","",null,null,-1,-1,1,0]
[null,null,{"$f":"IF(B189=\"\",\"\",LOOKUP(B189,Spiele!B:B,Spiele!C:C))","v":""},{"$f":"IF(B189=\"\",\"\",LOOKUP(B189,Spiele!B:B,Spiele!D:D))","v":""},{"$f":"IF(B189=\"\",\"\",LOOKUP(B189,Spiele!B:B,Spiele!E:E))","v":""},{"$f":"IF(B189=\"\",\"\",LOOKUP(B189,Spiele!B:B,Spiele!F:F))","v":""},"","","",null,null,-1,-1,1,0]
[null,null,{"$f":"IF(B190=\"\",\"\",LOOKUP(B190,Spiele!B:B,Spiele!C:C))","v":""},{"$f":"IF(B190=\"\",\"\",LOOKUP(B190,Spiele!B:B,Spiele!D:D))","v":""},{"$f":"IF(B190=\"\",\"\",LOOKUP(B190,Spiele!B:B,Spiele!E:E))","v":""},{"$f":"IF(B190=\"\",\"\",LOOKUP(B190,Spiele!B:B,Spiele!F:F))","v":""},"","","",null,null,-1,-1,1,0]
[null,null,{"$f":"IF(B191=\"\",\"\",LOOKUP(B191,Spiele!B:B,Spiele!C:C))","v":""},{"$f":"IF(B191=\"\",\"\",LOOKUP(B191,Spiele!B:B,Spiele!D:D))","v":""},{"$f":"IF(B191=\"\",\"\",LOOKUP(B191,Spiele!B:B,Spiele!E:E))","v":""},{"$f":"IF(B191=\"\",\"\",LOOKUP(B191,Spiele!B:B,Spiele!F:F))","v":""},"","","",null,null,-1,-1,1,0]
[null,null,{"$f":"IF(B192=\"\",\"\",LOOKUP(B192,Spiele!B:B,Spiele!C:C))","v":""},{"$f":"IF(B192=\"\",\"\",LOOKUP(B192,Spiele!B:B,Spiele!D:D))","v":""},{"$f":"IF(B192=\"\",\"\",LOOKUP(B192,Spiele!B:B,Spiele!E:E))","v":""},{"$f":"IF(B192=\"\",\"\",LOOKUP(B192,Spiele!B:B,Spiele!F:F))","v":""},"","","",null,null,-1,-1,1,0]
[null,null,{"$f":"IF(B193=\"\",\"\",LOOKUP(B193,Spiele!B:B,Spiele!C:C))","v":""},{"$f":"IF(B193=\"\",\"\",LOOKUP(B193,Spiele!B:B,Spiele!D:D))","v":""},{"$f":"IF(B193=\"\",\"\",LOOKUP(B193,Spiele!B:B,Spiele!E:E))","v":""},{"$f":"IF(B193=\"\",\"\",LOOKUP(B193,Spiele!B:B,Spiele!F:F))","v":""},"","","",null,null,-1,-1,1,0]
[null,null,{"$f":"IF(B194=\"\",\"\",LOOKUP(B194,Spiele!B:B,Spiele!C:C))","v":""},{"$f":"IF(B194=\"\",\"\",LOOKUP(B194,Spiele!B:B,Spiele!D:D))","v":""},{"$f":"IF(B194=\"\",\"\",LOOKUP(B194,Spiele!B:B,Spiele!E:E))","v":""},{"$f":"IF(B194=\"\",\"\",LOOKUP(B194,Spiele!B:B,Spiele!F:F))","v":""},"","","",null,null,-1,-1,1,0]
[null,null,{"$f":"IF(B195=\"\",\"\",LOOKUP(B195,Spiele!B:B,Spiele!C:C))","v":""},{"$f":"IF(B195=\"\",\"\",LOOKUP(B195,Spiele!B:B,Spiele!D:D))","v":""},{"$f":"IF(B195=\"\",\"\",LOOKUP(B195,Spiele!B:B,Spiele!E:E))","v":""},{"$f":"IF(B195=\"\",\"\",LOOKUP(B195,Spiele!B:B,Spiele!F:F))","v":""},"","","",null,null,-1,-1,1,0]
[null,null,{"$f":"IF(B196=\"\",\"\",LOOKUP(B196,Spiele!B:B,Spiele!C:C))","v":""},{"$f":"IF(B196=\"\",\"\",LOOKUP(B196,Spiele!B:B,Spiele!D:D))","v":""},{"$f":"IF(B196=\"\",\"\",LOOKUP(B196,Spiele!B:B,Spiele!E:E))","v":""},{"$f":"IF(B196=\"\",\"\",LOOKUP(B196,Spiele!B:B,Spiele!F:F))","v":""},"","","",null,null,-1,-1,1,0]
[null,null,{"$f":"IF(B197=\"\",\"\",LOOKUP(B197,Spiele!B:B,Spiele!C:C))","v":""},{"$f":"IF(B197=\"\",\"\",LOOKUP(B197,Spiele!B:B,Spiele!D:D))","v":""},{"$f":"IF(B197=\"\",\"\",LOOKUP(B197,Spiele!B:B,Spiele!E:E))","v":""},{"$f":"IF(B197=\"\",\"\",LOOKUP(B197,Spiele!B:B,Spiele!F:F))","v":""},"","","",null,null,-1,-1,1,0]
[null,null,{"$f":"IF(B198=\"\",\"\",LOOKUP(B198,Spiele!B:B,Spiele!C:C))","v":""},{"$f":"IF(B198=\"\",\"\",LOOKUP(B198,Spiele!B:B,Spiele!D:D))","v":""},{"$f":"IF(B198=\"\",\"\",LOOKUP(B198,Spiele!B:B,Spiele!E:E))","v":""},{"$f":"IF(B198=\"\",\"\",LOOKUP(B198,Spiele!B:B,Spiele!F:F))","v":""},"","","",null,null,-1,-1,1,0]
[null,null,{"$f":"IF(B199=\"\",\"\",LOOKUP(B199,Spiele!B:B,Spiele!C:C))","v":""},{"$f":"IF(B199=\"\",\"\",LOOKUP(B199,Spiele!B:B,Spiele!D:D))","v":""},{"$f":"IF(B199=\"\",\"\",LOOKUP(B199,Spiele!B:B,Spiele!E:E))","v":""},{"$f":"IF(B199=\"\",\"\",LOOKUP(B199,Spiele!B:B,Spiele!F:F))","v":""},"","","",null,null,-1,-1,1,0]
[null,null,{"$f":"IF(B200=\"\",\"\",LOOKUP(B200,Spiele!B:B,Spiele!C:C))","v":""},{"$f":"IF(B200=\"\",\"\",LOOKUP(B200,Spiele!B:B,Spiele!D:D))","v":""},{"$f":"IF(B200=\"\",\"\",LOOKUP(B200,Spiele!B:B,Spiele!E:E))","v":""},{"$f":"IF(B200=\"\",\"\",LOOKUP(B200,Spiele!B:B,Spiele!F:F))","v":""},{"$f":"IF(E200=\"\",\"\",IF(E200>F200,1,0))","v":""},{"$f":"IF(F200=\"\",\"\",IF(E200<F200,1,0))","v":""},{"$f":"IF(E200=\"\",\"\",IF(E200=F200,1,0))","v":""},null,null,{"$f":"IF(E200=\"\",-1,IF(J200>K200,1,-1))","v":-1},{"$f":"IF(F200=\"\",-1,IF(J200<K200,1,-1))","v":-1},1,{"$f":"IF(E200=\"\",0,IF(E200=J200,1,0)+IF(F200=K200,1,0)+IF(G200=L200,1,0)+IF(H200=M200,1,0)+IF(I200=N200,1,0))","v":0}]
[null,null,{"$f":"IF(B201=\"\",\"\",LOOKUP(B201,Spiele!B:B,Spiele!C:C))","v":""},{"$f":"IF(B201=\"\",\"\",LOOKUP(B201,Spiele!B:B,Spiele!D:D))","v":""},{"$f":"IF(B201=\"\",\"\",LOOKUP(B201,Spiele!B:B,Spiele!E:E))","v":""},{"$f":"IF(B201=\"\",\"\",LOOKUP(B201,Spiele!B:B,Spiele!F:F))","v":""},"","","",null,null,-1,-1,1,0]
[null,null,{"$f":"IF(B202=\"\",\"\",LOOKUP(B202,Spiele!B:B,Spiele!C:C))","v":""},{"$f":"IF(B202=\"\",\"\",LOOKUP(B202,Spiele!B:B,Spiele!D:D))","v":""},{"$f":"IF(B202=\"\",\"\",LOOKUP(B202,Spiele!B:B,Spiele!E:E))","v":""},{"$f":"IF(B202=\"\",\"\",LOOKUP(B202,Spiele!B:B,Spiele!F:F))","v":""},"","","",null,null,-1,-1,1,0]
[null,null,{"$f":"IF(B203=\"\",\"\",LOOKUP(B203,Spiele!B:B,Spiele!C:C))","v":""},{"$f":"IF(B203=\"\",\"\",LOOKUP(B203,Spiele!B:B,Spiele!D:D))","v":""},{"$f":"IF(B203=\"\",\"\",LOOKUP(B203,Spiele!B:B,Spiele!E:E))","v":""},{"$f":"IF(B203=\"\",\"\",LOOKUP(B203,Spiele!B:B,Spiele!F:F))","v":""},"","","",null,null,-1,-1,1,0]
[null,null,{"$f":"IF(B204=\"\",\"\",LOOKUP(B204,Spiele!B:B,Spiele!C:C))","v":""},{"$f":"IF(B204=\"\",\"\",LOOKUP(B204,Spiele!B:B,Spiele!D:D))","v":""},{"$f":"IF(B204=\"\",\"\",LOOKUP(B204,Spiele!B:B,Spiele!E:E))","v":""},{"$f":"IF(B204=\"\",\"\",LOOKUP(B204,Spiele!B:B,Spiele!F:F))","v":""},"","","",null,null,-1,-1,1,0]
[null,null,{"$f":"IF(B205=\"\",\"\",LOOKUP(B205,Spiele!B:B,Spiele!C:C))","v":""},{"$f":"IF(B205=\"\",\"\",LOOKUP(B205,Spiele!B:B,Spiele!D:D))","v":""},{"$f":"IF(B205=\"\",\"\",LOOKUP(B205,Spiele!B:B,Spiele!E:E))","v":""},{"$f":"IF(B205=\"\",\"\",LOOKUP(B205,Spiele!B:B,Spiele!F:F))","v":""},"","","",null,null,-1,-1,1,0]
[null,null,{"$f":"IF(B206=\"\",\"\",LOOKUP(B206,Spiele!B:B,Spiele!C:C))","v":""},{"$f":"IF(B206=\"\",\"\",LOOKUP(B206,Spiele!B:B,Spiele!D:D))","v":""},{"$f":"IF(B206=\"\",\"\",LOOKUP(B206,Spiele!B:B,Spiele!E:E))","v":""},{"$f":"IF(B206=\"\",\"\",LOOKUP(B206,Spiele!B:B,Spiele!F:F))","v":""},"","","",null,null,-1,-1,1,0]
[null,null,{"$f":"IF(B207=\"\",\"\",LOOKUP(B207,Spiele!B:B,Spiele!C:C))","v":""},{"$f":"IF(B207=\"\",\"\",LOOKUP(B207,Spiele!B:B,Spiele!D:D))","v":""},{"$f":"IF(B207=\"\",\"\",LOOKUP(B207,Spiele!B:B,Spiele!E:E))","v":""},{"$f":"IF(B207=\"\",\"\",LOOKUP(B207,Spiele!B:B,Spiele!F:F))","v":""},"","","",null,null,-1,-1,1,0]
[null,null,{"$f":"IF(B208=\"\",\"\",LOOKUP(B208,Spiele!B:B,Spiele!C:C))","v":""},{"$f":"IF(B208=\"\",\"\",LOOKUP(B208,Spiele!B:B,Spiele!D:D))","v":""},{"$f":"IF(B208=\"\",\"\",LOOKUP(B208,Spiele!B:B,Spiele!E:E))","v":""},{"$f":"IF(B208=\"\",\"\",LOOKUP(B208,Spiele!B:B,Spiele!F:F))","v":""},"","","",null,null,-1,-1,{"$f":"IF(E208=\"-\",-1,IF(J208=K208,1,-1))","v":1},0]
[null,null,{"$f":"IF(B209=\"\",\"\",LOOKUP(B209,Spiele!B:B,Spiele!C:C))","v":""},{"$f":"IF(B209=\"\",\"\",LOOKUP(B209,Spiele!B:B,Spiele!D:D))","v":""},{"$f":"IF(B209=\"\",\"\",LOOKUP(B209,Spiele!B:B,Spiele!E:E))","v":""},{"$f":"IF(B209=\"\",\"\",LOOKUP(B209,Spiele!B:B,Spiele!F:F))","v":""},"","","",null,null,-1,-1,1,0]
[null,null,{"$f":"IF(B210=\"\",\"\",LOOKUP(B210,Spiele!B:B,Spiele!C:C))","v":""},{"$f":"IF(B210=\"\",\"\",LOOKUP(B210,Spiele!B:B,Spiele!D:D))","v":""},{"$f":"IF(B210=\"\",\"\",LOOKUP(B210,Spiele!B:B,Spiele!E:E))","v":""},{"$f":"IF(B210=\"\",\"\",LOOKUP(B210,Spiele!B:B,Spiele!F:F))","v":""},"","","",null,null,-1,-1,1,0]
[null,null,{"$f":"IF(B211=\"\",\"\",LOOKUP(B211,Spiele!B:B,Spiele!C:C))","v":""},{"$f":"IF(B211=\"\",\"\",LOOKUP(B211,Spiele!B:B,Spiele!D:D))","v":""},{"$f":"IF(B211=\"\",\"\",LOOKUP(B211,Spiele!B:B,Spiele!E:E))","v":""},{"$f":"IF(B211=\"\",\"\",LOOKUP(B211,Spiele!B:B,Spiele!F:F))","v":""},"","","",null,null,-1,-1,1,0]
[null,null,{"$f":"IF(B212=\"\",\"\",LOOKUP(B212,Spiele!B:B,Spiele!C:C))","v":""},{"$f":"IF(B212=\"\",\"\",LOOKUP(B212,Spiele!B:B,Spiele!D:D))","v":""},{"$f":"IF(B212=\"\",\"\",LOOKUP(B212,Spiele!B:B,Spiele!E:E))","v":""},{"$f":"IF(B212=\"\",\"\",LOOKUP(B212,Spiele!B:B,Spiele!F:F))","v":""},"","","",null,null,-1,-1,1,0]
[null,null,{"$f":"IF(B213=\"\",\"\",LOOKUP(B213,Spiele!B:B,Spiele!C:C))","v":""},{"$f":"IF(B213=\"\",\"\",LOOKUP(B213,Spiele!B:B,Spiele!D:D))","v":""},{"$f":"IF(B213=\"\",\"\",LOOKUP(B213,Spiele!B:B,Spiele!E:E))","v":""},{"$f":"IF(B213=\"\",\"\",LOOKUP(B213,Spiele!B:B,Spiele!F:F))","v":""},"","","",null,null,-1,-1,1,0]
[null,null,{"$f":"IF(B214=\"\",\"\",LOOKUP(B214,Spiele!B:B,Spiele!C:C))","v":""},{"$f":"IF(B214=\"\",\"\",LOOKUP(B214,Spiele!B:B,Spiele!D:D))","v":""},{"$f":"IF(B214=\"\",\"\",LOOKUP(B214,Spiele!B:B,Spiele!E:E))","v":""},{"$f":"IF(B214=\"\",\"\",LOOKUP(B214,Spiele!B:B,Spiele!F:F))","v":""},"","","",null,null,-1,-1,1,0]
[null,null,{"$f":"IF(B215=\"\",\"\",LOOKUP(B215,Spiele!B:B,Spiele!C:C))","v":""},{"$f":"IF(B215=\"\",\"\",LOOKUP(B215,Spiele!B:B,Spiele!D:D))","v":""},{"$f":"IF(B215=\"\",\"\",LOOKUP(B215,Spiele!B:B,Spiele!E:E))","v":""},{"$f":"IF(B215=\"\",\"\",LOOKUP(B215,Spiele!B:B,Spiele!F:F))","v":""},"","","",null,null,-1,-1,1,0]
[null,null,{"$f":"IF(B216=\"\",\"\",LOOKUP(B216,Spiele!B:B,Spiele!C:C))","v":""},{"$f":"IF(B216=\"\",\"\",LOOKUP(B216,Spiele!B:B,Spiele!D:D))","v":""},{"$f":"IF(B216=\"\",\"\",LOOKUP(B216,Spiele!B:B,Spiele!E:E))","v":""},{"$f":"IF(B216=\"\",\"\",LOOKUP(B216,Spiele!B:B,Spiele!F:F))","v":""},"","","",null,null,-1,-1,1,0]
[null,null,{"$f":"IF(B217=\"\",\"\",LOOKUP(B217,Spiele!B:B,Spiele!C:C))","v":""},{"$f":"IF(B217=\"\",\"\",LOOKUP(B217,Spiele!B:B,Spiele!D:D))","v":""},{"$f":"IF(B217=\"\",\"\",LOOKUP(B217,Spiele!B:B,Spiele!E:E))","v":""},{"$f":"IF(B217=\"\",\"\",LOOKUP(B217,Spiele!B:B,Spiele!F:F))","v":""},"","","",null,null,-1,-1,1,0]
[null,null,{"$f":"IF(B218=\"\",\"\",LOOKUP(B218,Spiele!B:B,Spiele!C:C))","v":""},{"$f":"IF(B218=\"\",\"\",LOOKUP(B218,Spiele!B:B,Spiele!D:D))","v":""},{"$f":"IF(B218=\"\",\"\",LOOKUP(B218,Spiele!B:B,Spiele!E:E))","v":""},{"$f":"IF(B218=\"\",\"\",LOOKUP(B218,Spiele!B:B,Spiele!F:F))","v":""},"","","",null,null,-1,-1,1,0]
[null,null,{"$f":"IF(B219=\"\",\"\",LOOKUP(B219,Spiele!B:B,Spiele!C:C))","v":""},{"$f":"IF(B219=\"\",\"\",LOOKUP(B219,Spiele!B:B,Spiele!D:D))","v":""},{"$f":"IF(B219=\"\",\"\",LOOKUP(B219,Spiele!B:B,Spiele!E:E))","v":""},{"$f":"IF(B219=\"\",\"\",LOOKUP(B219,Spiele!B:B,Spiele!F:F))","v":""},"","","",null,null,-1,-1,1,0]
[null,null,{"$f":"IF(B220=\"\",\"\",LOOKUP(B220,Spiele!B:B,Spiele!C:C))","v":""},{"$f":"IF(B220=\"\",\"\",LOOKUP(B220,Spiele!B:B,Spiele!D:D))","v":""},{"$f":"IF(B220=\"\",\"\",LOOKUP(B220,Spiele!B:B,Spiele!E:E))","v":""},{"$f":"IF(B220=\"\",\"\",LOOKUP(B220,Spiele!B:B,Spiele!F:F))","v":""},"","","",null,null,-1,-1,1,0]
[null,null,{"$f":"IF(B221=\"\",\"\",LOOKUP(B221,Spiele!B:B,Spiele!C:C))","v":""},{"$f":"IF(B221=\"\",\"\",LOOKUP(B221,Spiele!B:B,Spiele!D:D))","v":""},{"$f":"IF(B221=\"\",\"\",LOOKUP(B221,Spiele!B:B,Spiele!E:E))","v":""},{"$f":"IF(B221=\"\",\"\",LOOKUP(B221,Spiele!B:B,Spiele!F:F))","v":""},"","","",null,null,-1,-1,1,0]
[null,null,{"$f":"IF(B222=\"\",\"\",LOOKUP(B222,Spiele!B:B,Spiele!C:C))","v":""},{"$f":"IF(B222=\"\",\"\",LOOKUP(B222,Spiele!B:B,Spiele!D:D))","v":""},{"$f":"IF(B222=\"\",\"\",LOOKUP(B222,Spiele!B:B,Spiele!E:E))","v":""},{"$f":"IF(B222=\"\",\"\",LOOKUP(B222,Spiele!B:B,Spiele!F:F))","v":""},"","","",null,null,-1,-1,1,0]
[null,null,{"$f":"IF(B223=\"\",\"\",LOOKUP(B223,Spiele!B:B,Spiele!C:C))","v":""},{"$f":"IF(B223=\"\",\"\",LOOKUP(B223,Spiele!B:B,Spiele!D:D))","v":""},{"$f":"IF(B223=\"\",\"\",LOOKUP(B223,Spiele!B:B,Spiele!E:E))","v":""},{"$f":"IF(B223=\"\",\"\",LOOKUP(B223,Spiele!B:B,Spiele!F:F))","v":""},"","","",null,null,-1,-1,1,0]
[null,null,{"$f":"IF(B224=\"\",\"\",LOOKUP(B224,Spiele!B:B,Spiele!C:C))","v":""},{"$f":"IF(B224=\"\",\"\",LOOKUP(B224,Spiele!B:B,Spiele!D:D))","v":""},{"$f":"IF(B224=\"\",\"\",LOOKUP(B224,Spiele!B:B,Spiele!E:E))","v":""},{"$f":"IF(B224=\"\",\"\",LOOKUP(B224,Spiele!B:B,Spiele!F:F))","v":""},"","","",null,null,-1,-1,1,0]
[null,null,{"$f":"IF(B225=\"\",\"\",LOOKUP(B225,Spiele!B:B,Spiele!C:C))","v":""},{"$f":"IF(B225=\"\",\"\",LOOKUP(B225,Spiele!B:B,Spiele!D:D))","v":""},{"$f":"IF(B225=\"\",\"\",LOOKUP(B225,Spiele!B:B,Spiele!E:E))","v":""},{"$f":"IF(B225=\"\",\"\",LOOKUP(B225,Spiele!B:B,Spiele!F:F))","v":""},"","","",null,null,-1,-1,1,0]
[null,null,{"$f":"IF(B226=\"\",\"\",LOOKUP(B226,Spiele!B:B,Spiele!C:C))","v":""},{"$f":"IF(B226=\"\",\"\",LOOKUP(B226,Spiele!B:B,Spiele!D:D))","v":""},{"$f":"IF(B226=\"\",\"\",LOOKUP(B226,Spiele!B:B,Spiele!E:E))","v":""},{"$f":"IF(B226=\"\",\"\",LOOKUP(B226,Spiele!B:B,Spiele!F:F))","v":""},"","","",null,null,-1,-1,1,0]
[null,null,{"$f":"IF(B227=\"\",\"\",LOOKUP(B227,Spiele!B:B,Spiele!C:C))","v":""},{"$f":"IF(B227=\"\",\"\",LOOKUP(B227,Spiele!B:B,Spiele!D:D))","v":""},{"$f":"IF(B227=\"\",\"\",LOOKUP(B227,Spiele!B:B,Spiele!E:E))","v":""},{"$f":"IF(B227=\"\",\"\",LOOKUP(B227,Spiele!B:B,Spiele!F:F))","v":""},"","","",null,null,-1,-1,1,0]
[null,null,{"$f":"IF(B228=\"\",\"\",LOOKUP(B228,Spiele!B:B,Spiele!C:C))","v":""},{"$f":"IF(B228=\"\",\"\",LOOKUP(B228,Spiele!B:B,Spiele!D:D))","v":""},{"$f":"IF(B228=\"\",\"\",LOOKUP(B228,Spiele!B:B,Spiele!E:E))","v":""},{"$f":"IF(B228=\"\",\"\",LOOKUP(B228,Spiele!B:B,Spiele!F:F))","v":""},"","","",null,null,-1,-1,1,0]
[null,null,{"$f":"IF(B229=\"\",\"\",LOOKUP(B229,Spiele!B:B,Spiele!C:C))","v":""},{"$f":"IF(B229=\"\",\"\",LOOKUP(B229,Spiele!B:B,Spiele!D:D))","v":""},{"$f":"IF(B229=\"\",\"\",LOOKUP(B229,Spiele!B:B,Spiele!E:E))","v":""},{"$f":"IF(B229=\"\",\"\",LOOKUP(B229,Spiele!B:B,Spiele!F:F))","v":""},"","","",null,null,-1,-1,1,0]
[null,null,{"$f":"IF(B230=\"\",\"\",LOOKUP(B230,Spiele!B:B,Spiele!C:C))","v":""},{"$f":"IF(B230=\"\",\"\",LOOKUP(B230,Spiele!B:B,Spiele!D:D))","v":""},{"$f":"IF(B230=\"\",\"\",LOOKUP(B230,Spiele!B:B,Spiele!E:E))","v":""},{"$f":"IF(B230=\"\",\"\",LOOKUP(B230,Spiele!B:B,Spiele!F:F))","v":""},"","","",null,null,-1,-1,1,0]
[null,null,{"$f":"IF(B231=\"\",\"\",LOOKUP(B231,Spiele!B:B,Spiele!C:C))","v":""},{"$f":"IF(B231=\"\",\"\",LOOKUP(B231,Spiele!B:B,Spiele!D:D))","v":""},{"$f":"IF(B231=\"\",\"\",LOOKUP(B231,Spiele!B:B,Spiele!E:E))","v":""},{"$f":"IF(B231=\"\",\"\",LOOKUP(B231,Spiele!B:B,Spiele!F:F))","v":""},"","","",null,null,-1,-1,1,0]
[null,null,{"$f":"IF(B232=\"\",\"\",LOOKUP(B232,Spiele!B:B,Spiele!C:C))","v":""},{"$f":"IF(B232=\"\",\"\",LOOKUP(B232,Spiele!B:B,Spiele!D:D))","v":""},{"$f":"IF(B232=\"\",\"\",LOOKUP(B232,Spiele!B:B,Spiele!E:E))","v":""},{"$f":"IF(B232=\"\",\"\",LOOKUP(B232,Spiele!B:B,Spiele!F:F))","v":""},"","","",null,null,-1,-1,1,0]
[null,null,{"$f":"IF(B233=\"\",\"\",LOOKUP(B233,Spiele!B:B,Spiele!C:C))","v":""},{"$f":"IF(B233=\"\",\"\",LOOKUP(B233,Spiele!B:B,Spiele!D:D))","v":""},{"$f":"IF(B233=\"\",\"\",LOOKUP(B233,Spiele!B:B,Spiele!E:E))","v":""},{"$f":"IF(B233=\"\",\"\",LOOKUP(B233,Spiele!B:B,Spiele!F:F))","v":""},"","","",null,null,-1,-1,1,0]
[null,null,{"$f":"IF(B234=\"\",\"\",LOOKUP(B234,Spiele!B:B,Spiele!C:C))","v":""},{"$f":"IF(B234=\"\",\"\",LOOKUP(B234,Spiele!B:B,Spiele!D:D))","v":""},{"$f":"IF(B234=\"\",\"\",LOOKUP(B234,Spiele!B:B,Spiele!E:E))","v":""},{"$f":"IF(B234=\"\",\"\",LOOKUP(B234,Spiele!B:B,Spiele!F:F))","v":""},"","","",null,null,-1,-1,1,0]
[null,null,{"$f":"IF(B235=\"\",\"\",LOOKUP(B235,Spiele!B:B,Spiele!C:C))","v":""},{"$f":"IF(B235=\"\",\"\",LOOKUP(B235,Spiele!B:B,Spiele!D:D))","v":""},{"$f":"IF(B235=\"\",\"\",LOOKUP(B235,Spiele!B:B,Spiele!E:E))","v":""},{"$f":"IF(B235=\"\",\"\",LOOKUP(B235,Spiele!B:B,Spiele!F:F))","v":""},"","","",null,null,-1,-1,1,0]
[null,null,{"$f":"IF(B236=\"\",\"\",LOOKUP(B236,Spiele!B:B,Spiele!C:C))","v":""},{"$f":"IF(B236=\"\",\"\",LOOKUP(B236,Spiele!B:B,Spiele!D:D))","v":""},{"$f":"IF(B236=\"\",\"\",LOOKUP(B236,Spiele!B:B,Spiele!E:E))","v":""},{"$f":"IF(B236=\"\",\"\",LOOKUP(B236,Spiele!B:B,Spiele!F:F))","v":""},"","","",null,null,-1,-1,1,0]
[null,null,{"$f":"IF(B237=\"\",\"\",LOOKUP(B237,Spiele!B:B,Spiele!C:C))","v":""},{"$f":"IF(B237=\"\",\"\",LOOKUP(B237,Spiele!B:B,Spiele!D:D))","v":""},{"$f":"IF(B237=\"\",\"\",LOOKUP(B237,Spiele!B:B,Spiele!E:E))","v":""},{"$f":"IF(B237=\"\",\"\",LOOKUP(B237,Spiele!B:B,Spiele!F:F))","v":""},"","","",null,null,-1,-1,1,0]
[null,null,{"$f":"IF(B238=\"\",\"\",LOOKUP(B238,Spiele!B:B,Spiele!C:C))","v":""},{"$f":"IF(B238=\"\",\"\",LOOKUP(B238,Spiele!B:B,Spiele!D:D))","v":""},{"$f":"IF(B238=\"\",\"\",LOOKUP(B238,Spiele!B:B,Spiele!E:E))","v":""},{"$f":"IF(B238=\"\",\"\",LOOKUP(B238,Spiele!B:B,Spiele!F:F))","v":""},"","","",null,null,-1,-1,1,0]
[null,null,{"$f":"IF(B239=\"\",\"\",LOOKUP(B239,Spiele!B:B,Spiele!C:C))","v":""},{"$f":"IF(B239=\"\",\"\",LOOKUP(B239,Spiele!B:B,Spiele!D:D))","v":""},{"$f":"IF(B239=\"\",\"\",LOOKUP(B239,Spiele!B:B,Spiele!E:E))","v":""},{"$f":"IF(B239=\"\",\"\",LOOKUP(B239,Spiele!B:B,Spiele!F:F))","v":""},"","","",null,null,-1,-1,1,0]
[null,null,{"$f":"IF(B240=\"\",\"\",LOOKUP(B240,Spiele!B:B,Spiele!C:C))","v":""},{"$f":"IF(B240=\"\",\"\",LOOKUP(B240,Spiele!B:B,Spiele!D:D))","v":""},{"$f":"IF(B240=\"\",\"\",LOOKUP(B240,Spiele!B:B,Spiele!E:E))","v":""},{"$f":"IF(B240=\"\",\"\",LOOKUP(B240,Spiele!B:B,Spiele!F:F))","v":""},"","","",null,null,-1,-1,1,0]
[null,null,{"$f":"IF(B241=\"\",\"\",LOOKUP(B241,Spiele!B:B,Spiele!C:C))","v":""},{"$f":"IF(B241=\"\",\"\",LOOKUP(B241,Spiele!B:B,Spiele!D:D))","v":""},{"$f":"IF(B241=\"\",\"\",LOOKUP(B241,Spiele!B:B,Spiele!E:E))","v":""},{"$f":"IF(B241=\"\",\"\",LOOKUP(B241,Spiele!B:B,Spiele!F:F))","v":""},"","","",null,null,-1,-1,1,0]
[null,null,{"$f":"IF(B242=\"\",\"\",LOOKUP(B242,Spiele!B:B,Spiele!C:C))","v":""},{"$f":"IF(B242=\"\",\"\",LOOKUP(B242,Spiele!B:B,Spiele!D:D))","v":""},{"$f":"IF(B242=\"\",\"\",LOOKUP(B242,Spiele!B:B,Spiele!E:E))","v":""},{"$f":"IF(B242=\"\",\"\",LOOKUP(B242,Spiele!B:B,Spiele!F:F))","v":""},"","","",null,null,-1,-1,1,0]
[null,null,{"$f":"IF(B243=\"\",\"\",LOOKUP(B243,Spiele!B:B,Spiele!C:C))","v":""},{"$f":"IF(B243=\"\",\"\",LOOKUP(B243,Spiele!B:B,Spiele!D:D))","v":""},{"$f":"IF(B243=\"\",\"\",LOOKUP(B243,Spiele!B:B,Spiele!E:E))","v":""},{"$f":"IF(B243=\"\",\"\",LOOKUP(B243,Spiele!B:B,Spiele!F:F))","v":""},"","","",null,null,-1,-1,1,0]
[null,null,{"$f":"IF(B244=\"\",\"\",LOOKUP(B244,Spiele!B:B,Spiele!C:C))","v":""},{"$f":"IF(B244=\"\",\"\",LOOKUP(B244,Spiele!B:B,Spiele!D:D))","v":""},{"$f":"IF(B244=\"\",\"\",LOOKUP(B244,Spiele!B:B,Spiele!E:E))","v":""},{"$f":"IF(B244=\"\",\"\",LOOKUP(B244,Spiele!B:B,Spiele!F:F))","v":""},"","","",null,null,-1,-1,1,0]
[null,null,{"$f":"IF(B245=\"\",\"\",LOOKUP(B245,Spiele!B:B,Spiele!C:C))","v":""},{"$f":"IF(B245=\"\",\"\",LOOKUP(B245,Spiele!B:B,Spiele!D:D))","v":""},{"$f":"IF(B245=\"\",\"\",LOOKUP(B245,Spiele!B:B,Spiele!E:E))","v":""},{"$f":"IF(B245=\"\",\"\",LOOKUP(B245,Spiele!B:B,Spiele!F:F))","v":""},"","","",null,null,-1,-1,1,0]
[null,null,{"$f":"IF(B246=\"\",\"\",LOOKUP(B246,Spiele!B:B,Spiele!C:C))","v":""},{"$f":"IF(B246=\"\",\"\",LOOKUP(B246,Spiele!B:B,Spiele!D:D))","v":""},{"$f":"IF(B246=\"\",\"\",LOOKUP(B246,Spiele!B:B,Spiele!E:E))","v":""},{"$f":"IF(B246=\"\",\"\",LOOKUP(B246,Spiele!B:B,Spiele!F:F))","v":""},"","","",null,null,-1,-1,1,0]
[null,null,{"$f":"IF(B247=\"\",\"\",LOOKUP(B247,Spiele!B:B,Spiele!C:C))","v":""},{"$f":"IF(B247=\"\",\"\",LOOKUP(B247,Spiele!B:B,Spiele!D:D))","v":""},{"$f":"IF(B247=\"\",\"\",LOOKUP(B247,Spiele!B:B,Spiele!E:E))","v":""},{"$f":"IF(B247=\"\",\"\",LOOKUP(B247,Spiele!B:B,Spiele!F:F))","v":""},"","","",null,null,-1,-1,1,0]
[null,null,{"$f":"IF(B248=\"\",\"\",LOOKUP(B248,Spiele!B:B,Spiele!C:C))","v":""},{"$f":"IF(B248=\"\",\"\",LOOKUP(B248,Spiele!B:B,Spiele!D:D))","v":""},{"$f":"IF(B248=\"\",\"\",LOOKUP(B248,Spiele!B:B,Spiele!E:E))","v":""},{"$f":"IF(B248=\"\",\"\",LOOKUP(B248,Spiele!B:B,Spiele!F:F))","v":""},"","","",null,null,-1,-1,1,0]
[null,null,{"$f":"IF(B249=\"\",\"\",LOOKUP(B249,Spiele!B:B,Spiele!C:C))","v":""},{"$f":"IF(B249=\"\",\"\",LOOKUP(B249,Spiele!B:B,Spiele!D:D))","v":""},{"$f":"IF(B249=\"\",\"\",LOOKUP(B249,Spiele!B:B,Spiele!E:E))","v":""},{"$f":"IF(B249=\"\",\"\",LOOKUP(B249,Spiele!B:B,Spiele!F:F))","v":""},"","","",null,null,-1,-1,1,0]
[null,null,{"$f":"IF(B250=\"\",\"\",LOOKUP(B250,Spiele!B:B,Spiele!C:C))","v":""},{"$f":"IF(B250=\"\",\"\",LOOKUP(B250,Spiele!B:B,Spiele!D:D))","v":""},{"$f":"IF(B250=\"\",\"\",LOOKUP(B250,Spiele!B:B,Spiele!E:E))","v":""},{"$f":"IF(B250=\"\",\"\",LOOKUP(B250,Spiele!B:B,Spiele!F:F))","v":""},"","","",null,null,-1,-1,1,0]
[null,null,{"$f":"IF(B251=\"\",\"\",LOOKUP(B251,Spiele!B:B,Spiele!C:C))","v":""},{"$f":"IF(B251=\"\",\"\",LOOKUP(B251,Spiele!B:B,Spiele!D:D))","v":""},{"$f":"IF(B251=\"\",\"\",LOOKUP(B251,Spiele!B:B,Spiele!E:E))","v":""},{"$f":"IF(B251=\"\",\"\",LOOKUP(B251,Spiele!B:B,Spiele!F:F))","v":""},"","","",null,null,-1,-1,1,0]
[null,null,{"$f":"IF(B252=\"\",\"\",LOOKUP(B252,Spiele!B:B,Spiele!C:C))","v":""},{"$f":"IF(B252=\"\",\"\",LOOKUP(B252,Spiele!B:B,Spiele!D:D))","v":""},{"$f":"IF(B252=\"\",\"\",LOOKUP(B252,Spiele!B:B,Spiele!E:E))","v":""},{"$f":"IF(B252=\"\",\"\",LOOKUP(B252,Spiele!B:B,Spiele!F:F))","v":""},"","","",null,null,-1,-1,1,0]
[null,null,{"$f":"IF(B253=\"\",\"\",LOOKUP(B253,Spiele!B:B,Spiele!C:C))","v":""},{"$f":"IF(B253=\"\",\"\",LOOKUP(B253,Spiele!B:B,Spiele!D:D))","v":""},{"$f":"IF(B253=\"\",\"\",LOOKUP(B253,Spiele!B:B,Spiele!E:E))","v":""},{"$f":"IF(B253=\"\",\"\",LOOKUP(B253,Spiele!B:B,Spiele!F:F))","v":""},"","","",null,null,-1,-1,1,0]
[null,null,{"$f":"IF(B254=\"\",\"\",LOOKUP(B254,Spiele!B:B,Spiele!C:C))","v":""},{"$f":"IF(B254=\"\",\"\",LOOKUP(B254,Spiele!B:B,Spiele!D:D))","v":""},{"$f":"IF(B254=\"\",\"\",LOOKUP(B254,Spiele!B:B,Spiele!E:E))","v":""},{"$f":"IF(B254=\"\",\"\",LOOKUP(B254,Spiele!B:B,Spiele!F:F))","v":""},"","","",null,null,-1,-1,1,0]
[null,null,{"$f":"IF(B255=\"\",\"\",LOOKUP(B255,Spiele!B:B,Spiele!C:C))","v":""},{"$f":"IF(B255=\"\",\"\",LOOKUP(B255,Spiele!B:B,Spiele!D:D))","v":""},{"$f":"IF(B255=\"\",\"\",LOOKUP(B255,Spiele!B:B,Spiele!E:E))","v":""},{"$f":"IF(B255=\"\",\"\",LOOKUP(B255,Spiele!B:B,Spiele!F:F))","v":""},"","","",null,null,-1,-1,1,0]
[null,null,{"$f":"IF(B256=\"\",\"\",LOOKUP(B256,Spiele!B:B,Spiele!C:C))","v":""},{"$f":"IF(B256=\"\",\"\",LOOKUP(B256,Spiele!B:B,Spiele!D:D))","v":""},{"$f":"IF(B256=\"\",\"\",LOOKUP(B256,Spiele!B:B,Spiele!E:E))","v":""},{"$f":"IF(B256=\"\",\"\",LOOKUP(B256,Spiele!B:B,Spiele!F:F))","v":""},"","","",null,null,-1,-1,1,0]
[null,null,{"$f":"IF(B257=\"\",\"\",LOOKUP(B257,Spiele!B:B,Spiele!C:C))","v":""},{"$f":"IF(B257=\"\",\"\",LOOKUP(B257,Spiele!B:B,Spiele!D:D))","v":""},{"$f":"IF(B257=\"\",\"\",LOOKUP(B257,Spiele!B:B,Spiele!E:E))","v":""},{"$f":"IF(B257=\"\",\"\",LOOKUP(B257,Spiele!B:B,Spiele!F:F))","v":""},"","","",null,null,-1,-1,1,0]
[null,null,{"$f":"IF(B258=\"\",\"\",LOOKUP(B258,Spiele!B:B,Spiele!C:C))","v":""},{"$f":"IF(B258=\"\",\"\",LOOKUP(B258,Spiele!B:B,Spiele!D:D))","v":""},{"$f":"IF(B258=\"\",\"\",LOOKUP(B258,Spiele!B:B,Spiele!E:E))","v":""},{"$f":"IF(B258=\"\",\"\",LOOKUP(B258,Spiele!B:B,Spiele!F:F))","v":""},"","","",null,null,-1,-1,1,0]
[null,null,{"$f":"IF(B259=\"\",\"\",LOOKUP(B259,Spiele!B:B,Spiele!C:C))","v":""},{"$f":"IF(B259=\"\",\"\",LOOKUP(B259,Spiele!B:B,Spiele!D:D))","v":""},{"$f":"IF(B259=\"\",\"\",LOOKUP(B259,Spiele!B:B,Spiele!E:E))","v":""},{"$f":"IF(B259=\"\",\"\",LOOKUP(B259,Spiele!B:B,Spiele!F:F))","v":""},"","","",null,null,-1,-1,1,0]
[null,null,{"$f":"IF(B260=\"\",\"\",LOOKUP(B260,Spiele!B:B,Spiele!C:C))","v":""},{"$f":"IF(B260=\"\",\"\",LOOKUP(B260,Spiele!B:B,Spiele!D:D))","v":""},{"$f":"IF(B260=\"\",\"\",LOOKUP(B260,Spiele!B:B,Spiele!E:E))","v":""},{"$f":"IF(B260=\"\",\"\",LOOKUP(B260,Spiele!B:B,Spiele!F:F))","v":""},"","","",null,null,-1,-1,1,0]
[null,null,{"$f":"IF(B261=\"\",\"\",LOOKUP(B261,Spiele!B:B,Spiele!C:C))","v":""},{"$f":"IF(B261=\"\",\"\",LOOKUP(B261,Spiele!B:B,Spiele!D:D))","v":""},{"$f":"IF(B261=\"\",\"\",LOOKUP(B261,Spiele!B:B,Spiele!E:E))","v":""},{"$f":"IF(B261=\"\",\"\",LOOKUP(B261,Spiele!B:B,Spiele!F:F))","v":""},"","","",null,null,-1,-1,1,0]
[null,null,{"$f":"IF(B262=\"\",\"\",LOOKUP(B262,Spiele!B:B,Spiele!C:C))","v":""},{"$f":"IF(B262=\"\",\"\",LOOKUP(B262,Spiele!B:B,Spiele!D:D))","v":""},{"$f":"IF(B262=\"\",\"\",LOOKUP(B262,Spiele!B:B,Spiele!E:E))","v":""},{"$f":"IF(B262=\"\",\"\",LOOKUP(B262,Spiele!B:B,Spiele!F:F))","v":""},"","","",null,null,-1,-1,1,0]
[null,null,{"$f":"IF(B263=\"\",\"\",LOOKUP(B263,Spiele!B:B,Spiele!C:C))","v":""},{"$f":"IF(B263=\"\",\"\",LOOKUP(B263,Spiele!B:B,Spiele!D:D))","v":""},{"$f":"IF(B263=\"\",\"\",LOOKUP(B263,Spiele!B:B,Spiele!E:E))","v":""},{"$f":"IF(B263=\"\",\"\",LOOKUP(B263,Spiele!B:B,Spiele!F:F))","v":""},"","","",null,null,-1,-1,1,0]
[null,null,{"$f":"IF(B264=\"\",\"\",LOOKUP(B264,Spiele!B:B,Spiele!C:C))","v":""},{"$f":"IF(B264=\"\",\"\",LOOKUP(B264,Spiele!B:B,Spiele!D:D))","v":""},{"$f":"IF(B264=\"\",\"\",LOOKUP(B264,Spiele!B:B,Spiele!E:E))","v":""},{"$f":"IF(B264=\"\",\"\",LOOKUP(B264,Spiele!B:B,Spiele!F:F))","v":""},{"$f":"IF(E264=\"\",\"\",IF(E264>F264,1,0))","v":""},{"$f":"IF(F264=\"\",\"\",IF(E264<F264,1,0))","v":""},{"$f":"IF(E264=\"\",\"\",IF(E264=F264,1,0))","v":""},null,null,{"$f":"IF(E264=\"\",-1,IF(J264>K264,1,-1))","v":-1},{"$f":"IF(F264=\"\",-1,IF(J264<K264,1,-1))","v":-1},1,{"$f":"IF(E264=\"\",0,IF(E264=J264,1,0)+IF(F264=K264,1,0)+IF(G264=L264,1,0)+IF(H264=M264,1,0)+IF(I264=N264,1,0))","v":0}]
[null,null,{"$f":"IF(B265=\"\",\"\",LOOKUP(B265,Spiele!B:B,Spiele!C:C))","v":""},{"$f":"IF(B265=\"\",\"\",LOOKUP(B265,Spiele!B:B,Spiele!D:D))","v":""},{"$f":"IF(B265=\"\",\"\",LOOKUP(B265,Spiele!B:B,Spiele!E:E))","v":""},{"$f":"IF(B265=\"\",\"\",LOOKUP(B265,Spiele!B:B,Spiele!F:F))","v":""},"","","",null,null,-1,-1,1,0]
[null,null,{"$f":"IF(B266=\"\",\"\",LOOKUP(B266,Spiele!B:B,Spiele!C:C))","v":""},{"$f":"IF(B266=\"\",\"\",LOOKUP(B266,Spiele!B:B,Spiele!D:D))","v":""},{"$f":"IF(B266=\"\",\"\",LOOKUP(B266,Spiele!B:B,Spiele!E:E))","v":""},{"$f":"IF(B266=\"\",\"\",LOOKUP(B266,Spiele!B:B,Spiele!F:F))","v":""},"","","",null,null,-1,-1,1,0]
[null,null,{"$f":"IF(B267=\"\",\"\",LOOKUP(B267,Spiele!B:B,Spiele!C:C))","v":""},{"$f":"IF(B267=\"\",\"\",LOOKUP(B267,Spiele!B:B,Spiele!D:D))","v":""},{"$f":"IF(B267=\"\",\"\",LOOKUP(B267,Spiele!B:B,Spiele!E:E))","v":""},{"$f":"IF(B267=\"\",\"\",LOOKUP(B267,Spiele!B:B,Spiele!F:F))","v":""},"","","",null,null,-1,-1,1,0]
[null,null,{"$f":"IF(B268=\"\",\"\",LOOKUP(B268,Spiele!B:B,Spiele!C:C))","v":""},{"$f":"IF(B268=\"\",\"\",LOOKUP(B268,Spiele!B:B,Spiele!D:D))","v":""},{"$f":"IF(B268=\"\",\"\",LOOKUP(B268,Spiele!B:B,Spiele!E:E))","v":""},{"$f":"IF(B268=\"\",\"\",LOOKUP(B268,Spiele!B:B,Spiele!F:F))","v":""},"","","",null,null,-1,-1,1,0]
[null,null,{"$f":"IF(B269=\"\",\"\",LOOKUP(B269,Spiele!B:B,Spiele!C:C))","v":""},{"$f":"IF(B269=\"\",\"\",LOOKUP(B269,Spiele!B:B,Spiele!D:D))","v":""},{"$f":"IF(B269=\"\",\"\",LOOKUP(B269,Spiele!B:B,Spiele!E:E))","v":""},{"$f":"IF(B269=\"\",\"\",LOOKUP(B269,Spiele!B:B,Spiele!F:F))","v":""},"","","",null,null,-1,-1,1,0]
[null,null,{"$f":"IF(B270=\"\",\"\",LOOKUP(B270,Spiele!B:B,Spiele!C:C))","v":""},{"$f":"IF(B270=\"\",\"\",LOOKUP(B270,Spiele!B:B,Spiele!D:D))","v":""},{"$f":"IF(B270=\"\",\"\",LOOKUP(B270,Spiele!B:B,Spiele!E:E))","v":""},{"$f":"IF(B270=\"\",\"\",LOOKUP(B270,Spiele!B:B,Spiele!F:F))","v":""},"","","",null,null,-1,-1,1,0]
[null,null,{"$f":"IF(B271=\"\",\"\",LOOKUP(B271,Spiele!B:B,Spiele!C:C))","v":""},{"$f":"IF(B271=\"\",\"\",LOOKUP(B271,Spiele!B:B,Spiele!D:D))","v":""},{"$f":"IF(B271=\"\",\"\",LOOKUP(B271,Spiele!B:B,Spiele!E:E))","v":""},{"$f":"IF(B271=\"\",\"\",LOOKUP(B271,Spiele!B:B,Spiele!F:F))","v":""},"","","",null,null,-1,-1,1,0]
[null,null,{"$f":"IF(B272=\"\",\"\",LOOKUP(B272,Spiele!B:B,Spiele!C:C))","v":""},{"$f":"IF(B272=\"\",\"\",LOOKUP(B272,Spiele!B:B,Spiele!D:D))","v":""},{"$f":"IF(B272=\"\",\"\",LOOKUP(B272,Spiele!B:B,Spiele!E:E))","v":""},{"$f":"IF(B272=\"\",\"\",LOOKUP(B272,Spiele!B:B,Spiele!F:F))","v":""},"","","",null,null,-1,-1,{"$f":"IF(E272=\"-\",-1,IF(J272=K272,1,-1))","v":1},0]
[null,null,{"$f":"IF(B273=\"\",\"\",LOOKUP(B273,Spiele!B:B,Spiele!C:C))","v":""},{"$f":"IF(B273=\"\",\"\",LOOKUP(B273,Spiele!B:B,Spiele!D:D))","v":""},{"$f":"IF(B273=\"\",\"\",LOOKUP(B273,Spiele!B:B,Spiele!E:E))","v":""},{"$f":"IF(B273=\"\",\"\",LOOKUP(B273,Spiele!B:B,Spiele!F:F))","v":""},"","","",null,null,-1,-1,1,0]
[null,null,{"$f":"IF(B274=\"\",\"\",LOOKUP(B274,Spiele!B:B,Spiele!C:C))","v":""},{"$f":"IF(B274=\"\",\"\",LOOKUP(B274,Spiele!B:B,Spiele!D:D))","v":""},{"$f":"IF(B274=\"\",\"\",LOOKUP(B274,Spiele!B:B,Spiele!E:E))","v":""},{"$f":"IF(B274=\"\",\"\",LOOKUP(B274,Spiele!B:B,Spiele!F:F))","v":""},"","","",null,null,-1,-1,1,0]
[null,null,{"$f":"IF(B275=\"\",\"\",LOOKUP(B275,Spiele!B:B,Spiele!C:C))","v":""},{"$f":"IF(B275=\"\",\"\",LOOKUP(B275,Spiele!B:B,Spiele!D:D))","v":""},{"$f":"IF(B275=\"\",\"\",LOOKUP(B275,Spiele!B:B,Spiele!E:E))","v":""},{"$f":"IF(B275=\"\",\"\",LOOKUP(B275,Spiele!B:B,Spiele!F:F))","v":""},"","","",null,null,-1,-1,1,0]
[null,null,{"$f":"IF(B276=\"\",\"\",LOOKUP(B276,Spiele!B:B,Spiele!C:C))","v":""},{"$f":"IF(B276=\"\",\"\",LOOKUP(B276,Spiele!B:B,Spiele!D:D))","v":""},{"$f":"IF(B276=\"\",\"\",LOOKUP(B276,Spiele!B:B,Spiele!E:E))","v":""},{"$f":"IF(B276=\"\",\"\",LOOKUP(B276,Spiele!B:B,Spiele!F:F))","v":""},"","","",null,null,-1,-1,1,0]
[null,null,{"$f":"IF(B277=\"\",\"\",LOOKUP(B277,Spiele!B:B,Spiele!C:C))","v":""},{"$f":"IF(B277=\"\",\"\",LOOKUP(B277,Spiele!B:B,Spiele!D:D))","v":""},{"$f":"IF(B277=\"\",\"\",LOOKUP(B277,Spiele!B:B,Spiele!E:E))","v":""},{"$f":"IF(B277=\"\",\"\",LOOKUP(B277,Spiele!B:B,Spiele!F:F))","v":""},"","","",null,null,-1,-1,1,0]
[null,null,{"$f":"IF(B278=\"\",\"\",LOOKUP(B278,Spiele!B:B,Spiele!C:C))","v":""},{"$f":"IF(B278=\"\",\"\",LOOKUP(B278,Spiele!B:B,Spiele!D:D))","v":""},{"$f":"IF(B278=\"\",\"\",LOOKUP(B278,Spiele!B:B,Spiele!E:E))","v":""},{"$f":"IF(B278=\"\",\"\",LOOKUP(B278,Spiele!B:B,Spiele!F:F))","v":""},"","","",null,null,-1,-1,1,0]
[null,null,{"$f":"IF(B279=\"\",\"\",LOOKUP(B279,Spiele!B:B,Spiele!C:C))","v":""},{"$f":"IF(B279=\"\",\"\",LOOKUP(B279,Spiele!B:B,Spiele!D:D))","v":""},{"$f":"IF(B279=\"\",\"\",LOOKUP(B279,Spiele!B:B,Spiele!E:E))","v":""},{"$f":"IF(B279=\"\",\"\",LOOKUP(B279,Spiele!B:B,Spiele!F:F))","v":""},"","","",null,null,-1,-1,1,0]
[null,null,{"$f":"IF(B280=\"\",\"\",LOOKUP(B280,Spiele!B:B,Spiele!C:C))","v":""},{"$f":"IF(B280=\"\",\"\",LOOKUP(B280,Spiele!B:B,Spiele!D:D))","v":""},{"$f":"IF(B280=\"\",\"\",LOOKUP(B280,Spiele!B:B,Spiele!E:E))","v":""},{"$f":"IF(B280=\"\",\"\",LOOKUP(B280,Spiele!B:B,Spiele!F:F))","v":""},"","","",null,null,-1,-1,1,0]
[null,null,{"$f":"IF(B281=\"\",\"\",LOOKUP(B281,Spiele!B:B,Spiele!C:C))","v":""},{"$f":"IF(B281=\"\",\"\",LOOKUP(B281,Spiele!B:B,Spiele!D:D))","v":""},{"$f":"IF(B281=\"\",\"\",LOOKUP(B281,Spiele!B:B,Spiele!E:E))","v":""},{"$f":"IF(B281=\"\",\"\",LOOKUP(B281,Spiele!B:B,Spiele!F:F))","v":""},"","","",null,null,-1,-1,1,0]
[null,null,{"$f":"IF(B282=\"\",\"\",LOOKUP(B282,Spiele!B:B,Spiele!C:C))","v":""},{"$f":"IF(B282=\"\",\"\",LOOKUP(B282,Spiele!B:B,Spiele!D:D))","v":""},{"$f":"IF(B282=\"\",\"\",LOOKUP(B282,Spiele!B:B,Spiele!E:E))","v":""},{"$f":"IF(B282=\"\",\"\",LOOKUP(B282,Spiele!B:B,Spiele!F:F))","v":""},"","","",null,null,-1,-1,1,0]
[null,null,{"$f":"IF(B283=\"\",\"\",LOOKUP(B283,Spiele!B:B,Spiele!C:C))","v":""},{"$f":"IF(B283=\"\",\"\",LOOKUP(B283,Spiele!B:B,Spiele!D:D))","v":""},{"$f":"IF(B283=\"\",\"\",LOOKUP(B283,Spiele!B:B,Spiele!E:E))","v":""},{"$f":"IF(B283=\"\",\"\",LOOKUP(B283,Spiele!B:B,Spiele!F:F))","v":""},"","","",null,null,-1,-1,1,0]
[null,null,{"$f":"IF(B284=\"\",\"\",LOOKUP(B284,Spiele!B:B,Spiele!C:C))","v":""},{"$f":"IF(B284=\"\",\"\",LOOKUP(B284,Spiele!B:B,Spiele!D:D))","v":""},{"$f":"IF(B284=\"\",\"\",LOOKUP(B284,Spiele!B:B,Spiele!E:E))","v":""},{"$f":"IF(B284=\"\",\"\",LOOKUP(B284,Spiele!B:B,Spiele!F:F))","v":""},"","","",null,null,-1,-1,1,0]
[null,null,{"$f":"IF(B285=\"\",\"\",LOOKUP(B285,Spiele!B:B,Spiele!C:C))","v":""},{"$f":"IF(B285=\"\",\"\",LOOKUP(B285,Spiele!B:B,Spiele!D:D))","v":""},{"$f":"IF(B285=\"\",\"\",LOOKUP(B285,Spiele!B:B,Spiele!E:E))","v":""},{"$f":"IF(B285=\"\",\"\",LOOKUP(B285,Spiele!B:B,Spiele!F:F))","v":""},"","","",null,null,-1,-1,1,0]
[null,null,{"$f":"IF(B286=\"\",\"\",LOOKUP(B286,Spiele!B:B,Spiele!C:C))","v":""},{"$f":"IF(B286=\"\",\"\",LOOKUP(B286,Spiele!B:B,Spiele!D:D))","v":""},{"$f":"IF(B286=\"\",\"\",LOOKUP(B286,Spiele!B:B,Spiele!E:E))","v":""},{"$f":"IF(B286=\"\",\"\",LOOKUP(B286,Spiele!B:B,Spiele!F:F))","v":""},"","","",null,null,-1,-1,1,0]
[null,null,{"$f":"IF(B287=\"\",\"\",LOOKUP(B287,Spiele!B:B,Spiele!C:C))","v":""},{"$f":"IF(B287=\"\",\"\",LOOKUP(B287,Spiele!B:B,Spiele!D:D))","v":""},{"$f":"IF(B287=\"\",\"\",LOOKUP(B287,Spiele!B:B,Spiele!E:E))","v":""},{"$f":"IF(B287=\"\",\"\",LOOKUP(B287,Spiele!B:B,Spiele!F:F))","v":""},"","","",null,null,-1,-1,1,0]
[null,null,{"$f":"IF(B288=\"\",\"\",LOOKUP(B288,Spiele!B:B,Spiele!C:C))","v":""},{"$f":"IF(B288=\"\",\"\",LOOKUP(B288,Spiele!B:B,Spiele!D:D))","v":""},{"$f":"IF(B288=\"\",\"\",LOOKUP(B288,Spiele!B:B,Spiele!E:E))","v":""},{"$f":"IF(B288=\"\",\"\",LOOKUP(B288,Spiele!B:B,Spiele!F:F))","v":""},"","","",null,null,-1,-1,1,0]
[null,null,{"$f":"IF(B289=\"\",\"\",LOOKUP(B289,Spiele!B:B,Spiele!C:C))","v":""},{"$f":"IF(B289=\"\",\"\",LOOKUP(B289,Spiele!B:B,Spiele!D:D))","v":""},{"$f":"IF(B289=\"\",\"\",LOOKUP(B289,Spiele!B:B,Spiele!E:E))","v":""},{"$f":"IF(B289=\"\",\"\",LOOKUP(B289,Spiele!B:B,Spiele!F:F))","v":""},"","","",null,null,-1,-1,1,0]
[null,null,{"$f":"IF(B290=\"\",\"\",LOOKUP(B290,Spiele!B:B,Spiele!C:C))","v":""},{"$f":"IF(B290=\"\",\"\",LOOKUP(B290,Spiele!B:B,Spiele!D:D))","v":""},{"$f":"IF(B290=\"\",\"\",LOOKUP(B290,Spiele!B:B,Spiele!E:E))","v":""},{"$f":"IF(B290=\"\",\"\",LOOKUP(B290,Spiele!B:B,Spiele!F:F))","v":""},"","","",null,null,-1,-1,1,0]
[null,null,{"$f":"IF(B291=\"\",\"\",LOOKUP(B291,Spiele!B:B,Spiele!C:C))","v":""},{"$f":"IF(B291=\"\",\"\",LOOKUP(B291,Spiele!B:B,Spiele!D:D))","v":""},{"$f":"IF(B291=\"\",\"\",LOOKUP(B291,Spiele!B:B,Spiele!E:E))","v":""},{"$f":"IF(B291=\"\",\"\",LOOKUP(B291,Spiele!B:B,Spiele!F:F))","v":""},"","","",null,null,-1,-1,1,0]
[null,null,{"$f":"IF(B292=\"\",\"\",LOOKUP(B292,Spiele!B:B,Spiele!C:C))","v":""},{"$f":"IF(B292=\"\",\"\",LOOKUP(B292,Spiele!B:B,Spiele!D:D))","v":""},{"$f":"IF(B292=\"\",\"\",LOOKUP(B292,Spiele!B:B,Spiele!E:E))","v":""},{"$f":"IF(B292=\"\",\"\",LOOKUP(B292,Spiele!B:B,Spiele!F:F))","v":""},"","","",null,null,-1,-1,1,0]
[null,null,{"$f":"IF(B293=\"\",\"\",LOOKUP(B293,Spiele!B:B,Spiele!C:C))","v":""},{"$f":"IF(B293=\"\",\"\",LOOKUP(B293,Spiele!B:B,Spiele!D:D))","v":""},{"$f":"IF(B293=\"\",\"\",LOOKUP(B293,Spiele!B:B,Spiele!E:E))","v":""},{"$f":"IF(B293=\"\",\"\",LOOKUP(B293,Spiele!B:B,Spiele!F:F))","v":""},"","","",null,null,-1,-1,1,0]
[null,null,{"$f":"IF(B294=\"\",\"\",LOOKUP(B294,Spiele!B:B,Spiele!C:C))","v":""},{"$f":"IF(B294=\"\",\"\",LOOKUP(B294,Spiele!B:B,Spiele!D:D))","v":""},{"$f":"IF(B294=\"\",\"\",LOOKUP(B294,Spiele!B:B,Spiele!E:E))","v":""},{"$f":"IF(B294=\"\",\"\",LOOKUP(B294,Spiele!B:B,Spiele!F:F))","v":""},"","","",null,null,-1,-1,1,0]
[null,null,{"$f":"IF(B295=\"\",\"\",LOOKUP(B295,Spiele!B:B,Spiele!C:C))","v":""},{"$f":"IF(B295=\"\",\"\",LOOKUP(B295,Spiele!B:B,Spiele!D:D))","v":""},{"$f":"IF(B295=\"\",\"\",LOOKUP(B295,Spiele!B:B,Spiele!E:E))","v":""},{"$f":"IF(B295=\"\",\"\",LOOKUP(B295,Spiele!B:B,Spiele!F:F))","v":""},"","","",null,null,-1,-1,1,0]
[null,null,{"$f":"IF(B296=\"\",\"\",LOOKUP(B296,Spiele!B:B,Spiele!C:C))","v":""},{"$f":"IF(B296=\"\",\"\",LOOKUP(B296,Spiele!B:B,Spiele!D:D))","v":""},{"$f":"IF(B296=\"\",\"\",LOOKUP(B296,Spiele!B:B,Spiele!E:E))","v":""},{"$f":"IF(B296=\"\",\"\",LOOKUP(B296,Spiele!B:B,Spiele!F:F))","v":""},"","","",null,null,-1,-1,1,0]
[null,null,{"$f":"IF(B297=\"\",\"\",LOOKUP(B297,Spiele!B:B,Spiele!C:C))","v":""},{"$f":"IF(B297=\"\",\"\",LOOKUP(B297,Spiele!B:B,Spiele!D:D))","v":""},{"$f":"IF(B297=\"\",\"\",LOOKUP(B297,Spiele!B:B,Spiele!E:E))","v":""},{"$f":"IF(B297=\"\",\"\",LOOKUP(B297,Spiele!B:B,Spiele!F:F))","v":""},"","","",null,null,-1,-1,1,0]
[null,null,{"$f":"IF(B298=\"\",\"\",LOOKUP(B298,Spiele!B:B,Spiele!C:C))","v":""},{"$f":"IF(B298=\"\",\"\",LOOKUP(B298,Spiele!B:B,Spiele!D:D))","v":""},{"$f":"IF(B298=\"\",\"\",LOOKUP(B298,Spiele!B:B,Spiele!E:E))","v":""},{"$f":"IF(B298=\"\",\"\",LOOKUP(B298,Spiele!B:B,Spiele!F:F))","v":""},"","","",null,null,-1,-1,1,0]
[null,null,{"$f":"IF(B299=\"\",\"\",LOOKUP(B299,Spiele!B:B,Spiele!C:C))","v":""},{"$f":"IF(B299=\"\",\"\",LOOKUP(B299,Spiele!B:B,Spiele!D:D))","v":""},{"$f":"IF(B299=\"\",\"\",LOOKUP(B299,Spiele!B:B,Spiele!E:E))","v":""},{"$f":"IF(B299=\"\",\"\",LOOKUP(B299,Spiele!B:B,Spiele!F:F))","v":""},"","","",null,null,-1,-1,1,0]
[null,null,{"$f":"IF(B300=\"\",\"\",LOOKUP(B300,Spiele!B:B,Spiele!C:C))","v":""},{"$f":"IF(B300=\"\",\"\",LOOKUP(B300,Spiele!B:B,Spiele!D:D))","v":""},{"$f":"IF(B300=\"\",\"\",LOOKUP(B300,Spiele!B:B,Spiele!E:E))","v":""},{"$f":"IF(B300=\"\",\"\",LOOKUP(B300,Spiele!B:B,Spiele!F:F))","v":""},"","","",null,null,-1,-1,1,0]
[null,null,{"$f":"IF(B301=\"\",\"\",LOOKUP(B301,Spiele!B:B,Spiele!C:C))","v":""},{"$f":"IF(B301=\"\",\"\",LOOKUP(B301,Spiele!B:B,Spiele!D:D))","v":""},{"$f":"IF(B301=\"\",\"\",LOOKUP(B301,Spiele!B:B,Spiele!E:E))","v":""},{"$f":"IF(B301=\"\",\"\",LOOKUP(B301,Spiele!B:B,Spiele!F:F))","v":""},"","","",null,null,-1,-1,1,0]
[null,null,{"$f":"IF(B302=\"\",\"\",LOOKUP(B302,Spiele!B:B,Spiele!C:C))","v":""},{"$f":"IF(B302=\"\",\"\",LOOKUP(B302,Spiele!B:B,Spiele!D:D))","v":""},{"$f":"IF(B302=\"\",\"\",LOOKUP(B302,Spiele!B:B,Spiele!E:E))","v":""},{"$f":"IF(B302=\"\",\"\",LOOKUP(B302,Spiele!B:B,Spiele!F:F))","v":""},"","","",null,null,-1,-1,1,0]
[null,null,{"$f":"IF(B303=\"\",\"\",LOOKUP(B303,Spiele!B:B,Spiele!C:C))","v":""},{"$f":"IF(B303=\"\",\"\",LOOKUP(B303,Spiele!B:B,Spiele!D:D))","v":""},{"$f":"IF(B303=\"\",\"\",LOOKUP(B303,Spiele!B:B,Spiele!E:E))","v":""},{"$f":"IF(B303=\"\",\"\",LOOKUP(B303,Spiele!B:B,Spiele!F:F))","v":""},"","","",null,null,-1,-1,1,0]
[null,null,{"$f":"IF(B304=\"\",\"\",LOOKUP(B304,Spiele!B:B,Spiele!C:C))","v":""},{"$f":"IF(B304=\"\",\"\",LOOKUP(B304,Spiele!B:B,Spiele!D:D))","v":""},{"$f":"IF(B304=\"\",\"\",LOOKUP(B304,Spiele!B:B,Spiele!E:E))","v":""},{"$f":"IF(B304=\"\",\"\",LOOKUP(B304,Spiele!B:B,Spiele!F:F))","v":""},"","","",null,null,-1,-1,1,0]
[null,null,{"$f":"IF(B305=\"\",\"\",LOOKUP(B305,Spiele!B:B,Spiele!C:C))","v":""},{"$f":"IF(B305=\"\",\"\",LOOKUP(B305,Spiele!B:B,Spiele!D:D))","v":""},{"$f":"IF(B305=\"\",\"\",LOOKUP(B305,Spiele!B:B,Spiele!E:E))","v":""},{"$f":"IF(B305=\"\",\"\",LOOKUP(B305,Spiele!B:B,Spiele!F:F))","v":""},"","","",null,null,-1,-1,1,0]
[null,null,{"$f":"IF(B306=\"\",\"\",LOOKUP(B306,Spiele!B:B,Spiele!C:C))","v":""},{"$f":"IF(B306=\"\",\"\",LOOKUP(B306,Spiele!B:B,Spiele!D:D))","v":""},{"$f":"IF(B306=\"\",\"\",LOOKUP(B306,Spiele!B:B,Spiele!E:E))","v":""},{"$f":"IF(B306=\"\",\"\",LOOKUP(B306,Spiele!B:B,Spiele!F:F))","v":""},"","","",null,null,-1,-1,1,0]
[null,null,{"$f":"IF(B307=\"\",\"\",LOOKUP(B307,Spiele!B:B,Spiele!C:C))","v":""},{"$f":"IF(B307=\"\",\"\",LOOKUP(B307,Spiele!B:B,Spiele!D:D))","v":""},{"$f":"IF(B307=\"\",\"\",LOOKUP(B307,Spiele!B:B,Spiele!E:E))","v":""},{"$f":"IF(B307=\"\",\"\",LOOKUP(B307,Spiele!B:B,Spiele!F:F))","v":""},"","","",null,null,-1,-1,1,0]
[null,null,{"$f":"IF(B308=\"\",\"\",LOOKUP(B308,Spiele!B:B,Spiele!C:C))","v":""},{"$f":"IF(B308=\"\",\"\",LOOKUP(B308,Spiele!B:B,Spiele!D:D))","v":""},{"$f":"IF(B308=\"\",\"\",LOOKUP(B308,Spiele!B:B,Spiele!E:E))","v":""},{"$f":"IF(B308=\"\",\"\",LOOKUP(B308,Spiele!B:B,Spiele!F:F))","v":""},"","","",null,null,-1,-1,1,0]
[null,null,{"$f":"IF(B309=\"\",\"\",LOOKUP(B309,Spiele!B:B,Spiele!C:C))","v":""},{"$f":"IF(B309=\"\",\"\",LOOKUP(B309,Spiele!B:B,Spiele!D:D))","v":""},{"$f":"IF(B309=\"\",\"\",LOOKUP(B309,Spiele!B:B,Spiele!E:E))","v":""},{"$f":"IF(B309=\"\",\"\",LOOKUP(B309,Spiele!B:B,Spiele!F:F))","v":""},"","","",null,null,-1,-1,1,0]
[null,null,{"$f":"IF(B310=\"\",\"\",LOOKUP(B310,Spiele!B:B,Spiele!C:C))","v":""},{"$f":"IF(B310=\"\",\"\",LOOKUP(B310,Spiele!B:B,Spiele!D:D))","v":""},{"$f":"IF(B310=\"\",\"\",LOOKUP(B310,Spiele!B:B,Spiele!E:E))","v":""},{"$f":"IF(B310=\"\",\"\",LOOKUP(B310,Spiele!B:B,Spiele!F:F))","v":""},"","","",null,null,-1,-1,1,0]
[null,null,{"$f":"IF(B311=\"\",\"\",LOOKUP(B311,Spiele!B:B,Spiele!C:C))","v":""},{"$f":"IF(B311=\"\",\"\",LOOKUP(B311,Spiele!B:B,Spiele!D:D))","v":""},{"$f":"IF(B311=\"\",\"\",LOOKUP(B311,Spiele!B:B,Spiele!E:E))","v":""},{"$f":"IF(B311=\"\",\"\",LOOKUP(B311,Spiele!B:B,Spiele!F:F))","v":""},"","","",null,null,-1,-1,1,0]
[null,null,{"$f":"IF(B312=\"\",\"\",LOOKUP(B312,Spiele!B:B,Spiele!C:C))","v":""},{"$f":"IF(B312=\"\",\"\",LOOKUP(B312,Spiele!B:B,Spiele!D:D))","v":""},{"$f":"IF(B312=\"\",\"\",LOOKUP(B312,Spiele!B:B,Spiele!E:E))","v":""},{"$f":"IF(B312=\"\",\"\",LOOKUP(B312,Spiele!B:B,Spiele!F:F))","v":""},"","","",null,null,-1,-1,1,0]
[null,null,{"$f":"IF(B313=\"\",\"\",LOOKUP(B313,Spiele!B:B,Spiele!C:C))","v":""},{"$f":"IF(B313=\"\",\"\",LOOKUP(B313,Spiele!B:B,Spiele!D:D))","v":""},{"$f":"IF(B313=\"\",\"\",LOOKUP(B313,Spiele!B:B,Spiele!E:E))","v":""},{"$f":"IF(B313=\"\",\"\",LOOKUP(B313,Spiele!B:B,Spiele!F:F))","v":""},"","","",null,null,-1,-1,1,0]
[null,null,{"$f":"IF(B314=\"\",\"\",LOOKUP(B314,Spiele!B:B,Spiele!C:C))","v":""},{"$f":"IF(B314=\"\",\"\",LOOKUP(B314,Spiele!B:B,Spiele!D:D))","v":""},{"$f":"IF(B314=\"\",\"\",LOOKUP(B314,Spiele!B:B,Spiele!E:E))","v":""},{"$f":"IF(B314=\"\",\"\",LOOKUP(B314,Spiele!B:B,Spiele!F:F))","v":""},"","","",null,null,-1,-1,1,0]
[null,null,{"$f":"IF(B315=\"\",\"\",LOOKUP(B315,Spiele!B:B,Spiele!C:C))","v":""},{"$f":"IF(B315=\"\",\"\",LOOKUP(B315,Spiele!B:B,Spiele!D:D))","v":""},{"$f":"IF(B315=\"\",\"\",LOOKUP(B315,Spiele!B:B,Spiele!E:E))","v":""},{"$f":"IF(B315=\"\",\"\",LOOKUP(B315,Spiele!B:B,Spiele!F:F))","v":""},"","","",null,null,-1,-1,1,0]
[null,null,{"$f":"IF(B316=\"\",\"\",LOOKUP(B316,Spiele!B:B,Spiele!C:C))","v":""},{"$f":"IF(B316=\"\",\"\",LOOKUP(B316,Spiele!B:B,Spiele!D:D))","v":""},{"$f":"IF(B316=\"\",\"\",LOOKUP(B316,Spiele!B:B,Spiele!E:E))","v":""},{"$f":"IF(B316=\"\",\"\",LOOKUP(B316,Spiele!B:B,Spiele!F:F))","v":""},"","","",null,null,-1,-1,1,0]
[null,null,{"$f":"IF(B317=\"\",\"\",LOOKUP(B317,Spiele!B:B,Spiele!C:C))","v":""},{"$f":"IF(B317=\"\",\"\",LOOKUP(B317,Spiele!B:B,Spiele!D:D))","v":""},{"$f":"IF(B317=\"\",\"\",LOOKUP(B317,Spiele!B:B,Spiele!E:E))","v":""},{"$f":"IF(B317=\"\",\"\",LOOKUP(B317,Spiele!B:B,Spiele!F:F))","v":""},"","","",null,null,-1,-1,1,0]
[null,null,{"$f":"IF(B318=\"\",\"\",LOOKUP(B318,Spiele!B:B,Spiele!C:C))","v":""},{"$f":"IF(B318=\"\",\"\",LOOKUP(B318,Spiele!B:B,Spiele!D:D))","v":""},{"$f":"IF(B318=\"\",\"\",LOOKUP(B318,Spiele!B:B,Spiele!E:E))","v":""},{"$f":"IF(B318=\"\",\"\",LOOKUP(B318,Spiele!B:B,Spiele!F:F))","v":""},"","","",null,null,-1,-1,1,0]
[null,null,{"$f":"IF(B319=\"\",\"\",LOOKUP(B319,Spiele!B:B,Spiele!C:C))","v":""},{"$f":"IF(B319=\"\",\"\",LOOKUP(B319,Spiele!B:B,Spiele!D:D))","v":""},{"$f":"IF(B319=\"\",\"\",LOOKUP(B319,Spiele!B:B,Spiele!E:E))","v":""},{"$f":"IF(B319=\"\",\"\",LOOKUP(B319,Spiele!B:B,Spiele!F:F))","v":""},"","","",null,null,-1,-1,1,0]
[null,null,{"$f":"IF(B320=\"\",\"\",LOOKUP(B320,Spiele!B:B,Spiele!C:C))","v":""},{"$f":"IF(B320=\"\",\"\",LOOKUP(B320,Spiele!B:B,Spiele!D:D))","v":""},{"$f":"IF(B320=\"\",\"\",LOOKUP(B320,Spiele!B:B,Spiele!E:E))","v":""},{"$f":"IF(B320=\"\",\"\",LOOKUP(B320,Spiele!B:B,Spiele!F:F))","v":""},"","","",null,null,-1,-1,1,0]
[null,null,{"$f":"IF(B321=\"\",\"\",LOOKUP(B321,Spiele!B:B,Spiele!C:C))","v":""},{"$f":"IF(B321=\"\",\"\",LOOKUP(B321,Spiele!B:B,Spiele!D:D))","v":""},{"$f":"IF(B321=\"\",\"\",LOOKUP(B321,Spiele!B:B,Spiele!E:E))","v":""},{"$f":"IF(B321=\"\",\"\",LOOKUP(B321,Spiele!B:B,Spiele!F:F))","v":""},"","","",null,null,-1,-1,1,0]
[null,null,{"$f":"IF(B322=\"\",\"\",LOOKUP(B322,Spiele!B:B,Spiele!C:C))","v":""},{"$f":"IF(B322=\"\",\"\",LOOKUP(B322,Spiele!B:B,Spiele!D:D))","v":""},{"$f":"IF(B322=\"\",\"\",LOOKUP(B322,Spiele!B:B,Spiele!E:E))","v":""},{"$f":"IF(B322=\"\",\"\",LOOKUP(B322,Spiele!B:B,Spiele!F:F))","v":""},"","","",null,null,-1,-1,1,0]
[null,null,{"$f":"IF(B323=\"\",\"\",LOOKUP(B323,Spiele!B:B,Spiele!C:C))","v":""},{"$f":"IF(B323=\"\",\"\",LOOKUP(B323,Spiele!B:B,Spiele!D:D))","v":""},{"$f":"IF(B323=\"\",\"\",LOOKUP(B323,Spiele!B:B,Spiele!E:E))","v":""},{"$f":"IF(B323=\"\",\"\",LOOKUP(B323,Spiele!B:B,Spiele!F:F))","v":""},"","","",null,null,-1,-1,1,0]
[null,null,{"$f":"IF(B324=\"\",\"\",LOOKUP(B324,Spiele!B:B,Spiele!C:C))","v":""},{"$f":"IF(B324=\"\",\"\",LOOKUP(B324,Spiele!B:B,Spiele!D:D))","v":""},{"$f":"IF(B324=\"\",\"\",LOOKUP(B324,Spiele!B:B,Spiele!E:E))","v":""},{"$f":"IF(B324=\"\",\"\",LOOKUP(B324,Spiele!B:B,Spiele!F:F))","v":""},"","","",null,null,-1,-1,1,0]
[null,null,{"$f":"IF(B325=\"\",\"\",LOOKUP(B325,Spiele!B:B,Spiele!C:C))","v":""},{"$f":"IF(B325=\"\",\"\",LOOKUP(B325,Spiele!B:B,Spiele!D:D))","v":""},{"$f":"IF(B325=\"\",\"\",LOOKUP(B325,Spiele!B:B,Spiele!E:E))","v":""},{"$f":"IF(B325=\"\",\"\",LOOKUP(B325,Spiele!B:B,Spiele!F:F))","v":""},"","","",null,null,-1,-1,1,0]
[null,null,{"$f":"IF(B326=\"\",\"\",LOOKUP(B326,Spiele!B:B,Spiele!C:C))","v":""},{"$f":"IF(B326=\"\",\"\",LOOKUP(B326,Spiele!B:B,Spiele!D:D))","v":""},{"$f":"IF(B326=\"\",\"\",LOOKUP(B326,Spiele!B:B,Spiele!E:E))","v":""},{"$f":"IF(B326=\"\",\"\",LOOKUP(B326,Spiele!B:B,Spiele!F:F))","v":""},"","","",null,null,-1,-1,1,0]
[null,null,{"$f":"IF(B327=\"\",\"\",LOOKUP(B327,Spiele!B:B,Spiele!C:C))","v":""},{"$f":"IF(B327=\"\",\"\",LOOKUP(B327,Spiele!B:B,Spiele!D:D))","v":""},{"$f":"IF(B327=\"\",\"\",LOOKUP(B327,Spiele!B:B,Spiele!E:E))","v":""},{"$f":"IF(B327=\"\",\"\",LOOKUP(B327,Spiele!B:B,Spiele!F:F))","v":""},"","","",null,null,-1,-1,1,0]
[null,null,{"$f":"IF(B328=\"\",\"\",LOOKUP(B328,Spiele!B:B,Spiele!C:C))","v":""},{"$f":"IF(B328=\"\",\"\",LOOKUP(B328,Spiele!B:B,Spiele!D:D))","v":""},{"$f":"IF(B328=\"\",\"\",LOOKUP(B328,Spiele!B:B,Spiele!E:E))","v":""},{"$f":"IF(B328=\"\",\"\",LOOKUP(B328,Spiele!B:B,Spiele!F:F))","v":""},{"$f":"IF(E328=\"\",\"\",IF(E328>F328,1,0))","v":""},{"$f":"IF(F328=\"\",\"\",IF(E328<F328,1,0))","v":""},{"$f":"IF(E328=\"\",\"\",IF(E328=F328,1,0))","v":""},null,null,{"$f":"IF(E328=\"\",-1,IF(J328>K328,1,-1))","v":-1},{"$f":"IF(F328=\"\",-1,IF(J328<K328,1,-1))","v":-1},1,{"$f":"IF(E328=\"\",0,IF(E328=J328,1,0)+IF(F328=K328,1,0)+IF(G328=L328,1,0)+IF(H328=M328,1,0)+IF(I328=N328,1,0))","v":0}]
[null,null,{"$f":"IF(B329=\"\",\"\",LOOKUP(B329,Spiele!B:B,Spiele!C:C))","v":""},{"$f":"IF(B329=\"\",\"\",LOOKUP(B329,Spiele!B:B,Spiele!D:D))","v":""},{"$f":"IF(B329=\"\",\"\",LOOKUP(B329,Spiele!B:B,Spiele!E:E))","v":""},{"$f":"IF(B329=\"\",\"\",LOOKUP(B329,Spiele!B:B,Spiele!F:F))","v":""},"","","",null,null,-1,-1,1,0]
[null,null,{"$f":"IF(B330=\"\",\"\",LOOKUP(B330,Spiele!B:B,Spiele!C:C))","v":""},{"$f":"IF(B330=\"\",\"\",LOOKUP(B330,Spiele!B:B,Spiele!D:D))","v":""},{"$f":"IF(B330=\"\",\"\",LOOKUP(B330,Spiele!B:B,Spiele!E:E))","v":""},{"$f":"IF(B330=\"\",\"\",LOOKUP(B330,Spiele!B:B,Spiele!F:F))","v":""},"","","",null,null,-1,-1,1,0]
[null,null,{"$f":"IF(B331=\"\",\"\",LOOKUP(B331,Spiele!B:B,Spiele!C:C))","v":""},{"$f":"IF(B331=\"\",\"\",LOOKUP(B331,Spiele!B:B,Spiele!D:D))","v":""},{"$f":"IF(B331=\"\",\"\",LOOKUP(B331,Spiele!B:B,Spiele!E:E))","v":""},{"$f":"IF(B331=\"\",\"\",LOOKUP(B331,Spiele!B:B,Spiele!F:F))","v":""},"","","",null,null,-1,-1,1,0]
[null,null,{"$f":"IF(B332=\"\",\"\",LOOKUP(B332,Spiele!B:B,Spiele!C:C))","v":""},{"$f":"IF(B332=\"\",\"\",LOOKUP(B332,Spiele!B:B,Spiele!D:D))","v":""},{"$f":"IF(B332=\"\",\"\",LOOKUP(B332,Spiele!B:B,Spiele!E:E))","v":""},{"$f":"IF(B332=\"\",\"\",LOOKUP(B332,Spiele!B:B,Spiele!F:F))","v":""},"","","",null,null,-1,-1,1,0]
[null,null,{"$f":"IF(B333=\"\",\"\",LOOKUP(B333,Spiele!B:B,Spiele!C:C))","v":""},{"$f":"IF(B333=\"\",\"\",LOOKUP(B333,Spiele!B:B,Spiele!D:D))","v":""},{"$f":"IF(B333=\"\",\"\",LOOKUP(B333,Spiele!B:B,Spiele!E:E))","v":""},{"$f":"IF(B333=\"\",\"\",LOOKUP(B333,Spiele!B:B,Spiele!F:F))","v":""},"","","",null,null,-1,-1,1,0]
[null,null,{"$f":"IF(B334=\"\",\"\",LOOKUP(B334,Spiele!B:B,Spiele!C:C))","v":""},{"$f":"IF(B334=\"\",\"\",LOOKUP(B334,Spiele!B:B,Spiele!D:D))","v":""},{"$f":"IF(B334=\"\",\"\",LOOKUP(B334,Spiele!B:B,Spiele!E:E))","v":""},{"$f":"IF(B334=\"\",\"\",LOOKUP(B334,Spiele!B:B,Spiele!F:F))","v":""},"","","",null,null,-1,-1,1,0]
[null,null,{"$f":"IF(B335=\"\",\"\",LOOKUP(B335,Spiele!B:B,Spiele!C:C))","v":""},{"$f":"IF(B335=\"\",\"\",LOOKUP(B335,Spiele!B:B,Spiele!D:D))","v":""},{"$f":"IF(B335=\"\",\"\",LOOKUP(B335,Spiele!B:B,Spiele!E:E))","v":""},{"$f":"IF(B335=\"\",\"\",LOOKUP(B335,Spiele!B:B,Spiele!F:F))","v":""},"","","",null,null,-1,-1,1,0]
[null,null,{"$f":"IF(B336=\"\",\"\",LOOKUP(B336,Spiele!B:B,Spiele!C:C))","v":""},{"$f":"IF(B336=\"\",\"\",LOOKUP(B336,Spiele!B:B,Spiele!D:D))","v":""},{"$f":"IF(B336=\"\",\"\",LOOKUP(B336,Spiele!B:B,Spiele!E:E))","v":""},{"$f":"IF(B336=\"\",\"\",LOOKUP(B336,Spiele!B:B,Spiele!F:F))","v":""},"","","",null,null,-1,-1,{"$f":"IF(E336=\"-\",-1,IF(J336=K336,1,-1))","v":1},0]
[null,null,{"$f":"IF(B337=\"\",\"\",LOOKUP(B337,Spiele!B:B,Spiele!C:C))","v":""},{"$f":"IF(B337=\"\",\"\",LOOKUP(B337,Spiele!B:B,Spiele!D:D))","v":""},{"$f":"IF(B337=\"\",\"\",LOOKUP(B337,Spiele!B:B,Spiele!E:E))","v":""},{"$f":"IF(B337=\"\",\"\",LOOKUP(B337,Spiele!B:B,Spiele!F:F))","v":""},"","","",null,null,-1,-1,1,0]
[null,null,{"$f":"IF(B338=\"\",\"\",LOOKUP(B338,Spiele!B:B,Spiele!C:C))","v":""},{"$f":"IF(B338=\"\",\"\",LOOKUP(B338,Spiele!B:B,Spiele!D:D))","v":""},{"$f":"IF(B338=\"\",\"\",LOOKUP(B338,Spiele!B:B,Spiele!E:E))","v":""},{"$f":"IF(B338=\"\",\"\",LOOKUP(B338,Spiele!B:B,Spiele!F:F))","v":""},"","","",null,null,-1,-1,1,0]
[null,null,{"$f":"IF(B339=\"\",\"\",LOOKUP(B339,Spiele!B:B,Spiele!C:C))","v":""},{"$f":"IF(B339=\"\",\"\",LOOKUP(B339,Spiele!B:B,Spiele!D:D))","v":""},{"$f":"IF(B339=\"\",\"\",LOOKUP(B339,Spiele!B:B,Spiele!E:E))","v":""},{"$f":"IF(B339=\"\",\"\",LOOKUP(B339,Spiele!B:B,Spiele!F:F))","v":""},"","","",null,null,-1,-1,1,0]
[null,null,{"$f":"IF(B340=\"\",\"\",LOOKUP(B340,Spiele!B:B,Spiele!C:C))","v":""},{"$f":"IF(B340=\"\",\"\",LOOKUP(B340,Spiele!B:B,Spiele!D:D))","v":""},{"$f":"IF(B340=\"\",\"\",LOOKUP(B340,Spiele!B:B,Spiele!E:E))","v":""},{"$f":"IF(B340=\"\",\"\",LOOKUP(B340,Spiele!B:B,Spiele!F:F))","v":""},"","","",null,null,-1,-1,1,0]
[null,null,{"$f":"IF(B341=\"\",\"\",LOOKUP(B341,Spiele!B:B,Spiele!C:C))","v":""},{"$f":"IF(B341=\"\",\"\",LOOKUP(B341,Spiele!B:B,Spiele!D:D))","v":""},{"$f":"IF(B341=\"\",\"\",LOOKUP(B341,Spiele!B:B,Spiele!E:E))","v":""},{"$f":"IF(B341=\"\",\"\",LOOKUP(B341,Spiele!B:B,Spiele!F:F))","v":""},"","","",null,null,-1,-1,1,0]
[null,null,{"$f":"IF(B342=\"\",\"\",LOOKUP(B342,Spiele!B:B,Spiele!C:C))","v":""},{"$f":"IF(B342=\"\",\"\",LOOKUP(B342,Spiele!B:B,Spiele!D:D))","v":""},{"$f":"IF(B342=\"\",\"\",LOOKUP(B342,Spiele!B:B,Spiele!E:E))","v":""},{"$f":"IF(B342=\"\",\"\",LOOKUP(B342,Spiele!B:B,Spiele!F:F))","v":""},"","","",null,null,-1,-1,1,0]
[null,null,{"$f":"IF(B343=\"\",\"\",LOOKUP(B343,Spiele!B:B,Spiele!C:C))","v":""},{"$f":"IF(B343=\"\",\"\",LOOKUP(B343,Spiele!B:B,Spiele!D:D))","v":""},{"$f":"IF(B343=\"\",\"\",LOOKUP(B343,Spiele!B:B,Spiele!E:E))","v":""},{"$f":"IF(B343=\"\",\"\",LOOKUP(B343,Spiele!B:B,Spiele!F:F))","v":""},"","","",null,null,-1,-1,1,0]
[null,null,{"$f":"IF(B344=\"\",\"\",LOOKUP(B344,Spiele!B:B,Spiele!C:C))","v":""},{"$f":"IF(B344=\"\",\"\",LOOKUP(B344,Spiele!B:B,Spiele!D:D))","v":""},{"$f":"IF(B344=\"\",\"\",LOOKUP(B344,Spiele!B:B,Spiele!E:E))","v":""},{"$f":"IF(B344=\"\",\"\",LOOKUP(B344,Spiele!B:B,Spiele!F:F))","v":""},"","","",null,null,-1,-1,1,0]
[null,null,{"$f":"IF(B345=\"\",\"\",LOOKUP(B345,Spiele!B:B,Spiele!C:C))","v":""},{"$f":"IF(B345=\"\",\"\",LOOKUP(B345,Spiele!B:B,Spiele!D:D))","v":""},{"$f":"IF(B345=\"\",\"\",LOOKUP(B345,Spiele!B:B,Spiele!E:E))","v":""},{"$f":"IF(B345=\"\",\"\",LOOKUP(B345,Spiele!B:B,Spiele!F:F))","v":""},"","","",null,null,-1,-1,1,0]
[null,null,{"$f":"IF(B346=\"\",\"\",LOOKUP(B346,Spiele!B:B,Spiele!C:C))","v":""},{"$f":"IF(B346=\"\",\"\",LOOKUP(B346,Spiele!B:B,Spiele!D:D))","v":""},{"$f":"IF(B346=\"\",\"\",LOOKUP(B346,Spiele!B:B,Spiele!E:E))","v":""},{"$f":"IF(B346=\"\",\"\",LOOKUP(B346,Spiele!B:B,Spiele!F:F))","v":""},"","","",null,null,-1,-1,1,0]
[null,null,{"$f":"IF(B347=\"\",\"\",LOOKUP(B347,Spiele!B:B,Spiele!C:C))","v":""},{"$f":"IF(B347=\"\",\"\",LOOKUP(B347,Spiele!B:B,Spiele!D:D))","v":""},{"$f":"IF(B347=\"\",\"\",LOOKUP(B347,Spiele!B:B,Spiele!E:E))","v":""},{"$f":"IF(B347=\"\",\"\",LOOKUP(B347,Spiele!B:B,Spiele!F:F))","v":""},"","","",null,null,-1,-1,1,0]
[null,null,{"$f":"IF(B348=\"\",\"\",LOOKUP(B348,Spiele!B:B,Spiele!C:C))","v":""},{"$f":"IF(B348=\"\",\"\",LOOKUP(B348,Spiele!B:B,Spiele!D:D))","v":""},{"$f":"IF(B348=\"\",\"\",LOOKUP(B348,Spiele!B:B,Spiele!E:E))","v":""},{"$f":"IF(B348=\"\",\"\",LOOKUP(B348,Spiele!B:B,Spiele!F:F))","v":""},"","","",null,null,-1,-1,1,0]
[null,null,{"$f":"IF(B349=\"\",\"\",LOOKUP(B349,Spiele!B:B,Spiele!C:C))","v":""},{"$f":"IF(B349=\"\",\"\",LOOKUP(B349,Spiele!B:B,Spiele!D:D))","v":""},{"$f":"IF(B349=\"\",\"\",LOOKUP(B349,Spiele!B:B,Spiele!E:E))","v":""},{"$f":"IF(B349=\"\",\"\",LOOKUP(B349,Spiele!B:B,Spiele!F:F))","v":""},"","","",null,null,-1,-1,1,0]
[null,null,{"$f":"IF(B350=\"\",\"\",LOOKUP(B350,Spiele!B:B,Spiele!C:C))","v":""},{"$f":"IF(B350=\"\",\"\",LOOKUP(B350,Spiele!B:B,Spiele!D:D))","v":""},{"$f":"IF(B350=\"\",\"\",LOOKUP(B350,Spiele!B:B,Spiele!E:E))","v":""},{"$f":"IF(B350=\"\",\"\",LOOKUP(B350,Spiele!B:B,Spiele!F:F))","v":""},"","","",null,null,-1,-1,1,0]
[null,null,{"$f":"IF(B351=\"\",\"\",LOOKUP(B351,Spiele!B:B,Spiele!C:C))","v":""},{"$f":"IF(B351=\"\",\"\",LOOKUP(B351,Spiele!B:B,Spiele!D:D))","v":""},{"$f":"IF(B351=\"\",\"\",LOOKUP(B351,Spiele!B:B,Spiele!E:E))","v":""},{"$f":"IF(B351=\"\",\"\",LOOKUP(B351,Spiele!B:B,Spiele!F:F))","v":""},"","","",null,null,-1,-1,1,0]
[null,null,{"$f":"IF(B352=\"\",\"\",LOOKUP(B352,Spiele!B:B,Spiele!C:C))","v":""},{"$f":"IF(B352=\"\",\"\",LOOKUP(B352,Spiele!B:B,Spiele!D:D))","v":""},{"$f":"IF(B352=\"\",\"\",LOOKUP(B352,Spiele!B:B,Spiele!E:E))","v":""},{"$f":"IF(B352=\"\",\"\",LOOKUP(B352,Spiele!B:B,Spiele!F:F))","v":""},"","","",null,null,-1,-1,1,0]
[null,null,{"$f":"IF(B353=\"\",\"\",LOOKUP(B353,Spiele!B:B,Spiele!C:C))","v":""},{"$f":"IF(B353=\"\",\"\",LOOKUP(B353,Spiele!B:B,Spiele!D:D))","v":""},{"$f":"IF(B353=\"\",\"\",LOOKUP(B353,Spiele!B:B,Spiele!E:E))","v":""},{"$f":"IF(B353=\"\",\"\",LOOKUP(B353,Spiele!B:B,Spiele!F:F))","v":""},"","","",null,null,-1,-1,1,0]
[null,null,{"$f":"IF(B354=\"\",\"\",LOOKUP(B354,Spiele!B:B,Spiele!C:C))","v":""},{"$f":"IF(B354=\"\",\"\",LOOKUP(B354,Spiele!B:B,Spiele!D:D))","v":""},{"$f":"IF(B354=\"\",\"\",LOOKUP(B354,Spiele!B:B,Spiele!E:E))","v":""},{"$f":"IF(B354=\"\",\"\",LOOKUP(B354,Spiele!B:B,Spiele!F:F))","v":""},"","","",null,null,-1,-1,1,0]
[null,null,{"$f":"IF(B355=\"\",\"\",LOOKUP(B355,Spiele!B:B,Spiele!C:C))","v":""},{"$f":"IF(B355=\"\",\"\",LOOKUP(B355,Spiele!B:B,Spiele!D:D))","v":""},{"$f":"IF(B355=\"\",\"\",LOOKUP(B355,Spiele!B:B,Spiele!E:E))","v":""},{"$f":"IF(B355=\"\",\"\",LOOKUP(B355,Spiele!B:B,Spiele!F:F))","v":""},"","","",null,null,-1,-1,1,0]
[null,null,{"$f":"IF(B356=\"\",\"\",LOOKUP(B356,Spiele!B:B,Spiele!C:C))","v":""},{"$f":"IF(B356=\"\",\"\",LOOKUP(B356,Spiele!B:B,Spiele!D:D))","v":""},{"$f":"IF(B356=\"\",\"\",LOOKUP(B356,Spiele!B:B,Spiele!E:E))","v":""},{"$f":"IF(B356=\"\",\"\",LOOKUP(B356,Spiele!B:B,Spiele!F:F))","v":""},"","","",null,null,-1,-1,1,0]
[null,null,{"$f":"IF(B357=\"\",\"\",LOOKUP(B357,Spiele!B:B,Spiele!C:C))","v":""},{"$f":"IF(B357=\"\",\"\",LOOKUP(B357,Spiele!B:B,Spiele!D:D))","v":""},{"$f":"IF(B357=\"\",\"\",LOOKUP(B357,Spiele!B:B,Spiele!E:E))","v":""},{"$f":"IF(B357=\"\",\"\",LOOKUP(B357,Spiele!B:B,Spiele!F:F))","v":""},"","","",null,null,-1,-1,1,0]
[null,null,{"$f":"IF(B358=\"\",\"\",LOOKUP(B358,Spiele!B:B,Spiele!C:C))","v":""},{"$f":"IF(B358=\"\",\"\",LOOKUP(B358,Spiele!B:B,Spiele!D:D))","v":""},{"$f":"IF(B358=\"\",\"\",LOOKUP(B358,Spiele!B:B,Spiele!E:E))","v":""},{"$f":"IF(B358=\"\",\"\",LOOKUP(B358,Spiele!B:B,Spiele!F:F))","v":""},"","","",null,null,-1,-1,1,0]
[null,null,{"$f":"IF(B359=\"\",\"\",LOOKUP(B359,Spiele!B:B,Spiele!C:C))","v":""},{"$f":"IF(B359=\"\",\"\",LOOKUP(B359,Spiele!B:B,Spiele!D:D))","v":""},{"$f":"IF(B359=\"\",\"\",LOOKUP(B359,Spiele!B:B,Spiele!E:E))","v":""},{"$f":"IF(B359=\"\",\"\",LOOKUP(B359,Spiele!B:B,Spiele!F:F))","v":""},"","","",null,null,-1,-1,1,0]
[null,null,{"$f":"IF(B360=\"\",\"\",LOOKUP(B360,Spiele!B:B,Spiele!C:C))","v":""},{"$f":"IF(B360=\"\",\"\",LOOKUP(B360,Spiele!B:B,Spiele!D:D))","v":""},{"$f":"IF(B360=\"\",\"\",LOOKUP(B360,Spiele!B:B,Spiele!E:E))","v":""},{"$f":"IF(B360=\"\",\"\",LOOKUP(B360,Spiele!B:B,Spiele!F:F))","v":""},"","","",null,null,-1,-1,1,0]
[null,null,{"$f":"IF(B361=\"\",\"\",LOOKUP(B361,Spiele!B:B,Spiele!C:C))","v":""},{"$f":"IF(B361=\"\",\"\",LOOKUP(B361,Spiele!B:B,Spiele!D:D))","v":""},{"$f":"IF(B361=\"\",\"\",LOOKUP(B361,Spiele!B:B,Spiele!E:E))","v":""},{"$f":"IF(B361=\"\",\"\",LOOKUP(B361,Spiele!B:B,Spiele!F:F))","v":""},"","","",null,null,-1,-1,1,0]
[null,null,{"$f":"IF(B362=\"\",\"\",LOOKUP(B362,Spiele!B:B,Spiele!C:C))","v":""},{"$f":"IF(B362=\"\",\"\",LOOKUP(B362,Spiele!B:B,Spiele!D:D))","v":""},{"$f":"IF(B362=\"\",\"\",LOOKUP(B362,Spiele!B:B,Spiele!E:E))","v":""},{"$f":"IF(B362=\"\",\"\",LOOKUP(B362,Spiele!B:B,Spiele!F:F))","v":""},"","","",null,null,-1,-1,1,0]
[null,null,{"$f":"IF(B363=\"\",\"\",LOOKUP(B363,Spiele!B:B,Spiele!C:C))","v":""},{"$f":"IF(B363=\"\",\"\",LOOKUP(B363,Spiele!B:B,Spiele!D:D))","v":""},{"$f":"IF(B363=\"\",\"\",LOOKUP(B363,Spiele!B:B,Spiele!E:E))","v":""},{"$f":"IF(B363=\"\",\"\",LOOKUP(B363,Spiele!B:B,Spiele!F:F))","v":""},"","","",null,null,-1,-1,1,0]
[null,null,{"$f":"IF(B364=\"\",\"\",LOOKUP(B364,Spiele!B:B,Spiele!C:C))","v":""},{"$f":"IF(B364=\"\",\"\",LOOKUP(B364,Spiele!B:B,Spiele!D:D))","v":""},{"$f":"IF(B364=\"\",\"\",LOOKUP(B364,Spiele!B:B,Spiele!E:E))","v":""},{"$f":"IF(B364=\"\",\"\",LOOKUP(B364,Spiele!B:B,Spiele!F:F))","v":""},"","","",null,null,-1,-1,1,0]
[null,null,{"$f":"IF(B365=\"\",\"\",LOOKUP(B365,Spiele!B:B,Spiele!C:C))","v":""},{"$f":"IF(B365=\"\",\"\",LOOKUP(B365,Spiele!B:B,Spiele!D:D))","v":""},{"$f":"IF(B365=\"\",\"\",LOOKUP(B365,Spiele!B:B,Spiele!E:E))","v":""},{"$f":"IF(B365=\"\",\"\",LOOKUP(B365,Spiele!B:B,Spiele!F:F))","v":""},"","","",null,null,-1,-1,1,0]
[null,null,{"$f":"IF(B366=\"\",\"\",LOOKUP(B366,Spiele!B:B,Spiele!C:C))","v":""},{"$f":"IF(B366=\"\",\"\",LOOKUP(B366,Spiele!B:B,Spiele!D:D))","v":""},{"$f":"IF(B366=\"\",\"\",LOOKUP(B366,Spiele!B:B,Spiele!E:E))","v":""},{"$f":"IF(B366=\"\",\"\",LOOKUP(B366,Spiele!B:B,Spiele!F:F))","v":""},"","","",null,null,-1,-1,1,0]
[null,null,{"$f":"IF(B367=\"\",\"\",LOOKUP(B367,Spiele!B:B,Spiele!C:C))","v":""},{"$f":"IF(B367=\"\",\"\",LOOKUP(B367,Spiele!B:B,Spiele!D:D))","v":""},{"$f":"IF(B367=\"\",\"\",LOOKUP(B367,Spiele!B:B,Spiele!E:E))","v":""},{"$f":"IF(B367=\"\",\"\",LOOKUP(B367,Spiele!B:B,Spiele!F:F))","v":""},"","","",null,null,-1,-1,1,0]
[null,null,{"$f":"IF(B368=\"\",\"\",LOOKUP(B368,Spiele!B:B,Spiele!C:C))","v":""},{"$f":"IF(B368=\"\",\"\",LOOKUP(B368,Spiele!B:B,Spiele!D:D))","v":""},{"$f":"IF(B368=\"\",\"\",LOOKUP(B368,Spiele!B:B,Spiele!E:E))","v":""},{"$f":"IF(B368=\"\",\"\",LOOKUP(B368,Spiele!B:B,Spiele!F:F))","v":""},"","","",null,null,-1,-1,1,0]
[null,null,{"$f":"IF(B369=\"\",\"\",LOOKUP(B369,Spiele!B:B,Spiele!C:C))","v":""},{"$f":"IF(B369=\"\",\"\",LOOKUP(B369,Spiele!B:B,Spiele!D:D))","v":""},{"$f":"IF(B369=\"\",\"\",LOOKUP(B369,Spiele!B:B,Spiele!E:E))","v":""},{"$f":"IF(B369=\"\",\"\",LOOKUP(B369,Spiele!B:B,Spiele!F:F))","v":""},"","","",null,null,-1,-1,1,0]
[null,null,{"$f":"IF(B370=\"\",\"\",LOOKUP(B370,Spiele!B:B,Spiele!C:C))","v":""},{"$f":"IF(B370=\"\",\"\",LOOKUP(B370,Spiele!B:B,Spiele!D:D))","v":""},{"$f":"IF(B370=\"\",\"\",LOOKUP(B370,Spiele!B:B,Spiele!E:E))","v":""},{"$f":"IF(B370=\"\",\"\",LOOKUP(B370,Spiele!B:B,Spiele!F:F))","v":""},"","","",null,null,-1,-1,1,0]
[null,null,{"$f":"IF(B371=\"\",\"\",LOOKUP(B371,Spiele!B:B,Spiele!C:C))","v":""},{"$f":"IF(B371=\"\",\"\",LOOKUP(B371,Spiele!B:B,Spiele!D:D))","v":""},{"$f":"IF(B371=\"\",\"\",LOOKUP(B371,Spiele!B:B,Spiele!E:E))","v":""},{"$f":"IF(B371=\"\",\"\",LOOKUP(B371,Spiele!B:B,Spiele!F:F))","v":""},"","","",null,null,-1,-1,1,0]
[null,null,{"$f":"IF(B372=\"\",\"\",LOOKUP(B372,Spiele!B:B,Spiele!C:C))","v":""},{"$f":"IF(B372=\"\",\"\",LOOKUP(B372,Spiele!B:B,Spiele!D:D))","v":""},{"$f":"IF(B372=\"\",\"\",LOOKUP(B372,Spiele!B:B,Spiele!E:E))","v":""},{"$f":"IF(B372=\"\",\"\",LOOKUP(B372,Spiele!B:B,Spiele!F:F))","v":""},"","","",null,null,-1,-1,1,0]
[null,null,{"$f":"IF(B373=\"\",\"\",LOOKUP(B373,Spiele!B:B,Spiele!C:C))","v":""},{"$f":"IF(B373=\"\",\"\",LOOKUP(B373,Spiele!B:B,Spiele!D:D))","v":""},{"$f":"IF(B373=\"\",\"\",LOOKUP(B373,Spiele!B:B,Spiele!E:E))","v":""},{"$f":"IF(B373=\"\",\"\",LOOKUP(B373,Spiele!B:B,Spiele!F:F))","v":""},"","","",null,null,-1,-1,1,0]
[null,null,{"$f":"IF(B374=\"\",\"\",LOOKUP(B374,Spiele!B:B,Spiele!C:C))","v":""},{"$f":"IF(B374=\"\",\"\",LOOKUP(B374,Spiele!B:B,Spiele!D:D))","v":""},{"$f":"IF(B374=\"\",\"\",LOOKUP(B374,Spiele!B:B,Spiele!E:E))","v":""},{"$f":"IF(B374=\"\",\"\",LOOKUP(B374,Spiele!B:B,Spiele!F:F))","v":""},"","","",null,null,-1,-1,1,0]
[null,null,{"$f":"IF(B375=\"\",\"\",LOOKUP(B375,Spiele!B:B,Spiele!C:C))","v":""},{"$f":"IF(B375=\"\",\"\",LOOKUP(B375,Spiele!B:B,Spiele!D:D))","v":""},{"$f":"IF(B375=\"\",\"\",LOOKUP(B375,Spiele!B:B,Spiele!E:E))","v":""},{"$f":"IF(B375=\"\",\"\",LOOKUP(B375,Spiele!B:B,Spiele!F:F))","v":""},"","","",null,null,-1,-1,1,0]
[null,null,{"$f":"IF(B376=\"\",\"\",LOOKUP(B376,Spiele!B:B,Spiele!C:C))","v":""},{"$f":"IF(B376=\"\",\"\",LOOKUP(B376,Spiele!B:B,Spiele!D:D))","v":""},{"$f":"IF(B376=\"\",\"\",LOOKUP(B376,Spiele!B:B,Spiele!E:E))","v":""},{"$f":"IF(B376=\"\",\"\",LOOKUP(B376,Spiele!B:B,Spiele!F:F))","v":""},"","","",null,null,-1,-1,1,0]
[null,null,{"$f":"IF(B377=\"\",\"\",LOOKUP(B377,Spiele!B:B,Spiele!C:C))","v":""},{"$f":"IF(B377=\"\",\"\",LOOKUP(B377,Spiele!B:B,Spiele!D:D))","v":""},{"$f":"IF(B377=\"\",\"\",LOOKUP(B377,Spiele!B:B,Spiele!E:E))","v":""},{"$f":"IF(B377=\"\",\"\",LOOKUP(B377,Spiele!B:B,Spiele!F:F))","v":""},"","","",null,null,-1,-1,1,0]
[null,null,{"$f":"IF(B378=\"\",\"\",LOOKUP(B378,Spiele!B:B,Spiele!C:C))","v":""},{"$f":"IF(B378=\"\",\"\",LOOKUP(B378,Spiele!B:B,Spiele!D:D))","v":""},{"$f":"IF(B378=\"\",\"\",LOOKUP(B378,Spiele!B:B,Spiele!E:E))","v":""},{"$f":"IF(B378=\"\",\"\",LOOKUP(B378,Spiele!B:B,Spiele!F:F))","v":""},"","","",null,null,-1,-1,1,0]
[null,null,{"$f":"IF(B379=\"\",\"\",LOOKUP(B379,Spiele!B:B,Spiele!C:C))","v":""},{"$f":"IF(B379=\"\",\"\",LOOKUP(B379,Spiele!B:B,Spiele!D:D))","v":""},{"$f":"IF(B379=\"\",\"\",LOOKUP(B379,Spiele!B:B,Spiele!E:E))","v":""},{"$f":"IF(B379=\"\",\"\",LOOKUP(B379,Spiele!B:B,Spiele!F:F))","v":""},"","","",null,null,-1,-1,1,0]
[null,null,{"$f":"IF(B380=\"\",\"\",LOOKUP(B380,Spiele!B:B,Spiele!C:C))","v":""},{"$f":"IF(B380=\"\",\"\",LOOKUP(B380,Spiele!B:B,Spiele!D:D))","v":""},{"$f":"IF(B380=\"\",\"\",LOOKUP(B380,Spiele!B:B,Spiele!E:E))","v":""},{"$f":"IF(B380=\"\",\"\",LOOKUP(B380,Spiele!B:B,Spiele!F:F))","v":""},"","","",null,null,-1,-1,1,0]
[null,null,{"$f":"IF(B381=\"\",\"\",LOOKUP(B381,Spiele!B:B,Spiele!C:C))","v":""},{"$f":"IF(B381=\"\",\"\",LOOKUP(B381,Spiele!B:B,Spiele!D:D))","v":""},{"$f":"IF(B381=\"\",\"\",LOOKUP(B381,Spiele!B:B,Spiele!E:E))","v":""},{"$f":"IF(B381=\"\",\"\",LOOKUP(B381,Spiele!B:B,Spiele!F:F))","v":""},"","","",null,null,-1,-1,1,0]
[null,null,{"$f":"IF(B382=\"\",\"\",LOOKUP(B382,Spiele!B:B,Spiele!C:C))","v":""},{"$f":"IF(B382=\"\",\"\",LOOKUP(B382,Spiele!B:B,Spiele!D:D))","v":""},{"$f":"IF(B382=\"\",\"\",LOOKUP(B382,Spiele!B:B,Spiele!E:E))","v":""},{"$f":"IF(B382=\"\",\"\",LOOKUP(B382,Spiele!B:B,Spiele!F:F))","v":""},"","","",null,null,-1,-1,1,0]
[null,null,{"$f":"IF(B383=\"\",\"\",LOOKUP(B383,Spiele!B:B,Spiele!C:C))","v":""},{"$f":"IF(B383=\"\",\"\",LOOKUP(B383,Spiele!B:B,Spiele!D:D))","v":""},{"$f":"IF(B383=\"\",\"\",LOOKUP(B383,Spiele!B:B,Spiele!E:E))","v":""},{"$f":"IF(B383=\"\",\"\",LOOKUP(B383,Spiele!B:B,Spiele!F:F))","v":""},"","","",null,null,-1,-1,1,0]
[null,null,{"$f":"IF(B384=\"\",\"\",LOOKUP(B384,Spiele!B:B,Spiele!C:C))","v":""},{"$f":"IF(B384=\"\",\"\",LOOKUP(B384,Spiele!B:B,Spiele!D:D))","v":""},{"$f":"IF(B384=\"\",\"\",LOOKUP(B384,Spiele!B:B,Spiele!E:E))","v":""},{"$f":"IF(B384=\"\",\"\",LOOKUP(B384,Spiele!B:B,Spiele!F:F))","v":""},"","","",null,null,-1,-1,1,0]
[null,null,{"$f":"IF(B385=\"\",\"\",LOOKUP(B385,Spiele!B:B,Spiele!C:C))","v":""},{"$f":"IF(B385=\"\",\"\",LOOKUP(B385,Spiele!B:B,Spiele!D:D))","v":""},{"$f":"IF(B385=\"\",\"\",LOOKUP(B385,Spiele!B:B,Spiele!E:E))","v":""},{"$f":"IF(B385=\"\",\"\",LOOKUP(B385,Spiele!B:B,Spiele!F:F))","v":""},"","","",null,null,-1,-1,1,0]
[null,null,{"$f":"IF(B386=\"\",\"\",LOOKUP(B386,Spiele!B:B,Spiele!C:C))","v":""},{"$f":"IF(B386=\"\",\"\",LOOKUP(B386,Spiele!B:B,Spiele!D:D))","v":""},{"$f":"IF(B386=\"\",\"\",LOOKUP(B386,Spiele!B:B,Spiele!E:E))","v":""},{"$f":"IF(B386=\"\",\"\",LOOKUP(B386,Spiele!B:B,Spiele!F:F))","v":""},"","","",null,null,-1,-1,1,0]
[null,null,{"$f":"IF(B387=\"\",\"\",LOOKUP(B387,Spiele!B:B,Spiele!C:C))","v":""},{"$f":"IF(B387=\"\",\"\",LOOKUP(B387,Spiele!B:B,Spiele!D:D))","v":""},{"$f":"IF(B387=\"\",\"\",LOOKUP(B387,Spiele!B:B,Spiele!E:E))","v":""},{"$f":"IF(B387=\"\",\"\",LOOKUP(B387,Spiele!B:B,Spiele!F:F))","v":""},"","","",null,null,-1,-1,1,0]
[null,null,{"$f":"IF(B388=\"\",\"\",LOOKUP(B388,Spiele!B:B,Spiele!C:C))","v":""},{"$f":"IF(B388=\"\",\"\",LOOKUP(B388,Spiele!B:B,Spiele!D:D))","v":""},{"$f":"IF(B388=\"\",\"\",LOOKUP(B388,Spiele!B:B,Spiele!E:E))","v":""},{"$f":"IF(B388=\"\",\"\",LOOKUP(B388,Spiele!B:B,Spiele!F:F))","v":""},"","","",null,null,-1,-1,1,0]
[null,null,{"$f":"IF(B389=\"\",\"\",LOOKUP(B389,Spiele!B:B,Spiele!C:C))","v":""},{"$f":"IF(B389=\"\",\"\",LOOKUP(B389,Spiele!B:B,Spiele!D:D))","v":""},{"$f":"IF(B389=\"\",\"\",LOOKUP(B389,Spiele!B:B,Spiele!E:E))","v":""},{"$f":"IF(B389=\"\",\"\",LOOKUP(B389,Spiele!B:B,Spiele!F:F))","v":""},"","","",null,null,-1,-1,1,0]
[null,null,{"$f":"IF(B390=\"\",\"\",LOOKUP(B390,Spiele!B:B,Spiele!C:C))","v":""},{"$f":"IF(B390=\"\",\"\",LOOKUP(B390,Spiele!B:B,Spiele!D:D))","v":""},{"$f":"IF(B390=\"\",\"\",LOOKUP(B390,Spiele!B:B,Spiele!E:E))","v":""},{"$f":"IF(B390=\"\",\"\",LOOKUP(B390,Spiele!B:B,Spiele!F:F))","v":""},"","","",null,null,-1,-1,1,0]
[null,null,{"$f":"IF(B391=\"\",\"\",LOOKUP(B391,Spiele!B:B,Spiele!C:C))","v":""},{"$f":"IF(B391=\"\",\"\",LOOKUP(B391,Spiele!B:B,Spiele!D:D))","v":""},{"$f":"IF(B391=\"\",\"\",LOOKUP(B391,Spiele!B:B,Spiele!E:E))","v":""},{"$f":"IF(B391=\"\",\"\",LOOKUP(B391,Spiele!B:B,Spiele!F:F))","v":""},"","","",null,null,-1,-1,1,0]
[null,null,{"$f":"IF(B392=\"\",\"\",LOOKUP(B392,Spiele!B:B,Spiele!C:C))","v":""},{"$f":"IF(B392=\"\",\"\",LOOKUP(B392,Spiele!B:B,Spiele!D:D))","v":""},{"$f":"IF(B392=\"\",\"\",LOOKUP(B392,Spiele!B:B,Spiele!E:E))","v":""},{"$f":"IF(B392=\"\",\"\",LOOKUP(B392,Spiele!B:B,Spiele!F:F))","v":""},{"$f":"IF(E392=\"\",\"\",IF(E392>F392,1,0))","v":""},{"$f":"IF(F392=\"\",\"\",IF(E392<F392,1,0))","v":""},{"$f":"IF(E392=\"\",\"\",IF(E392=F392,1,0))","v":""},null,null,{"$f":"IF(E392=\"\",-1,IF(J392>K392,1,-1))","v":-1},{"$f":"IF(F392=\"\",-1,IF(J392<K392,1,-1))","v":-1},1,{"$f":"IF(E392=\"\",0,IF(E392=J392,1,0)+IF(F392=K392,1,0)+IF(G392=L392,1,0)+IF(H392=M392,1,0)+IF(I392=N392,1,0))","v":0}]
[null,null,{"$f":"IF(B393=\"\",\"\",LOOKUP(B393,Spiele!B:B,Spiele!C:C))","v":""},{"$f":"IF(B393=\"\",\"\",LOOKUP(B393,Spiele!B:B,Spiele!D:D))","v":""},{"$f":"IF(B393=\"\",\"\",LOOKUP(B393,Spiele!B:B,Spiele!E:E))","v":""},{"$f":"IF(B393=\"\",\"\",LOOKUP(B393,Spiele!B:B,Spiele!F:F))","v":""},"","","",null,null,-1,-1,1,0]
[null,null,{"$f":"IF(B394=\"\",\"\",LOOKUP(B394,Spiele!B:B,Spiele!C:C))","v":""},{"$f":"IF(B394=\"\",\"\",LOOKUP(B394,Spiele!B:B,Spiele!D:D))","v":""},{"$f":"IF(B394=\"\",\"\",LOOKUP(B394,Spiele!B:B,Spiele!E:E))","v":""},{"$f":"IF(B394=\"\",\"\",LOOKUP(B394,Spiele!B:B,Spiele!F:F))","v":""},"","","",null,null,-1,-1,1,0]
[null,null,{"$f":"IF(B395=\"\",\"\",LOOKUP(B395,Spiele!B:B,Spiele!C:C))","v":""},{"$f":"IF(B395=\"\",\"\",LOOKUP(B395,Spiele!B:B,Spiele!D:D))","v":""},{"$f":"IF(B395=\"\",\"\",LOOKUP(B395,Spiele!B:B,Spiele!E:E))","v":""},{"$f":"IF(B395=\"\",\"\",LOOKUP(B395,Spiele!B:B,Spiele!F:F))","v":""},"","","",null,null,-1,-1,1,0]
[null,null,{"$f":"IF(B396=\"\",\"\",LOOKUP(B396,Spiele!B:B,Spiele!C:C))","v":""},{"$f":"IF(B396=\"\",\"\",LOOKUP(B396,Spiele!B:B,Spiele!D:D))","v":""},{"$f":"IF(B396=\"\",\"\",LOOKUP(B396,Spiele!B:B,Spiele!E:E))","v":""},{"$f":"IF(B396=\"\",\"\",LOOKUP(B396,Spiele!B:B,Spiele!F:F))","v":""},"","","",null,null,-1,-1,1,0]
[null,null,{"$f":"IF(B397=\"\",\"\",LOOKUP(B397,Spiele!B:B,Spiele!C:C))","v":""},{"$f":"IF(B397=\"\",\"\",LOOKUP(B397,Spiele!B:B,Spiele!D:D))","v":""},{"$f":"IF(B397=\"\",\"\",LOOKUP(B397,Spiele!B:B,Spiele!E:E))","v":""},{"$f":"IF(B397=\"\",\"\",LOOKUP(B397,Spiele!B:B,Spiele!F:F))","v":""},"","","",null,null,-1,-1,1,0]
[null,null,{"$f":"IF(B398=\"\",\"\",LOOKUP(B398,Spiele!B:B,Spiele!C:C))","v":""},{"$f":"IF(B398=\"\",\"\",LOOKUP(B398,Spiele!B:B,Spiele!D:D))","v":""},{"$f":"IF(B398=\"\",\"\",LOOKUP(B398,Spiele!B:B,Spiele!E:E))","v":""},{"$f":"IF(B398=\"\",\"\",LOOKUP(B398,Spiele!B:B,Spiele!F:F))","v":""},"","","",null,null,-1,-1,1,0]
[null,null,{"$f":"IF(B399=\"\",\"\",LOOKUP(B399,Spiele!B:B,Spiele!C:C))","v":""},{"$f":"IF(B399=\"\",\"\",LOOKUP(B399,Spiele!B:B,Spiele!D:D))","v":""},{"$f":"IF(B399=\"\",\"\",LOOKUP(B399,Spiele!B:B,Spiele!E:E))","v":""},{"$f":"IF(B399=\"\",\"\",LOOKUP(B399,Spiele!B:B,Spiele!F:F))","v":""},"","","",null,null,-1,-1,1,0]
[null,null,{"$f":"IF(B400=\"\",\"\",LOOKUP(B400,Spiele!B:B,Spiele!C:C))","v":""},{"$f":"IF(B400=\"\",\"\",LOOKUP(B400,Spiele!B:B,Spiele!D:D))","v":""},{"$f":"IF(B400=\"\",\"\",LOOKUP(B400,Spiele!B:B,Spiele!E:E))","v":""},{"$f":"IF(B400=\"\",\"\",LOOKUP(B400,Spiele!B:B,Spiele!F:F))","v":""},"","","",null,null,-1,-1,{"$f":"IF(E400=\"-\",-1,IF(J400=K400,1,-1))","v":1},0]
[null,null,{"$f":"IF(B401=\"\",\"\",LOOKUP(B401,Spiele!B:B,Spiele!C:C))","v":""},{"$f":"IF(B401=\"\",\"\",LOOKUP(B401,Spiele!B:B,Spiele!D:D))","v":""},{"$f":"IF(B401=\"\",\"\",LOOKUP(B401,Spiele!B:B,Spiele!E:E))","v":""},{"$f":"IF(B401=\"\",\"\",LOOKUP(B401,Spiele!B:B,Spiele!F:F))","v":""},"","","",null,null,-1,-1,1,0]
[null,null,{"$f":"IF(B402=\"\",\"\",LOOKUP(B402,Spiele!B:B,Spiele!C:C))","v":""},{"$f":"IF(B402=\"\",\"\",LOOKUP(B402,Spiele!B:B,Spiele!D:D))","v":""},{"$f":"IF(B402=\"\",\"\",LOOKUP(B402,Spiele!B:B,Spiele!E:E))","v":""},{"$f":"IF(B402=\"\",\"\",LOOKUP(B402,Spiele!B:B,Spiele!F:F))","v":""},"","","",null,null,-1,-1,1,0]
[null,null,{"$f":"IF(B403=\"\",\"\",LOOKUP(B403,Spiele!B:B,Spiele!C:C))","v":""},{"$f":"IF(B403=\"\",\"\",LOOKUP(B403,Spiele!B:B,Spiele!D:D))","v":""},{"$f":"IF(B403=\"\",\"\",LOOKUP(B403,Spiele!B:B,Spiele!E:E))","v":""},{"$f":"IF(B403=\"\",\"\",LOOKUP(B403,Spiele!B:B,Spiele!F:F))","v":""},"","","",null,null,-1,-1,1,0]
[null,null,{"$f":"IF(B404=\"\",\"\",LOOKUP(B404,Spiele!B:B,Spiele!C:C))","v":""},{"$f":"IF(B404=\"\",\"\",LOOKUP(B404,Spiele!B:B,Spiele!D:D))","v":""},{"$f":"IF(B404=\"\",\"\",LOOKUP(B404,Spiele!B:B,Spiele!E:E))","v":""},{"$f":"IF(B404=\"\",\"\",LOOKUP(B404,Spiele!B:B,Spiele!F:F))","v":""},"","","",null,null,-1,-1,1,0]
[null,null,{"$f":"IF(B405=\"\",\"\",LOOKUP(B405,Spiele!B:B,Spiele!C:C))","v":""},{"$f":"IF(B405=\"\",\"\",LOOKUP(B405,Spiele!B:B,Spiele!D:D))","v":""},{"$f":"IF(B405=\"\",\"\",LOOKUP(B405,Spiele!B:B,Spiele!E:E))","v":""},{"$f":"IF(B405=\"\",\"\",LOOKUP(B405,Spiele!B:B,Spiele!F:F))","v":""},"","","",null,null,-1,-1,1,0]
[null,null,{"$f":"IF(B406=\"\",\"\",LOOKUP(B406,Spiele!B:B,Spiele!C:C))","v":""},{"$f":"IF(B406=\"\",\"\",LOOKUP(B406,Spiele!B:B,Spiele!D:D))","v":""},{"$f":"IF(B406=\"\",\"\",LOOKUP(B406,Spiele!B:B,Spiele!E:E))","v":""},{"$f":"IF(B406=\"\",\"\",LOOKUP(B406,Spiele!B:B,Spiele!F:F))","v":""},"","","",null,null,-1,-1,1,0]
[null,null,{"$f":"IF(B407=\"\",\"\",LOOKUP(B407,Spiele!B:B,Spiele!C:C))","v":""},{"$f":"IF(B407=\"\",\"\",LOOKUP(B407,Spiele!B:B,Spiele!D:D))","v":""},{"$f":"IF(B407=\"\",\"\",LOOKUP(B407,Spiele!B:B,Spiele!E:E))","v":""},{"$f":"IF(B407=\"\",\"\",LOOKUP(B407,Spiele!B:B,Spiele!F:F))","v":""},"","","",null,null,-1,-1,1,0]
[null,null,{"$f":"IF(B408=\"\",\"\",LOOKUP(B408,Spiele!B:B,Spiele!C:C))","v":""},{"$f":"IF(B408=\"\",\"\",LOOKUP(B408,Spiele!B:B,Spiele!D:D))","v":""},{"$f":"IF(B408=\"\",\"\",LOOKUP(B408,Spiele!B:B,Spiele!E:E))","v":""},{"$f":"IF(B408=\"\",\"\",LOOKUP(B408,Spiele!B:B,Spiele!F:F))","v":""},"","","",null,null,-1,-1,1,0]
[null,null,{"$f":"IF(B409=\"\",\"\",LOOKUP(B409,Spiele!B:B,Spiele!C:C))","v":""},{"$f":"IF(B409=\"\",\"\",LOOKUP(B409,Spiele!B:B,Spiele!D:D))","v":""},{"$f":"IF(B409=\"\",\"\",LOOKUP(B409,Spiele!B:B,Spiele!E:E))","v":""},{"$f":"IF(B409=\"\",\"\",LOOKUP(B409,Spiele!B:B,Spiele!F:F))","v":""},"","","",null,null,-1,-1,1,0]
[null,null,{"$f":"IF(B410=\"\",\"\",LOOKUP(B410,Spiele!B:B,Spiele!C:C))","v":""},{"$f":"IF(B410=\"\",\"\",LOOKUP(B410,Spiele!B:B,Spiele!D:D))","v":""},{"$f":"IF(B410=\"\",\"\",LOOKUP(B410,Spiele!B:B,Spiele!E:E))","v":""},{"$f":"IF(B410=\"\",\"\",LOOKUP(B410,Spiele!B:B,Spiele!F:F))","v":""},"","","",null,null,-1,-1,1,0]
[null,null,{"$f":"IF(B411=\"\",\"\",LOOKUP(B411,Spiele!B:B,Spiele!C:C))","v":""},{"$f":"IF(B411=\"\",\"\",LOOKUP(B411,Spiele!B:B,Spiele!D:D))","v":""},{"$f":"IF(B411=\"\",\"\",LOOKUP(B411,Spiele!B:B,Spiele!E:E))","v":""},{"$f":"IF(B411=\"\",\"\",LOOKUP(B411,Spiele!B:B,Spiele!F:F))","v":""},"","","",null,null,-1,-1,1,0]
[null,null,{"$f":"IF(B412=\"\",\"\",LOOKUP(B412,Spiele!B:B,Spiele!C:C))","v":""},{"$f":"IF(B412=\"\",\"\",LOOKUP(B412,Spiele!B:B,Spiele!D:D))","v":""},{"$f":"IF(B412=\"\",\"\",LOOKUP(B412,Spiele!B:B,Spiele!E:E))","v":""},{"$f":"IF(B412=\"\",\"\",LOOKUP(B412,Spiele!B:B,Spiele!F:F))","v":""},"","","",null,null,-1,-1,1,0]
[null,null,{"$f":"IF(B413=\"\",\"\",LOOKUP(B413,Spiele!B:B,Spiele!C:C))","v":""},{"$f":"IF(B413=\"\",\"\",LOOKUP(B413,Spiele!B:B,Spiele!D:D))","v":""},{"$f":"IF(B413=\"\",\"\",LOOKUP(B413,Spiele!B:B,Spiele!E:E))","v":""},{"$f":"IF(B413=\"\",\"\",LOOKUP(B413,Spiele!B:B,Spiele!F:F))","v":""},"","","",null,null,-1,-1,1,0]
[null,null,{"$f":"IF(B414=\"\",\"\",LOOKUP(B414,Spiele!B:B,Spiele!C:C))","v":""},{"$f":"IF(B414=\"\",\"\",LOOKUP(B414,Spiele!B:B,Spiele!D:D))","v":""},{"$f":"IF(B414=\"\",\"\",LOOKUP(B414,Spiele!B:B,Spiele!E:E))","v":""},{"$f":"IF(B414=\"\",\"\",LOOKUP(B414,Spiele!B:B,Spiele!F:F))","v":""},"","","",null,null,-1,-1,1,0]
[null,null,{"$f":"IF(B415=\"\",\"\",LOOKUP(B415,Spiele!B:B,Spiele!C:C))","v":""},{"$f":"IF(B415=\"\",\"\",LOOKUP(B415,Spiele!B:B,Spiele!D:D))","v":""},{"$f":"IF(B415=\"\",\"\",LOOKUP(B415,Spiele!B:B,Spiele!E:E))","v":""},{"$f":"IF(B415=\"\",\"\",LOOKUP(B415,Spiele!B:B,Spiele!F:F))","v":""},"","","",null,null,-1,-1,1,0]
[null,null,{"$f":"IF(B416=\"\",\"\",LOOKUP(B416,Spiele!B:B,Spiele!C:C))","v":""},{"$f":"IF(B416=\"\",\"\",LOOKUP(B416,Spiele!B:B,Spiele!D:D))","v":""},{"$f":"IF(B416=\"\",\"\",LOOKUP(B416,Spiele!B:B,Spiele!E:E))","v":""},{"$f":"IF(B416=\"\",\"\",LOOKUP(B416,Spiele!B:B,Spiele!F:F))","v":""},"","","",null,null,-1,-1,1,0]
[null,null,{"$f":"IF(B417=\"\",\"\",LOOKUP(B417,Spiele!B:B,Spiele!C:C))","v":""},{"$f":"IF(B417=\"\",\"\",LOOKUP(B417,Spiele!B:B,Spiele!D:D))","v":""},{"$f":"IF(B417=\"\",\"\",LOOKUP(B417,Spiele!B:B,Spiele!E:E))","v":""},{"$f":"IF(B417=\"\",\"\",LOOKUP(B417,Spiele!B:B,Spiele!F:F))","v":""},"","","",null,null,-1,-1,1,0]
[null,null,{"$f":"IF(B418=\"\",\"\",LOOKUP(B418,Spiele!B:B,Spiele!C:C))","v":""},{"$f":"IF(B418=\"\",\"\",LOOKUP(B418,Spiele!B:B,Spiele!D:D))","v":""},{"$f":"IF(B418=\"\",\"\",LOOKUP(B418,Spiele!B:B,Spiele!E:E))","v":""},{"$f":"IF(B418=\"\",\"\",LOOKUP(B418,Spiele!B:B,Spiele!F:F))","v":""},"","","",null,null,-1,-1,1,0]
[null,null,{"$f":"IF(B419=\"\",\"\",LOOKUP(B419,Spiele!B:B,Spiele!C:C))","v":""},{"$f":"IF(B419=\"\",\"\",LOOKUP(B419,Spiele!B:B,Spiele!D:D))","v":""},{"$f":"IF(B419=\"\",\"\",LOOKUP(B419,Spiele!B:B,Spiele!E:E))","v":""},{"$f":"IF(B419=\"\",\"\",LOOKUP(B419,Spiele!B:B,Spiele!F:F))","v":""},"","","",null,null,-1,-1,1,0]
[null,null,{"$f":"IF(B420=\"\",\"\",LOOKUP(B420,Spiele!B:B,Spiele!C:C))","v":""},{"$f":"IF(B420=\"\",\"\",LOOKUP(B420,Spiele!B:B,Spiele!D:D))","v":""},{"$f":"IF(B420=\"\",\"\",LOOKUP(B420,Spiele!B:B,Spiele!E:E))","v":""},{"$f":"IF(B420=\"\",\"\",LOOKUP(B420,Spiele!B:B,Spiele!F:F))","v":""},"","","",null,null,-1,-1,1,0]
[null,null,{"$f":"IF(B421=\"\",\"\",LOOKUP(B421,Spiele!B:B,Spiele!C:C))","v":""},{"$f":"IF(B421=\"\",\"\",LOOKUP(B421,Spiele!B:B,Spiele!D:D))","v":""},{"$f":"IF(B421=\"\",\"\",LOOKUP(B421,Spiele!B:B,Spiele!E:E))","v":""},{"$f":"IF(B421=\"\",\"\",LOOKUP(B421,Spiele!B:B,Spiele!F:F))","v":""},"","","",null,null,-1,-1,1,0]
[null,null,{"$f":"IF(B422=\"\",\"\",LOOKUP(B422,Spiele!B:B,Spiele!C:C))","v":""},{"$f":"IF(B422=\"\",\"\",LOOKUP(B422,Spiele!B:B,Spiele!D:D))","v":""},{"$f":"IF(B422=\"\",\"\",LOOKUP(B422,Spiele!B:B,Spiele!E:E))","v":""},{"$f":"IF(B422=\"\",\"\",LOOKUP(B422,Spiele!B:B,Spiele!F:F))","v":""},"","","",null,null,-1,-1,1,0]
[null,null,{"$f":"IF(B423=\"\",\"\",LOOKUP(B423,Spiele!B:B,Spiele!C:C))","v":""},{"$f":"IF(B423=\"\",\"\",LOOKUP(B423,Spiele!B:B,Spiele!D:D))","v":""},{"$f":"IF(B423=\"\",\"\",LOOKUP(B423,Spiele!B:B,Spiele!E:E))","v":""},{"$f":"IF(B423=\"\",\"\",LOOKUP(B423,Spiele!B:B,Spiele!F:F))","v":""},"","","",null,null,-1,-1,1,0]
[null,null,{"$f":"IF(B424=\"\",\"\",LOOKUP(B424,Spiele!B:B,Spiele!C:C))","v":""},{"$f":"IF(B424=\"\",\"\",LOOKUP(B424,Spiele!B:B,Spiele!D:D))","v":""},{"$f":"IF(B424=\"\",\"\",LOOKUP(B424,Spiele!B:B,Spiele!E:E))","v":""},{"$f":"IF(B424=\"\",\"\",LOOKUP(B424,Spiele!B:B,Spiele!F:F))","v":""},"","","",null,null,-1,-1,1,0]
[null,null,{"$f":"IF(B425=\"\",\"\",LOOKUP(B425,Spiele!B:B,Spiele!C:C))","v":""},{"$f":"IF(B425=\"\",\"\",LOOKUP(B425,Spiele!B:B,Spiele!D:D))","v":""},{"$f":"IF(B425=\"\",\"\",LOOKUP(B425,Spiele!B:B,Spiele!E:E))","v":""},{"$f":"IF(B425=\"\",\"\",LOOKUP(B425,Spiele!B:B,Spiele!F:F))","v":""},"","","",null,null,-1,-1,1,0]
[null,null,{"$f":"IF(B426=\"\",\"\",LOOKUP(B426,Spiele!B:B,Spiele!C:C))","v":""},{"$f":"IF(B426=\"\",\"\",LOOKUP(B426,Spiele!B:B,Spiele!D:D))","v":""},{"$f":"IF(B426=\"\",\"\",LOOKUP(B426,Spiele!B:B,Spiele!E:E))","v":""},{"$f":"IF(B426=\"\",\"\",LOOKUP(B426,Spiele!B:B,Spiele!F:F))","v":""},"","","",null,null,-1,-1,1,0]
[null,null,{"$f":"IF(B427=\"\",\"\",LOOKUP(B427,Spiele!B:B,Spiele!C:C))","v":""},{"$f":"IF(B427=\"\",\"\",LOOKUP(B427,Spiele!B:B,Spiele!D:D))","v":""},{"$f":"IF(B427=\"\",\"\",LOOKUP(B427,Spiele!B:B,Spiele!E:E))","v":""},{"$f":"IF(B427=\"\",\"\",LOOKUP(B427,Spiele!B:B,Spiele!F:F))","v":""},"","","",null,null,-1,-1,1,0]
[null,null,{"$f":"IF(B428=\"\",\"\",LOOKUP(B428,Spiele!B:B,Spiele!C:C))","v":""},{"$f":"IF(B428=\"\",\"\",LOOKUP(B428,Spiele!B:B,Spiele!D:D))","v":""},{"$f":"IF(B428=\"\",\"\",LOOKUP(B428,Spiele!B:B,Spiele!E:E))","v":""},{"$f":"IF(B428=\"\",\"\",LOOKUP(B428,Spiele!B:B,Spiele!F:F))","v":""},"","","",null,null,-1,-1,1,0]
[null,null,{"$f":"IF(B429=\"\",\"\",LOOKUP(B429,Spiele!B:B,Spiele!C:C))","v":""},{"$f":"IF(B429=\"\",\"\",LOOKUP(B429,Spiele!B:B,Spiele!D:D))","v":""},{"$f":"IF(B429=\"\",\"\",LOOKUP(B429,Spiele!B:B,Spiele!E:E))","v":""},{"$f":"IF(B429=\"\",\"\",LOOKUP(B429,Spiele!B:B,Spiele!F:F))","v":""},"","","",null,null,-1,-1,1,0]
[null,null,{"$f":"IF(B430=\"\",\"\",LOOKUP(B430,Spiele!B:B,Spiele!C:C))","v":""},{"$f":"IF(B430=\"\",\"\",LOOKUP(B430,Spiele!B:B,Spiele!D:D))","v":""},{"$f":"IF(B430=\"\",\"\",LOOKUP(B430,Spiele!B:B,Spiele!E:E))","v":""},{"$f":"IF(B430=\"\",\"\",LOOKUP(B430,Spiele!B:B,Spiele!F:F))","v":""},"","","",null,null,-1,-1,1,0]
[null,null,{"$f":"IF(B431=\"\",\"\",LOOKUP(B431,Spiele!B:B,Spiele!C:C))","v":""},{"$f":"IF(B431=\"\",\"\",LOOKUP(B431,Spiele!B:B,Spiele!D:D))","v":""},{"$f":"IF(B431=\"\",\"\",LOOKUP(B431,Spiele!B:B,Spiele!E:E))","v":""},{"$f":"IF(B431=\"\",\"\",LOOKUP(B431,Spiele!B:B,Spiele!F:F))","v":""},"","","",null,null,-1,-1,1,0]
[null,null,{"$f":"IF(B432=\"\",\"\",LOOKUP(B432,Spiele!B:B,Spiele!C:C))","v":""},{"$f":"IF(B432=\"\",\"\",LOOKUP(B432,Spiele!B:B,Spiele!D:D))","v":""},{"$f":"IF(B432=\"\",\"\",LOOKUP(B432,Spiele!B:B,Spiele!E:E))","v":""},{"$f":"IF(B432=\"\",\"\",LOOKUP(B432,Spiele!B:B,Spiele!F:F))","v":""},"","","",null,null,-1,-1,1,0]
[null,null,{"$f":"IF(B433=\"\",\"\",LOOKUP(B433,Spiele!B:B,Spiele!C:C))","v":""},{"$f":"IF(B433=\"\",\"\",LOOKUP(B433,Spiele!B:B,Spiele!D:D))","v":""},{"$f":"IF(B433=\"\",\"\",LOOKUP(B433,Spiele!B:B,Spiele!E:E))","v":""},{"$f":"IF(B433=\"\",\"\",LOOKUP(B433,Spiele!B:B,Spiele!F:F))","v":""},"","","",null,null,-1,-1,1,0]
[null,null,{"$f":"IF(B434=\"\",\"\",LOOKUP(B434,Spiele!B:B,Spiele!C:C))","v":""},{"$f":"IF(B434=\"\",\"\",LOOKUP(B434,Spiele!B:B,Spiele!D:D))","v":""},{"$f":"IF(B434=\"\",\"\",LOOKUP(B434,Spiele!B:B,Spiele!E:E))","v":""},{"$f":"IF(B434=\"\",\"\",LOOKUP(B434,Spiele!B:B,Spiele!F:F))","v":""},"","","",null,null,-1,-1,1,0]
[null,null,{"$f":"IF(B435=\"\",\"\",LOOKUP(B435,Spiele!B:B,Spiele!C:C))","v":""},{"$f":"IF(B435=\"\",\"\",LOOKUP(B435,Spiele!B:B,Spiele!D:D))","v":""},{"$f":"IF(B435=\"\",\"\",LOOKUP(B435,Spiele!B:B,Spiele!E:E))","v":""},{"$f":"IF(B435=\"\",\"\",LOOKUP(B435,Spiele!B:B,Spiele!F:F))","v":""},"","","",null,null,-1,-1,1,0]
[null,null,{"$f":"IF(B436=\"\",\"\",LOOKUP(B436,Spiele!B:B,Spiele!C:C))","v":""},{"$f":"IF(B436=\"\",\"\",LOOKUP(B436,Spiele!B:B,Spiele!D:D))","v":""},{"$f":"IF(B436=\"\",\"\",LOOKUP(B436,Spiele!B:B,Spiele!E:E))","v":""},{"$f":"IF(B436=\"\",\"\",LOOKUP(B436,Spiele!B:B,Spiele!F:F))","v":""},"","","",null,null,-1,-1,1,0]
[null,null,{"$f":"IF(B437=\"\",\"\",LOOKUP(B437,Spiele!B:B,Spiele!C:C))","v":""},{"$f":"IF(B437=\"\",\"\",LOOKUP(B437,Spiele!B:B,Spiele!D:D))","v":""},{"$f":"IF(B437=\"\",\"\",LOOKUP(B437,Spiele!B:B,Spiele!E:E))","v":""},{"$f":"IF(B437=\"\",\"\",LOOKUP(B437,Spiele!B:B,Spiele!F:F))","v":""},"","","",null,null,-1,-1,1,0]
[null,null,{"$f":"IF(B438=\"\",\"\",LOOKUP(B438,Spiele!B:B,Spiele!C:C))","v":""},{"$f":"IF(B438=\"\",\"\",LOOKUP(B438,Spiele!B:B,Spiele!D:D))","v":""},{"$f":"IF(B438=\"\",\"\",LOOKUP(B438,Spiele!B:B,Spiele!E:E))","v":""},{"$f":"IF(B438=\"\",\"\",LOOKUP(B438,Spiele!B:B,Spiele!F:F))","v":""},"","","",null,null,-1,-1,1,0]
[null,null,{"$f":"IF(B439=\"\",\"\",LOOKUP(B439,Spiele!B:B,Spiele!C:C))","v":""},{"$f":"IF(B439=\"\",\"\",LOOKUP(B439,Spiele!B:B,Spiele!D:D))","v":""},{"$f":"IF(B439=\"\",\"\",LOOKUP(B439,Spiele!B:B,Spiele!E:E))","v":""},{"$f":"IF(B439=\"\",\"\",LOOKUP(B439,Spiele!B:B,Spiele!F:F))","v":""},"","","",null,null,-1,-1,1,0]
[null,null,{"$f":"IF(B440=\"\",\"\",LOOKUP(B440,Spiele!B:B,Spiele!C:C))","v":""},{"$f":"IF(B440=\"\",\"\",LOOKUP(B440,Spiele!B:B,Spiele!D:D))","v":""},{"$f":"IF(B440=\"\",\"\",LOOKUP(B440,Spiele!B:B,Spiele!E:E))","v":""},{"$f":"IF(B440=\"\",\"\",LOOKUP(B440,Spiele!B:B,Spiele!F:F))","v":""},"","","",null,null,-1,-1,1,0]
[null,null,{"$f":"IF(B441=\"\",\"\",LOOKUP(B441,Spiele!B:B,Spiele!C:C))","v":""},{"$f":"IF(B441=\"\",\"\",LOOKUP(B441,Spiele!B:B,Spiele!D:D))","v":""},{"$f":"IF(B441=\"\",\"\",LOOKUP(B441,Spiele!B:B,Spiele!E:E))","v":""},{"$f":"IF(B441=\"\",\"\",LOOKUP(B441,Spiele!B:B,Spiele!F:F))","v":""},"","","",null,null,-1,-1,1,0]
[null,null,{"$f":"IF(B442=\"\",\"\",LOOKUP(B442,Spiele!B:B,Spiele!C:C))","v":""},{"$f":"IF(B442=\"\",\"\",LOOKUP(B442,Spiele!B:B,Spiele!D:D))","v":""},{"$f":"IF(B442=\"\",\"\",LOOKUP(B442,Spiele!B:B,Spiele!E:E))","v":""},{"$f":"IF(B442=\"\",\"\",LOOKUP(B442,Spiele!B:B,Spiele!F:F))","v":""},"","","",null,null,-1,-1,1,0]
[null,null,{"$f":"IF(B443=\"\",\"\",LOOKUP(B443,Spiele!B:B,Spiele!C:C))","v":""},{"$f":"IF(B443=\"\",\"\",LOOKUP(B443,Spiele!B:B,Spiele!D:D))","v":""},{"$f":"IF(B443=\"\",\"\",LOOKUP(B443,Spiele!B:B,Spiele!E:E))","v":""},{"$f":"IF(B443=\"\",\"\",LOOKUP(B443,Spiele!B:B,Spiele!F:F))","v":""},"","","",null,null,-1,-1,1,0]
[null,null,{"$f":"IF(B444=\"\",\"\",LOOKUP(B444,Spiele!B:B,Spiele!C:C))","v":""},{"$f":"IF(B444=\"\",\"\",LOOKUP(B444,Spiele!B:B,Spiele!D:D))","v":""},{"$f":"IF(B444=\"\",\"\",LOOKUP(B444,Spiele!B:B,Spiele!E:E))","v":""},{"$f":"IF(B444=\"\",\"\",LOOKUP(B444,Spiele!B:B,Spiele!F:F))","v":""},"","","",null,null,-1,-1,1,0]
[null,null,{"$f":"IF(B445=\"\",\"\",LOOKUP(B445,Spiele!B:B,Spiele!C:C))","v":""},{"$f":"IF(B445=\"\",\"\",LOOKUP(B445,Spiele!B:B,Spiele!D:D))","v":""},{"$f":"IF(B445=\"\",\"\",LOOKUP(B445,Spiele!B:B,Spiele!E:E))","v":""},{"$f":"IF(B445=\"\",\"\",LOOKUP(B445,Spiele!B:B,Spiele!F:F))","v":""},"","","",null,null,-1,-1,1,0]
[null,null,{"$f":"IF(B446=\"\",\"\",LOOKUP(B446,Spiele!B:B,Spiele!C:C))","v":""},{"$f":"IF(B446=\"\",\"\",LOOKUP(B446,Spiele!B:B,Spiele!D:D))","v":""},{"$f":"IF(B446=\"\",\"\",LOOKUP(B446,Spiele!B:B,Spiele!E:E))","v":""},{"$f":"IF(B446=\"\",\"\",LOOKUP(B446,Spiele!B:B,Spiele!F:F))","v":""},"","","",null,null,-1,-1,1,0]
[null,null,{"$f":"IF(B447=\"\",\"\",LOOKUP(B447,Spiele!B:B,Spiele!C:C))","v":""},{"$f":"IF(B447=\"\",\"\",LOOKUP(B447,Spiele!B:B,Spiele!D:D))","v":""},{"$f":"IF(B447=\"\",\"\",LOOKUP(B447,Spiele!B:B,Spiele!E:E))","v":""},{"$f":"IF(B447=\"\",\"\",LOOKUP(B447,Spiele!B:B,Spiele!F:F))","v":""},"","","",null,null,-1,-1,1,0]
[null,null,{"$f":"IF(B448=\"\",\"\",LOOKUP(B448,Spiele!B:B,Spiele!C:C))","v":""},{"$f":"IF(B448=\"\",\"\",LOOKUP(B448,Spiele!B:B,Spiele!D:D))","v":""},{"$f":"IF(B448=\"\",\"\",LOOKUP(B448,Spiele!B:B,Spiele!E:E))","v":""},{"$f":"IF(B448=\"\",\"\",LOOKUP(B448,Spiele!B:B,Spiele!F:F))","v":""},"","","",null,null,-1,-1,1,0]
[null,null,{"$f":"IF(B449=\"\",\"\",LOOKUP(B449,Spiele!B:B,Spiele!C:C))","v":""},{"$f":"IF(B449=\"\",\"\",LOOKUP(B449,Spiele!B:B,Spiele!D:D))","v":""},{"$f":"IF(B449=\"\",\"\",LOOKUP(B449,Spiele!B:B,Spiele!E:E))","v":""},{"$f":"IF(B449=\"\",\"\",LOOKUP(B449,Spiele!B:B,Spiele!F:F))","v":""},"","","",null,null,-1,-1,1,0]
[null,null,{"$f":"IF(B450=\"\",\"\",LOOKUP(B450,Spiele!B:B,Spiele!C:C))","v":""},{"$f":"IF(B450=\"\",\"\",LOOKUP(B450,Spiele!B:B,Spiele!D:D))","v":""},{"$f":"IF(B450=\"\",\"\",LOOKUP(B450,Spiele!B:B,Spiele!E:E))","v":""},{"$f":"IF(B450=\"\",\"\",LOOKUP(B450,Spiele!B:B,Spiele!F:F))","v":""},"","","",null,null,-1,-1,1,0]
[null,null,{"$f":"IF(B451=\"\",\"\",LOOKUP(B451,Spiele!B:B,Spiele!C:C))","v":""},{"$f":"IF(B451=\"\",\"\",LOOKUP(B451,Spiele!B:B,Spiele!D:D))","v":""},{"$f":"IF(B451=\"\",\"\",LOOKUP(B451,Spiele!B:B,Spiele!E:E))","v":""},{"$f":"IF(B451=\"\",\"\",LOOKUP(B451,Spiele!B:B,Spiele!F:F))","v":""},"","","",null,null,-1,-1,1,0]
[null,null,{"$f":"IF(B452=\"\",\"\",LOOKUP(B452,Spiele!B:B,Spiele!C:C))","v":""},{"$f":"IF(B452=\"\",\"\",LOOKUP(B452,Spiele!B:B,Spiele!D:D))","v":""},{"$f":"IF(B452=\"\",\"\",LOOKUP(B452,Spiele!B:B,Spiele!E:E))","v":""},{"$f":"IF(B452=\"\",\"\",LOOKUP(B452,Spiele!B:B,Spiele!F:F))","v":""},"","","",null,null,-1,-1,1,0]
[null,null,{"$f":"IF(B453=\"\",\"\",LOOKUP(B453,Spiele!B:B,Spiele!C:C))","v":""},{"$f":"IF(B453=\"\",\"\",LOOKUP(B453,Spiele!B:B,Spiele!D:D))","v":""},{"$f":"IF(B453=\"\",\"\",LOOKUP(B453,Spiele!B:B,Spiele!E:E))","v":""},{"$f":"IF(B453=\"\",\"\",LOOKUP(B453,Spiele!B:B,Spiele!F:F))","v":""},"","","",null,null,-1,-1,1,0]
[null,null,{"$f":"IF(B454=\"\",\"\",LOOKUP(B454,Spiele!B:B,Spiele!C:C))","v":""},{"$f":"IF(B454=\"\",\"\",LOOKUP(B454,Spiele!B:B,Spiele!D:D))","v":""},{"$f":"IF(B454=\"\",\"\",LOOKUP(B454,Spiele!B:B,Spiele!E:E))","v":""},{"$f":"IF(B454=\"\",\"\",LOOKUP(B454,Spiele!B:B,Spiele!F:F))","v":""},"","","",null,null,-1,-1,1,0]
[null,null,{"$f":"IF(B455=\"\",\"\",LOOKUP(B455,Spiele!B:B,Spiele!C:C))","v":""},{"$f":"IF(B455=\"\",\"\",LOOKUP(B455,Spiele!B:B,Spiele!D:D))","v":""},{"$f":"IF(B455=\"\",\"\",LOOKUP(B455,Spiele!B:B,Spiele!E:E))","v":""},{"$f":"IF(B455=\"\",\"\",LOOKUP(B455,Spiele!B:B,Spiele!F:F))","v":""},"","","",null,null,-1,-1,1,0]
[null,null,{"$f":"IF(B456=\"\",\"\",LOOKUP(B456,Spiele!B:B,Spiele!C:C))","v":""},{"$f":"IF(B456=\"\",\"\",LOOKUP(B456,Spiele!B:B,Spiele!D:D))","v":""},{"$f":"IF(B456=\"\",\"\",LOOKUP(B456,Spiele!B:B,Spiele!E:E))","v":""},{"$f":"IF(B456=\"\",\"\",LOOKUP(B456,Spiele!B:B,Spiele!F:F))","v":""},{"$f":"IF(E456=\"\",\"\",IF(E456>F456,1,0))","v":""},{"$f":"IF(F456=\"\",\"\",IF(E456<F456,1,0))","v":""},{"$f":"IF(E456=\"\",\"\",IF(E456=F456,1,0))","v":""},null,null,{"$f":"IF(E456=\"\",-1,IF(J456>K456,1,-1))","v":-1},{"$f":"IF(F456=\"\",-1,IF(J456<K456,1,-1))","v":-1},1,{"$f":"IF(E456=\"\",0,IF(E456=J456,1,0)+IF(F456=K456,1,0)+IF(G456=L456,1,0)+IF(H456=M456,1,0)+IF(I456=N456,1,0))","v":0}]
[null,null,{"$f":"IF(B457=\"\",\"\",LOOKUP(B457,Spiele!B:B,Spiele!C:C))","v":""},{"$f":"IF(B457=\"\",\"\",LOOKUP(B457,Spiele!B:B,Spiele!D:D))","v":""},{"$f":"IF(B457=\"\",\"\",LOOKUP(B457,Spiele!B:B,Spiele!E:E))","v":""},{"$f":"IF(B457=\"\",\"\",LOOKUP(B457,Spiele!B:B,Spiele!F:F))","v":""},"","","",null,null,-1,-1,1,0]
[null,null,{"$f":"IF(B458=\"\",\"\",LOOKUP(B458,Spiele!B:B,Spiele!C:C))","v":""},{"$f":"IF(B458=\"\",\"\",LOOKUP(B458,Spiele!B:B,Spiele!D:D))","v":""},{"$f":"IF(B458=\"\",\"\",LOOKUP(B458,Spiele!B:B,Spiele!E:E))","v":""},{"$f":"IF(B458=\"\",\"\",LOOKUP(B458,Spiele!B:B,Spiele!F:F))","v":""},"","","",null,null,-1,-1,1,0]
[null,null,{"$f":"IF(B459=\"\",\"\",LOOKUP(B459,Spiele!B:B,Spiele!C:C))","v":""},{"$f":"IF(B459=\"\",\"\",LOOKUP(B459,Spiele!B:B,Spiele!D:D))","v":""},{"$f":"IF(B459=\"\",\"\",LOOKUP(B459,Spiele!B:B,Spiele!E:E))","v":""},{"$f":"IF(B459=\"\",\"\",LOOKUP(B459,Spiele!B:B,Spiele!F:F))","v":""},"","","",null,null,-1,-1,1,0]
[null,null,{"$f":"IF(B460=\"\",\"\",LOOKUP(B460,Spiele!B:B,Spiele!C:C))","v":""},{"$f":"IF(B460=\"\",\"\",LOOKUP(B460,Spiele!B:B,Spiele!D:D))","v":""},{"$f":"IF(B460=\"\",\"\",LOOKUP(B460,Spiele!B:B,Spiele!E:E))","v":""},{"$f":"IF(B460=\"\",\"\",LOOKUP(B460,Spiele!B:B,Spiele!F:F))","v":""},"","","",null,null,-1,-1,1,0]
[null,null,{"$f":"IF(B461=\"\",\"\",LOOKUP(B461,Spiele!B:B,Spiele!C:C))","v":""},{"$f":"IF(B461=\"\",\"\",LOOKUP(B461,Spiele!B:B,Spiele!D:D))","v":""},{"$f":"IF(B461=\"\",\"\",LOOKUP(B461,Spiele!B:B,Spiele!E:E))","v":""},{"$f":"IF(B461=\"\",\"\",LOOKUP(B461,Spiele!B:B,Spiele!F:F))","v":""},"","","",null,null,-1,-1,1,0]
[null,null,{"$f":"IF(B462=\"\",\"\",LOOKUP(B462,Spiele!B:B,Spiele!C:C))","v":""},{"$f":"IF(B462=\"\",\"\",LOOKUP(B462,Spiele!B:B,Spiele!D:D))","v":""},{"$f":"IF(B462=\"\",\"\",LOOKUP(B462,Spiele!B:B,Spiele!E:E))","v":""},{"$f":"IF(B462=\"\",\"\",LOOKUP(B462,Spiele!B:B,Spiele!F:F))","v":""},"","","",null,null,-1,-1,1,0]
[null,null,{"$f":"IF(B463=\"\",\"\",LOOKUP(B463,Spiele!B:B,Spiele!C:C))","v":""},{"$f":"IF(B463=\"\",\"\",LOOKUP(B463,Spiele!B:B,Spiele!D:D))","v":""},{"$f":"IF(B463=\"\",\"\",LOOKUP(B463,Spiele!B:B,Spiele!E:E))","v":""},{"$f":"IF(B463=\"\",\"\",LOOKUP(B463,Spiele!B:B,Spiele!F:F))","v":""},"","","",null,null,-1,-1,1,0]
[null,null,{"$f":"IF(B464=\"\",\"\",LOOKUP(B464,Spiele!B:B,Spiele!C:C))","v":""},{"$f":"IF(B464=\"\",\"\",LOOKUP(B464,Spiele!B:B,Spiele!D:D))","v":""},{"$f":"IF(B464=\"\",\"\",LOOKUP(B464,Spiele!B:B,Spiele!E:E))","v":""},{"$f":"IF(B464=\"\",\"\",LOOKUP(B464,Spiele!B:B,Spiele!F:F))","v":""},"","","",null,null,-1,-1,{"$f":"IF(E464=\"-\",-1,IF(J464=K464,1,-1))","v":1},0]
[null,null,{"$f":"IF(B465=\"\",\"\",LOOKUP(B465,Spiele!B:B,Spiele!C:C))","v":""},{"$f":"IF(B465=\"\",\"\",LOOKUP(B465,Spiele!B:B,Spiele!D:D))","v":""},{"$f":"IF(B465=\"\",\"\",LOOKUP(B465,Spiele!B:B,Spiele!E:E))","v":""},{"$f":"IF(B465=\"\",\"\",LOOKUP(B465,Spiele!B:B,Spiele!F:F))","v":""},"","","",null,null,-1,-1,1,0]
[null,null,{"$f":"IF(B466=\"\",\"\",LOOKUP(B466,Spiele!B:B,Spiele!C:C))","v":""},{"$f":"IF(B466=\"\",\"\",LOOKUP(B466,Spiele!B:B,Spiele!D:D))","v":""},{"$f":"IF(B466=\"\",\"\",LOOKUP(B466,Spiele!B:B,Spiele!E:E))","v":""},{"$f":"IF(B466=\"\",\"\",LOOKUP(B466,Spiele!B:B,Spiele!F:F))","v":""},"","","",null,null,-1,-1,1,0]
[null,null,{"$f":"IF(B467=\"\",\"\",LOOKUP(B467,Spiele!B:B,Spiele!C:C))","v":""},{"$f":"IF(B467=\"\",\"\",LOOKUP(B467,Spiele!B:B,Spiele!D:D))","v":""},{"$f":"IF(B467=\"\",\"\",LOOKUP(B467,Spiele!B:B,Spiele!E:E))","v":""},{"$f":"IF(B467=\"\",\"\",LOOKUP(B467,Spiele!B:B,Spiele!F:F))","v":""},"","","",null,null,-1,-1,1,0]
[null,null,{"$f":"IF(B468=\"\",\"\",LOOKUP(B468,Spiele!B:B,Spiele!C:C))","v":""},{"$f":"IF(B468=\"\",\"\",LOOKUP(B468,Spiele!B:B,Spiele!D:D))","v":""},{"$f":"IF(B468=\"\",\"\",LOOKUP(B468,Spiele!B:B,Spiele!E:E))","v":""},{"$f":"IF(B468=\"\",\"\",LOOKUP(B468,Spiele!B:B,Spiele!F:F))","v":""},"","","",null,null,-1,-1,1,0]
[null,null,{"$f":"IF(B469=\"\",\"\",LOOKUP(B469,Spiele!B:B,Spiele!C:C))","v":""},{"$f":"IF(B469=\"\",\"\",LOOKUP(B469,Spiele!B:B,Spiele!D:D))","v":""},{"$f":"IF(B469=\"\",\"\",LOOKUP(B469,Spiele!B:B,Spiele!E:E))","v":""},{"$f":"IF(B469=\"\",\"\",LOOKUP(B469,Spiele!B:B,Spiele!F:F))","v":""},"","","",null,null,-1,-1,1,0]
[null,null,{"$f":"IF(B470=\"\",\"\",LOOKUP(B470,Spiele!B:B,Spiele!C:C))","v":""},{"$f":"IF(B470=\"\",\"\",LOOKUP(B470,Spiele!B:B,Spiele!D:D))","v":""},{"$f":"IF(B470=\"\",\"\",LOOKUP(B470,Spiele!B:B,Spiele!E:E))","v":""},{"$f":"IF(B470=\"\",\"\",LOOKUP(B470,Spiele!B:B,Spiele!F:F))","v":""},"","","",null,null,-1,-1,1,0]
[null,null,{"$f":"IF(B471=\"\",\"\",LOOKUP(B471,Spiele!B:B,Spiele!C:C))","v":""},{"$f":"IF(B471=\"\",\"\",LOOKUP(B471,Spiele!B:B,Spiele!D:D))","v":""},{"$f":"IF(B471=\"\",\"\",LOOKUP(B471,Spiele!B:B,Spiele!E:E))","v":""},{"$f":"IF(B471=\"\",\"\",LOOKUP(B471,Spiele!B:B,Spiele!F:F))","v":""},"","","",null,null,-1,-1,1,0]
[null,null,{"$f":"IF(B472=\"\",\"\",LOOKUP(B472,Spiele!B:B,Spiele!C:C))","v":""},{"$f":"IF(B472=\"\",\"\",LOOKUP(B472,Spiele!B:B,Spiele!D:D))","v":""},{"$f":"IF(B472=\"\",\"\",LOOKUP(B472,Spiele!B:B,Spiele!E:E))","v":""},{"$f":"IF(B472=\"\",\"\",LOOKUP(B472,Spiele!B:B,Spiele!F:F))","v":""},"","","",null,null,-1,-1,1,0]
[null,null,{"$f":"IF(B473=\"\",\"\",LOOKUP(B473,Spiele!B:B,Spiele!C:C))","v":""},{"$f":"IF(B473=\"\",\"\",LOOKUP(B473,Spiele!B:B,Spiele!D:D))","v":""},{"$f":"IF(B473=\"\",\"\",LOOKUP(B473,Spiele!B:B,Spiele!E:E))","v":""},{"$f":"IF(B473=\"\",\"\",LOOKUP(B473,Spiele!B:B,Spiele!F:F))","v":""},"","","",null,null,-1,-1,1,0]
[null,null,{"$f":"IF(B474=\"\",\"\",LOOKUP(B474,Spiele!B:B,Spiele!C:C))","v":""},{"$f":"IF(B474=\"\",\"\",LOOKUP(B474,Spiele!B:B,Spiele!D:D))","v":""},{"$f":"IF(B474=\"\",\"\",LOOKUP(B474,Spiele!B:B,Spiele!E:E))","v":""},{"$f":"IF(B474=\"\",\"\",LOOKUP(B474,Spiele!B:B,Spiele!F:F))","v":""},"","","",null,null,-1,-1,1,0]
[null,null,{"$f":"IF(B475=\"\",\"\",LOOKUP(B475,Spiele!B:B,Spiele!C:C))","v":""},{"$f":"IF(B475=\"\",\"\",LOOKUP(B475,Spiele!B:B,Spiele!D:D))","v":""},{"$f":"IF(B475=\"\",\"\",LOOKUP(B475,Spiele!B:B,Spiele!E:E))","v":""},{"$f":"IF(B475=\"\",\"\",LOOKUP(B475,Spiele!B:B,Spiele!F:F))","v":""},"","","",null,null,-1,-1,1,0]
[null,null,{"$f":"IF(B476=\"\",\"\",LOOKUP(B476,Spiele!B:B,Spiele!C:C))","v":""},{"$f":"IF(B476=\"\",\"\",LOOKUP(B476,Spiele!B:B,Spiele!D:D))","v":""},{"$f":"IF(B476=\"\",\"\",LOOKUP(B476,Spiele!B:B,Spiele!E:E))","v":""},{"$f":"IF(B476=\"\",\"\",LOOKUP(B476,Spiele!B:B,Spiele!F:F))","v":""},"","","",null,null,-1,-1,1,0]
[null,null,{"$f":"IF(B477=\"\",\"\",LOOKUP(B477,Spiele!B:B,Spiele!C:C))","v":""},{"$f":"IF(B477=\"\",\"\",LOOKUP(B477,Spiele!B:B,Spiele!D:D))","v":""},{"$f":"IF(B477=\"\",\"\",LOOKUP(B477,Spiele!B:B,Spiele!E:E))","v":""},{"$f":"IF(B477=\"\",\"\",LOOKUP(B477,Spiele!B:B,Spiele!F:F))","v":""},"","","",null,null,-1,-1,1,0]
[null,null,{"$f":"IF(B478=\"\",\"\",LOOKUP(B478,Spiele!B:B,Spiele!C:C))","v":""},{"$f":"IF(B478=\"\",\"\",LOOKUP(B478,Spiele!B:B,Spiele!D:D))","v":""},{"$f":"IF(B478=\"\",\"\",LOOKUP(B478,Spiele!B:B,Spiele!E:E))","v":""},{"$f":"IF(B478=\"\",\"\",LOOKUP(B478,Spiele!B:B,Spiele!F:F))","v":""},"","","",null,null,-1,-1,1,0]
[null,null,{"$f":"IF(B479=\"\",\"\",LOOKUP(B479,Spiele!B:B,Spiele!C:C))","v":""},{"$f":"IF(B479=\"\",\"\",LOOKUP(B479,Spiele!B:B,Spiele!D:D))","v":""},{"$f":"IF(B479=\"\",\"\",LOOKUP(B479,Spiele!B:B,Spiele!E:E))","v":""},{"$f":"IF(B479=\"\",\"\",LOOKUP(B479,Spiele!B:B,Spiele!F:F))","v":""},"","","",null,null,-1,-1,1,0]
[null,null,{"$f":"IF(B480=\"\",\"\",LOOKUP(B480,Spiele!B:B,Spiele!C:C))","v":""},{"$f":"IF(B480=\"\",\"\",LOOKUP(B480,Spiele!B:B,Spiele!D:D))","v":""},{"$f":"IF(B480=\"\",\"\",LOOKUP(B480,Spiele!B:B,Spiele!E:E))","v":""},{"$f":"IF(B480=\"\",\"\",LOOKUP(B480,Spiele!B:B,Spiele!F:F))","v":""},"","","",null,null,-1,-1,1,0]
[null,null,{"$f":"IF(B481=\"\",\"\",LOOKUP(B481,Spiele!B:B,Spiele!C:C))","v":""},{"$f":"IF(B481=\"\",\"\",LOOKUP(B481,Spiele!B:B,Spiele!D:D))","v":""},{"$f":"IF(B481=\"\",\"\",LOOKUP(B481,Spiele!B:B,Spiele!E:E))","v":""},{"$f":"IF(B481=\"\",\"\",LOOKUP(B481,Spiele!B:B,Spiele!F:F))","v":""},"","","",null,null,-1,-1,1,0]
[null,null,{"$f":"IF(B482=\"\",\"\",LOOKUP(B482,Spiele!B:B,Spiele!C:C))","v":""},{"$f":"IF(B482=\"\",\"\",LOOKUP(B482,Spiele!B:B,Spiele!D:D))","v":""},{"$f":"IF(B482=\"\",\"\",LOOKUP(B482,Spiele!B:B,Spiele!E:E))","v":""},{"$f":"IF(B482=\"\",\"\",LOOKUP(B482,Spiele!B:B,Spiele!F:F))","v":""},"","","",null,null,-1,-1,1,0]
[null,null,{"$f":"IF(B483=\"\",\"\",LOOKUP(B483,Spiele!B:B,Spiele!C:C))","v":""},{"$f":"IF(B483=\"\",\"\",LOOKUP(B483,Spiele!B:B,Spiele!D:D))","v":""},{"$f":"IF(B483=\"\",\"\",LOOKUP(B483,Spiele!B:B,Spiele!E:E))","v":""},{"$f":"IF(B483=\"\",\"\",LOOKUP(B483,Spiele!B:B,Spiele!F:F))","v":""},"","","",null,null,-1,-1,1,0]
[null,null,{"$f":"IF(B484=\"\",\"\",LOOKUP(B484,Spiele!B:B,Spiele!C:C))","v":""},{"$f":"IF(B484=\"\",\"\",LOOKUP(B484,Spiele!B:B,Spiele!D:D))","v":""},{"$f":"IF(B484=\"\",\"\",LOOKUP(B484,Spiele!B:B,Spiele!E:E))","v":""},{"$f":"IF(B484=\"\",\"\",LOOKUP(B484,Spiele!B:B,Spiele!F:F))","v":""},"","","",null,null,-1,-1,1,0]
[null,null,{"$f":"IF(B485=\"\",\"\",LOOKUP(B485,Spiele!B:B,Spiele!C:C))","v":""},{"$f":"IF(B485=\"\",\"\",LOOKUP(B485,Spiele!B:B,Spiele!D:D))","v":""},{"$f":"IF(B485=\"\",\"\",LOOKUP(B485,Spiele!B:B,Spiele!E:E))","v":""},{"$f":"IF(B485=\"\",\"\",LOOKUP(B485,Spiele!B:B,Spiele!F:F))","v":""},"","","",null,null,-1,-1,1,0]
[null,null,{"$f":"IF(B486=\"\",\"\",LOOKUP(B486,Spiele!B:B,Spiele!C:C))","v":""},{"$f":"IF(B486=\"\",\"\",LOOKUP(B486,Spiele!B:B,Spiele!D:D))","v":""},{"$f":"IF(B486=\"\",\"\",LOOKUP(B486,Spiele!B:B,Spiele!E:E))","v":""},{"$f":"IF(B486=\"\",\"\",LOOKUP(B486,Spiele!B:B,Spiele!F:F))","v":""},"","","",null,null,-1,-1,1,0]
[null,null,{"$f":"IF(B487=\"\",\"\",LOOKUP(B487,Spiele!B:B,Spiele!C:C))","v":""},{"$f":"IF(B487=\"\",\"\",LOOKUP(B487,Spiele!B:B,Spiele!D:D))","v":""},{"$f":"IF(B487=\"\",\"\",LOOKUP(B487,Spiele!B:B,Spiele!E:E))","v":""},{"$f":"IF(B487=\"\",\"\",LOOKUP(B487,Spiele!B:B,Spiele!F:F))","v":""},"","","",null,null,-1,-1,1,0]
[null,null,{"$f":"IF(B488=\"\",\"\",LOOKUP(B488,Spiele!B:B,Spiele!C:C))","v":""},{"$f":"IF(B488=\"\",\"\",LOOKUP(B488,Spiele!B:B,Spiele!D:D))","v":""},{"$f":"IF(B488=\"\",\"\",LOOKUP(B488,Spiele!B:B,Spiele!E:E))","v":""},{"$f":"IF(B488=\"\",\"\",LOOKUP(B488,Spiele!B:B,Spiele!F:F))","v":""},"","","",null,null,-1,-1,1,0]
[null,null,{"$f":"IF(B489=\"\",\"\",LOOKUP(B489,Spiele!B:B,Spiele!C:C))","v":""},{"$f":"IF(B489=\"\",\"\",LOOKUP(B489,Spiele!B:B,Spiele!D:D))","v":""},{"$f":"IF(B489=\"\",\"\",LOOKUP(B489,Spiele!B:B,Spiele!E:E))","v":""},{"$f":"IF(B489=\"\",\"\",LOOKUP(B489,Spiele!B:B,Spiele!F:F))","v":""},"","","",null,null,-1,-1,1,0]
[null,null,{"$f":"IF(B490=\"\",\"\",LOOKUP(B490,Spiele!B:B,Spiele!C:C))","v":""},{"$f":"IF(B490=\"\",\"\",LOOKUP(B490,Spiele!B:B,Spiele!D:D))","v":""},{"$f":"IF(B490=\"\",\"\",LOOKUP(B490,Spiele!B:B,Spiele!E:E))","v":""},{"$f":"IF(B490=\"\",\"\",LOOKUP(B490,Spiele!B:B,Spiele!F:F))","v":""},"","","",null,null,-1,-1,1,0]
[null,null,{"$f":"IF(B491=\"\",\"\",LOOKUP(B491,Spiele!B:B,Spiele!C:C))","v":""},{"$f":"IF(B491=\"\",\"\",LOOKUP(B491,Spiele!B:B,Spiele!D:D))","v":""},{"$f":"IF(B491=\"\",\"\",LOOKUP(B491,Spiele!B:B,Spiele!E:E))","v":""},{"$f":"IF(B491=\"\",\"\",LOOKUP(B491,Spiele!B:B,Spiele!F:F))","v":""},"","","",null,null,-1,-1,1,0]
[null,null,{"$f":"IF(B492=\"\",\"\",LOOKUP(B492,Spiele!B:B,Spiele!C:C))","v":""},{"$f":"IF(B492=\"\",\"\",LOOKUP(B492,Spiele!B:B,Spiele!D:D))","v":""},{"$f":"IF(B492=\"\",\"\",LOOKUP(B492,Spiele!B:B,Spiele!E:E))","v":""},{"$f":"IF(B492=\"\",\"\",LOOKUP(B492,Spiele!B:B,Spiele!F:F))","v":""},"","","",null,null,-1,-1,1,0]
[null,null,{"$f":"IF(B493=\"\",\"\",LOOKUP(B493,Spiele!B:B,Spiele!C:C))","v":""},{"$f":"IF(B493=\"\",\"\",LOOKUP(B493,Spiele!B:B,Spiele!D:D))","v":""},{"$f":"IF(B493=\"\",\"\",LOOKUP(B493,Spiele!B:B,Spiele!E:E))","v":""},{"$f":"IF(B493=\"\",\"\",LOOKUP(B493,Spiele!B:B,Spiele!F:F))","v":""},"","","",null,null,-1,-1,1,0]
[null,null,{"$f":"IF(B494=\"\",\"\",LOOKUP(B494,Spiele!B:B,Spiele!C:C))","v":""},{"$f":"IF(B494=\"\",\"\",LOOKUP(B494,Spiele!B:B,Spiele!D:D))","v":""},{"$f":"IF(B494=\"\",\"\",LOOKUP(B494,Spiele!B:B,Spiele!E:E))","v":""},{"$f":"IF(B494=\"\",\"\",LOOKUP(B494,Spiele!B:B,Spiele!F:F))","v":""},"","","",null,null,-1,-1,1,0]
[null,null,{"$f":"IF(B495=\"\",\"\",LOOKUP(B495,Spiele!B:B,Spiele!C:C))","v":""},{"$f":"IF(B495=\"\",\"\",LOOKUP(B495,Spiele!B:B,Spiele!D:D))","v":""},{"$f":"IF(B495=\"\",\"\",LOOKUP(B495,Spiele!B:B,Spiele!E:E))","v":""},{"$f":"IF(B495=\"\",\"\",LOOKUP(B495,Spiele!B:B,Spiele!F:F))","v":""},"","","",null,null,-1,-1,1,0]
[null,null,{"$f":"IF(B496=\"\",\"\",LOOKUP(B496,Spiele!B:B,Spiele!C:C))","v":""},{"$f":"IF(B496=\"\",\"\",LOOKUP(B496,Spiele!B:B,Spiele!D:D))","v":""},{"$f":"IF(B496=\"\",\"\",LOOKUP(B496,Spiele!B:B,Spiele!E:E))","v":""},{"$f":"IF(B496=\"\",\"\",LOOKUP(B496,Spiele!B:B,Spiele!F:F))","v":""},"","","",null,null,-1,-1,1,0]
[null,null,{"$f":"IF(B497=\"\",\"\",LOOKUP(B497,Spiele!B:B,Spiele!C:C))","v":""},{"$f":"IF(B497=\"\",\"\",LOOKUP(B497,Spiele!B:B,Spiele!D:D))","v":""},{"$f":"IF(B497=\"\",\"\",LOOKUP(B497,Spiele!B:B,Spiele!E:E))","v":""},{"$f":"IF(B497=\"\",\"\",LOOKUP(B497,Spiele!B:B,Spiele!F:F))","v":""},"","","",null,null,-1,-1,1,0]
[null,null,{"$f":"IF(B498=\"\",\"\",LOOKUP(B498,Spiele!B:B,Spiele!C:C))","v":""},{"$f":"IF(B498=\"\",\"\",LOOKUP(B498,Spiele!B:B,Spiele!D:D))","v":""},{"$f":"IF(B498=\"\",\"\",LOOKUP(B498,Spiele!B:B,Spiele!E:E))","v":""},{"$f":"IF(B498=\"\",\"\",LOOKUP(B498,Spiele!B:B,Spiele!F:F))","v":""},"","","",null,null,-1,-1,1,0]
[null,null,{"$f":"IF(B499=\"\",\"\",LOOKUP(B499,Spiele!B:B,Spiele!C:C))","v":""},{"$f":"IF(B499=\"\",\"\",LOOKUP(B499,Spiele!B:B,Spiele!D:D))","v":""},{"$f":"IF(B499=\"\",\"\",LOOKUP(B499,Spiele!B:B,Spiele!E:E))","v":""},{"$f":"IF(B499=\"\",\"\",LOOKUP(B499,Spiele!B:B,Spiele!F:F))","v":""},"","","",null,null,-1,-1,1,0]
[null,null,{"$f":"IF(B500=\"\",\"\",LOOKUP(B500,Spiele!B:B,Spiele!C:C))","v":""},{"$f":"IF(B500=\"\",\"\",LOOKUP(B500,Spiele!B:B,Spiele!D:D))","v":""},{"$f":"IF(B500=\"\",\"\",LOOKUP(B500,Spiele!B:B,Spiele!E:E))","v":""},{"$f":"IF(B500=\"\",\"\",LOOKUP(B500,Spiele!B:B,Spiele!F:F))","v":""},"","","",null,null,-1,-1,1,0]
[null,null,{"$f":"IF(B501=\"\",\"\",LOOKUP(B501,Spiele!B:B,Spiele!C:C))","v":""},{"$f":"IF(B501=\"\",\"\",LOOKUP(B501,Spiele!B:B,Spiele!D:D))","v":""},{"$f":"IF(B501=\"\",\"\",LOOKUP(B501,Spiele!B:B,Spiele!E:E))","v":""},{"$f":"IF(B501=\"\",\"\",LOOKUP(B501,Spiele!B:B,Spiele!F:F))","v":""},"","","",null,null,-1,-1,1,0]
[null,null,{"$f":"IF(B502=\"\",\"\",LOOKUP(B502,Spiele!B:B,Spiele!C:C))","v":""},{"$f":"IF(B502=\"\",\"\",LOOKUP(B502,Spiele!B:B,Spiele!D:D))","v":""},{"$f":"IF(B502=\"\",\"\",LOOKUP(B502,Spiele!B:B,Spiele!E:E))","v":""},{"$f":"IF(B502=\"\",\"\",LOOKUP(B502,Spiele!B:B,Spiele!F:F))","v":""},"","","",null,null,-1,-1,1,0]
[null,null,{"$f":"IF(B503=\"\",\"\",LOOKUP(B503,Spiele!B:B,Spiele!C:C))","v":""},{"$f":"IF(B503=\"\",\"\",LOOKUP(B503,Spiele!B:B,Spiele!D:D))","v":""},{"$f":"IF(B503=\"\",\"\",LOOKUP(B503,Spiele!B:B,Spiele!E:E))","v":""},{"$f":"IF(B503=\"\",\"\",LOOKUP(B503,Spiele!B:B,Spiele!F:F))","v":""},"","","",null,null,-1,-1,1,0]
[null,null,{"$f":"IF(B504=\"\",\"\",LOOKUP(B504,Spiele!B:B,Spiele!C:C))","v":""},{"$f":"IF(B504=\"\",\"\",LOOKUP(B504,Spiele!B:B,Spiele!D:D))","v":""},{"$f":"IF(B504=\"\",\"\",LOOKUP(B504,Spiele!B:B,Spiele!E:E))","v":""},{"$f":"IF(B504=\"\",\"\",LOOKUP(B504,Spiele!B:B,Spiele!F:F))","v":""},"","","",null,null,-1,-1,1,0]
[null,null,{"$f":"IF(B505=\"\",\"\",LOOKUP(B505,Spiele!B:B,Spiele!C:C))","v":""},{"$f":"IF(B505=\"\",\"\",LOOKUP(B505,Spiele!B:B,Spiele!D:D))","v":""},{"$f":"IF(B505=\"\",\"\",LOOKUP(B505,Spiele!B:B,Spiele!E:E))","v":""},{"$f":"IF(B505=\"\",\"\",LOOKUP(B505,Spiele!B:B,Spiele!F:F))","v":""},"","","",null,null,-1,-1,1,0]
[null,null,{"$f":"IF(B506=\"\",\"\",LOOKUP(B506,Spiele!B:B,Spiele!C:C))","v":""},{"$f":"IF(B506=\"\",\"\",LOOKUP(B506,Spiele!B:B,Spiele!D:D))","v":""},{"$f":"IF(B506=\"\",\"\",LOOKUP(B506,Spiele!B:B,Spiele!E:E))","v":""},{"$f":"IF(B506=\"\",\"\",LOOKUP(B506,Spiele!B:B,Spiele!F:F))","v":""},"","","",null,null,-1,-1,1,0]
[null,null,{"$f":"IF(B507=\"\",\"\",LOOKUP(B507,Spiele!B:B,Spiele!C:C))","v":""},{"$f":"IF(B507=\"\",\"\",LOOKUP(B507,Spiele!B:B,Spiele!D:D))","v":""},{"$f":"IF(B507=\"\",\"\",LOOKUP(B507,Spiele!B:B,Spiele!E:E))","v":""},{"$f":"IF(B507=\"\",\"\",LOOKUP(B507,Spiele!B:B,Spiele!F:F))","v":""},"","","",null,null,-1,-1,1,0]
[null,null,{"$f":"IF(B508=\"\",\"\",LOOKUP(B508,Spiele!B:B,Spiele!C:C))","v":""},{"$f":"IF(B508=\"\",\"\",LOOKUP(B508,Spiele!B:B,Spiele!D:D))","v":""},{"$f":"IF(B508=\"\",\"\",LOOKUP(B508,Spiele!B:B,Spiele!E:E))","v":""},{"$f":"IF(B508=\"\",\"\",LOOKUP(B508,Spiele!B:B,Spiele!F:F))","v":""},"","","",null,null,-1,-1,1,0]
[null,null,{"$f":"IF(B509=\"\",\"\",LOOKUP(B509,Spiele!B:B,Spiele!C:C))","v":""},{"$f":"IF(B509=\"\",\"\",LOOKUP(B509,Spiele!B:B,Spiele!D:D))","v":""},{"$f":"IF(B509=\"\",\"\",LOOKUP(B509,Spiele!B:B,Spiele!E:E))","v":""},{"$f":"IF(B509=\"\",\"\",LOOKUP(B509,Spiele!B:B,Spiele!F:F))","v":""},"","","",null,null,-1,-1,1,0]
[null,null,{"$f":"IF(B510=\"\",\"\",LOOKUP(B510,Spiele!B:B,Spiele!C:C))","v":""},{"$f":"IF(B510=\"\",\"\",LOOKUP(B510,Spiele!B:B,Spiele!D:D))","v":""},{"$f":"IF(B510=\"\",\"\",LOOKUP(B510,Spiele!B:B,Spiele!E:E))","v":""},{"$f":"IF(B510=\"\",\"\",LOOKUP(B510,Spiele!B:B,Spiele!F:F))","v":""},"","","",null,null,-1,-1,1,0]
[null,null,{"$f":"IF(B511=\"\",\"\",LOOKUP(B511,Spiele!B:B,Spiele!C:C))","v":""},{"$f":"IF(B511=\"\",\"\",LOOKUP(B511,Spiele!B:B,Spiele!D:D))","v":""},{"$f":"IF(B511=\"\",\"\",LOOKUP(B511,Spiele!B:B,Spiele!E:E))","v":""},{"$f":"IF(B511=\"\",\"\",LOOKUP(B511,Spiele!B:B,Spiele!F:F))","v":""},"","","",null,null,-1,-1,1,0]
[null,null,{"$f":"IF(B512=\"\",\"\",LOOKUP(B512,Spiele!B:B,Spiele!C:C))","v":""},{"$f":"IF(B512=\"\",\"\",LOOKUP(B512,Spiele!B:B,Spiele!D:D))","v":""},{"$f":"IF(B512=\"\",\"\",LOOKUP(B512,Spiele!B:B,Spiele!E:E))","v":""},{"$f":"IF(B512=\"\",\"\",LOOKUP(B512,Spiele!B:B,Spiele!F:F))","v":""},"","","",null,null,-1,-1,1,0]
[null,null,{"$f":"IF(B513=\"\",\"\",LOOKUP(B513,Spiele!B:B,Spiele!C:C))","v":""},{"$f":"IF(B513=\"\",\"\",LOOKUP(B513,Spiele!B:B,Spiele!D:D))","v":""},{"$f":"IF(B513=\"\",\"\",LOOKUP(B513,Spiele!B:B,Spiele!E:E))","v":""},{"$f":"IF(B513=\"\",\"\",LOOKUP(B513,Spiele!B:B,Spiele!F:F))","v":""},"","","",null,null,-1,-1,1,0]
[null,null,{"$f":"IF(B514=\"\",\"\",LOOKUP(B514,Spiele!B:B,Spiele!C:C))","v":""},{"$f":"IF(B514=\"\",\"\",LOOKUP(B514,Spiele!B:B,Spiele!D:D))","v":""},{"$f":"IF(B514=\"\",\"\",LOOKUP(B514,Spiele!B:B,Spiele!E:E))","v":""},{"$f":"IF(B514=\"\",\"\",LOOKUP(B514,Spiele!B:B,Spiele!F:F))","v":""},"","","",null,null,-1,-1,1,0]
[null,null,{"$f":"IF(B515=\"\",\"\",LOOKUP(B515,Spiele!B:B,Spiele!C:C))","v":""},{"$f":"IF(B515=\"\",\"\",LOOKUP(B515,Spiele!B:B,Spiele!D:D))","v":""},{"$f":"IF(B515=\"\",\"\",LOOKUP(B515,Spiele!B:B,Spiele!E:E))","v":""},{"$f":"IF(B515=\"\",\"\",LOOKUP(B515,Spiele!B:B,Spiele!F:F))","v":""},"","","",null,null,-1,-1,1,0]
[null,null,{"$f":"IF(B516=\"\",\"\",LOOKUP(B516,Spiele!B:B,Spiele!C:C))","v":""},{"$f":"IF(B516=\"\",\"\",LOOKUP(B516,Spiele!B:B,Spiele!D:D))","v":""},{"$f":"IF(B516=\"\",\"\",LOOKUP(B516,Spiele!B:B,Spiele!E:E))","v":""},{"$f":"IF(B516=\"\",\"\",LOOKUP(B516,Spiele!B:B,Spiele!F:F))","v":""},"","","",null,null,-1,-1,1,0]
[null,null,{"$f":"IF(B517=\"\",\"\",LOOKUP(B517,Spiele!B:B,Spiele!C:C))","v":""},{"$f":"IF(B517=\"\",\"\",LOOKUP(B517,Spiele!B:B,Spiele!D:D))","v":""},{"$f":"IF(B517=\"\",\"\",LOOKUP(B517,Spiele!B:B,Spiele!E:E))","v":""},{"$f":"IF(B517=\"\",\"\",LOOKUP(B517,Spiele!B:B,Spiele!F:F))","v":""},"","","",null,null,-1,-1,1,0]
[null,null,{"$f":"IF(B518=\"\",\"\",LOOKUP(B518,Spiele!B:B,Spiele!C:C))","v":""},{"$f":"IF(B518=\"\",\"\",LOOKUP(B518,Spiele!B:B,Spiele!D:D))","v":""},{"$f":"IF(B518=\"\",\"\",LOOKUP(B518,Spiele!B:B,Spiele!E:E))","v":""},{"$f":"IF(B518=\"\",\"\",LOOKUP(B518,Spiele!B:B,Spiele!F:F))","v":""},"","","",null,null,-1,-1,1,0]
[null,null,{"$f":"IF(B519=\"\",\"\",LOOKUP(B519,Spiele!B:B,Spiele!C:C))","v":""},{"$f":"IF(B519=\"\",\"\",LOOKUP(B519,Spiele!B:B,Spiele!D:D))","v":""},{"$f":"IF(B519=\"\",\"\",LOOKUP(B519,Spiele!B:B,Spiele!E:E))","v":""},{"$f":"IF(B519=\"\",\"\",LOOKUP(B519,Spiele!B:B,Spiele!F:F))","v":""},"","","",null,null,-1,-1,1,0]
[null,null,{"$f":"IF(B520=\"\",\"\",LOOKUP(B520,Spiele!B:B,Spiele!C:C))","v":""},{"$f":"IF(B520=\"\",\"\",LOOKUP(B520,Spiele!B:B,Spiele!D:D))","v":""},{"$f":"IF(B520=\"\",\"\",LOOKUP(B520,Spiele!B:B,Spiele!E:E))","v":""},{"$f":"IF(B520=\"\",\"\",LOOKUP(B520,Spiele!B:B,Spiele!F:F))","v":""},{"$f":"IF(E520=\"\",\"\",IF(E520>F520,1,0))","v":""},{"$f":"IF(F520=\"\",\"\",IF(E520<F520,1,0))","v":""},{"$f":"IF(E520=\"\",\"\",IF(E520=F520,1,0))","v":""},null,null,{"$f":"IF(E520=\"\",-1,IF(J520>K520,1,-1))","v":-1},{"$f":"IF(F520=\"\",-1,IF(J520<K520,1,-1))","v":-1},1,{"$f":"IF(E520=\"\",0,IF(E520=J520,1,0)+IF(F520=K520,1,0)+IF(G520=L520,1,0)+IF(H520=M520,1,0)+IF(I520=N520,1,0))","v":0}]
[null,null,{"$f":"IF(B521=\"\",\"\",LOOKUP(B521,Spiele!B:B,Spiele!C:C))","v":""},{"$f":"IF(B521=\"\",\"\",LOOKUP(B521,Spiele!B:B,Spiele!D:D))","v":""},{"$f":"IF(B521=\"\",\"\",LOOKUP(B521,Spiele!B:B,Spiele!E:E))","v":""},{"$f":"IF(B521=\"\",\"\",LOOKUP(B521,Spiele!B:B,Spiele!F:F))","v":""},"","","",null,null,-1,-1,1,0]
[null,null,{"$f":"IF(B522=\"\",\"\",LOOKUP(B522,Spiele!B:B,Spiele!C:C))","v":""},{"$f":"IF(B522=\"\",\"\",LOOKUP(B522,Spiele!B:B,Spiele!D:D))","v":""},{"$f":"IF(B522=\"\",\"\",LOOKUP(B522,Spiele!B:B,Spiele!E:E))","v":""},{"$f":"IF(B522=\"\",\"\",LOOKUP(B522,Spiele!B:B,Spiele!F:F))","v":""},"","","",null,null,-1,-1,1,0]
[null,null,{"$f":"IF(B523=\"\",\"\",LOOKUP(B523,Spiele!B:B,Spiele!C:C))","v":""},{"$f":"IF(B523=\"\",\"\",LOOKUP(B523,Spiele!B:B,Spiele!D:D))","v":""},{"$f":"IF(B523=\"\",\"\",LOOKUP(B523,Spiele!B:B,Spiele!E:E))","v":""},{"$f":"IF(B523=\"\",\"\",LOOKUP(B523,Spiele!B:B,Spiele!F:F))","v":""},"","","",null,null,-1,-1,1,0]
[null,null,{"$f":"IF(B524=\"\",\"\",LOOKUP(B524,Spiele!B:B,Spiele!C:C))","v":""},{"$f":"IF(B524=\"\",\"\",LOOKUP(B524,Spiele!B:B,Spiele!D:D))","v":""},{"$f":"IF(B524=\"\",\"\",LOOKUP(B524,Spiele!B:B,Spiele!E:E))","v":""},{"$f":"IF(B524=\"\",\"\",LOOKUP(B524,Spiele!B:B,Spiele!F:F))","v":""},"","","",null,null,-1,-1,1,0]
[null,null,{"$f":"IF(B525=\"\",\"\",LOOKUP(B525,Spiele!B:B,Spiele!C:C))","v":""},{"$f":"IF(B525=\"\",\"\",LOOKUP(B525,Spiele!B:B,Spiele!D:D))","v":""},{"$f":"IF(B525=\"\",\"\",LOOKUP(B525,Spiele!B:B,Spiele!E:E))","v":""},{"$f":"IF(B525=\"\",\"\",LOOKUP(B525,Spiele!B:B,Spiele!F:F))","v":""},"","","",null,null,-1,-1,1,0]
[null,null,{"$f":"IF(B526=\"\",\"\",LOOKUP(B526,Spiele!B:B,Spiele!C:C))","v":""},{"$f":"IF(B526=\"\",\"\",LOOKUP(B526,Spiele!B:B,Spiele!D:D))","v":""},{"$f":"IF(B526=\"\",\"\",LOOKUP(B526,Spiele!B:B,Spiele!E:E))","v":""},{"$f":"IF(B526=\"\",\"\",LOOKUP(B526,Spiele!B:B,Spiele!F:F))","v":""},"","","",null,null,-1,-1,1,0]
[null,null,{"$f":"IF(B527=\"\",\"\",LOOKUP(B527,Spiele!B:B,Spiele!C:C))","v":""},{"$f":"IF(B527=\"\",\"\",LOOKUP(B527,Spiele!B:B,Spiele!D:D))","v":""},{"$f":"IF(B527=\"\",\"\",LOOKUP(B527,Spiele!B:B,Spiele!E:E))","v":""},{"$f":"IF(B527=\"\",\"\",LOOKUP(B527,Spiele!B:B,Spiele!F:F))","v":""},"","","",null,null,-1,-1,1,0]
[null,null,{"$f":"IF(B528=\"\",\"\",LOOKUP(B528,Spiele!B:B,Spiele!C:C))","v":""},{"$f":"IF(B528=\"\",\"\",LOOKUP(B528,Spiele!B:B,Spiele!D:D))","v":""},{"$f":"IF(B528=\"\",\"\",LOOKUP(B528,Spiele!B:B,Spiele!E:E))","v":""},{"$f":"IF(B528=\"\",\"\",LOOKUP(B528,Spiele!B:B,Spiele!F:F))","v":""},"","","",null,null,-1,-1,{"$f":"IF(E528=\"-\",-1,IF(J528=K528,1,-1))","v":1},0]
[null,null,{"$f":"IF(B529=\"\",\"\",LOOKUP(B529,Spiele!B:B,Spiele!C:C))","v":""},{"$f":"IF(B529=\"\",\"\",LOOKUP(B529,Spiele!B:B,Spiele!D:D))","v":""},{"$f":"IF(B529=\"\",\"\",LOOKUP(B529,Spiele!B:B,Spiele!E:E))","v":""},{"$f":"IF(B529=\"\",\"\",LOOKUP(B529,Spiele!B:B,Spiele!F:F))","v":""},"","","",null,null,-1,-1,1,0]
[null,null,{"$f":"IF(B530=\"\",\"\",LOOKUP(B530,Spiele!B:B,Spiele!C:C))","v":""},{"$f":"IF(B530=\"\",\"\",LOOKUP(B530,Spiele!B:B,Spiele!D:D))","v":""},{"$f":"IF(B530=\"\",\"\",LOOKUP(B530,Spiele!B:B,Spiele!E:E))","v":""},{"$f":"IF(B530=\"\",\"\",LOOKUP(B530,Spiele!B:B,Spiele!F:F))","v":""},"","","",null,null,-1,-1,1,0]
[null,null,{"$f":"IF(B531=\"\",\"\",LOOKUP(B531,Spiele!B:B,Spiele!C:C))","v":""},{"$f":"IF(B531=\"\",\"\",LOOKUP(B531,Spiele!B:B,Spiele!D:D))","v":""},{"$f":"IF(B531=\"\",\"\",LOOKUP(B531,Spiele!B:B,Spiele!E:E))","v":""},{"$f":"IF(B531=\"\",\"\",LOOKUP(B531,Spiele!B:B,Spiele!F:F))","v":""},"","","",null,null,-1,-1,1,0]
[null,null,{"$f":"IF(B532=\"\",\"\",LOOKUP(B532,Spiele!B:B,Spiele!C:C))","v":""},{"$f":"IF(B532=\"\",\"\",LOOKUP(B532,Spiele!B:B,Spiele!D:D))","v":""},{"$f":"IF(B532=\"\",\"\",LOOKUP(B532,Spiele!B:B,Spiele!E:E))","v":""},{"$f":"IF(B532=\"\",\"\",LOOKUP(B532,Spiele!B:B,Spiele!F:F))","v":""},"","","",null,null,-1,-1,1,0]
[null,null,{"$f":"IF(B533=\"\",\"\",LOOKUP(B533,Spiele!B:B,Spiele!C:C))","v":""},{"$f":"IF(B533=\"\",\"\",LOOKUP(B533,Spiele!B:B,Spiele!D:D))","v":""},{"$f":"IF(B533=\"\",\"\",LOOKUP(B533,Spiele!B:B,Spiele!E:E))","v":""},{"$f":"IF(B533=\"\",\"\",LOOKUP(B533,Spiele!B:B,Spiele!F:F))","v":""},"","","",null,null,-1,-1,1,0]
[null,null,{"$f":"IF(B534=\"\",\"\",LOOKUP(B534,Spiele!B:B,Spiele!C:C))","v":""},{"$f":"IF(B534=\"\",\"\",LOOKUP(B534,Spiele!B:B,Spiele!D:D))","v":""},{"$f":"IF(B534=\"\",\"\",LOOKUP(B534,Spiele!B:B,Spiele!E:E))","v":""},{"$f":"IF(B534=\"\",\"\",LOOKUP(B534,Spiele!B:B,Spiele!F:F))","v":""},"","","",null,null,-1,-1,1,0]
[null,null,{"$f":"IF(B535=\"\",\"\",LOOKUP(B535,Spiele!B:B,Spiele!C:C))","v":""},{"$f":"IF(B535=\"\",\"\",LOOKUP(B535,Spiele!B:B,Spiele!D:D))","v":""},{"$f":"IF(B535=\"\",\"\",LOOKUP(B535,Spiele!B:B,Spiele!E:E))","v":""},{"$f":"IF(B535=\"\",\"\",LOOKUP(B535,Spiele!B:B,Spiele!F:F))","v":""},"","","",null,null,-1,-1,1,0]
[null,null,{"$f":"IF(B536=\"\",\"\",LOOKUP(B536,Spiele!B:B,Spiele!C:C))","v":""},{"$f":"IF(B536=\"\",\"\",LOOKUP(B536,Spiele!B:B,Spiele!D:D))","v":""},{"$f":"IF(B536=\"\",\"\",LOOKUP(B536,Spiele!B:B,Spiele!E:E))","v":""},{"$f":"IF(B536=\"\",\"\",LOOKUP(B536,Spiele!B:B,Spiele!F:F))","v":""},"","","",null,null,-1,-1,1,0]
[null,null,{"$f":"IF(B537=\"\",\"\",LOOKUP(B537,Spiele!B:B,Spiele!C:C))","v":""},{"$f":"IF(B537=\"\",\"\",LOOKUP(B537,Spiele!B:B,Spiele!D:D))","v":""},{"$f":"IF(B537=\"\",\"\",LOOKUP(B537,Spiele!B:B,Spiele!E:E))","v":""},{"$f":"IF(B537=\"\",\"\",LOOKUP(B537,Spiele!B:B,Spiele!F:F))","v":""},"","","",null,null,-1,-1,1,0]
[null,null,{"$f":"IF(B538=\"\",\"\",LOOKUP(B538,Spiele!B:B,Spiele!C:C))","v":""},{"$f":"IF(B538=\"\",\"\",LOOKUP(B538,Spiele!B:B,Spiele!D:D))","v":""},{"$f":"IF(B538=\"\",\"\",LOOKUP(B538,Spiele!B:B,Spiele!E:E))","v":""},{"$f":"IF(B538=\"\",\"\",LOOKUP(B538,Spiele!B:B,Spiele!F:F))","v":""},"","","",null,null,-1,-1,1,0]
[null,null,{"$f":"IF(B539=\"\",\"\",LOOKUP(B539,Spiele!B:B,Spiele!C:C))","v":""},{"$f":"IF(B539=\"\",\"\",LOOKUP(B539,Spiele!B:B,Spiele!D:D))","v":""},{"$f":"IF(B539=\"\",\"\",LOOKUP(B539,Spiele!B:B,Spiele!E:E))","v":""},{"$f":"IF(B539=\"\",\"\",LOOKUP(B539,Spiele!B:B,Spiele!F:F))","v":""},"","","",null,null,-1,-1,1,0]
[null,null,{"$f":"IF(B540=\"\",\"\",LOOKUP(B540,Spiele!B:B,Spiele!C:C))","v":""},{"$f":"IF(B540=\"\",\"\",LOOKUP(B540,Spiele!B:B,Spiele!D:D))","v":""},{"$f":"IF(B540=\"\",\"\",LOOKUP(B540,Spiele!B:B,Spiele!E:E))","v":""},{"$f":"IF(B540=\"\",\"\",LOOKUP(B540,Spiele!B:B,Spiele!F:F))","v":""},"","","",null,null,-1,-1,1,0]
[null,null,{"$f":"IF(B541=\"\",\"\",LOOKUP(B541,Spiele!B:B,Spiele!C:C))","v":""},{"$f":"IF(B541=\"\",\"\",LOOKUP(B541,Spiele!B:B,Spiele!D:D))","v":""},{"$f":"IF(B541=\"\",\"\",LOOKUP(B541,Spiele!B:B,Spiele!E:E))","v":""},{"$f":"IF(B541=\"\",\"\",LOOKUP(B541,Spiele!B:B,Spiele!F:F))","v":""},"","","",null,null,-1,-1,1,0]
[null,null,{"$f":"IF(B542=\"\",\"\",LOOKUP(B542,Spiele!B:B,Spiele!C:C))","v":""},{"$f":"IF(B542=\"\",\"\",LOOKUP(B542,Spiele!B:B,Spiele!D:D))","v":""},{"$f":"IF(B542=\"\",\"\",LOOKUP(B542,Spiele!B:B,Spiele!E:E))","v":""},{"$f":"IF(B542=\"\",\"\",LOOKUP(B542,Spiele!B:B,Spiele!F:F))","v":""},"","","",null,null,-1,-1,1,0]
[null,null,{"$f":"IF(B543=\"\",\"\",LOOKUP(B543,Spiele!B:B,Spiele!C:C))","v":""},{"$f":"IF(B543=\"\",\"\",LOOKUP(B543,Spiele!B:B,Spiele!D:D))","v":""},{"$f":"IF(B543=\"\",\"\",LOOKUP(B543,Spiele!B:B,Spiele!E:E))","v":""},{"$f":"IF(B543=\"\",\"\",LOOKUP(B543,Spiele!B:B,Spiele!F:F))","v":""},"","","",null,null,-1,-1,1,0]
[null,null,{"$f":"IF(B544=\"\",\"\",LOOKUP(B544,Spiele!B:B,Spiele!C:C))","v":""},{"$f":"IF(B544=\"\",\"\",LOOKUP(B544,Spiele!B:B,Spiele!D:D))","v":""},{"$f":"IF(B544=\"\",\"\",LOOKUP(B544,Spiele!B:B,Spiele!E:E))","v":""},{"$f":"IF(B544=\"\",\"\",LOOKUP(B544,Spiele!B:B,Spiele!F:F))","v":""},"","","",null,null,-1,-1,1,0]
[null,null,{"$f":"IF(B545=\"\",\"\",LOOKUP(B545,Spiele!B:B,Spiele!C:C))","v":""},{"$f":"IF(B545=\"\",\"\",LOOKUP(B545,Spiele!B:B,Spiele!D:D))","v":""},{"$f":"IF(B545=\"\",\"\",LOOKUP(B545,Spiele!B:B,Spiele!E:E))","v":""},{"$f":"IF(B545=\"\",\"\",LOOKUP(B545,Spiele!B:B,Spiele!F:F))","v":""},"","","",null,null,-1,-1,1,0]
[null,null,{"$f":"IF(B546=\"\",\"\",LOOKUP(B546,Spiele!B:B,Spiele!C:C))","v":""},{"$f":"IF(B546=\"\",\"\",LOOKUP(B546,Spiele!B:B,Spiele!D:D))","v":""},{"$f":"IF(B546=\"\",\"\",LOOKUP(B546,Spiele!B:B,Spiele!E:E))","v":""},{"$f":"IF(B546=\"\",\"\",LOOKUP(B546,Spiele!B:B,Spiele!F:F))","v":""},"","","",null,null,-1,-1,1,0]
[null,null,{"$f":"IF(B547=\"\",\"\",LOOKUP(B547,Spiele!B:B,Spiele!C:C))","v":""},{"$f":"IF(B547=\"\",\"\",LOOKUP(B547,Spiele!B:B,Spiele!D:D))","v":""},{"$f":"IF(B547=\"\",\"\",LOOKUP(B547,Spiele!B:B,Spiele!E:E))","v":""},{"$f":"IF(B547=\"\",\"\",LOOKUP(B547,Spiele!B:B,Spiele!F:F))","v":""},"","","",null,null,-1,-1,1,0]
[null,null,{"$f":"IF(B548=\"\",\"\",LOOKUP(B548,Spiele!B:B,Spiele!C:C))","v":""},{"$f":"IF(B548=\"\",\"\",LOOKUP(B548,Spiele!B:B,Spiele!D:D))","v":""},{"$f":"IF(B548=\"\",\"\",LOOKUP(B548,Spiele!B:B,Spiele!E:E))","v":""},{"$f":"IF(B548=\"\",\"\",LOOKUP(B548,Spiele!B:B,Spiele!F:F))","v":""},"","","",null,null,-1,-1,1,0]
[null,null,{"$f":"IF(B549=\"\",\"\",LOOKUP(B549,Spiele!B:B,Spiele!C:C))","v":""},{"$f":"IF(B549=\"\",\"\",LOOKUP(B549,Spiele!B:B,Spiele!D:D))","v":""},{"$f":"IF(B549=\"\",\"\",LOOKUP(B549,Spiele!B:B,Spiele!E:E))","v":""},{"$f":"IF(B549=\"\",\"\",LOOKUP(B549,Spiele!B:B,Spiele!F:F))","v":""},"","","",null,null,-1,-1,1,0]
[null,null,{"$f":"IF(B550=\"\",\"\",LOOKUP(B550,Spiele!B:B,Spiele!C:C))","v":""},{"$f":"IF(B550=\"\",\"\",LOOKUP(B550,Spiele!B:B,Spiele!D:D))","v":""},{"$f":"IF(B550=\"\",\"\",LOOKUP(B550,Spiele!B:B,Spiele!E:E))","v":""},{"$f":"IF(B550=\"\",\"\",LOOKUP(B550,Spiele!B:B,Spiele!F:F))","v":""},"","","",null,null,-1,-1,1,0]
[null,null,{"$f":"IF(B551=\"\",\"\",LOOKUP(B551,Spiele!B:B,Spiele!C:C))","v":""},{"$f":"IF(B551=\"\",\"\",LOOKUP(B551,Spiele!B:B,Spiele!D:D))","v":""},{"$f":"IF(B551=\"\",\"\",LOOKUP(B551,Spiele!B:B,Spiele!E:E))","v":""},{"$f":"IF(B551=\"\",\"\",LOOKUP(B551,Spiele!B:B,Spiele!F:F))","v":""},"","","",null,null,-1,-1,1,0]
[null,null,{"$f":"IF(B552=\"\",\"\",LOOKUP(B552,Spiele!B:B,Spiele!C:C))","v":""},{"$f":"IF(B552=\"\",\"\",LOOKUP(B552,Spiele!B:B,Spiele!D:D))","v":""},{"$f":"IF(B552=\"\",\"\",LOOKUP(B552,Spiele!B:B,Spiele!E:E))","v":""},{"$f":"IF(B552=\"\",\"\",LOOKUP(B552,Spiele!B:B,Spiele!F:F))","v":""},"","","",null,null,-1,-1,1,0]
[null,null,{"$f":"IF(B553=\"\",\"\",LOOKUP(B553,Spiele!B:B,Spiele!C:C))","v":""},{"$f":"IF(B553=\"\",\"\",LOOKUP(B553,Spiele!B:B,Spiele!D:D))","v":""},{"$f":"IF(B553=\"\",\"\",LOOKUP(B553,Spiele!B:B,Spiele!E:E))","v":""},{"$f":"IF(B553=\"\",\"\",LOOKUP(B553,Spiele!B:B,Spiele!F:F))","v":""},"","","",null,null,-1,-1,1,0]
[null,null,{"$f":"IF(B554=\"\",\"\",LOOKUP(B554,Spiele!B:B,Spiele!C:C))","v":""},{"$f":"IF(B554=\"\",\"\",LOOKUP(B554,Spiele!B:B,Spiele!D:D))","v":""},{"$f":"IF(B554=\"\",\"\",LOOKUP(B554,Spiele!B:B,Spiele!E:E))","v":""},{"$f":"IF(B554=\"\",\"\",LOOKUP(B554,Spiele!B:B,Spiele!F:F))","v":""},"","","",null,null,-1,-1,1,0]
[null,null,{"$f":"IF(B555=\"\",\"\",LOOKUP(B555,Spiele!B:B,Spiele!C:C))","v":""},{"$f":"IF(B555=\"\",\"\",LOOKUP(B555,Spiele!B:B,Spiele!D:D))","v":""},{"$f":"IF(B555=\"\",\"\",LOOKUP(B555,Spiele!B:B,Spiele!E:E))","v":""},{"$f":"IF(B555=\"\",\"\",LOOKUP(B555,Spiele!B:B,Spiele!F:F))","v":""},"","","",null,null,-1,-1,1,0]
[null,null,{"$f":"IF(B556=\"\",\"\",LOOKUP(B556,Spiele!B:B,Spiele!C:C))","v":""},{"$f":"IF(B556=\"\",\"\",LOOKUP(B556,Spiele!B:B,Spiele!D:D))","v":""},{"$f":"IF(B556=\"\",\"\",LOOKUP(B556,Spiele!B:B,Spiele!E:E))","v":""},{"$f":"IF(B556=\"\",\"\",LOOKUP(B556,Spiele!B:B,Spiele!F:F))","v":""},"","","",null,null,-1,-1,1,0]
[null,null,{"$f":"IF(B557=\"\",\"\",LOOKUP(B557,Spiele!B:B,Spiele!C:C))","v":""},{"$f":"IF(B557=\"\",\"\",LOOKUP(B557,Spiele!B:B,Spiele!D:D))","v":""},{"$f":"IF(B557=\"\",\"\",LOOKUP(B557,Spiele!B:B,Spiele!E:E))","v":""},{"$f":"IF(B557=\"\",\"\",LOOKUP(B557,Spiele!B:B,Spiele!F:F))","v":""},"","","",null,null,-1,-1,1,0]
[null,null,{"$f":"IF(B558=\"\",\"\",LOOKUP(B558,Spiele!B:B,Spiele!C:C))","v":""},{"$f":"IF(B558=\"\",\"\",LOOKUP(B558,Spiele!B:B,Spiele!D:D))","v":""},{"$f":"IF(B558=\"\",\"\",LOOKUP(B558,Spiele!B:B,Spiele!E:E))","v":""},{"$f":"IF(B558=\"\",\"\",LOOKUP(B558,Spiele!B:B,Spiele!F:F))","v":""},"","","",null,null,-1,-1,1,0]
[null,null,{"$f":"IF(B559=\"\",\"\",LOOKUP(B559,Spiele!B:B,Spiele!C:C))","v":""},{"$f":"IF(B559=\"\",\"\",LOOKUP(B559,Spiele!B:B,Spiele!D:D))","v":""},{"$f":"IF(B559=\"\",\"\",LOOKUP(B559,Spiele!B:B,Spiele!E:E))","v":""},{"$f":"IF(B559=\"\",\"\",LOOKUP(B559,Spiele!B:B,Spiele!F:F))","v":""},"","","",null,null,-1,-1,1,0]
[null,null,{"$f":"IF(B560=\"\",\"\",LOOKUP(B560,Spiele!B:B,Spiele!C:C))","v":""},{"$f":"IF(B560=\"\",\"\",LOOKUP(B560,Spiele!B:B,Spiele!D:D))","v":""},{"$f":"IF(B560=\"\",\"\",LOOKUP(B560,Spiele!B:B,Spiele!E:E))","v":""},{"$f":"IF(B560=\"\",\"\",LOOKUP(B560,Spiele!B:B,Spiele!F:F))","v":""},"","","",null,null,-1,-1,1,0]
[null,null,{"$f":"IF(B561=\"\",\"\",LOOKUP(B561,Spiele!B:B,Spiele!C:C))","v":""},{"$f":"IF(B561=\"\",\"\",LOOKUP(B561,Spiele!B:B,Spiele!D:D))","v":""},{"$f":"IF(B561=\"\",\"\",LOOKUP(B561,Spiele!B:B,Spiele!E:E))","v":""},{"$f":"IF(B561=\"\",\"\",LOOKUP(B561,Spiele!B:B,Spiele!F:F))","v":""},"","","",null,null,-1,-1,1,0]
[null,null,{"$f":"IF(B562=\"\",\"\",LOOKUP(B562,Spiele!B:B,Spiele!C:C))","v":""},{"$f":"IF(B562=\"\",\"\",LOOKUP(B562,Spiele!B:B,Spiele!D:D))","v":""},{"$f":"IF(B562=\"\",\"\",LOOKUP(B562,Spiele!B:B,Spiele!E:E))","v":""},{"$f":"IF(B562=\"\",\"\",LOOKUP(B562,Spiele!B:B,Spiele!F:F))","v":""},"","","",null,null,-1,-1,1,0]
[null,null,{"$f":"IF(B563=\"\",\"\",LOOKUP(B563,Spiele!B:B,Spiele!C:C))","v":""},{"$f":"IF(B563=\"\",\"\",LOOKUP(B563,Spiele!B:B,Spiele!D:D))","v":""},{"$f":"IF(B563=\"\",\"\",LOOKUP(B563,Spiele!B:B,Spiele!E:E))","v":""},{"$f":"IF(B563=\"\",\"\",LOOKUP(B563,Spiele!B:B,Spiele!F:F))","v":""},"","","",null,null,-1,-1,1,0]
[null,null,{"$f":"IF(B564=\"\",\"\",LOOKUP(B564,Spiele!B:B,Spiele!C:C))","v":""},{"$f":"IF(B564=\"\",\"\",LOOKUP(B564,Spiele!B:B,Spiele!D:D))","v":""},{"$f":"IF(B564=\"\",\"\",LOOKUP(B564,Spiele!B:B,Spiele!E:E))","v":""},{"$f":"IF(B564=\"\",\"\",LOOKUP(B564,Spiele!B:B,Spiele!F:F))","v":""},"","","",null,null,-1,-1,1,0]
[null,null,{"$f":"IF(B565=\"\",\"\",LOOKUP(B565,Spiele!B:B,Spiele!C:C))","v":""},{"$f":"IF(B565=\"\",\"\",LOOKUP(B565,Spiele!B:B,Spiele!D:D))","v":""},{"$f":"IF(B565=\"\",\"\",LOOKUP(B565,Spiele!B:B,Spiele!E:E))","v":""},{"$f":"IF(B565=\"\",\"\",LOOKUP(B565,Spiele!B:B,Spiele!F:F))","v":""},"","","",null,null,-1,-1,1,0]
[null,null,{"$f":"IF(B566=\"\",\"\",LOOKUP(B566,Spiele!B:B,Spiele!C:C))","v":""},{"$f":"IF(B566=\"\",\"\",LOOKUP(B566,Spiele!B:B,Spiele!D:D))","v":""},{"$f":"IF(B566=\"\",\"\",LOOKUP(B566,Spiele!B:B,Spiele!E:E))","v":""},{"$f":"IF(B566=\"\",\"\",LOOKUP(B566,Spiele!B:B,Spiele!F:F))","v":""},"","","",null,null,-1,-1,1,0]
[null,null,{"$f":"IF(B567=\"\",\"\",LOOKUP(B567,Spiele!B:B,Spiele!C:C))","v":""},{"$f":"IF(B567=\"\",\"\",LOOKUP(B567,Spiele!B:B,Spiele!D:D))","v":""},{"$f":"IF(B567=\"\",\"\",LOOKUP(B567,Spiele!B:B,Spiele!E:E))","v":""},{"$f":"IF(B567=\"\",\"\",LOOKUP(B567,Spiele!B:B,Spiele!F:F))","v":""},"","","",null,null,-1,-1,1,0]
[null,null,{"$f":"IF(B568=\"\",\"\",LOOKUP(B568,Spiele!B:B,Spiele!C:C))","v":""},{"$f":"IF(B568=\"\",\"\",LOOKUP(B568,Spiele!B:B,Spiele!D:D))","v":""},{"$f":"IF(B568=\"\",\"\",LOOKUP(B568,Spiele!B:B,Spiele!E:E))","v":""},{"$f":"IF(B568=\"\",\"\",LOOKUP(B568,Spiele!B:B,Spiele!F:F))","v":""},"","","",null,null,-1,-1,1,0]
[null,null,{"$f":"IF(B569=\"\",\"\",LOOKUP(B569,Spiele!B:B,Spiele!C:C))","v":""},{"$f":"IF(B569=\"\",\"\",LOOKUP(B569,Spiele!B:B,Spiele!D:D))","v":""},{"$f":"IF(B569=\"\",\"\",LOOKUP(B569,Spiele!B:B,Spiele!E:E))","v":""},{"$f":"IF(B569=\"\",\"\",LOOKUP(B569,Spiele!B:B,Spiele!F:F))","v":""},"","","",null,null,-1,-1,1,0]
[null,null,{"$f":"IF(B570=\"\",\"\",LOOKUP(B570,Spiele!B:B,Spiele!C:C))","v":""},{"$f":"IF(B570=\"\",\"\",LOOKUP(B570,Spiele!B:B,Spiele!D:D))","v":""},{"$f":"IF(B570=\"\",\"\",LOOKUP(B570,Spiele!B:B,Spiele!E:E))","v":""},{"$f":"IF(B570=\"\",\"\",LOOKUP(B570,Spiele!B:B,Spiele!F:F))","v":""},"","","",null,null,-1,-1,1,0]
[null,null,{"$f":"IF(B571=\"\",\"\",LOOKUP(B571,Spiele!B:B,Spiele!C:C))","v":""},{"$f":"IF(B571=\"\",\"\",LOOKUP(B571,Spiele!B:B,Spiele!D:D))","v":""},{"$f":"IF(B571=\"\",\"\",LOOKUP(B571,Spiele!B:B,Spiele!E:E))","v":""},{"$f":"IF(B571=\"\",\"\",LOOKUP(B571,Spiele!B:B,Spiele!F:F))","v":""},"","","",null,null,-1,-1,1,0]
[null,null,{"$f":"IF(B572=\"\",\"\",LOOKUP(B572,Spiele!B:B,Spiele!C:C))","v":""},{"$f":"IF(B572=\"\",\"\",LOOKUP(B572,Spiele!B:B,Spiele!D:D))","v":""},{"$f":"IF(B572=\"\",\"\",LOOKUP(B572,Spiele!B:B,Spiele!E:E))","v":""},{"$f":"IF(B572=\"\",\"\",LOOKUP(B572,Spiele!B:B,Spiele!F:F))","v":""},"","","",null,null,-1,-1,1,0]
[null,null,{"$f":"IF(B573=\"\",\"\",LOOKUP(B573,Spiele!B:B,Spiele!C:C))","v":""},{"$f":"IF(B573=\"\",\"\",LOOKUP(B573,Spiele!B:B,Spiele!D:D))","v":""},{"$f":"IF(B573=\"\",\"\",LOOKUP(B573,Spiele!B:B,Spiele!E:E))","v":""},{"$f":"IF(B573=\"\",\"\",LOOKUP(B573,Spiele!B:B,Spiele!F:F))","v":""},"","","",null,null,-1,-1,1,0]
[null,null,{"$f":"IF(B574=\"\",\"\",LOOKUP(B574,Spiele!B:B,Spiele!C:C))","v":""},{"$f":"IF(B574=\"\",\"\",LOOKUP(B574,Spiele!B:B,Spiele!D:D))","v":""},{"$f":"IF(B574=\"\",\"\",LOOKUP(B574,Spiele!B:B,Spiele!E:E))","v":""},{"$f":"IF(B574=\"\",\"\",LOOKUP(B574,Spiele!B:B,Spiele!F:F))","v":""},"","","",null,null,-1,-1,1,0]
[null,null,{"$f":"IF(B575=\"\",\"\",LOOKUP(B575,Spiele!B:B,Spiele!C:C))","v":""},{"$f":"IF(B575=\"\",\"\",LOOKUP(B575,Spiele!B:B,Spiele!D:D))","v":""},{"$f":"IF(B575=\"\",\"\",LOOKUP(B575,Spiele!B:B,Spiele!E:E))","v":""},{"$f":"IF(B575=\"\",\"\",LOOKUP(B575,Spiele!B:B,Spiele!F:F))","v":""},"","","",null,null,-1,-1,1,0]
[null,null,{"$f":"IF(B576=\"\",\"\",LOOKUP(B576,Spiele!B:B,Spiele!C:C))","v":""},{"$f":"IF(B576=\"\",\"\",LOOKUP(B576,Spiele!B:B,Spiele!D:D))","v":""},{"$f":"IF(B576=\"\",\"\",LOOKUP(B576,Spiele!B:B,Spiele!E:E))","v":""},{"$f":"IF(B576=\"\",\"\",LOOKUP(B576,Spiele!B:B,Spiele!F:F))","v":""},"","","",null,null,-1,-1,1,0]
[null,null,{"$f":"IF(B577=\"\",\"\",LOOKUP(B577,Spiele!B:B,Spiele!C:C))","v":""},{"$f":"IF(B577=\"\",\"\",LOOKUP(B577,Spiele!B:B,Spiele!D:D))","v":""},{"$f":"IF(B577=\"\",\"\",LOOKUP(B577,Spiele!B:B,Spiele!E:E))","v":""},{"$f":"IF(B577=\"\",\"\",LOOKUP(B577,Spiele!B:B,Spiele!F:F))","v":""},"","","",null,null,-1,-1,1,0]
[null,null,{"$f":"IF(B578=\"\",\"\",LOOKUP(B578,Spiele!B:B,Spiele!C:C))","v":""},{"$f":"IF(B578=\"\",\"\",LOOKUP(B578,Spiele!B:B,Spiele!D:D))","v":""},{"$f":"IF(B578=\"\",\"\",LOOKUP(B578,Spiele!B:B,Spiele!E:E))","v":""},{"$f":"IF(B578=\"\",\"\",LOOKUP(B578,Spiele!B:B,Spiele!F:F))","v":""},"","","",null,null,-1,-1,1,0]
[null,null,{"$f":"IF(B579=\"\",\"\",LOOKUP(B579,Spiele!B:B,Spiele!C:C))","v":""},{"$f":"IF(B579=\"\",\"\",LOOKUP(B579,Spiele!B:B,Spiele!D:D))","v":""},{"$f":"IF(B579=\"\",\"\",LOOKUP(B579,Spiele!B:B,Spiele!E:E))","v":""},{"$f":"IF(B579=\"\",\"\",LOOKUP(B579,Spiele!B:B,Spiele!F:F))","v":""},"","","",null,null,-1,-1,1,0]
[null,null,{"$f":"IF(B580=\"\",\"\",LOOKUP(B580,Spiele!B:B,Spiele!C:C))","v":""},{"$f":"IF(B580=\"\",\"\",LOOKUP(B580,Spiele!B:B,Spiele!D:D))","v":""},{"$f":"IF(B580=\"\",\"\",LOOKUP(B580,Spiele!B:B,Spiele!E:E))","v":""},{"$f":"IF(B580=\"\",\"\",LOOKUP(B580,Spiele!B:B,Spiele!F:F))","v":""},"","","",null,null,-1,-1,1,0]
[null,null,{"$f":"IF(B581=\"\",\"\",LOOKUP(B581,Spiele!B:B,Spiele!C:C))","v":""},{"$f":"IF(B581=\"\",\"\",LOOKUP(B581,Spiele!B:B,Spiele!D:D))","v":""},{"$f":"IF(B581=\"\",\"\",LOOKUP(B581,Spiele!B:B,Spiele!E:E))","v":""},{"$f":"IF(B581=\"\",\"\",LOOKUP(B581,Spiele!B:B,Spiele!F:F))","v":""},"","","",null,null,-1,-1,1,0]
[null,null,{"$f":"IF(B582=\"\",\"\",LOOKUP(B582,Spiele!B:B,Spiele!C:C))","v":""},{"$f":"IF(B582=\"\",\"\",LOOKUP(B582,Spiele!B:B,Spiele!D:D))","v":""},{"$f":"IF(B582=\"\",\"\",LOOKUP(B582,Spiele!B:B,Spiele!E:E))","v":""},{"$f":"IF(B582=\"\",\"\",LOOKUP(B582,Spiele!B:B,Spiele!F:F))","v":""},"","","",null,null,-1,-1,1,0]
[null,null,{"$f":"IF(B583=\"\",\"\",LOOKUP(B583,Spiele!B:B,Spiele!C:C))","v":""},{"$f":"IF(B583=\"\",\"\",LOOKUP(B583,Spiele!B:B,Spiele!D:D))","v":""},{"$f":"IF(B583=\"\",\"\",LOOKUP(B583,Spiele!B:B,Spiele!E:E))","v":""},{"$f":"IF(B583=\"\",\"\",LOOKUP(B583,Spiele!B:B,Spiele!F:F))","v":""},"","","",null,null,-1,-1,1,0]
[null,null,{"$f":"IF(B584=\"\",\"\",LOOKUP(B584,Spiele!B:B,Spiele!C:C))","v":""},{"$f":"IF(B584=\"\",\"\",LOOKUP(B584,Spiele!B:B,Spiele!D:D))","v":""},{"$f":"IF(B584=\"\",\"\",LOOKUP(B584,Spiele!B:B,Spiele!E:E))","v":""},{"$f":"IF(B584=\"\",\"\",LOOKUP(B584,Spiele!B:B,Spiele!F:F))","v":""},{"$f":"IF(E584=\"\",\"\",IF(E584>F584,1,0))","v":""},{"$f":"IF(F584=\"\",\"\",IF(E584<F584,1,0))","v":""},{"$f":"IF(E584=\"\",\"\",IF(E584=F584,1,0))","v":""},null,null,{"$f":"IF(E584=\"\",-1,IF(J584>K584,1,-1))","v":-1},{"$f":"IF(F584=\"\",-1,IF(J584<K584,1,-1))","v":-1},1,{"$f":"IF(E584=\"\",0,IF(E584=J584,1,0)+IF(F584=K584,1,0)+IF(G584=L584,1,0)+IF(H584=M584,1,0)+IF(I584=N584,1,0))","v":0}]
[null,null,{"$f":"IF(B585=\"\",\"\",LOOKUP(B585,Spiele!B:B,Spiele!C:C))","v":""},{"$f":"IF(B585=\"\",\"\",LOOKUP(B585,Spiele!B:B,Spiele!D:D))","v":""},{"$f":"IF(B585=\"\",\"\",LOOKUP(B585,Spiele!B:B,Spiele!E:E))","v":""},{"$f":"IF(B585=\"\",\"\",LOOKUP(B585,Spiele!B:B,Spiele!F:F))","v":""},"","","",null,null,-1,-1,1,0]
[null,null,{"$f":"IF(B586=\"\",\"\",LOOKUP(B586,Spiele!B:B,Spiele!C:C))","v":""},{"$f":"IF(B586=\"\",\"\",LOOKUP(B586,Spiele!B:B,Spiele!D:D))","v":""},{"$f":"IF(B586=\"\",\"\",LOOKUP(B586,Spiele!B:B,Spiele!E:E))","v":""},{"$f":"IF(B586=\"\",\"\",LOOKUP(B586,Spiele!B:B,Spiele!F:F))","v":""},"","","",null,null,-1,-1,1,0]
[null,null,{"$f":"IF(B587=\"\",\"\",LOOKUP(B587,Spiele!B:B,Spiele!C:C))","v":""},{"$f":"IF(B587=\"\",\"\",LOOKUP(B587,Spiele!B:B,Spiele!D:D))","v":""},{"$f":"IF(B587=\"\",\"\",LOOKUP(B587,Spiele!B:B,Spiele!E:E))","v":""},{"$f":"IF(B587=\"\",\"\",LOOKUP(B587,Spiele!B:B,Spiele!F:F))","v":""},"","","",null,null,-1,-1,1,0]
[null,null,{"$f":"IF(B588=\"\",\"\",LOOKUP(B588,Spiele!B:B,Spiele!C:C))","v":""},{"$f":"IF(B588=\"\",\"\",LOOKUP(B588,Spiele!B:B,Spiele!D:D))","v":""},{"$f":"IF(B588=\"\",\"\",LOOKUP(B588,Spiele!B:B,Spiele!E:E))","v":""},{"$f":"IF(B588=\"\",\"\",LOOKUP(B588,Spiele!B:B,Spiele!F:F))","v":""},"","","",null,null,-1,-1,1,0]
[null,null,{"$f":"IF(B589=\"\",\"\",LOOKUP(B589,Spiele!B:B,Spiele!C:C))","v":""},{"$f":"IF(B589=\"\",\"\",LOOKUP(B589,Spiele!B:B,Spiele!D:D))","v":""},{"$f":"IF(B589=\"\",\"\",LOOKUP(B589,Spiele!B:B,Spiele!E:E))","v":""},{"$f":"IF(B589=\"\",\"\",LOOKUP(B589,Spiele!B:B,Spiele!F:F))","v":""},"","","",null,null,-1,-1,1,0]
[null,null,{"$f":"IF(B590=\"\",\"\",LOOKUP(B590,Spiele!B:B,Spiele!C:C))","v":""},{"$f":"IF(B590=\"\",\"\",LOOKUP(B590,Spiele!B:B,Spiele!D:D))","v":""},{"$f":"IF(B590=\"\",\"\",LOOKUP(B590,Spiele!B:B,Spiele!E:E))","v":""},{"$f":"IF(B590=\"\",\"\",LOOKUP(B590,Spiele!B:B,Spiele!F:F))","v":""},"","","",null,null,-1,-1,1,0]
[null,null,{"$f":"IF(B591=\"\",\"\",LOOKUP(B591,Spiele!B:B,Spiele!C:C))","v":""},{"$f":"IF(B591=\"\",\"\",LOOKUP(B591,Spiele!B:B,Spiele!D:D))","v":""},{"$f":"IF(B591=\"\",\"\",LOOKUP(B591,Spiele!B:B,Spiele!E:E))","v":""},{"$f":"IF(B591=\"\",\"\",LOOKUP(B591,Spiele!B:B,Spiele!F:F))","v":""},"","","",null,null,-1,-1,1,0]
[null,null,{"$f":"IF(B592=\"\",\"\",LOOKUP(B592,Spiele!B:B,Spiele!C:C))","v":""},{"$f":"IF(B592=\"\",\"\",LOOKUP(B592,Spiele!B:B,Spiele!D:D))","v":""},{"$f":"IF(B592=\"\",\"\",LOOKUP(B592,Spiele!B:B,Spiele!E:E))","v":""},{"$f":"IF(B592=\"\",\"\",LOOKUP(B592,Spiele!B:B,Spiele!F:F))","v":""},"","","",null,null,-1,-1,{"$f":"IF(E592=\"-\",-1,IF(J592=K592,1,-1))","v":1},0]
[null,null,{"$f":"IF(B593=\"\",\"\",LOOKUP(B593,Spiele!B:B,Spiele!C:C))","v":""},{"$f":"IF(B593=\"\",\"\",LOOKUP(B593,Spiele!B:B,Spiele!D:D))","v":""},{"$f":"IF(B593=\"\",\"\",LOOKUP(B593,Spiele!B:B,Spiele!E:E))","v":""},{"$f":"IF(B593=\"\",\"\",LOOKUP(B593,Spiele!B:B,Spiele!F:F))","v":""},"","","",null,null,-1,-1,1,0]
[null,null,{"$f":"IF(B594=\"\",\"\",LOOKUP(B594,Spiele!B:B,Spiele!C:C))","v":""},{"$f":"IF(B594=\"\",\"\",LOOKUP(B594,Spiele!B:B,Spiele!D:D))","v":""},{"$f":"IF(B594=\"\",\"\",LOOKUP(B594,Spiele!B:B,Spiele!E:E))","v":""},{"$f":"IF(B594=\"\",\"\",LOOKUP(B594,Spiele!B:B,Spiele!F:F))","v":""},"","","",null,null,-1,-1,1,0]
[null,null,{"$f":"IF(B595=\"\",\"\",LOOKUP(B595,Spiele!B:B,Spiele!C:C))","v":""},{"$f":"IF(B595=\"\",\"\",LOOKUP(B595,Spiele!B:B,Spiele!D:D))","v":""},{"$f":"IF(B595=\"\",\"\",LOOKUP(B595,Spiele!B:B,Spiele!E:E))","v":""},{"$f":"IF(B595=\"\",\"\",LOOKUP(B595,Spiele!B:B,Spiele!F:F))","v":""},"","","",null,null,-1,-1,1,0]
[null,null,{"$f":"IF(B596=\"\",\"\",LOOKUP(B596,Spiele!B:B,Spiele!C:C))","v":""},{"$f":"IF(B596=\"\",\"\",LOOKUP(B596,Spiele!B:B,Spiele!D:D))","v":""},{"$f":"IF(B596=\"\",\"\",LOOKUP(B596,Spiele!B:B,Spiele!E:E))","v":""},{"$f":"IF(B596=\"\",\"\",LOOKUP(B596,Spiele!B:B,Spiele!F:F))","v":""},"","","",null,null,-1,-1,1,0]
[null,null,{"$f":"IF(B597=\"\",\"\",LOOKUP(B597,Spiele!B:B,Spiele!C:C))","v":""},{"$f":"IF(B597=\"\",\"\",LOOKUP(B597,Spiele!B:B,Spiele!D:D))","v":""},{"$f":"IF(B597=\"\",\"\",LOOKUP(B597,Spiele!B:B,Spiele!E:E))","v":""},{"$f":"IF(B597=\"\",\"\",LOOKUP(B597,Spiele!B:B,Spiele!F:F))","v":""},"","","",null,null,-1,-1,1,0]
[null,null,{"$f":"IF(B598=\"\",\"\",LOOKUP(B598,Spiele!B:B,Spiele!C:C))","v":""},{"$f":"IF(B598=\"\",\"\",LOOKUP(B598,Spiele!B:B,Spiele!D:D))","v":""},{"$f":"IF(B598=\"\",\"\",LOOKUP(B598,Spiele!B:B,Spiele!E:E))","v":""},{"$f":"IF(B598=\"\",\"\",LOOKUP(B598,Spiele!B:B,Spiele!F:F))","v":""},"","","",null,null,-1,-1,1,0]
[null,null,{"$f":"IF(B599=\"\",\"\",LOOKUP(B599,Spiele!B:B,Spiele!C:C))","v":""},{"$f":"IF(B599=\"\",\"\",LOOKUP(B599,Spiele!B:B,Spiele!D:D))","v":""},{"$f":"IF(B599=\"\",\"\",LOOKUP(B599,Spiele!B:B,Spiele!E:E))","v":""},{"$f":"IF(B599=\"\",\"\",LOOKUP(B599,Spiele!B:B,Spiele!F:F))","v":""},"","","",null,null,-1,-1,1,0]
[null,null,{"$f":"IF(B600=\"\",\"\",LOOKUP(B600,Spiele!B:B,Spiele!C:C))","v":""},{"$f":"IF(B600=\"\",\"\",LOOKUP(B600,Spiele!B:B,Spiele!D:D))","v":""},{"$f":"IF(B600=\"\",\"\",LOOKUP(B600,Spiele!B:B,Spiele!E:E))","v":""},{"$f":"IF(B600=\"\",\"\",LOOKUP(B600,Spiele!B:B,Spiele!F:F))","v":""},"","","",null,null,-1,-1,1,0]
[null,null,{"$f":"IF(B601=\"\",\"\",LOOKUP(B601,Spiele!B:B,Spiele!C:C))","v":""},{"$f":"IF(B601=\"\",\"\",LOOKUP(B601,Spiele!B:B,Spiele!D:D))","v":""},{"$f":"IF(B601=\"\",\"\",LOOKUP(B601,Spiele!B:B,Spiele!E:E))","v":""},{"$f":"IF(B601=\"\",\"\",LOOKUP(B601,Spiele!B:B,Spiele!F:F))","v":""},"","","",null,null,-1,-1,1,0]
[null,null,{"$f":"IF(B602=\"\",\"\",LOOKUP(B602,Spiele!B:B,Spiele!C:C))","v":""},{"$f":"IF(B602=\"\",\"\",LOOKUP(B602,Spiele!B:B,Spiele!D:D))","v":""},{"$f":"IF(B602=\"\",\"\",LOOKUP(B602,Spiele!B:B,Spiele!E:E))","v":""},{"$f":"IF(B602=\"\",\"\",LOOKUP(B602,Spiele!B:B,Spiele!F:F))","v":""},"","","",null,null,-1,-1,1,0]
[null,null,{"$f":"IF(B603=\"\",\"\",LOOKUP(B603,Spiele!B:B,Spiele!C:C))","v":""},{"$f":"IF(B603=\"\",\"\",LOOKUP(B603,Spiele!B:B,Spiele!D:D))","v":""},{"$f":"IF(B603=\"\",\"\",LOOKUP(B603,Spiele!B:B,Spiele!E:E))","v":""},{"$f":"IF(B603=\"\",\"\",LOOKUP(B603,Spiele!B:B,Spiele!F:F))","v":""},"","","",null,null,-1,-1,1,0]
[null,null,{"$f":"IF(B604=\"\",\"\",LOOKUP(B604,Spiele!B:B,Spiele!C:C))","v":""},{"$f":"IF(B604=\"\",\"\",LOOKUP(B604,Spiele!B:B,Spiele!D:D))","v":""},{"$f":"IF(B604=\"\",\"\",LOOKUP(B604,Spiele!B:B,Spiele!E:E))","v":""},{"$f":"IF(B604=\"\",\"\",LOOKUP(B604,Spiele!B:B,Spiele!F:F))","v":""},"","","",null,null,-1,-1,1,0]
[null,null,{"$f":"IF(B605=\"\",\"\",LOOKUP(B605,Spiele!B:B,Spiele!C:C))","v":""},{"$f":"IF(B605=\"\",\"\",LOOKUP(B605,Spiele!B:B,Spiele!D:D))","v":""},{"$f":"IF(B605=\"\",\"\",LOOKUP(B605,Spiele!B:B,Spiele!E:E))","v":""},{"$f":"IF(B605=\"\",\"\",LOOKUP(B605,Spiele!B:B,Spiele!F:F))","v":""},"","","",null,null,-1,-1,1,0]
[null,null,{"$f":"IF(B606=\"\",\"\",LOOKUP(B606,Spiele!B:B,Spiele!C:C))","v":""},{"$f":"IF(B606=\"\",\"\",LOOKUP(B606,Spiele!B:B,Spiele!D:D))","v":""},{"$f":"IF(B606=\"\",\"\",LOOKUP(B606,Spiele!B:B,Spiele!E:E))","v":""},{"$f":"IF(B606=\"\",\"\",LOOKUP(B606,Spiele!B:B,Spiele!F:F))","v":""},"","","",null,null,-1,-1,1,0]
[null,null,{"$f":"IF(B607=\"\",\"\",LOOKUP(B607,Spiele!B:B,Spiele!C:C))","v":""},{"$f":"IF(B607=\"\",\"\",LOOKUP(B607,Spiele!B:B,Spiele!D:D))","v":""},{"$f":"IF(B607=\"\",\"\",LOOKUP(B607,Spiele!B:B,Spiele!E:E))","v":""},{"$f":"IF(B607=\"\",\"\",LOOKUP(B607,Spiele!B:B,Spiele!F:F))","v":""},"","","",null,null,-1,-1,1,0]
[null,null,{"$f":"IF(B608=\"\",\"\",LOOKUP(B608,Spiele!B:B,Spiele!C:C))","v":""},{"$f":"IF(B608=\"\",\"\",LOOKUP(B608,Spiele!B:B,Spiele!D:D))","v":""},{"$f":"IF(B608=\"\",\"\",LOOKUP(B608,Spiele!B:B,Spiele!E:E))","v":""},{"$f":"IF(B608=\"\",\"\",LOOKUP(B608,Spiele!B:B,Spiele!F:F))","v":""},"","","",null,null,-1,-1,1,0]
[null,null,{"$f":"IF(B609=\"\",\"\",LOOKUP(B609,Spiele!B:B,Spiele!C:C))","v":""},{"$f":"IF(B609=\"\",\"\",LOOKUP(B609,Spiele!B:B,Spiele!D:D))","v":""},{"$f":"IF(B609=\"\",\"\",LOOKUP(B609,Spiele!B:B,Spiele!E:E))","v":""},{"$f":"IF(B609=\"\",\"\",LOOKUP(B609,Spiele!B:B,Spiele!F:F))","v":""},"","","",null,null,-1,-1,1,0]
[null,null,{"$f":"IF(B610=\"\",\"\",LOOKUP(B610,Spiele!B:B,Spiele!C:C))","v":""},{"$f":"IF(B610=\"\",\"\",LOOKUP(B610,Spiele!B:B,Spiele!D:D))","v":""},{"$f":"IF(B610=\"\",\"\",LOOKUP(B610,Spiele!B:B,Spiele!E:E))","v":""},{"$f":"IF(B610=\"\",\"\",LOOKUP(B610,Spiele!B:B,Spiele!F:F))","v":""},"","","",null,null,-1,-1,1,0]
[null,null,{"$f":"IF(B611=\"\",\"\",LOOKUP(B611,Spiele!B:B,Spiele!C:C))","v":""},{"$f":"IF(B611=\"\",\"\",LOOKUP(B611,Spiele!B:B,Spiele!D:D))","v":""},{"$f":"IF(B611=\"\",\"\",LOOKUP(B611,Spiele!B:B,Spiele!E:E))","v":""},{"$f":"IF(B611=\"\",\"\",LOOKUP(B611,Spiele!B:B,Spiele!F:F))","v":""},"","","",null,null,-1,-1,1,0]
[null,null,{"$f":"IF(B612=\"\",\"\",LOOKUP(B612,Spiele!B:B,Spiele!C:C))","v":""},{"$f":"IF(B612=\"\",\"\",LOOKUP(B612,Spiele!B:B,Spiele!D:D))","v":""},{"$f":"IF(B612=\"\",\"\",LOOKUP(B612,Spiele!B:B,Spiele!E:E))","v":""},{"$f":"IF(B612=\"\",\"\",LOOKUP(B612,Spiele!B:B,Spiele!F:F))","v":""},"","","",null,null,-1,-1,1,0]
[null,null,{"$f":"IF(B613=\"\",\"\",LOOKUP(B613,Spiele!B:B,Spiele!C:C))","v":""},{"$f":"IF(B613=\"\",\"\",LOOKUP(B613,Spiele!B:B,Spiele!D:D))","v":""},{"$f":"IF(B613=\"\",\"\",LOOKUP(B613,Spiele!B:B,Spiele!E:E))","v":""},{"$f":"IF(B613=\"\",\"\",LOOKUP(B613,Spiele!B:B,Spiele!F:F))","v":""},"","","",null,null,-1,-1,1,0]
[null,null,{"$f":"IF(B614=\"\",\"\",LOOKUP(B614,Spiele!B:B,Spiele!C:C))","v":""},{"$f":"IF(B614=\"\",\"\",LOOKUP(B614,Spiele!B:B,Spiele!D:D))","v":""},{"$f":"IF(B614=\"\",\"\",LOOKUP(B614,Spiele!B:B,Spiele!E:E))","v":""},{"$f":"IF(B614=\"\",\"\",LOOKUP(B614,Spiele!B:B,Spiele!F:F))","v":""},"","","",null,null,-1,-1,1,0]
[null,null,{"$f":"IF(B615=\"\",\"\",LOOKUP(B615,Spiele!B:B,Spiele!C:C))","v":""},{"$f":"IF(B615=\"\",\"\",LOOKUP(B615,Spiele!B:B,Spiele!D:D))","v":""},{"$f":"IF(B615=\"\",\"\",LOOKUP(B615,Spiele!B:B,Spiele!E:E))","v":""},{"$f":"IF(B615=\"\",\"\",LOOKUP(B615,Spiele!B:B,Spiele!F:F))","v":""},"","","",null,null,-1,-1,1,0]
[null,null,{"$f":"IF(B616=\"\",\"\",LOOKUP(B616,Spiele!B:B,Spiele!C:C))","v":""},{"$f":"IF(B616=\"\",\"\",LOOKUP(B616,Spiele!B:B,Spiele!D:D))","v":""},{"$f":"IF(B616=\"\",\"\",LOOKUP(B616,Spiele!B:B,Spiele!E:E))","v":""},{"$f":"IF(B616=\"\",\"\",LOOKUP(B616,Spiele!B:B,Spiele!F:F))","v":""},"","","",null,null,-1,-1,1,0]
[null,null,{"$f":"IF(B617=\"\",\"\",LOOKUP(B617,Spiele!B:B,Spiele!C:C))","v":""},{"$f":"IF(B617=\"\",\"\",LOOKUP(B617,Spiele!B:B,Spiele!D:D))","v":""},{"$f":"IF(B617=\"\",\"\",LOOKUP(B617,Spiele!B:B,Spiele!E:E))","v":""},{"$f":"IF(B617=\"\",\"\",LOOKUP(B617,Spiele!B:B,Spiele!F:F))","v":""},"","","",null,null,-1,-1,1,0]
[null,null,{"$f":"IF(B618=\"\",\"\",LOOKUP(B618,Spiele!B:B,Spiele!C:C))","v":""},{"$f":"IF(B618=\"\",\"\",LOOKUP(B618,Spiele!B:B,Spiele!D:D))","v":""},{"$f":"IF(B618=\"\",\"\",LOOKUP(B618,Spiele!B:B,Spiele!E:E))","v":""},{"$f":"IF(B618=\"\",\"\",LOOKUP(B618,Spiele!B:B,Spiele!F:F))","v":""},"","","",null,null,-1,-1,1,0]
[null,null,{"$f":"IF(B619=\"\",\"\",LOOKUP(B619,Spiele!B:B,Spiele!C:C))","v":""},{"$f":"IF(B619=\"\",\"\",LOOKUP(B619,Spiele!B:B,Spiele!D:D))","v":""},{"$f":"IF(B619=\"\",\"\",LOOKUP(B619,Spiele!B:B,Spiele!E:E))","v":""},{"$f":"IF(B619=\"\",\"\",LOOKUP(B619,Spiele!B:B,Spiele!F:F))","v":""},"","","",null,null,-1,-1,1,0]
[null,null,{"$f":"IF(B620=\"\",\"\",LOOKUP(B620,Spiele!B:B,Spiele!C:C))","v":""},{"$f":"IF(B620=\"\",\"\",LOOKUP(B620,Spiele!B:B,Spiele!D:D))","v":""},{"$f":"IF(B620=\"\",\"\",LOOKUP(B620,Spiele!B:B,Spiele!E:E))","v":""},{"$f":"IF(B620=\"\",\"\",LOOKUP(B620,Spiele!B:B,Spiele!F:F))","v":""},"","","",null,null,-1,-1,1,0]
[null,null,{"$f":"IF(B621=\"\",\"\",LOOKUP(B621,Spiele!B:B,Spiele!C:C))","v":""},{"$f":"IF(B621=\"\",\"\",LOOKUP(B621,Spiele!B:B,Spiele!D:D))","v":""},{"$f":"IF(B621=\"\",\"\",LOOKUP(B621,Spiele!B:B,Spiele!E:E))","v":""},{"$f":"IF(B621=\"\",\"\",LOOKUP(B621,Spiele!B:B,Spiele!F:F))","v":""},"","","",null,null,-1,-1,1,0]
[null,null,{"$f":"IF(B622=\"\",\"\",LOOKUP(B622,Spiele!B:B,Spiele!C:C))","v":""},{"$f":"IF(B622=\"\",\"\",LOOKUP(B622,Spiele!B:B,Spiele!D:D))","v":""},{"$f":"IF(B622=\"\",\"\",LOOKUP(B622,Spiele!B:B,Spiele!E:E))","v":""},{"$f":"IF(B622=\"\",\"\",LOOKUP(B622,Spiele!B:B,Spiele!F:F))","v":""},"","","",null,null,-1,-1,1,0]
[null,null,{"$f":"IF(B623=\"\",\"\",LOOKUP(B623,Spiele!B:B,Spiele!C:C))","v":""},{"$f":"IF(B623=\"\",\"\",LOOKUP(B623,Spiele!B:B,Spiele!D:D))","v":""},{"$f":"IF(B623=\"\",\"\",LOOKUP(B623,Spiele!B:B,Spiele!E:E))","v":""},{"$f":"IF(B623=\"\",\"\",LOOKUP(B623,Spiele!B:B,Spiele!F:F))","v":""},"","","",null,null,-1,-1,1,0]
[null,null,{"$f":"IF(B624=\"\",\"\",LOOKUP(B624,Spiele!B:B,Spiele!C:C))","v":""},{"$f":"IF(B624=\"\",\"\",LOOKUP(B624,Spiele!B:B,Spiele!D:D))","v":""},{"$f":"IF(B624=\"\",\"\",LOOKUP(B624,Spiele!B:B,Spiele!E:E))","v":""},{"$f":"IF(B624=\"\",\"\",LOOKUP(B624,Spiele!B:B,Spiele!F:F))","v":""},"","","",null,null,-1,-1,1,0]
[null,null,{"$f":"IF(B625=\"\",\"\",LOOKUP(B625,Spiele!B:B,Spiele!C:C))","v":""},{"$f":"IF(B625=\"\",\"\",LOOKUP(B625,Spiele!B:B,Spiele!D:D))","v":""},{"$f":"IF(B625=\"\",\"\",LOOKUP(B625,Spiele!B:B,Spiele!E:E))","v":""},{"$f":"IF(B625=\"\",\"\",LOOKUP(B625,Spiele!B:B,Spiele!F:F))","v":""},"","","",null,null,-1,-1,1,0]
[null,null,{"$f":"IF(B626=\"\",\"\",LOOKUP(B626,Spiele!B:B,Spiele!C:C))","v":""},{"$f":"IF(B626=\"\",\"\",LOOKUP(B626,Spiele!B:B,Spiele!D:D))","v":""},{"$f":"IF(B626=\"\",\"\",LOOKUP(B626,Spiele!B:B,Spiele!E:E))","v":""},{"$f":"IF(B626=\"\",\"\",LOOKUP(B626,Spiele!B:B,Spiele!F:F))","v":""},"","","",null,null,-1,-1,1,0]
[null,null,{"$f":"IF(B627=\"\",\"\",LOOKUP(B627,Spiele!B:B,Spiele!C:C))","v":""},{"$f":"IF(B627=\"\",\"\",LOOKUP(B627,Spiele!B:B,Spiele!D:D))","v":""},{"$f":"IF(B627=\"\",\"\",LOOKUP(B627,Spiele!B:B,Spiele!E:E))","v":""},{"$f":"IF(B627=\"\",\"\",LOOKUP(B627,Spiele!B:B,Spiele!F:F))","v":""},"","","",null,null,-1,-1,1,0]
[null,null,{"$f":"IF(B628=\"\",\"\",LOOKUP(B628,Spiele!B:B,Spiele!C:C))","v":""},{"$f":"IF(B628=\"\",\"\",LOOKUP(B628,Spiele!B:B,Spiele!D:D))","v":""},{"$f":"IF(B628=\"\",\"\",LOOKUP(B628,Spiele!B:B,Spiele!E:E))","v":""},{"$f":"IF(B628=\"\",\"\",LOOKUP(B628,Spiele!B:B,Spiele!F:F))","v":""},"","","",null,null,-1,-1,1,0]
[null,null,{"$f":"IF(B629=\"\",\"\",LOOKUP(B629,Spiele!B:B,Spiele!C:C))","v":""},{"$f":"IF(B629=\"\",\"\",LOOKUP(B629,Spiele!B:B,Spiele!D:D))","v":""},{"$f":"IF(B629=\"\",\"\",LOOKUP(B629,Spiele!B:B,Spiele!E:E))","v":""},{"$f":"IF(B629=\"\",\"\",LOOKUP(B629,Spiele!B:B,Spiele!F:F))","v":""},"","","",null,null,-1,-1,1,0]
[null,null,{"$f":"IF(B630=\"\",\"\",LOOKUP(B630,Spiele!B:B,Spiele!C:C))","v":""},{"$f":"IF(B630=\"\",\"\",LOOKUP(B630,Spiele!B:B,Spiele!D:D))","v":""},{"$f":"IF(B630=\"\",\"\",LOOKUP(B630,Spiele!B:B,Spiele!E:E))","v":""},{"$f":"IF(B630=\"\",\"\",LOOKUP(B630,Spiele!B:B,Spiele!F:F))","v":""},"","","",null,null,-1,-1,1,0]
[null,null,{"$f":"IF(B631=\"\",\"\",LOOKUP(B631,Spiele!B:B,Spiele!C:C))","v":""},{"$f":"IF(B631=\"\",\"\",LOOKUP(B631,Spiele!B:B,Spiele!D:D))","v":""},{"$f":"IF(B631=\"\",\"\",LOOKUP(B631,Spiele!B:B,Spiele!E:E))","v":""},{"$f":"IF(B631=\"\",\"\",LOOKUP(B631,Spiele!B:B,Spiele!F:F))","v":""},"","","",null,null,-1,-1,1,0]
[null,null,{"$f":"IF(B632=\"\",\"\",LOOKUP(B632,Spiele!B:B,Spiele!C:C))","v":""},{"$f":"IF(B632=\"\",\"\",LOOKUP(B632,Spiele!B:B,Spiele!D:D))","v":""},{"$f":"IF(B632=\"\",\"\",LOOKUP(B632,Spiele!B:B,Spiele!E:E))","v":""},{"$f":"IF(B632=\"\",\"\",LOOKUP(B632,Spiele!B:B,Spiele!F:F))","v":""},"","","",null,null,-1,-1,1,0]
[null,null,{"$f":"IF(B633=\"\",\"\",LOOKUP(B633,Spiele!B:B,Spiele!C:C))","v":""},{"$f":"IF(B633=\"\",\"\",LOOKUP(B633,Spiele!B:B,Spiele!D:D))","v":""},{"$f":"IF(B633=\"\",\"\",LOOKUP(B633,Spiele!B:B,Spiele!E:E))","v":""},{"$f":"IF(B633=\"\",\"\",LOOKUP(B633,Spiele!B:B,Spiele!F:F))","v":""},"","","",null,null,-1,-1,1,0]
[null,null,{"$f":"IF(B634=\"\",\"\",LOOKUP(B634,Spiele!B:B,Spiele!C:C))","v":""},{"$f":"IF(B634=\"\",\"\",LOOKUP(B634,Spiele!B:B,Spiele!D:D))","v":""},{"$f":"IF(B634=\"\",\"\",LOOKUP(B634,Spiele!B:B,Spiele!E:E))","v":""},{"$f":"IF(B634=\"\",\"\",LOOKUP(B634,Spiele!B:B,Spiele!F:F))","v":""},"","","",null,null,-1,-1,1,0]
[null,null,{"$f":"IF(B635=\"\",\"\",LOOKUP(B635,Spiele!B:B,Spiele!C:C))","v":""},{"$f":"IF(B635=\"\",\"\",LOOKUP(B635,Spiele!B:B,Spiele!D:D))","v":""},{"$f":"IF(B635=\"\",\"\",LOOKUP(B635,Spiele!B:B,Spiele!E:E))","v":""},{"$f":"IF(B635=\"\",\"\",LOOKUP(B635,Spiele!B:B,Spiele!F:F))","v":""},"","","",null,null,-1,-1,1,0]
[null,null,{"$f":"IF(B636=\"\",\"\",LOOKUP(B636,Spiele!B:B,Spiele!C:C))","v":""},{"$f":"IF(B636=\"\",\"\",LOOKUP(B636,Spiele!B:B,Spiele!D:D))","v":""},{"$f":"IF(B636=\"\",\"\",LOOKUP(B636,Spiele!B:B,Spiele!E:E))","v":""},{"$f":"IF(B636=\"\",\"\",LOOKUP(B636,Spiele!B:B,Spiele!F:F))","v":""},"","","",null,null,-1,-1,1,0]
[null,null,{"$f":"IF(B637=\"\",\"\",LOOKUP(B637,Spiele!B:B,Spiele!C:C))","v":""},{"$f":"IF(B637=\"\",\"\",LOOKUP(B637,Spiele!B:B,Spiele!D:D))","v":""},{"$f":"IF(B637=\"\",\"\",LOOKUP(B637,Spiele!B:B,Spiele!E:E))","v":""},{"$f":"IF(B637=\"\",\"\",LOOKUP(B637,Spiele!B:B,Spiele!F:F))","v":""},"","","",null,null,-1,-1,1,0]
[null,null,{"$f":"IF(B638=\"\",\"\",LOOKUP(B638,Spiele!B:B,Spiele!C:C))","v":""},{"$f":"IF(B638=\"\",\"\",LOOKUP(B638,Spiele!B:B,Spiele!D:D))","v":""},{"$f":"IF(B638=\"\",\"\",LOOKUP(B638,Spiele!B:B,Spiele!E:E))","v":""},{"$f":"IF(B638=\"\",\"\",LOOKUP(B638,Spiele!B:B,Spiele!F:F))","v":""},"","","",null,null,-1,-1,1,0]
[null,null,{"$f":"IF(B639=\"\",\"\",LOOKUP(B639,Spiele!B:B,Spiele!C:C))","v":""},{"$f":"IF(B639=\"\",\"\",LOOKUP(B639,Spiele!B:B,Spiele!D:D))","v":""},{"$f":"IF(B639=\"\",\"\",LOOKUP(B639,Spiele!B:B,Spiele!E:E))","v":""},{"$f":"IF(B639=\"\",\"\",LOOKUP(B639,Spiele!B:B,Spiele!F:F))","v":""},"","","",null,null,-1,-1,1,0]
[null,null,{"$f":"IF(B640=\"\",\"\",LOOKUP(B640,Spiele!B:B,Spiele!C:C))","v":""},{"$f":"IF(B640=\"\",\"\",LOOKUP(B640,Spiele!B:B,Spiele!D:D))","v":""},{"$f":"IF(B640=\"\",\"\",LOOKUP(B640,Spiele!B:B,Spiele!E:E))","v":""},{"$f":"IF(B640=\"\",\"\",LOOKUP(B640,Spiele!B:B,Spiele!F:F))","v":""},"","","",null,null,-1,-1,1,0]
[null,null,{"$f":"IF(B641=\"\",\"\",LOOKUP(B641,Spiele!B:B,Spiele!C:C))","v":""},{"$f":"IF(B641=\"\",\"\",LOOKUP(B641,Spiele!B:B,Spiele!D:D))","v":""},{"$f":"IF(B641=\"\",\"\",LOOKUP(B641,Spiele!B:B,Spiele!E:E))","v":""},{"$f":"IF(B641=\"\",\"\",LOOKUP(B641,Spiele!B:B,Spiele!F:F))","v":""},"","","",null,null,-1,-1,1,0]
[null,null,{"$f":"IF(B642=\"\",\"\",LOOKUP(B642,Spiele!B:B,Spiele!C:C))","v":""},{"$f":"IF(B642=\"\",\"\",LOOKUP(B642,Spiele!B:B,Spiele!D:D))","v":""},{"$f":"IF(B642=\"\",\"\",LOOKUP(B642,Spiele!B:B,Spiele!E:E))","v":""},{"$f":"IF(B642=\"\",\"\",LOOKUP(B642,Spiele!B:B,Spiele!F:F))","v":""},"","","",null,null,-1,-1,1,0]
[null,null,{"$f":"IF(B643=\"\",\"\",LOOKUP(B643,Spiele!B:B,Spiele!C:C))","v":""},{"$f":"IF(B643=\"\",\"\",LOOKUP(B643,Spiele!B:B,Spiele!D:D))","v":""},{"$f":"IF(B643=\"\",\"\",LOOKUP(B643,Spiele!B:B,Spiele!E:E))","v":""},{"$f":"IF(B643=\"\",\"\",LOOKUP(B643,Spiele!B:B,Spiele!F:F))","v":""},"","","",null,null,-1,-1,1,0]
[null,null,{"$f":"IF(B644=\"\",\"\",LOOKUP(B644,Spiele!B:B,Spiele!C:C))","v":""},{"$f":"IF(B644=\"\",\"\",LOOKUP(B644,Spiele!B:B,Spiele!D:D))","v":""},{"$f":"IF(B644=\"\",\"\",LOOKUP(B644,Spiele!B:B,Spiele!E:E))","v":""},{"$f":"IF(B644=\"\",\"\",LOOKUP(B644,Spiele!B:B,Spiele!F:F))","v":""},"","","",null,null,-1,-1,1,0]
[null,null,{"$f":"IF(B645=\"\",\"\",LOOKUP(B645,Spiele!B:B,Spiele!C:C))","v":""},{"$f":"IF(B645=\"\",\"\",LOOKUP(B645,Spiele!B:B,Spiele!D:D))","v":""},{"$f":"IF(B645=\"\",\"\",LOOKUP(B645,Spiele!B:B,Spiele!E:E))","v":""},{"$f":"IF(B645=\"\",\"\",LOOKUP(B645,Spiele!B:B,Spiele!F:F))","v":""},"","","",null,null,-1,-1,1,0]
[null,null,{"$f":"IF(B646=\"\",\"\",LOOKUP(B646,Spiele!B:B,Spiele!C:C))","v":""},{"$f":"IF(B646=\"\",\"\",LOOKUP(B646,Spiele!B:B,Spiele!D:D))","v":""},{"$f":"IF(B646=\"\",\"\",LOOKUP(B646,Spiele!B:B,Spiele!E:E))","v":""},{"$f":"IF(B646=\"\",\"\",LOOKUP(B646,Spiele!B:B,Spiele!F:F))","v":""},"","","",null,null,-1,-1,1,0]
[null,null,{"$f":"IF(B647=\"\",\"\",LOOKUP(B647,Spiele!B:B,Spiele!C:C))","v":""},{"$f":"IF(B647=\"\",\"\",LOOKUP(B647,Spiele!B:B,Spiele!D:D))","v":""},{"$f":"IF(B647=\"\",\"\",LOOKUP(B647,Spiele!B:B,Spiele!E:E))","v":""},{"$f":"IF(B647=\"\",\"\",LOOKUP(B647,Spiele!B:B,Spiele!F:F))","v":""},"","","",null,null,-1,-1,1,0]
[null,null,{"$f":"IF(B648=\"\",\"\",LOOKUP(B648,Spiele!B:B,Spiele!C:C))","v":""},{"$f":"IF(B648=\"\",\"\",LOOKUP(B648,Spiele!B:B,Spiele!D:D))","v":""},{"$f":"IF(B648=\"\",\"\",LOOKUP(B648,Spiele!B:B,Spiele!E:E))","v":""},{"$f":"IF(B648=\"\",\"\",LOOKUP(B648,Spiele!B:B,Spiele!F:F))","v":""},{"$f":"IF(E648=\"\",\"\",IF(E648>F648,1,0))","v":""},{"$f":"IF(F648=\"\",\"\",IF(E648<F648,1,0))","v":""},{"$f":"IF(E648=\"\",\"\",IF(E648=F648,1,0))","v":""},null,null,{"$f":"IF(E648=\"\",-1,IF(J648>K648,1,-1))","v":-1},{"$f":"IF(F648=\"\",-1,IF(J648<K648,1,-1))","v":-1},1,{"$f":"IF(E648=\"\",0,IF(E648=J648,1,0)+IF(F648=K648,1,0)+IF(G648=L648,1,0)+IF(H648=M648,1,0)+IF(I648=N648,1,0))","v":0}]
[null,null,{"$f":"IF(B649=\"\",\"\",LOOKUP(B649,Spiele!B:B,Spiele!C:C))","v":""},{"$f":"IF(B649=\"\",\"\",LOOKUP(B649,Spiele!B:B,Spiele!D:D))","v":""},{"$f":"IF(B649=\"\",\"\",LOOKUP(B649,Spiele!B:B,Spiele!E:E))","v":""},{"$f":"IF(B649=\"\",\"\",LOOKUP(B649,Spiele!B:B,Spiele!F:F))","v":""},"","","",null,null,-1,-1,1,0]
[null,null,{"$f":"IF(B650=\"\",\"\",LOOKUP(B650,Spiele!B:B,Spiele!C:C))","v":""},{"$f":"IF(B650=\"\",\"\",LOOKUP(B650,Spiele!B:B,Spiele!D:D))","v":""},{"$f":"IF(B650=\"\",\"\",LOOKUP(B650,Spiele!B:B,Spiele!E:E))","v":""},{"$f":"IF(B650=\"\",\"\",LOOKUP(B650,Spiele!B:B,Spiele!F:F))","v":""},"","","",null,null,-1,-1,1,0]
[null,null,{"$f":"IF(B651=\"\",\"\",LOOKUP(B651,Spiele!B:B,Spiele!C:C))","v":""},{"$f":"IF(B651=\"\",\"\",LOOKUP(B651,Spiele!B:B,Spiele!D:D))","v":""},{"$f":"IF(B651=\"\",\"\",LOOKUP(B651,Spiele!B:B,Spiele!E:E))","v":""},{"$f":"IF(B651=\"\",\"\",LOOKUP(B651,Spiele!B:B,Spiele!F:F))","v":""},"","","",null,null,-1,-1,1,0]
[null,null,{"$f":"IF(B652=\"\",\"\",LOOKUP(B652,Spiele!B:B,Spiele!C:C))","v":""},{"$f":"IF(B652=\"\",\"\",LOOKUP(B652,Spiele!B:B,Spiele!D:D))","v":""},{"$f":"IF(B652=\"\",\"\",LOOKUP(B652,Spiele!B:B,Spiele!E:E))","v":""},{"$f":"IF(B652=\"\",\"\",LOOKUP(B652,Spiele!B:B,Spiele!F:F))","v":""},"","","",null,null,-1,-1,1,0]
[null,null,{"$f":"IF(B653=\"\",\"\",LOOKUP(B653,Spiele!B:B,Spiele!C:C))","v":""},{"$f":"IF(B653=\"\",\"\",LOOKUP(B653,Spiele!B:B,Spiele!D:D))","v":""},{"$f":"IF(B653=\"\",\"\",LOOKUP(B653,Spiele!B:B,Spiele!E:E))","v":""},{"$f":"IF(B653=\"\",\"\",LOOKUP(B653,Spiele!B:B,Spiele!F:F))","v":""},"","","",null,null,-1,-1,1,0]
[null,null,{"$f":"IF(B654=\"\",\"\",LOOKUP(B654,Spiele!B:B,Spiele!C:C))","v":""},{"$f":"IF(B654=\"\",\"\",LOOKUP(B654,Spiele!B:B,Spiele!D:D))","v":""},{"$f":"IF(B654=\"\",\"\",LOOKUP(B654,Spiele!B:B,Spiele!E:E))","v":""},{"$f":"IF(B654=\"\",\"\",LOOKUP(B654,Spiele!B:B,Spiele!F:F))","v":""},"","","",null,null,-1,-1,1,0]
[null,null,{"$f":"IF(B655=\"\",\"\",LOOKUP(B655,Spiele!B:B,Spiele!C:C))","v":""},{"$f":"IF(B655=\"\",\"\",LOOKUP(B655,Spiele!B:B,Spiele!D:D))","v":""},{"$f":"IF(B655=\"\",\"\",LOOKUP(B655,Spiele!B:B,Spiele!E:E))","v":""},{"$f":"IF(B655=\"\",\"\",LOOKUP(B655,Spiele!B:B,Spiele!F:F))","v":""},"","","",null,null,-1,-1,1,0]
[null,null,{"$f":"IF(B656=\"\",\"\",LOOKUP(B656,Spiele!B:B,Spiele!C:C))","v":""},{"$f":"IF(B656=\"\",\"\",LOOKUP(B656,Spiele!B:B,Spiele!D:D))","v":""},{"$f":"IF(B656=\"\",\"\",LOOKUP(B656,Spiele!B:B,Spiele!E:E))","v":""},{"$f":"IF(B656=\"\",\"\",LOOKUP(B656,Spiele!B:B,Spiele!F:F))","v":""},"","","",null,null,-1,-1,{"$f":"IF(E656=\"-\",-1,IF(J656=K656,1,-1))","v":1},0]
[null,null,{"$f":"IF(B657=\"\",\"\",LOOKUP(B657,Spiele!B:B,Spiele!C:C))","v":""},{"$f":"IF(B657=\"\",\"\",LOOKUP(B657,Spiele!B:B,Spiele!D:D))","v":""},{"$f":"IF(B657=\"\",\"\",LOOKUP(B657,Spiele!B:B,Spiele!E:E))","v":""},{"$f":"IF(B657=\"\",\"\",LOOKUP(B657,Spiele!B:B,Spiele!F:F))","v":""},"","","",null,null,-1,-1,1,0]
[null,null,{"$f":"IF(B658=\"\",\"\",LOOKUP(B658,Spiele!B:B,Spiele!C:C))","v":""},{"$f":"IF(B658=\"\",\"\",LOOKUP(B658,Spiele!B:B,Spiele!D:D))","v":""},{"$f":"IF(B658=\"\",\"\",LOOKUP(B658,Spiele!B:B,Spiele!E:E))","v":""},{"$f":"IF(B658=\"\",\"\",LOOKUP(B658,Spiele!B:B,Spiele!F:F))","v":""},"","","",null,null,-1,-1,1,0]
[null,null,{"$f":"IF(B659=\"\",\"\",LOOKUP(B659,Spiele!B:B,Spiele!C:C))","v":""},{"$f":"IF(B659=\"\",\"\",LOOKUP(B659,Spiele!B:B,Spiele!D:D))","v":""},{"$f":"IF(B659=\"\",\"\",LOOKUP(B659,Spiele!B:B,Spiele!E:E))","v":""},{"$f":"IF(B659=\"\",\"\",LOOKUP(B659,Spiele!B:B,Spiele!F:F))","v":""},"","","",null,null,-1,-1,1,0]
[null,null,{"$f":"IF(B660=\"\",\"\",LOOKUP(B660,Spiele!B:B,Spiele!C:C))","v":""},{"$f":"IF(B660=\"\",\"\",LOOKUP(B660,Spiele!B:B,Spiele!D:D))","v":""},{"$f":"IF(B660=\"\",\"\",LOOKUP(B660,Spiele!B:B,Spiele!E:E))","v":""},{"$f":"IF(B660=\"\",\"\",LOOKUP(B660,Spiele!B:B,Spiele!F:F))","v":""},"","","",null,null,-1,-1,1,0]
[null,null,{"$f":"IF(B661=\"\",\"\",LOOKUP(B661,Spiele!B:B,Spiele!C:C))","v":""},{"$f":"IF(B661=\"\",\"\",LOOKUP(B661,Spiele!B:B,Spiele!D:D))","v":""},{"$f":"IF(B661=\"\",\"\",LOOKUP(B661,Spiele!B:B,Spiele!E:E))","v":""},{"$f":"IF(B661=\"\",\"\",LOOKUP(B661,Spiele!B:B,Spiele!F:F))","v":""},"","","",null,null,-1,-1,1,0]
[null,null,{"$f":"IF(B662=\"\",\"\",LOOKUP(B662,Spiele!B:B,Spiele!C:C))","v":""},{"$f":"IF(B662=\"\",\"\",LOOKUP(B662,Spiele!B:B,Spiele!D:D))","v":""},{"$f":"IF(B662=\"\",\"\",LOOKUP(B662,Spiele!B:B,Spiele!E:E))","v":""},{"$f":"IF(B662=\"\",\"\",LOOKUP(B662,Spiele!B:B,Spiele!F:F))","v":""},"","","",null,null,-1,-1,1,0]
[null,null,{"$f":"IF(B663=\"\",\"\",LOOKUP(B663,Spiele!B:B,Spiele!C:C))","v":""},{"$f":"IF(B663=\"\",\"\",LOOKUP(B663,Spiele!B:B,Spiele!D:D))","v":""},{"$f":"IF(B663=\"\",\"\",LOOKUP(B663,Spiele!B:B,Spiele!E:E))","v":""},{"$f":"IF(B663=\"\",\"\",LOOKUP(B663,Spiele!B:B,Spiele!F:F))","v":""},"","","",null,null,-1,-1,1,0]
[null,null,{"$f":"IF(B664=\"\",\"\",LOOKUP(B664,Spiele!B:B,Spiele!C:C))","v":""},{"$f":"IF(B664=\"\",\"\",LOOKUP(B664,Spiele!B:B,Spiele!D:D))","v":""},{"$f":"IF(B664=\"\",\"\",LOOKUP(B664,Spiele!B:B,Spiele!E:E))","v":""},{"$f":"IF(B664=\"\",\"\",LOOKUP(B664,Spiele!B:B,Spiele!F:F))","v":""},"","","",null,null,-1,-1,1,0]
[null,null,{"$f":"IF(B665=\"\",\"\",LOOKUP(B665,Spiele!B:B,Spiele!C:C))","v":""},{"$f":"IF(B665=\"\",\"\",LOOKUP(B665,Spiele!B:B,Spiele!D:D))","v":""},{"$f":"IF(B665=\"\",\"\",LOOKUP(B665,Spiele!B:B,Spiele!E:E))","v":""},{"$f":"IF(B665=\"\",\"\",LOOKUP(B665,Spiele!B:B,Spiele!F:F))","v":""},"","","",null,null,-1,-1,1,0]
[null,null,{"$f":"IF(B666=\"\",\"\",LOOKUP(B666,Spiele!B:B,Spiele!C:C))","v":""},{"$f":"IF(B666=\"\",\"\",LOOKUP(B666,Spiele!B:B,Spiele!D:D))","v":""},{"$f":"IF(B666=\"\",\"\",LOOKUP(B666,Spiele!B:B,Spiele!E:E))","v":""},{"$f":"IF(B666=\"\",\"\",LOOKUP(B666,Spiele!B:B,Spiele!F:F))","v":""},"","","",null,null,-1,-1,1,0]
[null,null,{"$f":"IF(B667=\"\",\"\",LOOKUP(B667,Spiele!B:B,Spiele!C:C))","v":""},{"$f":"IF(B667=\"\",\"\",LOOKUP(B667,Spiele!B:B,Spiele!D:D))","v":""},{"$f":"IF(B667=\"\",\"\",LOOKUP(B667,Spiele!B:B,Spiele!E:E))","v":""},{"$f":"IF(B667=\"\",\"\",LOOKUP(B667,Spiele!B:B,Spiele!F:F))","v":""},"","","",null,null,-1,-1,1,0]
[null,null,{"$f":"IF(B668=\"\",\"\",LOOKUP(B668,Spiele!B:B,Spiele!C:C))","v":""},{"$f":"IF(B668=\"\",\"\",LOOKUP(B668,Spiele!B:B,Spiele!D:D))","v":""},{"$f":"IF(B668=\"\",\"\",LOOKUP(B668,Spiele!B:B,Spiele!E:E))","v":""},{"$f":"IF(B668=\"\",\"\",LOOKUP(B668,Spiele!B:B,Spiele!F:F))","v":""},"","","",null,null,-1,-1,1,0]
[null,null,{"$f":"IF(B669=\"\",\"\",LOOKUP(B669,Spiele!B:B,Spiele!C:C))","v":""},{"$f":"IF(B669=\"\",\"\",LOOKUP(B669,Spiele!B:B,Spiele!D:D))","v":""},{"$f":"IF(B669=\"\",\"\",LOOKUP(B669,Spiele!B:B,Spiele!E:E))","v":""},{"$f":"IF(B669=\"\",\"\",LOOKUP(B669,Spiele!B:B,Spiele!F:F))","v":""},"","","",null,null,-1,-1,1,0]
[null,null,{"$f":"IF(B670=\"\",\"\",LOOKUP(B670,Spiele!B:B,Spiele!C:C))","v":""},{"$f":"IF(B670=\"\",\"\",LOOKUP(B670,Spiele!B:B,Spiele!D:D))","v":""},{"$f":"IF(B670=\"\",\"\",LOOKUP(B670,Spiele!B:B,Spiele!E:E))","v":""},{"$f":"IF(B670=\"\",\"\",LOOKUP(B670,Spiele!B:B,Spiele!F:F))","v":""},"","","",null,null,-1,-1,1,0]
[null,null,{"$f":"IF(B671=\"\",\"\",LOOKUP(B671,Spiele!B:B,Spiele!C:C))","v":""},{"$f":"IF(B671=\"\",\"\",LOOKUP(B671,Spiele!B:B,Spiele!D:D))","v":""},{"$f":"IF(B671=\"\",\"\",LOOKUP(B671,Spiele!B:B,Spiele!E:E))","v":""},{"$f":"IF(B671=\"\",\"\",LOOKUP(B671,Spiele!B:B,Spiele!F:F))","v":""},"","","",null,null,-1,-1,1,0]
[null,null,{"$f":"IF(B672=\"\",\"\",LOOKUP(B672,Spiele!B:B,Spiele!C:C))","v":""},{"$f":"IF(B672=\"\",\"\",LOOKUP(B672,Spiele!B:B,Spiele!D:D))","v":""},{"$f":"IF(B672=\"\",\"\",LOOKUP(B672,Spiele!B:B,Spiele!E:E))","v":""},{"$f":"IF(B672=\"\",\"\",LOOKUP(B672,Spiele!B:B,Spiele!F:F))","v":""},"","","",null,null,-1,-1,1,0]
[null,null,{"$f":"IF(B673=\"\",\"\",LOOKUP(B673,Spiele!B:B,Spiele!C:C))","v":""},{"$f":"IF(B673=\"\",\"\",LOOKUP(B673,Spiele!B:B,Spiele!D:D))","v":""},{"$f":"IF(B673=\"\",\"\",LOOKUP(B673,Spiele!B:B,Spiele!E:E))","v":""},{"$f":"IF(B673=\"\",\"\",LOOKUP(B673,Spiele!B:B,Spiele!F:F))","v":""},"","","",null,null,-1,-1,1,0]
[null,null,{"$f":"IF(B674=\"\",\"\",LOOKUP(B674,Spiele!B:B,Spiele!C:C))","v":""},{"$f":"IF(B674=\"\",\"\",LOOKUP(B674,Spiele!B:B,Spiele!D:D))","v":""},{"$f":"IF(B674=\"\",\"\",LOOKUP(B674,Spiele!B:B,Spiele!E:E))","v":""},{"$f":"IF(B674=\"\",\"\",LOOKUP(B674,Spiele!B:B,Spiele!F:F))","v":""},"","","",null,null,-1,-1,1,0]
[null,null,{"$f":"IF(B675=\"\",\"\",LOOKUP(B675,Spiele!B:B,Spiele!C:C))","v":""},{"$f":"IF(B675=\"\",\"\",LOOKUP(B675,Spiele!B:B,Spiele!D:D))","v":""},{"$f":"IF(B675=\"\",\"\",LOOKUP(B675,Spiele!B:B,Spiele!E:E))","v":""},{"$f":"IF(B675=\"\",\"\",LOOKUP(B675,Spiele!B:B,Spiele!F:F))","v":""},"","","",null,null,-1,-1,1,0]
[null,null,{"$f":"IF(B676=\"\",\"\",LOOKUP(B676,Spiele!B:B,Spiele!C:C))","v":""},{"$f":"IF(B676=\"\",\"\",LOOKUP(B676,Spiele!B:B,Spiele!D:D))","v":""},{"$f":"IF(B676=\"\",\"\",LOOKUP(B676,Spiele!B:B,Spiele!E:E))","v":""},{"$f":"IF(B676=\"\",\"\",LOOKUP(B676,Spiele!B:B,Spiele!F:F))","v":""},"","","",null,null,-1,-1,1,0]
[null,null,{"$f":"IF(B677=\"\",\"\",LOOKUP(B677,Spiele!B:B,Spiele!C:C))","v":""},{"$f":"IF(B677=\"\",\"\",LOOKUP(B677,Spiele!B:B,Spiele!D:D))","v":""},{"$f":"IF(B677=\"\",\"\",LOOKUP(B677,Spiele!B:B,Spiele!E:E))","v":""},{"$f":"IF(B677=\"\",\"\",LOOKUP(B677,Spiele!B:B,Spiele!F:F))","v":""},"","","",null,null,-1,-1,1,0]
[null,null,{"$f":"IF(B678=\"\",\"\",LOOKUP(B678,Spiele!B:B,Spiele!C:C))","v":""},{"$f":"IF(B678=\"\",\"\",LOOKUP(B678,Spiele!B:B,Spiele!D:D))","v":""},{"$f":"IF(B678=\"\",\"\",LOOKUP(B678,Spiele!B:B,Spiele!E:E))","v":""},{"$f":"IF(B678=\"\",\"\",LOOKUP(B678,Spiele!B:B,Spiele!F:F))","v":""},"","","",null,null,-1,-1,1,0]
[null,null,{"$f":"IF(B679=\"\",\"\",LOOKUP(B679,Spiele!B:B,Spiele!C:C))","v":""},{"$f":"IF(B679=\"\",\"\",LOOKUP(B679,Spiele!B:B,Spiele!D:D))","v":""},{"$f":"IF(B679=\"\",\"\",LOOKUP(B679,Spiele!B:B,Spiele!E:E))","v":""},{"$f":"IF(B679=\"\",\"\",LOOKUP(B679,Spiele!B:B,Spiele!F:F))","v":""},"","","",null,null,-1,-1,1,0]
[null,null,{"$f":"IF(B680=\"\",\"\",LOOKUP(B680,Spiele!B:B,Spiele!C:C))","v":""},{"$f":"IF(B680=\"\",\"\",LOOKUP(B680,Spiele!B:B,Spiele!D:D))","v":""},{"$f":"IF(B680=\"\",\"\",LOOKUP(B680,Spiele!B:B,Spiele!E:E))","v":""},{"$f":"IF(B680=\"\",\"\",LOOKUP(B680,Spiele!B:B,Spiele!F:F))","v":""},"","","",null,null,-1,-1,1,0]
[null,null,{"$f":"IF(B681=\"\",\"\",LOOKUP(B681,Spiele!B:B,Spiele!C:C))","v":""},{"$f":"IF(B681=\"\",\"\",LOOKUP(B681,Spiele!B:B,Spiele!D:D))","v":""},{"$f":"IF(B681=\"\",\"\",LOOKUP(B681,Spiele!B:B,Spiele!E:E))","v":""},{"$f":"IF(B681=\"\",\"\",LOOKUP(B681,Spiele!B:B,Spiele!F:F))","v":""},"","","",null,null,-1,-1,1,0]
[null,null,{"$f":"IF(B682=\"\",\"\",LOOKUP(B682,Spiele!B:B,Spiele!C:C))","v":""},{"$f":"IF(B682=\"\",\"\",LOOKUP(B682,Spiele!B:B,Spiele!D:D))","v":""},{"$f":"IF(B682=\"\",\"\",LOOKUP(B682,Spiele!B:B,Spiele!E:E))","v":""},{"$f":"IF(B682=\"\",\"\",LOOKUP(B682,Spiele!B:B,Spiele!F:F))","v":""},"","","",null,null,-1,-1,1,0]
[null,null,{"$f":"IF(B683=\"\",\"\",LOOKUP(B683,Spiele!B:B,Spiele!C:C))","v":""},{"$f":"IF(B683=\"\",\"\",LOOKUP(B683,Spiele!B:B,Spiele!D:D))","v":""},{"$f":"IF(B683=\"\",\"\",LOOKUP(B683,Spiele!B:B,Spiele!E:E))","v":""},{"$f":"IF(B683=\"\",\"\",LOOKUP(B683,Spiele!B:B,Spiele!F:F))","v":""},"","","",null,null,-1,-1,1,0]
[null,null,{"$f":"IF(B684=\"\",\"\",LOOKUP(B684,Spiele!B:B,Spiele!C:C))","v":""},{"$f":"IF(B684=\"\",\"\",LOOKUP(B684,Spiele!B:B,Spiele!D:D))","v":""},{"$f":"IF(B684=\"\",\"\",LOOKUP(B684,Spiele!B:B,Spiele!E:E))","v":""},{"$f":"IF(B684=\"\",\"\",LOOKUP(B684,Spiele!B:B,Spiele!F:F))","v":""},"","","",null,null,-1,-1,1,0]
[null,null,{"$f":"IF(B685=\"\",\"\",LOOKUP(B685,Spiele!B:B,Spiele!C:C))","v":""},{"$f":"IF(B685=\"\",\"\",LOOKUP(B685,Spiele!B:B,Spiele!D:D))","v":""},{"$f":"IF(B685=\"\",\"\",LOOKUP(B685,Spiele!B:B,Spiele!E:E))","v":""},{"$f":"IF(B685=\"\",\"\",LOOKUP(B685,Spiele!B:B,Spiele!F:F))","v":""},"","","",null,null,-1,-1,1,0]
[null,null,{"$f":"IF(B686=\"\",\"\",LOOKUP(B686,Spiele!B:B,Spiele!C:C))","v":""},{"$f":"IF(B686=\"\",\"\",LOOKUP(B686,Spiele!B:B,Spiele!D:D))","v":""},{"$f":"IF(B686=\"\",\"\",LOOKUP(B686,Spiele!B:B,Spiele!E:E))","v":""},{"$f":"IF(B686=\"\",\"\",LOOKUP(B686,Spiele!B:B,Spiele!F:F))","v":""},"","","",null,null,-1,-1,1,0]
[null,null,{"$f":"IF(B687=\"\",\"\",LOOKUP(B687,Spiele!B:B,Spiele!C:C))","v":""},{"$f":"IF(B687=\"\",\"\",LOOKUP(B687,Spiele!B:B,Spiele!D:D))","v":""},{"$f":"IF(B687=\"\",\"\",LOOKUP(B687,Spiele!B:B,Spiele!E:E))","v":""},{"$f":"IF(B687=\"\",\"\",LOOKUP(B687,Spiele!B:B,Spiele!F:F))","v":""},"","","",null,null,-1,-1,1,0]
[null,null,{"$f":"IF(B688=\"\",\"\",LOOKUP(B688,Spiele!B:B,Spiele!C:C))","v":""},{"$f":"IF(B688=\"\",\"\",LOOKUP(B688,Spiele!B:B,Spiele!D:D))","v":""},{"$f":"IF(B688=\"\",\"\",LOOKUP(B688,Spiele!B:B,Spiele!E:E))","v":""},{"$f":"IF(B688=\"\",\"\",LOOKUP(B688,Spiele!B:B,Spiele!F:F))","v":""},"","","",null,null,-1,-1,1,0]
[null,null,{"$f":"IF(B689=\"\",\"\",LOOKUP(B689,Spiele!B:B,Spiele!C:C))","v":""},{"$f":"IF(B689=\"\",\"\",LOOKUP(B689,Spiele!B:B,Spiele!D:D))","v":""},{"$f":"IF(B689=\"\",\"\",LOOKUP(B689,Spiele!B:B,Spiele!E:E))","v":""},{"$f":"IF(B689=\"\",\"\",LOOKUP(B689,Spiele!B:B,Spiele!F:F))","v":""},"","","",null,null,-1,-1,1,0]
[null,null,{"$f":"IF(B690=\"\",\"\",LOOKUP(B690,Spiele!B:B,Spiele!C:C))","v":""},{"$f":"IF(B690=\"\",\"\",LOOKUP(B690,Spiele!B:B,Spiele!D:D))","v":""},{"$f":"IF(B690=\"\",\"\",LOOKUP(B690,Spiele!B:B,Spiele!E:E))","v":""},{"$f":"IF(B690=\"\",\"\",LOOKUP(B690,Spiele!B:B,Spiele!F:F))","v":""},"","","",null,null,-1,-1,1,0]
[null,null,{"$f":"IF(B691=\"\",\"\",LOOKUP(B691,Spiele!B:B,Spiele!C:C))","v":""},{"$f":"IF(B691=\"\",\"\",LOOKUP(B691,Spiele!B:B,Spiele!D:D))","v":""},{"$f":"IF(B691=\"\",\"\",LOOKUP(B691,Spiele!B:B,Spiele!E:E))","v":""},{"$f":"IF(B691=\"\",\"\",LOOKUP(B691,Spiele!B:B,Spiele!F:F))","v":""},"","","",null,null,-1,-1,1,0]
[null,null,{"$f":"IF(B692=\"\",\"\",LOOKUP(B692,Spiele!B:B,Spiele!C:C))","v":""},{"$f":"IF(B692=\"\",\"\",LOOKUP(B692,Spiele!B:B,Spiele!D:D))","v":""},{"$f":"IF(B692=\"\",\"\",LOOKUP(B692,Spiele!B:B,Spiele!E:E))","v":""},{"$f":"IF(B692=\"\",\"\",LOOKUP(B692,Spiele!B:B,Spiele!F:F))","v":""},"","","",null,null,-1,-1,1,0]
[null,null,{"$f":"IF(B693=\"\",\"\",LOOKUP(B693,Spiele!B:B,Spiele!C:C))","v":""},{"$f":"IF(B693=\"\",\"\",LOOKUP(B693,Spiele!B:B,Spiele!D:D))","v":""},{"$f":"IF(B693=\"\",\"\",LOOKUP(B693,Spiele!B:B,Spiele!E:E))","v":""},{"$f":"IF(B693=\"\",\"\",LOOKUP(B693,Spiele!B:B,Spiele!F:F))","v":""},"","","",null,null,-1,-1,1,0]
[null,null,{"$f":"IF(B694=\"\",\"\",LOOKUP(B694,Spiele!B:B,Spiele!C:C))","v":""},{"$f":"IF(B694=\"\",\"\",LOOKUP(B694,Spiele!B:B,Spiele!D:D))","v":""},{"$f":"IF(B694=\"\",\"\",LOOKUP(B694,Spiele!B:B,Spiele!E:E))","v":""},{"$f":"IF(B694=\"\",\"\",LOOKUP(B694,Spiele!B:B,Spiele!F:F))","v":""},"","","",null,null,-1,-1,1,0]
[null,null,{"$f":"IF(B695=\"\",\"\",LOOKUP(B695,Spiele!B:B,Spiele!C:C))","v":""},{"$f":"IF(B695=\"\",\"\",LOOKUP(B695,Spiele!B:B,Spiele!D:D))","v":""},{"$f":"IF(B695=\"\",\"\",LOOKUP(B695,Spiele!B:B,Spiele!E:E))","v":""},{"$f":"IF(B695=\"\",\"\",LOOKUP(B695,Spiele!B:B,Spiele!F:F))","v":""},"","","",null,null,-1,-1,1,0]
[null,null,{"$f":"IF(B696=\"\",\"\",LOOKUP(B696,Spiele!B:B,Spiele!C:C))","v":""},{"$f":"IF(B696=\"\",\"\",LOOKUP(B696,Spiele!B:B,Spiele!D:D))","v":""},{"$f":"IF(B696=\"\",\"\",LOOKUP(B696,Spiele!B:B,Spiele!E:E))","v":""},{"$f":"IF(B696=\"\",\"\",LOOKUP(B696,Spiele!B:B,Spiele!F:F))","v":""},"","","",null,null,-1,-1,1,0]
[null,null,{"$f":"IF(B697=\"\",\"\",LOOKUP(B697,Spiele!B:B,Spiele!C:C))","v":""},{"$f":"IF(B697=\"\",\"\",LOOKUP(B697,Spiele!B:B,Spiele!D:D))","v":""},{"$f":"IF(B697=\"\",\"\",LOOKUP(B697,Spiele!B:B,Spiele!E:E))","v":""},{"$f":"IF(B697=\"\",\"\",LOOKUP(B697,Spiele!B:B,Spiele!F:F))","v":""},"","","",null,null,-1,-1,1,0]
[null,null,{"$f":"IF(B698=\"\",\"\",LOOKUP(B698,Spiele!B:B,Spiele!C:C))","v":""},{"$f":"IF(B698=\"\",\"\",LOOKUP(B698,Spiele!B:B,Spiele!D:D))","v":""},{"$f":"IF(B698=\"\",\"\",LOOKUP(B698,Spiele!B:B,Spiele!E:E))","v":""},{"$f":"IF(B698=\"\",\"\",LOOKUP(B698,Spiele!B:B,Spiele!F:F))","v":""},"","","",null,null,-1,-1,1,0]
[null,null,{"$f":"IF(B699=\"\",\"\",LOOKUP(B699,Spiele!B:B,Spiele!C:C))","v":""},{"$f":"IF(B699=\"\",\"\",LOOKUP(B699,Spiele!B:B,Spiele!D:D))","v":""},{"$f":"IF(B699=\"\",\"\",LOOKUP(B699,Spiele!B:B,Spiele!E:E))","v":""},{"$f":"IF(B699=\"\",\"\",LOOKUP(B699,Spiele!B:B,Spiele!F:F))","v":""},"","","",null,null,-1,-1,1,0]
[null,null,{"$f":"IF(B700=\"\",\"\",LOOKUP(B700,Spiele!B:B,Spiele!C:C))","v":""},{"$f":"IF(B700=\"\",\"\",LOOKUP(B700,Spiele!B:B,Spiele!D:D))","v":""},{"$f":"IF(B700=\"\",\"\",LOOKUP(B700,Spiele!B:B,Spiele!E:E))","v":""},{"$f":"IF(B700=\"\",\"\",LOOKUP(B700,Spiele!B:B,Spiele!F:F))","v":""},"","","",null,null,-1,-1,1,0]
[null,null,{"$f":"IF(B701=\"\",\"\",LOOKUP(B701,Spiele!B:B,Spiele!C:C))","v":""},{"$f":"IF(B701=\"\",\"\",LOOKUP(B701,Spiele!B:B,Spiele!D:D))","v":""},{"$f":"IF(B701=\"\",\"\",LOOKUP(B701,Spiele!B:B,Spiele!E:E))","v":""},{"$f":"IF(B701=\"\",\"\",LOOKUP(B701,Spiele!B:B,Spiele!F:F))","v":""},"","","",null,null,-1,-1,1,0]
[null,null,{"$f":"IF(B702=\"\",\"\",LOOKUP(B702,Spiele!B:B,Spiele!C:C))","v":""},{"$f":"IF(B702=\"\",\"\",LOOKUP(B702,Spiele!B:B,Spiele!D:D))","v":""},{"$f":"IF(B702=\"\",\"\",LOOKUP(B702,Spiele!B:B,Spiele!E:E))","v":""},{"$f":"IF(B702=\"\",\"\",LOOKUP(B702,Spiele!B:B,Spiele!F:F))","v":""},"","","",null,null,-1,-1,1,0]
[null,null,{"$f":"IF(B703=\"\",\"\",LOOKUP(B703,Spiele!B:B,Spiele!C:C))","v":""},{"$f":"IF(B703=\"\",\"\",LOOKUP(B703,Spiele!B:B,Spiele!D:D))","v":""},{"$f":"IF(B703=\"\",\"\",LOOKUP(B703,Spiele!B:B,Spiele!E:E))","v":""},{"$f":"IF(B703=\"\",\"\",LOOKUP(B703,Spiele!B:B,Spiele!F:F))","v":""},"","","",null,null,-1,-1,1,0]
[null,null,{"$f":"IF(B704=\"\",\"\",LOOKUP(B704,Spiele!B:B,Spiele!C:C))","v":""},{"$f":"IF(B704=\"\",\"\",LOOKUP(B704,Spiele!B:B,Spiele!D:D))","v":""},{"$f":"IF(B704=\"\",\"\",LOOKUP(B704,Spiele!B:B,Spiele!E:E))","v":""},{"$f":"IF(B704=\"\",\"\",LOOKUP(B704,Spiele!B:B,Spiele!F:F))","v":""},"","","",null,null,-1,-1,1,0]
[null,null,{"$f":"IF(B705=\"\",\"\",LOOKUP(B705,Spiele!B:B,Spiele!C:C))","v":""},{"$f":"IF(B705=\"\",\"\",LOOKUP(B705,Spiele!B:B,Spiele!D:D))","v":""},{"$f":"IF(B705=\"\",\"\",LOOKUP(B705,Spiele!B:B,Spiele!E:E))","v":""},{"$f":"IF(B705=\"\",\"\",LOOKUP(B705,Spiele!B:B,Spiele!F:F))","v":""},"","","",null,null,-1,-1,1,0]
[null,null,{"$f":"IF(B706=\"\",\"\",LOOKUP(B706,Spiele!B:B,Spiele!C:C))","v":""},{"$f":"IF(B706=\"\",\"\",LOOKUP(B706,Spiele!B:B,Spiele!D:D))","v":""},{"$f":"IF(B706=\"\",\"\",LOOKUP(B706,Spiele!B:B,Spiele!E:E))","v":""},{"$f":"IF(B706=\"\",\"\",LOOKUP(B706,Spiele!B:B,Spiele!F:F))","v":""},"","","",null,null,-1,-1,1,0]
[null,null,{"$f":"IF(B707=\"\",\"\",LOOKUP(B707,Spiele!B:B,Spiele!C:C))","v":""},{"$f":"IF(B707=\"\",\"\",LOOKUP(B707,Spiele!B:B,Spiele!D:D))","v":""},{"$f":"IF(B707=\"\",\"\",LOOKUP(B707,Spiele!B:B,Spiele!E:E))","v":""},{"$f":"IF(B707=\"\",\"\",LOOKUP(B707,Spiele!B:B,Spiele!F:F))","v":""},"","","",null,null,-1,-1,1,0]
[null,null,{"$f":"IF(B708=\"\",\"\",LOOKUP(B708,Spiele!B:B,Spiele!C:C))","v":""},{"$f":"IF(B708=\"\",\"\",LOOKUP(B708,Spiele!B:B,Spiele!D:D))","v":""},{"$f":"IF(B708=\"\",\"\",LOOKUP(B708,Spiele!B:B,Spiele!E:E))","v":""},{"$f":"IF(B708=\"\",\"\",LOOKUP(B708,Spiele!B:B,Spiele!F:F))","v":""},"","","",null,null,-1,-1,1,0]
[null,null,{"$f":"IF(B709=\"\",\"\",LOOKUP(B709,Spiele!B:B,Spiele!C:C))","v":""},{"$f":"IF(B709=\"\",\"\",LOOKUP(B709,Spiele!B:B,Spiele!D:D))","v":""},{"$f":"IF(B709=\"\",\"\",LOOKUP(B709,Spiele!B:B,Spiele!E:E))","v":""},{"$f":"IF(B709=\"\",\"\",LOOKUP(B709,Spiele!B:B,Spiele!F:F))","v":""},"","","",null,null,-1,-1,1,0]
[null,null,{"$f":"IF(B710=\"\",\"\",LOOKUP(B710,Spiele!B:B,Spiele!C:C))","v":""},{"$f":"IF(B710=\"\",\"\",LOOKUP(B710,Spiele!B:B,Spiele!D:D))","v":""},{"$f":"IF(B710=\"\",\"\",LOOKUP(B710,Spiele!B:B,Spiele!E:E))","v":""},{"$f":"IF(B710=\"\",\"\",LOOKUP(B710,Spiele!B:B,Spiele!F:F))","v":""},"","","",null,null,-1,-1,1,0]
[null,null,{"$f":"IF(B711=\"\",\"\",LOOKUP(B711,Spiele!B:B,Spiele!C:C))","v":""},{"$f":"IF(B711=\"\",\"\",LOOKUP(B711,Spiele!B:B,Spiele!D:D))","v":""},{"$f":"IF(B711=\"\",\"\",LOOKUP(B711,Spiele!B:B,Spiele!E:E))","v":""},{"$f":"IF(B711=\"\",\"\",LOOKUP(B711,Spiele!B:B,Spiele!F:F))","v":""},"","","",null,null,-1,-1,1,0]
[null,null,{"$f":"IF(B712=\"\",\"\",LOOKUP(B712,Spiele!B:B,Spiele!C:C))","v":""},{"$f":"IF(B712=\"\",\"\",LOOKUP(B712,Spiele!B:B,Spiele!D:D))","v":""},{"$f":"IF(B712=\"\",\"\",LOOKUP(B712,Spiele!B:B,Spiele!E:E))","v":""},{"$f":"IF(B712=\"\",\"\",LOOKUP(B712,Spiele!B:B,Spiele!F:F))","v":""},{"$f":"IF(E712=\"\",\"\",IF(E712>F712,1,0))","v":""},{"$f":"IF(F712=\"\",\"\",IF(E712<F712,1,0))","v":""},{"$f":"IF(E712=\"\",\"\",IF(E712=F712,1,0))","v":""},null,null,{"$f":"IF(E712=\"\",-1,IF(J712>K712,1,-1))","v":-1},{"$f":"IF(F712=\"\",-1,IF(J712<K712,1,-1))","v":-1},1,{"$f":"IF(E712=\"\",0,IF(E712=J712,1,0)+IF(F712=K712,1,0)+IF(G712=L712,1,0)+IF(H712=M712,1,0)+IF(I712=N712,1,0))","v":0}]
[null,null,{"$f":"IF(B713=\"\",\"\",LOOKUP(B713,Spiele!B:B,Spiele!C:C))","v":""},{"$f":"IF(B713=\"\",\"\",LOOKUP(B713,Spiele!B:B,Spiele!D:D))","v":""},{"$f":"IF(B713=\"\",\"\",LOOKUP(B713,Spiele!B:B,Spiele!E:E))","v":""},{"$f":"IF(B713=\"\",\"\",LOOKUP(B713,Spiele!B:B,Spiele!F:F))","v":""},"","","",null,null,-1,-1,1,0]
[null,null,{"$f":"IF(B714=\"\",\"\",LOOKUP(B714,Spiele!B:B,Spiele!C:C))","v":""},{"$f":"IF(B714=\"\",\"\",LOOKUP(B714,Spiele!B:B,Spiele!D:D))","v":""},{"$f":"IF(B714=\"\",\"\",LOOKUP(B714,Spiele!B:B,Spiele!E:E))","v":""},{"$f":"IF(B714=\"\",\"\",LOOKUP(B714,Spiele!B:B,Spiele!F:F))","v":""},"","","",null,null,-1,-1,1,0]
[null,null,{"$f":"IF(B715=\"\",\"\",LOOKUP(B715,Spiele!B:B,Spiele!C:C))","v":""},{"$f":"IF(B715=\"\",\"\",LOOKUP(B715,Spiele!B:B,Spiele!D:D))","v":""},{"$f":"IF(B715=\"\",\"\",LOOKUP(B715,Spiele!B:B,Spiele!E:E))","v":""},{"$f":"IF(B715=\"\",\"\",LOOKUP(B715,Spiele!B:B,Spiele!F:F))","v":""},"","","",null,null,-1,-1,1,0]
[null,null,{"$f":"IF(B716=\"\",\"\",LOOKUP(B716,Spiele!B:B,Spiele!C:C))","v":""},{"$f":"IF(B716=\"\",\"\",LOOKUP(B716,Spiele!B:B,Spiele!D:D))","v":""},{"$f":"IF(B716=\"\",\"\",LOOKUP(B716,Spiele!B:B,Spiele!E:E))","v":""},{"$f":"IF(B716=\"\",\"\",LOOKUP(B716,Spiele!B:B,Spiele!F:F))","v":""},"","","",null,null,-1,-1,1,0]
[null,null,{"$f":"IF(B717=\"\",\"\",LOOKUP(B717,Spiele!B:B,Spiele!C:C))","v":""},{"$f":"IF(B717=\"\",\"\",LOOKUP(B717,Spiele!B:B,Spiele!D:D))","v":""},{"$f":"IF(B717=\"\",\"\",LOOKUP(B717,Spiele!B:B,Spiele!E:E))","v":""},{"$f":"IF(B717=\"\",\"\",LOOKUP(B717,Spiele!B:B,Spiele!F:F))","v":""},"","","",null,null,-1,-1,1,0]
[null,null,{"$f":"IF(B718=\"\",\"\",LOOKUP(B718,Spiele!B:B,Spiele!C:C))","v":""},{"$f":"IF(B718=\"\",\"\",LOOKUP(B718,Spiele!B:B,Spiele!D:D))","v":""},{"$f":"IF(B718=\"\",\"\",LOOKUP(B718,Spiele!B:B,Spiele!E:E))","v":""},{"$f":"IF(B718=\"\",\"\",LOOKUP(B718,Spiele!B:B,Spiele!F:F))","v":""},"","","",null,null,-1,-1,1,0]
[null,null,{"$f":"IF(B719=\"\",\"\",LOOKUP(B719,Spiele!B:B,Spiele!C:C))","v":""},{"$f":"IF(B719=\"\",\"\",LOOKUP(B719,Spiele!B:B,Spiele!D:D))","v":""},{"$f":"IF(B719=\"\",\"\",LOOKUP(B719,Spiele!B:B,Spiele!E:E))","v":""},{"$f":"IF(B719=\"\",\"\",LOOKUP(B719,Spiele!B:B,Spiele!F:F))","v":""},"","","",null,null,-1,-1,1,0]
[null,null,{"$f":"IF(B720=\"\",\"\",LOOKUP(B720,Spiele!B:B,Spiele!C:C))","v":""},{"$f":"IF(B720=\"\",\"\",LOOKUP(B720,Spiele!B:B,Spiele!D:D))","v":""},{"$f":"IF(B720=\"\",\"\",LOOKUP(B720,Spiele!B:B,Spiele!E:E))","v":""},{"$f":"IF(B720=\"\",\"\",LOOKUP(B720,Spiele!B:B,Spiele!F:F))","v":""},"","","",null,null,-1,-1,{"$f":"IF(E720=\"-\",-1,IF(J720=K720,1,-1))","v":1},0]
[null,null,{"$f":"IF(B721=\"\",\"\",LOOKUP(B721,Spiele!B:B,Spiele!C:C))","v":""},{"$f":"IF(B721=\"\",\"\",LOOKUP(B721,Spiele!B:B,Spiele!D:D))","v":""},{"$f":"IF(B721=\"\",\"\",LOOKUP(B721,Spiele!B:B,Spiele!E:E))","v":""},{"$f":"IF(B721=\"\",\"\",LOOKUP(B721,Spiele!B:B,Spiele!F:F))","v":""},"","","",null,null,-1,-1,1,0]
[null,null,{"$f":"IF(B722=\"\",\"\",LOOKUP(B722,Spiele!B:B,Spiele!C:C))","v":""},{"$f":"IF(B722=\"\",\"\",LOOKUP(B722,Spiele!B:B,Spiele!D:D))","v":""},{"$f":"IF(B722=\"\",\"\",LOOKUP(B722,Spiele!B:B,Spiele!E:E))","v":""},{"$f":"IF(B722=\"\",\"\",LOOKUP(B722,Spiele!B:B,Spiele!F:F))","v":""},"","","",null,null,-1,-1,1,0]
[null,null,{"$f":"IF(B723=\"\",\"\",LOOKUP(B723,Spiele!B:B,Spiele!C:C))","v":""},{"$f":"IF(B723=\"\",\"\",LOOKUP(B723,Spiele!B:B,Spiele!D:D))","v":""},{"$f":"IF(B723=\"\",\"\",LOOKUP(B723,Spiele!B:B,Spiele!E:E))","v":""},{"$f":"IF(B723=\"\",\"\",LOOKUP(B723,Spiele!B:B,Spiele!F:F))","v":""},"","","",null,null,-1,-1,1,0]
[null,null,{"$f":"IF(B724=\"\",\"\",LOOKUP(B724,Spiele!B:B,Spiele!C:C))","v":""},{"$f":"IF(B724=\"\",\"\",LOOKUP(B724,Spiele!B:B,Spiele!D:D))","v":""},{"$f":"IF(B724=\"\",\"\",LOOKUP(B724,Spiele!B:B,Spiele!E:E))","v":""},{"$f":"IF(B724=\"\",\"\",LOOKUP(B724,Spiele!B:B,Spiele!F:F))","v":""},"","","",null,null,-1,-1,1,0]
[null,null,{"$f":"IF(B725=\"\",\"\",LOOKUP(B725,Spiele!B:B,Spiele!C:C))","v":""},{"$f":"IF(B725=\"\",\"\",LOOKUP(B725,Spiele!B:B,Spiele!D:D))","v":""},{"$f":"IF(B725=\"\",\"\",LOOKUP(B725,Spiele!B:B,Spiele!E:E))","v":""},{"$f":"IF(B725=\"\",\"\",LOOKUP(B725,Spiele!B:B,Spiele!F:F))","v":""},"","","",null,null,-1,-1,1,0]
[null,null,{"$f":"IF(B726=\"\",\"\",LOOKUP(B726,Spiele!B:B,Spiele!C:C))","v":""},{"$f":"IF(B726=\"\",\"\",LOOKUP(B726,Spiele!B:B,Spiele!D:D))","v":""},{"$f":"IF(B726=\"\",\"\",LOOKUP(B726,Spiele!B:B,Spiele!E:E))","v":""},{"$f":"IF(B726=\"\",\"\",LOOKUP(B726,Spiele!B:B,Spiele!F:F))","v":""},"","","",null,null,-1,-1,1,0]
[null,null,{"$f":"IF(B727=\"\",\"\",LOOKUP(B727,Spiele!B:B,Spiele!C:C))","v":""},{"$f":"IF(B727=\"\",\"\",LOOKUP(B727,Spiele!B:B,Spiele!D:D))","v":""},{"$f":"IF(B727=\"\",\"\",LOOKUP(B727,Spiele!B:B,Spiele!E:E))","v":""},{"$f":"IF(B727=\"\",\"\",LOOKUP(B727,Spiele!B:B,Spiele!F:F))","v":""},"","","",null,null,-1,-1,1,0]
[null,null,{"$f":"IF(B728=\"\",\"\",LOOKUP(B728,Spiele!B:B,Spiele!C:C))","v":""},{"$f":"IF(B728=\"\",\"\",LOOKUP(B728,Spiele!B:B,Spiele!D:D))","v":""},{"$f":"IF(B728=\"\",\"\",LOOKUP(B728,Spiele!B:B,Spiele!E:E))","v":""},{"$f":"IF(B728=\"\",\"\",LOOKUP(B728,Spiele!B:B,Spiele!F:F))","v":""},"","","",null,null,-1,-1,1,0]
[null,null,{"$f":"IF(B729=\"\",\"\",LOOKUP(B729,Spiele!B:B,Spiele!C:C))","v":""},{"$f":"IF(B729=\"\",\"\",LOOKUP(B729,Spiele!B:B,Spiele!D:D))","v":""},{"$f":"IF(B729=\"\",\"\",LOOKUP(B729,Spiele!B:B,Spiele!E:E))","v":""},{"$f":"IF(B729=\"\",\"\",LOOKUP(B729,Spiele!B:B,Spiele!F:F))","v":""},"","","",null,null,-1,-1,1,0]
[null,null,{"$f":"IF(B730=\"\",\"\",LOOKUP(B730,Spiele!B:B,Spiele!C:C))","v":""},{"$f":"IF(B730=\"\",\"\",LOOKUP(B730,Spiele!B:B,Spiele!D:D))","v":""},{"$f":"IF(B730=\"\",\"\",LOOKUP(B730,Spiele!B:B,Spiele!E:E))","v":""},{"$f":"IF(B730=\"\",\"\",LOOKUP(B730,Spiele!B:B,Spiele!F:F))","v":""},"","","",null,null,-1,-1,1,0]
[null,null,{"$f":"IF(B731=\"\",\"\",LOOKUP(B731,Spiele!B:B,Spiele!C:C))","v":""},{"$f":"IF(B731=\"\",\"\",LOOKUP(B731,Spiele!B:B,Spiele!D:D))","v":""},{"$f":"IF(B731=\"\",\"\",LOOKUP(B731,Spiele!B:B,Spiele!E:E))","v":""},{"$f":"IF(B731=\"\",\"\",LOOKUP(B731,Spiele!B:B,Spiele!F:F))","v":""},"","","",null,null,-1,-1,1,0]
[null,null,{"$f":"IF(B732=\"\",\"\",LOOKUP(B732,Spiele!B:B,Spiele!C:C))","v":""},{"$f":"IF(B732=\"\",\"\",LOOKUP(B732,Spiele!B:B,Spiele!D:D))","v":""},{"$f":"IF(B732=\"\",\"\",LOOKUP(B732,Spiele!B:B,Spiele!E:E))","v":""},{"$f":"IF(B732=\"\",\"\",LOOKUP(B732,Spiele!B:B,Spiele!F:F))","v":""},"","","",null,null,-1,-1,1,0]
[null,null,{"$f":"IF(B733=\"\",\"\",LOOKUP(B733,Spiele!B:B,Spiele!C:C))","v":""},{"$f":"IF(B733=\"\",\"\",LOOKUP(B733,Spiele!B:B,Spiele!D:D))","v":""},{"$f":"IF(B733=\"\",\"\",LOOKUP(B733,Spiele!B:B,Spiele!E:E))","v":""},{"$f":"IF(B733=\"\",\"\",LOOKUP(B733,Spiele!B:B,Spiele!F:F))","v":""},"","","",null,null,-1,-1,1,0]
[null,null,{"$f":"IF(B734=\"\",\"\",LOOKUP(B734,Spiele!B:B,Spiele!C:C))","v":""},{"$f":"IF(B734=\"\",\"\",LOOKUP(B734,Spiele!B:B,Spiele!D:D))","v":""},{"$f":"IF(B734=\"\",\"\",LOOKUP(B734,Spiele!B:B,Spiele!E:E))","v":""},{"$f":"IF(B734=\"\",\"\",LOOKUP(B734,Spiele!B:B,Spiele!F:F))","v":""},"","","",null,null,-1,-1,1,0]
[null,null,{"$f":"IF(B735=\"\",\"\",LOOKUP(B735,Spiele!B:B,Spiele!C:C))","v":""},{"$f":"IF(B735=\"\",\"\",LOOKUP(B735,Spiele!B:B,Spiele!D:D))","v":""},{"$f":"IF(B735=\"\",\"\",LOOKUP(B735,Spiele!B:B,Spiele!E:E))","v":""},{"$f":"IF(B735=\"\",\"\",LOOKUP(B735,Spiele!B:B,Spiele!F:F))","v":""},"","","",null,null,-1,-1,1,0]
[null,null,{"$f":"IF(B736=\"\",\"\",LOOKUP(B736,Spiele!B:B,Spiele!C:C))","v":""},{"$f":"IF(B736=\"\",\"\",LOOKUP(B736,Spiele!B:B,Spiele!D:D))","v":""},{"$f":"IF(B736=\"\",\"\",LOOKUP(B736,Spiele!B:B,Spiele!E:E))","v":""},{"$f":"IF(B736=\"\",\"\",LOOKUP(B736,Spiele!B:B,Spiele!F:F))","v":""},"","","",null,null,-1,-1,1,0]
[null,null,{"$f":"IF(B737=\"\",\"\",LOOKUP(B737,Spiele!B:B,Spiele!C:C))","v":""},{"$f":"IF(B737=\"\",\"\",LOOKUP(B737,Spiele!B:B,Spiele!D:D))","v":""},{"$f":"IF(B737=\"\",\"\",LOOKUP(B737,Spiele!B:B,Spiele!E:E))","v":""},{"$f":"IF(B737=\"\",\"\",LOOKUP(B737,Spiele!B:B,Spiele!F:F))","v":""},"","","",null,null,-1,-1,1,0]
[null,null,{"$f":"IF(B738=\"\",\"\",LOOKUP(B738,Spiele!B:B,Spiele!C:C))","v":""},{"$f":"IF(B738=\"\",\"\",LOOKUP(B738,Spiele!B:B,Spiele!D:D))","v":""},{"$f":"IF(B738=\"\",\"\",LOOKUP(B738,Spiele!B:B,Spiele!E:E))","v":""},{"$f":"IF(B738=\"\",\"\",LOOKUP(B738,Spiele!B:B,Spiele!F:F))","v":""},"","","",null,null,-1,-1,1,0]
[null,null,{"$f":"IF(B739=\"\",\"\",LOOKUP(B739,Spiele!B:B,Spiele!C:C))","v":""},{"$f":"IF(B739=\"\",\"\",LOOKUP(B739,Spiele!B:B,Spiele!D:D))","v":""},{"$f":"IF(B739=\"\",\"\",LOOKUP(B739,Spiele!B:B,Spiele!E:E))","v":""},{"$f":"IF(B739=\"\",\"\",LOOKUP(B739,Spiele!B:B,Spiele!F:F))","v":""},"","","",null,null,-1,-1,1,0]
[null,null,{"$f":"IF(B740=\"\",\"\",LOOKUP(B740,Spiele!B:B,Spiele!C:C))","v":""},{"$f":"IF(B740=\"\",\"\",LOOKUP(B740,Spiele!B:B,Spiele!D:D))","v":""},{"$f":"IF(B740=\"\",\"\",LOOKUP(B740,Spiele!B:B,Spiele!E:E))","v":""},{"$f":"IF(B740=\"\",\"\",LOOKUP(B740,Spiele!B:B,Spiele!F:F))","v":""},"","","",null,null,-1,-1,1,0]
[null,null,{"$f":"IF(B741=\"\",\"\",LOOKUP(B741,Spiele!B:B,Spiele!C:C))","v":""},{"$f":"IF(B741=\"\",\"\",LOOKUP(B741,Spiele!B:B,Spiele!D:D))","v":""},{"$f":"IF(B741=\"\",\"\",LOOKUP(B741,Spiele!B:B,Spiele!E:E))","v":""},{"$f":"IF(B741=\"\",\"\",LOOKUP(B741,Spiele!B:B,Spiele!F:F))","v":""},"","","",null,null,-1,-1,1,0]
[null,null,{"$f":"IF(B742=\"\",\"\",LOOKUP(B742,Spiele!B:B,Spiele!C:C))","v":""},{"$f":"IF(B742=\"\",\"\",LOOKUP(B742,Spiele!B:B,Spiele!D:D))","v":""},{"$f":"IF(B742=\"\",\"\",LOOKUP(B742,Spiele!B:B,Spiele!E:E))","v":""},{"$f":"IF(B742=\"\",\"\",LOOKUP(B742,Spiele!B:B,Spiele!F:F))","v":""},"","","",null,null,-1,-1,1,0]
[null,null,{"$f":"IF(B743=\"\",\"\",LOOKUP(B743,Spiele!B:B,Spiele!C:C))","v":""},{"$f":"IF(B743=\"\",\"\",LOOKUP(B743,Spiele!B:B,Spiele!D:D))","v":""},{"$f":"IF(B743=\"\",\"\",LOOKUP(B743,Spiele!B:B,Spiele!E:E))","v":""},{"$f":"IF(B743=\"\",\"\",LOOKUP(B743,Spiele!B:B,Spiele!F:F))","v":""},"","","",null,null,-1,-1,1,0]
[null,null,{"$f":"IF(B744=\"\",\"\",LOOKUP(B744,Spiele!B:B,Spiele!C:C))","v":""},{"$f":"IF(B744=\"\",\"\",LOOKUP(B744,Spiele!B:B,Spiele!D:D))","v":""},{"$f":"IF(B744=\"\",\"\",LOOKUP(B744,Spiele!B:B,Spiele!E:E))","v":""},{"$f":"IF(B744=\"\",\"\",LOOKUP(B744,Spiele!B:B,Spiele!F:F))","v":""},"","","",null,null,-1,-1,1,0]
[null,null,{"$f":"IF(B745=\"\",\"\",LOOKUP(B745,Spiele!B:B,Spiele!C:C))","v":""},{"$f":"IF(B745=\"\",\"\",LOOKUP(B745,Spiele!B:B,Spiele!D:D))","v":""},{"$f":"IF(B745=\"\",\"\",LOOKUP(B745,Spiele!B:B,Spiele!E:E))","v":""},{"$f":"IF(B745=\"\",\"\",LOOKUP(B745,Spiele!B:B,Spiele!F:F))","v":""},"","","",null,null,-1,-1,1,0]
[null,null,{"$f":"IF(B746=\"\",\"\",LOOKUP(B746,Spiele!B:B,Spiele!C:C))","v":""},{"$f":"IF(B746=\"\",\"\",LOOKUP(B746,Spiele!B:B,Spiele!D:D))","v":""},{"$f":"IF(B746=\"\",\"\",LOOKUP(B746,Spiele!B:B,Spiele!E:E))","v":""},{"$f":"IF(B746=\"\",\"\",LOOKUP(B746,Spiele!B:B,Spiele!F:F))","v":""},"","","",null,null,-1,-1,1,0]
[null,null,{"$f":"IF(B747=\"\",\"\",LOOKUP(B747,Spiele!B:B,Spiele!C:C))","v":""},{"$f":"IF(B747=\"\",\"\",LOOKUP(B747,Spiele!B:B,Spiele!D:D))","v":""},{"$f":"IF(B747=\"\",\"\",LOOKUP(B747,Spiele!B:B,Spiele!E:E))","v":""},{"$f":"IF(B747=\"\",\"\",LOOKUP(B747,Spiele!B:B,Spiele!F:F))","v":""},"","","",null,null,-1,-1,1,0]
[null,null,{"$f":"IF(B748=\"\",\"\",LOOKUP(B748,Spiele!B:B,Spiele!C:C))","v":""},{"$f":"IF(B748=\"\",\"\",LOOKUP(B748,Spiele!B:B,Spiele!D:D))","v":""},{"$f":"IF(B748=\"\",\"\",LOOKUP(B748,Spiele!B:B,Spiele!E:E))","v":""},{"$f":"IF(B748=\"\",\"\",LOOKUP(B748,Spiele!B:B,Spiele!F:F))","v":""},"","","",null,null,-1,-1,1,0]
[null,null,{"$f":"IF(B749=\"\",\"\",LOOKUP(B749,Spiele!B:B,Spiele!C:C))","v":""},{"$f":"IF(B749=\"\",\"\",LOOKUP(B749,Spiele!B:B,Spiele!D:D))","v":""},{"$f":"IF(B749=\"\",\"\",LOOKUP(B749,Spiele!B:B,Spiele!E:E))","v":""},{"$f":"IF(B749=\"\",\"\",LOOKUP(B749,Spiele!B:B,Spiele!F:F))","v":""},"","","",null,null,-1,-1,1,0]
[null,null,{"$f":"IF(B750=\"\",\"\",LOOKUP(B750,Spiele!B:B,Spiele!C:C))","v":""},{"$f":"IF(B750=\"\",\"\",LOOKUP(B750,Spiele!B:B,Spiele!D:D))","v":""},{"$f":"IF(B750=\"\",\"\",LOOKUP(B750,Spiele!B:B,Spiele!E:E))","v":""},{"$f":"IF(B750=\"\",\"\",LOOKUP(B750,Spiele!B:B,Spiele!F:F))","v":""},"","","",null,null,-1,-1,1,0]
[null,null,{"$f":"IF(B751=\"\",\"\",LOOKUP(B751,Spiele!B:B,Spiele!C:C))","v":""},{"$f":"IF(B751=\"\",\"\",LOOKUP(B751,Spiele!B:B,Spiele!D:D))","v":""},{"$f":"IF(B751=\"\",\"\",LOOKUP(B751,Spiele!B:B,Spiele!E:E))","v":""},{"$f":"IF(B751=\"\",\"\",LOOKUP(B751,Spiele!B:B,Spiele!F:F))","v":""},"","","",null,null,-1,-1,1,0]
[null,null,{"$f":"IF(B752=\"\",\"\",LOOKUP(B752,Spiele!B:B,Spiele!C:C))","v":""},{"$f":"IF(B752=\"\",\"\",LOOKUP(B752,Spiele!B:B,Spiele!D:D))","v":""},{"$f":"IF(B752=\"\",\"\",LOOKUP(B752,Spiele!B:B,Spiele!E:E))","v":""},{"$f":"IF(B752=\"\",\"\",LOOKUP(B752,Spiele!B:B,Spiele!F:F))","v":""},"","","",null,null,-1,-1,1,0]
[null,null,{"$f":"IF(B753=\"\",\"\",LOOKUP(B753,Spiele!B:B,Spiele!C:C))","v":""},{"$f":"IF(B753=\"\",\"\",LOOKUP(B753,Spiele!B:B,Spiele!D:D))","v":""},{"$f":"IF(B753=\"\",\"\",LOOKUP(B753,Spiele!B:B,Spiele!E:E))","v":""},{"$f":"IF(B753=\"\",\"\",LOOKUP(B753,Spiele!B:B,Spiele!F:F))","v":""},"","","",null,null,-1,-1,1,0]
[null,null,{"$f":"IF(B754=\"\",\"\",LOOKUP(B754,Spiele!B:B,Spiele!C:C))","v":""},{"$f":"IF(B754=\"\",\"\",LOOKUP(B754,Spiele!B:B,Spiele!D:D))","v":""},{"$f":"IF(B754=\"\",\"\",LOOKUP(B754,Spiele!B:B,Spiele!E:E))","v":""},{"$f":"IF(B754=\"\",\"\",LOOKUP(B754,Spiele!B:B,Spiele!F:F))","v":""},"","","",null,null,-1,-1,1,0]
[null,null,{"$f":"IF(B755=\"\",\"\",LOOKUP(B755,Spiele!B:B,Spiele!C:C))","v":""},{"$f":"IF(B755=\"\",\"\",LOOKUP(B755,Spiele!B:B,Spiele!D:D))","v":""},{"$f":"IF(B755=\"\",\"\",LOOKUP(B755,Spiele!B:B,Spiele!E:E))","v":""},{"$f":"IF(B755=\"\",\"\",LOOKUP(B755,Spiele!B:B,Spiele!F:F))","v":""},"","","",null,null,-1,-1,1,0]
[null,null,{"$f":"IF(B756=\"\",\"\",LOOKUP(B756,Spiele!B:B,Spiele!C:C))","v":""},{"$f":"IF(B756=\"\",\"\",LOOKUP(B756,Spiele!B:B,Spiele!D:D))","v":""},{"$f":"IF(B756=\"\",\"\",LOOKUP(B756,Spiele!B:B,Spiele!E:E))","v":""},{"$f":"IF(B756=\"\",\"\",LOOKUP(B756,Spiele!B:B,Spiele!F:F))","v":""},"","","",null,null,-1,-1,1,0]
[null,null,{"$f":"IF(B757=\"\",\"\",LOOKUP(B757,Spiele!B:B,Spiele!C:C))","v":""},{"$f":"IF(B757=\"\",\"\",LOOKUP(B757,Spiele!B:B,Spiele!D:D))","v":""},{"$f":"IF(B757=\"\",\"\",LOOKUP(B757,Spiele!B:B,Spiele!E:E))","v":""},{"$f":"IF(B757=\"\",\"\",LOOKUP(B757,Spiele!B:B,Spiele!F:F))","v":""},"","","",null,null,-1,-1,1,0]
[null,null,{"$f":"IF(B758=\"\",\"\",LOOKUP(B758,Spiele!B:B,Spiele!C:C))","v":""},{"$f":"IF(B758=\"\",\"\",LOOKUP(B758,Spiele!B:B,Spiele!D:D))","v":""},{"$f":"IF(B758=\"\",\"\",LOOKUP(B758,Spiele!B:B,Spiele!E:E))","v":""},{"$f":"IF(B758=\"\",\"\",LOOKUP(B758,Spiele!B:B,Spiele!F:F))","v":""},"","","",null,null,-1,-1,1,0]
[null,null,{"$f":"IF(B759=\"\",\"\",LOOKUP(B759,Spiele!B:B,Spiele!C:C))","v":""},{"$f":"IF(B759=\"\",\"\",LOOKUP(B759,Spiele!B:B,Spiele!D:D))","v":""},{"$f":"IF(B759=\"\",\"\",LOOKUP(B759,Spiele!B:B,Spiele!E:E))","v":""},{"$f":"IF(B759=\"\",\"\",LOOKUP(B759,Spiele!B:B,Spiele!F:F))","v":""},"","","",null,null,-1,-1,1,0]
[null,null,{"$f":"IF(B760=\"\",\"\",LOOKUP(B760,Spiele!B:B,Spiele!C:C))","v":""},{"$f":"IF(B760=\"\",\"\",LOOKUP(B760,Spiele!B:B,Spiele!D:D))","v":""},{"$f":"IF(B760=\"\",\"\",LOOKUP(B760,Spiele!B:B,Spiele!E:E))","v":""},{"$f":"IF(B760=\"\",\"\",LOOKUP(B760,Spiele!B:B,Spiele!F:F))","v":""},"","","",null,null,-1,-1,1,0]
[null,null,{"$f":"IF(B761=\"\",\"\",LOOKUP(B761,Spiele!B:B,Spiele!C:C))","v":""},{"$f":"IF(B761=\"\",\"\",LOOKUP(B761,Spiele!B:B,Spiele!D:D))","v":""},{"$f":"IF(B761=\"\",\"\",LOOKUP(B761,Spiele!B:B,Spiele!E:E))","v":""},{"$f":"IF(B761=\"\",\"\",LOOKUP(B761,Spiele!B:B,Spiele!F:F))","v":""},"","","",null,null,-1,-1,1,0]
[null,null,{"$f":"IF(B762=\"\",\"\",LOOKUP(B762,Spiele!B:B,Spiele!C:C))","v":""},{"$f":"IF(B762=\"\",\"\",LOOKUP(B762,Spiele!B:B,Spiele!D:D))","v":""},{"$f":"IF(B762=\"\",\"\",LOOKUP(B762,Spiele!B:B,Spiele!E:E))","v":""},{"$f":"IF(B762=\"\",\"\",LOOKUP(B762,Spiele!B:B,Spiele!F:F))","v":""},"","","",null,null,-1,-1,1,0]
[null,null,{"$f":"IF(B763=\"\",\"\",LOOKUP(B763,Spiele!B:B,Spiele!C:C))","v":""},{"$f":"IF(B763=\"\",\"\",LOOKUP(B763,Spiele!B:B,Spiele!D:D))","v":""},{"$f":"IF(B763=\"\",\"\",LOOKUP(B763,Spiele!B:B,Spiele!E:E))","v":""},{"$f":"IF(B763=\"\",\"\",LOOKUP(B763,Spiele!B:B,Spiele!F:F))","v":""},"","","",null,null,-1,-1,1,0]
[null,null,{"$f":"IF(B764=\"\",\"\",LOOKUP(B764,Spiele!B:B,Spiele!C:C))","v":""},{"$f":"IF(B764=\"\",\"\",LOOKUP(B764,Spiele!B:B,Spiele!D:D))","v":""},{"$f":"IF(B764=\"\",\"\",LOOKUP(B764,Spiele!B:B,Spiele!E:E))","v":""},{"$f":"IF(B764=\"\",\"\",LOOKUP(B764,Spiele!B:B,Spiele!F:F))","v":""},"","","",null,null,-1,-1,1,0]
[null,null,{"$f":"IF(B765=\"\",\"\",LOOKUP(B765,Spiele!B:B,Spiele!C:C))","v":""},{"$f":"IF(B765=\"\",\"\",LOOKUP(B765,Spiele!B:B,Spiele!D:D))","v":""},{"$f":"IF(B765=\"\",\"\",LOOKUP(B765,Spiele!B:B,Spiele!E:E))","v":""},{"$f":"IF(B765=\"\",\"\",LOOKUP(B765,Spiele!B:B,Spiele!F:F))","v":""},"","","",null,null,-1,-1,1,0]
[null,null,{"$f":"IF(B766=\"\",\"\",LOOKUP(B766,Spiele!B:B,Spiele!C:C))","v":""},{"$f":"IF(B766=\"\",\"\",LOOKUP(B766,Spiele!B:B,Spiele!D:D))","v":""},{"$f":"IF(B766=\"\",\"\",LOOKUP(B766,Spiele!B:B,Spiele!E:E))","v":""},{"$f":"IF(B766=\"\",\"\",LOOKUP(B766,Spiele!B:B,Spiele!F:F))","v":""},"","","",null,null,-1,-1,1,0]
[null,null,{"$f":"IF(B767=\"\",\"\",LOOKUP(B767,Spiele!B:B,Spiele!C:C))","v":""},{"$f":"IF(B767=\"\",\"\",LOOKUP(B767,Spiele!B:B,Spiele!D:D))","v":""},{"$f":"IF(B767=\"\",\"\",LOOKUP(B767,Spiele!B:B,Spiele!E:E))","v":""},{"$f":"IF(B767=\"\",\"\",LOOKUP(B767,Spiele!B:B,Spiele!F:F))","v":""},"","","",null,null,-1,-1,1,0]
[null,null,{"$f":"IF(B768=\"\",\"\",LOOKUP(B768,Spiele!B:B,Spiele!C:C))","v":""},{"$f":"IF(B768=\"\",\"\",LOOKUP(B768,Spiele!B:B,Spiele!D:D))","v":""},{"$f":"IF(B768=\"\",\"\",LOOKUP(B768,Spiele!B:B,Spiele!E:E))","v":""},{"$f":"IF(B768=\"\",\"\",LOOKUP(B768,Spiele!B:B,Spiele!F:F))","v":""},"","","",null,null,-1,-1,1,0]
[null,null,{"$f":"IF(B769=\"\",\"\",LOOKUP(B769,Spiele!B:B,Spiele!C:C))","v":""},{"$f":"IF(B769=\"\",\"\",LOOKUP(B769,Spiele!B:B,Spiele!D:D))","v":""},{"$f":"IF(B769=\"\",\"\",LOOKUP(B769,Spiele!B:B,Spiele!E:E))","v":""},{"$f":"IF(B769=\"\",\"\",LOOKUP(B769,Spiele!B:B,Spiele!F:F))","v":""},"","","",null,null,-1,-1,1,0]
[null,null,{"$f":"IF(B770=\"\",\"\",LOOKUP(B770,Spiele!B:B,Spiele!C:C))","v":""},{"$f":"IF(B770=\"\",\"\",LOOKUP(B770,Spiele!B:B,Spiele!D:D))","v":""},{"$f":"IF(B770=\"\",\"\",LOOKUP(B770,Spiele!B:B,Spiele!E:E))","v":""},{"$f":"IF(B770=\"\",\"\",LOOKUP(B770,Spiele!B:B,Spiele!F:F))","v":""},"","","",null,null,-1,-1,1,0]
[null,null,{"$f":"IF(B771=\"\",\"\",LOOKUP(B771,Spiele!B:B,Spiele!C:C))","v":""},{"$f":"IF(B771=\"\",\"\",LOOKUP(B771,Spiele!B:B,Spiele!D:D))","v":""},{"$f":"IF(B771=\"\",\"\",LOOKUP(B771,Spiele!B:B,Spiele!E:E))","v":""},{"$f":"IF(B771=\"\",\"\",LOOKUP(B771,Spiele!B:B,Spiele!F:F))","v":""},"","","",null,null,-1,-1,1,0]
[null,null,{"$f":"IF(B772=\"\",\"\",LOOKUP(B772,Spiele!B:B,Spiele!C:C))","v":""},{"$f":"IF(B772=\"\",\"\",LOOKUP(B772,Spiele!B:B,Spiele!D:D))","v":""},{"$f":"IF(B772=\"\",\"\",LOOKUP(B772,Spiele!B:B,Spiele!E:E))","v":""},{"$f":"IF(B772=\"\",\"\",LOOKUP(B772,Spiele!B:B,Spiele!F:F))","v":""},"","","",null,null,-1,-1,1,0]
[null,null,{"$f":"IF(B773=\"\",\"\",LOOKUP(B773,Spiele!B:B,Spiele!C:C))","v":""},{"$f":"IF(B773=\"\",\"\",LOOKUP(B773,Spiele!B:B,Spiele!D:D))","v":""},{"$f":"IF(B773=\"\",\"\",LOOKUP(B773,Spiele!B:B,Spiele!E:E))","v":""},{"$f":"IF(B773=\"\",\"\",LOOKUP(B773,Spiele!B:B,Spiele!F:F))","v":""},"","","",null,null,-1,-1,1,0]
[null,null,{"$f":"IF(B774=\"\",\"\",LOOKUP(B774,Spiele!B:B,Spiele!C:C))","v":""},{"$f":"IF(B774=\"\",\"\",LOOKUP(B774,Spiele!B:B,Spiele!D:D))","v":""},{"$f":"IF(B774=\"\",\"\",LOOKUP(B774,Spiele!B:B,Spiele!E:E))","v":""},{"$f":"IF(B774=\"\",\"\",LOOKUP(B774,Spiele!B:B,Spiele!F:F))","v":""},"","","",null,null,-1,-1,1,0]
[null,null,{"$f":"IF(B775=\"\",\"\",LOOKUP(B775,Spiele!B:B,Spiele!C:C))","v":""},{"$f":"IF(B775=\"\",\"\",LOOKUP(B775,Spiele!B:B,Spiele!D:D))","v":""},{"$f":"IF(B775=\"\",\"\",LOOKUP(B775,Spiele!B:B,Spiele!E:E))","v":""},{"$f":"IF(B775=\"\",\"\",LOOKUP(B775,Spiele!B:B,Spiele!F:F))","v":""},"","","",null,null,-1,-1,1,0]
[null,null,{"$f":"IF(B776=\"\",\"\",LOOKUP(B776,Spiele!B:B,Spiele!C:C))","v":""},{"$f":"IF(B776=\"\",\"\",LOOKUP(B776,Spiele!B:B,Spiele!D:D))","v":""},{"$f":"IF(B776=\"\",\"\",LOOKUP(B776,Spiele!B:B,Spiele!E:E))","v":""},{"$f":"IF(B776=\"\",\"\",LOOKUP(B776,Spiele!B:B,Spiele!F:F))","v":""},{"$f":"IF(E776=\"\",\"\",IF(E776>F776,1,0))","v":""},{"$f":"IF(F776=\"\",\"\",IF(E776<F776,1,0))","v":""},{"$f":"IF(E776=\"\",\"\",IF(E776=F776,1,0))","v":""},null,null,{"$f":"IF(E776=\"\",-1,IF(J776>K776,1,-1))","v":-1},{"$f":"IF(F776=\"\",-1,IF(J776<K776,1,-1))","v":-1},1,{"$f":"IF(E776=\"\",0,IF(E776=J776,1,0)+IF(F776=K776,1,0)+IF(G776=L776,1,0)+IF(H776=M776,1,0)+IF(I776=N776,1,0))","v":0}]
[null,null,{"$f":"IF(B777=\"\",\"\",LOOKUP(B777,Spiele!B:B,Spiele!C:C))","v":""},{"$f":"IF(B777=\"\",\"\",LOOKUP(B777,Spiele!B:B,Spiele!D:D))","v":""},{"$f":"IF(B777=\"\",\"\",LOOKUP(B777,Spiele!B:B,Spiele!E:E))","v":""},{"$f":"IF(B777=\"\",\"\",LOOKUP(B777,Spiele!B:B,Spiele!F:F))","v":""},"","","",null,null,-1,-1,1,0]
[null,null,{"$f":"IF(B778=\"\",\"\",LOOKUP(B778,Spiele!B:B,Spiele!C:C))","v":""},{"$f":"IF(B778=\"\",\"\",LOOKUP(B778,Spiele!B:B,Spiele!D:D))","v":""},{"$f":"IF(B778=\"\",\"\",LOOKUP(B778,Spiele!B:B,Spiele!E:E))","v":""},{"$f":"IF(B778=\"\",\"\",LOOKUP(B778,Spiele!B:B,Spiele!F:F))","v":""},"","","",null,null,-1,-1,1,0]
[null,null,{"$f":"IF(B779=\"\",\"\",LOOKUP(B779,Spiele!B:B,Spiele!C:C))","v":""},{"$f":"IF(B779=\"\",\"\",LOOKUP(B779,Spiele!B:B,Spiele!D:D))","v":""},{"$f":"IF(B779=\"\",\"\",LOOKUP(B779,Spiele!B:B,Spiele!E:E))","v":""},{"$f":"IF(B779=\"\",\"\",LOOKUP(B779,Spiele!B:B,Spiele!F:F))","v":""},"","","",null,null,-1,-1,1,0]
[null,null,{"$f":"IF(B780=\"\",\"\",LOOKUP(B780,Spiele!B:B,Spiele!C:C))","v":""},{"$f":"IF(B780=\"\",\"\",LOOKUP(B780,Spiele!B:B,Spiele!D:D))","v":""},{"$f":"IF(B780=\"\",\"\",LOOKUP(B780,Spiele!B:B,Spiele!E:E))","v":""},{"$f":"IF(B780=\"\",\"\",LOOKUP(B780,Spiele!B:B,Spiele!F:F))","v":""},"","","",null,null,-1,-1,1,0]
[null,null,{"$f":"IF(B781=\"\",\"\",LOOKUP(B781,Spiele!B:B,Spiele!C:C))","v":""},{"$f":"IF(B781=\"\",\"\",LOOKUP(B781,Spiele!B:B,Spiele!D:D))","v":""},{"$f":"IF(B781=\"\",\"\",LOOKUP(B781,Spiele!B:B,Spiele!E:E))","v":""},{"$f":"IF(B781=\"\",\"\",LOOKUP(B781,Spiele!B:B,Spiele!F:F))","v":""},"","","",null,null,-1,-1,1,0]
[null,null,{"$f":"IF(B782=\"\",\"\",LOOKUP(B782,Spiele!B:B,Spiele!C:C))","v":""},{"$f":"IF(B782=\"\",\"\",LOOKUP(B782,Spiele!B:B,Spiele!D:D))","v":""},{"$f":"IF(B782=\"\",\"\",LOOKUP(B782,Spiele!B:B,Spiele!E:E))","v":""},{"$f":"IF(B782=\"\",\"\",LOOKUP(B782,Spiele!B:B,Spiele!F:F))","v":""},"","","",null,null,-1,-1,1,0]
[null,null,{"$f":"IF(B783=\"\",\"\",LOOKUP(B783,Spiele!B:B,Spiele!C:C))","v":""},{"$f":"IF(B783=\"\",\"\",LOOKUP(B783,Spiele!B:B,Spiele!D:D))","v":""},{"$f":"IF(B783=\"\",\"\",LOOKUP(B783,Spiele!B:B,Spiele!E:E))","v":""},{"$f":"IF(B783=\"\",\"\",LOOKUP(B783,Spiele!B:B,Spiele!F:F))","v":""},"","","",null,null,-1,-1,1,0]
[null,null,{"$f":"IF(B784=\"\",\"\",LOOKUP(B784,Spiele!B:B,Spiele!C:C))","v":""},{"$f":"IF(B784=\"\",\"\",LOOKUP(B784,Spiele!B:B,Spiele!D:D))","v":""},{"$f":"IF(B784=\"\",\"\",LOOKUP(B784,Spiele!B:B,Spiele!E:E))","v":""},{"$f":"IF(B784=\"\",\"\",LOOKUP(B784,Spiele!B:B,Spiele!F:F))","v":""},"","","",null,null,-1,-1,{"$f":"IF(E784=\"-\",-1,IF(J784=K784,1,-1))","v":1},0]
[null,null,{"$f":"IF(B785=\"\",\"\",LOOKUP(B785,Spiele!B:B,Spiele!C:C))","v":""},{"$f":"IF(B785=\"\",\"\",LOOKUP(B785,Spiele!B:B,Spiele!D:D))","v":""},{"$f":"IF(B785=\"\",\"\",LOOKUP(B785,Spiele!B:B,Spiele!E:E))","v":""},{"$f":"IF(B785=\"\",\"\",LOOKUP(B785,Spiele!B:B,Spiele!F:F))","v":""},"","","",null,null,-1,-1,1,0]
[null,null,{"$f":"IF(B786=\"\",\"\",LOOKUP(B786,Spiele!B:B,Spiele!C:C))","v":""},{"$f":"IF(B786=\"\",\"\",LOOKUP(B786,Spiele!B:B,Spiele!D:D))","v":""},{"$f":"IF(B786=\"\",\"\",LOOKUP(B786,Spiele!B:B,Spiele!E:E))","v":""},{"$f":"IF(B786=\"\",\"\",LOOKUP(B786,Spiele!B:B,Spiele!F:F))","v":""},"","","",null,null,-1,-1,1,0]
[null,null,{"$f":"IF(B787=\"\",\"\",LOOKUP(B787,Spiele!B:B,Spiele!C:C))","v":""},{"$f":"IF(B787=\"\",\"\",LOOKUP(B787,Spiele!B:B,Spiele!D:D))","v":""},{"$f":"IF(B787=\"\",\"\",LOOKUP(B787,Spiele!B:B,Spiele!E:E))","v":""},{"$f":"IF(B787=\"\",\"\",LOOKUP(B787,Spiele!B:B,Spiele!F:F))","v":""},"","","",null,null,-1,-1,1,0]
[null,null,{"$f":"IF(B788=\"\",\"\",LOOKUP(B788,Spiele!B:B,Spiele!C:C))","v":""},{"$f":"IF(B788=\"\",\"\",LOOKUP(B788,Spiele!B:B,Spiele!D:D))","v":""},{"$f":"IF(B788=\"\",\"\",LOOKUP(B788,Spiele!B:B,Spiele!E:E))","v":""},{"$f":"IF(B788=\"\",\"\",LOOKUP(B788,Spiele!B:B,Spiele!F:F))","v":""},"","","",null,null,-1,-1,1,0]
[null,null,{"$f":"IF(B789=\"\",\"\",LOOKUP(B789,Spiele!B:B,Spiele!C:C))","v":""},{"$f":"IF(B789=\"\",\"\",LOOKUP(B789,Spiele!B:B,Spiele!D:D))","v":""},{"$f":"IF(B789=\"\",\"\",LOOKUP(B789,Spiele!B:B,Spiele!E:E))","v":""},{"$f":"IF(B789=\"\",\"\",LOOKUP(B789,Spiele!B:B,Spiele!F:F))","v":""},"","","",null,null,-1,-1,1,0]
[null,null,{"$f":"IF(B790=\"\",\"\",LOOKUP(B790,Spiele!B:B,Spiele!C:C))","v":""},{"$f":"IF(B790=\"\",\"\",LOOKUP(B790,Spiele!B:B,Spiele!D:D))","v":""},{"$f":"IF(B790=\"\",\"\",LOOKUP(B790,Spiele!B:B,Spiele!E:E))","v":""},{"$f":"IF(B790=\"\",\"\",LOOKUP(B790,Spiele!B:B,Spiele!F:F))","v":""},"","","",null,null,-1,-1,1,0]
[null,null,{"$f":"IF(B791=\"\",\"\",LOOKUP(B791,Spiele!B:B,Spiele!C:C))","v":""},{"$f":"IF(B791=\"\",\"\",LOOKUP(B791,Spiele!B:B,Spiele!D:D))","v":""},{"$f":"IF(B791=\"\",\"\",LOOKUP(B791,Spiele!B:B,Spiele!E:E))","v":""},{"$f":"IF(B791=\"\",\"\",LOOKUP(B791,Spiele!B:B,Spiele!F:F))","v":""},"","","",null,null,-1,-1,1,0]
[null,null,{"$f":"IF(B792=\"\",\"\",LOOKUP(B792,Spiele!B:B,Spiele!C:C))","v":""},{"$f":"IF(B792=\"\",\"\",LOOKUP(B792,Spiele!B:B,Spiele!D:D))","v":""},{"$f":"IF(B792=\"\",\"\",LOOKUP(B792,Spiele!B:B,Spiele!E:E))","v":""},{"$f":"IF(B792=\"\",\"\",LOOKUP(B792,Spiele!B:B,Spiele!F:F))","v":""},"","","",null,null,-1,-1,1,0]
[null,null,{"$f":"IF(B793=\"\",\"\",LOOKUP(B793,Spiele!B:B,Spiele!C:C))","v":""},{"$f":"IF(B793=\"\",\"\",LOOKUP(B793,Spiele!B:B,Spiele!D:D))","v":""},{"$f":"IF(B793=\"\",\"\",LOOKUP(B793,Spiele!B:B,Spiele!E:E))","v":""},{"$f":"IF(B793=\"\",\"\",LOOKUP(B793,Spiele!B:B,Spiele!F:F))","v":""},"","","",null,null,-1,-1,1,0]
[null,null,{"$f":"IF(B794=\"\",\"\",LOOKUP(B794,Spiele!B:B,Spiele!C:C))","v":""},{"$f":"IF(B794=\"\",\"\",LOOKUP(B794,Spiele!B:B,Spiele!D:D))","v":""},{"$f":"IF(B794=\"\",\"\",LOOKUP(B794,Spiele!B:B,Spiele!E:E))","v":""},{"$f":"IF(B794=\"\",\"\",LOOKUP(B794,Spiele!B:B,Spiele!F:F))","v":""},"","","",null,null,-1,-1,1,0]
[null,null,{"$f":"IF(B795=\"\",\"\",LOOKUP(B795,Spiele!B:B,Spiele!C:C))","v":""},{"$f":"IF(B795=\"\",\"\",LOOKUP(B795,Spiele!B:B,Spiele!D:D))","v":""},{"$f":"IF(B795=\"\",\"\",LOOKUP(B795,Spiele!B:B,Spiele!E:E))","v":""},{"$f":"IF(B795=\"\",\"\",LOOKUP(B795,Spiele!B:B,Spiele!F:F))","v":""},"","","",null,null,-1,-1,1,0]
[null,null,{"$f":"IF(B796=\"\",\"\",LOOKUP(B796,Spiele!B:B,Spiele!C:C))","v":""},{"$f":"IF(B796=\"\",\"\",LOOKUP(B796,Spiele!B:B,Spiele!D:D))","v":""},{"$f":"IF(B796=\"\",\"\",LOOKUP(B796,Spiele!B:B,Spiele!E:E))","v":""},{"$f":"IF(B796=\"\",\"\",LOOKUP(B796,Spiele!B:B,Spiele!F:F))","v":""},"","","",null,null,-1,-1,1,0]
[null,null,{"$f":"IF(B797=\"\",\"\",LOOKUP(B797,Spiele!B:B,Spiele!C:C))","v":""},{"$f":"IF(B797=\"\",\"\",LOOKUP(B797,Spiele!B:B,Spiele!D:D))","v":""},{"$f":"IF(B797=\"\",\"\",LOOKUP(B797,Spiele!B:B,Spiele!E:E))","v":""},{"$f":"IF(B797=\"\",\"\",LOOKUP(B797,Spiele!B:B,Spiele!F:F))","v":""},"","","",null,null,-1,-1,1,0]
[null,null,{"$f":"IF(B798=\"\",\"\",LOOKUP(B798,Spiele!B:B,Spiele!C:C))","v":""},{"$f":"IF(B798=\"\",\"\",LOOKUP(B798,Spiele!B:B,Spiele!D:D))","v":""},{"$f":"IF(B798=\"\",\"\",LOOKUP(B798,Spiele!B:B,Spiele!E:E))","v":""},{"$f":"IF(B798=\"\",\"\",LOOKUP(B798,Spiele!B:B,Spiele!F:F))","v":""},"","","",null,null,-1,-1,1,0]
[null,null,{"$f":"IF(B799=\"\",\"\",LOOKUP(B799,Spiele!B:B,Spiele!C:C))","v":""},{"$f":"IF(B799=\"\",\"\",LOOKUP(B799,Spiele!B:B,Spiele!D:D))","v":""},{"$f":"IF(B799=\"\",\"\",LOOKUP(B799,Spiele!B:B,Spiele!E:E))","v":""},{"$f":"IF(B799=\"\",\"\",LOOKUP(B799,Spiele!B:B,Spiele!F:F))","v":""},"","","",null,null,-1,-1,1,0]
[null,null,{"$f":"IF(B800=\"\",\"\",LOOKUP(B800,Spiele!B:B,Spiele!C:C))","v":""},{"$f":"IF(B800=\"\",\"\",LOOKUP(B800,Spiele!B:B,Spiele!D:D))","v":""},{"$f":"IF(B800=\"\",\"\",LOOKUP(B800,Spiele!B:B,Spiele!E:E))","v":""},{"$f":"IF(B800=\"\",\"\",LOOKUP(B800,Spiele!B:B,Spiele!F:F))","v":""},"","","",null,null,-1,-1,1,0]
[null,null,{"$f":"IF(B801=\"\",\"\",LOOKUP(B801,Spiele!B:B,Spiele!C:C))","v":""},{"$f":"IF(B801=\"\",\"\",LOOKUP(B801,Spiele!B:B,Spiele!D:D))","v":""},{"$f":"IF(B801=\"\",\"\",LOOKUP(B801,Spiele!B:B,Spiele!E:E))","v":""},{"$f":"IF(B801=\"\",\"\",LOOKUP(B801,Spiele!B:B,Spiele!F:F))","v":""},"","","",null,null,-1,-1,1,0]
[null,null,{"$f":"IF(B802=\"\",\"\",LOOKUP(B802,Spiele!B:B,Spiele!C:C))","v":""},{"$f":"IF(B802=\"\",\"\",LOOKUP(B802,Spiele!B:B,Spiele!D:D))","v":""},{"$f":"IF(B802=\"\",\"\",LOOKUP(B802,Spiele!B:B,Spiele!E:E))","v":""},{"$f":"IF(B802=\"\",\"\",LOOKUP(B802,Spiele!B:B,Spiele!F:F))","v":""},"","","",null,null,-1,-1,1,0]
[null,null,{"$f":"IF(B803=\"\",\"\",LOOKUP(B803,Spiele!B:B,Spiele!C:C))","v":""},{"$f":"IF(B803=\"\",\"\",LOOKUP(B803,Spiele!B:B,Spiele!D:D))","v":""},{"$f":"IF(B803=\"\",\"\",LOOKUP(B803,Spiele!B:B,Spiele!E:E))","v":""},{"$f":"IF(B803=\"\",\"\",LOOKUP(B803,Spiele!B:B,Spiele!F:F))","v":""},"","","",null,null,-1,-1,1,0]
[null,null,{"$f":"IF(B804=\"\",\"\",LOOKUP(B804,Spiele!B:B,Spiele!C:C))","v":""},{"$f":"IF(B804=\"\",\"\",LOOKUP(B804,Spiele!B:B,Spiele!D:D))","v":""},{"$f":"IF(B804=\"\",\"\",LOOKUP(B804,Spiele!B:B,Spiele!E:E))","v":""},{"$f":"IF(B804=\"\",\"\",LOOKUP(B804,Spiele!B:B,Spiele!F:F))","v":""},"","","",null,null,-1,-1,1,0]
[null,null,{"$f":"IF(B805=\"\",\"\",LOOKUP(B805,Spiele!B:B,Spiele!C:C))","v":""},{"$f":"IF(B805=\"\",\"\",LOOKUP(B805,Spiele!B:B,Spiele!D:D))","v":""},{"$f":"IF(B805=\"\",\"\",LOOKUP(B805,Spiele!B:B,Spiele!E:E))","v":""},{"$f":"IF(B805=\"\",\"\",LOOKUP(B805,Spiele!B:B,Spiele!F:F))","v":""},"","","",null,null,-1,-1,1,0]
[null,null,{"$f":"IF(B806=\"\",\"\",LOOKUP(B806,Spiele!B:B,Spiele!C:C))","v":""},{"$f":"IF(B806=\"\",\"\",LOOKUP(B806,Spiele!B:B,Spiele!D:D))","v":""},{"$f":"IF(B806=\"\",\"\",LOOKUP(B806,Spiele!B:B,Spiele!E:E))","v":""},{"$f":"IF(B806=\"\",\"\",LOOKUP(B806,Spiele!B:B,Spiele!F:F))","v":""},"","","",null,null,-1,-1,1,0]
[null,null,{"$f":"IF(B807=\"\",\"\",LOOKUP(B807,Spiele!B:B,Spiele!C:C))","v":""},{"$f":"IF(B807=\"\",\"\",LOOKUP(B807,Spiele!B:B,Spiele!D:D))","v":""},{"$f":"IF(B807=\"\",\"\",LOOKUP(B807,Spiele!B:B,Spiele!E:E))","v":""},{"$f":"IF(B807=\"\",\"\",LOOKUP(B807,Spiele!B:B,Spiele!F:F))","v":""},"","","",null,null,-1,-1,1,0]
[null,null,{"$f":"IF(B808=\"\",\"\",LOOKUP(B808,Spiele!B:B,Spiele!C:C))","v":""},{"$f":"IF(B808=\"\",\"\",LOOKUP(B808,Spiele!B:B,Spiele!D:D))","v":""},{"$f":"IF(B808=\"\",\"\",LOOKUP(B808,Spiele!B:B,Spiele!E:E))","v":""},{"$f":"IF(B808=\"\",\"\",LOOKUP(B808,Spiele!B:B,Spiele!F:F))","v":""},"","","",null,null,-1,-1,1,0]
[null,null,{"$f":"IF(B809=\"\",\"\",LOOKUP(B809,Spiele!B:B,Spiele!C:C))","v":""},{"$f":"IF(B809=\"\",\"\",LOOKUP(B809,Spiele!B:B,Spiele!D:D))","v":""},{"$f":"IF(B809=\"\",\"\",LOOKUP(B809,Spiele!B:B,Spiele!E:E))","v":""},{"$f":"IF(B809=\"\",\"\",LOOKUP(B809,Spiele!B:B,Spiele!F:F))","v":""},"","","",null,null,-1,-1,1,0]
[null,null,{"$f":"IF(B810=\"\",\"\",LOOKUP(B810,Spiele!B:B,Spiele!C:C))","v":""},{"$f":"IF(B810=\"\",\"\",LOOKUP(B810,Spiele!B:B,Spiele!D:D))","v":""},{"$f":"IF(B810=\"\",\"\",LOOKUP(B810,Spiele!B:B,Spiele!E:E))","v":""},{"$f":"IF(B810=\"\",\"\",LOOKUP(B810,Spiele!B:B,Spiele!F:F))","v":""},"","","",null,null,-1,-1,1,0]
[null,null,{"$f":"IF(B811=\"\",\"\",LOOKUP(B811,Spiele!B:B,Spiele!C:C))","v":""},{"$f":"IF(B811=\"\",\"\",LOOKUP(B811,Spiele!B:B,Spiele!D:D))","v":""},{"$f":"IF(B811=\"\",\"\",LOOKUP(B811,Spiele!B:B,Spiele!E:E))","v":""},{"$f":"IF(B811=\"\",\"\",LOOKUP(B811,Spiele!B:B,Spiele!F:F))","v":""},"","","",null,null,-1,-1,1,0]
[null,null,{"$f":"IF(B812=\"\",\"\",LOOKUP(B812,Spiele!B:B,Spiele!C:C))","v":""},{"$f":"IF(B812=\"\",\"\",LOOKUP(B812,Spiele!B:B,Spiele!D:D))","v":""},{"$f":"IF(B812=\"\",\"\",LOOKUP(B812,Spiele!B:B,Spiele!E:E))","v":""},{"$f":"IF(B812=\"\",\"\",LOOKUP(B812,Spiele!B:B,Spiele!F:F))","v":""},"","","",null,null,-1,-1,1,0]
[null,null,{"$f":"IF(B813=\"\",\"\",LOOKUP(B813,Spiele!B:B,Spiele!C:C))","v":""},{"$f":"IF(B813=\"\",\"\",LOOKUP(B813,Spiele!B:B,Spiele!D:D))","v":""},{"$f":"IF(B813=\"\",\"\",LOOKUP(B813,Spiele!B:B,Spiele!E:E))","v":""},{"$f":"IF(B813=\"\",\"\",LOOKUP(B813,Spiele!B:B,Spiele!F:F))","v":""},"","","",null,null,-1,-1,1,0]
[null,null,{"$f":"IF(B814=\"\",\"\",LOOKUP(B814,Spiele!B:B,Spiele!C:C))","v":""},{"$f":"IF(B814=\"\",\"\",LOOKUP(B814,Spiele!B:B,Spiele!D:D))","v":""},{"$f":"IF(B814=\"\",\"\",LOOKUP(B814,Spiele!B:B,Spiele!E:E))","v":""},{"$f":"IF(B814=\"\",\"\",LOOKUP(B814,Spiele!B:B,Spiele!F:F))","v":""},"","","",null,null,-1,-1,1,0]
[null,null,{"$f":"IF(B815=\"\",\"\",LOOKUP(B815,Spiele!B:B,Spiele!C:C))","v":""},{"$f":"IF(B815=\"\",\"\",LOOKUP(B815,Spiele!B:B,Spiele!D:D))","v":""},{"$f":"IF(B815=\"\",\"\",LOOKUP(B815,Spiele!B:B,Spiele!E:E))","v":""},{"$f":"IF(B815=\"\",\"\",LOOKUP(B815,Spiele!B:B,Spiele!F:F))","v":""},"","","",null,null,-1,-1,1,0]
[null,null,{"$f":"IF(B816=\"\",\"\",LOOKUP(B816,Spiele!B:B,Spiele!C:C))","v":""},{"$f":"IF(B816=\"\",\"\",LOOKUP(B816,Spiele!B:B,Spiele!D:D))","v":""},{"$f":"IF(B816=\"\",\"\",LOOKUP(B816,Spiele!B:B,Spiele!E:E))","v":""},{"$f":"IF(B816=\"\",\"\",LOOKUP(B816,Spiele!B:B,Spiele!F:F))","v":""},"","","",null,null,-1,-1,1,0]
[null,null,{"$f":"IF(B817=\"\",\"\",LOOKUP(B817,Spiele!B:B,Spiele!C:C))","v":""},{"$f":"IF(B817=\"\",\"\",LOOKUP(B817,Spiele!B:B,Spiele!D:D))","v":""},{"$f":"IF(B817=\"\",\"\",LOOKUP(B817,Spiele!B:B,Spiele!E:E))","v":""},{"$f":"IF(B817=\"\",\"\",LOOKUP(B817,Spiele!B:B,Spiele!F:F))","v":""},"","","",null,null,-1,-1,1,0]
[null,null,{"$f":"IF(B818=\"\",\"\",LOOKUP(B818,Spiele!B:B,Spiele!C:C))","v":""},{"$f":"IF(B818=\"\",\"\",LOOKUP(B818,Spiele!B:B,Spiele!D:D))","v":""},{"$f":"IF(B818=\"\",\"\",LOOKUP(B818,Spiele!B:B,Spiele!E:E))","v":""},{"$f":"IF(B818=\"\",\"\",LOOKUP(B818,Spiele!B:B,Spiele!F:F))","v":""},"","","",null,null,-1,-1,1,0]
[null,null,{"$f":"IF(B819=\"\",\"\",LOOKUP(B819,Spiele!B:B,Spiele!C:C))","v":""},{"$f":"IF(B819=\"\",\"\",LOOKUP(B819,Spiele!B:B,Spiele!D:D))","v":""},{"$f":"IF(B819=\"\",\"\",LOOKUP(B819,Spiele!B:B,Spiele!E:E))","v":""},{"$f":"IF(B819=\"\",\"\",LOOKUP(B819,Spiele!B:B,Spiele!F:F))","v":""},"","","",null,null,-1,-1,1,0]
[null,null,{"$f":"IF(B820=\"\",\"\",LOOKUP(B820,Spiele!B:B,Spiele!C:C))","v":""},{"$f":"IF(B820=\"\",\"\",LOOKUP(B820,Spiele!B:B,Spiele!D:D))","v":""},{"$f":"IF(B820=\"\",\"\",LOOKUP(B820,Spiele!B:B,Spiele!E:E))","v":""},{"$f":"IF(B820=\"\",\"\",LOOKUP(B820,Spiele!B:B,Spiele!F:F))","v":""},"","","",null,null,-1,-1,1,0]
[null,null,{"$f":"IF(B821=\"\",\"\",LOOKUP(B821,Spiele!B:B,Spiele!C:C))","v":""},{"$f":"IF(B821=\"\",\"\",LOOKUP(B821,Spiele!B:B,Spiele!D:D))","v":""},{"$f":"IF(B821=\"\",\"\",LOOKUP(B821,Spiele!B:B,Spiele!E:E))","v":""},{"$f":"IF(B821=\"\",\"\",LOOKUP(B821,Spiele!B:B,Spiele!F:F))","v":""},"","","",null,null,-1,-1,1,0]
[null,null,{"$f":"IF(B822=\"\",\"\",LOOKUP(B822,Spiele!B:B,Spiele!C:C))","v":""},{"$f":"IF(B822=\"\",\"\",LOOKUP(B822,Spiele!B:B,Spiele!D:D))","v":""},{"$f":"IF(B822=\"\",\"\",LOOKUP(B822,Spiele!B:B,Spiele!E:E))","v":""},{"$f":"IF(B822=\"\",\"\",LOOKUP(B822,Spiele!B:B,Spiele!F:F))","v":""},"","","",null,null,-1,-1,1,0]
[null,null,{"$f":"IF(B823=\"\",\"\",LOOKUP(B823,Spiele!B:B,Spiele!C:C))","v":""},{"$f":"IF(B823=\"\",\"\",LOOKUP(B823,Spiele!B:B,Spiele!D:D))","v":""},{"$f":"IF(B823=\"\",\"\",LOOKUP(B823,Spiele!B:B,Spiele!E:E))","v":""},{"$f":"IF(B823=\"\",\"\",LOOKUP(B823,Spiele!B:B,Spiele!F:F))","v":""},"","","",null,null,-1,-1,1,0]
[null,null,{"$f":"IF(B824=\"\",\"\",LOOKUP(B824,Spiele!B:B,Spiele!C:C))","v":""},{"$f":"IF(B824=\"\",\"\",LOOKUP(B824,Spiele!B:B,Spiele!D:D))","v":""},{"$f":"IF(B824=\"\",\"\",LOOKUP(B824,Spiele!B:B,Spiele!E:E))","v":""},{"$f":"IF(B824=\"\",\"\",LOOKUP(B824,Spiele!B:B,Spiele!F:F))","v":""},"","","",null,null,-1,-1,1,0]
[null,null,{"$f":"IF(B825=\"\",\"\",LOOKUP(B825,Spiele!B:B,Spiele!C:C))","v":""},{"$f":"IF(B825=\"\",\"\",LOOKUP(B825,Spiele!B:B,Spiele!D:D))","v":""},{"$f":"IF(B825=\"\",\"\",LOOKUP(B825,Spiele!B:B,Spiele!E:E))","v":""},{"$f":"IF(B825=\"\",\"\",LOOKUP(B825,Spiele!B:B,Spiele!F:F))","v":""},"","","",null,null,-1,-1,1,0]
[null,null,{"$f":"IF(B826=\"\",\"\",LOOKUP(B826,Spiele!B:B,Spiele!C:C))","v":""},{"$f":"IF(B826=\"\",\"\",LOOKUP(B826,Spiele!B:B,Spiele!D:D))","v":""},{"$f":"IF(B826=\"\",\"\",LOOKUP(B826,Spiele!B:B,Spiele!E:E))","v":""},{"$f":"IF(B826=\"\",\"\",LOOKUP(B826,Spiele!B:B,Spiele!F:F))","v":""},"","","",null,null,-1,-1,1,0]
[null,null,{"$f":"IF(B827=\"\",\"\",LOOKUP(B827,Spiele!B:B,Spiele!C:C))","v":""},{"$f":"IF(B827=\"\",\"\",LOOKUP(B827,Spiele!B:B,Spiele!D:D))","v":""},{"$f":"IF(B827=\"\",\"\",LOOKUP(B827,Spiele!B:B,Spiele!E:E))","v":""},{"$f":"IF(B827=\"\",\"\",LOOKUP(B827,Spiele!B:B,Spiele!F:F))","v":""},"","","",null,null,-1,-1,1,0]
[null,null,{"$f":"IF(B828=\"\",\"\",LOOKUP(B828,Spiele!B:B,Spiele!C:C))","v":""},{"$f":"IF(B828=\"\",\"\",LOOKUP(B828,Spiele!B:B,Spiele!D:D))","v":""},{"$f":"IF(B828=\"\",\"\",LOOKUP(B828,Spiele!B:B,Spiele!E:E))","v":""},{"$f":"IF(B828=\"\",\"\",LOOKUP(B828,Spiele!B:B,Spiele!F:F))","v":""},"","","",null,null,-1,-1,1,0]
[null,null,{"$f":"IF(B829=\"\",\"\",LOOKUP(B829,Spiele!B:B,Spiele!C:C))","v":""},{"$f":"IF(B829=\"\",\"\",LOOKUP(B829,Spiele!B:B,Spiele!D:D))","v":""},{"$f":"IF(B829=\"\",\"\",LOOKUP(B829,Spiele!B:B,Spiele!E:E))","v":""},{"$f":"IF(B829=\"\",\"\",LOOKUP(B829,Spiele!B:B,Spiele!F:F))","v":""},"","","",null,null,-1,-1,1,0]
[null,null,{"$f":"IF(B830=\"\",\"\",LOOKUP(B830,Spiele!B:B,Spiele!C:C))","v":""},{"$f":"IF(B830=\"\",\"\",LOOKUP(B830,Spiele!B:B,Spiele!D:D))","v":""},{"$f":"IF(B830=\"\",\"\",LOOKUP(B830,Spiele!B:B,Spiele!E:E))","v":""},{"$f":"IF(B830=\"\",\"\",LOOKUP(B830,Spiele!B:B,Spiele!F:F))","v":""},"","","",null,null,-1,-1,1,0]
[null,null,{"$f":"IF(B831=\"\",\"\",LOOKUP(B831,Spiele!B:B,Spiele!C:C))","v":""},{"$f":"IF(B831=\"\",\"\",LOOKUP(B831,Spiele!B:B,Spiele!D:D))","v":""},{"$f":"IF(B831=\"\",\"\",LOOKUP(B831,Spiele!B:B,Spiele!E:E))","v":""},{"$f":"IF(B831=\"\",\"\",LOOKUP(B831,Spiele!B:B,Spiele!F:F))","v":""},"","","",null,null,-1,-1,1,0]
[null,null,{"$f":"IF(B832=\"\",\"\",LOOKUP(B832,Spiele!B:B,Spiele!C:C))","v":""},{"$f":"IF(B832=\"\",\"\",LOOKUP(B832,Spiele!B:B,Spiele!D:D))","v":""},{"$f":"IF(B832=\"\",\"\",LOOKUP(B832,Spiele!B:B,Spiele!E:E))","v":""},{"$f":"IF(B832=\"\",\"\",LOOKUP(B832,Spiele!B:B,Spiele!F:F))","v":""},"","","",null,null,-1,-1,1,0]
[null,null,{"$f":"IF(B833=\"\",\"\",LOOKUP(B833,Spiele!B:B,Spiele!C:C))","v":""},{"$f":"IF(B833=\"\",\"\",LOOKUP(B833,Spiele!B:B,Spiele!D:D))","v":""},{"$f":"IF(B833=\"\",\"\",LOOKUP(B833,Spiele!B:B,Spiele!E:E))","v":""},{"$f":"IF(B833=\"\",\"\",LOOKUP(B833,Spiele!B:B,Spiele!F:F))","v":""},"","","",null,null,-1,-1,1,0]
[null,null,{"$f":"IF(B834=\"\",\"\",LOOKUP(B834,Spiele!B:B,Spiele!C:C))","v":""},{"$f":"IF(B834=\"\",\"\",LOOKUP(B834,Spiele!B:B,Spiele!D:D))","v":""},{"$f":"IF(B834=\"\",\"\",LOOKUP(B834,Spiele!B:B,Spiele!E:E))","v":""},{"$f":"IF(B834=\"\",\"\",LOOKUP(B834,Spiele!B:B,Spiele!F:F))","v":""},"","","",null,null,-1,-1,1,0]
[null,null,{"$f":"IF(B835=\"\",\"\",LOOKUP(B835,Spiele!B:B,Spiele!C:C))","v":""},{"$f":"IF(B835=\"\",\"\",LOOKUP(B835,Spiele!B:B,Spiele!D:D))","v":""},{"$f":"IF(B835=\"\",\"\",LOOKUP(B835,Spiele!B:B,Spiele!E:E))","v":""},{"$f":"IF(B835=\"\",\"\",LOOKUP(B835,Spiele!B:B,Spiele!F:F))","v":""},"","","",null,null,-1,-1,1,0]
[null,null,{"$f":"IF(B836=\"\",\"\",LOOKUP(B836,Spiele!B:B,Spiele!C:C))","v":""},{"$f":"IF(B836=\"\",\"\",LOOKUP(B836,Spiele!B:B,Spiele!D:D))","v":""},{"$f":"IF(B836=\"\",\"\",LOOKUP(B836,Spiele!B:B,Spiele!E:E))","v":""},{"$f":"IF(B836=\"\",\"\",LOOKUP(B836,Spiele!B:B,Spiele!F:F))","v":""},"","","",null,null,-1,-1,1,0]
[null,null,{"$f":"IF(B837=\"\",\"\",LOOKUP(B837,Spiele!B:B,Spiele!C:C))","v":""},{"$f":"IF(B837=\"\",\"\",LOOKUP(B837,Spiele!B:B,Spiele!D:D))","v":""},{"$f":"IF(B837=\"\",\"\",LOOKUP(B837,Spiele!B:B,Spiele!E:E))","v":""},{"$f":"IF(B837=\"\",\"\",LOOKUP(B837,Spiele!B:B,Spiele!F:F))","v":""},"","","",null,null,-1,-1,1,0]
[null,null,{"$f":"IF(B838=\"\",\"\",LOOKUP(B838,Spiele!B:B,Spiele!C:C))","v":""},{"$f":"IF(B838=\"\",\"\",LOOKUP(B838,Spiele!B:B,Spiele!D:D))","v":""},{"$f":"IF(B838=\"\",\"\",LOOKUP(B838,Spiele!B:B,Spiele!E:E))","v":""},{"$f":"IF(B838=\"\",\"\",LOOKUP(B838,Spiele!B:B,Spiele!F:F))","v":""},"","","",null,null,-1,-1,1,0]
[null,null,{"$f":"IF(B839=\"\",\"\",LOOKUP(B839,Spiele!B:B,Spiele!C:C))","v":""},{"$f":"IF(B839=\"\",\"\",LOOKUP(B839,Spiele!B:B,Spiele!D:D))","v":""},{"$f":"IF(B839=\"\",\"\",LOOKUP(B839,Spiele!B:B,Spiele!E:E))","v":""},{"$f":"IF(B839=\"\",\"\",LOOKUP(B839,Spiele!B:B,Spiele!F:F))","v":""},"","","",null,null,-1,-1,1,0]
[null,null,{"$f":"IF(B840=\"\",\"\",LOOKUP(B840,Spiele!B:B,Spiele!C:C))","v":""},{"$f":"IF(B840=\"\",\"\",LOOKUP(B840,Spiele!B:B,Spiele!D:D))","v":""},{"$f":"IF(B840=\"\",\"\",LOOKUP(B840,Spiele!B:B,Spiele!E:E))","v":""},{"$f":"IF(B840=\"\",\"\",LOOKUP(B840,Spiele!B:B,Spiele!F:F))","v":""},{"$f":"IF(E840=\"\",\"\",IF(E840>F840,1,0))","v":""},{"$f":"IF(F840=\"\",\"\",IF(E840<F840,1,0))","v":""},{"$f":"IF(E840=\"\",\"\",IF(E840=F840,1,0))","v":""},null,null,{"$f":"IF(E840=\"\",-1,IF(J840>K840,1,-1))","v":-1},{"$f":"IF(F840=\"\",-1,IF(J840<K840,1,-1))","v":-1},1,{"$f":"IF(E840=\"\",0,IF(E840=J840,1,0)+IF(F840=K840,1,0)+IF(G840=L840,1,0)+IF(H840=M840,1,0)+IF(I840=N840,1,0))","v":0}]
[null,null,{"$f":"IF(B841=\"\",\"\",LOOKUP(B841,Spiele!B:B,Spiele!C:C))","v":""},{"$f":"IF(B841=\"\",\"\",LOOKUP(B841,Spiele!B:B,Spiele!D:D))","v":""},{"$f":"IF(B841=\"\",\"\",LOOKUP(B841,Spiele!B:B,Spiele!E:E))","v":""},{"$f":"IF(B841=\"\",\"\",LOOKUP(B841,Spiele!B:B,Spiele!F:F))","v":""},"","","",null,null,-1,-1,1,0]
[null,null,{"$f":"IF(B842=\"\",\"\",LOOKUP(B842,Spiele!B:B,Spiele!C:C))","v":""},{"$f":"IF(B842=\"\",\"\",LOOKUP(B842,Spiele!B:B,Spiele!D:D))","v":""},{"$f":"IF(B842=\"\",\"\",LOOKUP(B842,Spiele!B:B,Spiele!E:E))","v":""},{"$f":"IF(B842=\"\",\"\",LOOKUP(B842,Spiele!B:B,Spiele!F:F))","v":""},"","","",null,null,-1,-1,1,0]
[null,null,{"$f":"IF(B843=\"\",\"\",LOOKUP(B843,Spiele!B:B,Spiele!C:C))","v":""},{"$f":"IF(B843=\"\",\"\",LOOKUP(B843,Spiele!B:B,Spiele!D:D))","v":""},{"$f":"IF(B843=\"\",\"\",LOOKUP(B843,Spiele!B:B,Spiele!E:E))","v":""},{"$f":"IF(B843=\"\",\"\",LOOKUP(B843,Spiele!B:B,Spiele!F:F))","v":""},"","","",null,null,-1,-1,1,0]
[null,null,{"$f":"IF(B844=\"\",\"\",LOOKUP(B844,Spiele!B:B,Spiele!C:C))","v":""},{"$f":"IF(B844=\"\",\"\",LOOKUP(B844,Spiele!B:B,Spiele!D:D))","v":""},{"$f":"IF(B844=\"\",\"\",LOOKUP(B844,Spiele!B:B,Spiele!E:E))","v":""},{"$f":"IF(B844=\"\",\"\",LOOKUP(B844,Spiele!B:B,Spiele!F:F))","v":""},"","","",null,null,-1,-1,1,0]
[null,null,{"$f":"IF(B845=\"\",\"\",LOOKUP(B845,Spiele!B:B,Spiele!C:C))","v":""},{"$f":"IF(B845=\"\",\"\",LOOKUP(B845,Spiele!B:B,Spiele!D:D))","v":""},{"$f":"IF(B845=\"\",\"\",LOOKUP(B845,Spiele!B:B,Spiele!E:E))","v":""},{"$f":"IF(B845=\"\",\"\",LOOKUP(B845,Spiele!B:B,Spiele!F:F))","v":""},"","","",null,null,-1,-1,1,0]
[null,null,{"$f":"IF(B846=\"\",\"\",LOOKUP(B846,Spiele!B:B,Spiele!C:C))","v":""},{"$f":"IF(B846=\"\",\"\",LOOKUP(B846,Spiele!B:B,Spiele!D:D))","v":""},{"$f":"IF(B846=\"\",\"\",LOOKUP(B846,Spiele!B:B,Spiele!E:E))","v":""},{"$f":"IF(B846=\"\",\"\",LOOKUP(B846,Spiele!B:B,Spiele!F:F))","v":""},"","","",null,null,-1,-1,1,0]
[null,null,{"$f":"IF(B847=\"\",\"\",LOOKUP(B847,Spiele!B:B,Spiele!C:C))","v":""},{"$f":"IF(B847=\"\",\"\",LOOKUP(B847,Spiele!B:B,Spiele!D:D))","v":""},{"$f":"IF(B847=\"\",\"\",LOOKUP(B847,Spiele!B:B,Spiele!E:E))","v":""},{"$f":"IF(B847=\"\",\"\",LOOKUP(B847,Spiele!B:B,Spiele!F:F))","v":""},"","","",null,null,-1,-1,1,0]
[null,null,{"$f":"IF(B848=\"\",\"\",LOOKUP(B848,Spiele!B:B,Spiele!C:C))","v":""},{"$f":"IF(B848=\"\",\"\",LOOKUP(B848,Spiele!B:B,Spiele!D:D))","v":""},{"$f":"IF(B848=\"\",\"\",LOOKUP(B848,Spiele!B:B,Spiele!E:E))","v":""},{"$f":"IF(B848=\"\",\"\",LOOKUP(B848,Spiele!B:B,Spiele!F:F))","v":""},"","","",null,null,-1,-1,{"$f":"IF(E848=\"-\",-1,IF(J848=K848,1,-1))","v":1},0]
[null,null,{"$f":"IF(B849=\"\",\"\",LOOKUP(B849,Spiele!B:B,Spiele!C:C))","v":""},{"$f":"IF(B849=\"\",\"\",LOOKUP(B849,Spiele!B:B,Spiele!D:D))","v":""},{"$f":"IF(B849=\"\",\"\",LOOKUP(B849,Spiele!B:B,Spiele!E:E))","v":""},{"$f":"IF(B849=\"\",\"\",LOOKUP(B849,Spiele!B:B,Spiele!F:F))","v":""},"","","",null,null,-1,-1,1,0]
[null,null,{"$f":"IF(B850=\"\",\"\",LOOKUP(B850,Spiele!B:B,Spiele!C:C))","v":""},{"$f":"IF(B850=\"\",\"\",LOOKUP(B850,Spiele!B:B,Spiele!D:D))","v":""},{"$f":"IF(B850=\"\",\"\",LOOKUP(B850,Spiele!B:B,Spiele!E:E))","v":""},{"$f":"IF(B850=\"\",\"\",LOOKUP(B850,Spiele!B:B,Spiele!F:F))","v":""},"","","",null,null,-1,-1,1,0]
[null,null,{"$f":"IF(B851=\"\",\"\",LOOKUP(B851,Spiele!B:B,Spiele!C:C))","v":""},{"$f":"IF(B851=\"\",\"\",LOOKUP(B851,Spiele!B:B,Spiele!D:D))","v":""},{"$f":"IF(B851=\"\",\"\",LOOKUP(B851,Spiele!B:B,Spiele!E:E))","v":""},{"$f":"IF(B851=\"\",\"\",LOOKUP(B851,Spiele!B:B,Spiele!F:F))","v":""},"","","",null,null,-1,-1,1,0]
[null,null,{"$f":"IF(B852=\"\",\"\",LOOKUP(B852,Spiele!B:B,Spiele!C:C))","v":""},{"$f":"IF(B852=\"\",\"\",LOOKUP(B852,Spiele!B:B,Spiele!D:D))","v":""},{"$f":"IF(B852=\"\",\"\",LOOKUP(B852,Spiele!B:B,Spiele!E:E))","v":""},{"$f":"IF(B852=\"\",\"\",LOOKUP(B852,Spiele!B:B,Spiele!F:F))","v":""},"","","",null,null,-1,-1,1,0]
[null,null,{"$f":"IF(B853=\"\",\"\",LOOKUP(B853,Spiele!B:B,Spiele!C:C))","v":""},{"$f":"IF(B853=\"\",\"\",LOOKUP(B853,Spiele!B:B,Spiele!D:D))","v":""},{"$f":"IF(B853=\"\",\"\",LOOKUP(B853,Spiele!B:B,Spiele!E:E))","v":""},{"$f":"IF(B853=\"\",\"\",LOOKUP(B853,Spiele!B:B,Spiele!F:F))","v":""},"","","",null,null,-1,-1,1,0]
[null,null,{"$f":"IF(B854=\"\",\"\",LOOKUP(B854,Spiele!B:B,Spiele!C:C))","v":""},{"$f":"IF(B854=\"\",\"\",LOOKUP(B854,Spiele!B:B,Spiele!D:D))","v":""},{"$f":"IF(B854=\"\",\"\",LOOKUP(B854,Spiele!B:B,Spiele!E:E))","v":""},{"$f":"IF(B854=\"\",\"\",LOOKUP(B854,Spiele!B:B,Spiele!F:F))","v":""},"","","",null,null,-1,-1,1,0]
[null,null,{"$f":"IF(B855=\"\",\"\",LOOKUP(B855,Spiele!B:B,Spiele!C:C))","v":""},{"$f":"IF(B855=\"\",\"\",LOOKUP(B855,Spiele!B:B,Spiele!D:D))","v":""},{"$f":"IF(B855=\"\",\"\",LOOKUP(B855,Spiele!B:B,Spiele!E:E))","v":""},{"$f":"IF(B855=\"\",\"\",LOOKUP(B855,Spiele!B:B,Spiele!F:F))","v":""},"","","",null,null,-1,-1,1,0]
[null,null,{"$f":"IF(B856=\"\",\"\",LOOKUP(B856,Spiele!B:B,Spiele!C:C))","v":""},{"$f":"IF(B856=\"\",\"\",LOOKUP(B856,Spiele!B:B,Spiele!D:D))","v":""},{"$f":"IF(B856=\"\",\"\",LOOKUP(B856,Spiele!B:B,Spiele!E:E))","v":""},{"$f":"IF(B856=\"\",\"\",LOOKUP(B856,Spiele!B:B,Spiele!F:F))","v":""},"","","",null,null,-1,-1,1,0]
[null,null,{"$f":"IF(B857=\"\",\"\",LOOKUP(B857,Spiele!B:B,Spiele!C:C))","v":""},{"$f":"IF(B857=\"\",\"\",LOOKUP(B857,Spiele!B:B,Spiele!D:D))","v":""},{"$f":"IF(B857=\"\",\"\",LOOKUP(B857,Spiele!B:B,Spiele!E:E))","v":""},{"$f":"IF(B857=\"\",\"\",LOOKUP(B857,Spiele!B:B,Spiele!F:F))","v":""},"","","",null,null,-1,-1,1,0]
[null,null,{"$f":"IF(B858=\"\",\"\",LOOKUP(B858,Spiele!B:B,Spiele!C:C))","v":""},{"$f":"IF(B858=\"\",\"\",LOOKUP(B858,Spiele!B:B,Spiele!D:D))","v":""},{"$f":"IF(B858=\"\",\"\",LOOKUP(B858,Spiele!B:B,Spiele!E:E))","v":""},{"$f":"IF(B858=\"\",\"\",LOOKUP(B858,Spiele!B:B,Spiele!F:F))","v":""},"","","",null,null,-1,-1,1,0]
[null,null,{"$f":"IF(B859=\"\",\"\",LOOKUP(B859,Spiele!B:B,Spiele!C:C))","v":""},{"$f":"IF(B859=\"\",\"\",LOOKUP(B859,Spiele!B:B,Spiele!D:D))","v":""},{"$f":"IF(B859=\"\",\"\",LOOKUP(B859,Spiele!B:B,Spiele!E:E))","v":""},{"$f":"IF(B859=\"\",\"\",LOOKUP(B859,Spiele!B:B,Spiele!F:F))","v":""},"","","",null,null,-1,-1,1,0]
[null,null,{"$f":"IF(B860=\"\",\"\",LOOKUP(B860,Spiele!B:B,Spiele!C:C))","v":""},{"$f":"IF(B860=\"\",\"\",LOOKUP(B860,Spiele!B:B,Spiele!D:D))","v":""},{"$f":"IF(B860=\"\",\"\",LOOKUP(B860,Spiele!B:B,Spiele!E:E))","v":""},{"$f":"IF(B860=\"\",\"\",LOOKUP(B860,Spiele!B:B,Spiele!F:F))","v":""},"","","",null,null,-1,-1,1,0]
[null,null,{"$f":"IF(B861=\"\",\"\",LOOKUP(B861,Spiele!B:B,Spiele!C:C))","v":""},{"$f":"IF(B861=\"\",\"\",LOOKUP(B861,Spiele!B:B,Spiele!D:D))","v":""},{"$f":"IF(B861=\"\",\"\",LOOKUP(B861,Spiele!B:B,Spiele!E:E))","v":""},{"$f":"IF(B861=\"\",\"\",LOOKUP(B861,Spiele!B:B,Spiele!F:F))","v":""},"","","",null,null,-1,-1,1,0]
[null,null,{"$f":"IF(B862=\"\",\"\",LOOKUP(B862,Spiele!B:B,Spiele!C:C))","v":""},{"$f":"IF(B862=\"\",\"\",LOOKUP(B862,Spiele!B:B,Spiele!D:D))","v":""},{"$f":"IF(B862=\"\",\"\",LOOKUP(B862,Spiele!B:B,Spiele!E:E))","v":""},{"$f":"IF(B862=\"\",\"\",LOOKUP(B862,Spiele!B:B,Spiele!F:F))","v":""},"","","",null,null,-1,-1,1,0]
[null,null,{"$f":"IF(B863=\"\",\"\",LOOKUP(B863,Spiele!B:B,Spiele!C:C))","v":""},{"$f":"IF(B863=\"\",\"\",LOOKUP(B863,Spiele!B:B,Spiele!D:D))","v":""},{"$f":"IF(B863=\"\",\"\",LOOKUP(B863,Spiele!B:B,Spiele!E:E))","v":""},{"$f":"IF(B863=\"\",\"\",LOOKUP(B863,Spiele!B:B,Spiele!F:F))","v":""},"","","",null,null,-1,-1,1,0]
[null,null,{"$f":"IF(B864=\"\",\"\",LOOKUP(B864,Spiele!B:B,Spiele!C:C))","v":""},{"$f":"IF(B864=\"\",\"\",LOOKUP(B864,Spiele!B:B,Spiele!D:D))","v":""},{"$f":"IF(B864=\"\",\"\",LOOKUP(B864,Spiele!B:B,Spiele!E:E))","v":""},{"$f":"IF(B864=\"\",\"\",LOOKUP(B864,Spiele!B:B,Spiele!F:F))","v":""},"","","",null,null,-1,-1,1,0]
[null,null,{"$f":"IF(B865=\"\",\"\",LOOKUP(B865,Spiele!B:B,Spiele!C:C))","v":""},{"$f":"IF(B865=\"\",\"\",LOOKUP(B865,Spiele!B:B,Spiele!D:D))","v":""},{"$f":"IF(B865=\"\",\"\",LOOKUP(B865,Spiele!B:B,Spiele!E:E))","v":""},{"$f":"IF(B865=\"\",\"\",LOOKUP(B865,Spiele!B:B,Spiele!F:F))","v":""},"","","",null,null,-1,-1,1,0]
[null,null,{"$f":"IF(B866=\"\",\"\",LOOKUP(B866,Spiele!B:B,Spiele!C:C))","v":""},{"$f":"IF(B866=\"\",\"\",LOOKUP(B866,Spiele!B:B,Spiele!D:D))","v":""},{"$f":"IF(B866=\"\",\"\",LOOKUP(B866,Spiele!B:B,Spiele!E:E))","v":""},{"$f":"IF(B866=\"\",\"\",LOOKUP(B866,Spiele!B:B,Spiele!F:F))","v":""},"","","",null,null,-1,-1,1,0]
[null,null,{"$f":"IF(B867=\"\",\"\",LOOKUP(B867,Spiele!B:B,Spiele!C:C))","v":""},{"$f":"IF(B867=\"\",\"\",LOOKUP(B867,Spiele!B:B,Spiele!D:D))","v":""},{"$f":"IF(B867=\"\",\"\",LOOKUP(B867,Spiele!B:B,Spiele!E:E))","v":""},{"$f":"IF(B867=\"\",\"\",LOOKUP(B867,Spiele!B:B,Spiele!F:F))","v":""},"","","",null,null,-1,-1,1,0]
[null,null,{"$f":"IF(B868=\"\",\"\",LOOKUP(B868,Spiele!B:B,Spiele!C:C))","v":""},{"$f":"IF(B868=\"\",\"\",LOOKUP(B868,Spiele!B:B,Spiele!D:D))","v":""},{"$f":"IF(B868=\"\",\"\",LOOKUP(B868,Spiele!B:B,Spiele!E:E))","v":""},{"$f":"IF(B868=\"\",\"\",LOOKUP(B868,Spiele!B:B,Spiele!F:F))","v":""},"","","",null,null,-1,-1,1,0]
[null,null,{"$f":"IF(B869=\"\",\"\",LOOKUP(B869,Spiele!B:B,Spiele!C:C))","v":""},{"$f":"IF(B869=\"\",\"\",LOOKUP(B869,Spiele!B:B,Spiele!D:D))","v":""},{"$f":"IF(B869=\"\",\"\",LOOKUP(B869,Spiele!B:B,Spiele!E:E))","v":""},{"$f":"IF(B869=\"\",\"\",LOOKUP(B869,Spiele!B:B,Spiele!F:F))","v":""},"","","",null,null,-1,-1,1,0]
[null,null,{"$f":"IF(B870=\"\",\"\",LOOKUP(B870,Spiele!B:B,Spiele!C:C))","v":""},{"$f":"IF(B870=\"\",\"\",LOOKUP(B870,Spiele!B:B,Spiele!D:D))","v":""},{"$f":"IF(B870=\"\",\"\",LOOKUP(B870,Spiele!B:B,Spiele!E:E))","v":""},{"$f":"IF(B870=\"\",\"\",LOOKUP(B870,Spiele!B:B,Spiele!F:F))","v":""},"","","",null,null,-1,-1,1,0]
[null,null,{"$f":"IF(B871=\"\",\"\",LOOKUP(B871,Spiele!B:B,Spiele!C:C))","v":""},{"$f":"IF(B871=\"\",\"\",LOOKUP(B871,Spiele!B:B,Spiele!D:D))","v":""},{"$f":"IF(B871=\"\",\"\",LOOKUP(B871,Spiele!B:B,Spiele!E:E))","v":""},{"$f":"IF(B871=\"\",\"\",LOOKUP(B871,Spiele!B:B,Spiele!F:F))","v":""},"","","",null,null,-1,-1,1,0]
[null,null,{"$f":"IF(B872=\"\",\"\",LOOKUP(B872,Spiele!B:B,Spiele!C:C))","v":""},{"$f":"IF(B872=\"\",\"\",LOOKUP(B872,Spiele!B:B,Spiele!D:D))","v":""},{"$f":"IF(B872=\"\",\"\",LOOKUP(B872,Spiele!B:B,Spiele!E:E))","v":""},{"$f":"IF(B872=\"\",\"\",LOOKUP(B872,Spiele!B:B,Spiele!F:F))","v":""},"","","",null,null,-1,-1,1,0]
[null,null,{"$f":"IF(B873=\"\",\"\",LOOKUP(B873,Spiele!B:B,Spiele!C:C))","v":""},{"$f":"IF(B873=\"\",\"\",LOOKUP(B873,Spiele!B:B,Spiele!D:D))","v":""},{"$f":"IF(B873=\"\",\"\",LOOKUP(B873,Spiele!B:B,Spiele!E:E))","v":""},{"$f":"IF(B873=\"\",\"\",LOOKUP(B873,Spiele!B:B,Spiele!F:F))","v":""},"","","",null,null,-1,-1,1,0]
[null,null,{"$f":"IF(B874=\"\",\"\",LOOKUP(B874,Spiele!B:B,Spiele!C:C))","v":""},{"$f":"IF(B874=\"\",\"\",LOOKUP(B874,Spiele!B:B,Spiele!D:D))","v":""},{"$f":"IF(B874=\"\",\"\",LOOKUP(B874,Spiele!B:B,Spiele!E:E))","v":""},{"$f":"IF(B874=\"\",\"\",LOOKUP(B874,Spiele!B:B,Spiele!F:F))","v":""},"","","",null,null,-1,-1,1,0]
[null,null,{"$f":"IF(B875=\"\",\"\",LOOKUP(B875,Spiele!B:B,Spiele!C:C))","v":""},{"$f":"IF(B875=\"\",\"\",LOOKUP(B875,Spiele!B:B,Spiele!D:D))","v":""},{"$f":"IF(B875=\"\",\"\",LOOKUP(B875,Spiele!B:B,Spiele!E:E))","v":""},{"$f":"IF(B875=\"\",\"\",LOOKUP(B875,Spiele!B:B,Spiele!F:F))","v":""},"","","",null,null,-1,-1,1,0]
[null,null,{"$f":"IF(B876=\"\",\"\",LOOKUP(B876,Spiele!B:B,Spiele!C:C))","v":""},{"$f":"IF(B876=\"\",\"\",LOOKUP(B876,Spiele!B:B,Spiele!D:D))","v":""},{"$f":"IF(B876=\"\",\"\",LOOKUP(B876,Spiele!B:B,Spiele!E:E))","v":""},{"$f":"IF(B876=\"\",\"\",LOOKUP(B876,Spiele!B:B,Spiele!F:F))","v":""},"","","",null,null,-1,-1,1,0]
[null,null,{"$f":"IF(B877=\"\",\"\",LOOKUP(B877,Spiele!B:B,Spiele!C:C))","v":""},{"$f":"IF(B877=\"\",\"\",LOOKUP(B877,Spiele!B:B,Spiele!D:D))","v":""},{"$f":"IF(B877=\"\",\"\",LOOKUP(B877,Spiele!B:B,Spiele!E:E))","v":""},{"$f":"IF(B877=\"\",\"\",LOOKUP(B877,Spiele!B:B,Spiele!F:F))","v":""},"","","",null,null,-1,-1,1,0]
[null,null,{"$f":"IF(B878=\"\",\"\",LOOKUP(B878,Spiele!B:B,Spiele!C:C))","v":""},{"$f":"IF(B878=\"\",\"\",LOOKUP(B878,Spiele!B:B,Spiele!D:D))","v":""},{"$f":"IF(B878=\"\",\"\",LOOKUP(B878,Spiele!B:B,Spiele!E:E))","v":""},{"$f":"IF(B878=\"\",\"\",LOOKUP(B878,Spiele!B:B,Spiele!F:F))","v":""},"","","",null,null,-1,-1,1,0]
[null,null,{"$f":"IF(B879=\"\",\"\",LOOKUP(B879,Spiele!B:B,Spiele!C:C))","v":""},{"$f":"IF(B879=\"\",\"\",LOOKUP(B879,Spiele!B:B,Spiele!D:D))","v":""},{"$f":"IF(B879=\"\",\"\",LOOKUP(B879,Spiele!B:B,Spiele!E:E))","v":""},{"$f":"IF(B879=\"\",\"\",LOOKUP(B879,Spiele!B:B,Spiele!F:F))","v":""},"","","",null,null,-1,-1,1,0]
[null,null,{"$f":"IF(B880=\"\",\"\",LOOKUP(B880,Spiele!B:B,Spiele!C:C))","v":""},{"$f":"IF(B880=\"\",\"\",LOOKUP(B880,Spiele!B:B,Spiele!D:D))","v":""},{"$f":"IF(B880=\"\",\"\",LOOKUP(B880,Spiele!B:B,Spiele!E:E))","v":""},{"$f":"IF(B880=\"\",\"\",LOOKUP(B880,Spiele!B:B,Spiele!F:F))","v":""},"","","",null,null,-1,-1,1,0]
[null,null,{"$f":"IF(B881=\"\",\"\",LOOKUP(B881,Spiele!B:B,Spiele!C:C))","v":""},{"$f":"IF(B881=\"\",\"\",LOOKUP(B881,Spiele!B:B,Spiele!D:D))","v":""},{"$f":"IF(B881=\"\",\"\",LOOKUP(B881,Spiele!B:B,Spiele!E:E))","v":""},{"$f":"IF(B881=\"\",\"\",LOOKUP(B881,Spiele!B:B,Spiele!F:F))","v":""},"","","",null,null,-1,-1,1,0]
[null,null,{"$f":"IF(B882=\"\",\"\",LOOKUP(B882,Spiele!B:B,Spiele!C:C))","v":""},{"$f":"IF(B882=\"\",\"\",LOOKUP(B882,Spiele!B:B,Spiele!D:D))","v":""},{"$f":"IF(B882=\"\",\"\",LOOKUP(B882,Spiele!B:B,Spiele!E:E))","v":""},{"$f":"IF(B882=\"\",\"\",LOOKUP(B882,Spiele!B:B,Spiele!F:F))","v":""},"","","",null,null,-1,-1,1,0]
[null,null,{"$f":"IF(B883=\"\",\"\",LOOKUP(B883,Spiele!B:B,Spiele!C:C))","v":""},{"$f":"IF(B883=\"\",\"\",LOOKUP(B883,Spiele!B:B,Spiele!D:D))","v":""},{"$f":"IF(B883=\"\",\"\",LOOKUP(B883,Spiele!B:B,Spiele!E:E))","v":""},{"$f":"IF(B883=\"\",\"\",LOOKUP(B883,Spiele!B:B,Spiele!F:F))","v":""},"","","",null,null,-1,-1,1,0]
[null,null,{"$f":"IF(B884=\"\",\"\",LOOKUP(B884,Spiele!B:B,Spiele!C:C))","v":""},{"$f":"IF(B884=\"\",\"\",LOOKUP(B884,Spiele!B:B,Spiele!D:D))","v":""},{"$f":"IF(B884=\"\",\"\",LOOKUP(B884,Spiele!B:B,Spiele!E:E))","v":""},{"$f":"IF(B884=\"\",\"\",LOOKUP(B884,Spiele!B:B,Spiele!F:F))","v":""},"","","",null,null,-1,-1,1,0]
[null,null,{"$f":"IF(B885=\"\",\"\",LOOKUP(B885,Spiele!B:B,Spiele!C:C))","v":""},{"$f":"IF(B885=\"\",\"\",LOOKUP(B885,Spiele!B:B,Spiele!D:D))","v":""},{"$f":"IF(B885=\"\",\"\",LOOKUP(B885,Spiele!B:B,Spiele!E:E))","v":""},{"$f":"IF(B885=\"\",\"\",LOOKUP(B885,Spiele!B:B,Spiele!F:F))","v":""},"","","",null,null,-1,-1,1,0]
[null,null,{"$f":"IF(B886=\"\",\"\",LOOKUP(B886,Spiele!B:B,Spiele!C:C))","v":""},{"$f":"IF(B886=\"\",\"\",LOOKUP(B886,Spiele!B:B,Spiele!D:D))","v":""},{"$f":"IF(B886=\"\",\"\",LOOKUP(B886,Spiele!B:B,Spiele!E:E))","v":""},{"$f":"IF(B886=\"\",\"\",LOOKUP(B886,Spiele!B:B,Spiele!F:F))","v":""},"","","",null,null,-1,-1,1,0]
[null,null,{"$f":"IF(B887=\"\",\"\",LOOKUP(B887,Spiele!B:B,Spiele!C:C))","v":""},{"$f":"IF(B887=\"\",\"\",LOOKUP(B887,Spiele!B:B,Spiele!D:D))","v":""},{"$f":"IF(B887=\"\",\"\",LOOKUP(B887,Spiele!B:B,Spiele!E:E))","v":""},{"$f":"IF(B887=\"\",\"\",LOOKUP(B887,Spiele!B:B,Spiele!F:F))","v":""},"","","",null,null,-1,-1,1,0]
[null,null,{"$f":"IF(B888=\"\",\"\",LOOKUP(B888,Spiele!B:B,Spiele!C:C))","v":""},{"$f":"IF(B888=\"\",\"\",LOOKUP(B888,Spiele!B:B,Spiele!D:D))","v":""},{"$f":"IF(B888=\"\",\"\",LOOKUP(B888,Spiele!B:B,Spiele!E:E))","v":""},{"$f":"IF(B888=\"\",\"\",LOOKUP(B888,Spiele!B:B,Spiele!F:F))","v":""},"","","",null,null,-1,-1,1,0]
[null,null,{"$f":"IF(B889=\"\",\"\",LOOKUP(B889,Spiele!B:B,Spiele!C:C))","v":""},{"$f":"IF(B889=\"\",\"\",LOOKUP(B889,Spiele!B:B,Spiele!D:D))","v":""},{"$f":"IF(B889=\"\",\"\",LOOKUP(B889,Spiele!B:B,Spiele!E:E))","v":""},{"$f":"IF(B889=\"\",\"\",LOOKUP(B889,Spiele!B:B,Spiele!F:F))","v":""},"","","",null,null,-1,-1,1,0]
[null,null,{"$f":"IF(B890=\"\",\"\",LOOKUP(B890,Spiele!B:B,Spiele!C:C))","v":""},{"$f":"IF(B890=\"\",\"\",LOOKUP(B890,Spiele!B:B,Spiele!D:D))","v":""},{"$f":"IF(B890=\"\",\"\",LOOKUP(B890,Spiele!B:B,Spiele!E:E))","v":""},{"$f":"IF(B890=\"\",\"\",LOOKUP(B890,Spiele!B:B,Spiele!F:F))","v":""},"","","",null,null,-1,-1,1,0]
[null,null,{"$f":"IF(B891=\"\",\"\",LOOKUP(B891,Spiele!B:B,Spiele!C:C))","v":""},{"$f":"IF(B891=\"\",\"\",LOOKUP(B891,Spiele!B:B,Spiele!D:D))","v":""},{"$f":"IF(B891=\"\",\"\",LOOKUP(B891,Spiele!B:B,Spiele!E:E))","v":""},{"$f":"IF(B891=\"\",\"\",LOOKUP(B891,Spiele!B:B,Spiele!F:F))","v":""},"","","",null,null,-1,-1,1,0]
[null,null,{"$f":"IF(B892=\"\",\"\",LOOKUP(B892,Spiele!B:B,Spiele!C:C))","v":""},{"$f":"IF(B892=\"\",\"\",LOOKUP(B892,Spiele!B:B,Spiele!D:D))","v":""},{"$f":"IF(B892=\"\",\"\",LOOKUP(B892,Spiele!B:B,Spiele!E:E))","v":""},{"$f":"IF(B892=\"\",\"\",LOOKUP(B892,Spiele!B:B,Spiele!F:F))","v":""},"","","",null,null,-1,-1,1,0]
[null,null,{"$f":"IF(B893=\"\",\"\",LOOKUP(B893,Spiele!B:B,Spiele!C:C))","v":""},{"$f":"IF(B893=\"\",\"\",LOOKUP(B893,Spiele!B:B,Spiele!D:D))","v":""},{"$f":"IF(B893=\"\",\"\",LOOKUP(B893,Spiele!B:B,Spiele!E:E))","v":""},{"$f":"IF(B893=\"\",\"\",LOOKUP(B893,Spiele!B:B,Spiele!F:F))","v":""},"","","",null,null,-1,-1,1,0]
[null,null,{"$f":"IF(B894=\"\",\"\",LOOKUP(B894,Spiele!B:B,Spiele!C:C))","v":""},{"$f":"IF(B894=\"\",\"\",LOOKUP(B894,Spiele!B:B,Spiele!D:D))","v":""},{"$f":"IF(B894=\"\",\"\",LOOKUP(B894,Spiele!B:B,Spiele!E:E))","v":""},{"$f":"IF(B894=\"\",\"\",LOOKUP(B894,Spiele!B:B,Spiele!F:F))","v":""},"","","",null,null,-1,-1,1,0]
[null,null,{"$f":"IF(B895=\"\",\"\",LOOKUP(B895,Spiele!B:B,Spiele!C:C))","v":""},{"$f":"IF(B895=\"\",\"\",LOOKUP(B895,Spiele!B:B,Spiele!D:D))","v":""},{"$f":"IF(B895=\"\",\"\",LOOKUP(B895,Spiele!B:B,Spiele!E:E))","v":""},{"$f":"IF(B895=\"\",\"\",LOOKUP(B895,Spiele!B:B,Spiele!F:F))","v":""},"","","",null,null,-1,-1,1,0]
[null,null,{"$f":"IF(B896=\"\",\"\",LOOKUP(B896,Spiele!B:B,Spiele!C:C))","v":""},{"$f":"IF(B896=\"\",\"\",LOOKUP(B896,Spiele!B:B,Spiele!D:D))","v":""},{"$f":"IF(B896=\"\",\"\",LOOKUP(B896,Spiele!B:B,Spiele!E:E))","v":""},{"$f":"IF(B896=\"\",\"\",LOOKUP(B896,Spiele!B:B,Spiele!F:F))","v":""},"","","",null,null,-1,-1,1,0]
[null,null,{"$f":"IF(B897=\"\",\"\",LOOKUP(B897,Spiele!B:B,Spiele!C:C))","v":""},{"$f":"IF(B897=\"\",\"\",LOOKUP(B897,Spiele!B:B,Spiele!D:D))","v":""},{"$f":"IF(B897=\"\",\"\",LOOKUP(B897,Spiele!B:B,Spiele!E:E))","v":""},{"$f":"IF(B897=\"\",\"\",LOOKUP(B897,Spiele!B:B,Spiele!F:F))","v":""},"","","",null,null,-1,-1,1,0]
[null,null,{"$f":"IF(B898=\"\",\"\",LOOKUP(B898,Spiele!B:B,Spiele!C:C))","v":""},{"$f":"IF(B898=\"\",\"\",LOOKUP(B898,Spiele!B:B,Spiele!D:D))","v":""},{"$f":"IF(B898=\"\",\"\",LOOKUP(B898,Spiele!B:B,Spiele!E:E))","v":""},{"$f":"IF(B898=\"\",\"\",LOOKUP(B898,Spiele!B:B,Spiele!F:F))","v":""},"","","",null,null,-1,-1,1,0]
[null,null,{"$f":"IF(B899=\"\",\"\",LOOKUP(B899,Spiele!B:B,Spiele!C:C))","v":""},{"$f":"IF(B899=\"\",\"\",LOOKUP(B899,Spiele!B:B,Spiele!D:D))","v":""},{"$f":"IF(B899=\"\",\"\",LOOKUP(B899,Spiele!B:B,Spiele!E:E))","v":""},{"$f":"IF(B899=\"\",\"\",LOOKUP(B899,Spiele!B:B,Spiele!F:F))","v":""},"","","",null,null,-1,-1,1,0]
[null,null,{"$f":"IF(B900=\"\",\"\",LOOKUP(B900,Spiele!B:B,Spiele!C:C))","v":""},{"$f":"IF(B900=\"\",\"\",LOOKUP(B900,Spiele!B:B,Spiele!D:D))","v":""},{"$f":"IF(B900=\"\",\"\",LOOKUP(B900,Spiele!B:B,Spiele!E:E))","v":""},{"$f":"IF(B900=\"\",\"\",LOOKUP(B900,Spiele!B:B,Spiele!F:F))","v":""},"","","",null,null,-1,-1,1,0]
[null,null,{"$f":"IF(B901=\"\",\"\",LOOKUP(B901,Spiele!B:B,Spiele!C:C))","v":""},{"$f":"IF(B901=\"\",\"\",LOOKUP(B901,Spiele!B:B,Spiele!D:D))","v":""},{"$f":"IF(B901=\"\",\"\",LOOKUP(B901,Spiele!B:B,Spiele!E:E))","v":""},{"$f":"IF(B901=\"\",\"\",LOOKUP(B901,Spiele!B:B,Spiele!F:F))","v":""},"","","",null,null,-1,-1,1,0]
[null,null,{"$f":"IF(B902=\"\",\"\",LOOKUP(B902,Spiele!B:B,Spiele!C:C))","v":""},{"$f":"IF(B902=\"\",\"\",LOOKUP(B902,Spiele!B:B,Spiele!D:D))","v":""},{"$f":"IF(B902=\"\",\"\",LOOKUP(B902,Spiele!B:B,Spiele!E:E))","v":""},{"$f":"IF(B902=\"\",\"\",LOOKUP(B902,Spiele!B:B,Spiele!F:F))","v":""},"","","",null,null,-1,-1,1,0]
[null,null,{"$f":"IF(B903=\"\",\"\",LOOKUP(B903,Spiele!B:B,Spiele!C:C))","v":""},{"$f":"IF(B903=\"\",\"\",LOOKUP(B903,Spiele!B:B,Spiele!D:D))","v":""},{"$f":"IF(B903=\"\",\"\",LOOKUP(B903,Spiele!B:B,Spiele!E:E))","v":""},{"$f":"IF(B903=\"\",\"\",LOOKUP(B903,Spiele!B:B,Spiele!F:F))","v":""},"","","",null,null,-1,-1,1,0]
[null,null,{"$f":"IF(B904=\"\",\"\",LOOKUP(B904,Spiele!B:B,Spiele!C:C))","v":""},{"$f":"IF(B904=\"\",\"\",LOOKUP(B904,Spiele!B:B,Spiele!D:D))","v":""},{"$f":"IF(B904=\"\",\"\",LOOKUP(B904,Spiele!B:B,Spiele!E:E))","v":""},{"$f":"IF(B904=\"\",\"\",LOOKUP(B904,Spiele!B:B,Spiele!F:F))","v":""},{"$f":"IF(E904=\"\",\"\",IF(E904>F904,1,0))","v":""},{"$f":"IF(F904=\"\",\"\",IF(E904<F904,1,0))","v":""},{"$f":"IF(E904=\"\",\"\",IF(E904=F904,1,0))","v":""},null,null,{"$f":"IF(E904=\"\",-1,IF(J904>K904,1,-1))","v":-1},{"$f":"IF(F904=\"\",-1,IF(J904<K904,1,-1))","v":-1},1,{"$f":"IF(E904=\"\",0,IF(E904=J904,1,0)+IF(F904=K904,1,0)+IF(G904=L904,1,0)+IF(H904=M904,1,0)+IF(I904=N904,1,0))","v":0}]
[null,null,{"$f":"IF(B905=\"\",\"\",LOOKUP(B905,Spiele!B:B,Spiele!C:C))","v":""},{"$f":"IF(B905=\"\",\"\",LOOKUP(B905,Spiele!B:B,Spiele!D:D))","v":""},{"$f":"IF(B905=\"\",\"\",LOOKUP(B905,Spiele!B:B,Spiele!E:E))","v":""},{"$f":"IF(B905=\"\",\"\",LOOKUP(B905,Spiele!B:B,Spiele!F:F))","v":""},"","","",null,null,-1,-1,1,0]
[null,null,{"$f":"IF(B906=\"\",\"\",LOOKUP(B906,Spiele!B:B,Spiele!C:C))","v":""},{"$f":"IF(B906=\"\",\"\",LOOKUP(B906,Spiele!B:B,Spiele!D:D))","v":""},{"$f":"IF(B906=\"\",\"\",LOOKUP(B906,Spiele!B:B,Spiele!E:E))","v":""},{"$f":"IF(B906=\"\",\"\",LOOKUP(B906,Spiele!B:B,Spiele!F:F))","v":""},"","","",null,null,-1,-1,1,0]
[null,null,{"$f":"IF(B907=\"\",\"\",LOOKUP(B907,Spiele!B:B,Spiele!C:C))","v":""},{"$f":"IF(B907=\"\",\"\",LOOKUP(B907,Spiele!B:B,Spiele!D:D))","v":""},{"$f":"IF(B907=\"\",\"\",LOOKUP(B907,Spiele!B:B,Spiele!E:E))","v":""},{"$f":"IF(B907=\"\",\"\",LOOKUP(B907,Spiele!B:B,Spiele!F:F))","v":""},"","","",null,null,-1,-1,1,0]
[null,null,{"$f":"IF(B908=\"\",\"\",LOOKUP(B908,Spiele!B:B,Spiele!C:C))","v":""},{"$f":"IF(B908=\"\",\"\",LOOKUP(B908,Spiele!B:B,Spiele!D:D))","v":""},{"$f":"IF(B908=\"\",\"\",LOOKUP(B908,Spiele!B:B,Spiele!E:E))","v":""},{"$f":"IF(B908=\"\",\"\",LOOKUP(B908,Spiele!B:B,Spiele!F:F))","v":""},"","","",null,null,-1,-1,1,0]
[null,null,{"$f":"IF(B909=\"\",\"\",LOOKUP(B909,Spiele!B:B,Spiele!C:C))","v":""},{"$f":"IF(B909=\"\",\"\",LOOKUP(B909,Spiele!B:B,Spiele!D:D))","v":""},{"$f":"IF(B909=\"\",\"\",LOOKUP(B909,Spiele!B:B,Spiele!E:E))","v":""},{"$f":"IF(B909=\"\",\"\",LOOKUP(B909,Spiele!B:B,Spiele!F:F))","v":""},"","","",null,null,-1,-1,1,0]
[null,null,{"$f":"IF(B910=\"\",\"\",LOOKUP(B910,Spiele!B:B,Spiele!C:C))","v":""},{"$f":"IF(B910=\"\",\"\",LOOKUP(B910,Spiele!B:B,Spiele!D:D))","v":""},{"$f":"IF(B910=\"\",\"\",LOOKUP(B910,Spiele!B:B,Spiele!E:E))","v":""},{"$f":"IF(B910=\"\",\"\",LOOKUP(B910,Spiele!B:B,Spiele!F:F))","v":""},"","","",null,null,-1,-1,1,0]
[null,null,{"$f":"IF(B911=\"\",\"\",LOOKUP(B911,Spiele!B:B,Spiele!C:C))","v":""},{"$f":"IF(B911=\"\",\"\",LOOKUP(B911,Spiele!B:B,Spiele!D:D))","v":""},{"$f":"IF(B911=\"\",\"\",LOOKUP(B911,Spiele!B:B,Spiele!E:E))","v":""},{"$f":"IF(B911=\"\",\"\",LOOKUP(B911,Spiele!B:B,Spiele!F:F))","v":""},"","","",null,null,-1,-1,1,0]
[null,null,{"$f":"IF(B912=\"\",\"\",LOOKUP(B912,Spiele!B:B,Spiele!C:C))","v":""},{"$f":"IF(B912=\"\",\"\",LOOKUP(B912,Spiele!B:B,Spiele!D:D))","v":""},{"$f":"IF(B912=\"\",\"\",LOOKUP(B912,Spiele!B:B,Spiele!E:E))","v":""},{"$f":"IF(B912=\"\",\"\",LOOKUP(B912,Spiele!B:B,Spiele!F:F))","v":""},"","","",null,null,-1,-1,{"$f":"IF(E912=\"-\",-1,IF(J912=K912,1,-1))","v":1},0]
[null,null,{"$f":"IF(B913=\"\",\"\",LOOKUP(B913,Spiele!B:B,Spiele!C:C))","v":""},{"$f":"IF(B913=\"\",\"\",LOOKUP(B913,Spiele!B:B,Spiele!D:D))","v":""},{"$f":"IF(B913=\"\",\"\",LOOKUP(B913,Spiele!B:B,Spiele!E:E))","v":""},{"$f":"IF(B913=\"\",\"\",LOOKUP(B913,Spiele!B:B,Spiele!F:F))","v":""},"","","",null,null,-1,-1,1,0]
[null,null,{"$f":"IF(B914=\"\",\"\",LOOKUP(B914,Spiele!B:B,Spiele!C:C))","v":""},{"$f":"IF(B914=\"\",\"\",LOOKUP(B914,Spiele!B:B,Spiele!D:D))","v":""},{"$f":"IF(B914=\"\",\"\",LOOKUP(B914,Spiele!B:B,Spiele!E:E))","v":""},{"$f":"IF(B914=\"\",\"\",LOOKUP(B914,Spiele!B:B,Spiele!F:F))","v":""},"","","",null,null,-1,-1,1,0]
[null,null,{"$f":"IF(B915=\"\",\"\",LOOKUP(B915,Spiele!B:B,Spiele!C:C))","v":""},{"$f":"IF(B915=\"\",\"\",LOOKUP(B915,Spiele!B:B,Spiele!D:D))","v":""},{"$f":"IF(B915=\"\",\"\",LOOKUP(B915,Spiele!B:B,Spiele!E:E))","v":""},{"$f":"IF(B915=\"\",\"\",LOOKUP(B915,Spiele!B:B,Spiele!F:F))","v":""},"","","",null,null,-1,-1,1,0]
[null,null,{"$f":"IF(B916=\"\",\"\",LOOKUP(B916,Spiele!B:B,Spiele!C:C))","v":""},{"$f":"IF(B916=\"\",\"\",LOOKUP(B916,Spiele!B:B,Spiele!D:D))","v":""},{"$f":"IF(B916=\"\",\"\",LOOKUP(B916,Spiele!B:B,Spiele!E:E))","v":""},{"$f":"IF(B916=\"\",\"\",LOOKUP(B916,Spiele!B:B,Spiele!F:F))","v":""},"","","",null,null,-1,-1,1,0]
[null,null,{"$f":"IF(B917=\"\",\"\",LOOKUP(B917,Spiele!B:B,Spiele!C:C))","v":""},{"$f":"IF(B917=\"\",\"\",LOOKUP(B917,Spiele!B:B,Spiele!D:D))","v":""},{"$f":"IF(B917=\"\",\"\",LOOKUP(B917,Spiele!B:B,Spiele!E:E))","v":""},{"$f":"IF(B917=\"\",\"\",LOOKUP(B917,Spiele!B:B,Spiele!F:F))","v":""},"","","",null,null,-1,-1,1,0]
[null,null,{"$f":"IF(B918=\"\",\"\",LOOKUP(B918,Spiele!B:B,Spiele!C:C))","v":""},{"$f":"IF(B918=\"\",\"\",LOOKUP(B918,Spiele!B:B,Spiele!D:D))","v":""},{"$f":"IF(B918=\"\",\"\",LOOKUP(B918,Spiele!B:B,Spiele!E:E))","v":""},{"$f":"IF(B918=\"\",\"\",LOOKUP(B918,Spiele!B:B,Spiele!F:F))","v":""},"","","",null,null,-1,-1,1,0]
[null,null,{"$f":"IF(B919=\"\",\"\",LOOKUP(B919,Spiele!B:B,Spiele!C:C))","v":""},{"$f":"IF(B919=\"\",\"\",LOOKUP(B919,Spiele!B:B,Spiele!D:D))","v":""},{"$f":"IF(B919=\"\",\"\",LOOKUP(B919,Spiele!B:B,Spiele!E:E))","v":""},{"$f":"IF(B919=\"\",\"\",LOOKUP(B919,Spiele!B:B,Spiele!F:F))","v":""},"","","",null,null,-1,-1,1,0]
[null,null,{"$f":"IF(B920=\"\",\"\",LOOKUP(B920,Spiele!B:B,Spiele!C:C))","v":""},{"$f":"IF(B920=\"\",\"\",LOOKUP(B920,Spiele!B:B,Spiele!D:D))","v":""},{"$f":"IF(B920=\"\",\"\",LOOKUP(B920,Spiele!B:B,Spiele!E:E))","v":""},{"$f":"IF(B920=\"\",\"\",LOOKUP(B920,Spiele!B:B,Spiele!F:F))","v":""},"","","",null,null,-1,-1,1,0]
[null,null,{"$f":"IF(B921=\"\",\"\",LOOKUP(B921,Spiele!B:B,Spiele!C:C))","v":""},{"$f":"IF(B921=\"\",\"\",LOOKUP(B921,Spiele!B:B,Spiele!D:D))","v":""},{"$f":"IF(B921=\"\",\"\",LOOKUP(B921,Spiele!B:B,Spiele!E:E))","v":""},{"$f":"IF(B921=\"\",\"\",LOOKUP(B921,Spiele!B:B,Spiele!F:F))","v":""},"","","",null,null,-1,-1,1,0]
[null,null,{"$f":"IF(B922=\"\",\"\",LOOKUP(B922,Spiele!B:B,Spiele!C:C))","v":""},{"$f":"IF(B922=\"\",\"\",LOOKUP(B922,Spiele!B:B,Spiele!D:D))","v":""},{"$f":"IF(B922=\"\",\"\",LOOKUP(B922,Spiele!B:B,Spiele!E:E))","v":""},{"$f":"IF(B922=\"\",\"\",LOOKUP(B922,Spiele!B:B,Spiele!F:F))","v":""},"","","",null,null,-1,-1,1,0]
[null,null,{"$f":"IF(B923=\"\",\"\",LOOKUP(B923,Spiele!B:B,Spiele!C:C))","v":""},{"$f":"IF(B923=\"\",\"\",LOOKUP(B923,Spiele!B:B,Spiele!D:D))","v":""},{"$f":"IF(B923=\"\",\"\",LOOKUP(B923,Spiele!B:B,Spiele!E:E))","v":""},{"$f":"IF(B923=\"\",\"\",LOOKUP(B923,Spiele!B:B,Spiele!F:F))","v":""},"","","",null,null,-1,-1,1,0]
[null,null,{"$f":"IF(B924=\"\",\"\",LOOKUP(B924,Spiele!B:B,Spiele!C:C))","v":""},{"$f":"IF(B924=\"\",\"\",LOOKUP(B924,Spiele!B:B,Spiele!D:D))","v":""},{"$f":"IF(B924=\"\",\"\",LOOKUP(B924,Spiele!B:B,Spiele!E:E))","v":""},{"$f":"IF(B924=\"\",\"\",LOOKUP(B924,Spiele!B:B,Spiele!F:F))","v":""},"","","",null,null,-1,-1,1,0]
[null,null,{"$f":"IF(B925=\"\",\"\",LOOKUP(B925,Spiele!B:B,Spiele!C:C))","v":""},{"$f":"IF(B925=\"\",\"\",LOOKUP(B925,Spiele!B:B,Spiele!D:D))","v":""},{"$f":"IF(B925=\"\",\"\",LOOKUP(B925,Spiele!B:B,Spiele!E:E))","v":""},{"$f":"IF(B925=\"\",\"\",LOOKUP(B925,Spiele!B:B,Spiele!F:F))","v":""},"","","",null,null,-1,-1,1,0]
[null,null,{"$f":"IF(B926=\"\",\"\",LOOKUP(B926,Spiele!B:B,Spiele!C:C))","v":""},{"$f":"IF(B926=\"\",\"\",LOOKUP(B926,Spiele!B:B,Spiele!D:D))","v":""},{"$f":"IF(B926=\"\",\"\",LOOKUP(B926,Spiele!B:B,Spiele!E:E))","v":""},{"$f":"IF(B926=\"\",\"\",LOOKUP(B926,Spiele!B:B,Spiele!F:F))","v":""},"","","",null,null,-1,-1,1,0]
[null,null,{"$f":"IF(B927=\"\",\"\",LOOKUP(B927,Spiele!B:B,Spiele!C:C))","v":""},{"$f":"IF(B927=\"\",\"\",LOOKUP(B927,Spiele!B:B,Spiele!D:D))","v":""},{"$f":"IF(B927=\"\",\"\",LOOKUP(B927,Spiele!B:B,Spiele!E:E))","v":""},{"$f":"IF(B927=\"\",\"\",LOOKUP(B927,Spiele!B:B,Spiele!F:F))","v":""},"","","",null,null,-1,-1,1,0]
[null,null,{"$f":"IF(B928=\"\",\"\",LOOKUP(B928,Spiele!B:B,Spiele!C:C))","v":""},{"$f":"IF(B928=\"\",\"\",LOOKUP(B928,Spiele!B:B,Spiele!D:D))","v":""},{"$f":"IF(B928=\"\",\"\",LOOKUP(B928,Spiele!B:B,Spiele!E:E))","v":""},{"$f":"IF(B928=\"\",\"\",LOOKUP(B928,Spiele!B:B,Spiele!F:F))","v":""},"","","",null,null,-1,-1,1,0]
[null,null,{"$f":"IF(B929=\"\",\"\",LOOKUP(B929,Spiele!B:B,Spiele!C:C))","v":""},{"$f":"IF(B929=\"\",\"\",LOOKUP(B929,Spiele!B:B,Spiele!D:D))","v":""},{"$f":"IF(B929=\"\",\"\",LOOKUP(B929,Spiele!B:B,Spiele!E:E))","v":""},{"$f":"IF(B929=\"\",\"\",LOOKUP(B929,Spiele!B:B,Spiele!F:F))","v":""},"","","",null,null,-1,-1,1,0]
[null,null,{"$f":"IF(B930=\"\",\"\",LOOKUP(B930,Spiele!B:B,Spiele!C:C))","v":""},{"$f":"IF(B930=\"\",\"\",LOOKUP(B930,Spiele!B:B,Spiele!D:D))","v":""},{"$f":"IF(B930=\"\",\"\",LOOKUP(B930,Spiele!B:B,Spiele!E:E))","v":""},{"$f":"IF(B930=\"\",\"\",LOOKUP(B930,Spiele!B:B,Spiele!F:F))","v":""},"","","",null,null,-1,-1,1,0]
[null,null,{"$f":"IF(B931=\"\",\"\",LOOKUP(B931,Spiele!B:B,Spiele!C:C))","v":""},{"$f":"IF(B931=\"\",\"\",LOOKUP(B931,Spiele!B:B,Spiele!D:D))","v":""},{"$f":"IF(B931=\"\",\"\",LOOKUP(B931,Spiele!B:B,Spiele!E:E))","v":""},{"$f":"IF(B931=\"\",\"\",LOOKUP(B931,Spiele!B:B,Spiele!F:F))","v":""},"","","",null,null,-1,-1,1,0]
[null,null,{"$f":"IF(B932=\"\",\"\",LOOKUP(B932,Spiele!B:B,Spiele!C:C))","v":""},{"$f":"IF(B932=\"\",\"\",LOOKUP(B932,Spiele!B:B,Spiele!D:D))","v":""},{"$f":"IF(B932=\"\",\"\",LOOKUP(B932,Spiele!B:B,Spiele!E:E))","v":""},{"$f":"IF(B932=\"\",\"\",LOOKUP(B932,Spiele!B:B,Spiele!F:F))","v":""},"","","",null,null,-1,-1,1,0]
[null,null,{"$f":"IF(B933=\"\",\"\",LOOKUP(B933,Spiele!B:B,Spiele!C:C))","v":""},{"$f":"IF(B933=\"\",\"\",LOOKUP(B933,Spiele!B:B,Spiele!D:D))","v":""},{"$f":"IF(B933=\"\",\"\",LOOKUP(B933,Spiele!B:B,Spiele!E:E))","v":""},{"$f":"IF(B933=\"\",\"\",LOOKUP(B933,Spiele!B:B,Spiele!F:F))","v":""},"","","",null,null,-1,-1,1,0]
[null,null,{"$f":"IF(B934=\"\",\"\",LOOKUP(B934,Spiele!B:B,Spiele!C:C))","v":""},{"$f":"IF(B934=\"\",\"\",LOOKUP(B934,Spiele!B:B,Spiele!D:D))","v":""},{"$f":"IF(B934=\"\",\"\",LOOKUP(B934,Spiele!B:B,Spiele!E:E))","v":""},{"$f":"IF(B934=\"\",\"\",LOOKUP(B934,Spiele!B:B,Spiele!F:F))","v":""},"","","",null,null,-1,-1,1,0]
[null,null,{"$f":"IF(B935=\"\",\"\",LOOKUP(B935,Spiele!B:B,Spiele!C:C))","v":""},{"$f":"IF(B935=\"\",\"\",LOOKUP(B935,Spiele!B:B,Spiele!D:D))","v":""},{"$f":"IF(B935=\"\",\"\",LOOKUP(B935,Spiele!B:B,Spiele!E:E))","v":""},{"$f":"IF(B935=\"\",\"\",LOOKUP(B935,Spiele!B:B,Spiele!F:F))","v":""},"","","",null,null,-1,-1,1,0]
[null,null,{"$f":"IF(B936=\"\",\"\",LOOKUP(B936,Spiele!B:B,Spiele!C:C))","v":""},{"$f":"IF(B936=\"\",\"\",LOOKUP(B936,Spiele!B:B,Spiele!D:D))","v":""},{"$f":"IF(B936=\"\",\"\",LOOKUP(B936,Spiele!B:B,Spiele!E:E))","v":""},{"$f":"IF(B936=\"\",\"\",LOOKUP(B936,Spiele!B:B,Spiele!F:F))","v":""},"","","",null,null,-1,-1,1,0]
[null,null,{"$f":"IF(B937=\"\",\"\",LOOKUP(B937,Spiele!B:B,Spiele!C:C))","v":""},{"$f":"IF(B937=\"\",\"\",LOOKUP(B937,Spiele!B:B,Spiele!D:D))","v":""},{"$f":"IF(B937=\"\",\"\",LOOKUP(B937,Spiele!B:B,Spiele!E:E))","v":""},{"$f":"IF(B937=\"\",\"\",LOOKUP(B937,Spiele!B:B,Spiele!F:F))","v":""},"","","",null,null,-1,-1,1,0]
[null,null,{"$f":"IF(B938=\"\",\"\",LOOKUP(B938,Spiele!B:B,Spiele!C:C))","v":""},{"$f":"IF(B938=\"\",\"\",LOOKUP(B938,Spiele!B:B,Spiele!D:D))","v":""},{"$f":"IF(B938=\"\",\"\",LOOKUP(B938,Spiele!B:B,Spiele!E:E))","v":""},{"$f":"IF(B938=\"\",\"\",LOOKUP(B938,Spiele!B:B,Spiele!F:F))","v":""},"","","",null,null,-1,-1,1,0]
[null,null,{"$f":"IF(B939=\"\",\"\",LOOKUP(B939,Spiele!B:B,Spiele!C:C))","v":""},{"$f":"IF(B939=\"\",\"\",LOOKUP(B939,Spiele!B:B,Spiele!D:D))","v":""},{"$f":"IF(B939=\"\",\"\",LOOKUP(B939,Spiele!B:B,Spiele!E:E))","v":""},{"$f":"IF(B939=\"\",\"\",LOOKUP(B939,Spiele!B:B,Spiele!F:F))","v":""},"","","",null,null,-1,-1,1,0]
[null,null,{"$f":"IF(B940=\"\",\"\",LOOKUP(B940,Spiele!B:B,Spiele!C:C))","v":""},{"$f":"IF(B940=\"\",\"\",LOOKUP(B940,Spiele!B:B,Spiele!D:D))","v":""},{"$f":"IF(B940=\"\",\"\",LOOKUP(B940,Spiele!B:B,Spiele!E:E))","v":""},{"$f":"IF(B940=\"\",\"\",LOOKUP(B940,Spiele!B:B,Spiele!F:F))","v":""},"","","",null,null,-1,-1,1,0]
[null,null,{"$f":"IF(B941=\"\",\"\",LOOKUP(B941,Spiele!B:B,Spiele!C:C))","v":""},{"$f":"IF(B941=\"\",\"\",LOOKUP(B941,Spiele!B:B,Spiele!D:D))","v":""},{"$f":"IF(B941=\"\",\"\",LOOKUP(B941,Spiele!B:B,Spiele!E:E))","v":""},{"$f":"IF(B941=\"\",\"\",LOOKUP(B941,Spiele!B:B,Spiele!F:F))","v":""},"","","",null,null,-1,-1,1,0]
[null,null,{"$f":"IF(B942=\"\",\"\",LOOKUP(B942,Spiele!B:B,Spiele!C:C))","v":""},{"$f":"IF(B942=\"\",\"\",LOOKUP(B942,Spiele!B:B,Spiele!D:D))","v":""},{"$f":"IF(B942=\"\",\"\",LOOKUP(B942,Spiele!B:B,Spiele!E:E))","v":""},{"$f":"IF(B942=\"\",\"\",LOOKUP(B942,Spiele!B:B,Spiele!F:F))","v":""},"","","",null,null,-1,-1,1,0]
[null,null,{"$f":"IF(B943=\"\",\"\",LOOKUP(B943,Spiele!B:B,Spiele!C:C))","v":""},{"$f":"IF(B943=\"\",\"\",LOOKUP(B943,Spiele!B:B,Spiele!D:D))","v":""},{"$f":"IF(B943=\"\",\"\",LOOKUP(B943,Spiele!B:B,Spiele!E:E))","v":""},{"$f":"IF(B943=\"\",\"\",LOOKUP(B943,Spiele!B:B,Spiele!F:F))","v":""},"","","",null,null,-1,-1,1,0]
[null,null,{"$f":"IF(B944=\"\",\"\",LOOKUP(B944,Spiele!B:B,Spiele!C:C))","v":""},{"$f":"IF(B944=\"\",\"\",LOOKUP(B944,Spiele!B:B,Spiele!D:D))","v":""},{"$f":"IF(B944=\"\",\"\",LOOKUP(B944,Spiele!B:B,Spiele!E:E))","v":""},{"$f":"IF(B944=\"\",\"\",LOOKUP(B944,Spiele!B:B,Spiele!F:F))","v":""},"","","",null,null,-1,-1,1,0]
[null,null,{"$f":"IF(B945=\"\",\"\",LOOKUP(B945,Spiele!B:B,Spiele!C:C))","v":""},{"$f":"IF(B945=\"\",\"\",LOOKUP(B945,Spiele!B:B,Spiele!D:D))","v":""},{"$f":"IF(B945=\"\",\"\",LOOKUP(B945,Spiele!B:B,Spiele!E:E))","v":""},{"$f":"IF(B945=\"\",\"\",LOOKUP(B945,Spiele!B:B,Spiele!F:F))","v":""},"","","",null,null,-1,-1,1,0]
[null,null,{"$f":"IF(B946=\"\",\"\",LOOKUP(B946,Spiele!B:B,Spiele!C:C))","v":""},{"$f":"IF(B946=\"\",\"\",LOOKUP(B946,Spiele!B:B,Spiele!D:D))","v":""},{"$f":"IF(B946=\"\",\"\",LOOKUP(B946,Spiele!B:B,Spiele!E:E))","v":""},{"$f":"IF(B946=\"\",\"\",LOOKUP(B946,Spiele!B:B,Spiele!F:F))","v":""},"","","",null,null,-1,-1,1,0]
[null,null,{"$f":"IF(B947=\"\",\"\",LOOKUP(B947,Spiele!B:B,Spiele!C:C))","v":""},{"$f":"IF(B947=\"\",\"\",LOOKUP(B947,Spiele!B:B,Spiele!D:D))","v":""},{"$f":"IF(B947=\"\",\"\",LOOKUP(B947,Spiele!B:B,Spiele!E:E))","v":""},{"$f":"IF(B947=\"\",\"\",LOOKUP(B947,Spiele!B:B,Spiele!F:F))","v":""},"","","",null,null,-1,-1,1,0]
[null,null,{"$f":"IF(B948=\"\",\"\",LOOKUP(B948,Spiele!B:B,Spiele!C:C))","v":""},{"$f":"IF(B948=\"\",\"\",LOOKUP(B948,Spiele!B:B,Spiele!D:D))","v":""},{"$f":"IF(B948=\"\",\"\",LOOKUP(B948,Spiele!B:B,Spiele!E:E))","v":""},{"$f":"IF(B948=\"\",\"\",LOOKUP(B948,Spiele!B:B,Spiele!F:F))","v":""},"","","",null,null,-1,-1,1,0]
[null,null,{"$f":"IF(B949=\"\",\"\",LOOKUP(B949,Spiele!B:B,Spiele!C:C))","v":""},{"$f":"IF(B949=\"\",\"\",LOOKUP(B949,Spiele!B:B,Spiele!D:D))","v":""},{"$f":"IF(B949=\"\",\"\",LOOKUP(B949,Spiele!B:B,Spiele!E:E))","v":""},{"$f":"IF(B949=\"\",\"\",LOOKUP(B949,Spiele!B:B,Spiele!F:F))","v":""},"","","",null,null,-1,-1,1,0]
[null,null,{"$f":"IF(B950=\"\",\"\",LOOKUP(B950,Spiele!B:B,Spiele!C:C))","v":""},{"$f":"IF(B950=\"\",\"\",LOOKUP(B950,Spiele!B:B,Spiele!D:D))","v":""},{"$f":"IF(B950=\"\",\"\",LOOKUP(B950,Spiele!B:B,Spiele!E:E))","v":""},{"$f":"IF(B950=\"\",\"\",LOOKUP(B950,Spiele!B:B,Spiele!F:F))","v":""},"","","",null,null,-1,-1,1,0]
[null,null,{"$f":"IF(B951=\"\",\"\",LOOKUP(B951,Spiele!B:B,Spiele!C:C))","v":""},{"$f":"IF(B951=\"\",\"\",LOOKUP(B951,Spiele!B:B,Spiele!D:D))","v":""},{"$f":"IF(B951=\"\",\"\",LOOKUP(B951,Spiele!B:B,Spiele!E:E))","v":""},{"$f":"IF(B951=\"\",\"\",LOOKUP(B951,Spiele!B:B,Spiele!F:F))","v":""},"","","",null,null,-1,-1,1,0]
[null,null,{"$f":"IF(B952=\"\",\"\",LOOKUP(B952,Spiele!B:B,Spiele!C:C))","v":""},{"$f":"IF(B952=\"\",\"\",LOOKUP(B952,Spiele!B:B,Spiele!D:D))","v":""},{"$f":"IF(B952=\"\",\"\",LOOKUP(B952,Spiele!B:B,Spiele!E:E))","v":""},{"$f":"IF(B952=\"\",\"\",LOOKUP(B952,Spiele!B:B,Spiele!F:F))","v":""},"","","",null,null,-1,-1,1,0]
[null,null,{"$f":"IF(B953=\"\",\"\",LOOKUP(B953,Spiele!B:B,Spiele!C:C))","v":""},{"$f":"IF(B953=\"\",\"\",LOOKUP(B953,Spiele!B:B,Spiele!D:D))","v":""},{"$f":"IF(B953=\"\",\"\",LOOKUP(B953,Spiele!B:B,Spiele!E:E))","v":""},{"$f":"IF(B953=\"\",\"\",LOOKUP(B953,Spiele!B:B,Spiele!F:F))","v":""},"","","",null,null,-1,-1,1,0]
[null,null,{"$f":"IF(B954=\"\",\"\",LOOKUP(B954,Spiele!B:B,Spiele!C:C))","v":""},{"$f":"IF(B954=\"\",\"\",LOOKUP(B954,Spiele!B:B,Spiele!D:D))","v":""},{"$f":"IF(B954=\"\",\"\",LOOKUP(B954,Spiele!B:B,Spiele!E:E))","v":""},{"$f":"IF(B954=\"\",\"\",LOOKUP(B954,Spiele!B:B,Spiele!F:F))","v":""},"","","",null,null,-1,-1,1,0]
[null,null,{"$f":"IF(B955=\"\",\"\",LOOKUP(B955,Spiele!B:B,Spiele!C:C))","v":""},{"$f":"IF(B955=\"\",\"\",LOOKUP(B955,Spiele!B:B,Spiele!D:D))","v":""},{"$f":"IF(B955=\"\",\"\",LOOKUP(B955,Spiele!B:B,Spiele!E:E))","v":""},{"$f":"IF(B955=\"\",\"\",LOOKUP(B955,Spiele!B:B,Spiele!F:F))","v":""},"","","",null,null,-1,-1,1,0]
[null,null,{"$f":"IF(B956=\"\",\"\",LOOKUP(B956,Spiele!B:B,Spiele!C:C))","v":""},{"$f":"IF(B956=\"\",\"\",LOOKUP(B956,Spiele!B:B,Spiele!D:D))","v":""},{"$f":"IF(B956=\"\",\"\",LOOKUP(B956,Spiele!B:B,Spiele!E:E))","v":""},{"$f":"IF(B956=\"\",\"\",LOOKUP(B956,Spiele!B:B,Spiele!F:F))","v":""},"","","",null,null,-1,-1,1,0]
[null,null,{"$f":"IF(B957=\"\",\"\",LOOKUP(B957,Spiele!B:B,Spiele!C:C))","v":""},{"$f":"IF(B957=\"\",\"\",LOOKUP(B957,Spiele!B:B,Spiele!D:D))","v":""},{"$f":"IF(B957=\"\",\"\",LOOKUP(B957,Spiele!B:B,Spiele!E:E))","v":""},{"$f":"IF(B957=\"\",\"\",LOOKUP(B957,Spiele!B:B,Spiele!F:F))","v":""},"","","",null,null,-1,-1,1,0]
[null,null,{"$f":"IF(B958=\"\",\"\",LOOKUP(B958,Spiele!B:B,Spiele!C:C))","v":""},{"$f":"IF(B958=\"\",\"\",LOOKUP(B958,Spiele!B:B,Spiele!D:D))","v":""},{"$f":"IF(B958=\"\",\"\",LOOKUP(B958,Spiele!B:B,Spiele!E:E))","v":""},{"$f":"IF(B958=\"\",\"\",LOOKUP(B958,Spiele!B:B,Spiele!F:F))","v":""},"","","",null,null,-1,-1,1,0]
[null,null,{"$f":"IF(B959=\"\",\"\",LOOKUP(B959,Spiele!B:B,Spiele!C:C))","v":""},{"$f":"IF(B959=\"\",\"\",LOOKUP(B959,Spiele!B:B,Spiele!D:D))","v":""},{"$f":"IF(B959=\"\",\"\",LOOKUP(B959,Spiele!B:B,Spiele!E:E))","v":""},{"$f":"IF(B959=\"\",\"\",LOOKUP(B959,Spiele!B:B,Spiele!F:F))","v":""},"","","",null,null,-1,-1,1,0]
[null,null,{"$f":"IF(B960=\"\",\"\",LOOKUP(B960,Spiele!B:B,Spiele!C:C))","v":""},{"$f":"IF(B960=\"\",\"\",LOOKUP(B960,Spiele!B:B,Spiele!D:D))","v":""},{"$f":"IF(B960=\"\",\"\",LOOKUP(B960,Spiele!B:B,Spiele!E:E))","v":""},{"$f":"IF(B960=\"\",\"\",LOOKUP(B960,Spiele!B:B,Spiele!F:F))","v":""},"","","",null,null,-1,-1,1,0]
[null,null,{"$f":"IF(B961=\"\",\"\",LOOKUP(B961,Spiele!B:B,Spiele!C:C))","v":""},{"$f":"IF(B961=\"\",\"\",LOOKUP(B961,Spiele!B:B,Spiele!D:D))","v":""},{"$f":"IF(B961=\"\",\"\",LOOKUP(B961,Spiele!B:B,Spiele!E:E))","v":""},{"$f":"IF(B961=\"\",\"\",LOOKUP(B961,Spiele!B:B,Spiele!F:F))","v":""},"","","",null,null,-1,-1,1,0]
[null,null,{"$f":"IF(B962=\"\",\"\",LOOKUP(B962,Spiele!B:B,Spiele!C:C))","v":""},{"$f":"IF(B962=\"\",\"\",LOOKUP(B962,Spiele!B:B,Spiele!D:D))","v":""},{"$f":"IF(B962=\"\",\"\",LOOKUP(B962,Spiele!B:B,Spiele!E:E))","v":""},{"$f":"IF(B962=\"\",\"\",LOOKUP(B962,Spiele!B:B,Spiele!F:F))","v":""},"","","",null,null,-1,-1,1,0]
[null,null,{"$f":"IF(B963=\"\",\"\",LOOKUP(B963,Spiele!B:B,Spiele!C:C))","v":""},{"$f":"IF(B963=\"\",\"\",LOOKUP(B963,Spiele!B:B,Spiele!D:D))","v":""},{"$f":"IF(B963=\"\",\"\",LOOKUP(B963,Spiele!B:B,Spiele!E:E))","v":""},{"$f":"IF(B963=\"\",\"\",LOOKUP(B963,Spiele!B:B,Spiele!F:F))","v":""},"","","",null,null,-1,-1,1,0]
[null,null,{"$f":"IF(B964=\"\",\"\",LOOKUP(B964,Spiele!B:B,Spiele!C:C))","v":""},{"$f":"IF(B964=\"\",\"\",LOOKUP(B964,Spiele!B:B,Spiele!D:D))","v":""},{"$f":"IF(B964=\"\",\"\",LOOKUP(B964,Spiele!B:B,Spiele!E:E))","v":""},{"$f":"IF(B964=\"\",\"\",LOOKUP(B964,Spiele!B:B,Spiele!F:F))","v":""},"","","",null,null,-1,-1,1,0]
[null,null,{"$f":"IF(B965=\"\",\"\",LOOKUP(B965,Spiele!B:B,Spiele!C:C))","v":""},{"$f":"IF(B965=\"\",\"\",LOOKUP(B965,Spiele!B:B,Spiele!D:D))","v":""},{"$f":"IF(B965=\"\",\"\",LOOKUP(B965,Spiele!B:B,Spiele!E:E))","v":""},{"$f":"IF(B965=\"\",\"\",LOOKUP(B965,Spiele!B:B,Spiele!F:F))","v":""},"","","",null,null,-1,-1,1,0]
[null,null,{"$f":"IF(B966=\"\",\"\",LOOKUP(B966,Spiele!B:B,Spiele!C:C))","v":""},{"$f":"IF(B966=\"\",\"\",LOOKUP(B966,Spiele!B:B,Spiele!D:D))","v":""},{"$f":"IF(B966=\"\",\"\",LOOKUP(B966,Spiele!B:B,Spiele!E:E))","v":""},{"$f":"IF(B966=\"\",\"\",LOOKUP(B966,Spiele!B:B,Spiele!F:F))","v":""},"","","",null,null,-1,-1,1,0]
[null,null,{"$f":"IF(B967=\"\",\"\",LOOKUP(B967,Spiele!B:B,Spiele!C:C))","v":""},{"$f":"IF(B967=\"\",\"\",LOOKUP(B967,Spiele!B:B,Spiele!D:D))","v":""},{"$f":"IF(B967=\"\",\"\",LOOKUP(B967,Spiele!B:B,Spiele!E:E))","v":""},{"$f":"IF(B967=\"\",\"\",LOOKUP(B967,Spiele!B:B,Spiele!F:F))","v":""},"","","",null,null,-1,-1,1,0]
[null,null,{"$f":"IF(B968=\"\",\"\",LOOKUP(B968,Spiele!B:B,Spiele!C:C))","v":""},{"$f":"IF(B968=\"\",\"\",LOOKUP(B968,Spiele!B:B,Spiele!D:D))","v":""},{"$f":"IF(B968=\"\",\"\",LOOKUP(B968,Spiele!B:B,Spiele!E:E))","v":""},{"$f":"IF(B968=\"\",\"\",LOOKUP(B968,Spiele!B:B,Spiele!F:F))","v":""},{"$f":"IF(E968=\"\",\"\",IF(E968>F968,1,0))","v":""},{"$f":"IF(F968=\"\",\"\",IF(E968<F968,1,0))","v":""},{"$f":"IF(E968=\"\",\"\",IF(E968=F968,1,0))","v":""},null,null,{"$f":"IF(E968=\"\",-1,IF(J968>K968,1,-1))","v":-1},{"$f":"IF(F968=\"\",-1,IF(J968<K968,1,-1))","v":-1},1,{"$f":"IF(E968=\"\",0,IF(E968=J968,1,0)+IF(F968=K968,1,0)+IF(G968=L968,1,0)+IF(H968=M968,1,0)+IF(I968=N968,1,0))","v":0}]
[null,null,{"$f":"IF(B969=\"\",\"\",LOOKUP(B969,Spiele!B:B,Spiele!C:C))","v":""},{"$f":"IF(B969=\"\",\"\",LOOKUP(B969,Spiele!B:B,Spiele!D:D))","v":""},{"$f":"IF(B969=\"\",\"\",LOOKUP(B969,Spiele!B:B,Spiele!E:E))","v":""},{"$f":"IF(B969=\"\",\"\",LOOKUP(B969,Spiele!B:B,Spiele!F:F))","v":""},"","","",null,null,-1,-1,1,0]
[null,null,{"$f":"IF(B970=\"\",\"\",LOOKUP(B970,Spiele!B:B,Spiele!C:C))","v":""},{"$f":"IF(B970=\"\",\"\",LOOKUP(B970,Spiele!B:B,Spiele!D:D))","v":""},{"$f":"IF(B970=\"\",\"\",LOOKUP(B970,Spiele!B:B,Spiele!E:E))","v":""},{"$f":"IF(B970=\"\",\"\",LOOKUP(B970,Spiele!B:B,Spiele!F:F))","v":""},"","","",null,null,-1,-1,1,0]
[null,null,{"$f":"IF(B971=\"\",\"\",LOOKUP(B971,Spiele!B:B,Spiele!C:C))","v":""},{"$f":"IF(B971=\"\",\"\",LOOKUP(B971,Spiele!B:B,Spiele!D:D))","v":""},{"$f":"IF(B971=\"\",\"\",LOOKUP(B971,Spiele!B:B,Spiele!E:E))","v":""},{"$f":"IF(B971=\"\",\"\",LOOKUP(B971,Spiele!B:B,Spiele!F:F))","v":""},"","","",null,null,-1,-1,1,0]
[null,null,{"$f":"IF(B972=\"\",\"\",LOOKUP(B972,Spiele!B:B,Spiele!C:C))","v":""},{"$f":"IF(B972=\"\",\"\",LOOKUP(B972,Spiele!B:B,Spiele!D:D))","v":""},{"$f":"IF(B972=\"\",\"\",LOOKUP(B972,Spiele!B:B,Spiele!E:E))","v":""},{"$f":"IF(B972=\"\",\"\",LOOKUP(B972,Spiele!B:B,Spiele!F:F))","v":""},"","","",null,null,-1,-1,1,0]
[null,null,{"$f":"IF(B973=\"\",\"\",LOOKUP(B973,Spiele!B:B,Spiele!C:C))","v":""},{"$f":"IF(B973=\"\",\"\",LOOKUP(B973,Spiele!B:B,Spiele!D:D))","v":""},{"$f":"IF(B973=\"\",\"\",LOOKUP(B973,Spiele!B:B,Spiele!E:E))","v":""},{"$f":"IF(B973=\"\",\"\",LOOKUP(B973,Spiele!B:B,Spiele!F:F))","v":""},"","","",null,null,-1,-1,1,0]
[null,null,{"$f":"IF(B974=\"\",\"\",LOOKUP(B974,Spiele!B:B,Spiele!C:C))","v":""},{"$f":"IF(B974=\"\",\"\",LOOKUP(B974,Spiele!B:B,Spiele!D:D))","v":""},{"$f":"IF(B974=\"\",\"\",LOOKUP(B974,Spiele!B:B,Spiele!E:E))","v":""},{"$f":"IF(B974=\"\",\"\",LOOKUP(B974,Spiele!B:B,Spiele!F:F))","v":""},"","","",null,null,-1,-1,1,0]
[null,null,{"$f":"IF(B975=\"\",\"\",LOOKUP(B975,Spiele!B:B,Spiele!C:C))","v":""},{"$f":"IF(B975=\"\",\"\",LOOKUP(B975,Spiele!B:B,Spiele!D:D))","v":""},{"$f":"IF(B975=\"\",\"\",LOOKUP(B975,Spiele!B:B,Spiele!E:E))","v":""},{"$f":"IF(B975=\"\",\"\",LOOKUP(B975,Spiele!B:B,Spiele!F:F))","v":""},"","","",null,null,-1,-1,1,0]
[null,null,{"$f":"IF(B976=\"\",\"\",LOOKUP(B976,Spiele!B:B,Spiele!C:C))","v":""},{"$f":"IF(B976=\"\",\"\",LOOKUP(B976,Spiele!B:B,Spiele!D:D))","v":""},{"$f":"IF(B976=\"\",\"\",LOOKUP(B976,Spiele!B:B,Spiele!E:E))","v":""},{"$f":"IF(B976=\"\",\"\",LOOKUP(B976,Spiele!B:B,Spiele!F:F))","v":""},"","","",null,null,-1,-1,{"$f":"IF(E976=\"-\",-1,IF(J976=K976,1,-1))","v":1},0]
[null,null,{"$f":"IF(B977=\"\",\"\",LOOKUP(B977,Spiele!B:B,Spiele!C:C))","v":""},{"$f":"IF(B977=\"\",\"\",LOOKUP(B977,Spiele!B:B,Spiele!D:D))","v":""},{"$f":"IF(B977=\"\",\"\",LOOKUP(B977,Spiele!B:B,Spiele!E:E))","v":""},{"$f":"IF(B977=\"\",\"\",LOOKUP(B977,Spiele!B:B,Spiele!F:F))","v":""},"","","",null,null,-1,-1,1,0]
[null,null,{"$f":"IF(B978=\"\",\"\",LOOKUP(B978,Spiele!B:B,Spiele!C:C))","v":""},{"$f":"IF(B978=\"\",\"\",LOOKUP(B978,Spiele!B:B,Spiele!D:D))","v":""},{"$f":"IF(B978=\"\",\"\",LOOKUP(B978,Spiele!B:B,Spiele!E:E))","v":""},{"$f":"IF(B978=\"\",\"\",LOOKUP(B978,Spiele!B:B,Spiele!F:F))","v":""},"","","",null,null,-1,-1,1,0]
[null,null,{"$f":"IF(B979=\"\",\"\",LOOKUP(B979,Spiele!B:B,Spiele!C:C))","v":""},{"$f":"IF(B979=\"\",\"\",LOOKUP(B979,Spiele!B:B,Spiele!D:D))","v":""},{"$f":"IF(B979=\"\",\"\",LOOKUP(B979,Spiele!B:B,Spiele!E:E))","v":""},{"$f":"IF(B979=\"\",\"\",LOOKUP(B979,Spiele!B:B,Spiele!F:F))","v":""},"","","",null,null,-1,-1,1,0]
[null,null,{"$f":"IF(B980=\"\",\"\",LOOKUP(B980,Spiele!B:B,Spiele!C:C))","v":""},{"$f":"IF(B980=\"\",\"\",LOOKUP(B980,Spiele!B:B,Spiele!D:D))","v":""},{"$f":"IF(B980=\"\",\"\",LOOKUP(B980,Spiele!B:B,Spiele!E:E))","v":""},{"$f":"IF(B980=\"\",\"\",LOOKUP(B980,Spiele!B:B,Spiele!F:F))","v":""},"","","",null,null,-1,-1,1,0]
[null,null,{"$f":"IF(B981=\"\",\"\",LOOKUP(B981,Spiele!B:B,Spiele!C:C))","v":""},{"$f":"IF(B981=\"\",\"\",LOOKUP(B981,Spiele!B:B,Spiele!D:D))","v":""},{"$f":"IF(B981=\"\",\"\",LOOKUP(B981,Spiele!B:B,Spiele!E:E))","v":""},{"$f":"IF(B981=\"\",\"\",LOOKUP(B981,Spiele!B:B,Spiele!F:F))","v":""},"","","",null,null,-1,-1,1,0]
[null,null,{"$f":"IF(B982=\"\",\"\",LOOKUP(B982,Spiele!B:B,Spiele!C:C))","v":""},{"$f":"IF(B982=\"\",\"\",LOOKUP(B982,Spiele!B:B,Spiele!D:D))","v":""},{"$f":"IF(B982=\"\",\"\",LOOKUP(B982,Spiele!B:B,Spiele!E:E))","v":""},{"$f":"IF(B982=\"\",\"\",LOOKUP(B982,Spiele!B:B,Spiele!F:F))","v":""},"","","",null,null,-1,-1,1,0]
[null,null,{"$f":"IF(B983=\"\",\"\",LOOKUP(B983,Spiele!B:B,Spiele!C:C))","v":""},{"$f":"IF(B983=\"\",\"\",LOOKUP(B983,Spiele!B:B,Spiele!D:D))","v":""},{"$f":"IF(B983=\"\",\"\",LOOKUP(B983,Spiele!B:B,Spiele!E:E))","v":""},{"$f":"IF(B983=\"\",\"\",LOOKUP(B983,Spiele!B:B,Spiele!F:F))","v":""},"","","",null,null,-1,-1,1,0]
[null,null,{"$f":"IF(B984=\"\",\"\",LOOKUP(B984,Spiele!B:B,Spiele!C:C))","v":""},{"$f":"IF(B984=\"\",\"\",LOOKUP(B984,Spiele!B:B,Spiele!D:D))","v":""},{"$f":"IF(B984=\"\",\"\",LOOKUP(B984,Spiele!B:B,Spiele!E:E))","v":""},{"$f":"IF(B984=\"\",\"\",LOOKUP(B984,Spiele!B:B,Spiele!F:F))","v":""},"","","",null,null,-1,-1,1,0]
[null,null,{"$f":"IF(B985=\"\",\"\",LOOKUP(B985,Spiele!B:B,Spiele!C:C))","v":""},{"$f":"IF(B985=\"\",\"\",LOOKUP(B985,Spiele!B:B,Spiele!D:D))","v":""},{"$f":"IF(B985=\"\",\"\",LOOKUP(B985,Spiele!B:B,Spiele!E:E))","v":""},{"$f":"IF(B985=\"\",\"\",LOOKUP(B985,Spiele!B:B,Spiele!F:F))","v":""},"","","",null,null,-1,-1,1,0]
[null,null,{"$f":"IF(B986=\"\",\"\",LOOKUP(B986,Spiele!B:B,Spiele!C:C))","v":""},{"$f":"IF(B986=\"\",\"\",LOOKUP(B986,Spiele!B:B,Spiele!D:D))","v":""},{"$f":"IF(B986=\"\",\"\",LOOKUP(B986,Spiele!B:B,Spiele!E:E))","v":""},{"$f":"IF(B986=\"\",\"\",LOOKUP(B986,Spiele!B:B,Spiele!F:F))","v":""},"","","",null,null,-1,-1,1,0]
[null,null,{"$f":"IF(B987=\"\",\"\",LOOKUP(B987,Spiele!B:B,Spiele!C:C))","v":""},{"$f":"IF(B987=\"\",\"\",LOOKUP(B987,Spiele!B:B,Spiele!D:D))","v":""},{"$f":"IF(B987=\"\",\"\",LOOKUP(B987,Spiele!B:B,Spiele!E:E))","v":""},{"$f":"IF(B987=\"\",\"\",LOOKUP(B987,Spiele!B:B,Spiele!F:F))","v":""},"","","",null,null,-1,-1,1,0]
[null,null,{"$f":"IF(B988=\"\",\"\",LOOKUP(B988,Spiele!B:B,Spiele!C:C))","v":""},{"$f":"IF(B988=\"\",\"\",LOOKUP(B988,Spiele!B:B,Spiele!D:D))","v":""},{"$f":"IF(B988=\"\",\"\",LOOKUP(B988,Spiele!B:B,Spiele!E:E))","v":""},{"$f":"IF(B988=\"\",\"\",LOOKUP(B988,Spiele!B:B,Spiele!F:F))","v":""},"","","",null,null,-1,-1,1,0]
[null,null,{"$f":"IF(B989=\"\",\"\",LOOKUP(B989,Spiele!B:B,Spiele!C:C))","v":""},{"$f":"IF(B989=\"\",\"\",LOOKUP(B989,Spiele!B:B,Spiele!D:D))","v":""},{"$f":"IF(B989=\"\",\"\",LOOKUP(B989,Spiele!B:B,Spiele!E:E))","v":""},{"$f":"IF(B989=\"\",\"\",LOOKUP(B989,Spiele!B:B,Spiele!F:F))","v":""},"","","",null,null,-1,-1,1,0]
[null,null,{"$f":"IF(B990=\"\",\"\",LOOKUP(B990,Spiele!B:B,Spiele!C:C))","v":""},{"$f":"IF(B990=\"\",\"\",LOOKUP(B990,Spiele!B:B,Spiele!D:D))","v":""},{"$f":"IF(B990=\"\",\"\",LOOKUP(B990,Spiele!B:B,Spiele!E:E))","v":""},{"$f":"IF(B990=\"\",\"\",LOOKUP(B990,Spiele!B:B,Spiele!F:F))","v":""},"","","",null,null,-1,-1,1,0]
[null,null,{"$f":"IF(B991=\"\",\"\",LOOKUP(B991,Spiele!B:B,Spiele!C:C))","v":""},{"$f":"IF(B991=\"\",\"\",LOOKUP(B991,Spiele!B:B,Spiele!D:D))","v":""},{"$f":"IF(B991=\"\",\"\",LOOKUP(B991,Spiele!B:B,Spiele!E:E))","v":""},{"$f":"IF(B991=\"\",\"\",LOOKUP(B991,Spiele!B:B,Spiele!F:F))","v":""},"","","",null,null,-1,-1,1,0]
[null,null,{"$f":"IF(B992=\"\",\"\",LOOKUP(B992,Spiele!B:B,Spiele!C:C))","v":""},{"$f":"IF(B992=\"\",\"\",LOOKUP(B992,Spiele!B:B,Spiele!D:D))","v":""},{"$f":"IF(B992=\"\",\"\",LOOKUP(B992,Spiele!B:B,Spiele!E:E))","v":""},{"$f":"IF(B992=\"\",\"\",LOOKUP(B992,Spiele!B:B,Spiele!F:F))","v":""},"","","",null,null,-1,-1,1,0]
[null,null,{"$f":"IF(B993=\"\",\"\",LOOKUP(B993,Spiele!B:B,Spiele!C:C))","v":""},{"$f":"IF(B993=\"\",\"\",LOOKUP(B993,Spiele!B:B,Spiele!D:D))","v":""},{"$f":"IF(B993=\"\",\"\",LOOKUP(B993,Spiele!B:B,Spiele!E:E))","v":""},{"$f":"IF(B993=\"\",\"\",LOOKUP(B993,Spiele!B:B,Spiele!F:F))","v":""},"","","",null,null,-1,-1,1,0]
[null,null,{"$f":"IF(B994=\"\",\"\",LOOKUP(B994,Spiele!B:B,Spiele!C:C))","v":""},{"$f":"IF(B994=\"\",\"\",LOOKUP(B994,Spiele!B:B,Spiele!D:D))","v":""},{"$f":"IF(B994=\"\",\"\",LOOKUP(B994,Spiele!B:B,Spiele!E:E))","v":""},{"$f":"IF(B994=\"\",\"\",LOOKUP(B994,Spiele!B:B,Spiele!F:F))","v":""},"","","",null,null,-1,-1,1,0]
[null,null,{"$f":"IF(B995=\"\",\"\",LOOKUP(B995,Spiele!B:B,Spiele!C:C))","v":""},{"$f":"IF(B995=\"\",\"\",LOOKUP(B995,Spiele!B:B,Spiele!D:D))","v":""},{"$f":"IF(B995=\"\",\"\",LOOKUP(B995,Spiele!B:B,Spiele!E:E))","v":""},{"$f":"IF(B995=\"\",\"\",LOOKUP(B995,Spiele!B:B,Spiele!F:F))","v":""},"","","",null,null,-1,-1,1,0]
[null,null,{"$f":"IF(B996=\"\",\"\",LOOKUP(B996,Spiele!B:B,Spiele!C:C))","v":""},{"$f":"IF(B996=\"\",\"\",LOOKUP(B996,Spiele!B:B,Spiele!D:D))","v":""},{"$f":"IF(B996=\"\",\"\",LOOKUP(B996,Spiele!B:B,Spiele!E:E))","v":""},{"$f":"IF(B996=\"\",\"\",LOOKUP(B996,Spiele!B:B,Spiele!F:F))","v":""},"","","",null,null,-1,-1,1,0]
[null,null,{"$f":"IF(B997=\"\",\"\",LOOKUP(B997,Spiele!B:B,Spiele!C:C))","v":""},{"$f":"IF(B997=\"\",\"\",LOOKUP(B997,Spiele!B:B,Spiele!D:D))","v":""},{"$f":"IF(B997=\"\",\"\",LOOKUP(B997,Spiele!B:B,Spiele!E:E))","v":""},{"$f":"IF(B997=\"\",\"\",LOOKUP(B997,Spiele!B:B,Spiele!F:F))","v":""},"","","",null,null,-1,-1,1,0]
[null,null,{"$f":"IF(B998=\"\",\"\",LOOKUP(B998,Spiele!B:B,Spiele!C:C))","v":""},{"$f":"IF(B998=\"\",\"\",LOOKUP(B998,Spiele!B:B,Spiele!D:D))","v":""},{"$f":"IF(B998=\"\",\"\",LOOKUP(B998,Spiele!B:B,Spiele!E:E))","v":""},{"$f":"IF(B998=\"\",\"\",LOOKUP(B998,Spiele!B:B,Spiele!F:F))","v":""},"","","",null,null,-1,-1,1,0]
[null,null,{"$f":"IF(B999=\"\",\"\",LOOKUP(B999,Spiele!B:B,Spiele!C:C))","v":""},{"$f":"IF(B999=\"\",\"\",LOOKUP(B999,Spiele!B:B,Spiele!D:D))","v":""},{"$f":"IF(B999=\"\",\"\",LOOKUP(B999,Spiele!B:B,Spiele!E:E))","v":""},{"$f":"IF(B999=\"\",\"\",LOOKUP(B999,Spiele!B:B,Spiele!F:F))","v":""},"","","",null,null,-1,-1,1,0]
[null,null,{"$f":"IF(B1000=\"\",\"\",LOOKUP(B1000,Spiele!B:B,Spiele!C:C))","v":""},{"$f":"IF(B1000=\"\",\"\",LOOKUP(B1000,Spiele!B:B,Spiele!D:D))","v":""},{"$f":"IF(B1000=\"\",\"\",LOOKUP(B1000,Spiele!B:B,Spiele!E:E))","v":""},{"$f":"IF(B1000=\"\",\"\",LOOKUP(B1000,Spiele!B:B,Spiele!F:F))","v":""},{"$f":"IF(E1000=\"\",\"\",IF(E1000>F1000,1,0))","v":""},{"$f":"IF(F1000=\"\",\"\",IF(E1000<F1000,1,0))","v":""},{"$f":"IF(E1000=\"\",\"\",IF(E1000=F1000,1,0))","v":""},null,null,{"$f":"IF(E1000=\"\",-1,IF(J1000>K1000,1,-1))","v":-1},{"$f":"IF(F1000=\"\",-1,IF(J1000<K1000,1,-1))","v":-1},{"$f":"IF(E1000=\"-\",-1,IF(J1000=K1000,1,-1))","v":1},{"$f":"IF(E1000=\"\",0,IF(E1000=J1000,1,0)+IF(F1000=K1000,1,0)+IF(G1000=L1000,1,0)+IF(H1000=M1000,1,0)+IF(I1000=N1000,1,0))","v":0}]
[null,null,{"$f":"IF(B1001=\"\",\"\",LOOKUP(B1001,Spiele!B:B,Spiele!C:C))","v":""},{"$f":"IF(B1001=\"\",\"\",LOOKUP(B1001,Spiele!B:B,Spiele!D:D))","v":""},{"$f":"IF(B1001=\"\",\"\",LOOKUP(B1001,Spiele!B:B,Spiele!E:E))","v":""},{"$f":"IF(B1001=\"\",\"\",LOOKUP(B1001,Spiele!B:B,Spiele!F:F))","v":""},{"$f":"IF(E1001=\"\",\"\",IF(E1001>F1001,1,0))","v":""},{"$f":"IF(F1001=\"\",\"\",IF(E1001<F1001,1,0))","v":""},{"$f":"IF(E1001=\"\",\"\",IF(E1001=F1001,1,0))","v":""},null,null,{"$f":"IF(E1001=\"\",-1,IF(J1001>K1001,1,-1))","v":-1},{"$f":"IF(F1001=\"\",-1,IF(J1001<K1001,1,-1))","v":-1},{"$f":"IF(E1001=\"-\",-1,IF(J1001=K1001,1,-1))","v":1},{"$f":"IF(E1001=\"\",0,IF(E1001=J1001,1,0)+IF(F1001=K1001,1,0)+IF(G1001=L1001,1,0)+IF(H1001=M1001,1,0)+IF(I1001=N1001,1,0))","v":0}]
[null,null,{"$f":"IF(B1002=\"\",\"\",LOOKUP(B1002,Spiele!B:B,Spiele!C:C))","v":""},{"$f":"IF(B1002=\"\",\"\",LOOKUP(B1002,Spiele!B:B,Spiele!D:D))","v":""},{"$f":"IF(B1002=\"\",\"\",LOOKUP(B1002,Spiele!B:B,Spiele!E:E))","v":""},{"$f":"IF(B1002=\"\",\"\",LOOKUP(B1002,Spiele!B:B,Spiele!F:F))","v":""},{"$f":"IF(E1002=\"\",\"\",IF(E1002>F1002,1,0))","v":""},{"$f":"IF(F1002=\"\",\"\",IF(E1002<F1002,1,0))","v":""},{"$f":"IF(E1002=\"\",\"\",IF(E1002=F1002,1,0))","v":""},null,null,{"$f":"IF(E1002=\"\",-1,IF(J1002>K1002,1,-1))","v":-1},{"$f":"IF(F1002=\"\",-1,IF(J1002<K1002,1,-1))","v":-1},{"$f":"IF(E1002=\"-\",-1,IF(J1002=K1002,1,-1))","v":1},{"$f":"IF(E1002=\"\",0,IF(E1002=J1002,1,0)+IF(F1002=K1002,1,0)+IF(G1002=L1002,1,0)+IF(H1002=M1002,1,0)+IF(I1002=N1002,1,0))","v":0}]
[null,null,{"$f":"IF(B1003=\"\",\"\",LOOKUP(B1003,Spiele!B:B,Spiele!C:C))","v":""},{"$f":"IF(B1003=\"\",\"\",LOOKUP(B1003,Spiele!B:B,Spiele!D:D))","v":""},{"$f":"IF(B1003=\"\",\"\",LOOKUP(B1003,Spiele!B:B,Spiele!E:E))","v":""},{"$f":"IF(B1003=\"\",\"\",LOOKUP(B1003,Spiele!B:B,Spiele!F:F))","v":""},"","","",null,null,-1,-1,1,0]
[null,null,{"$f":"IF(B1004=\"\",\"\",LOOKUP(B1004,Spiele!B:B,Spiele!C:C))","v":""},{"$f":"IF(B1004=\"\",\"\",LOOKUP(B1004,Spiele!B:B,Spiele!D:D))","v":""},{"$f":"IF(B1004=\"\",\"\",LOOKUP(B1004,Spiele!B:B,Spiele!E:E))","v":""},{"$f":"IF(B1004=\"\",\"\",LOOKUP(B1004,Spiele!B:B,Spiele!F:F))","v":""},"","","",null,null,-1,-1,1,0]
[null,null,{"$f":"IF(B1005=\"\",\"\",LOOKUP(B1005,Spiele!B:B,Spiele!C:C))","v":""},{"$f":"IF(B1005=\"\",\"\",LOOKUP(B1005,Spiele!B:B,Spiele!D:D))","v":""},{"$f":"IF(B1005=\"\",\"\",LOOKUP(B1005,Spiele!B:B,Spiele!E:E))","v":""},{"$f":"IF(B1005=\"\",\"\",LOOKUP(B1005,Spiele!B:B,Spiele!F:F))","v":""},"","","",null,null,-1,-1,1,0]
[null,null,{"$f":"IF(B1006=\"\",\"\",LOOKUP(B1006,Spiele!B:B,Spiele!C:C))","v":""},{"$f":"IF(B1006=\"\",\"\",LOOKUP(B1006,Spiele!B:B,Spiele!D:D))","v":""},{"$f":"IF(B1006=\"\",\"\",LOOKUP(B1006,Spiele!B:B,Spiele!E:E))","v":""},{"$f":"IF(B1006=\"\",\"\",LOOKUP(B1006,Spiele!B:B,Spiele!F:F))","v":""},"","","",null,null,-1,-1,1,0]
[null,null,{"$f":"IF(B1007=\"\",\"\",LOOKUP(B1007,Spiele!B:B,Spiele!C:C))","v":""},{"$f":"IF(B1007=\"\",\"\",LOOKUP(B1007,Spiele!B:B,Spiele!D:D))","v":""},{"$f":"IF(B1007=\"\",\"\",LOOKUP(B1007,Spiele!B:B,Spiele!E:E))","v":""},{"$f":"IF(B1007=\"\",\"\",LOOKUP(B1007,Spiele!B:B,Spiele!F:F))","v":""},"","","",null,null,-1,-1,1,0]
[null,null,{"$f":"IF(B1008=\"\",\"\",LOOKUP(B1008,Spiele!B:B,Spiele!C:C))","v":""},{"$f":"IF(B1008=\"\",\"\",LOOKUP(B1008,Spiele!B:B,Spiele!D:D))","v":""},{"$f":"IF(B1008=\"\",\"\",LOOKUP(B1008,Spiele!B:B,Spiele!E:E))","v":""},{"$f":"IF(B1008=\"\",\"\",LOOKUP(B1008,Spiele!B:B,Spiele!F:F))","v":""},"","","",null,null,-1,-1,1,0]
[null,null,{"$f":"IF(B1009=\"\",\"\",LOOKUP(B1009,Spiele!B:B,Spiele!C:C))","v":""},{"$f":"IF(B1009=\"\",\"\",LOOKUP(B1009,Spiele!B:B,Spiele!D:D))","v":""},{"$f":"IF(B1009=\"\",\"\",LOOKUP(B1009,Spiele!B:B,Spiele!E:E))","v":""},{"$f":"IF(B1009=\"\",\"\",LOOKUP(B1009,Spiele!B:B,Spiele!F:F))","v":""},"","","",null,null,-1,-1,1,0]
[null,null,{"$f":"IF(B1010=\"\",\"\",LOOKUP(B1010,Spiele!B:B,Spiele!C:C))","v":""},{"$f":"IF(B1010=\"\",\"\",LOOKUP(B1010,Spiele!B:B,Spiele!D:D))","v":""},{"$f":"IF(B1010=\"\",\"\",LOOKUP(B1010,Spiele!B:B,Spiele!E:E))","v":""},{"$f":"IF(B1010=\"\",\"\",LOOKUP(B1010,Spiele!B:B,Spiele!F:F))","v":""},"","","",null,null,-1,-1,1,0]
[null,null,{"$f":"IF(B1011=\"\",\"\",LOOKUP(B1011,Spiele!B:B,Spiele!C:C))","v":""},{"$f":"IF(B1011=\"\",\"\",LOOKUP(B1011,Spiele!B:B,Spiele!D:D))","v":""},{"$f":"IF(B1011=\"\",\"\",LOOKUP(B1011,Spiele!B:B,Spiele!E:E))","v":""},{"$f":"IF(B1011=\"\",\"\",LOOKUP(B1011,Spiele!B:B,Spiele!F:F))","v":""},"","","",null,null,-1,-1,1,0]
[null,null,{"$f":"IF(B1012=\"\",\"\",LOOKUP(B1012,Spiele!B:B,Spiele!C:C))","v":""},{"$f":"IF(B1012=\"\",\"\",LOOKUP(B1012,Spiele!B:B,Spiele!D:D))","v":""},{"$f":"IF(B1012=\"\",\"\",LOOKUP(B1012,Spiele!B:B,Spiele!E:E))","v":""},{"$f":"IF(B1012=\"\",\"\",LOOKUP(B1012,Spiele!B:B,Spiele!F:F))","v":""},"","","",null,null,-1,-1,1,0]
[null,null,{"$f":"IF(B1013=\"\",\"\",LOOKUP(B1013,Spiele!B:B,Spiele!C:C))","v":""},{"$f":"IF(B1013=\"\",\"\",LOOKUP(B1013,Spiele!B:B,Spiele!D:D))","v":""},{"$f":"IF(B1013=\"\",\"\",LOOKUP(B1013,Spiele!B:B,Spiele!E:E))","v":""},{"$f":"IF(B1013=\"\",\"\",LOOKUP(B1013,Spiele!B:B,Spiele!F:F))","v":""},"","","",null,null,-1,-1,1,0]
[null,null,{"$f":"IF(B1014=\"\",\"\",LOOKUP(B1014,Spiele!B:B,Spiele!C:C))","v":""},{"$f":"IF(B1014=\"\",\"\",LOOKUP(B1014,Spiele!B:B,Spiele!D:D))","v":""},{"$f":"IF(B1014=\"\",\"\",LOOKUP(B1014,Spiele!B:B,Spiele!E:E))","v":""},{"$f":"IF(B1014=\"\",\"\",LOOKUP(B1014,Spiele!B:B,Spiele!F:F))","v":""},"","","",null,null,-1,-1,1,0]
[null,null,{"$f":"IF(B1015=\"\",\"\",LOOKUP(B1015,Spiele!B:B,Spiele!C:C))","v":""},{"$f":"IF(B1015=\"\",\"\",LOOKUP(B1015,Spiele!B:B,Spiele!D:D))","v":""},{"$f":"IF(B1015=\"\",\"\",LOOKUP(B1015,Spiele!B:B,Spiele!E:E))","v":""},{"$f":"IF(B1015=\"\",\"\",LOOKUP(B1015,Spiele!B:B,Spiele!F:F))","v":""},"","","",null,null,-1,-1,1,0]
[null,null,{"$f":"IF(B1016=\"\",\"\",LOOKUP(B1016,Spiele!B:B,Spiele!C:C))","v":""},{"$f":"IF(B1016=\"\",\"\",LOOKUP(B1016,Spiele!B:B,Spiele!D:D))","v":""},{"$f":"IF(B1016=\"\",\"\",LOOKUP(B1016,Spiele!B:B,Spiele!E:E))","v":""},{"$f":"IF(B1016=\"\",\"\",LOOKUP(B1016,Spiele!B:B,Spiele!F:F))","v":""},"","","",null,null,-1,-1,1,0]
[null,null,{"$f":"IF(B1017=\"\",\"\",LOOKUP(B1017,Spiele!B:B,Spiele!C:C))","v":""},{"$f":"IF(B1017=\"\",\"\",LOOKUP(B1017,Spiele!B:B,Spiele!D:D))","v":""},{"$f":"IF(B1017=\"\",\"\",LOOKUP(B1017,Spiele!B:B,Spiele!E:E))","v":""},{"$f":"IF(B1017=\"\",\"\",LOOKUP(B1017,Spiele!B:B,Spiele!F:F))","v":""},"","","",null,null,-1,-1,1,0]
[null,null,{"$f":"IF(B1018=\"\",\"\",LOOKUP(B1018,Spiele!B:B,Spiele!C:C))","v":""},{"$f":"IF(B1018=\"\",\"\",LOOKUP(B1018,Spiele!B:B,Spiele!D:D))","v":""},{"$f":"IF(B1018=\"\",\"\",LOOKUP(B1018,Spiele!B:B,Spiele!E:E))","v":""},{"$f":"IF(B1018=\"\",\"\",LOOKUP(B1018,Spiele!B:B,Spiele!F:F))","v":""},"","","",null,null,-1,-1,1,0]
[null,null,{"$f":"IF(B1019=\"\",\"\",LOOKUP(B1019,Spiele!B:B,Spiele!C:C))","v":""},{"$f":"IF(B1019=\"\",\"\",LOOKUP(B1019,Spiele!B:B,Spiele!D:D))","v":""},{"$f":"IF(B1019=\"\",\"\",LOOKUP(B1019,Spiele!B:B,Spiele!E:E))","v":""},{"$f":"IF(B1019=\"\",\"\",LOOKUP(B1019,Spiele!B:B,Spiele!F:F))","v":""},"","","",null,null,-1,-1,1,0]
[null,null,{"$f":"IF(B1020=\"\",\"\",LOOKUP(B1020,Spiele!B:B,Spiele!C:C))","v":""},{"$f":"IF(B1020=\"\",\"\",LOOKUP(B1020,Spiele!B:B,Spiele!D:D))","v":""},{"$f":"IF(B1020=\"\",\"\",LOOKUP(B1020,Spiele!B:B,Spiele!E:E))","v":""},{"$f":"IF(B1020=\"\",\"\",LOOKUP(B1020,Spiele!B:B,Spiele!F:F))","v":""},"","","",null,null,-1,-1,1,0]
[null,null,{"$f":"IF(B1021=\"\",\"\",LOOKUP(B1021,Spiele!B:B,Spiele!C:C))","v":""},{"$f":"IF(B1021=\"\",\"\",LOOKUP(B1021,Spiele!B:B,Spiele!D:D))","v":""},{"$f":"IF(B1021=\"\",\"\",LOOKUP(B1021,Spiele!B:B,Spiele!E:E))","v":""},{"$f":"IF(B1021=\"\",\"\",LOOKUP(B1021,Spiele!B:B,Spiele!F:F))","v":""},"","","",null,null,-1,-1,1,0]
[null,null,{"$f":"IF(B1022=\"\",\"\",LOOKUP(B1022,Spiele!B:B,Spiele!C:C))","v":""},{"$f":"IF(B1022=\"\",\"\",LOOKUP(B1022,Spiele!B:B,Spiele!D:D))","v":""},{"$f":"IF(B1022=\"\",\"\",LOOKUP(B1022,Spiele!B:B,Spiele!E:E))","v":""},{"$f":"IF(B1022=\"\",\"\",LOOKUP(B1022,Spiele!B:B,Spiele!F:F))","v":""},"","","",null,null,-1,-1,1,0]
[null,null,{"$f":"IF(B1023=\"\",\"\",LOOKUP(B1023,Spiele!B:B,Spiele!C:C))","v":""},{"$f":"IF(B1023=\"\",\"\",LOOKUP(B1023,Spiele!B:B,Spiele!D:D))","v":""},{"$f":"IF(B1023=\"\",\"\",LOOKUP(B1023,Spiele!B:B,Spiele!E:E))","v":""},{"$f":"IF(B1023=\"\",\"\",LOOKUP(B1023,Spiele!B:B,Spiele!F:F))","v":""},"","","",null,null,-1,-1,1,0]
[null,null,{"$f":"IF(B1024=\"\",\"\",LOOKUP(B1024,Spiele!B:B,Spiele!C:C))","v":""},{"$f":"IF(B1024=\"\",\"\",LOOKUP(B1024,Spiele!B:B,Spiele!D:D))","v":""},{"$f":"IF(B1024=\"\",\"\",LOOKUP(B1024,Spiele!B:B,Spiele!E:E))","v":""},{"$f":"IF(B1024=\"\",\"\",LOOKUP(B1024,Spiele!B:B,Spiele!F:F))","v":""},"","","",null,null,-1,-1,1,0]
[null,null,{"$f":"IF(B1025=\"\",\"\",LOOKUP(B1025,Spiele!B:B,Spiele!C:C))","v":""},{"$f":"IF(B1025=\"\",\"\",LOOKUP(B1025,Spiele!B:B,Spiele!D:D))","v":""},{"$f":"IF(B1025=\"\",\"\",LOOKUP(B1025,Spiele!B:B,Spiele!E:E))","v":""},{"$f":"IF(B1025=\"\",\"\",LOOKUP(B1025,Spiele!B:B,Spiele!F:F))","v":""},"","","",null,null,-1,-1,1,0]
[null,null,{"$f":"IF(B1026=\"\",\"\",LOOKUP(B1026,Spiele!B:B,Spiele!C:C))","v":""},{"$f":"IF(B1026=\"\",\"\",LOOKUP(B1026,Spiele!B:B,Spiele!D:D))","v":""},{"$f":"IF(B1026=\"\",\"\",LOOKUP(B1026,Spiele!B:B,Spiele!E:E))","v":""},{"$f":"IF(B1026=\"\",\"\",LOOKUP(B1026,Spiele!B:B,Spiele!F:F))","v":""},"","","",null,null,-1,-1,1,0]
[null,null,{"$f":"IF(B1027=\"\",\"\",LOOKUP(B1027,Spiele!B:B,Spiele!C:C))","v":""},{"$f":"IF(B1027=\"\",\"\",LOOKUP(B1027,Spiele!B:B,Spiele!D:D))","v":""},{"$f":"IF(B1027=\"\",\"\",LOOKUP(B1027,Spiele!B:B,Spiele!E:E))","v":""},{"$f":"IF(B1027=\"\",\"\",LOOKUP(B1027,Spiele!B:B,Spiele!F:F))","v":""},"","","",null,null,-1,-1,1,0]
[null,null,{"$f":"IF(B1028=\"\",\"\",LOOKUP(B1028,Spiele!B:B,Spiele!C:C))","v":""},{"$f":"IF(B1028=\"\",\"\",LOOKUP(B1028,Spiele!B:B,Spiele!D:D))","v":""},{"$f":"IF(B1028=\"\",\"\",LOOKUP(B1028,Spiele!B:B,Spiele!E:E))","v":""},{"$f":"IF(B1028=\"\",\"\",LOOKUP(B1028,Spiele!B:B,Spiele!F:F))","v":""},"","","",null,null,-1,-1,1,0]
[null,null,{"$f":"IF(B1029=\"\",\"\",LOOKUP(B1029,Spiele!B:B,Spiele!C:C))","v":""},{"$f":"IF(B1029=\"\",\"\",LOOKUP(B1029,Spiele!B:B,Spiele!D:D))","v":""},{"$f":"IF(B1029=\"\",\"\",LOOKUP(B1029,Spiele!B:B,Spiele!E:E))","v":""},{"$f":"IF(B1029=\"\",\"\",LOOKUP(B1029,Spiele!B:B,Spiele!F:F))","v":""},"","","",null,null,-1,-1,1,0]
[null,null,{"$f":"IF(B1030=\"\",\"\",LOOKUP(B1030,Spiele!B:B,Spiele!C:C))","v":""},{"$f":"IF(B1030=\"\",\"\",LOOKUP(B1030,Spiele!B:B,Spiele!D:D))","v":""},{"$f":"IF(B1030=\"\",\"\",LOOKUP(B1030,Spiele!B:B,Spiele!E:E))","v":""},{"$f":"IF(B1030=\"\",\"\",LOOKUP(B1030,Spiele!B:B,Spiele!F:F))","v":""},"","","",null,null,-1,-1,1,0]
[null,null,{"$f":"IF(B1031=\"\",\"\",LOOKUP(B1031,Spiele!B:B,Spiele!C:C))","v":""},{"$f":"IF(B1031=\"\",\"\",LOOKUP(B1031,Spiele!B:B,Spiele!D:D))","v":""},{"$f":"IF(B1031=\"\",\"\",LOOKUP(B1031,Spiele!B:B,Spiele!E:E))","v":""},{"$f":"IF(B1031=\"\",\"\",LOOKUP(B1031,Spiele!B:B,Spiele!F:F))","v":""},"","","",null,null,-1,-1,1,0]
[null,null,{"$f":"IF(B1032=\"\",\"\",LOOKUP(B1032,Spiele!B:B,Spiele!C:C))","v":""},{"$f":"IF(B1032=\"\",\"\",LOOKUP(B1032,Spiele!B:B,Spiele!D:D))","v":""},{"$f":"IF(B1032=\"\",\"\",LOOKUP(B1032,Spiele!B:B,Spiele!E:E))","v":""},{"$f":"IF(B1032=\"\",\"\",LOOKUP(B1032,Spiele!B:B,Spiele!F:F))","v":""},"","","",null,null,-1,-1,1,0]
[null,null,{"$f":"IF(B1033=\"\",\"\",LOOKUP(B1033,Spiele!B:B,Spiele!C:C))","v":""},{"$f":"IF(B1033=\"\",\"\",LOOKUP(B1033,Spiele!B:B,Spiele!D:D))","v":""},{"$f":"IF(B1033=\"\",\"\",LOOKUP(B1033,Spiele!B:B,Spiele!E:E))","v":""},{"$f":"IF(B1033=\"\",\"\",LOOKUP(B1033,Spiele!B:B,Spiele!F:F))","v":""},"","","",null,null,-1,-1,1,0]
[null,null,{"$f":"IF(B1034=\"\",\"\",LOOKUP(B1034,Spiele!B:B,Spiele!C:C))","v":""},{"$f":"IF(B1034=\"\",\"\",LOOKUP(B1034,Spiele!B:B,Spiele!D:D))","v":""},{"$f":"IF(B1034=\"\",\"\",LOOKUP(B1034,Spiele!B:B,Spiele!E:E))","v":""},{"$f":"IF(B1034=\"\",\"\",LOOKUP(B1034,Spiele!B:B,Spiele!F:F))","v":""},"","","",null,null,-1,-1,1,0]
[null,null,{"$f":"IF(B1035=\"\",\"\",LOOKUP(B1035,Spiele!B:B,Spiele!C:C))","v":""},{"$f":"IF(B1035=\"\",\"\",LOOKUP(B1035,Spiele!B:B,Spiele!D:D))","v":""},{"$f":"IF(B1035=\"\",\"\",LOOKUP(B1035,Spiele!B:B,Spiele!E:E))","v":""},{"$f":"IF(B1035=\"\",\"\",LOOKUP(B1035,Spiele!B:B,Spiele!F:F))","v":""},"","","",null,null,-1,-1,1,0]
[null,null,{"$f":"IF(B1036=\"\",\"\",LOOKUP(B1036,Spiele!B:B,Spiele!C:C))","v":""},{"$f":"IF(B1036=\"\",\"\",LOOKUP(B1036,Spiele!B:B,Spiele!D:D))","v":""},{"$f":"IF(B1036=\"\",\"\",LOOKUP(B1036,Spiele!B:B,Spiele!E:E))","v":""},{"$f":"IF(B1036=\"\",\"\",LOOKUP(B1036,Spiele!B:B,Spiele!F:F))","v":""},"","","",null,null,-1,-1,1,0]
[null,null,{"$f":"IF(B1037=\"\",\"\",LOOKUP(B1037,Spiele!B:B,Spiele!C:C))","v":""},{"$f":"IF(B1037=\"\",\"\",LOOKUP(B1037,Spiele!B:B,Spiele!D:D))","v":""},{"$f":"IF(B1037=\"\",\"\",LOOKUP(B1037,Spiele!B:B,Spiele!E:E))","v":""},{"$f":"IF(B1037=\"\",\"\",LOOKUP(B1037,Spiele!B:B,Spiele!F:F))","v":""},"","","",null,null,-1,-1,1,0]
[null,null,{"$f":"IF(B1038=\"\",\"\",LOOKUP(B1038,Spiele!B:B,Spiele!C:C))","v":""},{"$f":"IF(B1038=\"\",\"\",LOOKUP(B1038,Spiele!B:B,Spiele!D:D))","v":""},{"$f":"IF(B1038=\"\",\"\",LOOKUP(B1038,Spiele!B:B,Spiele!E:E))","v":""},{"$f":"IF(B1038=\"\",\"\",LOOKUP(B1038,Spiele!B:B,Spiele!F:F))","v":""},"","","",null,null,-1,-1,1,0]
[null,null,{"$f":"IF(B1039=\"\",\"\",LOOKUP(B1039,Spiele!B:B,Spiele!C:C))","v":""},{"$f":"IF(B1039=\"\",\"\",LOOKUP(B1039,Spiele!B:B,Spiele!D:D))","v":""},{"$f":"IF(B1039=\"\",\"\",LOOKUP(B1039,Spiele!B:B,Spiele!E:E))","v":""},{"$f":"IF(B1039=\"\",\"\",LOOKUP(B1039,Spiele!B:B,Spiele!F:F))","v":""},"","","",null,null,-1,-1,1,0]
[null,null,{"$f":"IF(B1040=\"\",\"\",LOOKUP(B1040,Spiele!B:B,Spiele!C:C))","v":""},{"$f":"IF(B1040=\"\",\"\",LOOKUP(B1040,Spiele!B:B,Spiele!D:D))","v":""},{"$f":"IF(B1040=\"\",\"\",LOOKUP(B1040,Spiele!B:B,Spiele!E:E))","v":""},{"$f":"IF(B1040=\"\",\"\",LOOKUP(B1040,Spiele!B:B,Spiele!F:F))","v":""},"","","",null,null,-1,-1,1,0]
[null,null,{"$f":"IF(B1041=\"\",\"\",LOOKUP(B1041,Spiele!B:B,Spiele!C:C))","v":""},{"$f":"IF(B1041=\"\",\"\",LOOKUP(B1041,Spiele!B:B,Spiele!D:D))","v":""},{"$f":"IF(B1041=\"\",\"\",LOOKUP(B1041,Spiele!B:B,Spiele!E:E))","v":""},{"$f":"IF(B1041=\"\",\"\",LOOKUP(B1041,Spiele!B:B,Spiele!F:F))","v":""},"","","",null,null,-1,-1,1,0]
[null,null,{"$f":"IF(B1042=\"\",\"\",LOOKUP(B1042,Spiele!B:B,Spiele!C:C))","v":""},{"$f":"IF(B1042=\"\",\"\",LOOKUP(B1042,Spiele!B:B,Spiele!D:D))","v":""},{"$f":"IF(B1042=\"\",\"\",LOOKUP(B1042,Spiele!B:B,Spiele!E:E))","v":""},{"$f":"IF(B1042=\"\",\"\",LOOKUP(B1042,Spiele!B:B,Spiele!F:F))","v":""},"","","",null,null,-1,-1,1,0]
[null,null,{"$f":"IF(B1043=\"\",\"\",LOOKUP(B1043,Spiele!B:B,Spiele!C:C))","v":""},{"$f":"IF(B1043=\"\",\"\",LOOKUP(B1043,Spiele!B:B,Spiele!D:D))","v":""},{"$f":"IF(B1043=\"\",\"\",LOOKUP(B1043,Spiele!B:B,Spiele!E:E))","v":""},{"$f":"IF(B1043=\"\",\"\",LOOKUP(B1043,Spiele!B:B,Spiele!F:F))","v":""},"","","",null,null,-1,-1,1,0]
[null,null,{"$f":"IF(B1044=\"\",\"\",LOOKUP(B1044,Spiele!B:B,Spiele!C:C))","v":""},{"$f":"IF(B1044=\"\",\"\",LOOKUP(B1044,Spiele!B:B,Spiele!D:D))","v":""},{"$f":"IF(B1044=\"\",\"\",LOOKUP(B1044,Spiele!B:B,Spiele!E:E))","v":""},{"$f":"IF(B1044=\"\",\"\",LOOKUP(B1044,Spiele!B:B,Spiele!F:F))","v":""},"","","",null,null,-1,-1,1,0]
[null,null,{"$f":"IF(B1045=\"\",\"\",LOOKUP(B1045,Spiele!B:B,Spiele!C:C))","v":""},{"$f":"IF(B1045=\"\",\"\",LOOKUP(B1045,Spiele!B:B,Spiele!D:D))","v":""},{"$f":"IF(B1045=\"\",\"\",LOOKUP(B1045,Spiele!B:B,Spiele!E:E))","v":""},{"$f":"IF(B1045=\"\",\"\",LOOKUP(B1045,Spiele!B:B,Spiele!F:F))","v":""},"","","",null,null,-1,-1,1,0]
[null,null,{"$f":"IF(B1046=\"\",\"\",LOOKUP(B1046,Spiele!B:B,Spiele!C:C))","v":""},{"$f":"IF(B1046=\"\",\"\",LOOKUP(B1046,Spiele!B:B,Spiele!D:D))","v":""},{"$f":"IF(B1046=\"\",\"\",LOOKUP(B1046,Spiele!B:B,Spiele!E:E))","v":""},{"$f":"IF(B1046=\"\",\"\",LOOKUP(B1046,Spiele!B:B,Spiele!F:F))","v":""},"","","",null,null,-1,-1,1,0]
[null,null,{"$f":"IF(B1047=\"\",\"\",LOOKUP(B1047,Spiele!B:B,Spiele!C:C))","v":""},{"$f":"IF(B1047=\"\",\"\",LOOKUP(B1047,Spiele!B:B,Spiele!D:D))","v":""},{"$f":"IF(B1047=\"\",\"\",LOOKUP(B1047,Spiele!B:B,Spiele!E:E))","v":""},{"$f":"IF(B1047=\"\",\"\",LOOKUP(B1047,Spiele!B:B,Spiele!F:F))","v":""},"","","",null,null,-1,-1,1,0]
[null,null,{"$f":"IF(B1048=\"\",\"\",LOOKUP(B1048,Spiele!B:B,Spiele!C:C))","v":""},{"$f":"IF(B1048=\"\",\"\",LOOKUP(B1048,Spiele!B:B,Spiele!D:D))","v":""},{"$f":"IF(B1048=\"\",\"\",LOOKUP(B1048,Spiele!B:B,Spiele!E:E))","v":""},{"$f":"IF(B1048=\"\",\"\",LOOKUP(B1048,Spiele!B:B,Spiele!F:F))","v":""},"","","",null,null,-1,-1,1,0]
[null,null,{"$f":"IF(B1049=\"\",\"\",LOOKUP(B1049,Spiele!B:B,Spiele!C:C))","v":""},{"$f":"IF(B1049=\"\",\"\",LOOKUP(B1049,Spiele!B:B,Spiele!D:D))","v":""},{"$f":"IF(B1049=\"\",\"\",LOOKUP(B1049,Spiele!B:B,Spiele!E:E))","v":""},{"$f":"IF(B1049=\"\",\"\",LOOKUP(B1049,Spiele!B:B,Spiele!F:F))","v":""},"","","",null,null,-1,-1,1,0]
[null,null,{"$f":"IF(B1050=\"\",\"\",LOOKUP(B1050,Spiele!B:B,Spiele!C:C))","v":""},{"$f":"IF(B1050=\"\",\"\",LOOKUP(B1050,Spiele!B:B,Spiele!D:D))","v":""},{"$f":"IF(B1050=\"\",\"\",LOOKUP(B1050,Spiele!B:B,Spiele!E:E))","v":""},{"$f":"IF(B1050=\"\",\"\",LOOKUP(B1050,Spiele!B:B,Spiele!F:F))","v":""},"","","",null,null,-1,-1,1,0]
[null,null,{"$f":"IF(B1051=\"\",\"\",LOOKUP(B1051,Spiele!B:B,Spiele!C:C))","v":""},{"$f":"IF(B1051=\"\",\"\",LOOKUP(B1051,Spiele!B:B,Spiele!D:D))","v":""},{"$f":"IF(B1051=\"\",\"\",LOOKUP(B1051,Spiele!B:B,Spiele!E:E))","v":""},{"$f":"IF(B1051=\"\",\"\",LOOKUP(B1051,Spiele!B:B,Spiele!F:F))","v":""},"","","",null,null,-1,-1,1,0]
[null,null,{"$f":"IF(B1052=\"\",\"\",LOOKUP(B1052,Spiele!B:B,Spiele!C:C))","v":""},{"$f":"IF(B1052=\"\",\"\",LOOKUP(B1052,Spiele!B:B,Spiele!D:D))","v":""},{"$f":"IF(B1052=\"\",\"\",LOOKUP(B1052,Spiele!B:B,Spiele!E:E))","v":""},{"$f":"IF(B1052=\"\",\"\",LOOKUP(B1052,Spiele!B:B,Spiele!F:F))","v":""},"","","",null,null,-1,-1,1,0]
[null,null,{"$f":"IF(B1053=\"\",\"\",LOOKUP(B1053,Spiele!B:B,Spiele!C:C))","v":""},{"$f":"IF(B1053=\"\",\"\",LOOKUP(B1053,Spiele!B:B,Spiele!D:D))","v":""},{"$f":"IF(B1053=\"\",\"\",LOOKUP(B1053,Spiele!B:B,Spiele!E:E))","v":""},{"$f":"IF(B1053=\"\",\"\",LOOKUP(B1053,Spiele!B:B,Spiele!F:F))","v":""},"","","",null,null,-1,-1,1,0]
[null,null,{"$f":"IF(B1054=\"\",\"\",LOOKUP(B1054,Spiele!B:B,Spiele!C:C))","v":""},{"$f":"IF(B1054=\"\",\"\",LOOKUP(B1054,Spiele!B:B,Spiele!D:D))","v":""},{"$f":"IF(B1054=\"\",\"\",LOOKUP(B1054,Spiele!B:B,Spiele!E:E))","v":""},{"$f":"IF(B1054=\"\",\"\",LOOKUP(B1054,Spiele!B:B,Spiele!F:F))","v":""},"","","",null,null,-1,-1,1,0]
[null,null,{"$f":"IF(B1055=\"\",\"\",LOOKUP(B1055,Spiele!B:B,Spiele!C:C))","v":""},{"$f":"IF(B1055=\"\",\"\",LOOKUP(B1055,Spiele!B:B,Spiele!D:D))","v":""},{"$f":"IF(B1055=\"\",\"\",LOOKUP(B1055,Spiele!B:B,Spiele!E:E))","v":""},{"$f":"IF(B1055=\"\",\"\",LOOKUP(B1055,Spiele!B:B,Spiele!F:F))","v":""},"","","",null,null,-1,-1,1,0]
[null,null,{"$f":"IF(B1056=\"\",\"\",LOOKUP(B1056,Spiele!B:B,Spiele!C:C))","v":""},{"$f":"IF(B1056=\"\",\"\",LOOKUP(B1056,Spiele!B:B,Spiele!D:D))","v":""},{"$f":"IF(B1056=\"\",\"\",LOOKUP(B1056,Spiele!B:B,Spiele!E:E))","v":""},{"$f":"IF(B1056=\"\",\"\",LOOKUP(B1056,Spiele!B:B,Spiele!F:F))","v":""},"","","",null,null,-1,-1,1,0]
[null,null,{"$f":"IF(B1057=\"\",\"\",LOOKUP(B1057,Spiele!B:B,Spiele!C:C))","v":""},{"$f":"IF(B1057=\"\",\"\",LOOKUP(B1057,Spiele!B:B,Spiele!D:D))","v":""},{"$f":"IF(B1057=\"\",\"\",LOOKUP(B1057,Spiele!B:B,Spiele!E:E))","v":""},{"$f":"IF(B1057=\"\",\"\",LOOKUP(B1057,Spiele!B:B,Spiele!F:F))","v":""},"","","",null,null,-1,-1,1,0]
[null,null,{"$f":"IF(B1058=\"\",\"\",LOOKUP(B1058,Spiele!B:B,Spiele!C:C))","v":""},{"$f":"IF(B1058=\"\",\"\",LOOKUP(B1058,Spiele!B:B,Spiele!D:D))","v":""},{"$f":"IF(B1058=\"\",\"\",LOOKUP(B1058,Spiele!B:B,Spiele!E:E))","v":""},{"$f":"IF(B1058=\"\",\"\",LOOKUP(B1058,Spiele!B:B,Spiele!F:F))","v":""},"","","",null,null,-1,-1,1,0]
[null,null,{"$f":"IF(B1059=\"\",\"\",LOOKUP(B1059,Spiele!B:B,Spiele!C:C))","v":""},{"$f":"IF(B1059=\"\",\"\",LOOKUP(B1059,Spiele!B:B,Spiele!D:D))","v":""},{"$f":"IF(B1059=\"\",\"\",LOOKUP(B1059,Spiele!B:B,Spiele!E:E))","v":""},{"$f":"IF(B1059=\"\",\"\",LOOKUP(B1059,Spiele!B:B,Spiele!F:F))","v":""},"","","",null,null,-1,-1,1,0]
[null,null,{"$f":"IF(B1060=\"\",\"\",LOOKUP(B1060,Spiele!B:B,Spiele!C:C))","v":""},{"$f":"IF(B1060=\"\",\"\",LOOKUP(B1060,Spiele!B:B,Spiele!D:D))","v":""},{"$f":"IF(B1060=\"\",\"\",LOOKUP(B1060,Spiele!B:B,Spiele!E:E))","v":""},{"$f":"IF(B1060=\"\",\"\",LOOKUP(B1060,Spiele!B:B,Spiele!F:F))","v":""},"","","",null,null,-1,-1,1,0]
[null,null,{"$f":"IF(B1061=\"\",\"\",LOOKUP(B1061,Spiele!B:B,Spiele!C:C))","v":""},{"$f":"IF(B1061=\"\",\"\",LOOKUP(B1061,Spiele!B:B,Spiele!D:D))","v":""},{"$f":"IF(B1061=\"\",\"\",LOOKUP(B1061,Spiele!B:B,Spiele!E:E))","v":""},{"$f":"IF(B1061=\"\",\"\",LOOKUP(B1061,Spiele!B:B,Spiele!F:F))","v":""},"","","",null,null,-1,-1,1,0]
[null,null,{"$f":"IF(B1062=\"\",\"\",LOOKUP(B1062,Spiele!B:B,Spiele!C:C))","v":""},{"$f":"IF(B1062=\"\",\"\",LOOKUP(B1062,Spiele!B:B,Spiele!D:D))","v":""},{"$f":"IF(B1062=\"\",\"\",LOOKUP(B1062,Spiele!B:B,Spiele!E:E))","v":""},{"$f":"IF(B1062=\"\",\"\",LOOKUP(B1062,Spiele!B:B,Spiele!F:F))","v":""},"","","",null,null,-1,-1,1,0]
[null,null,{"$f":"IF(B1063=\"\",\"\",LOOKUP(B1063,Spiele!B:B,Spiele!C:C))","v":""},{"$f":"IF(B1063=\"\",\"\",LOOKUP(B1063,Spiele!B:B,Spiele!D:D))","v":""},{"$f":"IF(B1063=\"\",\"\",LOOKUP(B1063,Spiele!B:B,Spiele!E:E))","v":""},{"$f":"IF(B1063=\"\",\"\",LOOKUP(B1063,Spiele!B:B,Spiele!F:F))","v":""},"","","",null,null,-1,-1,1,0]
[null,null,{"$f":"IF(B1064=\"\",\"\",LOOKUP(B1064,Spiele!B:B,Spiele!C:C))","v":""},{"$f":"IF(B1064=\"\",\"\",LOOKUP(B1064,Spiele!B:B,Spiele!D:D))","v":""},{"$f":"IF(B1064=\"\",\"\",LOOKUP(B1064,Spiele!B:B,Spiele!E:E))","v":""},{"$f":"IF(B1064=\"\",\"\",LOOKUP(B1064,Spiele!B:B,Spiele!F:F))","v":""},"","","",null,null,-1,-1,1,0]
[null,null,{"$f":"IF(B1065=\"\",\"\",LOOKUP(B1065,Spiele!B:B,Spiele!C:C))","v":""},{"$f":"IF(B1065=\"\",\"\",LOOKUP(B1065,Spiele!B:B,Spiele!D:D))","v":""},{"$f":"IF(B1065=\"\",\"\",LOOKUP(B1065,Spiele!B:B,Spiele!E:E))","v":""},{"$f":"IF(B1065=\"\",\"\",LOOKUP(B1065,Spiele!B:B,Spiele!F:F))","v":""},"","","",null,null,-1,-1,1,0]
[null,null,{"$f":"IF(B1066=\"\",\"\",LOOKUP(B1066,Spiele!B:B,Spiele!C:C))","v":""},{"$f":"IF(B1066=\"\",\"\",LOOKUP(B1066,Spiele!B:B,Spiele!D:D))","v":""},{"$f":"IF(B1066=\"\",\"\",LOOKUP(B1066,Spiele!B:B,Spiele!E:E))","v":""},{"$f":"IF(B1066=\"\",\"\",LOOKUP(B1066,Spiele!B:B,Spiele!F:F))","v":""},{"$f":"IF(E1066=\"\",\"\",IF(E1066>F1066,1,0))","v":""},{"$f":"IF(F1066=\"\",\"\",IF(E1066<F1066,1,0))","v":""},{"$f":"IF(E1066=\"\",\"\",IF(E1066=F1066,1,0))","v":""},null,null,{"$f":"IF(E1066=\"\",-1,IF(J1066>K1066,1,-1))","v":-1},{"$f":"IF(F1066=\"\",-1,IF(J1066<K1066,1,-1))","v":-1},{"$f":"IF(E1066=\"-\",-1,IF(J1066=K1066,1,-1))","v":1},{"$f":"IF(E1066=\"\",0,IF(E1066=J1066,1,0)+IF(F1066=K1066,1,0)+IF(G1066=L1066,1,0)+IF(H1066=M1066,1,0)+IF(I1066=N1066,1,0))","v":0}]
[null,null,{"$f":"IF(B1067=\"\",\"\",LOOKUP(B1067,Spiele!B:B,Spiele!C:C))","v":""},{"$f":"IF(B1067=\"\",\"\",LOOKUP(B1067,Spiele!B:B,Spiele!D:D))","v":""},{"$f":"IF(B1067=\"\",\"\",LOOKUP(B1067,Spiele!B:B,Spiele!E:E))","v":""},{"$f":"IF(B1067=\"\",\"\",LOOKUP(B1067,Spiele!B:B,Spiele!F:F))","v":""},"","","",null,null,-1,-1,1,0]
[null,null,{"$f":"IF(B1068=\"\",\"\",LOOKUP(B1068,Spiele!B:B,Spiele!C:C))","v":""},{"$f":"IF(B1068=\"\",\"\",LOOKUP(B1068,Spiele!B:B,Spiele!D:D))","v":""},{"$f":"IF(B1068=\"\",\"\",LOOKUP(B1068,Spiele!B:B,Spiele!E:E))","v":""},{"$f":"IF(B1068=\"\",\"\",LOOKUP(B1068,Spiele!B:B,Spiele!F:F))","v":""},"","","",null,null,-1,-1,1,0]
[null,null,{"$f":"IF(B1069=\"\",\"\",LOOKUP(B1069,Spiele!B:B,Spiele!C:C))","v":""},{"$f":"IF(B1069=\"\",\"\",LOOKUP(B1069,Spiele!B:B,Spiele!D:D))","v":""},{"$f":"IF(B1069=\"\",\"\",LOOKUP(B1069,Spiele!B:B,Spiele!E:E))","v":""},{"$f":"IF(B1069=\"\",\"\",LOOKUP(B1069,Spiele!B:B,Spiele!F:F))","v":""},"","","",null,null,-1,-1,1,0]
[null,null,{"$f":"IF(B1070=\"\",\"\",LOOKUP(B1070,Spiele!B:B,Spiele!C:C))","v":""},{"$f":"IF(B1070=\"\",\"\",LOOKUP(B1070,Spiele!B:B,Spiele!D:D))","v":""},{"$f":"IF(B1070=\"\",\"\",LOOKUP(B1070,Spiele!B:B,Spiele!E:E))","v":""},{"$f":"IF(B1070=\"\",\"\",LOOKUP(B1070,Spiele!B:B,Spiele!F:F))","v":""},"","","",null,null,-1,-1,1,0]
[null,null,{"$f":"IF(B1071=\"\",\"\",LOOKUP(B1071,Spiele!B:B,Spiele!C:C))","v":""},{"$f":"IF(B1071=\"\",\"\",LOOKUP(B1071,Spiele!B:B,Spiele!D:D))","v":""},{"$f":"IF(B1071=\"\",\"\",LOOKUP(B1071,Spiele!B:B,Spiele!E:E))","v":""},{"$f":"IF(B1071=\"\",\"\",LOOKUP(B1071,Spiele!B:B,Spiele!F:F))","v":""},"","","",null,null,-1,-1,1,0]
[null,null,{"$f":"IF(B1072=\"\",\"\",LOOKUP(B1072,Spiele!B:B,Spiele!C:C))","v":""},{"$f":"IF(B1072=\"\",\"\",LOOKUP(B1072,Spiele!B:B,Spiele!D:D))","v":""},{"$f":"IF(B1072=\"\",\"\",LOOKUP(B1072,Spiele!B:B,Spiele!E:E))","v":""},{"$f":"IF(B1072=\"\",\"\",LOOKUP(B1072,Spiele!B:B,Spiele!F:F))","v":""},"","","",null,null,-1,-1,1,0]
[null,null,{"$f":"IF(B1073=\"\",\"\",LOOKUP(B1073,Spiele!B:B,Spiele!C:C))","v":""},{"$f":"IF(B1073=\"\",\"\",LOOKUP(B1073,Spiele!B:B,Spiele!D:D))","v":""},{"$f":"IF(B1073=\"\",\"\",LOOKUP(B1073,Spiele!B:B,Spiele!E:E))","v":""},{"$f":"IF(B1073=\"\",\"\",LOOKUP(B1073,Spiele!B:B,Spiele!F:F))","v":""},"","","",null,null,-1,-1,1,0]
[null,null,{"$f":"IF(B1074=\"\",\"\",LOOKUP(B1074,Spiele!B:B,Spiele!C:C))","v":""},{"$f":"IF(B1074=\"\",\"\",LOOKUP(B1074,Spiele!B:B,Spiele!D:D))","v":""},{"$f":"IF(B1074=\"\",\"\",LOOKUP(B1074,Spiele!B:B,Spiele!E:E))","v":""},{"$f":"IF(B1074=\"\",\"\",LOOKUP(B1074,Spiele!B:B,Spiele!F:F))","v":""},"","","",null,null,-1,-1,1,0]
[null,null,{"$f":"IF(B1075=\"\",\"\",LOOKUP(B1075,Spiele!B:B,Spiele!C:C))","v":""},{"$f":"IF(B1075=\"\",\"\",LOOKUP(B1075,Spiele!B:B,Spiele!D:D))","v":""},{"$f":"IF(B1075=\"\",\"\",LOOKUP(B1075,Spiele!B:B,Spiele!E:E))","v":""},{"$f":"IF(B1075=\"\",\"\",LOOKUP(B1075,Spiele!B:B,Spiele!F:F))","v":""},"","","",null,null,-1,-1,1,0]
[null,null,{"$f":"IF(B1076=\"\",\"\",LOOKUP(B1076,Spiele!B:B,Spiele!C:C))","v":""},{"$f":"IF(B1076=\"\",\"\",LOOKUP(B1076,Spiele!B:B,Spiele!D:D))","v":""},{"$f":"IF(B1076=\"\",\"\",LOOKUP(B1076,Spiele!B:B,Spiele!E:E))","v":""},{"$f":"IF(B1076=\"\",\"\",LOOKUP(B1076,Spiele!B:B,Spiele!F:F))","v":""},"","","",null,null,-1,-1,1,0]
[null,null,{"$f":"IF(B1077=\"\",\"\",LOOKUP(B1077,Spiele!B:B,Spiele!C:C))","v":""},{"$f":"IF(B1077=\"\",\"\",LOOKUP(B1077,Spiele!B:B,Spiele!D:D))","v":""},{"$f":"IF(B1077=\"\",\"\",LOOKUP(B1077,Spiele!B:B,Spiele!E:E))","v":""},{"$f":"IF(B1077=\"\",\"\",LOOKUP(B1077,Spiele!B:B,Spiele!F:F))","v":""},"","","",null,null,-1,-1,1,0]
[null,null,{"$f":"IF(B1078=\"\",\"\",LOOKUP(B1078,Spiele!B:B,Spiele!C:C))","v":""},{"$f":"IF(B1078=\"\",\"\",LOOKUP(B1078,Spiele!B:B,Spiele!D:D))","v":""},{"$f":"IF(B1078=\"\",\"\",LOOKUP(B1078,Spiele!B:B,Spiele!E:E))","v":""},{"$f":"IF(B1078=\"\",\"\",LOOKUP(B1078,Spiele!B:B,Spiele!F:F))","v":""},"","","",null,null,-1,-1,1,0]
[null,null,{"$f":"IF(B1079=\"\",\"\",LOOKUP(B1079,Spiele!B:B,Spiele!C:C))","v":""},{"$f":"IF(B1079=\"\",\"\",LOOKUP(B1079,Spiele!B:B,Spiele!D:D))","v":""},{"$f":"IF(B1079=\"\",\"\",LOOKUP(B1079,Spiele!B:B,Spiele!E:E))","v":""},{"$f":"IF(B1079=\"\",\"\",LOOKUP(B1079,Spiele!B:B,Spiele!F:F))","v":""},"","","",null,null,-1,-1,1,0]
[null,null,{"$f":"IF(B1080=\"\",\"\",LOOKUP(B1080,Spiele!B:B,Spiele!C:C))","v":""},{"$f":"IF(B1080=\"\",\"\",LOOKUP(B1080,Spiele!B:B,Spiele!D:D))","v":""},{"$f":"IF(B1080=\"\",\"\",LOOKUP(B1080,Spiele!B:B,Spiele!E:E))","v":""},{"$f":"IF(B1080=\"\",\"\",LOOKUP(B1080,Spiele!B:B,Spiele!F:F))","v":""},"","","",null,null,-1,-1,1,0]
[null,null,{"$f":"IF(B1081=\"\",\"\",LOOKUP(B1081,Spiele!B:B,Spiele!C:C))","v":""},{"$f":"IF(B1081=\"\",\"\",LOOKUP(B1081,Spiele!B:B,Spiele!D:D))","v":""},{"$f":"IF(B1081=\"\",\"\",LOOKUP(B1081,Spiele!B:B,Spiele!E:E))","v":""},{"$f":"IF(B1081=\"\",\"\",LOOKUP(B1081,Spiele!B:B,Spiele!F:F))","v":""},"","","",null,null,-1,-1,1,0]
[null,null,{"$f":"IF(B1082=\"\",\"\",LOOKUP(B1082,Spiele!B:B,Spiele!C:C))","v":""},{"$f":"IF(B1082=\"\",\"\",LOOKUP(B1082,Spiele!B:B,Spiele!D:D))","v":""},{"$f":"IF(B1082=\"\",\"\",LOOKUP(B1082,Spiele!B:B,Spiele!E:E))","v":""},{"$f":"IF(B1082=\"\",\"\",LOOKUP(B1082,Spiele!B:B,Spiele!F:F))","v":""},"","","",null,null,-1,-1,1,0]
[null,null,{"$f":"IF(B1083=\"\",\"\",LOOKUP(B1083,Spiele!B:B,Spiele!C:C))","v":""},{"$f":"IF(B1083=\"\",\"\",LOOKUP(B1083,Spiele!B:B,Spiele!D:D))","v":""},{"$f":"IF(B1083=\"\",\"\",LOOKUP(B1083,Spiele!B:B,Spiele!E:E))","v":""},{"$f":"IF(B1083=\"\",\"\",LOOKUP(B1083,Spiele!B:B,Spiele!F:F))","v":""},"","","",null,null,-1,-1,1,0]
[null,null,{"$f":"IF(B1084=\"\",\"\",LOOKUP(B1084,Spiele!B:B,Spiele!C:C))","v":""},{"$f":"IF(B1084=\"\",\"\",LOOKUP(B1084,Spiele!B:B,Spiele!D:D))","v":""},{"$f":"IF(B1084=\"\",\"\",LOOKUP(B1084,Spiele!B:B,Spiele!E:E))","v":""},{"$f":"IF(B1084=\"\",\"\",LOOKUP(B1084,Spiele!B:B,Spiele!F:F))","v":""},"","","",null,null,-1,-1,1,0]
[null,null,{"$f":"IF(B1085=\"\",\"\",LOOKUP(B1085,Spiele!B:B,Spiele!C:C))","v":""},{"$f":"IF(B1085=\"\",\"\",LOOKUP(B1085,Spiele!B:B,Spiele!D:D))","v":""},{"$f":"IF(B1085=\"\",\"\",LOOKUP(B1085,Spiele!B:B,Spiele!E:E))","v":""},{"$f":"IF(B1085=\"\",\"\",LOOKUP(B1085,Spiele!B:B,Spiele!F:F))","v":""},"","","",null,null,-1,-1,1,0]
[null,null,{"$f":"IF(B1086=\"\",\"\",LOOKUP(B1086,Spiele!B:B,Spiele!C:C))","v":""},{"$f":"IF(B1086=\"\",\"\",LOOKUP(B1086,Spiele!B:B,Spiele!D:D))","v":""},{"$f":"IF(B1086=\"\",\"\",LOOKUP(B1086,Spiele!B:B,Spiele!E:E))","v":""},{"$f":"IF(B1086=\"\",\"\",LOOKUP(B1086,Spiele!B:B,Spiele!F:F))","v":""},"","","",null,null,-1,-1,1,0]
[null,null,{"$f":"IF(B1087=\"\",\"\",LOOKUP(B1087,Spiele!B:B,Spiele!C:C))","v":""},{"$f":"IF(B1087=\"\",\"\",LOOKUP(B1087,Spiele!B:B,Spiele!D:D))","v":""},{"$f":"IF(B1087=\"\",\"\",LOOKUP(B1087,Spiele!B:B,Spiele!E:E))","v":""},{"$f":"IF(B1087=\"\",\"\",LOOKUP(B1087,Spiele!B:B,Spiele!F:F))","v":""},"","","",null,null,-1,-1,1,0]
[null,null,{"$f":"IF(B1088=\"\",\"\",LOOKUP(B1088,Spiele!B:B,Spiele!C:C))","v":""},{"$f":"IF(B1088=\"\",\"\",LOOKUP(B1088,Spiele!B:B,Spiele!D:D))","v":""},{"$f":"IF(B1088=\"\",\"\",LOOKUP(B1088,Spiele!B:B,Spiele!E:E))","v":""},{"$f":"IF(B1088=\"\",\"\",LOOKUP(B1088,Spiele!B:B,Spiele!F:F))","v":""},"","","",null,null,-1,-1,1,0]
[null,null,{"$f":"IF(B1089=\"\",\"\",LOOKUP(B1089,Spiele!B:B,Spiele!C:C))","v":""},{"$f":"IF(B1089=\"\",\"\",LOOKUP(B1089,Spiele!B:B,Spiele!D:D))","v":""},{"$f":"IF(B1089=\"\",\"\",LOOKUP(B1089,Spiele!B:B,Spiele!E:E))","v":""},{"$f":"IF(B1089=\"\",\"\",LOOKUP(B1089,Spiele!B:B,Spiele!F:F))","v":""},"","","",null,null,-1,-1,1,0]
[null,null,{"$f":"IF(B1090=\"\",\"\",LOOKUP(B1090,Spiele!B:B,Spiele!C:C))","v":""},{"$f":"IF(B1090=\"\",\"\",LOOKUP(B1090,Spiele!B:B,Spiele!D:D))","v":""},{"$f":"IF(B1090=\"\",\"\",LOOKUP(B1090,Spiele!B:B,Spiele!E:E))","v":""},{"$f":"IF(B1090=\"\",\"\",LOOKUP(B1090,Spiele!B:B,Spiele!F:F))","v":""},"","","",null,null,-1,-1,1,0]
[null,null,{"$f":"IF(B1091=\"\",\"\",LOOKUP(B1091,Spiele!B:B,Spiele!C:C))","v":""},{"$f":"IF(B1091=\"\",\"\",LOOKUP(B1091,Spiele!B:B,Spiele!D:D))","v":""},{"$f":"IF(B1091=\"\",\"\",LOOKUP(B1091,Spiele!B:B,Spiele!E:E))","v":""},{"$f":"IF(B1091=\"\",\"\",LOOKUP(B1091,Spiele!B:B,Spiele!F:F))","v":""},"","","",null,null,-1,-1,1,0]
[null,null,{"$f":"IF(B1092=\"\",\"\",LOOKUP(B1092,Spiele!B:B,Spiele!C:C))","v":""},{"$f":"IF(B1092=\"\",\"\",LOOKUP(B1092,Spiele!B:B,Spiele!D:D))","v":""},{"$f":"IF(B1092=\"\",\"\",LOOKUP(B1092,Spiele!B:B,Spiele!E:E))","v":""},{"$f":"IF(B1092=\"\",\"\",LOOKUP(B1092,Spiele!B:B,Spiele!F:F))","v":""},"","","",null,null,-1,-1,1,0]
[null,null,{"$f":"IF(B1093=\"\",\"\",LOOKUP(B1093,Spiele!B:B,Spiele!C:C))","v":""},{"$f":"IF(B1093=\"\",\"\",LOOKUP(B1093,Spiele!B:B,Spiele!D:D))","v":""},{"$f":"IF(B1093=\"\",\"\",LOOKUP(B1093,Spiele!B:B,Spiele!E:E))","v":""},{"$f":"IF(B1093=\"\",\"\",LOOKUP(B1093,Spiele!B:B,Spiele!F:F))","v":""},"","","",null,null,-1,-1,1,0]
[null,null,{"$f":"IF(B1094=\"\",\"\",LOOKUP(B1094,Spiele!B:B,Spiele!C:C))","v":""},{"$f":"IF(B1094=\"\",\"\",LOOKUP(B1094,Spiele!B:B,Spiele!D:D))","v":""},{"$f":"IF(B1094=\"\",\"\",LOOKUP(B1094,Spiele!B:B,Spiele!E:E))","v":""},{"$f":"IF(B1094=\"\",\"\",LOOKUP(B1094,Spiele!B:B,Spiele!F:F))","v":""},"","","",null,null,-1,-1,1,0]
[null,null,{"$f":"IF(B1095=\"\",\"\",LOOKUP(B1095,Spiele!B:B,Spiele!C:C))","v":""},{"$f":"IF(B1095=\"\",\"\",LOOKUP(B1095,Spiele!B:B,Spiele!D:D))","v":""},{"$f":"IF(B1095=\"\",\"\",LOOKUP(B1095,Spiele!B:B,Spiele!E:E))","v":""},{"$f":"IF(B1095=\"\",\"\",LOOKUP(B1095,Spiele!B:B,Spiele!F:F))","v":""},"","","",null,null,-1,-1,1,0]
[null,null,{"$f":"IF(B1096=\"\",\"\",LOOKUP(B1096,Spiele!B:B,Spiele!C:C))","v":""},{"$f":"IF(B1096=\"\",\"\",LOOKUP(B1096,Spiele!B:B,Spiele!D:D))","v":""},{"$f":"IF(B1096=\"\",\"\",LOOKUP(B1096,Spiele!B:B,Spiele!E:E))","v":""},{"$f":"IF(B1096=\"\",\"\",LOOKUP(B1096,Spiele!B:B,Spiele!F:F))","v":""},"","","",null,null,-1,-1,1,0]
[null,null,{"$f":"IF(B1097=\"\",\"\",LOOKUP(B1097,Spiele!B:B,Spiele!C:C))","v":""},{"$f":"IF(B1097=\"\",\"\",LOOKUP(B1097,Spiele!B:B,Spiele!D:D))","v":""},{"$f":"IF(B1097=\"\",\"\",LOOKUP(B1097,Spiele!B:B,Spiele!E:E))","v":""},{"$f":"IF(B1097=\"\",\"\",LOOKUP(B1097,Spiele!B:B,Spiele!F:F))","v":""},"","","",null,null,-1,-1,1,0]
[null,null,{"$f":"IF(B1098=\"\",\"\",LOOKUP(B1098,Spiele!B:B,Spiele!C:C))","v":""},{"$f":"IF(B1098=\"\",\"\",LOOKUP(B1098,Spiele!B:B,Spiele!D:D))","v":""},{"$f":"IF(B1098=\"\",\"\",LOOKUP(B1098,Spiele!B:B,Spiele!E:E))","v":""},{"$f":"IF(B1098=\"\",\"\",LOOKUP(B1098,Spiele!B:B,Spiele!F:F))","v":""},"","","",null,null,-1,-1,1,0]
[null,null,{"$f":"IF(B1099=\"\",\"\",LOOKUP(B1099,Spiele!B:B,Spiele!C:C))","v":""},{"$f":"IF(B1099=\"\",\"\",LOOKUP(B1099,Spiele!B:B,Spiele!D:D))","v":""},{"$f":"IF(B1099=\"\",\"\",LOOKUP(B1099,Spiele!B:B,Spiele!E:E))","v":""},{"$f":"IF(B1099=\"\",\"\",LOOKUP(B1099,Spiele!B:B,Spiele!F:F))","v":""},"","","",null,null,-1,-1,1,0]
[null,null,{"$f":"IF(B1100=\"\",\"\",LOOKUP(B1100,Spiele!B:B,Spiele!C:C))","v":""},{"$f":"IF(B1100=\"\",\"\",LOOKUP(B1100,Spiele!B:B,Spiele!D:D))","v":""},{"$f":"IF(B1100=\"\",\"\",LOOKUP(B1100,Spiele!B:B,Spiele!E:E))","v":""},{"$f":"IF(B1100=\"\",\"\",LOOKUP(B1100,Spiele!B:B,Spiele!F:F))","v":""},"","","",null,null,-1,-1,1,0]
[null,null,{"$f":"IF(B1101=\"\",\"\",LOOKUP(B1101,Spiele!B:B,Spiele!C:C))","v":""},{"$f":"IF(B1101=\"\",\"\",LOOKUP(B1101,Spiele!B:B,Spiele!D:D))","v":""},{"$f":"IF(B1101=\"\",\"\",LOOKUP(B1101,Spiele!B:B,Spiele!E:E))","v":""},{"$f":"IF(B1101=\"\",\"\",LOOKUP(B1101,Spiele!B:B,Spiele!F:F))","v":""},"","","",null,null,-1,-1,1,0]
[null,null,{"$f":"IF(B1102=\"\",\"\",LOOKUP(B1102,Spiele!B:B,Spiele!C:C))","v":""},{"$f":"IF(B1102=\"\",\"\",LOOKUP(B1102,Spiele!B:B,Spiele!D:D))","v":""},{"$f":"IF(B1102=\"\",\"\",LOOKUP(B1102,Spiele!B:B,Spiele!E:E))","v":""},{"$f":"IF(B1102=\"\",\"\",LOOKUP(B1102,Spiele!B:B,Spiele!F:F))","v":""},"","","",null,null,-1,-1,1,0]
[null,null,{"$f":"IF(B1103=\"\",\"\",LOOKUP(B1103,Spiele!B:B,Spiele!C:C))","v":""},{"$f":"IF(B1103=\"\",\"\",LOOKUP(B1103,Spiele!B:B,Spiele!D:D))","v":""},{"$f":"IF(B1103=\"\",\"\",LOOKUP(B1103,Spiele!B:B,Spiele!E:E))","v":""},{"$f":"IF(B1103=\"\",\"\",LOOKUP(B1103,Spiele!B:B,Spiele!F:F))","v":""},"","","",null,null,-1,-1,1,0]
[null,null,{"$f":"IF(B1104=\"\",\"\",LOOKUP(B1104,Spiele!B:B,Spiele!C:C))","v":""},{"$f":"IF(B1104=\"\",\"\",LOOKUP(B1104,Spiele!B:B,Spiele!D:D))","v":""},{"$f":"IF(B1104=\"\",\"\",LOOKUP(B1104,Spiele!B:B,Spiele!E:E))","v":""},{"$f":"IF(B1104=\"\",\"\",LOOKUP(B1104,Spiele!B:B,Spiele!F:F))","v":""},"","","",null,null,-1,-1,1,0]
[null,null,{"$f":"IF(B1105=\"\",\"\",LOOKUP(B1105,Spiele!B:B,Spiele!C:C))","v":""},{"$f":"IF(B1105=\"\",\"\",LOOKUP(B1105,Spiele!B:B,Spiele!D:D))","v":""},{"$f":"IF(B1105=\"\",\"\",LOOKUP(B1105,Spiele!B:B,Spiele!E:E))","v":""},{"$f":"IF(B1105=\"\",\"\",LOOKUP(B1105,Spiele!B:B,Spiele!F:F))","v":""},"","","",null,null,-1,-1,1,0]
[null,null,{"$f":"IF(B1106=\"\",\"\",LOOKUP(B1106,Spiele!B:B,Spiele!C:C))","v":""},{"$f":"IF(B1106=\"\",\"\",LOOKUP(B1106,Spiele!B:B,Spiele!D:D))","v":""},{"$f":"IF(B1106=\"\",\"\",LOOKUP(B1106,Spiele!B:B,Spiele!E:E))","v":""},{"$f":"IF(B1106=\"\",\"\",LOOKUP(B1106,Spiele!B:B,Spiele!F:F))","v":""},"","","",null,null,-1,-1,1,0]
[null,null,{"$f":"IF(B1107=\"\",\"\",LOOKUP(B1107,Spiele!B:B,Spiele!C:C))","v":""},{"$f":"IF(B1107=\"\",\"\",LOOKUP(B1107,Spiele!B:B,Spiele!D:D))","v":""},{"$f":"IF(B1107=\"\",\"\",LOOKUP(B1107,Spiele!B:B,Spiele!E:E))","v":""},{"$f":"IF(B1107=\"\",\"\",LOOKUP(B1107,Spiele!B:B,Spiele!F:F))","v":""},"","","",null,null,-1,-1,1,0]
[null,null,{"$f":"IF(B1108=\"\",\"\",LOOKUP(B1108,Spiele!B:B,Spiele!C:C))","v":""},{"$f":"IF(B1108=\"\",\"\",LOOKUP(B1108,Spiele!B:B,Spiele!D:D))","v":""},{"$f":"IF(B1108=\"\",\"\",LOOKUP(B1108,Spiele!B:B,Spiele!E:E))","v":""},{"$f":"IF(B1108=\"\",\"\",LOOKUP(B1108,Spiele!B:B,Spiele!F:F))","v":""},"","","",null,null,-1,-1,1,0]
[null,null,{"$f":"IF(B1109=\"\",\"\",LOOKUP(B1109,Spiele!B:B,Spiele!C:C))","v":""},{"$f":"IF(B1109=\"\",\"\",LOOKUP(B1109,Spiele!B:B,Spiele!D:D))","v":""},{"$f":"IF(B1109=\"\",\"\",LOOKUP(B1109,Spiele!B:B,Spiele!E:E))","v":""},{"$f":"IF(B1109=\"\",\"\",LOOKUP(B1109,Spiele!B:B,Spiele!F:F))","v":""},"","","",null,null,-1,-1,1,0]
[null,null,{"$f":"IF(B1110=\"\",\"\",LOOKUP(B1110,Spiele!B:B,Spiele!C:C))","v":""},{"$f":"IF(B1110=\"\",\"\",LOOKUP(B1110,Spiele!B:B,Spiele!D:D))","v":""},{"$f":"IF(B1110=\"\",\"\",LOOKUP(B1110,Spiele!B:B,Spiele!E:E))","v":""},{"$f":"IF(B1110=\"\",\"\",LOOKUP(B1110,Spiele!B:B,Spiele!F:F))","v":""},"","","",null,null,-1,-1,1,0]
[null,null,{"$f":"IF(B1111=\"\",\"\",LOOKUP(B1111,Spiele!B:B,Spiele!C:C))","v":""},{"$f":"IF(B1111=\"\",\"\",LOOKUP(B1111,Spiele!B:B,Spiele!D:D))","v":""},{"$f":"IF(B1111=\"\",\"\",LOOKUP(B1111,Spiele!B:B,Spiele!E:E))","v":""},{"$f":"IF(B1111=\"\",\"\",LOOKUP(B1111,Spiele!B:B,Spiele!F:F))","v":""},"","","",null,null,-1,-1,1,0]
[null,null,{"$f":"IF(B1112=\"\",\"\",LOOKUP(B1112,Spiele!B:B,Spiele!C:C))","v":""},{"$f":"IF(B1112=\"\",\"\",LOOKUP(B1112,Spiele!B:B,Spiele!D:D))","v":""},{"$f":"IF(B1112=\"\",\"\",LOOKUP(B1112,Spiele!B:B,Spiele!E:E))","v":""},{"$f":"IF(B1112=\"\",\"\",LOOKUP(B1112,Spiele!B:B,Spiele!F:F))","v":""},"","","",null,null,-1,-1,1,0]
[null,null,{"$f":"IF(B1113=\"\",\"\",LOOKUP(B1113,Spiele!B:B,Spiele!C:C))","v":""},{"$f":"IF(B1113=\"\",\"\",LOOKUP(B1113,Spiele!B:B,Spiele!D:D))","v":""},{"$f":"IF(B1113=\"\",\"\",LOOKUP(B1113,Spiele!B:B,Spiele!E:E))","v":""},{"$f":"IF(B1113=\"\",\"\",LOOKUP(B1113,Spiele!B:B,Spiele!F:F))","v":""},"","","",null,null,-1,-1,1,0]
[null,null,{"$f":"IF(B1114=\"\",\"\",LOOKUP(B1114,Spiele!B:B,Spiele!C:C))","v":""},{"$f":"IF(B1114=\"\",\"\",LOOKUP(B1114,Spiele!B:B,Spiele!D:D))","v":""},{"$f":"IF(B1114=\"\",\"\",LOOKUP(B1114,Spiele!B:B,Spiele!E:E))","v":""},{"$f":"IF(B1114=\"\",\"\",LOOKUP(B1114,Spiele!B:B,Spiele!F:F))","v":""},"","","",null,null,-1,-1,1,0]
[null,null,{"$f":"IF(B1115=\"\",\"\",LOOKUP(B1115,Spiele!B:B,Spiele!C:C))","v":""},{"$f":"IF(B1115=\"\",\"\",LOOKUP(B1115,Spiele!B:B,Spiele!D:D))","v":""},{"$f":"IF(B1115=\"\",\"\",LOOKUP(B1115,Spiele!B:B,Spiele!E:E))","v":""},{"$f":"IF(B1115=\"\",\"\",LOOKUP(B1115,Spiele!B:B,Spiele!F:F))","v":""},"","","",null,null,-1,-1,1,0]
[null,null,{"$f":"IF(B1116=\"\",\"\",LOOKUP(B1116,Spiele!B:B,Spiele!C:C))","v":""},{"$f":"IF(B1116=\"\",\"\",LOOKUP(B1116,Spiele!B:B,Spiele!D:D))","v":""},{"$f":"IF(B1116=\"\",\"\",LOOKUP(B1116,Spiele!B:B,Spiele!E:E))","v":""},{"$f":"IF(B1116=\"\",\"\",LOOKUP(B1116,Spiele!B:B,Spiele!F:F))","v":""},"","","",null,null,-1,-1,1,0]
[null,null,{"$f":"IF(B1117=\"\",\"\",LOOKUP(B1117,Spiele!B:B,Spiele!C:C))","v":""},{"$f":"IF(B1117=\"\",\"\",LOOKUP(B1117,Spiele!B:B,Spiele!D:D))","v":""},{"$f":"IF(B1117=\"\",\"\",LOOKUP(B1117,Spiele!B:B,Spiele!E:E))","v":""},{"$f":"IF(B1117=\"\",\"\",LOOKUP(B1117,Spiele!B:B,Spiele!F:F))","v":""},"","","",null,null,-1,-1,1,0]
[null,null,{"$f":"IF(B1118=\"\",\"\",LOOKUP(B1118,Spiele!B:B,Spiele!C:C))","v":""},{"$f":"IF(B1118=\"\",\"\",LOOKUP(B1118,Spiele!B:B,Spiele!D:D))","v":""},{"$f":"IF(B1118=\"\",\"\",LOOKUP(B1118,Spiele!B:B,Spiele!E:E))","v":""},{"$f":"IF(B1118=\"\",\"\",LOOKUP(B1118,Spiele!B:B,Spiele!F:F))","v":""},"","","",null,null,-1,-1,1,0]
[null,null,{"$f":"IF(B1119=\"\",\"\",LOOKUP(B1119,Spiele!B:B,Spiele!C:C))","v":""},{"$f":"IF(B1119=\"\",\"\",LOOKUP(B1119,Spiele!B:B,Spiele!D:D))","v":""},{"$f":"IF(B1119=\"\",\"\",LOOKUP(B1119,Spiele!B:B,Spiele!E:E))","v":""},{"$f":"IF(B1119=\"\",\"\",LOOKUP(B1119,Spiele!B:B,Spiele!F:F))","v":""},"","","",null,null,-1,-1,1,0]
[null,null,{"$f":"IF(B1120=\"\",\"\",LOOKUP(B1120,Spiele!B:B,Spiele!C:C))","v":""},{"$f":"IF(B1120=\"\",\"\",LOOKUP(B1120,Spiele!B:B,Spiele!D:D))","v":""},{"$f":"IF(B1120=\"\",\"\",LOOKUP(B1120,Spiele!B:B,Spiele!E:E))","v":""},{"$f":"IF(B1120=\"\",\"\",LOOKUP(B1120,Spiele!B:B,Spiele!F:F))","v":""},"","","",null,null,-1,-1,1,0]
[null,null,{"$f":"IF(B1121=\"\",\"\",LOOKUP(B1121,Spiele!B:B,Spiele!C:C))","v":""},{"$f":"IF(B1121=\"\",\"\",LOOKUP(B1121,Spiele!B:B,Spiele!D:D))","v":""},{"$f":"IF(B1121=\"\",\"\",LOOKUP(B1121,Spiele!B:B,Spiele!E:E))","v":""},{"$f":"IF(B1121=\"\",\"\",LOOKUP(B1121,Spiele!B:B,Spiele!F:F))","v":""},"","","",null,null,-1,-1,1,0]
[null,null,{"$f":"IF(B1122=\"\",\"\",LOOKUP(B1122,Spiele!B:B,Spiele!C:C))","v":""},{"$f":"IF(B1122=\"\",\"\",LOOKUP(B1122,Spiele!B:B,Spiele!D:D))","v":""},{"$f":"IF(B1122=\"\",\"\",LOOKUP(B1122,Spiele!B:B,Spiele!E:E))","v":""},{"$f":"IF(B1122=\"\",\"\",LOOKUP(B1122,Spiele!B:B,Spiele!F:F))","v":""},"","","",null,null,-1,-1,1,0]
[null,null,{"$f":"IF(B1123=\"\",\"\",LOOKUP(B1123,Spiele!B:B,Spiele!C:C))","v":""},{"$f":"IF(B1123=\"\",\"\",LOOKUP(B1123,Spiele!B:B,Spiele!D:D))","v":""},{"$f":"IF(B1123=\"\",\"\",LOOKUP(B1123,Spiele!B:B,Spiele!E:E))","v":""},{"$f":"IF(B1123=\"\",\"\",LOOKUP(B1123,Spiele!B:B,Spiele!F:F))","v":""},"","","",null,null,-1,-1,1,0]
[null,null,{"$f":"IF(B1124=\"\",\"\",LOOKUP(B1124,Spiele!B:B,Spiele!C:C))","v":""},{"$f":"IF(B1124=\"\",\"\",LOOKUP(B1124,Spiele!B:B,Spiele!D:D))","v":""},{"$f":"IF(B1124=\"\",\"\",LOOKUP(B1124,Spiele!B:B,Spiele!E:E))","v":""},{"$f":"IF(B1124=\"\",\"\",LOOKUP(B1124,Spiele!B:B,Spiele!F:F))","v":""},"","","",null,null,-1,-1,1,0]
[null,null,{"$f":"IF(B1125=\"\",\"\",LOOKUP(B1125,Spiele!B:B,Spiele!C:C))","v":""},{"$f":"IF(B1125=\"\",\"\",LOOKUP(B1125,Spiele!B:B,Spiele!D:D))","v":""},{"$f":"IF(B1125=\"\",\"\",LOOKUP(B1125,Spiele!B:B,Spiele!E:E))","v":""},{"$f":"IF(B1125=\"\",\"\",LOOKUP(B1125,Spiele!B:B,Spiele!F:F))","v":""},"","","",null,null,-1,-1,1,0]
[null,null,{"$f":"IF(B1126=\"\",\"\",LOOKUP(B1126,Spiele!B:B,Spiele!C:C))","v":""},{"$f":"IF(B1126=\"\",\"\",LOOKUP(B1126,Spiele!B:B,Spiele!D:D))","v":""},{"$f":"IF(B1126=\"\",\"\",LOOKUP(B1126,Spiele!B:B,Spiele!E:E))","v":""},{"$f":"IF(B1126=\"\",\"\",LOOKUP(B1126,Spiele!B:B,Spiele!F:F))","v":""},"","","",null,null,-1,-1,1,0]
[null,null,{"$f":"IF(B1127=\"\",\"\",LOOKUP(B1127,Spiele!B:B,Spiele!C:C))","v":""},{"$f":"IF(B1127=\"\",\"\",LOOKUP(B1127,Spiele!B:B,Spiele!D:D))","v":""},{"$f":"IF(B1127=\"\",\"\",LOOKUP(B1127,Spiele!B:B,Spiele!E:E))","v":""},{"$f":"IF(B1127=\"\",\"\",LOOKUP(B1127,Spiele!B:B,Spiele!F:F))","v":""},"","","",null,null,-1,-1,1,0]
[null,null,{"$f":"IF(B1128=\"\",\"\",LOOKUP(B1128,Spiele!B:B,Spiele!C:C))","v":""},{"$f":"IF(B1128=\"\",\"\",LOOKUP(B1128,Spiele!B:B,Spiele!D:D))","v":""},{"$f":"IF(B1128=\"\",\"\",LOOKUP(B1128,Spiele!B:B,Spiele!E:E))","v":""},{"$f":"IF(B1128=\"\",\"\",LOOKUP(B1128,Spiele!B:B,Spiele!F:F))","v":""},"","","",null,null,-1,-1,1,0]
[null,null,{"$f":"IF(B1129=\"\",\"\",LOOKUP(B1129,Spiele!B:B,Spiele!C:C))","v":""},{"$f":"IF(B1129=\"\",\"\",LOOKUP(B1129,Spiele!B:B,Spiele!D:D))","v":""},{"$f":"IF(B1129=\"\",\"\",LOOKUP(B1129,Spiele!B:B,Spiele!E:E))","v":""},{"$f":"IF(B1129=\"\",\"\",LOOKUP(B1129,Spiele!B:B,Spiele!F:F))","v":""},"","","",null,null,-1,-1,1,0]
[null,null,{"$f":"IF(B1130=\"\",\"\",LOOKUP(B1130,Spiele!B:B,Spiele!C:C))","v":""},{"$f":"IF(B1130=\"\",\"\",LOOKUP(B1130,Spiele!B:B,Spiele!D:D))","v":""},{"$f":"IF(B1130=\"\",\"\",LOOKUP(B1130,Spiele!B:B,Spiele!E:E))","v":""},{"$f":"IF(B1130=\"\",\"\",LOOKUP(B1130,Spiele!B:B,Spiele!F:F))","v":""},{"$f":"IF(E1130=\"\",\"\",IF(E1130>F1130,1,0))","v":""},{"$f":"IF(F1130=\"\",\"\",IF(E1130<F1130,1,0))","v":""},{"$f":"IF(E1130=\"\",\"\",IF(E1130=F1130,1,0))","v":""},null,null,{"$f":"IF(E1130=\"\",-1,IF(J1130>K1130,1,-1))","v":-1},{"$f":"IF(F1130=\"\",-1,IF(J1130<K1130,1,-1))","v":-1},{"$f":"IF(E1130=\"-\",-1,IF(J1130=K1130,1,-1))","v":1},{"$f":"IF(E1130=\"\",0,IF(E1130=J1130,1,0)+IF(F1130=K1130,1,0)+IF(G1130=L1130,1,0)+IF(H1130=M1130,1,0)+IF(I1130=N1130,1,0))","v":0}]
[null,null,{"$f":"IF(B1131=\"\",\"\",LOOKUP(B1131,Spiele!B:B,Spiele!C:C))","v":""},{"$f":"IF(B1131=\"\",\"\",LOOKUP(B1131,Spiele!B:B,Spiele!D:D))","v":""},{"$f":"IF(B1131=\"\",\"\",LOOKUP(B1131,Spiele!B:B,Spiele!E:E))","v":""},{"$f":"IF(B1131=\"\",\"\",LOOKUP(B1131,Spiele!B:B,Spiele!F:F))","v":""},"","","",null,null,-1,-1,1,0]
[null,null,{"$f":"IF(B1132=\"\",\"\",LOOKUP(B1132,Spiele!B:B,Spiele!C:C))","v":""},{"$f":"IF(B1132=\"\",\"\",LOOKUP(B1132,Spiele!B:B,Spiele!D:D))","v":""},{"$f":"IF(B1132=\"\",\"\",LOOKUP(B1132,Spiele!B:B,Spiele!E:E))","v":""},{"$f":"IF(B1132=\"\",\"\",LOOKUP(B1132,Spiele!B:B,Spiele!F:F))","v":""},"","","",null,null,-1,-1,1,0]
[null,null,{"$f":"IF(B1133=\"\",\"\",LOOKUP(B1133,Spiele!B:B,Spiele!C:C))","v":""},{"$f":"IF(B1133=\"\",\"\",LOOKUP(B1133,Spiele!B:B,Spiele!D:D))","v":""},{"$f":"IF(B1133=\"\",\"\",LOOKUP(B1133,Spiele!B:B,Spiele!E:E))","v":""},{"$f":"IF(B1133=\"\",\"\",LOOKUP(B1133,Spiele!B:B,Spiele!F:F))","v":""},"","","",null,null,-1,-1,1,0]
[null,null,{"$f":"IF(B1134=\"\",\"\",LOOKUP(B1134,Spiele!B:B,Spiele!C:C))","v":""},{"$f":"IF(B1134=\"\",\"\",LOOKUP(B1134,Spiele!B:B,Spiele!D:D))","v":""},{"$f":"IF(B1134=\"\",\"\",LOOKUP(B1134,Spiele!B:B,Spiele!E:E))","v":""},{"$f":"IF(B1134=\"\",\"\",LOOKUP(B1134,Spiele!B:B,Spiele!F:F))","v":""},"","","",null,null,-1,-1,1,0]
[null,null,{"$f":"IF(B1135=\"\",\"\",LOOKUP(B1135,Spiele!B:B,Spiele!C:C))","v":""},{"$f":"IF(B1135=\"\",\"\",LOOKUP(B1135,Spiele!B:B,Spiele!D:D))","v":""},{"$f":"IF(B1135=\"\",\"\",LOOKUP(B1135,Spiele!B:B,Spiele!E:E))","v":""},{"$f":"IF(B1135=\"\",\"\",LOOKUP(B1135,Spiele!B:B,Spiele!F:F))","v":""},"","","",null,null,-1,-1,1,0]
[null,null,{"$f":"IF(B1136=\"\",\"\",LOOKUP(B1136,Spiele!B:B,Spiele!C:C))","v":""},{"$f":"IF(B1136=\"\",\"\",LOOKUP(B1136,Spiele!B:B,Spiele!D:D))","v":""},{"$f":"IF(B1136=\"\",\"\",LOOKUP(B1136,Spiele!B:B,Spiele!E:E))","v":""},{"$f":"IF(B1136=\"\",\"\",LOOKUP(B1136,Spiele!B:B,Spiele!F:F))","v":""},"","","",null,null,-1,-1,1,0]
[null,null,{"$f":"IF(B1137=\"\",\"\",LOOKUP(B1137,Spiele!B:B,Spiele!C:C))","v":""},{"$f":"IF(B1137=\"\",\"\",LOOKUP(B1137,Spiele!B:B,Spiele!D:D))","v":""},{"$f":"IF(B1137=\"\",\"\",LOOKUP(B1137,Spiele!B:B,Spiele!E:E))","v":""},{"$f":"IF(B1137=\"\",\"\",LOOKUP(B1137,Spiele!B:B,Spiele!F:F))","v":""},"","","",null,null,-1,-1,1,0]
[null,null,{"$f":"IF(B1138=\"\",\"\",LOOKUP(B1138,Spiele!B:B,Spiele!C:C))","v":""},{"$f":"IF(B1138=\"\",\"\",LOOKUP(B1138,Spiele!B:B,Spiele!D:D))","v":""},{"$f":"IF(B1138=\"\",\"\",LOOKUP(B1138,Spiele!B:B,Spiele!E:E))","v":""},{"$f":"IF(B1138=\"\",\"\",LOOKUP(B1138,Spiele!B:B,Spiele!F:F))","v":""},"","","",null,null,-1,-1,1,0]
[null,null,{"$f":"IF(B1139=\"\",\"\",LOOKUP(B1139,Spiele!B:B,Spiele!C:C))","v":""},{"$f":"IF(B1139=\"\",\"\",LOOKUP(B1139,Spiele!B:B,Spiele!D:D))","v":""},{"$f":"IF(B1139=\"\",\"\",LOOKUP(B1139,Spiele!B:B,Spiele!E:E))","v":""},{"$f":"IF(B1139=\"\",\"\",LOOKUP(B1139,Spiele!B:B,Spiele!F:F))","v":""},"","","",null,null,-1,-1,1,0]
[null,null,{"$f":"IF(B1140=\"\",\"\",LOOKUP(B1140,Spiele!B:B,Spiele!C:C))","v":""},{"$f":"IF(B1140=\"\",\"\",LOOKUP(B1140,Spiele!B:B,Spiele!D:D))","v":""},{"$f":"IF(B1140=\"\",\"\",LOOKUP(B1140,Spiele!B:B,Spiele!E:E))","v":""},{"$f":"IF(B1140=\"\",\"\",LOOKUP(B1140,Spiele!B:B,Spiele!F:F))","v":""},"","","",null,null,-1,-1,1,0]
[null,null,{"$f":"IF(B1141=\"\",\"\",LOOKUP(B1141,Spiele!B:B,Spiele!C:C))","v":""},{"$f":"IF(B1141=\"\",\"\",LOOKUP(B1141,Spiele!B:B,Spiele!D:D))","v":""},{"$f":"IF(B1141=\"\",\"\",LOOKUP(B1141,Spiele!B:B,Spiele!E:E))","v":""},{"$f":"IF(B1141=\"\",\"\",LOOKUP(B1141,Spiele!B:B,Spiele!F:F))","v":""},"","","",null,null,-1,-1,1,0]
[null,null,{"$f":"IF(B1142=\"\",\"\",LOOKUP(B1142,Spiele!B:B,Spiele!C:C))","v":""},{"$f":"IF(B1142=\"\",\"\",LOOKUP(B1142,Spiele!B:B,Spiele!D:D))","v":""},{"$f":"IF(B1142=\"\",\"\",LOOKUP(B1142,Spiele!B:B,Spiele!E:E))","v":""},{"$f":"IF(B1142=\"\",\"\",LOOKUP(B1142,Spiele!B:B,Spiele!F:F))","v":""},"","","",null,null,-1,-1,1,0]
[null,null,{"$f":"IF(B1143=\"\",\"\",LOOKUP(B1143,Spiele!B:B,Spiele!C:C))","v":""},{"$f":"IF(B1143=\"\",\"\",LOOKUP(B1143,Spiele!B:B,Spiele!D:D))","v":""},{"$f":"IF(B1143=\"\",\"\",LOOKUP(B1143,Spiele!B:B,Spiele!E:E))","v":""},{"$f":"IF(B1143=\"\",\"\",LOOKUP(B1143,Spiele!B:B,Spiele!F:F))","v":""},"","","",null,null,-1,-1,1,0]
[null,null,{"$f":"IF(B1144=\"\",\"\",LOOKUP(B1144,Spiele!B:B,Spiele!C:C))","v":""},{"$f":"IF(B1144=\"\",\"\",LOOKUP(B1144,Spiele!B:B,Spiele!D:D))","v":""},{"$f":"IF(B1144=\"\",\"\",LOOKUP(B1144,Spiele!B:B,Spiele!E:E))","v":""},{"$f":"IF(B1144=\"\",\"\",LOOKUP(B1144,Spiele!B:B,Spiele!F:F))","v":""},"","","",null,null,-1,-1,1,0]
[null,null,{"$f":"IF(B1145=\"\",\"\",LOOKUP(B1145,Spiele!B:B,Spiele!C:C))","v":""},{"$f":"IF(B1145=\"\",\"\",LOOKUP(B1145,Spiele!B:B,Spiele!D:D))","v":""},{"$f":"IF(B1145=\"\",\"\",LOOKUP(B1145,Spiele!B:B,Spiele!E:E))","v":""},{"$f":"IF(B1145=\"\",\"\",LOOKUP(B1145,Spiele!B:B,Spiele!F:F))","v":""},"","","",null,null,-1,-1,1,0]
[null,null,{"$f":"IF(B1146=\"\",\"\",LOOKUP(B1146,Spiele!B:B,Spiele!C:C))","v":""},{"$f":"IF(B1146=\"\",\"\",LOOKUP(B1146,Spiele!B:B,Spiele!D:D))","v":""},{"$f":"IF(B1146=\"\",\"\",LOOKUP(B1146,Spiele!B:B,Spiele!E:E))","v":""},{"$f":"IF(B1146=\"\",\"\",LOOKUP(B1146,Spiele!B:B,Spiele!F:F))","v":""},"","","",null,null,-1,-1,1,0]
[null,null,{"$f":"IF(B1147=\"\",\"\",LOOKUP(B1147,Spiele!B:B,Spiele!C:C))","v":""},{"$f":"IF(B1147=\"\",\"\",LOOKUP(B1147,Spiele!B:B,Spiele!D:D))","v":""},{"$f":"IF(B1147=\"\",\"\",LOOKUP(B1147,Spiele!B:B,Spiele!E:E))","v":""},{"$f":"IF(B1147=\"\",\"\",LOOKUP(B1147,Spiele!B:B,Spiele!F:F))","v":""},"","","",null,null,-1,-1,1,0]
[null,null,{"$f":"IF(B1148=\"\",\"\",LOOKUP(B1148,Spiele!B:B,Spiele!C:C))","v":""},{"$f":"IF(B1148=\"\",\"\",LOOKUP(B1148,Spiele!B:B,Spiele!D:D))","v":""},{"$f":"IF(B1148=\"\",\"\",LOOKUP(B1148,Spiele!B:B,Spiele!E:E))","v":""},{"$f":"IF(B1148=\"\",\"\",LOOKUP(B1148,Spiele!B:B,Spiele!F:F))","v":""},"","","",null,null,-1,-1,1,0]
[null,null,{"$f":"IF(B1149=\"\",\"\",LOOKUP(B1149,Spiele!B:B,Spiele!C:C))","v":""},{"$f":"IF(B1149=\"\",\"\",LOOKUP(B1149,Spiele!B:B,Spiele!D:D))","v":""},{"$f":"IF(B1149=\"\",\"\",LOOKUP(B1149,Spiele!B:B,Spiele!E:E))","v":""},{"$f":"IF(B1149=\"\",\"\",LOOKUP(B1149,Spiele!B:B,Spiele!F:F))","v":""},"","","",null,null,-1,-1,1,0]
[null,null,{"$f":"IF(B1150=\"\",\"\",LOOKUP(B1150,Spiele!B:B,Spiele!C:C))","v":""},{"$f":"IF(B1150=\"\",\"\",LOOKUP(B1150,Spiele!B:B,Spiele!D:D))","v":""},{"$f":"IF(B1150=\"\",\"\",LOOKUP(B1150,Spiele!B:B,Spiele!E:E))","v":""},{"$f":"IF(B1150=\"\",\"\",LOOKUP(B1150,Spiele!B:B,Spiele!F:F))","v":""},"","","",null,null,-1,-1,1,0]
[null,null,{"$f":"IF(B1151=\"\",\"\",LOOKUP(B1151,Spiele!B:B,Spiele!C:C))","v":""},{"$f":"IF(B1151=\"\",\"\",LOOKUP(B1151,Spiele!B:B,Spiele!D:D))","v":""},{"$f":"IF(B1151=\"\",\"\",LOOKUP(B1151,Spiele!B:B,Spiele!E:E))","v":""},{"$f":"IF(B1151=\"\",\"\",LOOKUP(B1151,Spiele!B:B,Spiele!F:F))","v":""},"","","",null,null,-1,-1,1,0]
[null,null,{"$f":"IF(B1152=\"\",\"\",LOOKUP(B1152,Spiele!B:B,Spiele!C:C))","v":""},{"$f":"IF(B1152=\"\",\"\",LOOKUP(B1152,Spiele!B:B,Spiele!D:D))","v":""},{"$f":"IF(B1152=\"\",\"\",LOOKUP(B1152,Spiele!B:B,Spiele!E:E))","v":""},{"$f":"IF(B1152=\"\",\"\",LOOKUP(B1152,Spiele!B:B,Spiele!F:F))","v":""},"","","",null,null,-1,-1,1,0]
[null,null,{"$f":"IF(B1153=\"\",\"\",LOOKUP(B1153,Spiele!B:B,Spiele!C:C))","v":""},{"$f":"IF(B1153=\"\",\"\",LOOKUP(B1153,Spiele!B:B,Spiele!D:D))","v":""},{"$f":"IF(B1153=\"\",\"\",LOOKUP(B1153,Spiele!B:B,Spiele!E:E))","v":""},{"$f":"IF(B1153=\"\",\"\",LOOKUP(B1153,Spiele!B:B,Spiele!F:F))","v":""},"","","",null,null,-1,-1,1,0]
[null,null,{"$f":"IF(B1154=\"\",\"\",LOOKUP(B1154,Spiele!B:B,Spiele!C:C))","v":""},{"$f":"IF(B1154=\"\",\"\",LOOKUP(B1154,Spiele!B:B,Spiele!D:D))","v":""},{"$f":"IF(B1154=\"\",\"\",LOOKUP(B1154,Spiele!B:B,Spiele!E:E))","v":""},{"$f":"IF(B1154=\"\",\"\",LOOKUP(B1154,Spiele!B:B,Spiele!F:F))","v":""},"","","",null,null,-1,-1,1,0]
[null,null,{"$f":"IF(B1155=\"\",\"\",LOOKUP(B1155,Spiele!B:B,Spiele!C:C))","v":""},{"$f":"IF(B1155=\"\",\"\",LOOKUP(B1155,Spiele!B:B,Spiele!D:D))","v":""},{"$f":"IF(B1155=\"\",\"\",LOOKUP(B1155,Spiele!B:B,Spiele!E:E))","v":""},{"$f":"IF(B1155=\"\",\"\",LOOKUP(B1155,Spiele!B:B,Spiele!F:F))","v":""},"","","",null,null,-1,-1,1,0]
[null,null,{"$f":"IF(B1156=\"\",\"\",LOOKUP(B1156,Spiele!B:B,Spiele!C:C))","v":""},{"$f":"IF(B1156=\"\",\"\",LOOKUP(B1156,Spiele!B:B,Spiele!D:D))","v":""},{"$f":"IF(B1156=\"\",\"\",LOOKUP(B1156,Spiele!B:B,Spiele!E:E))","v":""},{"$f":"IF(B1156=\"\",\"\",LOOKUP(B1156,Spiele!B:B,Spiele!F:F))","v":""},"","","",null,null,-1,-1,1,0]
[null,null,{"$f":"IF(B1157=\"\",\"\",LOOKUP(B1157,Spiele!B:B,Spiele!C:C))","v":""},{"$f":"IF(B1157=\"\",\"\",LOOKUP(B1157,Spiele!B:B,Spiele!D:D))","v":""},{"$f":"IF(B1157=\"\",\"\",LOOKUP(B1157,Spiele!B:B,Spiele!E:E))","v":""},{"$f":"IF(B1157=\"\",\"\",LOOKUP(B1157,Spiele!B:B,Spiele!F:F))","v":""},"","","",null,null,-1,-1,1,0]
[null,null,{"$f":"IF(B1158=\"\",\"\",LOOKUP(B1158,Spiele!B:B,Spiele!C:C))","v":""},{"$f":"IF(B1158=\"\",\"\",LOOKUP(B1158,Spiele!B:B,Spiele!D:D))","v":""},{"$f":"IF(B1158=\"\",\"\",LOOKUP(B1158,Spiele!B:B,Spiele!E:E))","v":""},{"$f":"IF(B1158=\"\",\"\",LOOKUP(B1158,Spiele!B:B,Spiele!F:F))","v":""},"","","",null,null,-1,-1,1,0]
[null,null,{"$f":"IF(B1159=\"\",\"\",LOOKUP(B1159,Spiele!B:B,Spiele!C:C))","v":""},{"$f":"IF(B1159=\"\",\"\",LOOKUP(B1159,Spiele!B:B,Spiele!D:D))","v":""},{"$f":"IF(B1159=\"\",\"\",LOOKUP(B1159,Spiele!B:B,Spiele!E:E))","v":""},{"$f":"IF(B1159=\"\",\"\",LOOKUP(B1159,Spiele!B:B,Spiele!F:F))","v":""},"","","",null,null,-1,-1,1,0]
[null,null,{"$f":"IF(B1160=\"\",\"\",LOOKUP(B1160,Spiele!B:B,Spiele!C:C))","v":""},{"$f":"IF(B1160=\"\",\"\",LOOKUP(B1160,Spiele!B:B,Spiele!D:D))","v":""},{"$f":"IF(B1160=\"\",\"\",LOOKUP(B1160,Spiele!B:B,Spiele!E:E))","v":""},{"$f":"IF(B1160=\"\",\"\",LOOKUP(B1160,Spiele!B:B,Spiele!F:F))","v":""},"","","",null,null,-1,-1,1,0]
[null,null,{"$f":"IF(B1161=\"\",\"\",LOOKUP(B1161,Spiele!B:B,Spiele!C:C))","v":""},{"$f":"IF(B1161=\"\",\"\",LOOKUP(B1161,Spiele!B:B,Spiele!D:D))","v":""},{"$f":"IF(B1161=\"\",\"\",LOOKUP(B1161,Spiele!B:B,Spiele!E:E))","v":""},{"$f":"IF(B1161=\"\",\"\",LOOKUP(B1161,Spiele!B:B,Spiele!F:F))","v":""},"","","",null,null,-1,-1,1,0]
[null,null,{"$f":"IF(B1162=\"\",\"\",LOOKUP(B1162,Spiele!B:B,Spiele!C:C))","v":""},{"$f":"IF(B1162=\"\",\"\",LOOKUP(B1162,Spiele!B:B,Spiele!D:D))","v":""},{"$f":"IF(B1162=\"\",\"\",LOOKUP(B1162,Spiele!B:B,Spiele!E:E))","v":""},{"$f":"IF(B1162=\"\",\"\",LOOKUP(B1162,Spiele!B:B,Spiele!F:F))","v":""},"","","",null,null,-1,-1,1,0]
[null,null,{"$f":"IF(B1163=\"\",\"\",LOOKUP(B1163,Spiele!B:B,Spiele!C:C))","v":""},{"$f":"IF(B1163=\"\",\"\",LOOKUP(B1163,Spiele!B:B,Spiele!D:D))","v":""},{"$f":"IF(B1163=\"\",\"\",LOOKUP(B1163,Spiele!B:B,Spiele!E:E))","v":""},{"$f":"IF(B1163=\"\",\"\",LOOKUP(B1163,Spiele!B:B,Spiele!F:F))","v":""},"","","",null,null,-1,-1,1,0]
[null,null,{"$f":"IF(B1164=\"\",\"\",LOOKUP(B1164,Spiele!B:B,Spiele!C:C))","v":""},{"$f":"IF(B1164=\"\",\"\",LOOKUP(B1164,Spiele!B:B,Spiele!D:D))","v":""},{"$f":"IF(B1164=\"\",\"\",LOOKUP(B1164,Spiele!B:B,Spiele!E:E))","v":""},{"$f":"IF(B1164=\"\",\"\",LOOKUP(B1164,Spiele!B:B,Spiele!F:F))","v":""},"","","",null,null,-1,-1,1,0]
[null,null,{"$f":"IF(B1165=\"\",\"\",LOOKUP(B1165,Spiele!B:B,Spiele!C:C))","v":""},{"$f":"IF(B1165=\"\",\"\",LOOKUP(B1165,Spiele!B:B,Spiele!D:D))","v":""},{"$f":"IF(B1165=\"\",\"\",LOOKUP(B1165,Spiele!B:B,Spiele!E:E))","v":""},{"$f":"IF(B1165=\"\",\"\",LOOKUP(B1165,Spiele!B:B,Spiele!F:F))","v":""},"","","",null,null,-1,-1,1,0]
[null,null,{"$f":"IF(B1166=\"\",\"\",LOOKUP(B1166,Spiele!B:B,Spiele!C:C))","v":""},{"$f":"IF(B1166=\"\",\"\",LOOKUP(B1166,Spiele!B:B,Spiele!D:D))","v":""},{"$f":"IF(B1166=\"\",\"\",LOOKUP(B1166,Spiele!B:B,Spiele!E:E))","v":""},{"$f":"IF(B1166=\"\",\"\",LOOKUP(B1166,Spiele!B:B,Spiele!F:F))","v":""},"","","",null,null,-1,-1,1,0]
[null,null,{"$f":"IF(B1167=\"\",\"\",LOOKUP(B1167,Spiele!B:B,Spiele!C:C))","v":""},{"$f":"IF(B1167=\"\",\"\",LOOKUP(B1167,Spiele!B:B,Spiele!D:D))","v":""},{"$f":"IF(B1167=\"\",\"\",LOOKUP(B1167,Spiele!B:B,Spiele!E:E))","v":""},{"$f":"IF(B1167=\"\",\"\",LOOKUP(B1167,Spiele!B:B,Spiele!F:F))","v":""},"","","",null,null,-1,-1,1,0]
[null,null,{"$f":"IF(B1168=\"\",\"\",LOOKUP(B1168,Spiele!B:B,Spiele!C:C))","v":""},{"$f":"IF(B1168=\"\",\"\",LOOKUP(B1168,Spiele!B:B,Spiele!D:D))","v":""},{"$f":"IF(B1168=\"\",\"\",LOOKUP(B1168,Spiele!B:B,Spiele!E:E))","v":""},{"$f":"IF(B1168=\"\",\"\",LOOKUP(B1168,Spiele!B:B,Spiele!F:F))","v":""},"","","",null,null,-1,-1,1,0]
[null,null,{"$f":"IF(B1169=\"\",\"\",LOOKUP(B1169,Spiele!B:B,Spiele!C:C))","v":""},{"$f":"IF(B1169=\"\",\"\",LOOKUP(B1169,Spiele!B:B,Spiele!D:D))","v":""},{"$f":"IF(B1169=\"\",\"\",LOOKUP(B1169,Spiele!B:B,Spiele!E:E))","v":""},{"$f":"IF(B1169=\"\",\"\",LOOKUP(B1169,Spiele!B:B,Spiele!F:F))","v":""},"","","",null,null,-1,-1,1,0]
[null,null,{"$f":"IF(B1170=\"\",\"\",LOOKUP(B1170,Spiele!B:B,Spiele!C:C))","v":""},{"$f":"IF(B1170=\"\",\"\",LOOKUP(B1170,Spiele!B:B,Spiele!D:D))","v":""},{"$f":"IF(B1170=\"\",\"\",LOOKUP(B1170,Spiele!B:B,Spiele!E:E))","v":""},{"$f":"IF(B1170=\"\",\"\",LOOKUP(B1170,Spiele!B:B,Spiele!F:F))","v":""},"","","",null,null,-1,-1,1,0]
[null,null,{"$f":"IF(B1171=\"\",\"\",LOOKUP(B1171,Spiele!B:B,Spiele!C:C))","v":""},{"$f":"IF(B1171=\"\",\"\",LOOKUP(B1171,Spiele!B:B,Spiele!D:D))","v":""},{"$f":"IF(B1171=\"\",\"\",LOOKUP(B1171,Spiele!B:B,Spiele!E:E))","v":""},{"$f":"IF(B1171=\"\",\"\",LOOKUP(B1171,Spiele!B:B,Spiele!F:F))","v":""},"","","",null,null,-1,-1,1,0]
[null,null,{"$f":"IF(B1172=\"\",\"\",LOOKUP(B1172,Spiele!B:B,Spiele!C:C))","v":""},{"$f":"IF(B1172=\"\",\"\",LOOKUP(B1172,Spiele!B:B,Spiele!D:D))","v":""},{"$f":"IF(B1172=\"\",\"\",LOOKUP(B1172,Spiele!B:B,Spiele!E:E))","v":""},{"$f":"IF(B1172=\"\",\"\",LOOKUP(B1172,Spiele!B:B,Spiele!F:F))","v":""},"","","",null,null,-1,-1,1,0]
[null,null,{"$f":"IF(B1173=\"\",\"\",LOOKUP(B1173,Spiele!B:B,Spiele!C:C))","v":""},{"$f":"IF(B1173=\"\",\"\",LOOKUP(B1173,Spiele!B:B,Spiele!D:D))","v":""},{"$f":"IF(B1173=\"\",\"\",LOOKUP(B1173,Spiele!B:B,Spiele!E:E))","v":""},{"$f":"IF(B1173=\"\",\"\",LOOKUP(B1173,Spiele!B:B,Spiele!F:F))","v":""},"","","",null,null,-1,-1,1,0]
[null,null,{"$f":"IF(B1174=\"\",\"\",LOOKUP(B1174,Spiele!B:B,Spiele!C:C))","v":""},{"$f":"IF(B1174=\"\",\"\",LOOKUP(B1174,Spiele!B:B,Spiele!D:D))","v":""},{"$f":"IF(B1174=\"\",\"\",LOOKUP(B1174,Spiele!B:B,Spiele!E:E))","v":""},{"$f":"IF(B1174=\"\",\"\",LOOKUP(B1174,Spiele!B:B,Spiele!F:F))","v":""},"","","",null,null,-1,-1,1,0]
[null,null,{"$f":"IF(B1175=\"\",\"\",LOOKUP(B1175,Spiele!B:B,Spiele!C:C))","v":""},{"$f":"IF(B1175=\"\",\"\",LOOKUP(B1175,Spiele!B:B,Spiele!D:D))","v":""},{"$f":"IF(B1175=\"\",\"\",LOOKUP(B1175,Spiele!B:B,Spiele!E:E))","v":""},{"$f":"IF(B1175=\"\",\"\",LOOKUP(B1175,Spiele!B:B,Spiele!F:F))","v":""},"","","",null,null,-1,-1,1,0]
[null,null,{"$f":"IF(B1176=\"\",\"\",LOOKUP(B1176,Spiele!B:B,Spiele!C:C))","v":""},{"$f":"IF(B1176=\"\",\"\",LOOKUP(B1176,Spiele!B:B,Spiele!D:D))","v":""},{"$f":"IF(B1176=\"\",\"\",LOOKUP(B1176,Spiele!B:B,Spiele!E:E))","v":""},{"$f":"IF(B1176=\"\",\"\",LOOKUP(B1176,Spiele!B:B,Spiele!F:F))","v":""},"","","",null,null,-1,-1,1,0]
[null,null,{"$f":"IF(B1177=\"\",\"\",LOOKUP(B1177,Spiele!B:B,Spiele!C:C))","v":""},{"$f":"IF(B1177=\"\",\"\",LOOKUP(B1177,Spiele!B:B,Spiele!D:D))","v":""},{"$f":"IF(B1177=\"\",\"\",LOOKUP(B1177,Spiele!B:B,Spiele!E:E))","v":""},{"$f":"IF(B1177=\"\",\"\",LOOKUP(B1177,Spiele!B:B,Spiele!F:F))","v":""},"","","",null,null,-1,-1,1,0]
[null,null,{"$f":"IF(B1178=\"\",\"\",LOOKUP(B1178,Spiele!B:B,Spiele!C:C))","v":""},{"$f":"IF(B1178=\"\",\"\",LOOKUP(B1178,Spiele!B:B,Spiele!D:D))","v":""},{"$f":"IF(B1178=\"\",\"\",LOOKUP(B1178,Spiele!B:B,Spiele!E:E))","v":""},{"$f":"IF(B1178=\"\",\"\",LOOKUP(B1178,Spiele!B:B,Spiele!F:F))","v":""},"","","",null,null,-1,-1,1,0]
[null,null,{"$f":"IF(B1179=\"\",\"\",LOOKUP(B1179,Spiele!B:B,Spiele!C:C))","v":""},{"$f":"IF(B1179=\"\",\"\",LOOKUP(B1179,Spiele!B:B,Spiele!D:D))","v":""},{"$f":"IF(B1179=\"\",\"\",LOOKUP(B1179,Spiele!B:B,Spiele!E:E))","v":""},{"$f":"IF(B1179=\"\",\"\",LOOKUP(B1179,Spiele!B:B,Spiele!F:F))","v":""},"","","",null,null,-1,-1,1,0]
[null,null,{"$f":"IF(B1180=\"\",\"\",LOOKUP(B1180,Spiele!B:B,Spiele!C:C))","v":""},{"$f":"IF(B1180=\"\",\"\",LOOKUP(B1180,Spiele!B:B,Spiele!D:D))","v":""},{"$f":"IF(B1180=\"\",\"\",LOOKUP(B1180,Spiele!B:B,Spiele!E:E))","v":""},{"$f":"IF(B1180=\"\",\"\",LOOKUP(B1180,Spiele!B:B,Spiele!F:F))","v":""},"","","",null,null,-1,-1,1,0]
[null,null,{"$f":"IF(B1181=\"\",\"\",LOOKUP(B1181,Spiele!B:B,Spiele!C:C))","v":""},{"$f":"IF(B1181=\"\",\"\",LOOKUP(B1181,Spiele!B:B,Spiele!D:D))","v":""},{"$f":"IF(B1181=\"\",\"\",LOOKUP(B1181,Spiele!B:B,Spiele!E:E))","v":""},{"$f":"IF(B1181=\"\",\"\",LOOKUP(B1181,Spiele!B:B,Spiele!F:F))","v":""},"","","",null,null,-1,-1,1,0]
[null,null,{"$f":"IF(B1182=\"\",\"\",LOOKUP(B1182,Spiele!B:B,Spiele!C:C))","v":""},{"$f":"IF(B1182=\"\",\"\",LOOKUP(B1182,Spiele!B:B,Spiele!D:D))","v":""},{"$f":"IF(B1182=\"\",\"\",LOOKUP(B1182,Spiele!B:B,Spiele!E:E))","v":""},{"$f":"IF(B1182=\"\",\"\",LOOKUP(B1182,Spiele!B:B,Spiele!F:F))","v":""},"","","",null,null,-1,-1,1,0]
[null,null,{"$f":"IF(B1183=\"\",\"\",LOOKUP(B1183,Spiele!B:B,Spiele!C:C))","v":""},{"$f":"IF(B1183=\"\",\"\",LOOKUP(B1183,Spiele!B:B,Spiele!D:D))","v":""},{"$f":"IF(B1183=\"\",\"\",LOOKUP(B1183,Spiele!B:B,Spiele!E:E))","v":""},{"$f":"IF(B1183=\"\",\"\",LOOKUP(B1183,Spiele!B:B,Spiele!F:F))","v":""},"","","",null,null,-1,-1,1,0]
[null,null,{"$f":"IF(B1184=\"\",\"\",LOOKUP(B1184,Spiele!B:B,Spiele!C:C))","v":""},{"$f":"IF(B1184=\"\",\"\",LOOKUP(B1184,Spiele!B:B,Spiele!D:D))","v":""},{"$f":"IF(B1184=\"\",\"\",LOOKUP(B1184,Spiele!B:B,Spiele!E:E))","v":""},{"$f":"IF(B1184=\"\",\"\",LOOKUP(B1184,Spiele!B:B,Spiele!F:F))","v":""},"","","",null,null,-1,-1,1,0]
[null,null,{"$f":"IF(B1185=\"\",\"\",LOOKUP(B1185,Spiele!B:B,Spiele!C:C))","v":""},{"$f":"IF(B1185=\"\",\"\",LOOKUP(B1185,Spiele!B:B,Spiele!D:D))","v":""},{"$f":"IF(B1185=\"\",\"\",LOOKUP(B1185,Spiele!B:B,Spiele!E:E))","v":""},{"$f":"IF(B1185=\"\",\"\",LOOKUP(B1185,Spiele!B:B,Spiele!F:F))","v":""},"","","",null,null,-1,-1,1,0]
[null,null,{"$f":"IF(B1186=\"\",\"\",LOOKUP(B1186,Spiele!B:B,Spiele!C:C))","v":""},{"$f":"IF(B1186=\"\",\"\",LOOKUP(B1186,Spiele!B:B,Spiele!D:D))","v":""},{"$f":"IF(B1186=\"\",\"\",LOOKUP(B1186,Spiele!B:B,Spiele!E:E))","v":""},{"$f":"IF(B1186=\"\",\"\",LOOKUP(B1186,Spiele!B:B,Spiele!F:F))","v":""},"","","",null,null,-1,-1,1,0]
[null,null,{"$f":"IF(B1187=\"\",\"\",LOOKUP(B1187,Spiele!B:B,Spiele!C:C))","v":""},{"$f":"IF(B1187=\"\",\"\",LOOKUP(B1187,Spiele!B:B,Spiele!D:D))","v":""},{"$f":"IF(B1187=\"\",\"\",LOOKUP(B1187,Spiele!B:B,Spiele!E:E))","v":""},{"$f":"IF(B1187=\"\",\"\",LOOKUP(B1187,Spiele!B:B,Spiele!F:F))","v":""},"","","",null,null,-1,-1,1,0]
[null,null,{"$f":"IF(B1188=\"\",\"\",LOOKUP(B1188,Spiele!B:B,Spiele!C:C))","v":""},{"$f":"IF(B1188=\"\",\"\",LOOKUP(B1188,Spiele!B:B,Spiele!D:D))","v":""},{"$f":"IF(B1188=\"\",\"\",LOOKUP(B1188,Spiele!B:B,Spiele!E:E))","v":""},{"$f":"IF(B1188=\"\",\"\",LOOKUP(B1188,Spiele!B:B,Spiele!F:F))","v":""},"","","",null,null,-1,-1,1,0]
[null,null,{"$f":"IF(B1189=\"\",\"\",LOOKUP(B1189,Spiele!B:B,Spiele!C:C))","v":""},{"$f":"IF(B1189=\"\",\"\",LOOKUP(B1189,Spiele!B:B,Spiele!D:D))","v":""},{"$f":"IF(B1189=\"\",\"\",LOOKUP(B1189,Spiele!B:B,Spiele!E:E))","v":""},{"$f":"IF(B1189=\"\",\"\",LOOKUP(B1189,Spiele!B:B,Spiele!F:F))","v":""},"","","",null,null,-1,-1,1,0]
[null,null,{"$f":"IF(B1190=\"\",\"\",LOOKUP(B1190,Spiele!B:B,Spiele!C:C))","v":""},{"$f":"IF(B1190=\"\",\"\",LOOKUP(B1190,Spiele!B:B,Spiele!D:D))","v":""},{"$f":"IF(B1190=\"\",\"\",LOOKUP(B1190,Spiele!B:B,Spiele!E:E))","v":""},{"$f":"IF(B1190=\"\",\"\",LOOKUP(B1190,Spiele!B:B,Spiele!F:F))","v":""},"","","",null,null,-1,-1,1,0]
[null,null,{"$f":"IF(B1191=\"\",\"\",LOOKUP(B1191,Spiele!B:B,Spiele!C:C))","v":""},{"$f":"IF(B1191=\"\",\"\",LOOKUP(B1191,Spiele!B:B,Spiele!D:D))","v":""},{"$f":"IF(B1191=\"\",\"\",LOOKUP(B1191,Spiele!B:B,Spiele!E:E))","v":""},{"$f":"IF(B1191=\"\",\"\",LOOKUP(B1191,Spiele!B:B,Spiele!F:F))","v":""},"","","",null,null,-1,-1,1,0]
[null,null,{"$f":"IF(B1192=\"\",\"\",LOOKUP(B1192,Spiele!B:B,Spiele!C:C))","v":""},{"$f":"IF(B1192=\"\",\"\",LOOKUP(B1192,Spiele!B:B,Spiele!D:D))","v":""},{"$f":"IF(B1192=\"\",\"\",LOOKUP(B1192,Spiele!B:B,Spiele!E:E))","v":""},{"$f":"IF(B1192=\"\",\"\",LOOKUP(B1192,Spiele!B:B,Spiele!F:F))","v":""},"","","",null,null,-1,-1,1,0]
[null,null,{"$f":"IF(B1193=\"\",\"\",LOOKUP(B1193,Spiele!B:B,Spiele!C:C))","v":""},{"$f":"IF(B1193=\"\",\"\",LOOKUP(B1193,Spiele!B:B,Spiele!D:D))","v":""},{"$f":"IF(B1193=\"\",\"\",LOOKUP(B1193,Spiele!B:B,Spiele!E:E))","v":""},{"$f":"IF(B1193=\"\",\"\",LOOKUP(B1193,Spiele!B:B,Spiele!F:F))","v":""},"","","",null,null,-1,-1,1,0]
[null,null,{"$f":"IF(B1194=\"\",\"\",LOOKUP(B1194,Spiele!B:B,Spiele!C:C))","v":""},{"$f":"IF(B1194=\"\",\"\",LOOKUP(B1194,Spiele!B:B,Spiele!D:D))","v":""},{"$f":"IF(B1194=\"\",\"\",LOOKUP(B1194,Spiele!B:B,Spiele!E:E))","v":""},{"$f":"IF(B1194=\"\",\"\",LOOKUP(B1194,Spiele!B:B,Spiele!F:F))","v":""},{"$f":"IF(E1194=\"\",\"\",IF(E1194>F1194,1,0))","v":""},{"$f":"IF(F1194=\"\",\"\",IF(E1194<F1194,1,0))","v":""},{"$f":"IF(E1194=\"\",\"\",IF(E1194=F1194,1,0))","v":""},null,null,{"$f":"IF(E1194=\"\",-1,IF(J1194>K1194,1,-1))","v":-1},{"$f":"IF(F1194=\"\",-1,IF(J1194<K1194,1,-1))","v":-1},{"$f":"IF(E1194=\"-\",-1,IF(J1194=K1194,1,-1))","v":1},{"$f":"IF(E1194=\"\",0,IF(E1194=J1194,1,0)+IF(F1194=K1194,1,0)+IF(G1194=L1194,1,0)+IF(H1194=M1194,1,0)+IF(I1194=N1194,1,0))","v":0}]
[null,null,{"$f":"IF(B1195=\"\",\"\",LOOKUP(B1195,Spiele!B:B,Spiele!C:C))","v":""},{"$f":"IF(B1195=\"\",\"\",LOOKUP(B1195,Spiele!B:B,Spiele!D:D))","v":""},{"$f":"IF(B1195=\"\",\"\",LOOKUP(B1195,Spiele!B:B,Spiele!E:E))","v":""},{"$f":"IF(B1195=\"\",\"\",LOOKUP(B1195,Spiele!B:B,Spiele!F:F))","v":""},"","","",null,null,-1,-1,1,0]
[null,null,{"$f":"IF(B1196=\"\",\"\",LOOKUP(B1196,Spiele!B:B,Spiele!C:C))","v":""},{"$f":"IF(B1196=\"\",\"\",LOOKUP(B1196,Spiele!B:B,Spiele!D:D))","v":""},{"$f":"IF(B1196=\"\",\"\",LOOKUP(B1196,Spiele!B:B,Spiele!E:E))","v":""},{"$f":"IF(B1196=\"\",\"\",LOOKUP(B1196,Spiele!B:B,Spiele!F:F))","v":""},"","","",null,null,-1,-1,1,0]
[null,null,{"$f":"IF(B1197=\"\",\"\",LOOKUP(B1197,Spiele!B:B,Spiele!C:C))","v":""},{"$f":"IF(B1197=\"\",\"\",LOOKUP(B1197,Spiele!B:B,Spiele!D:D))","v":""},{"$f":"IF(B1197=\"\",\"\",LOOKUP(B1197,Spiele!B:B,Spiele!E:E))","v":""},{"$f":"IF(B1197=\"\",\"\",LOOKUP(B1197,Spiele!B:B,Spiele!F:F))","v":""},"","","",null,null,-1,-1,1,0]
[null,null,{"$f":"IF(B1198=\"\",\"\",LOOKUP(B1198,Spiele!B:B,Spiele!C:C))","v":""},{"$f":"IF(B1198=\"\",\"\",LOOKUP(B1198,Spiele!B:B,Spiele!D:D))","v":""},{"$f":"IF(B1198=\"\",\"\",LOOKUP(B1198,Spiele!B:B,Spiele!E:E))","v":""},{"$f":"IF(B1198=\"\",\"\",LOOKUP(B1198,Spiele!B:B,Spiele!F:F))","v":""},"","","",null,null,-1,-1,1,0]
[null,null,{"$f":"IF(B1199=\"\",\"\",LOOKUP(B1199,Spiele!B:B,Spiele!C:C))","v":""},{"$f":"IF(B1199=\"\",\"\",LOOKUP(B1199,Spiele!B:B,Spiele!D:D))","v":""},{"$f":"IF(B1199=\"\",\"\",LOOKUP(B1199,Spiele!B:B,Spiele!E:E))","v":""},{"$f":"IF(B1199=\"\",\"\",LOOKUP(B1199,Spiele!B:B,Spiele!F:F))","v":""},"","","",null,null,-1,-1,1,0]
[null,null,{"$f":"IF(B1200=\"\",\"\",LOOKUP(B1200,Spiele!B:B,Spiele!C:C))","v":""},{"$f":"IF(B1200=\"\",\"\",LOOKUP(B1200,Spiele!B:B,Spiele!D:D))","v":""},{"$f":"IF(B1200=\"\",\"\",LOOKUP(B1200,Spiele!B:B,Spiele!E:E))","v":""},{"$f":"IF(B1200=\"\",\"\",LOOKUP(B1200,Spiele!B:B,Spiele!F:F))","v":""},"","","",null,null,-1,-1,1,0]
[null,null,{"$f":"IF(B1201=\"\",\"\",LOOKUP(B1201,Spiele!B:B,Spiele!C:C))","v":""},{"$f":"IF(B1201=\"\",\"\",LOOKUP(B1201,Spiele!B:B,Spiele!D:D))","v":""},{"$f":"IF(B1201=\"\",\"\",LOOKUP(B1201,Spiele!B:B,Spiele!E:E))","v":""},{"$f":"IF(B1201=\"\",\"\",LOOKUP(B1201,Spiele!B:B,Spiele!F:F))","v":""},"","","",null,null,-1,-1,1,0]
[null,null,{"$f":"IF(B1202=\"\",\"\",LOOKUP(B1202,Spiele!B:B,Spiele!C:C))","v":""},{"$f":"IF(B1202=\"\",\"\",LOOKUP(B1202,Spiele!B:B,Spiele!D:D))","v":""},{"$f":"IF(B1202=\"\",\"\",LOOKUP(B1202,Spiele!B:B,Spiele!E:E))","v":""},{"$f":"IF(B1202=\"\",\"\",LOOKUP(B1202,Spiele!B:B,Spiele!F:F))","v":""},"","","",null,null,-1,-1,1,0]
[null,null,{"$f":"IF(B1203=\"\",\"\",LOOKUP(B1203,Spiele!B:B,Spiele!C:C))","v":""},{"$f":"IF(B1203=\"\",\"\",LOOKUP(B1203,Spiele!B:B,Spiele!D:D))","v":""},{"$f":"IF(B1203=\"\",\"\",LOOKUP(B1203,Spiele!B:B,Spiele!E:E))","v":""},{"$f":"IF(B1203=\"\",\"\",LOOKUP(B1203,Spiele!B:B,Spiele!F:F))","v":""},"","","",null,null,-1,-1,1,0]
[null,null,{"$f":"IF(B1204=\"\",\"\",LOOKUP(B1204,Spiele!B:B,Spiele!C:C))","v":""},{"$f":"IF(B1204=\"\",\"\",LOOKUP(B1204,Spiele!B:B,Spiele!D:D))","v":""},{"$f":"IF(B1204=\"\",\"\",LOOKUP(B1204,Spiele!B:B,Spiele!E:E))","v":""},{"$f":"IF(B1204=\"\",\"\",LOOKUP(B1204,Spiele!B:B,Spiele!F:F))","v":""},"","","",null,null,-1,-1,1,0]
[null,null,{"$f":"IF(B1205=\"\",\"\",LOOKUP(B1205,Spiele!B:B,Spiele!C:C))","v":""},{"$f":"IF(B1205=\"\",\"\",LOOKUP(B1205,Spiele!B:B,Spiele!D:D))","v":""},{"$f":"IF(B1205=\"\",\"\",LOOKUP(B1205,Spiele!B:B,Spiele!E:E))","v":""},{"$f":"IF(B1205=\"\",\"\",LOOKUP(B1205,Spiele!B:B,Spiele!F:F))","v":""},"","","",null,null,-1,-1,1,0]
[null,null,{"$f":"IF(B1206=\"\",\"\",LOOKUP(B1206,Spiele!B:B,Spiele!C:C))","v":""},{"$f":"IF(B1206=\"\",\"\",LOOKUP(B1206,Spiele!B:B,Spiele!D:D))","v":""},{"$f":"IF(B1206=\"\",\"\",LOOKUP(B1206,Spiele!B:B,Spiele!E:E))","v":""},{"$f":"IF(B1206=\"\",\"\",LOOKUP(B1206,Spiele!B:B,Spiele!F:F))","v":""},"","","",null,null,-1,-1,1,0]
[null,null,{"$f":"IF(B1207=\"\",\"\",LOOKUP(B1207,Spiele!B:B,Spiele!C:C))","v":""},{"$f":"IF(B1207=\"\",\"\",LOOKUP(B1207,Spiele!B:B,Spiele!D:D))","v":""},{"$f":"IF(B1207=\"\",\"\",LOOKUP(B1207,Spiele!B:B,Spiele!E:E))","v":""},{"$f":"IF(B1207=\"\",\"\",LOOKUP(B1207,Spiele!B:B,Spiele!F:F))","v":""},"","","",null,null,-1,-1,1,0]
[null,null,{"$f":"IF(B1208=\"\",\"\",LOOKUP(B1208,Spiele!B:B,Spiele!C:C))","v":""},{"$f":"IF(B1208=\"\",\"\",LOOKUP(B1208,Spiele!B:B,Spiele!D:D))","v":""},{"$f":"IF(B1208=\"\",\"\",LOOKUP(B1208,Spiele!B:B,Spiele!E:E))","v":""},{"$f":"IF(B1208=\"\",\"\",LOOKUP(B1208,Spiele!B:B,Spiele!F:F))","v":""},"","","",null,null,-1,-1,1,0]
[null,null,{"$f":"IF(B1209=\"\",\"\",LOOKUP(B1209,Spiele!B:B,Spiele!C:C))","v":""},{"$f":"IF(B1209=\"\",\"\",LOOKUP(B1209,Spiele!B:B,Spiele!D:D))","v":""},{"$f":"IF(B1209=\"\",\"\",LOOKUP(B1209,Spiele!B:B,Spiele!E:E))","v":""},{"$f":"IF(B1209=\"\",\"\",LOOKUP(B1209,Spiele!B:B,Spiele!F:F))","v":""},"","","",null,null,-1,-1,1,0]
[null,null,{"$f":"IF(B1210=\"\",\"\",LOOKUP(B1210,Spiele!B:B,Spiele!C:C))","v":""},{"$f":"IF(B1210=\"\",\"\",LOOKUP(B1210,Spiele!B:B,Spiele!D:D))","v":""},{"$f":"IF(B1210=\"\",\"\",LOOKUP(B1210,Spiele!B:B,Spiele!E:E))","v":""},{"$f":"IF(B1210=\"\",\"\",LOOKUP(B1210,Spiele!B:B,Spiele!F:F))","v":""},"","","",null,null,-1,-1,1,0]
[null,null,{"$f":"IF(B1211=\"\",\"\",LOOKUP(B1211,Spiele!B:B,Spiele!C:C))","v":""},{"$f":"IF(B1211=\"\",\"\",LOOKUP(B1211,Spiele!B:B,Spiele!D:D))","v":""},{"$f":"IF(B1211=\"\",\"\",LOOKUP(B1211,Spiele!B:B,Spiele!E:E))","v":""},{"$f":"IF(B1211=\"\",\"\",LOOKUP(B1211,Spiele!B:B,Spiele!F:F))","v":""},"","","",null,null,-1,-1,1,0]
[null,null,{"$f":"IF(B1212=\"\",\"\",LOOKUP(B1212,Spiele!B:B,Spiele!C:C))","v":""},{"$f":"IF(B1212=\"\",\"\",LOOKUP(B1212,Spiele!B:B,Spiele!D:D))","v":""},{"$f":"IF(B1212=\"\",\"\",LOOKUP(B1212,Spiele!B:B,Spiele!E:E))","v":""},{"$f":"IF(B1212=\"\",\"\",LOOKUP(B1212,Spiele!B:B,Spiele!F:F))","v":""},"","","",null,null,-1,-1,1,0]
[null,null,{"$f":"IF(B1213=\"\",\"\",LOOKUP(B1213,Spiele!B:B,Spiele!C:C))","v":""},{"$f":"IF(B1213=\"\",\"\",LOOKUP(B1213,Spiele!B:B,Spiele!D:D))","v":""},{"$f":"IF(B1213=\"\",\"\",LOOKUP(B1213,Spiele!B:B,Spiele!E:E))","v":""},{"$f":"IF(B1213=\"\",\"\",LOOKUP(B1213,Spiele!B:B,Spiele!F:F))","v":""},"","","",null,null,-1,-1,1,0]
[null,null,{"$f":"IF(B1214=\"\",\"\",LOOKUP(B1214,Spiele!B:B,Spiele!C:C))","v":""},{"$f":"IF(B1214=\"\",\"\",LOOKUP(B1214,Spiele!B:B,Spiele!D:D))","v":""},{"$f":"IF(B1214=\"\",\"\",LOOKUP(B1214,Spiele!B:B,Spiele!E:E))","v":""},{"$f":"IF(B1214=\"\",\"\",LOOKUP(B1214,Spiele!B:B,Spiele!F:F))","v":""},"","","",null,null,-1,-1,1,0]
[null,null,{"$f":"IF(B1215=\"\",\"\",LOOKUP(B1215,Spiele!B:B,Spiele!C:C))","v":""},{"$f":"IF(B1215=\"\",\"\",LOOKUP(B1215,Spiele!B:B,Spiele!D:D))","v":""},{"$f":"IF(B1215=\"\",\"\",LOOKUP(B1215,Spiele!B:B,Spiele!E:E))","v":""},{"$f":"IF(B1215=\"\",\"\",LOOKUP(B1215,Spiele!B:B,Spiele!F:F))","v":""},"","","",null,null,-1,-1,1,0]
[null,null,{"$f":"IF(B1216=\"\",\"\",LOOKUP(B1216,Spiele!B:B,Spiele!C:C))","v":""},{"$f":"IF(B1216=\"\",\"\",LOOKUP(B1216,Spiele!B:B,Spiele!D:D))","v":""},{"$f":"IF(B1216=\"\",\"\",LOOKUP(B1216,Spiele!B:B,Spiele!E:E))","v":""},{"$f":"IF(B1216=\"\",\"\",LOOKUP(B1216,Spiele!B:B,Spiele!F:F))","v":""},"","","",null,null,-1,-1,1,0]
[null,null,{"$f":"IF(B1217=\"\",\"\",LOOKUP(B1217,Spiele!B:B,Spiele!C:C))","v":""},{"$f":"IF(B1217=\"\",\"\",LOOKUP(B1217,Spiele!B:B,Spiele!D:D))","v":""},{"$f":"IF(B1217=\"\",\"\",LOOKUP(B1217,Spiele!B:B,Spiele!E:E))","v":""},{"$f":"IF(B1217=\"\",\"\",LOOKUP(B1217,Spiele!B:B,Spiele!F:F))","v":""},"","","",null,null,-1,-1,1,0]
[null,null,{"$f":"IF(B1218=\"\",\"\",LOOKUP(B1218,Spiele!B:B,Spiele!C:C))","v":""},{"$f":"IF(B1218=\"\",\"\",LOOKUP(B1218,Spiele!B:B,Spiele!D:D))","v":""},{"$f":"IF(B1218=\"\",\"\",LOOKUP(B1218,Spiele!B:B,Spiele!E:E))","v":""},{"$f":"IF(B1218=\"\",\"\",LOOKUP(B1218,Spiele!B:B,Spiele!F:F))","v":""},"","","",null,null,-1,-1,1,0]
[null,null,{"$f":"IF(B1219=\"\",\"\",LOOKUP(B1219,Spiele!B:B,Spiele!C:C))","v":""},{"$f":"IF(B1219=\"\",\"\",LOOKUP(B1219,Spiele!B:B,Spiele!D:D))","v":""},{"$f":"IF(B1219=\"\",\"\",LOOKUP(B1219,Spiele!B:B,Spiele!E:E))","v":""},{"$f":"IF(B1219=\"\",\"\",LOOKUP(B1219,Spiele!B:B,Spiele!F:F))","v":""},"","","",null,null,-1,-1,1,0]
[null,null,{"$f":"IF(B1220=\"\",\"\",LOOKUP(B1220,Spiele!B:B,Spiele!C:C))","v":""},{"$f":"IF(B1220=\"\",\"\",LOOKUP(B1220,Spiele!B:B,Spiele!D:D))","v":""},{"$f":"IF(B1220=\"\",\"\",LOOKUP(B1220,Spiele!B:B,Spiele!E:E))","v":""},{"$f":"IF(B1220=\"\",\"\",LOOKUP(B1220,Spiele!B:B,Spiele!F:F))","v":""},"","","",null,null,-1,-1,1,0]
[null,null,{"$f":"IF(B1221=\"\",\"\",LOOKUP(B1221,Spiele!B:B,Spiele!C:C))","v":""},{"$f":"IF(B1221=\"\",\"\",LOOKUP(B1221,Spiele!B:B,Spiele!D:D))","v":""},{"$f":"IF(B1221=\"\",\"\",LOOKUP(B1221,Spiele!B:B,Spiele!E:E))","v":""},{"$f":"IF(B1221=\"\",\"\",LOOKUP(B1221,Spiele!B:B,Spiele!F:F))","v":""},"","","",null,null,-1,-1,1,0]
[null,null,{"$f":"IF(B1222=\"\",\"\",LOOKUP(B1222,Spiele!B:B,Spiele!C:C))","v":""},{"$f":"IF(B1222=\"\",\"\",LOOKUP(B1222,Spiele!B:B,Spiele!D:D))","v":""},{"$f":"IF(B1222=\"\",\"\",LOOKUP(B1222,Spiele!B:B,Spiele!E:E))","v":""},{"$f":"IF(B1222=\"\",\"\",LOOKUP(B1222,Spiele!B:B,Spiele!F:F))","v":""},"","","",null,null,-1,-1,1,0]
[null,null,{"$f":"IF(B1223=\"\",\"\",LOOKUP(B1223,Spiele!B:B,Spiele!C:C))","v":""},{"$f":"IF(B1223=\"\",\"\",LOOKUP(B1223,Spiele!B:B,Spiele!D:D))","v":""},{"$f":"IF(B1223=\"\",\"\",LOOKUP(B1223,Spiele!B:B,Spiele!E:E))","v":""},{"$f":"IF(B1223=\"\",\"\",LOOKUP(B1223,Spiele!B:B,Spiele!F:F))","v":""},"","","",null,null,-1,-1,1,0]
[null,null,{"$f":"IF(B1224=\"\",\"\",LOOKUP(B1224,Spiele!B:B,Spiele!C:C))","v":""},{"$f":"IF(B1224=\"\",\"\",LOOKUP(B1224,Spiele!B:B,Spiele!D:D))","v":""},{"$f":"IF(B1224=\"\",\"\",LOOKUP(B1224,Spiele!B:B,Spiele!E:E))","v":""},{"$f":"IF(B1224=\"\",\"\",LOOKUP(B1224,Spiele!B:B,Spiele!F:F))","v":""},"","","",null,null,-1,-1,1,0]
[null,null,{"$f":"IF(B1225=\"\",\"\",LOOKUP(B1225,Spiele!B:B,Spiele!C:C))","v":""},{"$f":"IF(B1225=\"\",\"\",LOOKUP(B1225,Spiele!B:B,Spiele!D:D))","v":""},{"$f":"IF(B1225=\"\",\"\",LOOKUP(B1225,Spiele!B:B,Spiele!E:E))","v":""},{"$f":"IF(B1225=\"\",\"\",LOOKUP(B1225,Spiele!B:B,Spiele!F:F))","v":""},"","","",null,null,-1,-1,1,0]
[null,null,{"$f":"IF(B1226=\"\",\"\",LOOKUP(B1226,Spiele!B:B,Spiele!C:C))","v":""},{"$f":"IF(B1226=\"\",\"\",LOOKUP(B1226,Spiele!B:B,Spiele!D:D))","v":""},{"$f":"IF(B1226=\"\",\"\",LOOKUP(B1226,Spiele!B:B,Spiele!E:E))","v":""},{"$f":"IF(B1226=\"\",\"\",LOOKUP(B1226,Spiele!B:B,Spiele!F:F))","v":""},"","","",null,null,-1,-1,1,0]
[null,null,{"$f":"IF(B1227=\"\",\"\",LOOKUP(B1227,Spiele!B:B,Spiele!C:C))","v":""},{"$f":"IF(B1227=\"\",\"\",LOOKUP(B1227,Spiele!B:B,Spiele!D:D))","v":""},{"$f":"IF(B1227=\"\",\"\",LOOKUP(B1227,Spiele!B:B,Spiele!E:E))","v":""},{"$f":"IF(B1227=\"\",\"\",LOOKUP(B1227,Spiele!B:B,Spiele!F:F))","v":""},"","","",null,null,-1,-1,1,0]
[null,null,{"$f":"IF(B1228=\"\",\"\",LOOKUP(B1228,Spiele!B:B,Spiele!C:C))","v":""},{"$f":"IF(B1228=\"\",\"\",LOOKUP(B1228,Spiele!B:B,Spiele!D:D))","v":""},{"$f":"IF(B1228=\"\",\"\",LOOKUP(B1228,Spiele!B:B,Spiele!E:E))","v":""},{"$f":"IF(B1228=\"\",\"\",LOOKUP(B1228,Spiele!B:B,Spiele!F:F))","v":""},"","","",null,null,-1,-1,1,0]
[null,null,{"$f":"IF(B1229=\"\",\"\",LOOKUP(B1229,Spiele!B:B,Spiele!C:C))","v":""},{"$f":"IF(B1229=\"\",\"\",LOOKUP(B1229,Spiele!B:B,Spiele!D:D))","v":""},{"$f":"IF(B1229=\"\",\"\",LOOKUP(B1229,Spiele!B:B,Spiele!E:E))","v":""},{"$f":"IF(B1229=\"\",\"\",LOOKUP(B1229,Spiele!B:B,Spiele!F:F))","v":""},"","","",null,null,-1,-1,1,0]
[null,null,{"$f":"IF(B1230=\"\",\"\",LOOKUP(B1230,Spiele!B:B,Spiele!C:C))","v":""},{"$f":"IF(B1230=\"\",\"\",LOOKUP(B1230,Spiele!B:B,Spiele!D:D))","v":""},{"$f":"IF(B1230=\"\",\"\",LOOKUP(B1230,Spiele!B:B,Spiele!E:E))","v":""},{"$f":"IF(B1230=\"\",\"\",LOOKUP(B1230,Spiele!B:B,Spiele!F:F))","v":""},"","","",null,null,-1,-1,1,0]
[null,null,{"$f":"IF(B1231=\"\",\"\",LOOKUP(B1231,Spiele!B:B,Spiele!C:C))","v":""},{"$f":"IF(B1231=\"\",\"\",LOOKUP(B1231,Spiele!B:B,Spiele!D:D))","v":""},{"$f":"IF(B1231=\"\",\"\",LOOKUP(B1231,Spiele!B:B,Spiele!E:E))","v":""},{"$f":"IF(B1231=\"\",\"\",LOOKUP(B1231,Spiele!B:B,Spiele!F:F))","v":""},"","","",null,null,-1,-1,1,0]
[null,null,{"$f":"IF(B1232=\"\",\"\",LOOKUP(B1232,Spiele!B:B,Spiele!C:C))","v":""},{"$f":"IF(B1232=\"\",\"\",LOOKUP(B1232,Spiele!B:B,Spiele!D:D))","v":""},{"$f":"IF(B1232=\"\",\"\",LOOKUP(B1232,Spiele!B:B,Spiele!E:E))","v":""},{"$f":"IF(B1232=\"\",\"\",LOOKUP(B1232,Spiele!B:B,Spiele!F:F))","v":""},"","","",null,null,-1,-1,1,0]
[null,null,{"$f":"IF(B1233=\"\",\"\",LOOKUP(B1233,Spiele!B:B,Spiele!C:C))","v":""},{"$f":"IF(B1233=\"\",\"\",LOOKUP(B1233,Spiele!B:B,Spiele!D:D))","v":""},{"$f":"IF(B1233=\"\",\"\",LOOKUP(B1233,Spiele!B:B,Spiele!E:E))","v":""},{"$f":"IF(B1233=\"\",\"\",LOOKUP(B1233,Spiele!B:B,Spiele!F:F))","v":""},"","","",null,null,-1,-1,1,0]
[null,null,{"$f":"IF(B1234=\"\",\"\",LOOKUP(B1234,Spiele!B:B,Spiele!C:C))","v":""},{"$f":"IF(B1234=\"\",\"\",LOOKUP(B1234,Spiele!B:B,Spiele!D:D))","v":""},{"$f":"IF(B1234=\"\",\"\",LOOKUP(B1234,Spiele!B:B,Spiele!E:E))","v":""},{"$f":"IF(B1234=\"\",\"\",LOOKUP(B1234,Spiele!B:B,Spiele!F:F))","v":""},"","","",null,null,-1,-1,1,0]
[null,null,{"$f":"IF(B1235=\"\",\"\",LOOKUP(B1235,Spiele!B:B,Spiele!C:C))","v":""},{"$f":"IF(B1235=\"\",\"\",LOOKUP(B1235,Spiele!B:B,Spiele!D:D))","v":""},{"$f":"IF(B1235=\"\",\"\",LOOKUP(B1235,Spiele!B:B,Spiele!E:E))","v":""},{"$f":"IF(B1235=\"\",\"\",LOOKUP(B1235,Spiele!B:B,Spiele!F:F))","v":""},"","","",null,null,-1,-1,1,0]
[null,null,{"$f":"IF(B1236=\"\",\"\",LOOKUP(B1236,Spiele!B:B,Spiele!C:C))","v":""},{"$f":"IF(B1236=\"\",\"\",LOOKUP(B1236,Spiele!B:B,Spiele!D:D))","v":""},{"$f":"IF(B1236=\"\",\"\",LOOKUP(B1236,Spiele!B:B,Spiele!E:E))","v":""},{"$f":"IF(B1236=\"\",\"\",LOOKUP(B1236,Spiele!B:B,Spiele!F:F))","v":""},"","","",null,null,-1,-1,1,0]
[null,null,{"$f":"IF(B1237=\"\",\"\",LOOKUP(B1237,Spiele!B:B,Spiele!C:C))","v":""},{"$f":"IF(B1237=\"\",\"\",LOOKUP(B1237,Spiele!B:B,Spiele!D:D))","v":""},{"$f":"IF(B1237=\"\",\"\",LOOKUP(B1237,Spiele!B:B,Spiele!E:E))","v":""},{"$f":"IF(B1237=\"\",\"\",LOOKUP(B1237,Spiele!B:B,Spiele!F:F))","v":""},"","","",null,null,-1,-1,1,0]
[null,null,{"$f":"IF(B1238=\"\",\"\",LOOKUP(B1238,Spiele!B:B,Spiele!C:C))","v":""},{"$f":"IF(B1238=\"\",\"\",LOOKUP(B1238,Spiele!B:B,Spiele!D:D))","v":""},{"$f":"IF(B1238=\"\",\"\",LOOKUP(B1238,Spiele!B:B,Spiele!E:E))","v":""},{"$f":"IF(B1238=\"\",\"\",LOOKUP(B1238,Spiele!B:B,Spiele!F:F))","v":""},"","","",null,null,-1,-1,1,0]
[null,null,{"$f":"IF(B1239=\"\",\"\",LOOKUP(B1239,Spiele!B:B,Spiele!C:C))","v":""},{"$f":"IF(B1239=\"\",\"\",LOOKUP(B1239,Spiele!B:B,Spiele!D:D))","v":""},{"$f":"IF(B1239=\"\",\"\",LOOKUP(B1239,Spiele!B:B,Spiele!E:E))","v":""},{"$f":"IF(B1239=\"\",\"\",LOOKUP(B1239,Spiele!B:B,Spiele!F:F))","v":""},"","","",null,null,-1,-1,1,0]
[null,null,{"$f":"IF(B1240=\"\",\"\",LOOKUP(B1240,Spiele!B:B,Spiele!C:C))","v":""},{"$f":"IF(B1240=\"\",\"\",LOOKUP(B1240,Spiele!B:B,Spiele!D:D))","v":""},{"$f":"IF(B1240=\"\",\"\",LOOKUP(B1240,Spiele!B:B,Spiele!E:E))","v":""},{"$f":"IF(B1240=\"\",\"\",LOOKUP(B1240,Spiele!B:B,Spiele!F:F))","v":""},"","","",null,null,-1,-1,1,0]
[null,null,{"$f":"IF(B1241=\"\",\"\",LOOKUP(B1241,Spiele!B:B,Spiele!C:C))","v":""},{"$f":"IF(B1241=\"\",\"\",LOOKUP(B1241,Spiele!B:B,Spiele!D:D))","v":""},{"$f":"IF(B1241=\"\",\"\",LOOKUP(B1241,Spiele!B:B,Spiele!E:E))","v":""},{"$f":"IF(B1241=\"\",\"\",LOOKUP(B1241,Spiele!B:B,Spiele!F:F))","v":""},"","","",null,null,-1,-1,1,0]
[null,null,{"$f":"IF(B1242=\"\",\"\",LOOKUP(B1242,Spiele!B:B,Spiele!C:C))","v":""},{"$f":"IF(B1242=\"\",\"\",LOOKUP(B1242,Spiele!B:B,Spiele!D:D))","v":""},{"$f":"IF(B1242=\"\",\"\",LOOKUP(B1242,Spiele!B:B,Spiele!E:E))","v":""},{"$f":"IF(B1242=\"\",\"\",LOOKUP(B1242,Spiele!B:B,Spiele!F:F))","v":""},"","","",null,null,-1,-1,1,0]
[null,null,{"$f":"IF(B1243=\"\",\"\",LOOKUP(B1243,Spiele!B:B,Spiele!C:C))","v":""},{"$f":"IF(B1243=\"\",\"\",LOOKUP(B1243,Spiele!B:B,Spiele!D:D))","v":""},{"$f":"IF(B1243=\"\",\"\",LOOKUP(B1243,Spiele!B:B,Spiele!E:E))","v":""},{"$f":"IF(B1243=\"\",\"\",LOOKUP(B1243,Spiele!B:B,Spiele!F:F))","v":""},"","","",null,null,-1,-1,1,0]
[null,null,{"$f":"IF(B1244=\"\",\"\",LOOKUP(B1244,Spiele!B:B,Spiele!C:C))","v":""},{"$f":"IF(B1244=\"\",\"\",LOOKUP(B1244,Spiele!B:B,Spiele!D:D))","v":""},{"$f":"IF(B1244=\"\",\"\",LOOKUP(B1244,Spiele!B:B,Spiele!E:E))","v":""},{"$f":"IF(B1244=\"\",\"\",LOOKUP(B1244,Spiele!B:B,Spiele!F:F))","v":""},"","","",null,null,-1,-1,1,0]
[null,null,{"$f":"IF(B1245=\"\",\"\",LOOKUP(B1245,Spiele!B:B,Spiele!C:C))","v":""},{"$f":"IF(B1245=\"\",\"\",LOOKUP(B1245,Spiele!B:B,Spiele!D:D))","v":""},{"$f":"IF(B1245=\"\",\"\",LOOKUP(B1245,Spiele!B:B,Spiele!E:E))","v":""},{"$f":"IF(B1245=\"\",\"\",LOOKUP(B1245,Spiele!B:B,Spiele!F:F))","v":""},"","","",null,null,-1,-1,1,0]
[null,null,{"$f":"IF(B1246=\"\",\"\",LOOKUP(B1246,Spiele!B:B,Spiele!C:C))","v":""},{"$f":"IF(B1246=\"\",\"\",LOOKUP(B1246,Spiele!B:B,Spiele!D:D))","v":""},{"$f":"IF(B1246=\"\",\"\",LOOKUP(B1246,Spiele!B:B,Spiele!E:E))","v":""},{"$f":"IF(B1246=\"\",\"\",LOOKUP(B1246,Spiele!B:B,Spiele!F:F))","v":""},"","","",null,null,-1,-1,1,0]
[null,null,{"$f":"IF(B1247=\"\",\"\",LOOKUP(B1247,Spiele!B:B,Spiele!C:C))","v":""},{"$f":"IF(B1247=\"\",\"\",LOOKUP(B1247,Spiele!B:B,Spiele!D:D))","v":""},{"$f":"IF(B1247=\"\",\"\",LOOKUP(B1247,Spiele!B:B,Spiele!E:E))","v":""},{"$f":"IF(B1247=\"\",\"\",LOOKUP(B1247,Spiele!B:B,Spiele!F:F))","v":""},"","","",null,null,-1,-1,1,0]
[null,null,{"$f":"IF(B1248=\"\",\"\",LOOKUP(B1248,Spiele!B:B,Spiele!C:C))","v":""},{"$f":"IF(B1248=\"\",\"\",LOOKUP(B1248,Spiele!B:B,Spiele!D:D))","v":""},{"$f":"IF(B1248=\"\",\"\",LOOKUP(B1248,Spiele!B:B,Spiele!E:E))","v":""},{"$f":"IF(B1248=\"\",\"\",LOOKUP(B1248,Spiele!B:B,Spiele!F:F))","v":""},"","","",null,null,-1,-1,1,0]
[null,null,{"$f":"IF(B1249=\"\",\"\",LOOKUP(B1249,Spiele!B:B,Spiele!C:C))","v":""},{"$f":"IF(B1249=\"\",\"\",LOOKUP(B1249,Spiele!B:B,Spiele!D:D))","v":""},{"$f":"IF(B1249=\"\",\"\",LOOKUP(B1249,Spiele!B:B,Spiele!E:E))","v":""},{"$f":"IF(B1249=\"\",\"\",LOOKUP(B1249,Spiele!B:B,Spiele!F:F))","v":""},"","","",null,null,-1,-1,1,0]
[null,null,{"$f":"IF(B1250=\"\",\"\",LOOKUP(B1250,Spiele!B:B,Spiele!C:C))","v":""},{"$f":"IF(B1250=\"\",\"\",LOOKUP(B1250,Spiele!B:B,Spiele!D:D))","v":""},{"$f":"IF(B1250=\"\",\"\",LOOKUP(B1250,Spiele!B:B,Spiele!E:E))","v":""},{"$f":"IF(B1250=\"\",\"\",LOOKUP(B1250,Spiele!B:B,Spiele!F:F))","v":""},"","","",null,null,-1,-1,1,0]
[null,null,{"$f":"IF(B1251=\"\",\"\",LOOKUP(B1251,Spiele!B:B,Spiele!C:C))","v":""},{"$f":"IF(B1251=\"\",\"\",LOOKUP(B1251,Spiele!B:B,Spiele!D:D))","v":""},{"$f":"IF(B1251=\"\",\"\",LOOKUP(B1251,Spiele!B:B,Spiele!E:E))","v":""},{"$f":"IF(B1251=\"\",\"\",LOOKUP(B1251,Spiele!B:B,Spiele!F:F))","v":""},"","","",null,null,-1,-1,1,0]
[null,null,{"$f":"IF(B1252=\"\",\"\",LOOKUP(B1252,Spiele!B:B,Spiele!C:C))","v":""},{"$f":"IF(B1252=\"\",\"\",LOOKUP(B1252,Spiele!B:B,Spiele!D:D))","v":""},{"$f":"IF(B1252=\"\",\"\",LOOKUP(B1252,Spiele!B:B,Spiele!E:E))","v":""},{"$f":"IF(B1252=\"\",\"\",LOOKUP(B1252,Spiele!B:B,Spiele!F:F))","v":""},"","","",null,null,-1,-1,1,0]
[null,null,{"$f":"IF(B1253=\"\",\"\",LOOKUP(B1253,Spiele!B:B,Spiele!C:C))","v":""},{"$f":"IF(B1253=\"\",\"\",LOOKUP(B1253,Spiele!B:B,Spiele!D:D))","v":""},{"$f":"IF(B1253=\"\",\"\",LOOKUP(B1253,Spiele!B:B,Spiele!E:E))","v":""},{"$f":"IF(B1253=\"\",\"\",LOOKUP(B1253,Spiele!B:B,Spiele!F:F))","v":""},"","","",null,null,-1,-1,1,0]
[null,null,{"$f":"IF(B1254=\"\",\"\",LOOKUP(B1254,Spiele!B:B,Spiele!C:C))","v":""},{"$f":"IF(B1254=\"\",\"\",LOOKUP(B1254,Spiele!B:B,Spiele!D:D))","v":""},{"$f":"IF(B1254=\"\",\"\",LOOKUP(B1254,Spiele!B:B,Spiele!E:E))","v":""},{"$f":"IF(B1254=\"\",\"\",LOOKUP(B1254,Spiele!B:B,Spiele!F:F))","v":""},"","","",null,null,-1,-1,1,0]
[null,null,{"$f":"IF(B1255=\"\",\"\",LOOKUP(B1255,Spiele!B:B,Spiele!C:C))","v":""},{"$f":"IF(B1255=\"\",\"\",LOOKUP(B1255,Spiele!B:B,Spiele!D:D))","v":""},{"$f":"IF(B1255=\"\",\"\",LOOKUP(B1255,Spiele!B:B,Spiele!E:E))","v":""},{"$f":"IF(B1255=\"\",\"\",LOOKUP(B1255,Spiele!B:B,Spiele!F:F))","v":""},"","","",null,null,-1,-1,1,0]
[null,null,{"$f":"IF(B1256=\"\",\"\",LOOKUP(B1256,Spiele!B:B,Spiele!C:C))","v":""},{"$f":"IF(B1256=\"\",\"\",LOOKUP(B1256,Spiele!B:B,Spiele!D:D))","v":""},{"$f":"IF(B1256=\"\",\"\",LOOKUP(B1256,Spiele!B:B,Spiele!E:E))","v":""},{"$f":"IF(B1256=\"\",\"\",LOOKUP(B1256,Spiele!B:B,Spiele!F:F))","v":""},"","","",null,null,-1,-1,1,0]
[null,null,{"$f":"IF(B1257=\"\",\"\",LOOKUP(B1257,Spiele!B:B,Spiele!C:C))","v":""},{"$f":"IF(B1257=\"\",\"\",LOOKUP(B1257,Spiele!B:B,Spiele!D:D))","v":""},{"$f":"IF(B1257=\"\",\"\",LOOKUP(B1257,Spiele!B:B,Spiele!E:E))","v":""},{"$f":"IF(B1257=\"\",\"\",LOOKUP(B1257,Spiele!B:B,Spiele!F:F))","v":""},"","","",null,null,-1,-1,1,0]
[null,null,{"$f":"IF(B1258=\"\",\"\",LOOKUP(B1258,Spiele!B:B,Spiele!C:C))","v":""},{"$f":"IF(B1258=\"\",\"\",LOOKUP(B1258,Spiele!B:B,Spiele!D:D))","v":""},{"$f":"IF(B1258=\"\",\"\",LOOKUP(B1258,Spiele!B:B,Spiele!E:E))","v":""},{"$f":"IF(B1258=\"\",\"\",LOOKUP(B1258,Spiele!B:B,Spiele!F:F))","v":""},{"$f":"IF(E1258=\"\",\"\",IF(E1258>F1258,1,0))","v":""},{"$f":"IF(F1258=\"\",\"\",IF(E1258<F1258,1,0))","v":""},{"$f":"IF(E1258=\"\",\"\",IF(E1258=F1258,1,0))","v":""},null,null,{"$f":"IF(E1258=\"\",-1,IF(J1258>K1258,1,-1))","v":-1},{"$f":"IF(F1258=\"\",-1,IF(J1258<K1258,1,-1))","v":-1},{"$f":"IF(E1258=\"-\",-1,IF(J1258=K1258,1,-1))","v":1},{"$f":"IF(E1258=\"\",0,IF(E1258=J1258,1,0)+IF(F1258=K1258,1,0)+IF(G1258=L1258,1,0)+IF(H1258=M1258,1,0)+IF(I1258=N1258,1,0))","v":0}]
[null,null,{"$f":"IF(B1259=\"\",\"\",LOOKUP(B1259,Spiele!B:B,Spiele!C:C))","v":""},{"$f":"IF(B1259=\"\",\"\",LOOKUP(B1259,Spiele!B:B,Spiele!D:D))","v":""},{"$f":"IF(B1259=\"\",\"\",LOOKUP(B1259,Spiele!B:B,Spiele!E:E))","v":""},{"$f":"IF(B1259=\"\",\"\",LOOKUP(B1259,Spiele!B:B,Spiele!F:F))","v":""},"","","",null,null,-1,-1,1,0]
[null,null,{"$f":"IF(B1260=\"\",\"\",LOOKUP(B1260,Spiele!B:B,Spiele!C:C))","v":""},{"$f":"IF(B1260=\"\",\"\",LOOKUP(B1260,Spiele!B:B,Spiele!D:D))","v":""},{"$f":"IF(B1260=\"\",\"\",LOOKUP(B1260,Spiele!B:B,Spiele!E:E))","v":""},{"$f":"IF(B1260=\"\",\"\",LOOKUP(B1260,Spiele!B:B,Spiele!F:F))","v":""},"","","",null,null,-1,-1,1,0]
[null,null,{"$f":"IF(B1261=\"\",\"\",LOOKUP(B1261,Spiele!B:B,Spiele!C:C))","v":""},{"$f":"IF(B1261=\"\",\"\",LOOKUP(B1261,Spiele!B:B,Spiele!D:D))","v":""},{"$f":"IF(B1261=\"\",\"\",LOOKUP(B1261,Spiele!B:B,Spiele!E:E))","v":""},{"$f":"IF(B1261=\"\",\"\",LOOKUP(B1261,Spiele!B:B,Spiele!F:F))","v":""},"","","",null,null,-1,-1,1,0]
[null,null,{"$f":"IF(B1262=\"\",\"\",LOOKUP(B1262,Spiele!B:B,Spiele!C:C))","v":""},{"$f":"IF(B1262=\"\",\"\",LOOKUP(B1262,Spiele!B:B,Spiele!D:D))","v":""},{"$f":"IF(B1262=\"\",\"\",LOOKUP(B1262,Spiele!B:B,Spiele!E:E))","v":""},{"$f":"IF(B1262=\"\",\"\",LOOKUP(B1262,Spiele!B:B,Spiele!F:F))","v":""},"","","",null,null,-1,-1,1,0]
[null,null,{"$f":"IF(B1263=\"\",\"\",LOOKUP(B1263,Spiele!B:B,Spiele!C:C))","v":""},{"$f":"IF(B1263=\"\",\"\",LOOKUP(B1263,Spiele!B:B,Spiele!D:D))","v":""},{"$f":"IF(B1263=\"\",\"\",LOOKUP(B1263,Spiele!B:B,Spiele!E:E))","v":""},{"$f":"IF(B1263=\"\",\"\",LOOKUP(B1263,Spiele!B:B,Spiele!F:F))","v":""},"","","",null,null,-1,-1,1,0]
[null,null,{"$f":"IF(B1264=\"\",\"\",LOOKUP(B1264,Spiele!B:B,Spiele!C:C))","v":""},{"$f":"IF(B1264=\"\",\"\",LOOKUP(B1264,Spiele!B:B,Spiele!D:D))","v":""},{"$f":"IF(B1264=\"\",\"\",LOOKUP(B1264,Spiele!B:B,Spiele!E:E))","v":""},{"$f":"IF(B1264=\"\",\"\",LOOKUP(B1264,Spiele!B:B,Spiele!F:F))","v":""},"","","",null,null,-1,-1,1,0]
[null,null,{"$f":"IF(B1265=\"\",\"\",LOOKUP(B1265,Spiele!B:B,Spiele!C:C))","v":""},{"$f":"IF(B1265=\"\",\"\",LOOKUP(B1265,Spiele!B:B,Spiele!D:D))","v":""},{"$f":"IF(B1265=\"\",\"\",LOOKUP(B1265,Spiele!B:B,Spiele!E:E))","v":""},{"$f":"IF(B1265=\"\",\"\",LOOKUP(B1265,Spiele!B:B,Spiele!F:F))","v":""},"","","",null,null,-1,-1,1,0]
[null,null,{"$f":"IF(B1266=\"\",\"\",LOOKUP(B1266,Spiele!B:B,Spiele!C:C))","v":""},{"$f":"IF(B1266=\"\",\"\",LOOKUP(B1266,Spiele!B:B,Spiele!D:D))","v":""},{"$f":"IF(B1266=\"\",\"\",LOOKUP(B1266,Spiele!B:B,Spiele!E:E))","v":""},{"$f":"IF(B1266=\"\",\"\",LOOKUP(B1266,Spiele!B:B,Spiele!F:F))","v":""},"","","",null,null,-1,-1,1,0]
[null,null,{"$f":"IF(B1267=\"\",\"\",LOOKUP(B1267,Spiele!B:B,Spiele!C:C))","v":""},{"$f":"IF(B1267=\"\",\"\",LOOKUP(B1267,Spiele!B:B,Spiele!D:D))","v":""},{"$f":"IF(B1267=\"\",\"\",LOOKUP(B1267,Spiele!B:B,Spiele!E:E))","v":""},{"$f":"IF(B1267=\"\",\"\",LOOKUP(B1267,Spiele!B:B,Spiele!F:F))","v":""},"","","",null,null,-1,-1,1,0]
[null,null,{"$f":"IF(B1268=\"\",\"\",LOOKUP(B1268,Spiele!B:B,Spiele!C:C))","v":""},{"$f":"IF(B1268=\"\",\"\",LOOKUP(B1268,Spiele!B:B,Spiele!D:D))","v":""},{"$f":"IF(B1268=\"\",\"\",LOOKUP(B1268,Spiele!B:B,Spiele!E:E))","v":""},{"$f":"IF(B1268=\"\",\"\",LOOKUP(B1268,Spiele!B:B,Spiele!F:F))","v":""},"","","",null,null,-1,-1,1,0]
[null,null,{"$f":"IF(B1269=\"\",\"\",LOOKUP(B1269,Spiele!B:B,Spiele!C:C))","v":""},{"$f":"IF(B1269=\"\",\"\",LOOKUP(B1269,Spiele!B:B,Spiele!D:D))","v":""},{"$f":"IF(B1269=\"\",\"\",LOOKUP(B1269,Spiele!B:B,Spiele!E:E))","v":""},{"$f":"IF(B1269=\"\",\"\",LOOKUP(B1269,Spiele!B:B,Spiele!F:F))","v":""},"","","",null,null,-1,-1,1,0]
[null,null,{"$f":"IF(B1270=\"\",\"\",LOOKUP(B1270,Spiele!B:B,Spiele!C:C))","v":""},{"$f":"IF(B1270=\"\",\"\",LOOKUP(B1270,Spiele!B:B,Spiele!D:D))","v":""},{"$f":"IF(B1270=\"\",\"\",LOOKUP(B1270,Spiele!B:B,Spiele!E:E))","v":""},{"$f":"IF(B1270=\"\",\"\",LOOKUP(B1270,Spiele!B:B,Spiele!F:F))","v":""},"","","",null,null,-1,-1,1,0]
[null,null,{"$f":"IF(B1271=\"\",\"\",LOOKUP(B1271,Spiele!B:B,Spiele!C:C))","v":""},{"$f":"IF(B1271=\"\",\"\",LOOKUP(B1271,Spiele!B:B,Spiele!D:D))","v":""},{"$f":"IF(B1271=\"\",\"\",LOOKUP(B1271,Spiele!B:B,Spiele!E:E))","v":""},{"$f":"IF(B1271=\"\",\"\",LOOKUP(B1271,Spiele!B:B,Spiele!F:F))","v":""},"","","",null,null,-1,-1,1,0]
[null,null,{"$f":"IF(B1272=\"\",\"\",LOOKUP(B1272,Spiele!B:B,Spiele!C:C))","v":""},{"$f":"IF(B1272=\"\",\"\",LOOKUP(B1272,Spiele!B:B,Spiele!D:D))","v":""},{"$f":"IF(B1272=\"\",\"\",LOOKUP(B1272,Spiele!B:B,Spiele!E:E))","v":""},{"$f":"IF(B1272=\"\",\"\",LOOKUP(B1272,Spiele!B:B,Spiele!F:F))","v":""},"","","",null,null,-1,-1,1,0]
[null,null,{"$f":"IF(B1273=\"\",\"\",LOOKUP(B1273,Spiele!B:B,Spiele!C:C))","v":""},{"$f":"IF(B1273=\"\",\"\",LOOKUP(B1273,Spiele!B:B,Spiele!D:D))","v":""},{"$f":"IF(B1273=\"\",\"\",LOOKUP(B1273,Spiele!B:B,Spiele!E:E))","v":""},{"$f":"IF(B1273=\"\",\"\",LOOKUP(B1273,Spiele!B:B,Spiele!F:F))","v":""},"","","",null,null,-1,-1,1,0]
[null,null,{"$f":"IF(B1274=\"\",\"\",LOOKUP(B1274,Spiele!B:B,Spiele!C:C))","v":""},{"$f":"IF(B1274=\"\",\"\",LOOKUP(B1274,Spiele!B:B,Spiele!D:D))","v":""},{"$f":"IF(B1274=\"\",\"\",LOOKUP(B1274,Spiele!B:B,Spiele!E:E))","v":""},{"$f":"IF(B1274=\"\",\"\",LOOKUP(B1274,Spiele!B:B,Spiele!F:F))","v":""},"","","",null,null,-1,-1,1,0]
[null,null,{"$f":"IF(B1275=\"\",\"\",LOOKUP(B1275,Spiele!B:B,Spiele!C:C))","v":""},{"$f":"IF(B1275=\"\",\"\",LOOKUP(B1275,Spiele!B:B,Spiele!D:D))","v":""},{"$f":"IF(B1275=\"\",\"\",LOOKUP(B1275,Spiele!B:B,Spiele!E:E))","v":""},{"$f":"IF(B1275=\"\",\"\",LOOKUP(B1275,Spiele!B:B,Spiele!F:F))","v":""},"","","",null,null,-1,-1,1,0]
[null,null,{"$f":"IF(B1276=\"\",\"\",LOOKUP(B1276,Spiele!B:B,Spiele!C:C))","v":""},{"$f":"IF(B1276=\"\",\"\",LOOKUP(B1276,Spiele!B:B,Spiele!D:D))","v":""},{"$f":"IF(B1276=\"\",\"\",LOOKUP(B1276,Spiele!B:B,Spiele!E:E))","v":""},{"$f":"IF(B1276=\"\",\"\",LOOKUP(B1276,Spiele!B:B,Spiele!F:F))","v":""},"","","",null,null,-1,-1,1,0]
[null,null,{"$f":"IF(B1277=\"\",\"\",LOOKUP(B1277,Spiele!B:B,Spiele!C:C))","v":""},{"$f":"IF(B1277=\"\",\"\",LOOKUP(B1277,Spiele!B:B,Spiele!D:D))","v":""},{"$f":"IF(B1277=\"\",\"\",LOOKUP(B1277,Spiele!B:B,Spiele!E:E))","v":""},{"$f":"IF(B1277=\"\",\"\",LOOKUP(B1277,Spiele!B:B,Spiele!F:F))","v":""},"","","",null,null,-1,-1,1,0]
[null,null,{"$f":"IF(B1278=\"\",\"\",LOOKUP(B1278,Spiele!B:B,Spiele!C:C))","v":""},{"$f":"IF(B1278=\"\",\"\",LOOKUP(B1278,Spiele!B:B,Spiele!D:D))","v":""},{"$f":"IF(B1278=\"\",\"\",LOOKUP(B1278,Spiele!B:B,Spiele!E:E))","v":""},{"$f":"IF(B1278=\"\",\"\",LOOKUP(B1278,Spiele!B:B,Spiele!F:F))","v":""},"","","",null,null,-1,-1,1,0]
[null,null,{"$f":"IF(B1279=\"\",\"\",LOOKUP(B1279,Spiele!B:B,Spiele!C:C))","v":""},{"$f":"IF(B1279=\"\",\"\",LOOKUP(B1279,Spiele!B:B,Spiele!D:D))","v":""},{"$f":"IF(B1279=\"\",\"\",LOOKUP(B1279,Spiele!B:B,Spiele!E:E))","v":""},{"$f":"IF(B1279=\"\",\"\",LOOKUP(B1279,Spiele!B:B,Spiele!F:F))","v":""},"","","",null,null,-1,-1,1,0]
[null,null,{"$f":"IF(B1280=\"\",\"\",LOOKUP(B1280,Spiele!B:B,Spiele!C:C))","v":""},{"$f":"IF(B1280=\"\",\"\",LOOKUP(B1280,Spiele!B:B,Spiele!D:D))","v":""},{"$f":"IF(B1280=\"\",\"\",LOOKUP(B1280,Spiele!B:B,Spiele!E:E))","v":""},{"$f":"IF(B1280=\"\",\"\",LOOKUP(B1280,Spiele!B:B,Spiele!F:F))","v":""},"","","",null,null,-1,-1,1,0]
[null,null,{"$f":"IF(B1281=\"\",\"\",LOOKUP(B1281,Spiele!B:B,Spiele!C:C))","v":""},{"$f":"IF(B1281=\"\",\"\",LOOKUP(B1281,Spiele!B:B,Spiele!D:D))","v":""},{"$f":"IF(B1281=\"\",\"\",LOOKUP(B1281,Spiele!B:B,Spiele!E:E))","v":""},{"$f":"IF(B1281=\"\",\"\",LOOKUP(B1281,Spiele!B:B,Spiele!F:F))","v":""},"","","",null,null,-1,-1,1,0]
[null,null,{"$f":"IF(B1282=\"\",\"\",LOOKUP(B1282,Spiele!B:B,Spiele!C:C))","v":""},{"$f":"IF(B1282=\"\",\"\",LOOKUP(B1282,Spiele!B:B,Spiele!D:D))","v":""},{"$f":"IF(B1282=\"\",\"\",LOOKUP(B1282,Spiele!B:B,Spiele!E:E))","v":""},{"$f":"IF(B1282=\"\",\"\",LOOKUP(B1282,Spiele!B:B,Spiele!F:F))","v":""},"","","",null,null,-1,-1,1,0]
[null,null,{"$f":"IF(B1283=\"\",\"\",LOOKUP(B1283,Spiele!B:B,Spiele!C:C))","v":""},{"$f":"IF(B1283=\"\",\"\",LOOKUP(B1283,Spiele!B:B,Spiele!D:D))","v":""},{"$f":"IF(B1283=\"\",\"\",LOOKUP(B1283,Spiele!B:B,Spiele!E:E))","v":""},{"$f":"IF(B1283=\"\",\"\",LOOKUP(B1283,Spiele!B:B,Spiele!F:F))","v":""},"","","",null,null,-1,-1,1,0]
[null,null,{"$f":"IF(B1284=\"\",\"\",LOOKUP(B1284,Spiele!B:B,Spiele!C:C))","v":""},{"$f":"IF(B1284=\"\",\"\",LOOKUP(B1284,Spiele!B:B,Spiele!D:D))","v":""},{"$f":"IF(B1284=\"\",\"\",LOOKUP(B1284,Spiele!B:B,Spiele!E:E))","v":""},{"$f":"IF(B1284=\"\",\"\",LOOKUP(B1284,Spiele!B:B,Spiele!F:F))","v":""},"","","",null,null,-1,-1,1,0]
[null,null,{"$f":"IF(B1285=\"\",\"\",LOOKUP(B1285,Spiele!B:B,Spiele!C:C))","v":""},{"$f":"IF(B1285=\"\",\"\",LOOKUP(B1285,Spiele!B:B,Spiele!D:D))","v":""},{"$f":"IF(B1285=\"\",\"\",LOOKUP(B1285,Spiele!B:B,Spiele!E:E))","v":""},{"$f":"IF(B1285=\"\",\"\",LOOKUP(B1285,Spiele!B:B,Spiele!F:F))","v":""},"","","",null,null,-1,-1,1,0]
[null,null,{"$f":"IF(B1286=\"\",\"\",LOOKUP(B1286,Spiele!B:B,Spiele!C:C))","v":""},{"$f":"IF(B1286=\"\",\"\",LOOKUP(B1286,Spiele!B:B,Spiele!D:D))","v":""},{"$f":"IF(B1286=\"\",\"\",LOOKUP(B1286,Spiele!B:B,Spiele!E:E))","v":""},{"$f":"IF(B1286=\"\",\"\",LOOKUP(B1286,Spiele!B:B,Spiele!F:F))","v":""},"","","",null,null,-1,-1,1,0]
[null,null,{"$f":"IF(B1287=\"\",\"\",LOOKUP(B1287,Spiele!B:B,Spiele!C:C))","v":""},{"$f":"IF(B1287=\"\",\"\",LOOKUP(B1287,Spiele!B:B,Spiele!D:D))","v":""},{"$f":"IF(B1287=\"\",\"\",LOOKUP(B1287,Spiele!B:B,Spiele!E:E))","v":""},{"$f":"IF(B1287=\"\",\"\",LOOKUP(B1287,Spiele!B:B,Spiele!F:F))","v":""},"","","",null,null,-1,-1,1,0]
[null,null,{"$f":"IF(B1288=\"\",\"\",LOOKUP(B1288,Spiele!B:B,Spiele!C:C))","v":""},{"$f":"IF(B1288=\"\",\"\",LOOKUP(B1288,Spiele!B:B,Spiele!D:D))","v":""},{"$f":"IF(B1288=\"\",\"\",LOOKUP(B1288,Spiele!B:B,Spiele!E:E))","v":""},{"$f":"IF(B1288=\"\",\"\",LOOKUP(B1288,Spiele!B:B,Spiele!F:F))","v":""},"","","",null,null,-1,-1,1,0]
[null,null,{"$f":"IF(B1289=\"\",\"\",LOOKUP(B1289,Spiele!B:B,Spiele!C:C))","v":""},{"$f":"IF(B1289=\"\",\"\",LOOKUP(B1289,Spiele!B:B,Spiele!D:D))","v":""},{"$f":"IF(B1289=\"\",\"\",LOOKUP(B1289,Spiele!B:B,Spiele!E:E))","v":""},{"$f":"IF(B1289=\"\",\"\",LOOKUP(B1289,Spiele!B:B,Spiele!F:F))","v":""},"","","",null,null,-1,-1,1,0]
[null,null,{"$f":"IF(B1290=\"\",\"\",LOOKUP(B1290,Spiele!B:B,Spiele!C:C))","v":""},{"$f":"IF(B1290=\"\",\"\",LOOKUP(B1290,Spiele!B:B,Spiele!D:D))","v":""},{"$f":"IF(B1290=\"\",\"\",LOOKUP(B1290,Spiele!B:B,Spiele!E:E))","v":""},{"$f":"IF(B1290=\"\",\"\",LOOKUP(B1290,Spiele!B:B,Spiele!F:F))","v":""},"","","",null,null,-1,-1,1,0]
[null,null,{"$f":"IF(B1291=\"\",\"\",LOOKUP(B1291,Spiele!B:B,Spiele!C:C))","v":""},{"$f":"IF(B1291=\"\",\"\",LOOKUP(B1291,Spiele!B:B,Spiele!D:D))","v":""},{"$f":"IF(B1291=\"\",\"\",LOOKUP(B1291,Spiele!B:B,Spiele!E:E))","v":""},{"$f":"IF(B1291=\"\",\"\",LOOKUP(B1291,Spiele!B:B,Spiele!F:F))","v":""},"","","",null,null,-1,-1,1,0]
[null,null,{"$f":"IF(B1292=\"\",\"\",LOOKUP(B1292,Spiele!B:B,Spiele!C:C))","v":""},{"$f":"IF(B1292=\"\",\"\",LOOKUP(B1292,Spiele!B:B,Spiele!D:D))","v":""},{"$f":"IF(B1292=\"\",\"\",LOOKUP(B1292,Spiele!B:B,Spiele!E:E))","v":""},{"$f":"IF(B1292=\"\",\"\",LOOKUP(B1292,Spiele!B:B,Spiele!F:F))","v":""},"","","",null,null,-1,-1,1,0]
[null,null,{"$f":"IF(B1293=\"\",\"\",LOOKUP(B1293,Spiele!B:B,Spiele!C:C))","v":""},{"$f":"IF(B1293=\"\",\"\",LOOKUP(B1293,Spiele!B:B,Spiele!D:D))","v":""},{"$f":"IF(B1293=\"\",\"\",LOOKUP(B1293,Spiele!B:B,Spiele!E:E))","v":""},{"$f":"IF(B1293=\"\",\"\",LOOKUP(B1293,Spiele!B:B,Spiele!F:F))","v":""},"","","",null,null,-1,-1,1,0]
[null,null,{"$f":"IF(B1294=\"\",\"\",LOOKUP(B1294,Spiele!B:B,Spiele!C:C))","v":""},{"$f":"IF(B1294=\"\",\"\",LOOKUP(B1294,Spiele!B:B,Spiele!D:D))","v":""},{"$f":"IF(B1294=\"\",\"\",LOOKUP(B1294,Spiele!B:B,Spiele!E:E))","v":""},{"$f":"IF(B1294=\"\",\"\",LOOKUP(B1294,Spiele!B:B,Spiele!F:F))","v":""},"","","",null,null,-1,-1,1,0]
[null,null,{"$f":"IF(B1295=\"\",\"\",LOOKUP(B1295,Spiele!B:B,Spiele!C:C))","v":""},{"$f":"IF(B1295=\"\",\"\",LOOKUP(B1295,Spiele!B:B,Spiele!D:D))","v":""},{"$f":"IF(B1295=\"\",\"\",LOOKUP(B1295,Spiele!B:B,Spiele!E:E))","v":""},{"$f":"IF(B1295=\"\",\"\",LOOKUP(B1295,Spiele!B:B,Spiele!F:F))","v":""},"","","",null,null,-1,-1,1,0]
[null,null,{"$f":"IF(B1296=\"\",\"\",LOOKUP(B1296,Spiele!B:B,Spiele!C:C))","v":""},{"$f":"IF(B1296=\"\",\"\",LOOKUP(B1296,Spiele!B:B,Spiele!D:D))","v":""},{"$f":"IF(B1296=\"\",\"\",LOOKUP(B1296,Spiele!B:B,Spiele!E:E))","v":""},{"$f":"IF(B1296=\"\",\"\",LOOKUP(B1296,Spiele!B:B,Spiele!F:F))","v":""},"","","",null,null,-1,-1,1,0]
[null,null,{"$f":"IF(B1297=\"\",\"\",LOOKUP(B1297,Spiele!B:B,Spiele!C:C))","v":""},{"$f":"IF(B1297=\"\",\"\",LOOKUP(B1297,Spiele!B:B,Spiele!D:D))","v":""},{"$f":"IF(B1297=\"\",\"\",LOOKUP(B1297,Spiele!B:B,Spiele!E:E))","v":""},{"$f":"IF(B1297=\"\",\"\",LOOKUP(B1297,Spiele!B:B,Spiele!F:F))","v":""},"","","",null,null,-1,-1,1,0]
[null,null,{"$f":"IF(B1298=\"\",\"\",LOOKUP(B1298,Spiele!B:B,Spiele!C:C))","v":""},{"$f":"IF(B1298=\"\",\"\",LOOKUP(B1298,Spiele!B:B,Spiele!D:D))","v":""},{"$f":"IF(B1298=\"\",\"\",LOOKUP(B1298,Spiele!B:B,Spiele!E:E))","v":""},{"$f":"IF(B1298=\"\",\"\",LOOKUP(B1298,Spiele!B:B,Spiele!F:F))","v":""},"","","",null,null,-1,-1,1,0]
[null,null,{"$f":"IF(B1299=\"\",\"\",LOOKUP(B1299,Spiele!B:B,Spiele!C:C))","v":""},{"$f":"IF(B1299=\"\",\"\",LOOKUP(B1299,Spiele!B:B,Spiele!D:D))","v":""},{"$f":"IF(B1299=\"\",\"\",LOOKUP(B1299,Spiele!B:B,Spiele!E:E))","v":""},{"$f":"IF(B1299=\"\",\"\",LOOKUP(B1299,Spiele!B:B,Spiele!F:F))","v":""},"","","",null,null,-1,-1,1,0]
[null,null,{"$f":"IF(B1300=\"\",\"\",LOOKUP(B1300,Spiele!B:B,Spiele!C:C))","v":""},{"$f":"IF(B1300=\"\",\"\",LOOKUP(B1300,Spiele!B:B,Spiele!D:D))","v":""},{"$f":"IF(B1300=\"\",\"\",LOOKUP(B1300,Spiele!B:B,Spiele!E:E))","v":""},{"$f":"IF(B1300=\"\",\"\",LOOKUP(B1300,Spiele!B:B,Spiele!F:F))","v":""},"","","",null,null,-1,-1,1,0]
[null,null,{"$f":"IF(B1301=\"\",\"\",LOOKUP(B1301,Spiele!B:B,Spiele!C:C))","v":""},{"$f":"IF(B1301=\"\",\"\",LOOKUP(B1301,Spiele!B:B,Spiele!D:D))","v":""},{"$f":"IF(B1301=\"\",\"\",LOOKUP(B1301,Spiele!B:B,Spiele!E:E))","v":""},{"$f":"IF(B1301=\"\",\"\",LOOKUP(B1301,Spiele!B:B,Spiele!F:F))","v":""},"","","",null,null,-1,-1,1,0]
[null,null,{"$f":"IF(B1302=\"\",\"\",LOOKUP(B1302,Spiele!B:B,Spiele!C:C))","v":""},{"$f":"IF(B1302=\"\",\"\",LOOKUP(B1302,Spiele!B:B,Spiele!D:D))","v":""},{"$f":"IF(B1302=\"\",\"\",LOOKUP(B1302,Spiele!B:B,Spiele!E:E))","v":""},{"$f":"IF(B1302=\"\",\"\",LOOKUP(B1302,Spiele!B:B,Spiele!F:F))","v":""},"","","",null,null,-1,-1,1,0]
[null,null,{"$f":"IF(B1303=\"\",\"\",LOOKUP(B1303,Spiele!B:B,Spiele!C:C))","v":""},{"$f":"IF(B1303=\"\",\"\",LOOKUP(B1303,Spiele!B:B,Spiele!D:D))","v":""},{"$f":"IF(B1303=\"\",\"\",LOOKUP(B1303,Spiele!B:B,Spiele!E:E))","v":""},{"$f":"IF(B1303=\"\",\"\",LOOKUP(B1303,Spiele!B:B,Spiele!F:F))","v":""},"","","",null,null,-1,-1,1,0]
[null,null,{"$f":"IF(B1304=\"\",\"\",LOOKUP(B1304,Spiele!B:B,Spiele!C:C))","v":""},{"$f":"IF(B1304=\"\",\"\",LOOKUP(B1304,Spiele!B:B,Spiele!D:D))","v":""},{"$f":"IF(B1304=\"\",\"\",LOOKUP(B1304,Spiele!B:B,Spiele!E:E))","v":""},{"$f":"IF(B1304=\"\",\"\",LOOKUP(B1304,Spiele!B:B,Spiele!F:F))","v":""},"","","",null,null,-1,-1,1,0]
[null,null,{"$f":"IF(B1305=\"\",\"\",LOOKUP(B1305,Spiele!B:B,Spiele!C:C))","v":""},{"$f":"IF(B1305=\"\",\"\",LOOKUP(B1305,Spiele!B:B,Spiele!D:D))","v":""},{"$f":"IF(B1305=\"\",\"\",LOOKUP(B1305,Spiele!B:B,Spiele!E:E))","v":""},{"$f":"IF(B1305=\"\",\"\",LOOKUP(B1305,Spiele!B:B,Spiele!F:F))","v":""},"","","",null,null,-1,-1,1,0]
[null,null,{"$f":"IF(B1306=\"\",\"\",LOOKUP(B1306,Spiele!B:B,Spiele!C:C))","v":""},{"$f":"IF(B1306=\"\",\"\",LOOKUP(B1306,Spiele!B:B,Spiele!D:D))","v":""},{"$f":"IF(B1306=\"\",\"\",LOOKUP(B1306,Spiele!B:B,Spiele!E:E))","v":""},{"$f":"IF(B1306=\"\",\"\",LOOKUP(B1306,Spiele!B:B,Spiele!F:F))","v":""},"","","",null,null,-1,-1,1,0]
[null,null,{"$f":"IF(B1307=\"\",\"\",LOOKUP(B1307,Spiele!B:B,Spiele!C:C))","v":""},{"$f":"IF(B1307=\"\",\"\",LOOKUP(B1307,Spiele!B:B,Spiele!D:D))","v":""},{"$f":"IF(B1307=\"\",\"\",LOOKUP(B1307,Spiele!B:B,Spiele!E:E))","v":""},{"$f":"IF(B1307=\"\",\"\",LOOKUP(B1307,Spiele!B:B,Spiele!F:F))","v":""},"","","",null,null,-1,-1,1,0]
[null,null,{"$f":"IF(B1308=\"\",\"\",LOOKUP(B1308,Spiele!B:B,Spiele!C:C))","v":""},{"$f":"IF(B1308=\"\",\"\",LOOKUP(B1308,Spiele!B:B,Spiele!D:D))","v":""},{"$f":"IF(B1308=\"\",\"\",LOOKUP(B1308,Spiele!B:B,Spiele!E:E))","v":""},{"$f":"IF(B1308=\"\",\"\",LOOKUP(B1308,Spiele!B:B,Spiele!F:F))","v":""},"","","",null,null,-1,-1,1,0]
[null,null,{"$f":"IF(B1309=\"\",\"\",LOOKUP(B1309,Spiele!B:B,Spiele!C:C))","v":""},{"$f":"IF(B1309=\"\",\"\",LOOKUP(B1309,Spiele!B:B,Spiele!D:D))","v":""},{"$f":"IF(B1309=\"\",\"\",LOOKUP(B1309,Spiele!B:B,Spiele!E:E))","v":""},{"$f":"IF(B1309=\"\",\"\",LOOKUP(B1309,Spiele!B:B,Spiele!F:F))","v":""},"","","",null,null,-1,-1,1,0]
[null,null,{"$f":"IF(B1310=\"\",\"\",LOOKUP(B1310,Spiele!B:B,Spiele!C:C))","v":""},{"$f":"IF(B1310=\"\",\"\",LOOKUP(B1310,Spiele!B:B,Spiele!D:D))","v":""},{"$f":"IF(B1310=\"\",\"\",LOOKUP(B1310,Spiele!B:B,Spiele!E:E))","v":""},{"$f":"IF(B1310=\"\",\"\",LOOKUP(B1310,Spiele!B:B,Spiele!F:F))","v":""},"","","",null,null,-1,-1,1,0]
[null,null,{"$f":"IF(B1311=\"\",\"\",LOOKUP(B1311,Spiele!B:B,Spiele!C:C))","v":""},{"$f":"IF(B1311=\"\",\"\",LOOKUP(B1311,Spiele!B:B,Spiele!D:D))","v":""},{"$f":"IF(B1311=\"\",\"\",LOOKUP(B1311,Spiele!B:B,Spiele!E:E))","v":""},{"$f":"IF(B1311=\"\",\"\",LOOKUP(B1311,Spiele!B:B,Spiele!F:F))","v":""},"","","",null,null,-1,-1,1,0]
[null,null,{"$f":"IF(B1312=\"\",\"\",LOOKUP(B1312,Spiele!B:B,Spiele!C:C))","v":""},{"$f":"IF(B1312=\"\",\"\",LOOKUP(B1312,Spiele!B:B,Spiele!D:D))","v":""},{"$f":"IF(B1312=\"\",\"\",LOOKUP(B1312,Spiele!B:B,Spiele!E:E))","v":""},{"$f":"IF(B1312=\"\",\"\",LOOKUP(B1312,Spiele!B:B,Spiele!F:F))","v":""},"","","",null,null,-1,-1,1,0]
[null,null,{"$f":"IF(B1313=\"\",\"\",LOOKUP(B1313,Spiele!B:B,Spiele!C:C))","v":""},{"$f":"IF(B1313=\"\",\"\",LOOKUP(B1313,Spiele!B:B,Spiele!D:D))","v":""},{"$f":"IF(B1313=\"\",\"\",LOOKUP(B1313,Spiele!B:B,Spiele!E:E))","v":""},{"$f":"IF(B1313=\"\",\"\",LOOKUP(B1313,Spiele!B:B,Spiele!F:F))","v":""},"","","",null,null,-1,-1,1,0]
[null,null,{"$f":"IF(B1314=\"\",\"\",LOOKUP(B1314,Spiele!B:B,Spiele!C:C))","v":""},{"$f":"IF(B1314=\"\",\"\",LOOKUP(B1314,Spiele!B:B,Spiele!D:D))","v":""},{"$f":"IF(B1314=\"\",\"\",LOOKUP(B1314,Spiele!B:B,Spiele!E:E))","v":""},{"$f":"IF(B1314=\"\",\"\",LOOKUP(B1314,Spiele!B:B,Spiele!F:F))","v":""},"","","",null,null,-1,-1,1,0]
[null,null,{"$f":"IF(B1315=\"\",\"\",LOOKUP(B1315,Spiele!B:B,Spiele!C:C))","v":""},{"$f":"IF(B1315=\"\",\"\",LOOKUP(B1315,Spiele!B:B,Spiele!D:D))","v":""},{"$f":"IF(B1315=\"\",\"\",LOOKUP(B1315,Spiele!B:B,Spiele!E:E))","v":""},{"$f":"IF(B1315=\"\",\"\",LOOKUP(B1315,Spiele!B:B,Spiele!F:F))","v":""},"","","",null,null,-1,-1,1,0]
[null,null,{"$f":"IF(B1316=\"\",\"\",LOOKUP(B1316,Spiele!B:B,Spiele!C:C))","v":""},{"$f":"IF(B1316=\"\",\"\",LOOKUP(B1316,Spiele!B:B,Spiele!D:D))","v":""},{"$f":"IF(B1316=\"\",\"\",LOOKUP(B1316,Spiele!B:B,Spiele!E:E))","v":""},{"$f":"IF(B1316=\"\",\"\",LOOKUP(B1316,Spiele!B:B,Spiele!F:F))","v":""},"","","",null,null,-1,-1,1,0]
[null,null,{"$f":"IF(B1317=\"\",\"\",LOOKUP(B1317,Spiele!B:B,Spiele!C:C))","v":""},{"$f":"IF(B1317=\"\",\"\",LOOKUP(B1317,Spiele!B:B,Spiele!D:D))","v":""},{"$f":"IF(B1317=\"\",\"\",LOOKUP(B1317,Spiele!B:B,Spiele!E:E))","v":""},{"$f":"IF(B1317=\"\",\"\",LOOKUP(B1317,Spiele!B:B,Spiele!F:F))","v":""},"","","",null,null,-1,-1,1,0]
[null,null,{"$f":"IF(B1318=\"\",\"\",LOOKUP(B1318,Spiele!B:B,Spiele!C:C))","v":""},{"$f":"IF(B1318=\"\",\"\",LOOKUP(B1318,Spiele!B:B,Spiele!D:D))","v":""},{"$f":"IF(B1318=\"\",\"\",LOOKUP(B1318,Spiele!B:B,Spiele!E:E))","v":""},{"$f":"IF(B1318=\"\",\"\",LOOKUP(B1318,Spiele!B:B,Spiele!F:F))","v":""},"","","",null,null,-1,-1,1,0]
[null,null,{"$f":"IF(B1319=\"\",\"\",LOOKUP(B1319,Spiele!B:B,Spiele!C:C))","v":""},{"$f":"IF(B1319=\"\",\"\",LOOKUP(B1319,Spiele!B:B,Spiele!D:D))","v":""},{"$f":"IF(B1319=\"\",\"\",LOOKUP(B1319,Spiele!B:B,Spiele!E:E))","v":""},{"$f":"IF(B1319=\"\",\"\",LOOKUP(B1319,Spiele!B:B,Spiele!F:F))","v":""},"","","",null,null,-1,-1,1,0]
[null,null,{"$f":"IF(B1320=\"\",\"\",LOOKUP(B1320,Spiele!B:B,Spiele!C:C))","v":""},{"$f":"IF(B1320=\"\",\"\",LOOKUP(B1320,Spiele!B:B,Spiele!D:D))","v":""},{"$f":"IF(B1320=\"\",\"\",LOOKUP(B1320,Spiele!B:B,Spiele!E:E))","v":""},{"$f":"IF(B1320=\"\",\"\",LOOKUP(B1320,Spiele!B:B,Spiele!F:F))","v":""},"","","",null,null,-1,-1,1,0]
[null,null,{"$f":"IF(B1321=\"\",\"\",LOOKUP(B1321,Spiele!B:B,Spiele!C:C))","v":""},{"$f":"IF(B1321=\"\",\"\",LOOKUP(B1321,Spiele!B:B,Spiele!D:D))","v":""},{"$f":"IF(B1321=\"\",\"\",LOOKUP(B1321,Spiele!B:B,Spiele!E:E))","v":""},{"$f":"IF(B1321=\"\",\"\",LOOKUP(B1321,Spiele!B:B,Spiele!F:F))","v":""},"","","",null,null,-1,-1,1,0]
[null,null,{"$f":"IF(B1322=\"\",\"\",LOOKUP(B1322,Spiele!B:B,Spiele!C:C))","v":""},{"$f":"IF(B1322=\"\",\"\",LOOKUP(B1322,Spiele!B:B,Spiele!D:D))","v":""},{"$f":"IF(B1322=\"\",\"\",LOOKUP(B1322,Spiele!B:B,Spiele!E:E))","v":""},{"$f":"IF(B1322=\"\",\"\",LOOKUP(B1322,Spiele!B:B,Spiele!F:F))","v":""},{"$f":"IF(E1322=\"\",\"\",IF(E1322>F1322,1,0))","v":""},{"$f":"IF(F1322=\"\",\"\",IF(E1322<F1322,1,0))","v":""},{"$f":"IF(E1322=\"\",\"\",IF(E1322=F1322,1,0))","v":""},null,null,{"$f":"IF(E1322=\"\",-1,IF(J1322>K1322,1,-1))","v":-1},{"$f":"IF(F1322=\"\",-1,IF(J1322<K1322,1,-1))","v":-1},{"$f":"IF(E1322=\"-\",-1,IF(J1322=K1322,1,-1))","v":1},{"$f":"IF(E1322=\"\",0,IF(E1322=J1322,1,0)+IF(F1322=K1322,1,0)+IF(G1322=L1322,1,0)+IF(H1322=M1322,1,0)+IF(I1322=N1322,1,0))","v":0}]
[null,null,{"$f":"IF(B1323=\"\",\"\",LOOKUP(B1323,Spiele!B:B,Spiele!C:C))","v":""},{"$f":"IF(B1323=\"\",\"\",LOOKUP(B1323,Spiele!B:B,Spiele!D:D))","v":""},{"$f":"IF(B1323=\"\",\"\",LOOKUP(B1323,Spiele!B:B,Spiele!E:E))","v":""},{"$f":"IF(B1323=\"\",\"\",LOOKUP(B1323,Spiele!B:B,Spiele!F:F))","v":""},"","","",null,null,-1,-1,1,0]
[null,null,{"$f":"IF(B1324=\"\",\"\",LOOKUP(B1324,Spiele!B:B,Spiele!C:C))","v":""},{"$f":"IF(B1324=\"\",\"\",LOOKUP(B1324,Spiele!B:B,Spiele!D:D))","v":""},{"$f":"IF(B1324=\"\",\"\",LOOKUP(B1324,Spiele!B:B,Spiele!E:E))","v":""},{"$f":"IF(B1324=\"\",\"\",LOOKUP(B1324,Spiele!B:B,Spiele!F:F))","v":""},"","","",null,null,-1,-1,1,0]
[null,null,{"$f":"IF(B1325=\"\",\"\",LOOKUP(B1325,Spiele!B:B,Spiele!C:C))","v":""},{"$f":"IF(B1325=\"\",\"\",LOOKUP(B1325,Spiele!B:B,Spiele!D:D))","v":""},{"$f":"IF(B1325=\"\",\"\",LOOKUP(B1325,Spiele!B:B,Spiele!E:E))","v":""},{"$f":"IF(B1325=\"\",\"\",LOOKUP(B1325,Spiele!B:B,Spiele!F:F))","v":""},"","","",null,null,-1,-1,1,0]
[null,null,{"$f":"IF(B1326=\"\",\"\",LOOKUP(B1326,Spiele!B:B,Spiele!C:C))","v":""},{"$f":"IF(B1326=\"\",\"\",LOOKUP(B1326,Spiele!B:B,Spiele!D:D))","v":""},{"$f":"IF(B1326=\"\",\"\",LOOKUP(B1326,Spiele!B:B,Spiele!E:E))","v":""},{"$f":"IF(B1326=\"\",\"\",LOOKUP(B1326,Spiele!B:B,Spiele!F:F))","v":""},"","","",null,null,-1,-1,1,0]
[null,null,{"$f":"IF(B1327=\"\",\"\",LOOKUP(B1327,Spiele!B:B,Spiele!C:C))","v":""},{"$f":"IF(B1327=\"\",\"\",LOOKUP(B1327,Spiele!B:B,Spiele!D:D))","v":""},{"$f":"IF(B1327=\"\",\"\",LOOKUP(B1327,Spiele!B:B,Spiele!E:E))","v":""},{"$f":"IF(B1327=\"\",\"\",LOOKUP(B1327,Spiele!B:B,Spiele!F:F))","v":""},"","","",null,null,-1,-1,1,0]
[null,null,{"$f":"IF(B1328=\"\",\"\",LOOKUP(B1328,Spiele!B:B,Spiele!C:C))","v":""},{"$f":"IF(B1328=\"\",\"\",LOOKUP(B1328,Spiele!B:B,Spiele!D:D))","v":""},{"$f":"IF(B1328=\"\",\"\",LOOKUP(B1328,Spiele!B:B,Spiele!E:E))","v":""},{"$f":"IF(B1328=\"\",\"\",LOOKUP(B1328,Spiele!B:B,Spiele!F:F))","v":""},"","","",null,null,-1,-1,1,0]
[null,null,{"$f":"IF(B1329=\"\",\"\",LOOKUP(B1329,Spiele!B:B,Spiele!C:C))","v":""},{"$f":"IF(B1329=\"\",\"\",LOOKUP(B1329,Spiele!B:B,Spiele!D:D))","v":""},{"$f":"IF(B1329=\"\",\"\",LOOKUP(B1329,Spiele!B:B,Spiele!E:E))","v":""},{"$f":"IF(B1329=\"\",\"\",LOOKUP(B1329,Spiele!B:B,Spiele!F:F))","v":""},"","","",null,null,-1,-1,1,0]
[null,null,{"$f":"IF(B1330=\"\",\"\",LOOKUP(B1330,Spiele!B:B,Spiele!C:C))","v":""},{"$f":"IF(B1330=\"\",\"\",LOOKUP(B1330,Spiele!B:B,Spiele!D:D))","v":""},{"$f":"IF(B1330=\"\",\"\",LOOKUP(B1330,Spiele!B:B,Spiele!E:E))","v":""},{"$f":"IF(B1330=\"\",\"\",LOOKUP(B1330,Spiele!B:B,Spiele!F:F))","v":""},"","","",null,null,-1,-1,1,0]
[null,null,{"$f":"IF(B1331=\"\",\"\",LOOKUP(B1331,Spiele!B:B,Spiele!C:C))","v":""},{"$f":"IF(B1331=\"\",\"\",LOOKUP(B1331,Spiele!B:B,Spiele!D:D))","v":""},{"$f":"IF(B1331=\"\",\"\",LOOKUP(B1331,Spiele!B:B,Spiele!E:E))","v":""},{"$f":"IF(B1331=\"\",\"\",LOOKUP(B1331,Spiele!B:B,Spiele!F:F))","v":""},"","","",null,null,-1,-1,1,0]
[null,null,{"$f":"IF(B1332=\"\",\"\",LOOKUP(B1332,Spiele!B:B,Spiele!C:C))","v":""},{"$f":"IF(B1332=\"\",\"\",LOOKUP(B1332,Spiele!B:B,Spiele!D:D))","v":""},{"$f":"IF(B1332=\"\",\"\",LOOKUP(B1332,Spiele!B:B,Spiele!E:E))","v":""},{"$f":"IF(B1332=\"\",\"\",LOOKUP(B1332,Spiele!B:B,Spiele!F:F))","v":""},"","","",null,null,-1,-1,1,0]
[null,null,{"$f":"IF(B1333=\"\",\"\",LOOKUP(B1333,Spiele!B:B,Spiele!C:C))","v":""},{"$f":"IF(B1333=\"\",\"\",LOOKUP(B1333,Spiele!B:B,Spiele!D:D))","v":""},{"$f":"IF(B1333=\"\",\"\",LOOKUP(B1333,Spiele!B:B,Spiele!E:E))","v":""},{"$f":"IF(B1333=\"\",\"\",LOOKUP(B1333,Spiele!B:B,Spiele!F:F))","v":""},"","","",null,null,-1,-1,1,0]
[null,null,{"$f":"IF(B1334=\"\",\"\",LOOKUP(B1334,Spiele!B:B,Spiele!C:C))","v":""},{"$f":"IF(B1334=\"\",\"\",LOOKUP(B1334,Spiele!B:B,Spiele!D:D))","v":""},{"$f":"IF(B1334=\"\",\"\",LOOKUP(B1334,Spiele!B:B,Spiele!E:E))","v":""},{"$f":"IF(B1334=\"\",\"\",LOOKUP(B1334,Spiele!B:B,Spiele!F:F))","v":""},"","","",null,null,-1,-1,1,0]
[null,null,{"$f":"IF(B1335=\"\",\"\",LOOKUP(B1335,Spiele!B:B,Spiele!C:C))","v":""},{"$f":"IF(B1335=\"\",\"\",LOOKUP(B1335,Spiele!B:B,Spiele!D:D))","v":""},{"$f":"IF(B1335=\"\",\"\",LOOKUP(B1335,Spiele!B:B,Spiele!E:E))","v":""},{"$f":"IF(B1335=\"\",\"\",LOOKUP(B1335,Spiele!B:B,Spiele!F:F))","v":""},"","","",null,null,-1,-1,1,0]
[null,null,{"$f":"IF(B1336=\"\",\"\",LOOKUP(B1336,Spiele!B:B,Spiele!C:C))","v":""},{"$f":"IF(B1336=\"\",\"\",LOOKUP(B1336,Spiele!B:B,Spiele!D:D))","v":""},{"$f":"IF(B1336=\"\",\"\",LOOKUP(B1336,Spiele!B:B,Spiele!E:E))","v":""},{"$f":"IF(B1336=\"\",\"\",LOOKUP(B1336,Spiele!B:B,Spiele!F:F))","v":""},"","","",null,null,-1,-1,1,0]
[null,null,{"$f":"IF(B1337=\"\",\"\",LOOKUP(B1337,Spiele!B:B,Spiele!C:C))","v":""},{"$f":"IF(B1337=\"\",\"\",LOOKUP(B1337,Spiele!B:B,Spiele!D:D))","v":""},{"$f":"IF(B1337=\"\",\"\",LOOKUP(B1337,Spiele!B:B,Spiele!E:E))","v":""},{"$f":"IF(B1337=\"\",\"\",LOOKUP(B1337,Spiele!B:B,Spiele!F:F))","v":""},"","","",null,null,-1,-1,1,0]
[null,null,{"$f":"IF(B1338=\"\",\"\",LOOKUP(B1338,Spiele!B:B,Spiele!C:C))","v":""},{"$f":"IF(B1338=\"\",\"\",LOOKUP(B1338,Spiele!B:B,Spiele!D:D))","v":""},{"$f":"IF(B1338=\"\",\"\",LOOKUP(B1338,Spiele!B:B,Spiele!E:E))","v":""},{"$f":"IF(B1338=\"\",\"\",LOOKUP(B1338,Spiele!B:B,Spiele!F:F))","v":""},"","","",null,null,-1,-1,1,0]
[null,null,{"$f":"IF(B1339=\"\",\"\",LOOKUP(B1339,Spiele!B:B,Spiele!C:C))","v":""},{"$f":"IF(B1339=\"\",\"\",LOOKUP(B1339,Spiele!B:B,Spiele!D:D))","v":""},{"$f":"IF(B1339=\"\",\"\",LOOKUP(B1339,Spiele!B:B,Spiele!E:E))","v":""},{"$f":"IF(B1339=\"\",\"\",LOOKUP(B1339,Spiele!B:B,Spiele!F:F))","v":""},"","","",null,null,-1,-1,1,0]
[null,null,{"$f":"IF(B1340=\"\",\"\",LOOKUP(B1340,Spiele!B:B,Spiele!C:C))","v":""},{"$f":"IF(B1340=\"\",\"\",LOOKUP(B1340,Spiele!B:B,Spiele!D:D))","v":""},{"$f":"IF(B1340=\"\",\"\",LOOKUP(B1340,Spiele!B:B,Spiele!E:E))","v":""},{"$f":"IF(B1340=\"\",\"\",LOOKUP(B1340,Spiele!B:B,Spiele!F:F))","v":""},"","","",null,null,-1,-1,1,0]
[null,null,{"$f":"IF(B1341=\"\",\"\",LOOKUP(B1341,Spiele!B:B,Spiele!C:C))","v":""},{"$f":"IF(B1341=\"\",\"\",LOOKUP(B1341,Spiele!B:B,Spiele!D:D))","v":""},{"$f":"IF(B1341=\"\",\"\",LOOKUP(B1341,Spiele!B:B,Spiele!E:E))","v":""},{"$f":"IF(B1341=\"\",\"\",LOOKUP(B1341,Spiele!B:B,Spiele!F:F))","v":""},"","","",null,null,-1,-1,1,0]
[null,null,{"$f":"IF(B1342=\"\",\"\",LOOKUP(B1342,Spiele!B:B,Spiele!C:C))","v":""},{"$f":"IF(B1342=\"\",\"\",LOOKUP(B1342,Spiele!B:B,Spiele!D:D))","v":""},{"$f":"IF(B1342=\"\",\"\",LOOKUP(B1342,Spiele!B:B,Spiele!E:E))","v":""},{"$f":"IF(B1342=\"\",\"\",LOOKUP(B1342,Spiele!B:B,Spiele!F:F))","v":""},"","","",null,null,-1,-1,1,0]
[null,null,{"$f":"IF(B1343=\"\",\"\",LOOKUP(B1343,Spiele!B:B,Spiele!C:C))","v":""},{"$f":"IF(B1343=\"\",\"\",LOOKUP(B1343,Spiele!B:B,Spiele!D:D))","v":""},{"$f":"IF(B1343=\"\",\"\",LOOKUP(B1343,Spiele!B:B,Spiele!E:E))","v":""},{"$f":"IF(B1343=\"\",\"\",LOOKUP(B1343,Spiele!B:B,Spiele!F:F))","v":""},"","","",null,null,-1,-1,1,0]
[null,null,{"$f":"IF(B1344=\"\",\"\",LOOKUP(B1344,Spiele!B:B,Spiele!C:C))","v":""},{"$f":"IF(B1344=\"\",\"\",LOOKUP(B1344,Spiele!B:B,Spiele!D:D))","v":""},{"$f":"IF(B1344=\"\",\"\",LOOKUP(B1344,Spiele!B:B,Spiele!E:E))","v":""},{"$f":"IF(B1344=\"\",\"\",LOOKUP(B1344,Spiele!B:B,Spiele!F:F))","v":""},"","","",null,null,-1,-1,1,0]
[null,null,{"$f":"IF(B1345=\"\",\"\",LOOKUP(B1345,Spiele!B:B,Spiele!C:C))","v":""},{"$f":"IF(B1345=\"\",\"\",LOOKUP(B1345,Spiele!B:B,Spiele!D:D))","v":""},{"$f":"IF(B1345=\"\",\"\",LOOKUP(B1345,Spiele!B:B,Spiele!E:E))","v":""},{"$f":"IF(B1345=\"\",\"\",LOOKUP(B1345,Spiele!B:B,Spiele!F:F))","v":""},"","","",null,null,-1,-1,1,0]
[null,null,{"$f":"IF(B1346=\"\",\"\",LOOKUP(B1346,Spiele!B:B,Spiele!C:C))","v":""},{"$f":"IF(B1346=\"\",\"\",LOOKUP(B1346,Spiele!B:B,Spiele!D:D))","v":""},{"$f":"IF(B1346=\"\",\"\",LOOKUP(B1346,Spiele!B:B,Spiele!E:E))","v":""},{"$f":"IF(B1346=\"\",\"\",LOOKUP(B1346,Spiele!B:B,Spiele!F:F))","v":""},"","","",null,null,-1,-1,1,0]
[null,null,{"$f":"IF(B1347=\"\",\"\",LOOKUP(B1347,Spiele!B:B,Spiele!C:C))","v":""},{"$f":"IF(B1347=\"\",\"\",LOOKUP(B1347,Spiele!B:B,Spiele!D:D))","v":""},{"$f":"IF(B1347=\"\",\"\",LOOKUP(B1347,Spiele!B:B,Spiele!E:E))","v":""},{"$f":"IF(B1347=\"\",\"\",LOOKUP(B1347,Spiele!B:B,Spiele!F:F))","v":""},"","","",null,null,-1,-1,1,0]
[null,null,{"$f":"IF(B1348=\"\",\"\",LOOKUP(B1348,Spiele!B:B,Spiele!C:C))","v":""},{"$f":"IF(B1348=\"\",\"\",LOOKUP(B1348,Spiele!B:B,Spiele!D:D))","v":""},{"$f":"IF(B1348=\"\",\"\",LOOKUP(B1348,Spiele!B:B,Spiele!E:E))","v":""},{"$f":"IF(B1348=\"\",\"\",LOOKUP(B1348,Spiele!B:B,Spiele!F:F))","v":""},"","","",null,null,-1,-1,1,0]
[null,null,{"$f":"IF(B1349=\"\",\"\",LOOKUP(B1349,Spiele!B:B,Spiele!C:C))","v":""},{"$f":"IF(B1349=\"\",\"\",LOOKUP(B1349,Spiele!B:B,Spiele!D:D))","v":""},{"$f":"IF(B1349=\"\",\"\",LOOKUP(B1349,Spiele!B:B,Spiele!E:E))","v":""},{"$f":"IF(B1349=\"\",\"\",LOOKUP(B1349,Spiele!B:B,Spiele!F:F))","v":""},"","","",null,null,-1,-1,1,0]
[null,null,{"$f":"IF(B1350=\"\",\"\",LOOKUP(B1350,Spiele!B:B,Spiele!C:C))","v":""},{"$f":"IF(B1350=\"\",\"\",LOOKUP(B1350,Spiele!B:B,Spiele!D:D))","v":""},{"$f":"IF(B1350=\"\",\"\",LOOKUP(B1350,Spiele!B:B,Spiele!E:E))","v":""},{"$f":"IF(B1350=\"\",\"\",LOOKUP(B1350,Spiele!B:B,Spiele!F:F))","v":""},"","","",null,null,-1,-1,1,0]
[null,null,{"$f":"IF(B1351=\"\",\"\",LOOKUP(B1351,Spiele!B:B,Spiele!C:C))","v":""},{"$f":"IF(B1351=\"\",\"\",LOOKUP(B1351,Spiele!B:B,Spiele!D:D))","v":""},{"$f":"IF(B1351=\"\",\"\",LOOKUP(B1351,Spiele!B:B,Spiele!E:E))","v":""},{"$f":"IF(B1351=\"\",\"\",LOOKUP(B1351,Spiele!B:B,Spiele!F:F))","v":""},"","","",null,null,-1,-1,1,0]
[null,null,{"$f":"IF(B1352=\"\",\"\",LOOKUP(B1352,Spiele!B:B,Spiele!C:C))","v":""},{"$f":"IF(B1352=\"\",\"\",LOOKUP(B1352,Spiele!B:B,Spiele!D:D))","v":""},{"$f":"IF(B1352=\"\",\"\",LOOKUP(B1352,Spiele!B:B,Spiele!E:E))","v":""},{"$f":"IF(B1352=\"\",\"\",LOOKUP(B1352,Spiele!B:B,Spiele!F:F))","v":""},"","","",null,null,-1,-1,1,0]
[null,null,{"$f":"IF(B1353=\"\",\"\",LOOKUP(B1353,Spiele!B:B,Spiele!C:C))","v":""},{"$f":"IF(B1353=\"\",\"\",LOOKUP(B1353,Spiele!B:B,Spiele!D:D))","v":""},{"$f":"IF(B1353=\"\",\"\",LOOKUP(B1353,Spiele!B:B,Spiele!E:E))","v":""},{"$f":"IF(B1353=\"\",\"\",LOOKUP(B1353,Spiele!B:B,Spiele!F:F))","v":""},"","","",null,null,-1,-1,1,0]
[null,null,{"$f":"IF(B1354=\"\",\"\",LOOKUP(B1354,Spiele!B:B,Spiele!C:C))","v":""},{"$f":"IF(B1354=\"\",\"\",LOOKUP(B1354,Spiele!B:B,Spiele!D:D))","v":""},{"$f":"IF(B1354=\"\",\"\",LOOKUP(B1354,Spiele!B:B,Spiele!E:E))","v":""},{"$f":"IF(B1354=\"\",\"\",LOOKUP(B1354,Spiele!B:B,Spiele!F:F))","v":""},"","","",null,null,-1,-1,1,0]
[null,null,{"$f":"IF(B1355=\"\",\"\",LOOKUP(B1355,Spiele!B:B,Spiele!C:C))","v":""},{"$f":"IF(B1355=\"\",\"\",LOOKUP(B1355,Spiele!B:B,Spiele!D:D))","v":""},{"$f":"IF(B1355=\"\",\"\",LOOKUP(B1355,Spiele!B:B,Spiele!E:E))","v":""},{"$f":"IF(B1355=\"\",\"\",LOOKUP(B1355,Spiele!B:B,Spiele!F:F))","v":""},"","","",null,null,-1,-1,1,0]
[null,null,{"$f":"IF(B1356=\"\",\"\",LOOKUP(B1356,Spiele!B:B,Spiele!C:C))","v":""},{"$f":"IF(B1356=\"\",\"\",LOOKUP(B1356,Spiele!B:B,Spiele!D:D))","v":""},{"$f":"IF(B1356=\"\",\"\",LOOKUP(B1356,Spiele!B:B,Spiele!E:E))","v":""},{"$f":"IF(B1356=\"\",\"\",LOOKUP(B1356,Spiele!B:B,Spiele!F:F))","v":""},"","","",null,null,-1,-1,1,0]
[null,null,{"$f":"IF(B1357=\"\",\"\",LOOKUP(B1357,Spiele!B:B,Spiele!C:C))","v":""},{"$f":"IF(B1357=\"\",\"\",LOOKUP(B1357,Spiele!B:B,Spiele!D:D))","v":""},{"$f":"IF(B1357=\"\",\"\",LOOKUP(B1357,Spiele!B:B,Spiele!E:E))","v":""},{"$f":"IF(B1357=\"\",\"\",LOOKUP(B1357,Spiele!B:B,Spiele!F:F))","v":""},"","","",null,null,-1,-1,1,0]
[null,null,{"$f":"IF(B1358=\"\",\"\",LOOKUP(B1358,Spiele!B:B,Spiele!C:C))","v":""},{"$f":"IF(B1358=\"\",\"\",LOOKUP(B1358,Spiele!B:B,Spiele!D:D))","v":""},{"$f":"IF(B1358=\"\",\"\",LOOKUP(B1358,Spiele!B:B,Spiele!E:E))","v":""},{"$f":"IF(B1358=\"\",\"\",LOOKUP(B1358,Spiele!B:B,Spiele!F:F))","v":""},"","","",null,null,-1,-1,1,0]
[null,null,{"$f":"IF(B1359=\"\",\"\",LOOKUP(B1359,Spiele!B:B,Spiele!C:C))","v":""},{"$f":"IF(B1359=\"\",\"\",LOOKUP(B1359,Spiele!B:B,Spiele!D:D))","v":""},{"$f":"IF(B1359=\"\",\"\",LOOKUP(B1359,Spiele!B:B,Spiele!E:E))","v":""},{"$f":"IF(B1359=\"\",\"\",LOOKUP(B1359,Spiele!B:B,Spiele!F:F))","v":""},"","","",null,null,-1,-1,1,0]
[null,null,{"$f":"IF(B1360=\"\",\"\",LOOKUP(B1360,Spiele!B:B,Spiele!C:C))","v":""},{"$f":"IF(B1360=\"\",\"\",LOOKUP(B1360,Spiele!B:B,Spiele!D:D))","v":""},{"$f":"IF(B1360=\"\",\"\",LOOKUP(B1360,Spiele!B:B,Spiele!E:E))","v":""},{"$f":"IF(B1360=\"\",\"\",LOOKUP(B1360,Spiele!B:B,Spiele!F:F))","v":""},"","","",null,null,-1,-1,1,0]
[null,null,{"$f":"IF(B1361=\"\",\"\",LOOKUP(B1361,Spiele!B:B,Spiele!C:C))","v":""},{"$f":"IF(B1361=\"\",\"\",LOOKUP(B1361,Spiele!B:B,Spiele!D:D))","v":""},{"$f":"IF(B1361=\"\",\"\",LOOKUP(B1361,Spiele!B:B,Spiele!E:E))","v":""},{"$f":"IF(B1361=\"\",\"\",LOOKUP(B1361,Spiele!B:B,Spiele!F:F))","v":""},"","","",null,null,-1,-1,1,0]
[null,null,{"$f":"IF(B1362=\"\",\"\",LOOKUP(B1362,Spiele!B:B,Spiele!C:C))","v":""},{"$f":"IF(B1362=\"\",\"\",LOOKUP(B1362,Spiele!B:B,Spiele!D:D))","v":""},{"$f":"IF(B1362=\"\",\"\",LOOKUP(B1362,Spiele!B:B,Spiele!E:E))","v":""},{"$f":"IF(B1362=\"\",\"\",LOOKUP(B1362,Spiele!B:B,Spiele!F:F))","v":""},"","","",null,null,-1,-1,1,0]
[null,null,{"$f":"IF(B1363=\"\",\"\",LOOKUP(B1363,Spiele!B:B,Spiele!C:C))","v":""},{"$f":"IF(B1363=\"\",\"\",LOOKUP(B1363,Spiele!B:B,Spiele!D:D))","v":""},{"$f":"IF(B1363=\"\",\"\",LOOKUP(B1363,Spiele!B:B,Spiele!E:E))","v":""},{"$f":"IF(B1363=\"\",\"\",LOOKUP(B1363,Spiele!B:B,Spiele!F:F))","v":""},"","","",null,null,-1,-1,1,0]
[null,null,{"$f":"IF(B1364=\"\",\"\",LOOKUP(B1364,Spiele!B:B,Spiele!C:C))","v":""},{"$f":"IF(B1364=\"\",\"\",LOOKUP(B1364,Spiele!B:B,Spiele!D:D))","v":""},{"$f":"IF(B1364=\"\",\"\",LOOKUP(B1364,Spiele!B:B,Spiele!E:E))","v":""},{"$f":"IF(B1364=\"\",\"\",LOOKUP(B1364,Spiele!B:B,Spiele!F:F))","v":""},"","","",null,null,-1,-1,1,0]
[null,null,{"$f":"IF(B1365=\"\",\"\",LOOKUP(B1365,Spiele!B:B,Spiele!C:C))","v":""},{"$f":"IF(B1365=\"\",\"\",LOOKUP(B1365,Spiele!B:B,Spiele!D:D))","v":""},{"$f":"IF(B1365=\"\",\"\",LOOKUP(B1365,Spiele!B:B,Spiele!E:E))","v":""},{"$f":"IF(B1365=\"\",\"\",LOOKUP(B1365,Spiele!B:B,Spiele!F:F))","v":""},"","","",null,null,-1,-1,1,0]
[null,null,{"$f":"IF(B1366=\"\",\"\",LOOKUP(B1366,Spiele!B:B,Spiele!C:C))","v":""},{"$f":"IF(B1366=\"\",\"\",LOOKUP(B1366,Spiele!B:B,Spiele!D:D))","v":""},{"$f":"IF(B1366=\"\",\"\",LOOKUP(B1366,Spiele!B:B,Spiele!E:E))","v":""},{"$f":"IF(B1366=\"\",\"\",LOOKUP(B1366,Spiele!B:B,Spiele!F:F))","v":""},"","","",null,null,-1,-1,1,0]
[null,null,{"$f":"IF(B1367=\"\",\"\",LOOKUP(B1367,Spiele!B:B,Spiele!C:C))","v":""},{"$f":"IF(B1367=\"\",\"\",LOOKUP(B1367,Spiele!B:B,Spiele!D:D))","v":""},{"$f":"IF(B1367=\"\",\"\",LOOKUP(B1367,Spiele!B:B,Spiele!E:E))","v":""},{"$f":"IF(B1367=\"\",\"\",LOOKUP(B1367,Spiele!B:B,Spiele!F:F))","v":""},"","","",null,null,-1,-1,1,0]
[null,null,{"$f":"IF(B1368=\"\",\"\",LOOKUP(B1368,Spiele!B:B,Spiele!C:C))","v":""},{"$f":"IF(B1368=\"\",\"\",LOOKUP(B1368,Spiele!B:B,Spiele!D:D))","v":""},{"$f":"IF(B1368=\"\",\"\",LOOKUP(B1368,Spiele!B:B,Spiele!E:E))","v":""},{"$f":"IF(B1368=\"\",\"\",LOOKUP(B1368,Spiele!B:B,Spiele!F:F))","v":""},"","","",null,null,-1,-1,1,0]
[null,null,{"$f":"IF(B1369=\"\",\"\",LOOKUP(B1369,Spiele!B:B,Spiele!C:C))","v":""},{"$f":"IF(B1369=\"\",\"\",LOOKUP(B1369,Spiele!B:B,Spiele!D:D))","v":""},{"$f":"IF(B1369=\"\",\"\",LOOKUP(B1369,Spiele!B:B,Spiele!E:E))","v":""},{"$f":"IF(B1369=\"\",\"\",LOOKUP(B1369,Spiele!B:B,Spiele!F:F))","v":""},"","","",null,null,-1,-1,1,0]
[null,null,{"$f":"IF(B1370=\"\",\"\",LOOKUP(B1370,Spiele!B:B,Spiele!C:C))","v":""},{"$f":"IF(B1370=\"\",\"\",LOOKUP(B1370,Spiele!B:B,Spiele!D:D))","v":""},{"$f":"IF(B1370=\"\",\"\",LOOKUP(B1370,Spiele!B:B,Spiele!E:E))","v":""},{"$f":"IF(B1370=\"\",\"\",LOOKUP(B1370,Spiele!B:B,Spiele!F:F))","v":""},"","","",null,null,-1,-1,1,0]
[null,null,{"$f":"IF(B1371=\"\",\"\",LOOKUP(B1371,Spiele!B:B,Spiele!C:C))","v":""},{"$f":"IF(B1371=\"\",\"\",LOOKUP(B1371,Spiele!B:B,Spiele!D:D))","v":""},{"$f":"IF(B1371=\"\",\"\",LOOKUP(B1371,Spiele!B:B,Spiele!E:E))","v":""},{"$f":"IF(B1371=\"\",\"\",LOOKUP(B1371,Spiele!B:B,Spiele!F:F))","v":""},"","","",null,null,-1,-1,1,0]
[null,null,{"$f":"IF(B1372=\"\",\"\",LOOKUP(B1372,Spiele!B:B,Spiele!C:C))","v":""},{"$f":"IF(B1372=\"\",\"\",LOOKUP(B1372,Spiele!B:B,Spiele!D:D))","v":""},{"$f":"IF(B1372=\"\",\"\",LOOKUP(B1372,Spiele!B:B,Spiele!E:E))","v":""},{"$f":"IF(B1372=\"\",\"\",LOOKUP(B1372,Spiele!B:B,Spiele!F:F))","v":""},"","","",null,null,-1,-1,1,0]
[null,null,{"$f":"IF(B1373=\"\",\"\",LOOKUP(B1373,Spiele!B:B,Spiele!C:C))","v":""},{"$f":"IF(B1373=\"\",\"\",LOOKUP(B1373,Spiele!B:B,Spiele!D:D))","v":""},{"$f":"IF(B1373=\"\",\"\",LOOKUP(B1373,Spiele!B:B,Spiele!E:E))","v":""},{"$f":"IF(B1373=\"\",\"\",LOOKUP(B1373,Spiele!B:B,Spiele!F:F))","v":""},"","","",null,null,-1,-1,1,0]
[null,null,{"$f":"IF(B1374=\"\",\"\",LOOKUP(B1374,Spiele!B:B,Spiele!C:C))","v":""},{"$f":"IF(B1374=\"\",\"\",LOOKUP(B1374,Spiele!B:B,Spiele!D:D))","v":""},{"$f":"IF(B1374=\"\",\"\",LOOKUP(B1374,Spiele!B:B,Spiele!E:E))","v":""},{"$f":"IF(B1374=\"\",\"\",LOOKUP(B1374,Spiele!B:B,Spiele!F:F))","v":""},"","","",null,null,-1,-1,1,0]
[null,null,{"$f":"IF(B1375=\"\",\"\",LOOKUP(B1375,Spiele!B:B,Spiele!C:C))","v":""},{"$f":"IF(B1375=\"\",\"\",LOOKUP(B1375,Spiele!B:B,Spiele!D:D))","v":""},{"$f":"IF(B1375=\"\",\"\",LOOKUP(B1375,Spiele!B:B,Spiele!E:E))","v":""},{"$f":"IF(B1375=\"\",\"\",LOOKUP(B1375,Spiele!B:B,Spiele!F:F))","v":""},"","","",null,null,-1,-1,1,0]
[null,null,{"$f":"IF(B1376=\"\",\"\",LOOKUP(B1376,Spiele!B:B,Spiele!C:C))","v":""},{"$f":"IF(B1376=\"\",\"\",LOOKUP(B1376,Spiele!B:B,Spiele!D:D))","v":""},{"$f":"IF(B1376=\"\",\"\",LOOKUP(B1376,Spiele!B:B,Spiele!E:E))","v":""},{"$f":"IF(B1376=\"\",\"\",LOOKUP(B1376,Spiele!B:B,Spiele!F:F))","v":""},"","","",null,null,-1,-1,1,0]
[null,null,{"$f":"IF(B1377=\"\",\"\",LOOKUP(B1377,Spiele!B:B,Spiele!C:C))","v":""},{"$f":"IF(B1377=\"\",\"\",LOOKUP(B1377,Spiele!B:B,Spiele!D:D))","v":""},{"$f":"IF(B1377=\"\",\"\",LOOKUP(B1377,Spiele!B:B,Spiele!E:E))","v":""},{"$f":"IF(B1377=\"\",\"\",LOOKUP(B1377,Spiele!B:B,Spiele!F:F))","v":""},"","","",null,null,-1,-1,1,0]
[null,null,{"$f":"IF(B1378=\"\",\"\",LOOKUP(B1378,Spiele!B:B,Spiele!C:C))","v":""},{"$f":"IF(B1378=\"\",\"\",LOOKUP(B1378,Spiele!B:B,Spiele!D:D))","v":""},{"$f":"IF(B1378=\"\",\"\",LOOKUP(B1378,Spiele!B:B,Spiele!E:E))","v":""},{"$f":"IF(B1378=\"\",\"\",LOOKUP(B1378,Spiele!B:B,Spiele!F:F))","v":""},"","","",null,null,-1,-1,1,0]
[null,null,{"$f":"IF(B1379=\"\",\"\",LOOKUP(B1379,Spiele!B:B,Spiele!C:C))","v":""},{"$f":"IF(B1379=\"\",\"\",LOOKUP(B1379,Spiele!B:B,Spiele!D:D))","v":""},{"$f":"IF(B1379=\"\",\"\",LOOKUP(B1379,Spiele!B:B,Spiele!E:E))","v":""},{"$f":"IF(B1379=\"\",\"\",LOOKUP(B1379,Spiele!B:B,Spiele!F:F))","v":""},"","","",null,null,-1,-1,1,0]
[null,null,{"$f":"IF(B1380=\"\",\"\",LOOKUP(B1380,Spiele!B:B,Spiele!C:C))","v":""},{"$f":"IF(B1380=\"\",\"\",LOOKUP(B1380,Spiele!B:B,Spiele!D:D))","v":""},{"$f":"IF(B1380=\"\",\"\",LOOKUP(B1380,Spiele!B:B,Spiele!E:E))","v":""},{"$f":"IF(B1380=\"\",\"\",LOOKUP(B1380,Spiele!B:B,Spiele!F:F))","v":""},"","","",null,null,-1,-1,1,0]
[null,null,{"$f":"IF(B1381=\"\",\"\",LOOKUP(B1381,Spiele!B:B,Spiele!C:C))","v":""},{"$f":"IF(B1381=\"\",\"\",LOOKUP(B1381,Spiele!B:B,Spiele!D:D))","v":""},{"$f":"IF(B1381=\"\",\"\",LOOKUP(B1381,Spiele!B:B,Spiele!E:E))","v":""},{"$f":"IF(B1381=\"\",\"\",LOOKUP(B1381,Spiele!B:B,Spiele!F:F))","v":""},"","","",null,null,-1,-1,1,0]
[null,null,{"$f":"IF(B1382=\"\",\"\",LOOKUP(B1382,Spiele!B:B,Spiele!C:C))","v":""},{"$f":"IF(B1382=\"\",\"\",LOOKUP(B1382,Spiele!B:B,Spiele!D:D))","v":""},{"$f":"IF(B1382=\"\",\"\",LOOKUP(B1382,Spiele!B:B,Spiele!E:E))","v":""},{"$f":"IF(B1382=\"\",\"\",LOOKUP(B1382,Spiele!B:B,Spiele!F:F))","v":""},"","","",null,null,-1,-1,1,0]
[null,null,{"$f":"IF(B1383=\"\",\"\",LOOKUP(B1383,Spiele!B:B,Spiele!C:C))","v":""},{"$f":"IF(B1383=\"\",\"\",LOOKUP(B1383,Spiele!B:B,Spiele!D:D))","v":""},{"$f":"IF(B1383=\"\",\"\",LOOKUP(B1383,Spiele!B:B,Spiele!E:E))","v":""},{"$f":"IF(B1383=\"\",\"\",LOOKUP(B1383,Spiele!B:B,Spiele!F:F))","v":""},"","","",null,null,-1,-1,1,0]
[null,null,{"$f":"IF(B1384=\"\",\"\",LOOKUP(B1384,Spiele!B:B,Spiele!C:C))","v":""},{"$f":"IF(B1384=\"\",\"\",LOOKUP(B1384,Spiele!B:B,Spiele!D:D))","v":""},{"$f":"IF(B1384=\"\",\"\",LOOKUP(B1384,Spiele!B:B,Spiele!E:E))","v":""},{"$f":"IF(B1384=\"\",\"\",LOOKUP(B1384,Spiele!B:B,Spiele!F:F))","v":""},"","","",null,null,-1,-1,1,0]
[null,null,{"$f":"IF(B1385=\"\",\"\",LOOKUP(B1385,Spiele!B:B,Spiele!C:C))","v":""},{"$f":"IF(B1385=\"\",\"\",LOOKUP(B1385,Spiele!B:B,Spiele!D:D))","v":""},{"$f":"IF(B1385=\"\",\"\",LOOKUP(B1385,Spiele!B:B,Spiele!E:E))","v":""},{"$f":"IF(B1385=\"\",\"\",LOOKUP(B1385,Spiele!B:B,Spiele!F:F))","v":""},"","","",null,null,-1,-1,1,0]
[null,null,{"$f":"IF(B1386=\"\",\"\",LOOKUP(B1386,Spiele!B:B,Spiele!C:C))","v":""},{"$f":"IF(B1386=\"\",\"\",LOOKUP(B1386,Spiele!B:B,Spiele!D:D))","v":""},{"$f":"IF(B1386=\"\",\"\",LOOKUP(B1386,Spiele!B:B,Spiele!E:E))","v":""},{"$f":"IF(B1386=\"\",\"\",LOOKUP(B1386,Spiele!B:B,Spiele!F:F))","v":""},{"$f":"IF(E1386=\"\",\"\",IF(E1386>F1386,1,0))","v":""},{"$f":"IF(F1386=\"\",\"\",IF(E1386<F1386,1,0))","v":""},{"$f":"IF(E1386=\"\",\"\",IF(E1386=F1386,1,0))","v":""},null,null,{"$f":"IF(E1386=\"\",-1,IF(J1386>K1386,1,-1))","v":-1},{"$f":"IF(F1386=\"\",-1,IF(J1386<K1386,1,-1))","v":-1},{"$f":"IF(E1386=\"-\",-1,IF(J1386=K1386,1,-1))","v":1},{"$f":"IF(E1386=\"\",0,IF(E1386=J1386,1,0)+IF(F1386=K1386,1,0)+IF(G1386=L1386,1,0)+IF(H1386=M1386,1,0)+IF(I1386=N1386,1,0))","v":0}]
[null,null,{"$f":"IF(B1387=\"\",\"\",LOOKUP(B1387,Spiele!B:B,Spiele!C:C))","v":""},{"$f":"IF(B1387=\"\",\"\",LOOKUP(B1387,Spiele!B:B,Spiele!D:D))","v":""},{"$f":"IF(B1387=\"\",\"\",LOOKUP(B1387,Spiele!B:B,Spiele!E:E))","v":""},{"$f":"IF(B1387=\"\",\"\",LOOKUP(B1387,Spiele!B:B,Spiele!F:F))","v":""},"","","",null,null,-1,-1,1,0]
[null,null,{"$f":"IF(B1388=\"\",\"\",LOOKUP(B1388,Spiele!B:B,Spiele!C:C))","v":""},{"$f":"IF(B1388=\"\",\"\",LOOKUP(B1388,Spiele!B:B,Spiele!D:D))","v":""},{"$f":"IF(B1388=\"\",\"\",LOOKUP(B1388,Spiele!B:B,Spiele!E:E))","v":""},{"$f":"IF(B1388=\"\",\"\",LOOKUP(B1388,Spiele!B:B,Spiele!F:F))","v":""},"","","",null,null,-1,-1,1,0]
[null,null,{"$f":"IF(B1389=\"\",\"\",LOOKUP(B1389,Spiele!B:B,Spiele!C:C))","v":""},{"$f":"IF(B1389=\"\",\"\",LOOKUP(B1389,Spiele!B:B,Spiele!D:D))","v":""},{"$f":"IF(B1389=\"\",\"\",LOOKUP(B1389,Spiele!B:B,Spiele!E:E))","v":""},{"$f":"IF(B1389=\"\",\"\",LOOKUP(B1389,Spiele!B:B,Spiele!F:F))","v":""},"","","",null,null,-1,-1,1,0]
[null,null,{"$f":"IF(B1390=\"\",\"\",LOOKUP(B1390,Spiele!B:B,Spiele!C:C))","v":""},{"$f":"IF(B1390=\"\",\"\",LOOKUP(B1390,Spiele!B:B,Spiele!D:D))","v":""},{"$f":"IF(B1390=\"\",\"\",LOOKUP(B1390,Spiele!B:B,Spiele!E:E))","v":""},{"$f":"IF(B1390=\"\",\"\",LOOKUP(B1390,Spiele!B:B,Spiele!F:F))","v":""},"","","",null,null,-1,-1,1,0]
[null,null,{"$f":"IF(B1391=\"\",\"\",LOOKUP(B1391,Spiele!B:B,Spiele!C:C))","v":""},{"$f":"IF(B1391=\"\",\"\",LOOKUP(B1391,Spiele!B:B,Spiele!D:D))","v":""},{"$f":"IF(B1391=\"\",\"\",LOOKUP(B1391,Spiele!B:B,Spiele!E:E))","v":""},{"$f":"IF(B1391=\"\",\"\",LOOKUP(B1391,Spiele!B:B,Spiele!F:F))","v":""},"","","",null,null,-1,-1,1,0]
[null,null,{"$f":"IF(B1392=\"\",\"\",LOOKUP(B1392,Spiele!B:B,Spiele!C:C))","v":""},{"$f":"IF(B1392=\"\",\"\",LOOKUP(B1392,Spiele!B:B,Spiele!D:D))","v":""},{"$f":"IF(B1392=\"\",\"\",LOOKUP(B1392,Spiele!B:B,Spiele!E:E))","v":""},{"$f":"IF(B1392=\"\",\"\",LOOKUP(B1392,Spiele!B:B,Spiele!F:F))","v":""},"","","",null,null,-1,-1,1,0]
[null,null,{"$f":"IF(B1393=\"\",\"\",LOOKUP(B1393,Spiele!B:B,Spiele!C:C))","v":""},{"$f":"IF(B1393=\"\",\"\",LOOKUP(B1393,Spiele!B:B,Spiele!D:D))","v":""},{"$f":"IF(B1393=\"\",\"\",LOOKUP(B1393,Spiele!B:B,Spiele!E:E))","v":""},{"$f":"IF(B1393=\"\",\"\",LOOKUP(B1393,Spiele!B:B,Spiele!F:F))","v":""},"","","",null,null,-1,-1,1,0]
[null,null,{"$f":"IF(B1394=\"\",\"\",LOOKUP(B1394,Spiele!B:B,Spiele!C:C))","v":""},{"$f":"IF(B1394=\"\",\"\",LOOKUP(B1394,Spiele!B:B,Spiele!D:D))","v":""},{"$f":"IF(B1394=\"\",\"\",LOOKUP(B1394,Spiele!B:B,Spiele!E:E))","v":""},{"$f":"IF(B1394=\"\",\"\",LOOKUP(B1394,Spiele!B:B,Spiele!F:F))","v":""},"","","",null,null,-1,-1,1,0]
[null,null,{"$f":"IF(B1395=\"\",\"\",LOOKUP(B1395,Spiele!B:B,Spiele!C:C))","v":""},{"$f":"IF(B1395=\"\",\"\",LOOKUP(B1395,Spiele!B:B,Spiele!D:D))","v":""},{"$f":"IF(B1395=\"\",\"\",LOOKUP(B1395,Spiele!B:B,Spiele!E:E))","v":""},{"$f":"IF(B1395=\"\",\"\",LOOKUP(B1395,Spiele!B:B,Spiele!F:F))","v":""},"","","",null,null,-1,-1,1,0]
[null,null,{"$f":"IF(B1396=\"\",\"\",LOOKUP(B1396,Spiele!B:B,Spiele!C:C))","v":""},{"$f":"IF(B1396=\"\",\"\",LOOKUP(B1396,Spiele!B:B,Spiele!D:D))","v":""},{"$f":"IF(B1396=\"\",\"\",LOOKUP(B1396,Spiele!B:B,Spiele!E:E))","v":""},{"$f":"IF(B1396=\"\",\"\",LOOKUP(B1396,Spiele!B:B,Spiele!F:F))","v":""},"","","",null,null,-1,-1,1,0]
[null,null,{"$f":"IF(B1397=\"\",\"\",LOOKUP(B1397,Spiele!B:B,Spiele!C:C))","v":""},{"$f":"IF(B1397=\"\",\"\",LOOKUP(B1397,Spiele!B:B,Spiele!D:D))","v":""},{"$f":"IF(B1397=\"\",\"\",LOOKUP(B1397,Spiele!B:B,Spiele!E:E))","v":""},{"$f":"IF(B1397=\"\",\"\",LOOKUP(B1397,Spiele!B:B,Spiele!F:F))","v":""},"","","",null,null,-1,-1,1,0]
[null,null,{"$f":"IF(B1398=\"\",\"\",LOOKUP(B1398,Spiele!B:B,Spiele!C:C))","v":""},{"$f":"IF(B1398=\"\",\"\",LOOKUP(B1398,Spiele!B:B,Spiele!D:D))","v":""},{"$f":"IF(B1398=\"\",\"\",LOOKUP(B1398,Spiele!B:B,Spiele!E:E))","v":""},{"$f":"IF(B1398=\"\",\"\",LOOKUP(B1398,Spiele!B:B,Spiele!F:F))","v":""},"","","",null,null,-1,-1,1,0]
[null,null,{"$f":"IF(B1399=\"\",\"\",LOOKUP(B1399,Spiele!B:B,Spiele!C:C))","v":""},{"$f":"IF(B1399=\"\",\"\",LOOKUP(B1399,Spiele!B:B,Spiele!D:D))","v":""},{"$f":"IF(B1399=\"\",\"\",LOOKUP(B1399,Spiele!B:B,Spiele!E:E))","v":""},{"$f":"IF(B1399=\"\",\"\",LOOKUP(B1399,Spiele!B:B,Spiele!F:F))","v":""},"","","",null,null,-1,-1,1,0]
[null,null,{"$f":"IF(B1400=\"\",\"\",LOOKUP(B1400,Spiele!B:B,Spiele!C:C))","v":""},{"$f":"IF(B1400=\"\",\"\",LOOKUP(B1400,Spiele!B:B,Spiele!D:D))","v":""},{"$f":"IF(B1400=\"\",\"\",LOOKUP(B1400,Spiele!B:B,Spiele!E:E))","v":""},{"$f":"IF(B1400=\"\",\"\",LOOKUP(B1400,Spiele!B:B,Spiele!F:F))","v":""},"","","",null,null,-1,-1,1,0]
[null,null,{"$f":"IF(B1401=\"\",\"\",LOOKUP(B1401,Spiele!B:B,Spiele!C:C))","v":""},{"$f":"IF(B1401=\"\",\"\",LOOKUP(B1401,Spiele!B:B,Spiele!D:D))","v":""},{"$f":"IF(B1401=\"\",\"\",LOOKUP(B1401,Spiele!B:B,Spiele!E:E))","v":""},{"$f":"IF(B1401=\"\",\"\",LOOKUP(B1401,Spiele!B:B,Spiele!F:F))","v":""},"","","",null,null,-1,-1,1,0]
[null,null,{"$f":"IF(B1402=\"\",\"\",LOOKUP(B1402,Spiele!B:B,Spiele!C:C))","v":""},{"$f":"IF(B1402=\"\",\"\",LOOKUP(B1402,Spiele!B:B,Spiele!D:D))","v":""},{"$f":"IF(B1402=\"\",\"\",LOOKUP(B1402,Spiele!B:B,Spiele!E:E))","v":""},{"$f":"IF(B1402=\"\",\"\",LOOKUP(B1402,Spiele!B:B,Spiele!F:F))","v":""},"","","",null,null,-1,-1,1,0]
[null,null,{"$f":"IF(B1403=\"\",\"\",LOOKUP(B1403,Spiele!B:B,Spiele!C:C))","v":""},{"$f":"IF(B1403=\"\",\"\",LOOKUP(B1403,Spiele!B:B,Spiele!D:D))","v":""},{"$f":"IF(B1403=\"\",\"\",LOOKUP(B1403,Spiele!B:B,Spiele!E:E))","v":""},{"$f":"IF(B1403=\"\",\"\",LOOKUP(B1403,Spiele!B:B,Spiele!F:F))","v":""},"","","",null,null,-1,-1,1,0]
[null,null,{"$f":"IF(B1404=\"\",\"\",LOOKUP(B1404,Spiele!B:B,Spiele!C:C))","v":""},{"$f":"IF(B1404=\"\",\"\",LOOKUP(B1404,Spiele!B:B,Spiele!D:D))","v":""},{"$f":"IF(B1404=\"\",\"\",LOOKUP(B1404,Spiele!B:B,Spiele!E:E))","v":""},{"$f":"IF(B1404=\"\",\"\",LOOKUP(B1404,Spiele!B:B,Spiele!F:F))","v":""},"","","",null,null,-1,-1,1,0]
[null,null,{"$f":"IF(B1405=\"\",\"\",LOOKUP(B1405,Spiele!B:B,Spiele!C:C))","v":""},{"$f":"IF(B1405=\"\",\"\",LOOKUP(B1405,Spiele!B:B,Spiele!D:D))","v":""},{"$f":"IF(B1405=\"\",\"\",LOOKUP(B1405,Spiele!B:B,Spiele!E:E))","v":""},{"$f":"IF(B1405=\"\",\"\",LOOKUP(B1405,Spiele!B:B,Spiele!F:F))","v":""},"","","",null,null,-1,-1,1,0]
[null,null,{"$f":"IF(B1406=\"\",\"\",LOOKUP(B1406,Spiele!B:B,Spiele!C:C))","v":""},{"$f":"IF(B1406=\"\",\"\",LOOKUP(B1406,Spiele!B:B,Spiele!D:D))","v":""},{"$f":"IF(B1406=\"\",\"\",LOOKUP(B1406,Spiele!B:B,Spiele!E:E))","v":""},{"$f":"IF(B1406=\"\",\"\",LOOKUP(B1406,Spiele!B:B,Spiele!F:F))","v":""},"","","",null,null,-1,-1,1,0]
[null,null,{"$f":"IF(B1407=\"\",\"\",LOOKUP(B1407,Spiele!B:B,Spiele!C:C))","v":""},{"$f":"IF(B1407=\"\",\"\",LOOKUP(B1407,Spiele!B:B,Spiele!D:D))","v":""},{"$f":"IF(B1407=\"\",\"\",LOOKUP(B1407,Spiele!B:B,Spiele!E:E))","v":""},{"$f":"IF(B1407=\"\",\"\",LOOKUP(B1407,Spiele!B:B,Spiele!F:F))","v":""},"","","",null,null,-1,-1,1,0]
[null,null,{"$f":"IF(B1408=\"\",\"\",LOOKUP(B1408,Spiele!B:B,Spiele!C:C))","v":""},{"$f":"IF(B1408=\"\",\"\",LOOKUP(B1408,Spiele!B:B,Spiele!D:D))","v":""},{"$f":"IF(B1408=\"\",\"\",LOOKUP(B1408,Spiele!B:B,Spiele!E:E))","v":""},{"$f":"IF(B1408=\"\",\"\",LOOKUP(B1408,Spiele!B:B,Spiele!F:F))","v":""},"","","",null,null,-1,-1,1,0]
[null,null,{"$f":"IF(B1409=\"\",\"\",LOOKUP(B1409,Spiele!B:B,Spiele!C:C))","v":""},{"$f":"IF(B1409=\"\",\"\",LOOKUP(B1409,Spiele!B:B,Spiele!D:D))","v":""},{"$f":"IF(B1409=\"\",\"\",LOOKUP(B1409,Spiele!B:B,Spiele!E:E))","v":""},{"$f":"IF(B1409=\"\",\"\",LOOKUP(B1409,Spiele!B:B,Spiele!F:F))","v":""},"","","",null,null,-1,-1,1,0]
[null,null,{"$f":"IF(B1410=\"\",\"\",LOOKUP(B1410,Spiele!B:B,Spiele!C:C))","v":""},{"$f":"IF(B1410=\"\",\"\",LOOKUP(B1410,Spiele!B:B,Spiele!D:D))","v":""},{"$f":"IF(B1410=\"\",\"\",LOOKUP(B1410,Spiele!B:B,Spiele!E:E))","v":""},{"$f":"IF(B1410=\"\",\"\",LOOKUP(B1410,Spiele!B:B,Spiele!F:F))","v":""},"","","",null,null,-1,-1,1,0]
[null,null,{"$f":"IF(B1411=\"\",\"\",LOOKUP(B1411,Spiele!B:B,Spiele!C:C))","v":""},{"$f":"IF(B1411=\"\",\"\",LOOKUP(B1411,Spiele!B:B,Spiele!D:D))","v":""},{"$f":"IF(B1411=\"\",\"\",LOOKUP(B1411,Spiele!B:B,Spiele!E:E))","v":""},{"$f":"IF(B1411=\"\",\"\",LOOKUP(B1411,Spiele!B:B,Spiele!F:F))","v":""},"","","",null,null,-1,-1,1,0]
[null,null,{"$f":"IF(B1412=\"\",\"\",LOOKUP(B1412,Spiele!B:B,Spiele!C:C))","v":""},{"$f":"IF(B1412=\"\",\"\",LOOKUP(B1412,Spiele!B:B,Spiele!D:D))","v":""},{"$f":"IF(B1412=\"\",\"\",LOOKUP(B1412,Spiele!B:B,Spiele!E:E))","v":""},{"$f":"IF(B1412=\"\",\"\",LOOKUP(B1412,Spiele!B:B,Spiele!F:F))","v":""},"","","",null,null,-1,-1,1,0]
[null,null,{"$f":"IF(B1413=\"\",\"\",LOOKUP(B1413,Spiele!B:B,Spiele!C:C))","v":""},{"$f":"IF(B1413=\"\",\"\",LOOKUP(B1413,Spiele!B:B,Spiele!D:D))","v":""},{"$f":"IF(B1413=\"\",\"\",LOOKUP(B1413,Spiele!B:B,Spiele!E:E))","v":""},{"$f":"IF(B1413=\"\",\"\",LOOKUP(B1413,Spiele!B:B,Spiele!F:F))","v":""},"","","",null,null,-1,-1,1,0]
[null,null,{"$f":"IF(B1414=\"\",\"\",LOOKUP(B1414,Spiele!B:B,Spiele!C:C))","v":""},{"$f":"IF(B1414=\"\",\"\",LOOKUP(B1414,Spiele!B:B,Spiele!D:D))","v":""},{"$f":"IF(B1414=\"\",\"\",LOOKUP(B1414,Spiele!B:B,Spiele!E:E))","v":""},{"$f":"IF(B1414=\"\",\"\",LOOKUP(B1414,Spiele!B:B,Spiele!F:F))","v":""},"","","",null,null,-1,-1,1,0]
[null,null,{"$f":"IF(B1415=\"\",\"\",LOOKUP(B1415,Spiele!B:B,Spiele!C:C))","v":""},{"$f":"IF(B1415=\"\",\"\",LOOKUP(B1415,Spiele!B:B,Spiele!D:D))","v":""},{"$f":"IF(B1415=\"\",\"\",LOOKUP(B1415,Spiele!B:B,Spiele!E:E))","v":""},{"$f":"IF(B1415=\"\",\"\",LOOKUP(B1415,Spiele!B:B,Spiele!F:F))","v":""},"","","",null,null,-1,-1,1,0]
[null,null,{"$f":"IF(B1416=\"\",\"\",LOOKUP(B1416,Spiele!B:B,Spiele!C:C))","v":""},{"$f":"IF(B1416=\"\",\"\",LOOKUP(B1416,Spiele!B:B,Spiele!D:D))","v":""},{"$f":"IF(B1416=\"\",\"\",LOOKUP(B1416,Spiele!B:B,Spiele!E:E))","v":""},{"$f":"IF(B1416=\"\",\"\",LOOKUP(B1416,Spiele!B:B,Spiele!F:F))","v":""},"","","",null,null,-1,-1,1,0]
[null,null,{"$f":"IF(B1417=\"\",\"\",LOOKUP(B1417,Spiele!B:B,Spiele!C:C))","v":""},{"$f":"IF(B1417=\"\",\"\",LOOKUP(B1417,Spiele!B:B,Spiele!D:D))","v":""},{"$f":"IF(B1417=\"\",\"\",LOOKUP(B1417,Spiele!B:B,Spiele!E:E))","v":""},{"$f":"IF(B1417=\"\",\"\",LOOKUP(B1417,Spiele!B:B,Spiele!F:F))","v":""},"","","",null,null,-1,-1,1,0]
[null,null,{"$f":"IF(B1418=\"\",\"\",LOOKUP(B1418,Spiele!B:B,Spiele!C:C))","v":""},{"$f":"IF(B1418=\"\",\"\",LOOKUP(B1418,Spiele!B:B,Spiele!D:D))","v":""},{"$f":"IF(B1418=\"\",\"\",LOOKUP(B1418,Spiele!B:B,Spiele!E:E))","v":""},{"$f":"IF(B1418=\"\",\"\",LOOKUP(B1418,Spiele!B:B,Spiele!F:F))","v":""},"","","",null,null,-1,-1,1,0]
[null,null,{"$f":"IF(B1419=\"\",\"\",LOOKUP(B1419,Spiele!B:B,Spiele!C:C))","v":""},{"$f":"IF(B1419=\"\",\"\",LOOKUP(B1419,Spiele!B:B,Spiele!D:D))","v":""},{"$f":"IF(B1419=\"\",\"\",LOOKUP(B1419,Spiele!B:B,Spiele!E:E))","v":""},{"$f":"IF(B1419=\"\",\"\",LOOKUP(B1419,Spiele!B:B,Spiele!F:F))","v":""},"","","",null,null,-1,-1,1,0]
[null,null,{"$f":"IF(B1420=\"\",\"\",LOOKUP(B1420,Spiele!B:B,Spiele!C:C))","v":""},{"$f":"IF(B1420=\"\",\"\",LOOKUP(B1420,Spiele!B:B,Spiele!D:D))","v":""},{"$f":"IF(B1420=\"\",\"\",LOOKUP(B1420,Spiele!B:B,Spiele!E:E))","v":""},{"$f":"IF(B1420=\"\",\"\",LOOKUP(B1420,Spiele!B:B,Spiele!F:F))","v":""},"","","",null,null,-1,-1,1,0]
[null,null,{"$f":"IF(B1421=\"\",\"\",LOOKUP(B1421,Spiele!B:B,Spiele!C:C))","v":""},{"$f":"IF(B1421=\"\",\"\",LOOKUP(B1421,Spiele!B:B,Spiele!D:D))","v":""},{"$f":"IF(B1421=\"\",\"\",LOOKUP(B1421,Spiele!B:B,Spiele!E:E))","v":""},{"$f":"IF(B1421=\"\",\"\",LOOKUP(B1421,Spiele!B:B,Spiele!F:F))","v":""},"","","",null,null,-1,-1,1,0]
[null,null,{"$f":"IF(B1422=\"\",\"\",LOOKUP(B1422,Spiele!B:B,Spiele!C:C))","v":""},{"$f":"IF(B1422=\"\",\"\",LOOKUP(B1422,Spiele!B:B,Spiele!D:D))","v":""},{"$f":"IF(B1422=\"\",\"\",LOOKUP(B1422,Spiele!B:B,Spiele!E:E))","v":""},{"$f":"IF(B1422=\"\",\"\",LOOKUP(B1422,Spiele!B:B,Spiele!F:F))","v":""},"","","",null,null,-1,-1,1,0]
[null,null,{"$f":"IF(B1423=\"\",\"\",LOOKUP(B1423,Spiele!B:B,Spiele!C:C))","v":""},{"$f":"IF(B1423=\"\",\"\",LOOKUP(B1423,Spiele!B:B,Spiele!D:D))","v":""},{"$f":"IF(B1423=\"\",\"\",LOOKUP(B1423,Spiele!B:B,Spiele!E:E))","v":""},{"$f":"IF(B1423=\"\",\"\",LOOKUP(B1423,Spiele!B:B,Spiele!F:F))","v":""},"","","",null,null,-1,-1,1,0]
[null,null,{"$f":"IF(B1424=\"\",\"\",LOOKUP(B1424,Spiele!B:B,Spiele!C:C))","v":""},{"$f":"IF(B1424=\"\",\"\",LOOKUP(B1424,Spiele!B:B,Spiele!D:D))","v":""},{"$f":"IF(B1424=\"\",\"\",LOOKUP(B1424,Spiele!B:B,Spiele!E:E))","v":""},{"$f":"IF(B1424=\"\",\"\",LOOKUP(B1424,Spiele!B:B,Spiele!F:F))","v":""},"","","",null,null,-1,-1,1,0]
[null,null,{"$f":"IF(B1425=\"\",\"\",LOOKUP(B1425,Spiele!B:B,Spiele!C:C))","v":""},{"$f":"IF(B1425=\"\",\"\",LOOKUP(B1425,Spiele!B:B,Spiele!D:D))","v":""},{"$f":"IF(B1425=\"\",\"\",LOOKUP(B1425,Spiele!B:B,Spiele!E:E))","v":""},{"$f":"IF(B1425=\"\",\"\",LOOKUP(B1425,Spiele!B:B,Spiele!F:F))","v":""},"","","",null,null,-1,-1,1,0]
[null,null,{"$f":"IF(B1426=\"\",\"\",LOOKUP(B1426,Spiele!B:B,Spiele!C:C))","v":""},{"$f":"IF(B1426=\"\",\"\",LOOKUP(B1426,Spiele!B:B,Spiele!D:D))","v":""},{"$f":"IF(B1426=\"\",\"\",LOOKUP(B1426,Spiele!B:B,Spiele!E:E))","v":""},{"$f":"IF(B1426=\"\",\"\",LOOKUP(B1426,Spiele!B:B,Spiele!F:F))","v":""},"","","",null,null,-1,-1,1,0]
[null,null,{"$f":"IF(B1427=\"\",\"\",LOOKUP(B1427,Spiele!B:B,Spiele!C:C))","v":""},{"$f":"IF(B1427=\"\",\"\",LOOKUP(B1427,Spiele!B:B,Spiele!D:D))","v":""},{"$f":"IF(B1427=\"\",\"\",LOOKUP(B1427,Spiele!B:B,Spiele!E:E))","v":""},{"$f":"IF(B1427=\"\",\"\",LOOKUP(B1427,Spiele!B:B,Spiele!F:F))","v":""},"","","",null,null,-1,-1,1,0]
[null,null,{"$f":"IF(B1428=\"\",\"\",LOOKUP(B1428,Spiele!B:B,Spiele!C:C))","v":""},{"$f":"IF(B1428=\"\",\"\",LOOKUP(B1428,Spiele!B:B,Spiele!D:D))","v":""},{"$f":"IF(B1428=\"\",\"\",LOOKUP(B1428,Spiele!B:B,Spiele!E:E))","v":""},{"$f":"IF(B1428=\"\",\"\",LOOKUP(B1428,Spiele!B:B,Spiele!F:F))","v":""},"","","",null,null,-1,-1,1,0]
[null,null,{"$f":"IF(B1429=\"\",\"\",LOOKUP(B1429,Spiele!B:B,Spiele!C:C))","v":""},{"$f":"IF(B1429=\"\",\"\",LOOKUP(B1429,Spiele!B:B,Spiele!D:D))","v":""},{"$f":"IF(B1429=\"\",\"\",LOOKUP(B1429,Spiele!B:B,Spiele!E:E))","v":""},{"$f":"IF(B1429=\"\",\"\",LOOKUP(B1429,Spiele!B:B,Spiele!F:F))","v":""},"","","",null,null,-1,-1,1,0]
[null,null,{"$f":"IF(B1430=\"\",\"\",LOOKUP(B1430,Spiele!B:B,Spiele!C:C))","v":""},{"$f":"IF(B1430=\"\",\"\",LOOKUP(B1430,Spiele!B:B,Spiele!D:D))","v":""},{"$f":"IF(B1430=\"\",\"\",LOOKUP(B1430,Spiele!B:B,Spiele!E:E))","v":""},{"$f":"IF(B1430=\"\",\"\",LOOKUP(B1430,Spiele!B:B,Spiele!F:F))","v":""},"","","",null,null,-1,-1,1,0]
[null,null,{"$f":"IF(B1431=\"\",\"\",LOOKUP(B1431,Spiele!B:B,Spiele!C:C))","v":""},{"$f":"IF(B1431=\"\",\"\",LOOKUP(B1431,Spiele!B:B,Spiele!D:D))","v":""},{"$f":"IF(B1431=\"\",\"\",LOOKUP(B1431,Spiele!B:B,Spiele!E:E))","v":""},{"$f":"IF(B1431=\"\",\"\",LOOKUP(B1431,Spiele!B:B,Spiele!F:F))","v":""},"","","",null,null,-1,-1,1,0]
[null,null,{"$f":"IF(B1432=\"\",\"\",LOOKUP(B1432,Spiele!B:B,Spiele!C:C))","v":""},{"$f":"IF(B1432=\"\",\"\",LOOKUP(B1432,Spiele!B:B,Spiele!D:D))","v":""},{"$f":"IF(B1432=\"\",\"\",LOOKUP(B1432,Spiele!B:B,Spiele!E:E))","v":""},{"$f":"IF(B1432=\"\",\"\",LOOKUP(B1432,Spiele!B:B,Spiele!F:F))","v":""},"","","",null,null,-1,-1,1,0]
[null,null,{"$f":"IF(B1433=\"\",\"\",LOOKUP(B1433,Spiele!B:B,Spiele!C:C))","v":""},{"$f":"IF(B1433=\"\",\"\",LOOKUP(B1433,Spiele!B:B,Spiele!D:D))","v":""},{"$f":"IF(B1433=\"\",\"\",LOOKUP(B1433,Spiele!B:B,Spiele!E:E))","v":""},{"$f":"IF(B1433=\"\",\"\",LOOKUP(B1433,Spiele!B:B,Spiele!F:F))","v":""},"","","",null,null,-1,-1,1,0]
[null,null,{"$f":"IF(B1434=\"\",\"\",LOOKUP(B1434,Spiele!B:B,Spiele!C:C))","v":""},{"$f":"IF(B1434=\"\",\"\",LOOKUP(B1434,Spiele!B:B,Spiele!D:D))","v":""},{"$f":"IF(B1434=\"\",\"\",LOOKUP(B1434,Spiele!B:B,Spiele!E:E))","v":""},{"$f":"IF(B1434=\"\",\"\",LOOKUP(B1434,Spiele!B:B,Spiele!F:F))","v":""},"","","",null,null,-1,-1,1,0]
[null,null,{"$f":"IF(B1435=\"\",\"\",LOOKUP(B1435,Spiele!B:B,Spiele!C:C))","v":""},{"$f":"IF(B1435=\"\",\"\",LOOKUP(B1435,Spiele!B:B,Spiele!D:D))","v":""},{"$f":"IF(B1435=\"\",\"\",LOOKUP(B1435,Spiele!B:B,Spiele!E:E))","v":""},{"$f":"IF(B1435=\"\",\"\",LOOKUP(B1435,Spiele!B:B,Spiele!F:F))","v":""},"","","",null,null,-1,-1,1,0]
[null,null,{"$f":"IF(B1436=\"\",\"\",LOOKUP(B1436,Spiele!B:B,Spiele!C:C))","v":""},{"$f":"IF(B1436=\"\",\"\",LOOKUP(B1436,Spiele!B:B,Spiele!D:D))","v":""},{"$f":"IF(B1436=\"\",\"\",LOOKUP(B1436,Spiele!B:B,Spiele!E:E))","v":""},{"$f":"IF(B1436=\"\",\"\",LOOKUP(B1436,Spiele!B:B,Spiele!F:F))","v":""},"","","",null,null,-1,-1,1,0]
[null,null,{"$f":"IF(B1437=\"\",\"\",LOOKUP(B1437,Spiele!B:B,Spiele!C:C))","v":""},{"$f":"IF(B1437=\"\",\"\",LOOKUP(B1437,Spiele!B:B,Spiele!D:D))","v":""},{"$f":"IF(B1437=\"\",\"\",LOOKUP(B1437,Spiele!B:B,Spiele!E:E))","v":""},{"$f":"IF(B1437=\"\",\"\",LOOKUP(B1437,Spiele!B:B,Spiele!F:F))","v":""},"","","",null,null,-1,-1,1,0]
[null,null,{"$f":"IF(B1438=\"\",\"\",LOOKUP(B1438,Spiele!B:B,Spiele!C:C))","v":""},{"$f":"IF(B1438=\"\",\"\",LOOKUP(B1438,Spiele!B:B,Spiele!D:D))","v":""},{"$f":"IF(B1438=\"\",\"\",LOOKUP(B1438,Spiele!B:B,Spiele!E:E))","v":""},{"$f":"IF(B1438=\"\",\"\",LOOKUP(B1438,Spiele!B:B,Spiele!F:F))","v":""},"","","",null,null,-1,-1,1,0]
[null,null,{"$f":"IF(B1439=\"\",\"\",LOOKUP(B1439,Spiele!B:B,Spiele!C:C))","v":""},{"$f":"IF(B1439=\"\",\"\",LOOKUP(B1439,Spiele!B:B,Spiele!D:D))","v":""},{"$f":"IF(B1439=\"\",\"\",LOOKUP(B1439,Spiele!B:B,Spiele!E:E))","v":""},{"$f":"IF(B1439=\"\",\"\",LOOKUP(B1439,Spiele!B:B,Spiele!F:F))","v":""},"","","",null,null,-1,-1,1,0]
[null,null,{"$f":"IF(B1440=\"\",\"\",LOOKUP(B1440,Spiele!B:B,Spiele!C:C))","v":""},{"$f":"IF(B1440=\"\",\"\",LOOKUP(B1440,Spiele!B:B,Spiele!D:D))","v":""},{"$f":"IF(B1440=\"\",\"\",LOOKUP(B1440,Spiele!B:B,Spiele!E:E))","v":""},{"$f":"IF(B1440=\"\",\"\",LOOKUP(B1440,Spiele!B:B,Spiele!F:F))","v":""},"","","",null,null,-1,-1,1,0]
[null,null,{"$f":"IF(B1441=\"\",\"\",LOOKUP(B1441,Spiele!B:B,Spiele!C:C))","v":""},{"$f":"IF(B1441=\"\",\"\",LOOKUP(B1441,Spiele!B:B,Spiele!D:D))","v":""},{"$f":"IF(B1441=\"\",\"\",LOOKUP(B1441,Spiele!B:B,Spiele!E:E))","v":""},{"$f":"IF(B1441=\"\",\"\",LOOKUP(B1441,Spiele!B:B,Spiele!F:F))","v":""},"","","",null,null,-1,-1,1,0]
[null,null,{"$f":"IF(B1442=\"\",\"\",LOOKUP(B1442,Spiele!B:B,Spiele!C:C))","v":""},{"$f":"IF(B1442=\"\",\"\",LOOKUP(B1442,Spiele!B:B,Spiele!D:D))","v":""},{"$f":"IF(B1442=\"\",\"\",LOOKUP(B1442,Spiele!B:B,Spiele!E:E))","v":""},{"$f":"IF(B1442=\"\",\"\",LOOKUP(B1442,Spiele!B:B,Spiele!F:F))","v":""},"","","",null,null,-1,-1,1,0]
[null,null,{"$f":"IF(B1443=\"\",\"\",LOOKUP(B1443,Spiele!B:B,Spiele!C:C))","v":""},{"$f":"IF(B1443=\"\",\"\",LOOKUP(B1443,Spiele!B:B,Spiele!D:D))","v":""},{"$f":"IF(B1443=\"\",\"\",LOOKUP(B1443,Spiele!B:B,Spiele!E:E))","v":""},{"$f":"IF(B1443=\"\",\"\",LOOKUP(B1443,Spiele!B:B,Spiele!F:F))","v":""},"","","",null,null,-1,-1,1,0]
[null,null,{"$f":"IF(B1444=\"\",\"\",LOOKUP(B1444,Spiele!B:B,Spiele!C:C))","v":""},{"$f":"IF(B1444=\"\",\"\",LOOKUP(B1444,Spiele!B:B,Spiele!D:D))","v":""},{"$f":"IF(B1444=\"\",\"\",LOOKUP(B1444,Spiele!B:B,Spiele!E:E))","v":""},{"$f":"IF(B1444=\"\",\"\",LOOKUP(B1444,Spiele!B:B,Spiele!F:F))","v":""},"","","",null,null,-1,-1,1,0]
[null,null,{"$f":"IF(B1445=\"\",\"\",LOOKUP(B1445,Spiele!B:B,Spiele!C:C))","v":""},{"$f":"IF(B1445=\"\",\"\",LOOKUP(B1445,Spiele!B:B,Spiele!D:D))","v":""},{"$f":"IF(B1445=\"\",\"\",LOOKUP(B1445,Spiele!B:B,Spiele!E:E))","v":""},{"$f":"IF(B1445=\"\",\"\",LOOKUP(B1445,Spiele!B:B,Spiele!F:F))","v":""},"","","",null,null,-1,-1,1,0]
[null,null,{"$f":"IF(B1446=\"\",\"\",LOOKUP(B1446,Spiele!B:B,Spiele!C:C))","v":""},{"$f":"IF(B1446=\"\",\"\",LOOKUP(B1446,Spiele!B:B,Spiele!D:D))","v":""},{"$f":"IF(B1446=\"\",\"\",LOOKUP(B1446,Spiele!B:B,Spiele!E:E))","v":""},{"$f":"IF(B1446=\"\",\"\",LOOKUP(B1446,Spiele!B:B,Spiele!F:F))","v":""},"","","",null,null,-1,-1,1,0]
[null,null,{"$f":"IF(B1447=\"\",\"\",LOOKUP(B1447,Spiele!B:B,Spiele!C:C))","v":""},{"$f":"IF(B1447=\"\",\"\",LOOKUP(B1447,Spiele!B:B,Spiele!D:D))","v":""},{"$f":"IF(B1447=\"\",\"\",LOOKUP(B1447,Spiele!B:B,Spiele!E:E))","v":""},{"$f":"IF(B1447=\"\",\"\",LOOKUP(B1447,Spiele!B:B,Spiele!F:F))","v":""},"","","",null,null,-1,-1,1,0]
[null,null,{"$f":"IF(B1448=\"\",\"\",LOOKUP(B1448,Spiele!B:B,Spiele!C:C))","v":""},{"$f":"IF(B1448=\"\",\"\",LOOKUP(B1448,Spiele!B:B,Spiele!D:D))","v":""},{"$f":"IF(B1448=\"\",\"\",LOOKUP(B1448,Spiele!B:B,Spiele!E:E))","v":""},{"$f":"IF(B1448=\"\",\"\",LOOKUP(B1448,Spiele!B:B,Spiele!F:F))","v":""},"","","",null,null,-1,-1,1,0]
[null,null,{"$f":"IF(B1449=\"\",\"\",LOOKUP(B1449,Spiele!B:B,Spiele!C:C))","v":""},{"$f":"IF(B1449=\"\",\"\",LOOKUP(B1449,Spiele!B:B,Spiele!D:D))","v":""},{"$f":"IF(B1449=\"\",\"\",LOOKUP(B1449,Spiele!B:B,Spiele!E:E))","v":""},{"$f":"IF(B1449=\"\",\"\",LOOKUP(B1449,Spiele!B:B,Spiele!F:F))","v":""},"","","",null,null,-1,-1,1,0]
[null,null,{"$f":"IF(B1450=\"\",\"\",LOOKUP(B1450,Spiele!B:B,Spiele!C:C))","v":""},{"$f":"IF(B1450=\"\",\"\",LOOKUP(B1450,Spiele!B:B,Spiele!D:D))","v":""},{"$f":"IF(B1450=\"\",\"\",LOOKUP(B1450,Spiele!B:B,Spiele!E:E))","v":""},{"$f":"IF(B1450=\"\",\"\",LOOKUP(B1450,Spiele!B:B,Spiele!F:F))","v":""},{"$f":"IF(E1450=\"\",\"\",IF(E1450>F1450,1,0))","v":""},{"$f":"IF(F1450=\"\",\"\",IF(E1450<F1450,1,0))","v":""},{"$f":"IF(E1450=\"\",\"\",IF(E1450=F1450,1,0))","v":""},null,null,{"$f":"IF(E1450=\"\",-1,IF(J1450>K1450,1,-1))","v":-1},{"$f":"IF(F1450=\"\",-1,IF(J1450<K1450,1,-1))","v":-1},{"$f":"IF(E1450=\"-\",-1,IF(J1450=K1450,1,-1))","v":1},{"$f":"IF(E1450=\"\",0,IF(E1450=J1450,1,0)+IF(F1450=K1450,1,0)+IF(G1450=L1450,1,0)+IF(H1450=M1450,1,0)+IF(I1450=N1450,1,0))","v":0}]
[null,null,{"$f":"IF(B1451=\"\",\"\",LOOKUP(B1451,Spiele!B:B,Spiele!C:C))","v":""},{"$f":"IF(B1451=\"\",\"\",LOOKUP(B1451,Spiele!B:B,Spiele!D:D))","v":""},{"$f":"IF(B1451=\"\",\"\",LOOKUP(B1451,Spiele!B:B,Spiele!E:E))","v":""},{"$f":"IF(B1451=\"\",\"\",LOOKUP(B1451,Spiele!B:B,Spiele!F:F))","v":""},"","","",null,null,-1,-1,1,0]
[null,null,{"$f":"IF(B1452=\"\",\"\",LOOKUP(B1452,Spiele!B:B,Spiele!C:C))","v":""},{"$f":"IF(B1452=\"\",\"\",LOOKUP(B1452,Spiele!B:B,Spiele!D:D))","v":""},{"$f":"IF(B1452=\"\",\"\",LOOKUP(B1452,Spiele!B:B,Spiele!E:E))","v":""},{"$f":"IF(B1452=\"\",\"\",LOOKUP(B1452,Spiele!B:B,Spiele!F:F))","v":""},"","","",null,null,-1,-1,1,0]
[null,null,{"$f":"IF(B1453=\"\",\"\",LOOKUP(B1453,Spiele!B:B,Spiele!C:C))","v":""},{"$f":"IF(B1453=\"\",\"\",LOOKUP(B1453,Spiele!B:B,Spiele!D:D))","v":""},{"$f":"IF(B1453=\"\",\"\",LOOKUP(B1453,Spiele!B:B,Spiele!E:E))","v":""},{"$f":"IF(B1453=\"\",\"\",LOOKUP(B1453,Spiele!B:B,Spiele!F:F))","v":""},"","","",null,null,-1,-1,1,0]
[null,null,{"$f":"IF(B1454=\"\",\"\",LOOKUP(B1454,Spiele!B:B,Spiele!C:C))","v":""},{"$f":"IF(B1454=\"\",\"\",LOOKUP(B1454,Spiele!B:B,Spiele!D:D))","v":""},{"$f":"IF(B1454=\"\",\"\",LOOKUP(B1454,Spiele!B:B,Spiele!E:E))","v":""},{"$f":"IF(B1454=\"\",\"\",LOOKUP(B1454,Spiele!B:B,Spiele!F:F))","v":""},"","","",null,null,-1,-1,1,0]
[null,null,{"$f":"IF(B1455=\"\",\"\",LOOKUP(B1455,Spiele!B:B,Spiele!C:C))","v":""},{"$f":"IF(B1455=\"\",\"\",LOOKUP(B1455,Spiele!B:B,Spiele!D:D))","v":""},{"$f":"IF(B1455=\"\",\"\",LOOKUP(B1455,Spiele!B:B,Spiele!E:E))","v":""},{"$f":"IF(B1455=\"\",\"\",LOOKUP(B1455,Spiele!B:B,Spiele!F:F))","v":""},"","","",null,null,-1,-1,1,0]
[null,null,{"$f":"IF(B1456=\"\",\"\",LOOKUP(B1456,Spiele!B:B,Spiele!C:C))","v":""},{"$f":"IF(B1456=\"\",\"\",LOOKUP(B1456,Spiele!B:B,Spiele!D:D))","v":""},{"$f":"IF(B1456=\"\",\"\",LOOKUP(B1456,Spiele!B:B,Spiele!E:E))","v":""},{"$f":"IF(B1456=\"\",\"\",LOOKUP(B1456,Spiele!B:B,Spiele!F:F))","v":""},"","","",null,null,-1,-1,1,0]
[null,null,{"$f":"IF(B1457=\"\",\"\",LOOKUP(B1457,Spiele!B:B,Spiele!C:C))","v":""},{"$f":"IF(B1457=\"\",\"\",LOOKUP(B1457,Spiele!B:B,Spiele!D:D))","v":""},{"$f":"IF(B1457=\"\",\"\",LOOKUP(B1457,Spiele!B:B,Spiele!E:E))","v":""},{"$f":"IF(B1457=\"\",\"\",LOOKUP(B1457,Spiele!B:B,Spiele!F:F))","v":""},"","","",null,null,-1,-1,1,0]
[null,null,{"$f":"IF(B1458=\"\",\"\",LOOKUP(B1458,Spiele!B:B,Spiele!C:C))","v":""},{"$f":"IF(B1458=\"\",\"\",LOOKUP(B1458,Spiele!B:B,Spiele!D:D))","v":""},{"$f":"IF(B1458=\"\",\"\",LOOKUP(B1458,Spiele!B:B,Spiele!E:E))","v":""},{"$f":"IF(B1458=\"\",\"\",LOOKUP(B1458,Spiele!B:B,Spiele!F:F))","v":""},"","","",null,null,-1,-1,1,0]
[null,null,{"$f":"IF(B1459=\"\",\"\",LOOKUP(B1459,Spiele!B:B,Spiele!C:C))","v":""},{"$f":"IF(B1459=\"\",\"\",LOOKUP(B1459,Spiele!B:B,Spiele!D:D))","v":""},{"$f":"IF(B1459=\"\",\"\",LOOKUP(B1459,Spiele!B:B,Spiele!E:E))","v":""},{"$f":"IF(B1459=\"\",\"\",LOOKUP(B1459,Spiele!B:B,Spiele!F:F))","v":""},"","","",null,null,-1,-1,1,0]
[null,null,{"$f":"IF(B1460=\"\",\"\",LOOKUP(B1460,Spiele!B:B,Spiele!C:C))","v":""},{"$f":"IF(B1460=\"\",\"\",LOOKUP(B1460,Spiele!B:B,Spiele!D:D))","v":""},{"$f":"IF(B1460=\"\",\"\",LOOKUP(B1460,Spiele!B:B,Spiele!E:E))","v":""},{"$f":"IF(B1460=\"\",\"\",LOOKUP(B1460,Spiele!B:B,Spiele!F:F))","v":""},"","","",null,null,-1,-1,1,0]
[null,null,{"$f":"IF(B1461=\"\",\"\",LOOKUP(B1461,Spiele!B:B,Spiele!C:C))","v":""},{"$f":"IF(B1461=\"\",\"\",LOOKUP(B1461,Spiele!B:B,Spiele!D:D))","v":""},{"$f":"IF(B1461=\"\",\"\",LOOKUP(B1461,Spiele!B:B,Spiele!E:E))","v":""},{"$f":"IF(B1461=\"\",\"\",LOOKUP(B1461,Spiele!B:B,Spiele!F:F))","v":""},"","","",null,null,-1,-1,1,0]
[null,null,{"$f":"IF(B1462=\"\",\"\",LOOKUP(B1462,Spiele!B:B,Spiele!C:C))","v":""},{"$f":"IF(B1462=\"\",\"\",LOOKUP(B1462,Spiele!B:B,Spiele!D:D))","v":""},{"$f":"IF(B1462=\"\",\"\",LOOKUP(B1462,Spiele!B:B,Spiele!E:E))","v":""},{"$f":"IF(B1462=\"\",\"\",LOOKUP(B1462,Spiele!B:B,Spiele!F:F))","v":""},"","","",null,null,-1,-1,1,0]
[null,null,{"$f":"IF(B1463=\"\",\"\",LOOKUP(B1463,Spiele!B:B,Spiele!C:C))","v":""},{"$f":"IF(B1463=\"\",\"\",LOOKUP(B1463,Spiele!B:B,Spiele!D:D))","v":""},{"$f":"IF(B1463=\"\",\"\",LOOKUP(B1463,Spiele!B:B,Spiele!E:E))","v":""},{"$f":"IF(B1463=\"\",\"\",LOOKUP(B1463,Spiele!B:B,Spiele!F:F))","v":""},"","","",null,null,-1,-1,1,0]
[null,null,{"$f":"IF(B1464=\"\",\"\",LOOKUP(B1464,Spiele!B:B,Spiele!C:C))","v":""},{"$f":"IF(B1464=\"\",\"\",LOOKUP(B1464,Spiele!B:B,Spiele!D:D))","v":""},{"$f":"IF(B1464=\"\",\"\",LOOKUP(B1464,Spiele!B:B,Spiele!E:E))","v":""},{"$f":"IF(B1464=\"\",\"\",LOOKUP(B1464,Spiele!B:B,Spiele!F:F))","v":""},"","","",null,null,-1,-1,1,0]
[null,null,{"$f":"IF(B1465=\"\",\"\",LOOKUP(B1465,Spiele!B:B,Spiele!C:C))","v":""},{"$f":"IF(B1465=\"\",\"\",LOOKUP(B1465,Spiele!B:B,Spiele!D:D))","v":""},{"$f":"IF(B1465=\"\",\"\",LOOKUP(B1465,Spiele!B:B,Spiele!E:E))","v":""},{"$f":"IF(B1465=\"\",\"\",LOOKUP(B1465,Spiele!B:B,Spiele!F:F))","v":""},"","","",null,null,-1,-1,1,0]
[null,null,{"$f":"IF(B1466=\"\",\"\",LOOKUP(B1466,Spiele!B:B,Spiele!C:C))","v":""},{"$f":"IF(B1466=\"\",\"\",LOOKUP(B1466,Spiele!B:B,Spiele!D:D))","v":""},{"$f":"IF(B1466=\"\",\"\",LOOKUP(B1466,Spiele!B:B,Spiele!E:E))","v":""},{"$f":"IF(B1466=\"\",\"\",LOOKUP(B1466,Spiele!B:B,Spiele!F:F))","v":""},"","","",null,null,-1,-1,1,0]
[null,null,{"$f":"IF(B1467=\"\",\"\",LOOKUP(B1467,Spiele!B:B,Spiele!C:C))","v":""},{"$f":"IF(B1467=\"\",\"\",LOOKUP(B1467,Spiele!B:B,Spiele!D:D))","v":""},{"$f":"IF(B1467=\"\",\"\",LOOKUP(B1467,Spiele!B:B,Spiele!E:E))","v":""},{"$f":"IF(B1467=\"\",\"\",LOOKUP(B1467,Spiele!B:B,Spiele!F:F))","v":""},"","","",null,null,-1,-1,1,0]
[null,null,{"$f":"IF(B1468=\"\",\"\",LOOKUP(B1468,Spiele!B:B,Spiele!C:C))","v":""},{"$f":"IF(B1468=\"\",\"\",LOOKUP(B1468,Spiele!B:B,Spiele!D:D))","v":""},{"$f":"IF(B1468=\"\",\"\",LOOKUP(B1468,Spiele!B:B,Spiele!E:E))","v":""},{"$f":"IF(B1468=\"\",\"\",LOOKUP(B1468,Spiele!B:B,Spiele!F:F))","v":""},"","","",null,null,-1,-1,1,0]
[null,null,{"$f":"IF(B1469=\"\",\"\",LOOKUP(B1469,Spiele!B:B,Spiele!C:C))","v":""},{"$f":"IF(B1469=\"\",\"\",LOOKUP(B1469,Spiele!B:B,Spiele!D:D))","v":""},{"$f":"IF(B1469=\"\",\"\",LOOKUP(B1469,Spiele!B:B,Spiele!E:E))","v":""},{"$f":"IF(B1469=\"\",\"\",LOOKUP(B1469,Spiele!B:B,Spiele!F:F))","v":""},"","","",null,null,-1,-1,1,0]
[null,null,{"$f":"IF(B1470=\"\",\"\",LOOKUP(B1470,Spiele!B:B,Spiele!C:C))","v":""},{"$f":"IF(B1470=\"\",\"\",LOOKUP(B1470,Spiele!B:B,Spiele!D:D))","v":""},{"$f":"IF(B1470=\"\",\"\",LOOKUP(B1470,Spiele!B:B,Spiele!E:E))","v":""},{"$f":"IF(B1470=\"\",\"\",LOOKUP(B1470,Spiele!B:B,Spiele!F:F))","v":""},"","","",null,null,-1,-1,1,0]
[null,null,{"$f":"IF(B1471=\"\",\"\",LOOKUP(B1471,Spiele!B:B,Spiele!C:C))","v":""},{"$f":"IF(B1471=\"\",\"\",LOOKUP(B1471,Spiele!B:B,Spiele!D:D))","v":""},{"$f":"IF(B1471=\"\",\"\",LOOKUP(B1471,Spiele!B:B,Spiele!E:E))","v":""},{"$f":"IF(B1471=\"\",\"\",LOOKUP(B1471,Spiele!B:B,Spiele!F:F))","v":""},"","","",null,null,-1,-1,1,0]
[null,null,{"$f":"IF(B1472=\"\",\"\",LOOKUP(B1472,Spiele!B:B,Spiele!C:C))","v":""},{"$f":"IF(B1472=\"\",\"\",LOOKUP(B1472,Spiele!B:B,Spiele!D:D))","v":""},{"$f":"IF(B1472=\"\",\"\",LOOKUP(B1472,Spiele!B:B,Spiele!E:E))","v":""},{"$f":"IF(B1472=\"\",\"\",LOOKUP(B1472,Spiele!B:B,Spiele!F:F))","v":""},"","","",null,null,-1,-1,1,0]
[null,null,{"$f":"IF(B1473=\"\",\"\",LOOKUP(B1473,Spiele!B:B,Spiele!C:C))","v":""},{"$f":"IF(B1473=\"\",\"\",LOOKUP(B1473,Spiele!B:B,Spiele!D:D))","v":""},{"$f":"IF(B1473=\"\",\"\",LOOKUP(B1473,Spiele!B:B,Spiele!E:E))","v":""},{"$f":"IF(B1473=\"\",\"\",LOOKUP(B1473,Spiele!B:B,Spiele!F:F))","v":""},"","","",null,null,-1,-1,1,0]
[null,null,{"$f":"IF(B1474=\"\",\"\",LOOKUP(B1474,Spiele!B:B,Spiele!C:C))","v":""},{"$f":"IF(B1474=\"\",\"\",LOOKUP(B1474,Spiele!B:B,Spiele!D:D))","v":""},{"$f":"IF(B1474=\"\",\"\",LOOKUP(B1474,Spiele!B:B,Spiele!E:E))","v":""},{"$f":"IF(B1474=\"\",\"\",LOOKUP(B1474,Spiele!B:B,Spiele!F:F))","v":""},"","","",null,null,-1,-1,1,0]
[null,null,{"$f":"IF(B1475=\"\",\"\",LOOKUP(B1475,Spiele!B:B,Spiele!C:C))","v":""},{"$f":"IF(B1475=\"\",\"\",LOOKUP(B1475,Spiele!B:B,Spiele!D:D))","v":""},{"$f":"IF(B1475=\"\",\"\",LOOKUP(B1475,Spiele!B:B,Spiele!E:E))","v":""},{"$f":"IF(B1475=\"\",\"\",LOOKUP(B1475,Spiele!B:B,Spiele!F:F))","v":""},"","","",null,null,-1,-1,1,0]
[null,null,{"$f":"IF(B1476=\"\",\"\",LOOKUP(B1476,Spiele!B:B,Spiele!C:C))","v":""},{"$f":"IF(B1476=\"\",\"\",LOOKUP(B1476,Spiele!B:B,Spiele!D:D))","v":""},{"$f":"IF(B1476=\"\",\"\",LOOKUP(B1476,Spiele!B:B,Spiele!E:E))","v":""},{"$f":"IF(B1476=\"\",\"\",LOOKUP(B1476,Spiele!B:B,Spiele!F:F))","v":""},"","","",null,null,-1,-1,1,0]
[null,null,{"$f":"IF(B1477=\"\",\"\",LOOKUP(B1477,Spiele!B:B,Spiele!C:C))","v":""},{"$f":"IF(B1477=\"\",\"\",LOOKUP(B1477,Spiele!B:B,Spiele!D:D))","v":""},{"$f":"IF(B1477=\"\",\"\",LOOKUP(B1477,Spiele!B:B,Spiele!E:E))","v":""},{"$f":"IF(B1477=\"\",\"\",LOOKUP(B1477,Spiele!B:B,Spiele!F:F))","v":""},"","","",null,null,-1,-1,1,0]
[null,null,{"$f":"IF(B1478=\"\",\"\",LOOKUP(B1478,Spiele!B:B,Spiele!C:C))","v":""},{"$f":"IF(B1478=\"\",\"\",LOOKUP(B1478,Spiele!B:B,Spiele!D:D))","v":""},{"$f":"IF(B1478=\"\",\"\",LOOKUP(B1478,Spiele!B:B,Spiele!E:E))","v":""},{"$f":"IF(B1478=\"\",\"\",LOOKUP(B1478,Spiele!B:B,Spiele!F:F))","v":""},"","","",null,null,-1,-1,1,0]
[null,null,{"$f":"IF(B1479=\"\",\"\",LOOKUP(B1479,Spiele!B:B,Spiele!C:C))","v":""},{"$f":"IF(B1479=\"\",\"\",LOOKUP(B1479,Spiele!B:B,Spiele!D:D))","v":""},{"$f":"IF(B1479=\"\",\"\",LOOKUP(B1479,Spiele!B:B,Spiele!E:E))","v":""},{"$f":"IF(B1479=\"\",\"\",LOOKUP(B1479,Spiele!B:B,Spiele!F:F))","v":""},"","","",null,null,-1,-1,1,0]
[null,null,{"$f":"IF(B1480=\"\",\"\",LOOKUP(B1480,Spiele!B:B,Spiele!C:C))","v":""},{"$f":"IF(B1480=\"\",\"\",LOOKUP(B1480,Spiele!B:B,Spiele!D:D))","v":""},{"$f":"IF(B1480=\"\",\"\",LOOKUP(B1480,Spiele!B:B,Spiele!E:E))","v":""},{"$f":"IF(B1480=\"\",\"\",LOOKUP(B1480,Spiele!B:B,Spiele!F:F))","v":""},"","","",null,null,-1,-1,1,0]
[null,null,{"$f":"IF(B1481=\"\",\"\",LOOKUP(B1481,Spiele!B:B,Spiele!C:C))","v":""},{"$f":"IF(B1481=\"\",\"\",LOOKUP(B1481,Spiele!B:B,Spiele!D:D))","v":""},{"$f":"IF(B1481=\"\",\"\",LOOKUP(B1481,Spiele!B:B,Spiele!E:E))","v":""},{"$f":"IF(B1481=\"\",\"\",LOOKUP(B1481,Spiele!B:B,Spiele!F:F))","v":""},"","","",null,null,-1,-1,1,0]
[null,null,{"$f":"IF(B1482=\"\",\"\",LOOKUP(B1482,Spiele!B:B,Spiele!C:C))","v":""},{"$f":"IF(B1482=\"\",\"\",LOOKUP(B1482,Spiele!B:B,Spiele!D:D))","v":""},{"$f":"IF(B1482=\"\",\"\",LOOKUP(B1482,Spiele!B:B,Spiele!E:E))","v":""},{"$f":"IF(B1482=\"\",\"\",LOOKUP(B1482,Spiele!B:B,Spiele!F:F))","v":""},"","","",null,null,-1,-1,1,0]
[null,null,{"$f":"IF(B1483=\"\",\"\",LOOKUP(B1483,Spiele!B:B,Spiele!C:C))","v":""},{"$f":"IF(B1483=\"\",\"\",LOOKUP(B1483,Spiele!B:B,Spiele!D:D))","v":""},{"$f":"IF(B1483=\"\",\"\",LOOKUP(B1483,Spiele!B:B,Spiele!E:E))","v":""},{"$f":"IF(B1483=\"\",\"\",LOOKUP(B1483,Spiele!B:B,Spiele!F:F))","v":""},"","","",null,null,-1,-1,1,0]
[null,null,{"$f":"IF(B1484=\"\",\"\",LOOKUP(B1484,Spiele!B:B,Spiele!C:C))","v":""},{"$f":"IF(B1484=\"\",\"\",LOOKUP(B1484,Spiele!B:B,Spiele!D:D))","v":""},{"$f":"IF(B1484=\"\",\"\",LOOKUP(B1484,Spiele!B:B,Spiele!E:E))","v":""},{"$f":"IF(B1484=\"\",\"\",LOOKUP(B1484,Spiele!B:B,Spiele!F:F))","v":""},"","","",null,null,-1,-1,1,0]
[null,null,{"$f":"IF(B1485=\"\",\"\",LOOKUP(B1485,Spiele!B:B,Spiele!C:C))","v":""},{"$f":"IF(B1485=\"\",\"\",LOOKUP(B1485,Spiele!B:B,Spiele!D:D))","v":""},{"$f":"IF(B1485=\"\",\"\",LOOKUP(B1485,Spiele!B:B,Spiele!E:E))","v":""},{"$f":"IF(B1485=\"\",\"\",LOOKUP(B1485,Spiele!B:B,Spiele!F:F))","v":""},"","","",null,null,-1,-1,1,0]
[null,null,{"$f":"IF(B1486=\"\",\"\",LOOKUP(B1486,Spiele!B:B,Spiele!C:C))","v":""},{"$f":"IF(B1486=\"\",\"\",LOOKUP(B1486,Spiele!B:B,Spiele!D:D))","v":""},{"$f":"IF(B1486=\"\",\"\",LOOKUP(B1486,Spiele!B:B,Spiele!E:E))","v":""},{"$f":"IF(B1486=\"\",\"\",LOOKUP(B1486,Spiele!B:B,Spiele!F:F))","v":""},"","","",null,null,-1,-1,1,0]
[null,null,{"$f":"IF(B1487=\"\",\"\",LOOKUP(B1487,Spiele!B:B,Spiele!C:C))","v":""},{"$f":"IF(B1487=\"\",\"\",LOOKUP(B1487,Spiele!B:B,Spiele!D:D))","v":""},{"$f":"IF(B1487=\"\",\"\",LOOKUP(B1487,Spiele!B:B,Spiele!E:E))","v":""},{"$f":"IF(B1487=\"\",\"\",LOOKUP(B1487,Spiele!B:B,Spiele!F:F))","v":""},"","","",null,null,-1,-1,1,0]
[null,null,{"$f":"IF(B1488=\"\",\"\",LOOKUP(B1488,Spiele!B:B,Spiele!C:C))","v":""},{"$f":"IF(B1488=\"\",\"\",LOOKUP(B1488,Spiele!B:B,Spiele!D:D))","v":""},{"$f":"IF(B1488=\"\",\"\",LOOKUP(B1488,Spiele!B:B,Spiele!E:E))","v":""},{"$f":"IF(B1488=\"\",\"\",LOOKUP(B1488,Spiele!B:B,Spiele!F:F))","v":""},"","","",null,null,-1,-1,1,0]
[null,null,{"$f":"IF(B1489=\"\",\"\",LOOKUP(B1489,Spiele!B:B,Spiele!C:C))","v":""},{"$f":"IF(B1489=\"\",\"\",LOOKUP(B1489,Spiele!B:B,Spiele!D:D))","v":""},{"$f":"IF(B1489=\"\",\"\",LOOKUP(B1489,Spiele!B:B,Spiele!E:E))","v":""},{"$f":"IF(B1489=\"\",\"\",LOOKUP(B1489,Spiele!B:B,Spiele!F:F))","v":""},"","","",null,null,-1,-1,1,0]
[null,null,{"$f":"IF(B1490=\"\",\"\",LOOKUP(B1490,Spiele!B:B,Spiele!C:C))","v":""},{"$f":"IF(B1490=\"\",\"\",LOOKUP(B1490,Spiele!B:B,Spiele!D:D))","v":""},{"$f":"IF(B1490=\"\",\"\",LOOKUP(B1490,Spiele!B:B,Spiele!E:E))","v":""},{"$f":"IF(B1490=\"\",\"\",LOOKUP(B1490,Spiele!B:B,Spiele!F:F))","v":""},"","","",null,null,-1,-1,1,0]
[null,null,{"$f":"IF(B1491=\"\",\"\",LOOKUP(B1491,Spiele!B:B,Spiele!C:C))","v":""},{"$f":"IF(B1491=\"\",\"\",LOOKUP(B1491,Spiele!B:B,Spiele!D:D))","v":""},{"$f":"IF(B1491=\"\",\"\",LOOKUP(B1491,Spiele!B:B,Spiele!E:E))","v":""},{"$f":"IF(B1491=\"\",\"\",LOOKUP(B1491,Spiele!B:B,Spiele!F:F))","v":""},"","","",null,null,-1,-1,1,0]
[null,null,{"$f":"IF(B1492=\"\",\"\",LOOKUP(B1492,Spiele!B:B,Spiele!C:C))","v":""},{"$f":"IF(B1492=\"\",\"\",LOOKUP(B1492,Spiele!B:B,Spiele!D:D))","v":""},{"$f":"IF(B1492=\"\",\"\",LOOKUP(B1492,Spiele!B:B,Spiele!E:E))","v":""},{"$f":"IF(B1492=\"\",\"\",LOOKUP(B1492,Spiele!B:B,Spiele!F:F))","v":""},"","","",null,null,-1,-1,1,0]
[null,null,{"$f":"IF(B1493=\"\",\"\",LOOKUP(B1493,Spiele!B:B,Spiele!C:C))","v":""},{"$f":"IF(B1493=\"\",\"\",LOOKUP(B1493,Spiele!B:B,Spiele!D:D))","v":""},{"$f":"IF(B1493=\"\",\"\",LOOKUP(B1493,Spiele!B:B,Spiele!E:E))","v":""},{"$f":"IF(B1493=\"\",\"\",LOOKUP(B1493,Spiele!B:B,Spiele!F:F))","v":""},"","","",null,null,-1,-1,1,0]
[null,null,{"$f":"IF(B1494=\"\",\"\",LOOKUP(B1494,Spiele!B:B,Spiele!C:C))","v":""},{"$f":"IF(B1494=\"\",\"\",LOOKUP(B1494,Spiele!B:B,Spiele!D:D))","v":""},{"$f":"IF(B1494=\"\",\"\",LOOKUP(B1494,Spiele!B:B,Spiele!E:E))","v":""},{"$f":"IF(B1494=\"\",\"\",LOOKUP(B1494,Spiele!B:B,Spiele!F:F))","v":""},"","","",null,null,-1,-1,1,0]
[null,null,{"$f":"IF(B1495=\"\",\"\",LOOKUP(B1495,Spiele!B:B,Spiele!C:C))","v":""},{"$f":"IF(B1495=\"\",\"\",LOOKUP(B1495,Spiele!B:B,Spiele!D:D))","v":""},{"$f":"IF(B1495=\"\",\"\",LOOKUP(B1495,Spiele!B:B,Spiele!E:E))","v":""},{"$f":"IF(B1495=\"\",\"\",LOOKUP(B1495,Spiele!B:B,Spiele!F:F))","v":""},"","","",null,null,-1,-1,1,0]
[null,null,{"$f":"IF(B1496=\"\",\"\",LOOKUP(B1496,Spiele!B:B,Spiele!C:C))","v":""},{"$f":"IF(B1496=\"\",\"\",LOOKUP(B1496,Spiele!B:B,Spiele!D:D))","v":""},{"$f":"IF(B1496=\"\",\"\",LOOKUP(B1496,Spiele!B:B,Spiele!E:E))","v":""},{"$f":"IF(B1496=\"\",\"\",LOOKUP(B1496,Spiele!B:B,Spiele!F:F))","v":""},"","","",null,null,-1,-1,1,0]
[null,null,{"$f":"IF(B1497=\"\",\"\",LOOKUP(B1497,Spiele!B:B,Spiele!C:C))","v":""},{"$f":"IF(B1497=\"\",\"\",LOOKUP(B1497,Spiele!B:B,Spiele!D:D))","v":""},{"$f":"IF(B1497=\"\",\"\",LOOKUP(B1497,Spiele!B:B,Spiele!E:E))","v":""},{"$f":"IF(B1497=\"\",\"\",LOOKUP(B1497,Spiele!B:B,Spiele!F:F))","v":""},"","","",null,null,-1,-1,1,0]
[null,null,{"$f":"IF(B1498=\"\",\"\",LOOKUP(B1498,Spiele!B:B,Spiele!C:C))","v":""},{"$f":"IF(B1498=\"\",\"\",LOOKUP(B1498,Spiele!B:B,Spiele!D:D))","v":""},{"$f":"IF(B1498=\"\",\"\",LOOKUP(B1498,Spiele!B:B,Spiele!E:E))","v":""},{"$f":"IF(B1498=\"\",\"\",LOOKUP(B1498,Spiele!B:B,Spiele!F:F))","v":""},"","","",null,null,-1,-1,1,0]
[null,null,{"$f":"IF(B1499=\"\",\"\",LOOKUP(B1499,Spiele!B:B,Spiele!C:C))","v":""},{"$f":"IF(B1499=\"\",\"\",LOOKUP(B1499,Spiele!B:B,Spiele!D:D))","v":""},{"$f":"IF(B1499=\"\",\"\",LOOKUP(B1499,Spiele!B:B,Spiele!E:E))","v":""},{"$f":"IF(B1499=\"\",\"\",LOOKUP(B1499,Spiele!B:B,Spiele!F:F))","v":""},"","","",null,null,-1,-1,1,0]
[null,null,{"$f":"IF(B1500=\"\",\"\",LOOKUP(B1500,Spiele!B:B,Spiele!C:C))","v":""},{"$f":"IF(B1500=\"\",\"\",LOOKUP(B1500,Spiele!B:B,Spiele!D:D))","v":""},{"$f":"IF(B1500=\"\",\"\",LOOKUP(B1500,Spiele!B:B,Spiele!E:E))","v":""},{"$f":"IF(B1500=\"\",\"\",LOOKUP(B1500,Spiele!B:B,Spiele!F:F))","v":""},"","","",null,null,-1,-1,1,0]
[null,null,{"$f":"IF(B1501=\"\",\"\",LOOKUP(B1501,Spiele!B:B,Spiele!C:C))","v":""},{"$f":"IF(B1501=\"\",\"\",LOOKUP(B1501,Spiele!B:B,Spiele!D:D))","v":""},{"$f":"IF(B1501=\"\",\"\",LOOKUP(B1501,Spiele!B:B,Spiele!E:E))","v":""},{"$f":"IF(B1501=\"\",\"\",LOOKUP(B1501,Spiele!B:B,Spiele!F:F))","v":""},"","","",null,null,-1,-1,1,0]
[null,null,{"$f":"IF(B1502=\"\",\"\",LOOKUP(B1502,Spiele!B:B,Spiele!C:C))","v":""},{"$f":"IF(B1502=\"\",\"\",LOOKUP(B1502,Spiele!B:B,Spiele!D:D))","v":""},{"$f":"IF(B1502=\"\",\"\",LOOKUP(B1502,Spiele!B:B,Spiele!E:E))","v":""},{"$f":"IF(B1502=\"\",\"\",LOOKUP(B1502,Spiele!B:B,Spiele!F:F))","v":""},"","","",null,null,-1,-1,1,0]
[null,null,{"$f":"IF(B1503=\"\",\"\",LOOKUP(B1503,Spiele!B:B,Spiele!C:C))","v":""},{"$f":"IF(B1503=\"\",\"\",LOOKUP(B1503,Spiele!B:B,Spiele!D:D))","v":""},{"$f":"IF(B1503=\"\",\"\",LOOKUP(B1503,Spiele!B:B,Spiele!E:E))","v":""},{"$f":"IF(B1503=\"\",\"\",LOOKUP(B1503,Spiele!B:B,Spiele!F:F))","v":""},"","","",null,null,-1,-1,1,0]
[null,null,{"$f":"IF(B1504=\"\",\"\",LOOKUP(B1504,Spiele!B:B,Spiele!C:C))","v":""},{"$f":"IF(B1504=\"\",\"\",LOOKUP(B1504,Spiele!B:B,Spiele!D:D))","v":""},{"$f":"IF(B1504=\"\",\"\",LOOKUP(B1504,Spiele!B:B,Spiele!E:E))","v":""},{"$f":"IF(B1504=\"\",\"\",LOOKUP(B1504,Spiele!B:B,Spiele!F:F))","v":""},"","","",null,null,-1,-1,1,0]
[null,null,{"$f":"IF(B1505=\"\",\"\",LOOKUP(B1505,Spiele!B:B,Spiele!C:C))","v":""},{"$f":"IF(B1505=\"\",\"\",LOOKUP(B1505,Spiele!B:B,Spiele!D:D))","v":""},{"$f":"IF(B1505=\"\",\"\",LOOKUP(B1505,Spiele!B:B,Spiele!E:E))","v":""},{"$f":"IF(B1505=\"\",\"\",LOOKUP(B1505,Spiele!B:B,Spiele!F:F))","v":""},"","","",null,null,-1,-1,1,0]
[null,null,{"$f":"IF(B1506=\"\",\"\",LOOKUP(B1506,Spiele!B:B,Spiele!C:C))","v":""},{"$f":"IF(B1506=\"\",\"\",LOOKUP(B1506,Spiele!B:B,Spiele!D:D))","v":""},{"$f":"IF(B1506=\"\",\"\",LOOKUP(B1506,Spiele!B:B,Spiele!E:E))","v":""},{"$f":"IF(B1506=\"\",\"\",LOOKUP(B1506,Spiele!B:B,Spiele!F:F))","v":""},"","","",null,null,-1,-1,1,0]
[null,null,{"$f":"IF(B1507=\"\",\"\",LOOKUP(B1507,Spiele!B:B,Spiele!C:C))","v":""},{"$f":"IF(B1507=\"\",\"\",LOOKUP(B1507,Spiele!B:B,Spiele!D:D))","v":""},{"$f":"IF(B1507=\"\",\"\",LOOKUP(B1507,Spiele!B:B,Spiele!E:E))","v":""},{"$f":"IF(B1507=\"\",\"\",LOOKUP(B1507,Spiele!B:B,Spiele!F:F))","v":""},"","","",null,null,-1,-1,1,0]
[null,null,{"$f":"IF(B1508=\"\",\"\",LOOKUP(B1508,Spiele!B:B,Spiele!C:C))","v":""},{"$f":"IF(B1508=\"\",\"\",LOOKUP(B1508,Spiele!B:B,Spiele!D:D))","v":""},{"$f":"IF(B1508=\"\",\"\",LOOKUP(B1508,Spiele!B:B,Spiele!E:E))","v":""},{"$f":"IF(B1508=\"\",\"\",LOOKUP(B1508,Spiele!B:B,Spiele!F:F))","v":""},"","","",null,null,-1,-1,1,0]
[null,null,{"$f":"IF(B1509=\"\",\"\",LOOKUP(B1509,Spiele!B:B,Spiele!C:C))","v":""},{"$f":"IF(B1509=\"\",\"\",LOOKUP(B1509,Spiele!B:B,Spiele!D:D))","v":""},{"$f":"IF(B1509=\"\",\"\",LOOKUP(B1509,Spiele!B:B,Spiele!E:E))","v":""},{"$f":"IF(B1509=\"\",\"\",LOOKUP(B1509,Spiele!B:B,Spiele!F:F))","v":""},"","","",null,null,-1,-1,1,0]
[null,null,{"$f":"IF(B1510=\"\",\"\",LOOKUP(B1510,Spiele!B:B,Spiele!C:C))","v":""},{"$f":"IF(B1510=\"\",\"\",LOOKUP(B1510,Spiele!B:B,Spiele!D:D))","v":""},{"$f":"IF(B1510=\"\",\"\",LOOKUP(B1510,Spiele!B:B,Spiele!E:E))","v":""},{"$f":"IF(B1510=\"\",\"\",LOOKUP(B1510,Spiele!B:B,Spiele!F:F))","v":""},"","","",null,null,-1,-1,1,0]
[null,null,{"$f":"IF(B1511=\"\",\"\",LOOKUP(B1511,Spiele!B:B,Spiele!C:C))","v":""},{"$f":"IF(B1511=\"\",\"\",LOOKUP(B1511,Spiele!B:B,Spiele!D:D))","v":""},{"$f":"IF(B1511=\"\",\"\",LOOKUP(B1511,Spiele!B:B,Spiele!E:E))","v":""},{"$f":"IF(B1511=\"\",\"\",LOOKUP(B1511,Spiele!B:B,Spiele!F:F))","v":""},"","","",null,null,-1,-1,1,0]
[null,null,{"$f":"IF(B1512=\"\",\"\",LOOKUP(B1512,Spiele!B:B,Spiele!C:C))","v":""},{"$f":"IF(B1512=\"\",\"\",LOOKUP(B1512,Spiele!B:B,Spiele!D:D))","v":""},{"$f":"IF(B1512=\"\",\"\",LOOKUP(B1512,Spiele!B:B,Spiele!E:E))","v":""},{"$f":"IF(B1512=\"\",\"\",LOOKUP(B1512,Spiele!B:B,Spiele!F:F))","v":""},"","","",null,null,-1,-1,1,0]
[null,null,{"$f":"IF(B1513=\"\",\"\",LOOKUP(B1513,Spiele!B:B,Spiele!C:C))","v":""},{"$f":"IF(B1513=\"\",\"\",LOOKUP(B1513,Spiele!B:B,Spiele!D:D))","v":""},{"$f":"IF(B1513=\"\",\"\",LOOKUP(B1513,Spiele!B:B,Spiele!E:E))","v":""},{"$f":"IF(B1513=\"\",\"\",LOOKUP(B1513,Spiele!B:B,Spiele!F:F))","v":""},"","","",null,null,-1,-1,1,0]
[null,null,{"$f":"IF(B1514=\"\",\"\",LOOKUP(B1514,Spiele!B:B,Spiele!C:C))","v":""},{"$f":"IF(B1514=\"\",\"\",LOOKUP(B1514,Spiele!B:B,Spiele!D:D))","v":""},{"$f":"IF(B1514=\"\",\"\",LOOKUP(B1514,Spiele!B:B,Spiele!E:E))","v":""},{"$f":"IF(B1514=\"\",\"\",LOOKUP(B1514,Spiele!B:B,Spiele!F:F))","v":""},{"$f":"IF(E1514=\"\",\"\",IF(E1514>F1514,1,0))","v":""},{"$f":"IF(F1514=\"\",\"\",IF(E1514<F1514,1,0))","v":""},{"$f":"IF(E1514=\"\",\"\",IF(E1514=F1514,1,0))","v":""},null,null,{"$f":"IF(E1514=\"\",-1,IF(J1514>K1514,1,-1))","v":-1},{"$f":"IF(F1514=\"\",-1,IF(J1514<K1514,1,-1))","v":-1},{"$f":"IF(E1514=\"-\",-1,IF(J1514=K1514,1,-1))","v":1},{"$f":"IF(E1514=\"\",0,IF(E1514=J1514,1,0)+IF(F1514=K1514,1,0)+IF(G1514=L1514,1,0)+IF(H1514=M1514,1,0)+IF(I1514=N1514,1,0))","v":0}]
[null,null,{"$f":"IF(B1515=\"\",\"\",LOOKUP(B1515,Spiele!B:B,Spiele!C:C))","v":""},{"$f":"IF(B1515=\"\",\"\",LOOKUP(B1515,Spiele!B:B,Spiele!D:D))","v":""},{"$f":"IF(B1515=\"\",\"\",LOOKUP(B1515,Spiele!B:B,Spiele!E:E))","v":""},{"$f":"IF(B1515=\"\",\"\",LOOKUP(B1515,Spiele!B:B,Spiele!F:F))","v":""},"","","",null,null,-1,-1,1,0]
[null,null,{"$f":"IF(B1516=\"\",\"\",LOOKUP(B1516,Spiele!B:B,Spiele!C:C))","v":""},{"$f":"IF(B1516=\"\",\"\",LOOKUP(B1516,Spiele!B:B,Spiele!D:D))","v":""},{"$f":"IF(B1516=\"\",\"\",LOOKUP(B1516,Spiele!B:B,Spiele!E:E))","v":""},{"$f":"IF(B1516=\"\",\"\",LOOKUP(B1516,Spiele!B:B,Spiele!F:F))","v":""},"","","",null,null,-1,-1,1,0]
[null,null,{"$f":"IF(B1517=\"\",\"\",LOOKUP(B1517,Spiele!B:B,Spiele!C:C))","v":""},{"$f":"IF(B1517=\"\",\"\",LOOKUP(B1517,Spiele!B:B,Spiele!D:D))","v":""},{"$f":"IF(B1517=\"\",\"\",LOOKUP(B1517,Spiele!B:B,Spiele!E:E))","v":""},{"$f":"IF(B1517=\"\",\"\",LOOKUP(B1517,Spiele!B:B,Spiele!F:F))","v":""},"","","",null,null,-1,-1,1,0]
[null,null,{"$f":"IF(B1518=\"\",\"\",LOOKUP(B1518,Spiele!B:B,Spiele!C:C))","v":""},{"$f":"IF(B1518=\"\",\"\",LOOKUP(B1518,Spiele!B:B,Spiele!D:D))","v":""},{"$f":"IF(B1518=\"\",\"\",LOOKUP(B1518,Spiele!B:B,Spiele!E:E))","v":""},{"$f":"IF(B1518=\"\",\"\",LOOKUP(B1518,Spiele!B:B,Spiele!F:F))","v":""},"","","",null,null,-1,-1,1,0]
[null,null,{"$f":"IF(B1519=\"\",\"\",LOOKUP(B1519,Spiele!B:B,Spiele!C:C))","v":""},{"$f":"IF(B1519=\"\",\"\",LOOKUP(B1519,Spiele!B:B,Spiele!D:D))","v":""},{"$f":"IF(B1519=\"\",\"\",LOOKUP(B1519,Spiele!B:B,Spiele!E:E))","v":""},{"$f":"IF(B1519=\"\",\"\",LOOKUP(B1519,Spiele!B:B,Spiele!F:F))","v":""},"","","",null,null,-1,-1,1,0]
[null,null,{"$f":"IF(B1520=\"\",\"\",LOOKUP(B1520,Spiele!B:B,Spiele!C:C))","v":""},{"$f":"IF(B1520=\"\",\"\",LOOKUP(B1520,Spiele!B:B,Spiele!D:D))","v":""},{"$f":"IF(B1520=\"\",\"\",LOOKUP(B1520,Spiele!B:B,Spiele!E:E))","v":""},{"$f":"IF(B1520=\"\",\"\",LOOKUP(B1520,Spiele!B:B,Spiele!F:F))","v":""},"","","",null,null,-1,-1,1,0]
[null,null,{"$f":"IF(B1521=\"\",\"\",LOOKUP(B1521,Spiele!B:B,Spiele!C:C))","v":""},{"$f":"IF(B1521=\"\",\"\",LOOKUP(B1521,Spiele!B:B,Spiele!D:D))","v":""},{"$f":"IF(B1521=\"\",\"\",LOOKUP(B1521,Spiele!B:B,Spiele!E:E))","v":""},{"$f":"IF(B1521=\"\",\"\",LOOKUP(B1521,Spiele!B:B,Spiele!F:F))","v":""},"","","",null,null,-1,-1,1,0]
[null,null,{"$f":"IF(B1522=\"\",\"\",LOOKUP(B1522,Spiele!B:B,Spiele!C:C))","v":""},{"$f":"IF(B1522=\"\",\"\",LOOKUP(B1522,Spiele!B:B,Spiele!D:D))","v":""},{"$f":"IF(B1522=\"\",\"\",LOOKUP(B1522,Spiele!B:B,Spiele!E:E))","v":""},{"$f":"IF(B1522=\"\",\"\",LOOKUP(B1522,Spiele!B:B,Spiele!F:F))","v":""},"","","",null,null,-1,-1,1,0]
[null,null,{"$f":"IF(B1523=\"\",\"\",LOOKUP(B1523,Spiele!B:B,Spiele!C:C))","v":""},{"$f":"IF(B1523=\"\",\"\",LOOKUP(B1523,Spiele!B:B,Spiele!D:D))","v":""},{"$f":"IF(B1523=\"\",\"\",LOOKUP(B1523,Spiele!B:B,Spiele!E:E))","v":""},{"$f":"IF(B1523=\"\",\"\",LOOKUP(B1523,Spiele!B:B,Spiele!F:F))","v":""},"","","",null,null,-1,-1,1,0]
[null,null,{"$f":"IF(B1524=\"\",\"\",LOOKUP(B1524,Spiele!B:B,Spiele!C:C))","v":""},{"$f":"IF(B1524=\"\",\"\",LOOKUP(B1524,Spiele!B:B,Spiele!D:D))","v":""},{"$f":"IF(B1524=\"\",\"\",LOOKUP(B1524,Spiele!B:B,Spiele!E:E))","v":""},{"$f":"IF(B1524=\"\",\"\",LOOKUP(B1524,Spiele!B:B,Spiele!F:F))","v":""},"","","",null,null,-1,-1,1,0]
[null,null,{"$f":"IF(B1525=\"\",\"\",LOOKUP(B1525,Spiele!B:B,Spiele!C:C))","v":""},{"$f":"IF(B1525=\"\",\"\",LOOKUP(B1525,Spiele!B:B,Spiele!D:D))","v":""},{"$f":"IF(B1525=\"\",\"\",LOOKUP(B1525,Spiele!B:B,Spiele!E:E))","v":""},{"$f":"IF(B1525=\"\",\"\",LOOKUP(B1525,Spiele!B:B,Spiele!F:F))","v":""},"","","",null,null,-1,-1,1,0]
[null,null,{"$f":"IF(B1526=\"\",\"\",LOOKUP(B1526,Spiele!B:B,Spiele!C:C))","v":""},{"$f":"IF(B1526=\"\",\"\",LOOKUP(B1526,Spiele!B:B,Spiele!D:D))","v":""},{"$f":"IF(B1526=\"\",\"\",LOOKUP(B1526,Spiele!B:B,Spiele!E:E))","v":""},{"$f":"IF(B1526=\"\",\"\",LOOKUP(B1526,Spiele!B:B,Spiele!F:F))","v":""},"","","",null,null,-1,-1,1,0]
[null,null,{"$f":"IF(B1527=\"\",\"\",LOOKUP(B1527,Spiele!B:B,Spiele!C:C))","v":""},{"$f":"IF(B1527=\"\",\"\",LOOKUP(B1527,Spiele!B:B,Spiele!D:D))","v":""},{"$f":"IF(B1527=\"\",\"\",LOOKUP(B1527,Spiele!B:B,Spiele!E:E))","v":""},{"$f":"IF(B1527=\"\",\"\",LOOKUP(B1527,Spiele!B:B,Spiele!F:F))","v":""},"","","",null,null,-1,-1,1,0]
[null,null,{"$f":"IF(B1528=\"\",\"\",LOOKUP(B1528,Spiele!B:B,Spiele!C:C))","v":""},{"$f":"IF(B1528=\"\",\"\",LOOKUP(B1528,Spiele!B:B,Spiele!D:D))","v":""},{"$f":"IF(B1528=\"\",\"\",LOOKUP(B1528,Spiele!B:B,Spiele!E:E))","v":""},{"$f":"IF(B1528=\"\",\"\",LOOKUP(B1528,Spiele!B:B,Spiele!F:F))","v":""},"","","",null,null,-1,-1,1,0]
[null,null,{"$f":"IF(B1529=\"\",\"\",LOOKUP(B1529,Spiele!B:B,Spiele!C:C))","v":""},{"$f":"IF(B1529=\"\",\"\",LOOKUP(B1529,Spiele!B:B,Spiele!D:D))","v":""},{"$f":"IF(B1529=\"\",\"\",LOOKUP(B1529,Spiele!B:B,Spiele!E:E))","v":""},{"$f":"IF(B1529=\"\",\"\",LOOKUP(B1529,Spiele!B:B,Spiele!F:F))","v":""},"","","",null,null,-1,-1,1,0]
[null,null,{"$f":"IF(B1530=\"\",\"\",LOOKUP(B1530,Spiele!B:B,Spiele!C:C))","v":""},{"$f":"IF(B1530=\"\",\"\",LOOKUP(B1530,Spiele!B:B,Spiele!D:D))","v":""},{"$f":"IF(B1530=\"\",\"\",LOOKUP(B1530,Spiele!B:B,Spiele!E:E))","v":""},{"$f":"IF(B1530=\"\",\"\",LOOKUP(B1530,Spiele!B:B,Spiele!F:F))","v":""},"","","",null,null,-1,-1,1,0]
[null,null,{"$f":"IF(B1531=\"\",\"\",LOOKUP(B1531,Spiele!B:B,Spiele!C:C))","v":""},{"$f":"IF(B1531=\"\",\"\",LOOKUP(B1531,Spiele!B:B,Spiele!D:D))","v":""},{"$f":"IF(B1531=\"\",\"\",LOOKUP(B1531,Spiele!B:B,Spiele!E:E))","v":""},{"$f":"IF(B1531=\"\",\"\",LOOKUP(B1531,Spiele!B:B,Spiele!F:F))","v":""},"","","",null,null,-1,-1,1,0]
[null,null,{"$f":"IF(B1532=\"\",\"\",LOOKUP(B1532,Spiele!B:B,Spiele!C:C))","v":""},{"$f":"IF(B1532=\"\",\"\",LOOKUP(B1532,Spiele!B:B,Spiele!D:D))","v":""},{"$f":"IF(B1532=\"\",\"\",LOOKUP(B1532,Spiele!B:B,Spiele!E:E))","v":""},{"$f":"IF(B1532=\"\",\"\",LOOKUP(B1532,Spiele!B:B,Spiele!F:F))","v":""},"","","",null,null,-1,-1,1,0]
[null,null,{"$f":"IF(B1533=\"\",\"\",LOOKUP(B1533,Spiele!B:B,Spiele!C:C))","v":""},{"$f":"IF(B1533=\"\",\"\",LOOKUP(B1533,Spiele!B:B,Spiele!D:D))","v":""},{"$f":"IF(B1533=\"\",\"\",LOOKUP(B1533,Spiele!B:B,Spiele!E:E))","v":""},{"$f":"IF(B1533=\"\",\"\",LOOKUP(B1533,Spiele!B:B,Spiele!F:F))","v":""},"","","",null,null,-1,-1,1,0]
[null,null,{"$f":"IF(B1534=\"\",\"\",LOOKUP(B1534,Spiele!B:B,Spiele!C:C))","v":""},{"$f":"IF(B1534=\"\",\"\",LOOKUP(B1534,Spiele!B:B,Spiele!D:D))","v":""},{"$f":"IF(B1534=\"\",\"\",LOOKUP(B1534,Spiele!B:B,Spiele!E:E))","v":""},{"$f":"IF(B1534=\"\",\"\",LOOKUP(B1534,Spiele!B:B,Spiele!F:F))","v":""},"","","",null,null,-1,-1,1,0]
[null,null,{"$f":"IF(B1535=\"\",\"\",LOOKUP(B1535,Spiele!B:B,Spiele!C:C))","v":""},{"$f":"IF(B1535=\"\",\"\",LOOKUP(B1535,Spiele!B:B,Spiele!D:D))","v":""},{"$f":"IF(B1535=\"\",\"\",LOOKUP(B1535,Spiele!B:B,Spiele!E:E))","v":""},{"$f":"IF(B1535=\"\",\"\",LOOKUP(B1535,Spiele!B:B,Spiele!F:F))","v":""},"","","",null,null,-1,-1,1,0]
[null,null,{"$f":"IF(B1536=\"\",\"\",LOOKUP(B1536,Spiele!B:B,Spiele!C:C))","v":""},{"$f":"IF(B1536=\"\",\"\",LOOKUP(B1536,Spiele!B:B,Spiele!D:D))","v":""},{"$f":"IF(B1536=\"\",\"\",LOOKUP(B1536,Spiele!B:B,Spiele!E:E))","v":""},{"$f":"IF(B1536=\"\",\"\",LOOKUP(B1536,Spiele!B:B,Spiele!F:F))","v":""},"","","",null,null,-1,-1,1,0]
[null,null,{"$f":"IF(B1537=\"\",\"\",LOOKUP(B1537,Spiele!B:B,Spiele!C:C))","v":""},{"$f":"IF(B1537=\"\",\"\",LOOKUP(B1537,Spiele!B:B,Spiele!D:D))","v":""},{"$f":"IF(B1537=\"\",\"\",LOOKUP(B1537,Spiele!B:B,Spiele!E:E))","v":""},{"$f":"IF(B1537=\"\",\"\",LOOKUP(B1537,Spiele!B:B,Spiele!F:F))","v":""},"","","",null,null,-1,-1,1,0]
[null,null,{"$f":"IF(B1538=\"\",\"\",LOOKUP(B1538,Spiele!B:B,Spiele!C:C))","v":""},{"$f":"IF(B1538=\"\",\"\",LOOKUP(B1538,Spiele!B:B,Spiele!D:D))","v":""},{"$f":"IF(B1538=\"\",\"\",LOOKUP(B1538,Spiele!B:B,Spiele!E:E))","v":""},{"$f":"IF(B1538=\"\",\"\",LOOKUP(B1538,Spiele!B:B,Spiele!F:F))","v":""},"","","",null,null,-1,-1,1,0]
[null,null,{"$f":"IF(B1539=\"\",\"\",LOOKUP(B1539,Spiele!B:B,Spiele!C:C))","v":""},{"$f":"IF(B1539=\"\",\"\",LOOKUP(B1539,Spiele!B:B,Spiele!D:D))","v":""},{"$f":"IF(B1539=\"\",\"\",LOOKUP(B1539,Spiele!B:B,Spiele!E:E))","v":""},{"$f":"IF(B1539=\"\",\"\",LOOKUP(B1539,Spiele!B:B,Spiele!F:F))","v":""},"","","",null,null,-1,-1,1,0]
[null,null,{"$f":"IF(B1540=\"\",\"\",LOOKUP(B1540,Spiele!B:B,Spiele!C:C))","v":""},{"$f":"IF(B1540=\"\",\"\",LOOKUP(B1540,Spiele!B:B,Spiele!D:D))","v":""},{"$f":"IF(B1540=\"\",\"\",LOOKUP(B1540,Spiele!B:B,Spiele!E:E))","v":""},{"$f":"IF(B1540=\"\",\"\",LOOKUP(B1540,Spiele!B:B,Spiele!F:F))","v":""},"","","",null,null,-1,-1,1,0]
[null,null,{"$f":"IF(B1541=\"\",\"\",LOOKUP(B1541,Spiele!B:B,Spiele!C:C))","v":""},{"$f":"IF(B1541=\"\",\"\",LOOKUP(B1541,Spiele!B:B,Spiele!D:D))","v":""},{"$f":"IF(B1541=\"\",\"\",LOOKUP(B1541,Spiele!B:B,Spiele!E:E))","v":""},{"$f":"IF(B1541=\"\",\"\",LOOKUP(B1541,Spiele!B:B,Spiele!F:F))","v":""},"","","",null,null,-1,-1,1,0]
[null,null,{"$f":"IF(B1542=\"\",\"\",LOOKUP(B1542,Spiele!B:B,Spiele!C:C))","v":""},{"$f":"IF(B1542=\"\",\"\",LOOKUP(B1542,Spiele!B:B,Spiele!D:D))","v":""},{"$f":"IF(B1542=\"\",\"\",LOOKUP(B1542,Spiele!B:B,Spiele!E:E))","v":""},{"$f":"IF(B1542=\"\",\"\",LOOKUP(B1542,Spiele!B:B,Spiele!F:F))","v":""},"","","",null,null,-1,-1,1,0]
[null,null,{"$f":"IF(B1543=\"\",\"\",LOOKUP(B1543,Spiele!B:B,Spiele!C:C))","v":""},{"$f":"IF(B1543=\"\",\"\",LOOKUP(B1543,Spiele!B:B,Spiele!D:D))","v":""},{"$f":"IF(B1543=\"\",\"\",LOOKUP(B1543,Spiele!B:B,Spiele!E:E))","v":""},{"$f":"IF(B1543=\"\",\"\",LOOKUP(B1543,Spiele!B:B,Spiele!F:F))","v":""},"","","",null,null,-1,-1,1,0]
[null,null,{"$f":"IF(B1544=\"\",\"\",LOOKUP(B1544,Spiele!B:B,Spiele!C:C))","v":""},{"$f":"IF(B1544=\"\",\"\",LOOKUP(B1544,Spiele!B:B,Spiele!D:D))","v":""},{"$f":"IF(B1544=\"\",\"\",LOOKUP(B1544,Spiele!B:B,Spiele!E:E))","v":""},{"$f":"IF(B1544=\"\",\"\",LOOKUP(B1544,Spiele!B:B,Spiele!F:F))","v":""},"","","",null,null,-1,-1,1,0]
[null,null,{"$f":"IF(B1545=\"\",\"\",LOOKUP(B1545,Spiele!B:B,Spiele!C:C))","v":""},{"$f":"IF(B1545=\"\",\"\",LOOKUP(B1545,Spiele!B:B,Spiele!D:D))","v":""},{"$f":"IF(B1545=\"\",\"\",LOOKUP(B1545,Spiele!B:B,Spiele!E:E))","v":""},{"$f":"IF(B1545=\"\",\"\",LOOKUP(B1545,Spiele!B:B,Spiele!F:F))","v":""},"","","",null,null,-1,-1,1,0]
[null,null,{"$f":"IF(B1546=\"\",\"\",LOOKUP(B1546,Spiele!B:B,Spiele!C:C))","v":""},{"$f":"IF(B1546=\"\",\"\",LOOKUP(B1546,Spiele!B:B,Spiele!D:D))","v":""},{"$f":"IF(B1546=\"\",\"\",LOOKUP(B1546,Spiele!B:B,Spiele!E:E))","v":""},{"$f":"IF(B1546=\"\",\"\",LOOKUP(B1546,Spiele!B:B,Spiele!F:F))","v":""},"","","",null,null,-1,-1,1,0]
[null,null,{"$f":"IF(B1547=\"\",\"\",LOOKUP(B1547,Spiele!B:B,Spiele!C:C))","v":""},{"$f":"IF(B1547=\"\",\"\",LOOKUP(B1547,Spiele!B:B,Spiele!D:D))","v":""},{"$f":"IF(B1547=\"\",\"\",LOOKUP(B1547,Spiele!B:B,Spiele!E:E))","v":""},{"$f":"IF(B1547=\"\",\"\",LOOKUP(B1547,Spiele!B:B,Spiele!F:F))","v":""},"","","",null,null,-1,-1,1,0]
[null,null,{"$f":"IF(B1548=\"\",\"\",LOOKUP(B1548,Spiele!B:B,Spiele!C:C))","v":""},{"$f":"IF(B1548=\"\",\"\",LOOKUP(B1548,Spiele!B:B,Spiele!D:D))","v":""},{"$f":"IF(B1548=\"\",\"\",LOOKUP(B1548,Spiele!B:B,Spiele!E:E))","v":""},{"$f":"IF(B1548=\"\",\"\",LOOKUP(B1548,Spiele!B:B,Spiele!F:F))","v":""},"","","",null,null,-1,-1,1,0]
[null,null,{"$f":"IF(B1549=\"\",\"\",LOOKUP(B1549,Spiele!B:B,Spiele!C:C))","v":""},{"$f":"IF(B1549=\"\",\"\",LOOKUP(B1549,Spiele!B:B,Spiele!D:D))","v":""},{"$f":"IF(B1549=\"\",\"\",LOOKUP(B1549,Spiele!B:B,Spiele!E:E))","v":""},{"$f":"IF(B1549=\"\",\"\",LOOKUP(B1549,Spiele!B:B,Spiele!F:F))","v":""},"","","",null,null,-1,-1,1,0]
[null,null,{"$f":"IF(B1550=\"\",\"\",LOOKUP(B1550,Spiele!B:B,Spiele!C:C))","v":""},{"$f":"IF(B1550=\"\",\"\",LOOKUP(B1550,Spiele!B:B,Spiele!D:D))","v":""},{"$f":"IF(B1550=\"\",\"\",LOOKUP(B1550,Spiele!B:B,Spiele!E:E))","v":""},{"$f":"IF(B1550=\"\",\"\",LOOKUP(B1550,Spiele!B:B,Spiele!F:F))","v":""},"","","",null,null,-1,-1,1,0]
[null,null,{"$f":"IF(B1551=\"\",\"\",LOOKUP(B1551,Spiele!B:B,Spiele!C:C))","v":""},{"$f":"IF(B1551=\"\",\"\",LOOKUP(B1551,Spiele!B:B,Spiele!D:D))","v":""},{"$f":"IF(B1551=\"\",\"\",LOOKUP(B1551,Spiele!B:B,Spiele!E:E))","v":""},{"$f":"IF(B1551=\"\",\"\",LOOKUP(B1551,Spiele!B:B,Spiele!F:F))","v":""},"","","",null,null,-1,-1,1,0]
[null,null,{"$f":"IF(B1552=\"\",\"\",LOOKUP(B1552,Spiele!B:B,Spiele!C:C))","v":""},{"$f":"IF(B1552=\"\",\"\",LOOKUP(B1552,Spiele!B:B,Spiele!D:D))","v":""},{"$f":"IF(B1552=\"\",\"\",LOOKUP(B1552,Spiele!B:B,Spiele!E:E))","v":""},{"$f":"IF(B1552=\"\",\"\",LOOKUP(B1552,Spiele!B:B,Spiele!F:F))","v":""},"","","",null,null,-1,-1,1,0]
[null,null,{"$f":"IF(B1553=\"\",\"\",LOOKUP(B1553,Spiele!B:B,Spiele!C:C))","v":""},{"$f":"IF(B1553=\"\",\"\",LOOKUP(B1553,Spiele!B:B,Spiele!D:D))","v":""},{"$f":"IF(B1553=\"\",\"\",LOOKUP(B1553,Spiele!B:B,Spiele!E:E))","v":""},{"$f":"IF(B1553=\"\",\"\",LOOKUP(B1553,Spiele!B:B,Spiele!F:F))","v":""},"","","",null,null,-1,-1,1,0]
[null,null,{"$f":"IF(B1554=\"\",\"\",LOOKUP(B1554,Spiele!B:B,Spiele!C:C))","v":""},{"$f":"IF(B1554=\"\",\"\",LOOKUP(B1554,Spiele!B:B,Spiele!D:D))","v":""},{"$f":"IF(B1554=\"\",\"\",LOOKUP(B1554,Spiele!B:B,Spiele!E:E))","v":""},{"$f":"IF(B1554=\"\",\"\",LOOKUP(B1554,Spiele!B:B,Spiele!F:F))","v":""},"","","",null,null,-1,-1,1,0]
[null,null,{"$f":"IF(B1555=\"\",\"\",LOOKUP(B1555,Spiele!B:B,Spiele!C:C))","v":""},{"$f":"IF(B1555=\"\",\"\",LOOKUP(B1555,Spiele!B:B,Spiele!D:D))","v":""},{"$f":"IF(B1555=\"\",\"\",LOOKUP(B1555,Spiele!B:B,Spiele!E:E))","v":""},{"$f":"IF(B1555=\"\",\"\",LOOKUP(B1555,Spiele!B:B,Spiele!F:F))","v":""},"","","",null,null,-1,-1,1,0]
[null,null,{"$f":"IF(B1556=\"\",\"\",LOOKUP(B1556,Spiele!B:B,Spiele!C:C))","v":""},{"$f":"IF(B1556=\"\",\"\",LOOKUP(B1556,Spiele!B:B,Spiele!D:D))","v":""},{"$f":"IF(B1556=\"\",\"\",LOOKUP(B1556,Spiele!B:B,Spiele!E:E))","v":""},{"$f":"IF(B1556=\"\",\"\",LOOKUP(B1556,Spiele!B:B,Spiele!F:F))","v":""},"","","",null,null,-1,-1,1,0]
[null,null,{"$f":"IF(B1557=\"\",\"\",LOOKUP(B1557,Spiele!B:B,Spiele!C:C))","v":""},{"$f":"IF(B1557=\"\",\"\",LOOKUP(B1557,Spiele!B:B,Spiele!D:D))","v":""},{"$f":"IF(B1557=\"\",\"\",LOOKUP(B1557,Spiele!B:B,Spiele!E:E))","v":""},{"$f":"IF(B1557=\"\",\"\",LOOKUP(B1557,Spiele!B:B,Spiele!F:F))","v":""},"","","",null,null,-1,-1,1,0]
[null,null,{"$f":"IF(B1558=\"\",\"\",LOOKUP(B1558,Spiele!B:B,Spiele!C:C))","v":""},{"$f":"IF(B1558=\"\",\"\",LOOKUP(B1558,Spiele!B:B,Spiele!D:D))","v":""},{"$f":"IF(B1558=\"\",\"\",LOOKUP(B1558,Spiele!B:B,Spiele!E:E))","v":""},{"$f":"IF(B1558=\"\",\"\",LOOKUP(B1558,Spiele!B:B,Spiele!F:F))","v":""},"","","",null,null,-1,-1,1,0]
[null,null,{"$f":"IF(B1559=\"\",\"\",LOOKUP(B1559,Spiele!B:B,Spiele!C:C))","v":""},{"$f":"IF(B1559=\"\",\"\",LOOKUP(B1559,Spiele!B:B,Spiele!D:D))","v":""},{"$f":"IF(B1559=\"\",\"\",LOOKUP(B1559,Spiele!B:B,Spiele!E:E))","v":""},{"$f":"IF(B1559=\"\",\"\",LOOKUP(B1559,Spiele!B:B,Spiele!F:F))","v":""},"","","",null,null,-1,-1,1,0]
[null,null,{"$f":"IF(B1560=\"\",\"\",LOOKUP(B1560,Spiele!B:B,Spiele!C:C))","v":""},{"$f":"IF(B1560=\"\",\"\",LOOKUP(B1560,Spiele!B:B,Spiele!D:D))","v":""},{"$f":"IF(B1560=\"\",\"\",LOOKUP(B1560,Spiele!B:B,Spiele!E:E))","v":""},{"$f":"IF(B1560=\"\",\"\",LOOKUP(B1560,Spiele!B:B,Spiele!F:F))","v":""},"","","",null,null,-1,-1,1,0]
[null,null,{"$f":"IF(B1561=\"\",\"\",LOOKUP(B1561,Spiele!B:B,Spiele!C:C))","v":""},{"$f":"IF(B1561=\"\",\"\",LOOKUP(B1561,Spiele!B:B,Spiele!D:D))","v":""},{"$f":"IF(B1561=\"\",\"\",LOOKUP(B1561,Spiele!B:B,Spiele!E:E))","v":""},{"$f":"IF(B1561=\"\",\"\",LOOKUP(B1561,Spiele!B:B,Spiele!F:F))","v":""},"","","",null,null,-1,-1,1,0]
[null,null,{"$f":"IF(B1562=\"\",\"\",LOOKUP(B1562,Spiele!B:B,Spiele!C:C))","v":""},{"$f":"IF(B1562=\"\",\"\",LOOKUP(B1562,Spiele!B:B,Spiele!D:D))","v":""},{"$f":"IF(B1562=\"\",\"\",LOOKUP(B1562,Spiele!B:B,Spiele!E:E))","v":""},{"$f":"IF(B1562=\"\",\"\",LOOKUP(B1562,Spiele!B:B,Spiele!F:F))","v":""},"","","",null,null,-1,-1,1,0]
[null,null,{"$f":"IF(B1563=\"\",\"\",LOOKUP(B1563,Spiele!B:B,Spiele!C:C))","v":""},{"$f":"IF(B1563=\"\",\"\",LOOKUP(B1563,Spiele!B:B,Spiele!D:D))","v":""},{"$f":"IF(B1563=\"\",\"\",LOOKUP(B1563,Spiele!B:B,Spiele!E:E))","v":""},{"$f":"IF(B1563=\"\",\"\",LOOKUP(B1563,Spiele!B:B,Spiele!F:F))","v":""},"","","",null,null,-1,-1,1,0]
[null,null,{"$f":"IF(B1564=\"\",\"\",LOOKUP(B1564,Spiele!B:B,Spiele!C:C))","v":""},{"$f":"IF(B1564=\"\",\"\",LOOKUP(B1564,Spiele!B:B,Spiele!D:D))","v":""},{"$f":"IF(B1564=\"\",\"\",LOOKUP(B1564,Spiele!B:B,Spiele!E:E))","v":""},{"$f":"IF(B1564=\"\",\"\",LOOKUP(B1564,Spiele!B:B,Spiele!F:F))","v":""},"","","",null,null,-1,-1,1,0]
[null,null,{"$f":"IF(B1565=\"\",\"\",LOOKUP(B1565,Spiele!B:B,Spiele!C:C))","v":""},{"$f":"IF(B1565=\"\",\"\",LOOKUP(B1565,Spiele!B:B,Spiele!D:D))","v":""},{"$f":"IF(B1565=\"\",\"\",LOOKUP(B1565,Spiele!B:B,Spiele!E:E))","v":""},{"$f":"IF(B1565=\"\",\"\",LOOKUP(B1565,Spiele!B:B,Spiele!F:F))","v":""},"","","",null,null,-1,-1,1,0]
[null,null,{"$f":"IF(B1566=\"\",\"\",LOOKUP(B1566,Spiele!B:B,Spiele!C:C))","v":""},{"$f":"IF(B1566=\"\",\"\",LOOKUP(B1566,Spiele!B:B,Spiele!D:D))","v":""},{"$f":"IF(B1566=\"\",\"\",LOOKUP(B1566,Spiele!B:B,Spiele!E:E))","v":""},{"$f":"IF(B1566=\"\",\"\",LOOKUP(B1566,Spiele!B:B,Spiele!F:F))","v":""},"","","",null,null,-1,-1,1,0]
[null,null,{"$f":"IF(B1567=\"\",\"\",LOOKUP(B1567,Spiele!B:B,Spiele!C:C))","v":""},{"$f":"IF(B1567=\"\",\"\",LOOKUP(B1567,Spiele!B:B,Spiele!D:D))","v":""},{"$f":"IF(B1567=\"\",\"\",LOOKUP(B1567,Spiele!B:B,Spiele!E:E))","v":""},{"$f":"IF(B1567=\"\",\"\",LOOKUP(B1567,Spiele!B:B,Spiele!F:F))","v":""},"","","",null,null,-1,-1,1,0]
[null,null,{"$f":"IF(B1568=\"\",\"\",LOOKUP(B1568,Spiele!B:B,Spiele!C:C))","v":""},{"$f":"IF(B1568=\"\",\"\",LOOKUP(B1568,Spiele!B:B,Spiele!D:D))","v":""},{"$f":"IF(B1568=\"\",\"\",LOOKUP(B1568,Spiele!B:B,Spiele!E:E))","v":""},{"$f":"IF(B1568=\"\",\"\",LOOKUP(B1568,Spiele!B:B,Spiele!F:F))","v":""},"","","",null,null,-1,-1,1,0]
[null,null,{"$f":"IF(B1569=\"\",\"\",LOOKUP(B1569,Spiele!B:B,Spiele!C:C))","v":""},{"$f":"IF(B1569=\"\",\"\",LOOKUP(B1569,Spiele!B:B,Spiele!D:D))","v":""},{"$f":"IF(B1569=\"\",\"\",LOOKUP(B1569,Spiele!B:B,Spiele!E:E))","v":""},{"$f":"IF(B1569=\"\",\"\",LOOKUP(B1569,Spiele!B:B,Spiele!F:F))","v":""},"","","",null,null,-1,-1,1,0]
[null,null,{"$f":"IF(B1570=\"\",\"\",LOOKUP(B1570,Spiele!B:B,Spiele!C:C))","v":""},{"$f":"IF(B1570=\"\",\"\",LOOKUP(B1570,Spiele!B:B,Spiele!D:D))","v":""},{"$f":"IF(B1570=\"\",\"\",LOOKUP(B1570,Spiele!B:B,Spiele!E:E))","v":""},{"$f":"IF(B1570=\"\",\"\",LOOKUP(B1570,Spiele!B:B,Spiele!F:F))","v":""},"","","",null,null,-1,-1,1,0]
[null,null,{"$f":"IF(B1571=\"\",\"\",LOOKUP(B1571,Spiele!B:B,Spiele!C:C))","v":""},{"$f":"IF(B1571=\"\",\"\",LOOKUP(B1571,Spiele!B:B,Spiele!D:D))","v":""},{"$f":"IF(B1571=\"\",\"\",LOOKUP(B1571,Spiele!B:B,Spiele!E:E))","v":""},{"$f":"IF(B1571=\"\",\"\",LOOKUP(B1571,Spiele!B:B,Spiele!F:F))","v":""},"","","",null,null,-1,-1,1,0]
[null,null,{"$f":"IF(B1572=\"\",\"\",LOOKUP(B1572,Spiele!B:B,Spiele!C:C))","v":""},{"$f":"IF(B1572=\"\",\"\",LOOKUP(B1572,Spiele!B:B,Spiele!D:D))","v":""},{"$f":"IF(B1572=\"\",\"\",LOOKUP(B1572,Spiele!B:B,Spiele!E:E))","v":""},{"$f":"IF(B1572=\"\",\"\",LOOKUP(B1572,Spiele!B:B,Spiele!F:F))","v":""},"","","",null,null,-1,-1,1,0]
[null,null,{"$f":"IF(B1573=\"\",\"\",LOOKUP(B1573,Spiele!B:B,Spiele!C:C))","v":""},{"$f":"IF(B1573=\"\",\"\",LOOKUP(B1573,Spiele!B:B,Spiele!D:D))","v":""},{"$f":"IF(B1573=\"\",\"\",LOOKUP(B1573,Spiele!B:B,Spiele!E:E))","v":""},{"$f":"IF(B1573=\"\",\"\",LOOKUP(B1573,Spiele!B:B,Spiele!F:F))","v":""},"","","",null,null,-1,-1,1,0]
[null,null,{"$f":"IF(B1574=\"\",\"\",LOOKUP(B1574,Spiele!B:B,Spiele!C:C))","v":""},{"$f":"IF(B1574=\"\",\"\",LOOKUP(B1574,Spiele!B:B,Spiele!D:D))","v":""},{"$f":"IF(B1574=\"\",\"\",LOOKUP(B1574,Spiele!B:B,Spiele!E:E))","v":""},{"$f":"IF(B1574=\"\",\"\",LOOKUP(B1574,Spiele!B:B,Spiele!F:F))","v":""},"","","",null,null,-1,-1,1,0]
[null,null,{"$f":"IF(B1575=\"\",\"\",LOOKUP(B1575,Spiele!B:B,Spiele!C:C))","v":""},{"$f":"IF(B1575=\"\",\"\",LOOKUP(B1575,Spiele!B:B,Spiele!D:D))","v":""},{"$f":"IF(B1575=\"\",\"\",LOOKUP(B1575,Spiele!B:B,Spiele!E:E))","v":""},{"$f":"IF(B1575=\"\",\"\",LOOKUP(B1575,Spiele!B:B,Spiele!F:F))","v":""},"","","",null,null,-1,-1,1,0]
[null,null,{"$f":"IF(B1576=\"\",\"\",LOOKUP(B1576,Spiele!B:B,Spiele!C:C))","v":""},{"$f":"IF(B1576=\"\",\"\",LOOKUP(B1576,Spiele!B:B,Spiele!D:D))","v":""},{"$f":"IF(B1576=\"\",\"\",LOOKUP(B1576,Spiele!B:B,Spiele!E:E))","v":""},{"$f":"IF(B1576=\"\",\"\",LOOKUP(B1576,Spiele!B:B,Spiele!F:F))","v":""},"","","",null,null,-1,-1,1,0]
[null,null,{"$f":"IF(B1577=\"\",\"\",LOOKUP(B1577,Spiele!B:B,Spiele!C:C))","v":""},{"$f":"IF(B1577=\"\",\"\",LOOKUP(B1577,Spiele!B:B,Spiele!D:D))","v":""},{"$f":"IF(B1577=\"\",\"\",LOOKUP(B1577,Spiele!B:B,Spiele!E:E))","v":""},{"$f":"IF(B1577=\"\",\"\",LOOKUP(B1577,Spiele!B:B,Spiele!F:F))","v":""},"","","",null,null,-1,-1,1,0]
[null,null,{"$f":"IF(B1578=\"\",\"\",LOOKUP(B1578,Spiele!B:B,Spiele!C:C))","v":""},{"$f":"IF(B1578=\"\",\"\",LOOKUP(B1578,Spiele!B:B,Spiele!D:D))","v":""},{"$f":"IF(B1578=\"\",\"\",LOOKUP(B1578,Spiele!B:B,Spiele!E:E))","v":""},{"$f":"IF(B1578=\"\",\"\",LOOKUP(B1578,Spiele!B:B,Spiele!F:F))","v":""},{"$f":"IF(E1578=\"\",\"\",IF(E1578>F1578,1,0))","v":""},{"$f":"IF(F1578=\"\",\"\",IF(E1578<F1578,1,0))","v":""},{"$f":"IF(E1578=\"\",\"\",IF(E1578=F1578,1,0))","v":""},null,null,{"$f":"IF(E1578=\"\",-1,IF(J1578>K1578,1,-1))","v":-1},{"$f":"IF(F1578=\"\",-1,IF(J1578<K1578,1,-1))","v":-1},{"$f":"IF(E1578=\"-\",-1,IF(J1578=K1578,1,-1))","v":1},{"$f":"IF(E1578=\"\",0,IF(E1578=J1578,1,0)+IF(F1578=K1578,1,0)+IF(G1578=L1578,1,0)+IF(H1578=M1578,1,0)+IF(I1578=N1578,1,0))","v":0}]
[null,null,{"$f":"IF(B1579=\"\",\"\",LOOKUP(B1579,Spiele!B:B,Spiele!C:C))","v":""},{"$f":"IF(B1579=\"\",\"\",LOOKUP(B1579,Spiele!B:B,Spiele!D:D))","v":""},{"$f":"IF(B1579=\"\",\"\",LOOKUP(B1579,Spiele!B:B,Spiele!E:E))","v":""},{"$f":"IF(B1579=\"\",\"\",LOOKUP(B1579,Spiele!B:B,Spiele!F:F))","v":""},"","","",null,null,-1,-1,1,0]
[null,null,{"$f":"IF(B1580=\"\",\"\",LOOKUP(B1580,Spiele!B:B,Spiele!C:C))","v":""},{"$f":"IF(B1580=\"\",\"\",LOOKUP(B1580,Spiele!B:B,Spiele!D:D))","v":""},{"$f":"IF(B1580=\"\",\"\",LOOKUP(B1580,Spiele!B:B,Spiele!E:E))","v":""},{"$f":"IF(B1580=\"\",\"\",LOOKUP(B1580,Spiele!B:B,Spiele!F:F))","v":""},"","","",null,null,-1,-1,1,0]
[null,null,{"$f":"IF(B1581=\"\",\"\",LOOKUP(B1581,Spiele!B:B,Spiele!C:C))","v":""},{"$f":"IF(B1581=\"\",\"\",LOOKUP(B1581,Spiele!B:B,Spiele!D:D))","v":""},{"$f":"IF(B1581=\"\",\"\",LOOKUP(B1581,Spiele!B:B,Spiele!E:E))","v":""},{"$f":"IF(B1581=\"\",\"\",LOOKUP(B1581,Spiele!B:B,Spiele!F:F))","v":""},"","","",null,null,-1,-1,1,0]
[null,null,{"$f":"IF(B1582=\"\",\"\",LOOKUP(B1582,Spiele!B:B,Spiele!C:C))","v":""},{"$f":"IF(B1582=\"\",\"\",LOOKUP(B1582,Spiele!B:B,Spiele!D:D))","v":""},{"$f":"IF(B1582=\"\",\"\",LOOKUP(B1582,Spiele!B:B,Spiele!E:E))","v":""},{"$f":"IF(B1582=\"\",\"\",LOOKUP(B1582,Spiele!B:B,Spiele!F:F))","v":""},"","","",null,null,-1,-1,1,0]
[null,null,{"$f":"IF(B1583=\"\",\"\",LOOKUP(B1583,Spiele!B:B,Spiele!C:C))","v":""},{"$f":"IF(B1583=\"\",\"\",LOOKUP(B1583,Spiele!B:B,Spiele!D:D))","v":""},{"$f":"IF(B1583=\"\",\"\",LOOKUP(B1583,Spiele!B:B,Spiele!E:E))","v":""},{"$f":"IF(B1583=\"\",\"\",LOOKUP(B1583,Spiele!B:B,Spiele!F:F))","v":""},"","","",null,null,-1,-1,1,0]
[null,null,{"$f":"IF(B1584=\"\",\"\",LOOKUP(B1584,Spiele!B:B,Spiele!C:C))","v":""},{"$f":"IF(B1584=\"\",\"\",LOOKUP(B1584,Spiele!B:B,Spiele!D:D))","v":""},{"$f":"IF(B1584=\"\",\"\",LOOKUP(B1584,Spiele!B:B,Spiele!E:E))","v":""},{"$f":"IF(B1584=\"\",\"\",LOOKUP(B1584,Spiele!B:B,Spiele!F:F))","v":""},"","","",null,null,-1,-1,1,0]
[null,null,{"$f":"IF(B1585=\"\",\"\",LOOKUP(B1585,Spiele!B:B,Spiele!C:C))","v":""},{"$f":"IF(B1585=\"\",\"\",LOOKUP(B1585,Spiele!B:B,Spiele!D:D))","v":""},{"$f":"IF(B1585=\"\",\"\",LOOKUP(B1585,Spiele!B:B,Spiele!E:E))","v":""},{"$f":"IF(B1585=\"\",\"\",LOOKUP(B1585,Spiele!B:B,Spiele!F:F))","v":""},"","","",null,null,-1,-1,1,0]
[null,null,{"$f":"IF(B1586=\"\",\"\",LOOKUP(B1586,Spiele!B:B,Spiele!C:C))","v":""},{"$f":"IF(B1586=\"\",\"\",LOOKUP(B1586,Spiele!B:B,Spiele!D:D))","v":""},{"$f":"IF(B1586=\"\",\"\",LOOKUP(B1586,Spiele!B:B,Spiele!E:E))","v":""},{"$f":"IF(B1586=\"\",\"\",LOOKUP(B1586,Spiele!B:B,Spiele!F:F))","v":""},"","","",null,null,-1,-1,1,0]
[null,null,{"$f":"IF(B1587=\"\",\"\",LOOKUP(B1587,Spiele!B:B,Spiele!C:C))","v":""},{"$f":"IF(B1587=\"\",\"\",LOOKUP(B1587,Spiele!B:B,Spiele!D:D))","v":""},{"$f":"IF(B1587=\"\",\"\",LOOKUP(B1587,Spiele!B:B,Spiele!E:E))","v":""},{"$f":"IF(B1587=\"\",\"\",LOOKUP(B1587,Spiele!B:B,Spiele!F:F))","v":""},"","","",null,null,-1,-1,1,0]
[null,null,{"$f":"IF(B1588=\"\",\"\",LOOKUP(B1588,Spiele!B:B,Spiele!C:C))","v":""},{"$f":"IF(B1588=\"\",\"\",LOOKUP(B1588,Spiele!B:B,Spiele!D:D))","v":""},{"$f":"IF(B1588=\"\",\"\",LOOKUP(B1588,Spiele!B:B,Spiele!E:E))","v":""},{"$f":"IF(B1588=\"\",\"\",LOOKUP(B1588,Spiele!B:B,Spiele!F:F))","v":""},"","","",null,null,-1,-1,1,0]
[null,null,{"$f":"IF(B1589=\"\",\"\",LOOKUP(B1589,Spiele!B:B,Spiele!C:C))","v":""},{"$f":"IF(B1589=\"\",\"\",LOOKUP(B1589,Spiele!B:B,Spiele!D:D))","v":""},{"$f":"IF(B1589=\"\",\"\",LOOKUP(B1589,Spiele!B:B,Spiele!E:E))","v":""},{"$f":"IF(B1589=\"\",\"\",LOOKUP(B1589,Spiele!B:B,Spiele!F:F))","v":""},"","","",null,null,-1,-1,1,0]
[null,null,{"$f":"IF(B1590=\"\",\"\",LOOKUP(B1590,Spiele!B:B,Spiele!C:C))","v":""},{"$f":"IF(B1590=\"\",\"\",LOOKUP(B1590,Spiele!B:B,Spiele!D:D))","v":""},{"$f":"IF(B1590=\"\",\"\",LOOKUP(B1590,Spiele!B:B,Spiele!E:E))","v":""},{"$f":"IF(B1590=\"\",\"\",LOOKUP(B1590,Spiele!B:B,Spiele!F:F))","v":""},"","","",null,null,-1,-1,1,0]
[null,null,{"$f":"IF(B1591=\"\",\"\",LOOKUP(B1591,Spiele!B:B,Spiele!C:C))","v":""},{"$f":"IF(B1591=\"\",\"\",LOOKUP(B1591,Spiele!B:B,Spiele!D:D))","v":""},{"$f":"IF(B1591=\"\",\"\",LOOKUP(B1591,Spiele!B:B,Spiele!E:E))","v":""},{"$f":"IF(B1591=\"\",\"\",LOOKUP(B1591,Spiele!B:B,Spiele!F:F))","v":""},"","","",null,null,-1,-1,1,0]
[null,null,{"$f":"IF(B1592=\"\",\"\",LOOKUP(B1592,Spiele!B:B,Spiele!C:C))","v":""},{"$f":"IF(B1592=\"\",\"\",LOOKUP(B1592,Spiele!B:B,Spiele!D:D))","v":""},{"$f":"IF(B1592=\"\",\"\",LOOKUP(B1592,Spiele!B:B,Spiele!E:E))","v":""},{"$f":"IF(B1592=\"\",\"\",LOOKUP(B1592,Spiele!B:B,Spiele!F:F))","v":""},"","","",null,null,-1,-1,1,0]
[null,null,{"$f":"IF(B1593=\"\",\"\",LOOKUP(B1593,Spiele!B:B,Spiele!C:C))","v":""},{"$f":"IF(B1593=\"\",\"\",LOOKUP(B1593,Spiele!B:B,Spiele!D:D))","v":""},{"$f":"IF(B1593=\"\",\"\",LOOKUP(B1593,Spiele!B:B,Spiele!E:E))","v":""},{"$f":"IF(B1593=\"\",\"\",LOOKUP(B1593,Spiele!B:B,Spiele!F:F))","v":""},"","","",null,null,-1,-1,1,0]
[null,null,{"$f":"IF(B1594=\"\",\"\",LOOKUP(B1594,Spiele!B:B,Spiele!C:C))","v":""},{"$f":"IF(B1594=\"\",\"\",LOOKUP(B1594,Spiele!B:B,Spiele!D:D))","v":""},{"$f":"IF(B1594=\"\",\"\",LOOKUP(B1594,Spiele!B:B,Spiele!E:E))","v":""},{"$f":"IF(B1594=\"\",\"\",LOOKUP(B1594,Spiele!B:B,Spiele!F:F))","v":""},"","","",null,null,-1,-1,1,0]
[null,null,{"$f":"IF(B1595=\"\",\"\",LOOKUP(B1595,Spiele!B:B,Spiele!C:C))","v":""},{"$f":"IF(B1595=\"\",\"\",LOOKUP(B1595,Spiele!B:B,Spiele!D:D))","v":""},{"$f":"IF(B1595=\"\",\"\",LOOKUP(B1595,Spiele!B:B,Spiele!E:E))","v":""},{"$f":"IF(B1595=\"\",\"\",LOOKUP(B1595,Spiele!B:B,Spiele!F:F))","v":""},"","","",null,null,-1,-1,1,0]
[null,null,{"$f":"IF(B1596=\"\",\"\",LOOKUP(B1596,Spiele!B:B,Spiele!C:C))","v":""},{"$f":"IF(B1596=\"\",\"\",LOOKUP(B1596,Spiele!B:B,Spiele!D:D))","v":""},{"$f":"IF(B1596=\"\",\"\",LOOKUP(B1596,Spiele!B:B,Spiele!E:E))","v":""},{"$f":"IF(B1596=\"\",\"\",LOOKUP(B1596,Spiele!B:B,Spiele!F:F))","v":""},"","","",null,null,-1,-1,1,0]
[null,null,{"$f":"IF(B1597=\"\",\"\",LOOKUP(B1597,Spiele!B:B,Spiele!C:C))","v":""},{"$f":"IF(B1597=\"\",\"\",LOOKUP(B1597,Spiele!B:B,Spiele!D:D))","v":""},{"$f":"IF(B1597=\"\",\"\",LOOKUP(B1597,Spiele!B:B,Spiele!E:E))","v":""},{"$f":"IF(B1597=\"\",\"\",LOOKUP(B1597,Spiele!B:B,Spiele!F:F))","v":""},"","","",null,null,-1,-1,1,0]
[null,null,{"$f":"IF(B1598=\"\",\"\",LOOKUP(B1598,Spiele!B:B,Spiele!C:C))","v":""},{"$f":"IF(B1598=\"\",\"\",LOOKUP(B1598,Spiele!B:B,Spiele!D:D))","v":""},{"$f":"IF(B1598=\"\",\"\",LOOKUP(B1598,Spiele!B:B,Spiele!E:E))","v":""},{"$f":"IF(B1598=\"\",\"\",LOOKUP(B1598,Spiele!B:B,Spiele!F:F))","v":""},"","","",null,null,-1,-1,1,0]
[null,null,{"$f":"IF(B1599=\"\",\"\",LOOKUP(B1599,Spiele!B:B,Spiele!C:C))","v":""},{"$f":"IF(B1599=\"\",\"\",LOOKUP(B1599,Spiele!B:B,Spiele!D:D))","v":""},{"$f":"IF(B1599=\"\",\"\",LOOKUP(B1599,Spiele!B:B,Spiele!E:E))","v":""},{"$f":"IF(B1599=\"\",\"\",LOOKUP(B1599,Spiele!B:B,Spiele!F:F))","v":""},"","","",null,null,-1,-1,1,0]
[null,null,{"$f":"IF(B1600=\"\",\"\",LOOKUP(B1600,Spiele!B:B,Spiele!C:C))","v":""},{"$f":"IF(B1600=\"\",\"\",LOOKUP(B1600,Spiele!B:B,Spiele!D:D))","v":""},{"$f":"IF(B1600=\"\",\"\",LOOKUP(B1600,Spiele!B:B,Spiele!E:E))","v":""},{"$f":"IF(B1600=\"\",\"\",LOOKUP(B1600,Spiele!B:B,Spiele!F:F))","v":""},"","","",null,null,-1,-1,1,0]
[null,null,{"$f":"IF(B1601=\"\",\"\",LOOKUP(B1601,Spiele!B:B,Spiele!C:C))","v":""},{"$f":"IF(B1601=\"\",\"\",LOOKUP(B1601,Spiele!B:B,Spiele!D:D))","v":""},{"$f":"IF(B1601=\"\",\"\",LOOKUP(B1601,Spiele!B:B,Spiele!E:E))","v":""},{"$f":"IF(B1601=\"\",\"\",LOOKUP(B1601,Spiele!B:B,Spiele!F:F))","v":""},"","","",null,null,-1,-1,1,0]
[null,null,{"$f":"IF(B1602=\"\",\"\",LOOKUP(B1602,Spiele!B:B,Spiele!C:C))","v":""},{"$f":"IF(B1602=\"\",\"\",LOOKUP(B1602,Spiele!B:B,Spiele!D:D))","v":""},{"$f":"IF(B1602=\"\",\"\",LOOKUP(B1602,Spiele!B:B,Spiele!E:E))","v":""},{"$f":"IF(B1602=\"\",\"\",LOOKUP(B1602,Spiele!B:B,Spiele!F:F))","v":""},"","","",null,null,-1,-1,1,0]
[null,null,{"$f":"IF(B1603=\"\",\"\",LOOKUP(B1603,Spiele!B:B,Spiele!C:C))","v":""},{"$f":"IF(B1603=\"\",\"\",LOOKUP(B1603,Spiele!B:B,Spiele!D:D))","v":""},{"$f":"IF(B1603=\"\",\"\",LOOKUP(B1603,Spiele!B:B,Spiele!E:E))","v":""},{"$f":"IF(B1603=\"\",\"\",LOOKUP(B1603,Spiele!B:B,Spiele!F:F))","v":""},"","","",null,null,-1,-1,1,0]
[null,null,{"$f":"IF(B1604=\"\",\"\",LOOKUP(B1604,Spiele!B:B,Spiele!C:C))","v":""},{"$f":"IF(B1604=\"\",\"\",LOOKUP(B1604,Spiele!B:B,Spiele!D:D))","v":""},{"$f":"IF(B1604=\"\",\"\",LOOKUP(B1604,Spiele!B:B,Spiele!E:E))","v":""},{"$f":"IF(B1604=\"\",\"\",LOOKUP(B1604,Spiele!B:B,Spiele!F:F))","v":""},"","","",null,null,-1,-1,1,0]
[null,null,{"$f":"IF(B1605=\"\",\"\",LOOKUP(B1605,Spiele!B:B,Spiele!C:C))","v":""},{"$f":"IF(B1605=\"\",\"\",LOOKUP(B1605,Spiele!B:B,Spiele!D:D))","v":""},{"$f":"IF(B1605=\"\",\"\",LOOKUP(B1605,Spiele!B:B,Spiele!E:E))","v":""},{"$f":"IF(B1605=\"\",\"\",LOOKUP(B1605,Spiele!B:B,Spiele!F:F))","v":""},"","","",null,null,-1,-1,1,0]
[null,null,{"$f":"IF(B1606=\"\",\"\",LOOKUP(B1606,Spiele!B:B,Spiele!C:C))","v":""},{"$f":"IF(B1606=\"\",\"\",LOOKUP(B1606,Spiele!B:B,Spiele!D:D))","v":""},{"$f":"IF(B1606=\"\",\"\",LOOKUP(B1606,Spiele!B:B,Spiele!E:E))","v":""},{"$f":"IF(B1606=\"\",\"\",LOOKUP(B1606,Spiele!B:B,Spiele!F:F))","v":""},"","","",null,null,-1,-1,1,0]
[null,null,{"$f":"IF(B1607=\"\",\"\",LOOKUP(B1607,Spiele!B:B,Spiele!C:C))","v":""},{"$f":"IF(B1607=\"\",\"\",LOOKUP(B1607,Spiele!B:B,Spiele!D:D))","v":""},{"$f":"IF(B1607=\"\",\"\",LOOKUP(B1607,Spiele!B:B,Spiele!E:E))","v":""},{"$f":"IF(B1607=\"\",\"\",LOOKUP(B1607,Spiele!B:B,Spiele!F:F))","v":""},"","","",null,null,-1,-1,1,0]
[null,null,{"$f":"IF(B1608=\"\",\"\",LOOKUP(B1608,Spiele!B:B,Spiele!C:C))","v":""},{"$f":"IF(B1608=\"\",\"\",LOOKUP(B1608,Spiele!B:B,Spiele!D:D))","v":""},{"$f":"IF(B1608=\"\",\"\",LOOKUP(B1608,Spiele!B:B,Spiele!E:E))","v":""},{"$f":"IF(B1608=\"\",\"\",LOOKUP(B1608,Spiele!B:B,Spiele!F:F))","v":""},"","","",null,null,-1,-1,1,0]
[null,null,{"$f":"IF(B1609=\"\",\"\",LOOKUP(B1609,Spiele!B:B,Spiele!C:C))","v":""},{"$f":"IF(B1609=\"\",\"\",LOOKUP(B1609,Spiele!B:B,Spiele!D:D))","v":""},{"$f":"IF(B1609=\"\",\"\",LOOKUP(B1609,Spiele!B:B,Spiele!E:E))","v":""},{"$f":"IF(B1609=\"\",\"\",LOOKUP(B1609,Spiele!B:B,Spiele!F:F))","v":""},"","","",null,null,-1,-1,1,0]
[null,null,{"$f":"IF(B1610=\"\",\"\",LOOKUP(B1610,Spiele!B:B,Spiele!C:C))","v":""},{"$f":"IF(B1610=\"\",\"\",LOOKUP(B1610,Spiele!B:B,Spiele!D:D))","v":""},{"$f":"IF(B1610=\"\",\"\",LOOKUP(B1610,Spiele!B:B,Spiele!E:E))","v":""},{"$f":"IF(B1610=\"\",\"\",LOOKUP(B1610,Spiele!B:B,Spiele!F:F))","v":""},"","","",null,null,-1,-1,1,0]
[null,null,{"$f":"IF(B1611=\"\",\"\",LOOKUP(B1611,Spiele!B:B,Spiele!C:C))","v":""},{"$f":"IF(B1611=\"\",\"\",LOOKUP(B1611,Spiele!B:B,Spiele!D:D))","v":""},{"$f":"IF(B1611=\"\",\"\",LOOKUP(B1611,Spiele!B:B,Spiele!E:E))","v":""},{"$f":"IF(B1611=\"\",\"\",LOOKUP(B1611,Spiele!B:B,Spiele!F:F))","v":""},"","","",null,null,-1,-1,1,0]
[null,null,{"$f":"IF(B1612=\"\",\"\",LOOKUP(B1612,Spiele!B:B,Spiele!C:C))","v":""},{"$f":"IF(B1612=\"\",\"\",LOOKUP(B1612,Spiele!B:B,Spiele!D:D))","v":""},{"$f":"IF(B1612=\"\",\"\",LOOKUP(B1612,Spiele!B:B,Spiele!E:E))","v":""},{"$f":"IF(B1612=\"\",\"\",LOOKUP(B1612,Spiele!B:B,Spiele!F:F))","v":""},"","","",null,null,-1,-1,1,0]
[null,null,{"$f":"IF(B1613=\"\",\"\",LOOKUP(B1613,Spiele!B:B,Spiele!C:C))","v":""},{"$f":"IF(B1613=\"\",\"\",LOOKUP(B1613,Spiele!B:B,Spiele!D:D))","v":""},{"$f":"IF(B1613=\"\",\"\",LOOKUP(B1613,Spiele!B:B,Spiele!E:E))","v":""},{"$f":"IF(B1613=\"\",\"\",LOOKUP(B1613,Spiele!B:B,Spiele!F:F))","v":""},"","","",null,null,-1,-1,1,0]
[null,null,{"$f":"IF(B1614=\"\",\"\",LOOKUP(B1614,Spiele!B:B,Spiele!C:C))","v":""},{"$f":"IF(B1614=\"\",\"\",LOOKUP(B1614,Spiele!B:B,Spiele!D:D))","v":""},{"$f":"IF(B1614=\"\",\"\",LOOKUP(B1614,Spiele!B:B,Spiele!E:E))","v":""},{"$f":"IF(B1614=\"\",\"\",LOOKUP(B1614,Spiele!B:B,Spiele!F:F))","v":""},"","","",null,null,-1,-1,1,0]
[null,null,{"$f":"IF(B1615=\"\",\"\",LOOKUP(B1615,Spiele!B:B,Spiele!C:C))","v":""},{"$f":"IF(B1615=\"\",\"\",LOOKUP(B1615,Spiele!B:B,Spiele!D:D))","v":""},{"$f":"IF(B1615=\"\",\"\",LOOKUP(B1615,Spiele!B:B,Spiele!E:E))","v":""},{"$f":"IF(B1615=\"\",\"\",LOOKUP(B1615,Spiele!B:B,Spiele!F:F))","v":""},"","","",null,null,-1,-1,1,0]
[null,null,{"$f":"IF(B1616=\"\",\"\",LOOKUP(B1616,Spiele!B:B,Spiele!C:C))","v":""},{"$f":"IF(B1616=\"\",\"\",LOOKUP(B1616,Spiele!B:B,Spiele!D:D))","v":""},{"$f":"IF(B1616=\"\",\"\",LOOKUP(B1616,Spiele!B:B,Spiele!E:E))","v":""},{"$f":"IF(B1616=\"\",\"\",LOOKUP(B1616,Spiele!B:B,Spiele!F:F))","v":""},"","","",null,null,-1,-1,1,0]
[null,null,{"$f":"IF(B1617=\"\",\"\",LOOKUP(B1617,Spiele!B:B,Spiele!C:C))","v":""},{"$f":"IF(B1617=\"\",\"\",LOOKUP(B1617,Spiele!B:B,Spiele!D:D))","v":""},{"$f":"IF(B1617=\"\",\"\",LOOKUP(B1617,Spiele!B:B,Spiele!E:E))","v":""},{"$f":"IF(B1617=\"\",\"\",LOOKUP(B1617,Spiele!B:B,Spiele!F:F))","v":""},"","","",null,null,-1,-1,1,0]
[null,null,{"$f":"IF(B1618=\"\",\"\",LOOKUP(B1618,Spiele!B:B,Spiele!C:C))","v":""},{"$f":"IF(B1618=\"\",\"\",LOOKUP(B1618,Spiele!B:B,Spiele!D:D))","v":""},{"$f":"IF(B1618=\"\",\"\",LOOKUP(B1618,Spiele!B:B,Spiele!E:E))","v":""},{"$f":"IF(B1618=\"\",\"\",LOOKUP(B1618,Spiele!B:B,Spiele!F:F))","v":""},"","","",null,null,-1,-1,1,0]
[null,null,{"$f":"IF(B1619=\"\",\"\",LOOKUP(B1619,Spiele!B:B,Spiele!C:C))","v":""},{"$f":"IF(B1619=\"\",\"\",LOOKUP(B1619,Spiele!B:B,Spiele!D:D))","v":""},{"$f":"IF(B1619=\"\",\"\",LOOKUP(B1619,Spiele!B:B,Spiele!E:E))","v":""},{"$f":"IF(B1619=\"\",\"\",LOOKUP(B1619,Spiele!B:B,Spiele!F:F))","v":""},"","","",null,null,-1,-1,1,0]
[null,null,{"$f":"IF(B1620=\"\",\"\",LOOKUP(B1620,Spiele!B:B,Spiele!C:C))","v":""},{"$f":"IF(B1620=\"\",\"\",LOOKUP(B1620,Spiele!B:B,Spiele!D:D))","v":""},{"$f":"IF(B1620=\"\",\"\",LOOKUP(B1620,Spiele!B:B,Spiele!E:E))","v":""},{"$f":"IF(B1620=\"\",\"\",LOOKUP(B1620,Spiele!B:B,Spiele!F:F))","v":""},"","","",null,null,-1,-1,1,0]
[null,null,{"$f":"IF(B1621=\"\",\"\",LOOKUP(B1621,Spiele!B:B,Spiele!C:C))","v":""},{"$f":"IF(B1621=\"\",\"\",LOOKUP(B1621,Spiele!B:B,Spiele!D:D))","v":""},{"$f":"IF(B1621=\"\",\"\",LOOKUP(B1621,Spiele!B:B,Spiele!E:E))","v":""},{"$f":"IF(B1621=\"\",\"\",LOOKUP(B1621,Spiele!B:B,Spiele!F:F))","v":""},"","","",null,null,-1,-1,1,0]
[null,null,{"$f":"IF(B1622=\"\",\"\",LOOKUP(B1622,Spiele!B:B,Spiele!C:C))","v":""},{"$f":"IF(B1622=\"\",\"\",LOOKUP(B1622,Spiele!B:B,Spiele!D:D))","v":""},{"$f":"IF(B1622=\"\",\"\",LOOKUP(B1622,Spiele!B:B,Spiele!E:E))","v":""},{"$f":"IF(B1622=\"\",\"\",LOOKUP(B1622,Spiele!B:B,Spiele!F:F))","v":""},"","","",null,null,-1,-1,1,0]
[null,null,{"$f":"IF(B1623=\"\",\"\",LOOKUP(B1623,Spiele!B:B,Spiele!C:C))","v":""},{"$f":"IF(B1623=\"\",\"\",LOOKUP(B1623,Spiele!B:B,Spiele!D:D))","v":""},{"$f":"IF(B1623=\"\",\"\",LOOKUP(B1623,Spiele!B:B,Spiele!E:E))","v":""},{"$f":"IF(B1623=\"\",\"\",LOOKUP(B1623,Spiele!B:B,Spiele!F:F))","v":""},"","","",null,null,-1,-1,1,0]
[null,null,{"$f":"IF(B1624=\"\",\"\",LOOKUP(B1624,Spiele!B:B,Spiele!C:C))","v":""},{"$f":"IF(B1624=\"\",\"\",LOOKUP(B1624,Spiele!B:B,Spiele!D:D))","v":""},{"$f":"IF(B1624=\"\",\"\",LOOKUP(B1624,Spiele!B:B,Spiele!E:E))","v":""},{"$f":"IF(B1624=\"\",\"\",LOOKUP(B1624,Spiele!B:B,Spiele!F:F))","v":""},"","","",null,null,-1,-1,1,0]
[null,null,{"$f":"IF(B1625=\"\",\"\",LOOKUP(B1625,Spiele!B:B,Spiele!C:C))","v":""},{"$f":"IF(B1625=\"\",\"\",LOOKUP(B1625,Spiele!B:B,Spiele!D:D))","v":""},{"$f":"IF(B1625=\"\",\"\",LOOKUP(B1625,Spiele!B:B,Spiele!E:E))","v":""},{"$f":"IF(B1625=\"\",\"\",LOOKUP(B1625,Spiele!B:B,Spiele!F:F))","v":""},"","","",null,null,-1,-1,1,0]
[null,null,{"$f":"IF(B1626=\"\",\"\",LOOKUP(B1626,Spiele!B:B,Spiele!C:C))","v":""},{"$f":"IF(B1626=\"\",\"\",LOOKUP(B1626,Spiele!B:B,Spiele!D:D))","v":""},{"$f":"IF(B1626=\"\",\"\",LOOKUP(B1626,Spiele!B:B,Spiele!E:E))","v":""},{"$f":"IF(B1626=\"\",\"\",LOOKUP(B1626,Spiele!B:B,Spiele!F:F))","v":""},"","","",null,null,-1,-1,1,0]
[null,null,{"$f":"IF(B1627=\"\",\"\",LOOKUP(B1627,Spiele!B:B,Spiele!C:C))","v":""},{"$f":"IF(B1627=\"\",\"\",LOOKUP(B1627,Spiele!B:B,Spiele!D:D))","v":""},{"$f":"IF(B1627=\"\",\"\",LOOKUP(B1627,Spiele!B:B,Spiele!E:E))","v":""},{"$f":"IF(B1627=\"\",\"\",LOOKUP(B1627,Spiele!B:B,Spiele!F:F))","v":""},"","","",null,null,-1,-1,1,0]
[null,null,{"$f":"IF(B1628=\"\",\"\",LOOKUP(B1628,Spiele!B:B,Spiele!C:C))","v":""},{"$f":"IF(B1628=\"\",\"\",LOOKUP(B1628,Spiele!B:B,Spiele!D:D))","v":""},{"$f":"IF(B1628=\"\",\"\",LOOKUP(B1628,Spiele!B:B,Spiele!E:E))","v":""},{"$f":"IF(B1628=\"\",\"\",LOOKUP(B1628,Spiele!B:B,Spiele!F:F))","v":""},"","","",null,null,-1,-1,1,0]
[null,null,{"$f":"IF(B1629=\"\",\"\",LOOKUP(B1629,Spiele!B:B,Spiele!C:C))","v":""},{"$f":"IF(B1629=\"\",\"\",LOOKUP(B1629,Spiele!B:B,Spiele!D:D))","v":""},{"$f":"IF(B1629=\"\",\"\",LOOKUP(B1629,Spiele!B:B,Spiele!E:E))","v":""},{"$f":"IF(B1629=\"\",\"\",LOOKUP(B1629,Spiele!B:B,Spiele!F:F))","v":""},"","","",null,null,-1,-1,1,0]
[null,null,{"$f":"IF(B1630=\"\",\"\",LOOKUP(B1630,Spiele!B:B,Spiele!C:C))","v":""},{"$f":"IF(B1630=\"\",\"\",LOOKUP(B1630,Spiele!B:B,Spiele!D:D))","v":""},{"$f":"IF(B1630=\"\",\"\",LOOKUP(B1630,Spiele!B:B,Spiele!E:E))","v":""},{"$f":"IF(B1630=\"\",\"\",LOOKUP(B1630,Spiele!B:B,Spiele!F:F))","v":""},"","","",null,null,-1,-1,1,0]
[null,null,{"$f":"IF(B1631=\"\",\"\",LOOKUP(B1631,Spiele!B:B,Spiele!C:C))","v":""},{"$f":"IF(B1631=\"\",\"\",LOOKUP(B1631,Spiele!B:B,Spiele!D:D))","v":""},{"$f":"IF(B1631=\"\",\"\",LOOKUP(B1631,Spiele!B:B,Spiele!E:E))","v":""},{"$f":"IF(B1631=\"\",\"\",LOOKUP(B1631,Spiele!B:B,Spiele!F:F))","v":""},"","","",null,null,-1,-1,1,0]
[null,null,{"$f":"IF(B1632=\"\",\"\",LOOKUP(B1632,Spiele!B:B,Spiele!C:C))","v":""},{"$f":"IF(B1632=\"\",\"\",LOOKUP(B1632,Spiele!B:B,Spiele!D:D))","v":""},{"$f":"IF(B1632=\"\",\"\",LOOKUP(B1632,Spiele!B:B,Spiele!E:E))","v":""},{"$f":"IF(B1632=\"\",\"\",LOOKUP(B1632,Spiele!B:B,Spiele!F:F))","v":""},"","","",null,null,-1,-1,1,0]
[null,null,{"$f":"IF(B1633=\"\",\"\",LOOKUP(B1633,Spiele!B:B,Spiele!C:C))","v":""},{"$f":"IF(B1633=\"\",\"\",LOOKUP(B1633,Spiele!B:B,Spiele!D:D))","v":""},{"$f":"IF(B1633=\"\",\"\",LOOKUP(B1633,Spiele!B:B,Spiele!E:E))","v":""},{"$f":"IF(B1633=\"\",\"\",LOOKUP(B1633,Spiele!B:B,Spiele!F:F))","v":""},"","","",null,null,-1,-1,1,0]
[null,null,{"$f":"IF(B1634=\"\",\"\",LOOKUP(B1634,Spiele!B:B,Spiele!C:C))","v":""},{"$f":"IF(B1634=\"\",\"\",LOOKUP(B1634,Spiele!B:B,Spiele!D:D))","v":""},{"$f":"IF(B1634=\"\",\"\",LOOKUP(B1634,Spiele!B:B,Spiele!E:E))","v":""},{"$f":"IF(B1634=\"\",\"\",LOOKUP(B1634,Spiele!B:B,Spiele!F:F))","v":""},"","","",null,null,-1,-1,1,0]
[null,null,{"$f":"IF(B1635=\"\",\"\",LOOKUP(B1635,Spiele!B:B,Spiele!C:C))","v":""},{"$f":"IF(B1635=\"\",\"\",LOOKUP(B1635,Spiele!B:B,Spiele!D:D))","v":""},{"$f":"IF(B1635=\"\",\"\",LOOKUP(B1635,Spiele!B:B,Spiele!E:E))","v":""},{"$f":"IF(B1635=\"\",\"\",LOOKUP(B1635,Spiele!B:B,Spiele!F:F))","v":""},"","","",null,null,-1,-1,1,0]
[null,null,{"$f":"IF(B1636=\"\",\"\",LOOKUP(B1636,Spiele!B:B,Spiele!C:C))","v":""},{"$f":"IF(B1636=\"\",\"\",LOOKUP(B1636,Spiele!B:B,Spiele!D:D))","v":""},{"$f":"IF(B1636=\"\",\"\",LOOKUP(B1636,Spiele!B:B,Spiele!E:E))","v":""},{"$f":"IF(B1636=\"\",\"\",LOOKUP(B1636,Spiele!B:B,Spiele!F:F))","v":""},"","","",null,null,-1,-1,1,0]
[null,null,{"$f":"IF(B1637=\"\",\"\",LOOKUP(B1637,Spiele!B:B,Spiele!C:C))","v":""},{"$f":"IF(B1637=\"\",\"\",LOOKUP(B1637,Spiele!B:B,Spiele!D:D))","v":""},{"$f":"IF(B1637=\"\",\"\",LOOKUP(B1637,Spiele!B:B,Spiele!E:E))","v":""},{"$f":"IF(B1637=\"\",\"\",LOOKUP(B1637,Spiele!B:B,Spiele!F:F))","v":""},"","","",null,null,-1,-1,1,0]
[null,null,{"$f":"IF(B1638=\"\",\"\",LOOKUP(B1638,Spiele!B:B,Spiele!C:C))","v":""},{"$f":"IF(B1638=\"\",\"\",LOOKUP(B1638,Spiele!B:B,Spiele!D:D))","v":""},{"$f":"IF(B1638=\"\",\"\",LOOKUP(B1638,Spiele!B:B,Spiele!E:E))","v":""},{"$f":"IF(B1638=\"\",\"\",LOOKUP(B1638,Spiele!B:B,Spiele!F:F))","v":""},"","","",null,null,-1,-1,1,0]
[null,null,{"$f":"IF(B1639=\"\",\"\",LOOKUP(B1639,Spiele!B:B,Spiele!C:C))","v":""},{"$f":"IF(B1639=\"\",\"\",LOOKUP(B1639,Spiele!B:B,Spiele!D:D))","v":""},{"$f":"IF(B1639=\"\",\"\",LOOKUP(B1639,Spiele!B:B,Spiele!E:E))","v":""},{"$f":"IF(B1639=\"\",\"\",LOOKUP(B1639,Spiele!B:B,Spiele!F:F))","v":""},"","","",null,null,-1,-1,1,0]
[null,null,{"$f":"IF(B1640=\"\",\"\",LOOKUP(B1640,Spiele!B:B,Spiele!C:C))","v":""},{"$f":"IF(B1640=\"\",\"\",LOOKUP(B1640,Spiele!B:B,Spiele!D:D))","v":""},{"$f":"IF(B1640=\"\",\"\",LOOKUP(B1640,Spiele!B:B,Spiele!E:E))","v":""},{"$f":"IF(B1640=\"\",\"\",LOOKUP(B1640,Spiele!B:B,Spiele!F:F))","v":""},"","","",null,null,-1,-1,1,0]
[null,null,{"$f":"IF(B1641=\"\",\"\",LOOKUP(B1641,Spiele!B:B,Spiele!C:C))","v":""},{"$f":"IF(B1641=\"\",\"\",LOOKUP(B1641,Spiele!B:B,Spiele!D:D))","v":""},{"$f":"IF(B1641=\"\",\"\",LOOKUP(B1641,Spiele!B:B,Spiele!E:E))","v":""},{"$f":"IF(B1641=\"\",\"\",LOOKUP(B1641,Spiele!B:B,Spiele!F:F))","v":""},"","","",null,null,-1,-1,1,0]
[null,null,{"$f":"IF(B1642=\"\",\"\",LOOKUP(B1642,Spiele!B:B,Spiele!C:C))","v":""},{"$f":"IF(B1642=\"\",\"\",LOOKUP(B1642,Spiele!B:B,Spiele!D:D))","v":""},{"$f":"IF(B1642=\"\",\"\",LOOKUP(B1642,Spiele!B:B,Spiele!E:E))","v":""},{"$f":"IF(B1642=\"\",\"\",LOOKUP(B1642,Spiele!B:B,Spiele!F:F))","v":""},{"$f":"IF(E1642=\"\",\"\",IF(E1642>F1642,1,0))","v":""},{"$f":"IF(F1642=\"\",\"\",IF(E1642<F1642,1,0))","v":""},{"$f":"IF(E1642=\"\",\"\",IF(E1642=F1642,1,0))","v":""},null,null,{"$f":"IF(E1642=\"\",-1,IF(J1642>K1642,1,-1))","v":-1},{"$f":"IF(F1642=\"\",-1,IF(J1642<K1642,1,-1))","v":-1},{"$f":"IF(E1642=\"-\",-1,IF(J1642=K1642,1,-1))","v":1},{"$f":"IF(E1642=\"\",0,IF(E1642=J1642,1,0)+IF(F1642=K1642,1,0)+IF(G1642=L1642,1,0)+IF(H1642=M1642,1,0)+IF(I1642=N1642,1,0))","v":0}]
[null,null,{"$f":"IF(B1643=\"\",\"\",LOOKUP(B1643,Spiele!B:B,Spiele!C:C))","v":""},{"$f":"IF(B1643=\"\",\"\",LOOKUP(B1643,Spiele!B:B,Spiele!D:D))","v":""},{"$f":"IF(B1643=\"\",\"\",LOOKUP(B1643,Spiele!B:B,Spiele!E:E))","v":""},{"$f":"IF(B1643=\"\",\"\",LOOKUP(B1643,Spiele!B:B,Spiele!F:F))","v":""},"","","",null,null,-1,-1,1,0]
[null,null,{"$f":"IF(B1644=\"\",\"\",LOOKUP(B1644,Spiele!B:B,Spiele!C:C))","v":""},{"$f":"IF(B1644=\"\",\"\",LOOKUP(B1644,Spiele!B:B,Spiele!D:D))","v":""},{"$f":"IF(B1644=\"\",\"\",LOOKUP(B1644,Spiele!B:B,Spiele!E:E))","v":""},{"$f":"IF(B1644=\"\",\"\",LOOKUP(B1644,Spiele!B:B,Spiele!F:F))","v":""},"","","",null,null,-1,-1,1,0]
[null,null,{"$f":"IF(B1645=\"\",\"\",LOOKUP(B1645,Spiele!B:B,Spiele!C:C))","v":""},{"$f":"IF(B1645=\"\",\"\",LOOKUP(B1645,Spiele!B:B,Spiele!D:D))","v":""},{"$f":"IF(B1645=\"\",\"\",LOOKUP(B1645,Spiele!B:B,Spiele!E:E))","v":""},{"$f":"IF(B1645=\"\",\"\",LOOKUP(B1645,Spiele!B:B,Spiele!F:F))","v":""},"","","",null,null,-1,-1,1,0]
[null,null,{"$f":"IF(B1646=\"\",\"\",LOOKUP(B1646,Spiele!B:B,Spiele!C:C))","v":""},{"$f":"IF(B1646=\"\",\"\",LOOKUP(B1646,Spiele!B:B,Spiele!D:D))","v":""},{"$f":"IF(B1646=\"\",\"\",LOOKUP(B1646,Spiele!B:B,Spiele!E:E))","v":""},{"$f":"IF(B1646=\"\",\"\",LOOKUP(B1646,Spiele!B:B,Spiele!F:F))","v":""},"","","",null,null,-1,-1,1,0]
[null,null,{"$f":"IF(B1647=\"\",\"\",LOOKUP(B1647,Spiele!B:B,Spiele!C:C))","v":""},{"$f":"IF(B1647=\"\",\"\",LOOKUP(B1647,Spiele!B:B,Spiele!D:D))","v":""},{"$f":"IF(B1647=\"\",\"\",LOOKUP(B1647,Spiele!B:B,Spiele!E:E))","v":""},{"$f":"IF(B1647=\"\",\"\",LOOKUP(B1647,Spiele!B:B,Spiele!F:F))","v":""},"","","",null,null,-1,-1,1,0]
[null,null,{"$f":"IF(B1648=\"\",\"\",LOOKUP(B1648,Spiele!B:B,Spiele!C:C))","v":""},{"$f":"IF(B1648=\"\",\"\",LOOKUP(B1648,Spiele!B:B,Spiele!D:D))","v":""},{"$f":"IF(B1648=\"\",\"\",LOOKUP(B1648,Spiele!B:B,Spiele!E:E))","v":""},{"$f":"IF(B1648=\"\",\"\",LOOKUP(B1648,Spiele!B:B,Spiele!F:F))","v":""},"","","",null,null,-1,-1,1,0]
[null,null,{"$f":"IF(B1649=\"\",\"\",LOOKUP(B1649,Spiele!B:B,Spiele!C:C))","v":""},{"$f":"IF(B1649=\"\",\"\",LOOKUP(B1649,Spiele!B:B,Spiele!D:D))","v":""},{"$f":"IF(B1649=\"\",\"\",LOOKUP(B1649,Spiele!B:B,Spiele!E:E))","v":""},{"$f":"IF(B1649=\"\",\"\",LOOKUP(B1649,Spiele!B:B,Spiele!F:F))","v":""},"","","",null,null,-1,-1,1,0]
[null,null,{"$f":"IF(B1650=\"\",\"\",LOOKUP(B1650,Spiele!B:B,Spiele!C:C))","v":""},{"$f":"IF(B1650=\"\",\"\",LOOKUP(B1650,Spiele!B:B,Spiele!D:D))","v":""},{"$f":"IF(B1650=\"\",\"\",LOOKUP(B1650,Spiele!B:B,Spiele!E:E))","v":""},{"$f":"IF(B1650=\"\",\"\",LOOKUP(B1650,Spiele!B:B,Spiele!F:F))","v":""},"","","",null,null,-1,-1,1,0]
[null,null,{"$f":"IF(B1651=\"\",\"\",LOOKUP(B1651,Spiele!B:B,Spiele!C:C))","v":""},{"$f":"IF(B1651=\"\",\"\",LOOKUP(B1651,Spiele!B:B,Spiele!D:D))","v":""},{"$f":"IF(B1651=\"\",\"\",LOOKUP(B1651,Spiele!B:B,Spiele!E:E))","v":""},{"$f":"IF(B1651=\"\",\"\",LOOKUP(B1651,Spiele!B:B,Spiele!F:F))","v":""},"","","",null,null,-1,-1,1,0]
[null,null,{"$f":"IF(B1652=\"\",\"\",LOOKUP(B1652,Spiele!B:B,Spiele!C:C))","v":""},{"$f":"IF(B1652=\"\",\"\",LOOKUP(B1652,Spiele!B:B,Spiele!D:D))","v":""},{"$f":"IF(B1652=\"\",\"\",LOOKUP(B1652,Spiele!B:B,Spiele!E:E))","v":""},{"$f":"IF(B1652=\"\",\"\",LOOKUP(B1652,Spiele!B:B,Spiele!F:F))","v":""},"","","",null,null,-1,-1,1,0]
[null,null,{"$f":"IF(B1653=\"\",\"\",LOOKUP(B1653,Spiele!B:B,Spiele!C:C))","v":""},{"$f":"IF(B1653=\"\",\"\",LOOKUP(B1653,Spiele!B:B,Spiele!D:D))","v":""},{"$f":"IF(B1653=\"\",\"\",LOOKUP(B1653,Spiele!B:B,Spiele!E:E))","v":""},{"$f":"IF(B1653=\"\",\"\",LOOKUP(B1653,Spiele!B:B,Spiele!F:F))","v":""},"","","",null,null,-1,-1,1,0]
[null,null,{"$f":"IF(B1654=\"\",\"\",LOOKUP(B1654,Spiele!B:B,Spiele!C:C))","v":""},{"$f":"IF(B1654=\"\",\"\",LOOKUP(B1654,Spiele!B:B,Spiele!D:D))","v":""},{"$f":"IF(B1654=\"\",\"\",LOOKUP(B1654,Spiele!B:B,Spiele!E:E))","v":""},{"$f":"IF(B1654=\"\",\"\",LOOKUP(B1654,Spiele!B:B,Spiele!F:F))","v":""},"","","",null,null,-1,-1,1,0]
[null,null,{"$f":"IF(B1655=\"\",\"\",LOOKUP(B1655,Spiele!B:B,Spiele!C:C))","v":""},{"$f":"IF(B1655=\"\",\"\",LOOKUP(B1655,Spiele!B:B,Spiele!D:D))","v":""},{"$f":"IF(B1655=\"\",\"\",LOOKUP(B1655,Spiele!B:B,Spiele!E:E))","v":""},{"$f":"IF(B1655=\"\",\"\",LOOKUP(B1655,Spiele!B:B,Spiele!F:F))","v":""},"","","",null,null,-1,-1,1,0]
[null,null,{"$f":"IF(B1656=\"\",\"\",LOOKUP(B1656,Spiele!B:B,Spiele!C:C))","v":""},{"$f":"IF(B1656=\"\",\"\",LOOKUP(B1656,Spiele!B:B,Spiele!D:D))","v":""},{"$f":"IF(B1656=\"\",\"\",LOOKUP(B1656,Spiele!B:B,Spiele!E:E))","v":""},{"$f":"IF(B1656=\"\",\"\",LOOKUP(B1656,Spiele!B:B,Spiele!F:F))","v":""},"","","",null,null,-1,-1,1,0]
[null,null,{"$f":"IF(B1657=\"\",\"\",LOOKUP(B1657,Spiele!B:B,Spiele!C:C))","v":""},{"$f":"IF(B1657=\"\",\"\",LOOKUP(B1657,Spiele!B:B,Spiele!D:D))","v":""},{"$f":"IF(B1657=\"\",\"\",LOOKUP(B1657,Spiele!B:B,Spiele!E:E))","v":""},{"$f":"IF(B1657=\"\",\"\",LOOKUP(B1657,Spiele!B:B,Spiele!F:F))","v":""},"","","",null,null,-1,-1,1,0]
[null,null,{"$f":"IF(B1658=\"\",\"\",LOOKUP(B1658,Spiele!B:B,Spiele!C:C))","v":""},{"$f":"IF(B1658=\"\",\"\",LOOKUP(B1658,Spiele!B:B,Spiele!D:D))","v":""},{"$f":"IF(B1658=\"\",\"\",LOOKUP(B1658,Spiele!B:B,Spiele!E:E))","v":""},{"$f":"IF(B1658=\"\",\"\",LOOKUP(B1658,Spiele!B:B,Spiele!F:F))","v":""},"","","",null,null,-1,-1,1,0]
[null,null,{"$f":"IF(B1659=\"\",\"\",LOOKUP(B1659,Spiele!B:B,Spiele!C:C))","v":""},{"$f":"IF(B1659=\"\",\"\",LOOKUP(B1659,Spiele!B:B,Spiele!D:D))","v":""},{"$f":"IF(B1659=\"\",\"\",LOOKUP(B1659,Spiele!B:B,Spiele!E:E))","v":""},{"$f":"IF(B1659=\"\",\"\",LOOKUP(B1659,Spiele!B:B,Spiele!F:F))","v":""},"","","",null,null,-1,-1,1,0]
[null,null,{"$f":"IF(B1660=\"\",\"\",LOOKUP(B1660,Spiele!B:B,Spiele!C:C))","v":""},{"$f":"IF(B1660=\"\",\"\",LOOKUP(B1660,Spiele!B:B,Spiele!D:D))","v":""},{"$f":"IF(B1660=\"\",\"\",LOOKUP(B1660,Spiele!B:B,Spiele!E:E))","v":""},{"$f":"IF(B1660=\"\",\"\",LOOKUP(B1660,Spiele!B:B,Spiele!F:F))","v":""},"","","",null,null,-1,-1,1,0]
[null,null,{"$f":"IF(B1661=\"\",\"\",LOOKUP(B1661,Spiele!B:B,Spiele!C:C))","v":""},{"$f":"IF(B1661=\"\",\"\",LOOKUP(B1661,Spiele!B:B,Spiele!D:D))","v":""},{"$f":"IF(B1661=\"\",\"\",LOOKUP(B1661,Spiele!B:B,Spiele!E:E))","v":""},{"$f":"IF(B1661=\"\",\"\",LOOKUP(B1661,Spiele!B:B,Spiele!F:F))","v":""},"","","",null,null,-1,-1,1,0]
[null,null,{"$f":"IF(B1662=\"\",\"\",LOOKUP(B1662,Spiele!B:B,Spiele!C:C))","v":""},{"$f":"IF(B1662=\"\",\"\",LOOKUP(B1662,Spiele!B:B,Spiele!D:D))","v":""},{"$f":"IF(B1662=\"\",\"\",LOOKUP(B1662,Spiele!B:B,Spiele!E:E))","v":""},{"$f":"IF(B1662=\"\",\"\",LOOKUP(B1662,Spiele!B:B,Spiele!F:F))","v":""},"","","",null,null,-1,-1,1,0]
[null,null,{"$f":"IF(B1663=\"\",\"\",LOOKUP(B1663,Spiele!B:B,Spiele!C:C))","v":""},{"$f":"IF(B1663=\"\",\"\",LOOKUP(B1663,Spiele!B:B,Spiele!D:D))","v":""},{"$f":"IF(B1663=\"\",\"\",LOOKUP(B1663,Spiele!B:B,Spiele!E:E))","v":""},{"$f":"IF(B1663=\"\",\"\",LOOKUP(B1663,Spiele!B:B,Spiele!F:F))","v":""},"","","",null,null,-1,-1,1,0]
[null,null,{"$f":"IF(B1664=\"\",\"\",LOOKUP(B1664,Spiele!B:B,Spiele!C:C))","v":""},{"$f":"IF(B1664=\"\",\"\",LOOKUP(B1664,Spiele!B:B,Spiele!D:D))","v":""},{"$f":"IF(B1664=\"\",\"\",LOOKUP(B1664,Spiele!B:B,Spiele!E:E))","v":""},{"$f":"IF(B1664=\"\",\"\",LOOKUP(B1664,Spiele!B:B,Spiele!F:F))","v":""},"","","",null,null,-1,-1,1,0]
[null,null,{"$f":"IF(B1665=\"\",\"\",LOOKUP(B1665,Spiele!B:B,Spiele!C:C))","v":""},{"$f":"IF(B1665=\"\",\"\",LOOKUP(B1665,Spiele!B:B,Spiele!D:D))","v":""},{"$f":"IF(B1665=\"\",\"\",LOOKUP(B1665,Spiele!B:B,Spiele!E:E))","v":""},{"$f":"IF(B1665=\"\",\"\",LOOKUP(B1665,Spiele!B:B,Spiele!F:F))","v":""},"","","",null,null,-1,-1,1,0]
[null,null,{"$f":"IF(B1666=\"\",\"\",LOOKUP(B1666,Spiele!B:B,Spiele!C:C))","v":""},{"$f":"IF(B1666=\"\",\"\",LOOKUP(B1666,Spiele!B:B,Spiele!D:D))","v":""},{"$f":"IF(B1666=\"\",\"\",LOOKUP(B1666,Spiele!B:B,Spiele!E:E))","v":""},{"$f":"IF(B1666=\"\",\"\",LOOKUP(B1666,Spiele!B:B,Spiele!F:F))","v":""},"","","",null,null,-1,-1,1,0]
[null,null,{"$f":"IF(B1667=\"\",\"\",LOOKUP(B1667,Spiele!B:B,Spiele!C:C))","v":""},{"$f":"IF(B1667=\"\",\"\",LOOKUP(B1667,Spiele!B:B,Spiele!D:D))","v":""},{"$f":"IF(B1667=\"\",\"\",LOOKUP(B1667,Spiele!B:B,Spiele!E:E))","v":""},{"$f":"IF(B1667=\"\",\"\",LOOKUP(B1667,Spiele!B:B,Spiele!F:F))","v":""},"","","",null,null,-1,-1,1,0]
[null,null,{"$f":"IF(B1668=\"\",\"\",LOOKUP(B1668,Spiele!B:B,Spiele!C:C))","v":""},{"$f":"IF(B1668=\"\",\"\",LOOKUP(B1668,Spiele!B:B,Spiele!D:D))","v":""},{"$f":"IF(B1668=\"\",\"\",LOOKUP(B1668,Spiele!B:B,Spiele!E:E))","v":""},{"$f":"IF(B1668=\"\",\"\",LOOKUP(B1668,Spiele!B:B,Spiele!F:F))","v":""},"","","",null,null,-1,-1,1,0]
[null,null,{"$f":"IF(B1669=\"\",\"\",LOOKUP(B1669,Spiele!B:B,Spiele!C:C))","v":""},{"$f":"IF(B1669=\"\",\"\",LOOKUP(B1669,Spiele!B:B,Spiele!D:D))","v":""},{"$f":"IF(B1669=\"\",\"\",LOOKUP(B1669,Spiele!B:B,Spiele!E:E))","v":""},{"$f":"IF(B1669=\"\",\"\",LOOKUP(B1669,Spiele!B:B,Spiele!F:F))","v":""},"","","",null,null,-1,-1,1,0]
[null,null,{"$f":"IF(B1670=\"\",\"\",LOOKUP(B1670,Spiele!B:B,Spiele!C:C))","v":""},{"$f":"IF(B1670=\"\",\"\",LOOKUP(B1670,Spiele!B:B,Spiele!D:D))","v":""},{"$f":"IF(B1670=\"\",\"\",LOOKUP(B1670,Spiele!B:B,Spiele!E:E))","v":""},{"$f":"IF(B1670=\"\",\"\",LOOKUP(B1670,Spiele!B:B,Spiele!F:F))","v":""},"","","",null,null,-1,-1,1,0]
[null,null,{"$f":"IF(B1671=\"\",\"\",LOOKUP(B1671,Spiele!B:B,Spiele!C:C))","v":""},{"$f":"IF(B1671=\"\",\"\",LOOKUP(B1671,Spiele!B:B,Spiele!D:D))","v":""},{"$f":"IF(B1671=\"\",\"\",LOOKUP(B1671,Spiele!B:B,Spiele!E:E))","v":""},{"$f":"IF(B1671=\"\",\"\",LOOKUP(B1671,Spiele!B:B,Spiele!F:F))","v":""},"","","",null,null,-1,-1,1,0]
[null,null,{"$f":"IF(B1672=\"\",\"\",LOOKUP(B1672,Spiele!B:B,Spiele!C:C))","v":""},{"$f":"IF(B1672=\"\",\"\",LOOKUP(B1672,Spiele!B:B,Spiele!D:D))","v":""},{"$f":"IF(B1672=\"\",\"\",LOOKUP(B1672,Spiele!B:B,Spiele!E:E))","v":""},{"$f":"IF(B1672=\"\",\"\",LOOKUP(B1672,Spiele!B:B,Spiele!F:F))","v":""},"","","",null,null,-1,-1,1,0]
[null,null,{"$f":"IF(B1673=\"\",\"\",LOOKUP(B1673,Spiele!B:B,Spiele!C:C))","v":""},{"$f":"IF(B1673=\"\",\"\",LOOKUP(B1673,Spiele!B:B,Spiele!D:D))","v":""},{"$f":"IF(B1673=\"\",\"\",LOOKUP(B1673,Spiele!B:B,Spiele!E:E))","v":""},{"$f":"IF(B1673=\"\",\"\",LOOKUP(B1673,Spiele!B:B,Spiele!F:F))","v":""},"","","",null,null,-1,-1,1,0]
[null,null,{"$f":"IF(B1674=\"\",\"\",LOOKUP(B1674,Spiele!B:B,Spiele!C:C))","v":""},{"$f":"IF(B1674=\"\",\"\",LOOKUP(B1674,Spiele!B:B,Spiele!D:D))","v":""},{"$f":"IF(B1674=\"\",\"\",LOOKUP(B1674,Spiele!B:B,Spiele!E:E))","v":""},{"$f":"IF(B1674=\"\",\"\",LOOKUP(B1674,Spiele!B:B,Spiele!F:F))","v":""},"","","",null,null,-1,-1,1,0]
[null,null,{"$f":"IF(B1675=\"\",\"\",LOOKUP(B1675,Spiele!B:B,Spiele!C:C))","v":""},{"$f":"IF(B1675=\"\",\"\",LOOKUP(B1675,Spiele!B:B,Spiele!D:D))","v":""},{"$f":"IF(B1675=\"\",\"\",LOOKUP(B1675,Spiele!B:B,Spiele!E:E))","v":""},{"$f":"IF(B1675=\"\",\"\",LOOKUP(B1675,Spiele!B:B,Spiele!F:F))","v":""},"","","",null,null,-1,-1,1,0]
[null,null,{"$f":"IF(B1676=\"\",\"\",LOOKUP(B1676,Spiele!B:B,Spiele!C:C))","v":""},{"$f":"IF(B1676=\"\",\"\",LOOKUP(B1676,Spiele!B:B,Spiele!D:D))","v":""},{"$f":"IF(B1676=\"\",\"\",LOOKUP(B1676,Spiele!B:B,Spiele!E:E))","v":""},{"$f":"IF(B1676=\"\",\"\",LOOKUP(B1676,Spiele!B:B,Spiele!F:F))","v":""},"","","",null,null,-1,-1,1,0]
[null,null,{"$f":"IF(B1677=\"\",\"\",LOOKUP(B1677,Spiele!B:B,Spiele!C:C))","v":""},{"$f":"IF(B1677=\"\",\"\",LOOKUP(B1677,Spiele!B:B,Spiele!D:D))","v":""},{"$f":"IF(B1677=\"\",\"\",LOOKUP(B1677,Spiele!B:B,Spiele!E:E))","v":""},{"$f":"IF(B1677=\"\",\"\",LOOKUP(B1677,Spiele!B:B,Spiele!F:F))","v":""},"","","",null,null,-1,-1,1,0]
[null,null,{"$f":"IF(B1678=\"\",\"\",LOOKUP(B1678,Spiele!B:B,Spiele!C:C))","v":""},{"$f":"IF(B1678=\"\",\"\",LOOKUP(B1678,Spiele!B:B,Spiele!D:D))","v":""},{"$f":"IF(B1678=\"\",\"\",LOOKUP(B1678,Spiele!B:B,Spiele!E:E))","v":""},{"$f":"IF(B1678=\"\",\"\",LOOKUP(B1678,Spiele!B:B,Spiele!F:F))","v":""},"","","",null,null,-1,-1,1,0]
[null,null,{"$f":"IF(B1679=\"\",\"\",LOOKUP(B1679,Spiele!B:B,Spiele!C:C))","v":""},{"$f":"IF(B1679=\"\",\"\",LOOKUP(B1679,Spiele!B:B,Spiele!D:D))","v":""},{"$f":"IF(B1679=\"\",\"\",LOOKUP(B1679,Spiele!B:B,Spiele!E:E))","v":""},{"$f":"IF(B1679=\"\",\"\",LOOKUP(B1679,Spiele!B:B,Spiele!F:F))","v":""},"","","",null,null,-1,-1,1,0]
[null,null,{"$f":"IF(B1680=\"\",\"\",LOOKUP(B1680,Spiele!B:B,Spiele!C:C))","v":""},{"$f":"IF(B1680=\"\",\"\",LOOKUP(B1680,Spiele!B:B,Spiele!D:D))","v":""},{"$f":"IF(B1680=\"\",\"\",LOOKUP(B1680,Spiele!B:B,Spiele!E:E))","v":""},{"$f":"IF(B1680=\"\",\"\",LOOKUP(B1680,Spiele!B:B,Spiele!F:F))","v":""},"","","",null,null,-1,-1,1,0]
[null,null,{"$f":"IF(B1681=\"\",\"\",LOOKUP(B1681,Spiele!B:B,Spiele!C:C))","v":""},{"$f":"IF(B1681=\"\",\"\",LOOKUP(B1681,Spiele!B:B,Spiele!D:D))","v":""},{"$f":"IF(B1681=\"\",\"\",LOOKUP(B1681,Spiele!B:B,Spiele!E:E))","v":""},{"$f":"IF(B1681=\"\",\"\",LOOKUP(B1681,Spiele!B:B,Spiele!F:F))","v":""},"","","",null,null,-1,-1,1,0]
[null,null,{"$f":"IF(B1682=\"\",\"\",LOOKUP(B1682,Spiele!B:B,Spiele!C:C))","v":""},{"$f":"IF(B1682=\"\",\"\",LOOKUP(B1682,Spiele!B:B,Spiele!D:D))","v":""},{"$f":"IF(B1682=\"\",\"\",LOOKUP(B1682,Spiele!B:B,Spiele!E:E))","v":""},{"$f":"IF(B1682=\"\",\"\",LOOKUP(B1682,Spiele!B:B,Spiele!F:F))","v":""},"","","",null,null,-1,-1,1,0]
[null,null,{"$f":"IF(B1683=\"\",\"\",LOOKUP(B1683,Spiele!B:B,Spiele!C:C))","v":""},{"$f":"IF(B1683=\"\",\"\",LOOKUP(B1683,Spiele!B:B,Spiele!D:D))","v":""},{"$f":"IF(B1683=\"\",\"\",LOOKUP(B1683,Spiele!B:B,Spiele!E:E))","v":""},{"$f":"IF(B1683=\"\",\"\",LOOKUP(B1683,Spiele!B:B,Spiele!F:F))","v":""},"","","",null,null,-1,-1,1,0]
[null,null,{"$f":"IF(B1684=\"\",\"\",LOOKUP(B1684,Spiele!B:B,Spiele!C:C))","v":""},{"$f":"IF(B1684=\"\",\"\",LOOKUP(B1684,Spiele!B:B,Spiele!D:D))","v":""},{"$f":"IF(B1684=\"\",\"\",LOOKUP(B1684,Spiele!B:B,Spiele!E:E))","v":""},{"$f":"IF(B1684=\"\",\"\",LOOKUP(B1684,Spiele!B:B,Spiele!F:F))","v":""},"","","",null,null,-1,-1,1,0]
[null,null,{"$f":"IF(B1685=\"\",\"\",LOOKUP(B1685,Spiele!B:B,Spiele!C:C))","v":""},{"$f":"IF(B1685=\"\",\"\",LOOKUP(B1685,Spiele!B:B,Spiele!D:D))","v":""},{"$f":"IF(B1685=\"\",\"\",LOOKUP(B1685,Spiele!B:B,Spiele!E:E))","v":""},{"$f":"IF(B1685=\"\",\"\",LOOKUP(B1685,Spiele!B:B,Spiele!F:F))","v":""},"","","",null,null,-1,-1,1,0]
[null,null,{"$f":"IF(B1686=\"\",\"\",LOOKUP(B1686,Spiele!B:B,Spiele!C:C))","v":""},{"$f":"IF(B1686=\"\",\"\",LOOKUP(B1686,Spiele!B:B,Spiele!D:D))","v":""},{"$f":"IF(B1686=\"\",\"\",LOOKUP(B1686,Spiele!B:B,Spiele!E:E))","v":""},{"$f":"IF(B1686=\"\",\"\",LOOKUP(B1686,Spiele!B:B,Spiele!F:F))","v":""},"","","",null,null,-1,-1,1,0]
[null,null,{"$f":"IF(B1687=\"\",\"\",LOOKUP(B1687,Spiele!B:B,Spiele!C:C))","v":""},{"$f":"IF(B1687=\"\",\"\",LOOKUP(B1687,Spiele!B:B,Spiele!D:D))","v":""},{"$f":"IF(B1687=\"\",\"\",LOOKUP(B1687,Spiele!B:B,Spiele!E:E))","v":""},{"$f":"IF(B1687=\"\",\"\",LOOKUP(B1687,Spiele!B:B,Spiele!F:F))","v":""},"","","",null,null,-1,-1,1,0]
[null,null,{"$f":"IF(B1688=\"\",\"\",LOOKUP(B1688,Spiele!B:B,Spiele!C:C))","v":""},{"$f":"IF(B1688=\"\",\"\",LOOKUP(B1688,Spiele!B:B,Spiele!D:D))","v":""},{"$f":"IF(B1688=\"\",\"\",LOOKUP(B1688,Spiele!B:B,Spiele!E:E))","v":""},{"$f":"IF(B1688=\"\",\"\",LOOKUP(B1688,Spiele!B:B,Spiele!F:F))","v":""},"","","",null,null,-1,-1,1,0]
[null,null,{"$f":"IF(B1689=\"\",\"\",LOOKUP(B1689,Spiele!B:B,Spiele!C:C))","v":""},{"$f":"IF(B1689=\"\",\"\",LOOKUP(B1689,Spiele!B:B,Spiele!D:D))","v":""},{"$f":"IF(B1689=\"\",\"\",LOOKUP(B1689,Spiele!B:B,Spiele!E:E))","v":""},{"$f":"IF(B1689=\"\",\"\",LOOKUP(B1689,Spiele!B:B,Spiele!F:F))","v":""},"","","",null,null,-1,-1,1,0]
[null,null,{"$f":"IF(B1690=\"\",\"\",LOOKUP(B1690,Spiele!B:B,Spiele!C:C))","v":""},{"$f":"IF(B1690=\"\",\"\",LOOKUP(B1690,Spiele!B:B,Spiele!D:D))","v":""},{"$f":"IF(B1690=\"\",\"\",LOOKUP(B1690,Spiele!B:B,Spiele!E:E))","v":""},{"$f":"IF(B1690=\"\",\"\",LOOKUP(B1690,Spiele!B:B,Spiele!F:F))","v":""},"","","",null,null,-1,-1,1,0]
[null,null,{"$f":"IF(B1691=\"\",\"\",LOOKUP(B1691,Spiele!B:B,Spiele!C:C))","v":""},{"$f":"IF(B1691=\"\",\"\",LOOKUP(B1691,Spiele!B:B,Spiele!D:D))","v":""},{"$f":"IF(B1691=\"\",\"\",LOOKUP(B1691,Spiele!B:B,Spiele!E:E))","v":""},{"$f":"IF(B1691=\"\",\"\",LOOKUP(B1691,Spiele!B:B,Spiele!F:F))","v":""},"","","",null,null,-1,-1,1,0]
[null,null,{"$f":"IF(B1692=\"\",\"\",LOOKUP(B1692,Spiele!B:B,Spiele!C:C))","v":""},{"$f":"IF(B1692=\"\",\"\",LOOKUP(B1692,Spiele!B:B,Spiele!D:D))","v":""},{"$f":"IF(B1692=\"\",\"\",LOOKUP(B1692,Spiele!B:B,Spiele!E:E))","v":""},{"$f":"IF(B1692=\"\",\"\",LOOKUP(B1692,Spiele!B:B,Spiele!F:F))","v":""},"","","",null,null,-1,-1,1,0]
[null,null,{"$f":"IF(B1693=\"\",\"\",LOOKUP(B1693,Spiele!B:B,Spiele!C:C))","v":""},{"$f":"IF(B1693=\"\",\"\",LOOKUP(B1693,Spiele!B:B,Spiele!D:D))","v":""},{"$f":"IF(B1693=\"\",\"\",LOOKUP(B1693,Spiele!B:B,Spiele!E:E))","v":""},{"$f":"IF(B1693=\"\",\"\",LOOKUP(B1693,Spiele!B:B,Spiele!F:F))","v":""},"","","",null,null,-1,-1,1,0]
[null,null,{"$f":"IF(B1694=\"\",\"\",LOOKUP(B1694,Spiele!B:B,Spiele!C:C))","v":""},{"$f":"IF(B1694=\"\",\"\",LOOKUP(B1694,Spiele!B:B,Spiele!D:D))","v":""},{"$f":"IF(B1694=\"\",\"\",LOOKUP(B1694,Spiele!B:B,Spiele!E:E))","v":""},{"$f":"IF(B1694=\"\",\"\",LOOKUP(B1694,Spiele!B:B,Spiele!F:F))","v":""},"","","",null,null,-1,-1,1,0]
[null,null,{"$f":"IF(B1695=\"\",\"\",LOOKUP(B1695,Spiele!B:B,Spiele!C:C))","v":""},{"$f":"IF(B1695=\"\",\"\",LOOKUP(B1695,Spiele!B:B,Spiele!D:D))","v":""},{"$f":"IF(B1695=\"\",\"\",LOOKUP(B1695,Spiele!B:B,Spiele!E:E))","v":""},{"$f":"IF(B1695=\"\",\"\",LOOKUP(B1695,Spiele!B:B,Spiele!F:F))","v":""},"","","",null,null,-1,-1,1,0]
[null,null,{"$f":"IF(B1696=\"\",\"\",LOOKUP(B1696,Spiele!B:B,Spiele!C:C))","v":""},{"$f":"IF(B1696=\"\",\"\",LOOKUP(B1696,Spiele!B:B,Spiele!D:D))","v":""},{"$f":"IF(B1696=\"\",\"\",LOOKUP(B1696,Spiele!B:B,Spiele!E:E))","v":""},{"$f":"IF(B1696=\"\",\"\",LOOKUP(B1696,Spiele!B:B,Spiele!F:F))","v":""},"","","",null,null,-1,-1,1,0]
[null,null,{"$f":"IF(B1697=\"\",\"\",LOOKUP(B1697,Spiele!B:B,Spiele!C:C))","v":""},{"$f":"IF(B1697=\"\",\"\",LOOKUP(B1697,Spiele!B:B,Spiele!D:D))","v":""},{"$f":"IF(B1697=\"\",\"\",LOOKUP(B1697,Spiele!B:B,Spiele!E:E))","v":""},{"$f":"IF(B1697=\"\",\"\",LOOKUP(B1697,Spiele!B:B,Spiele!F:F))","v":""},"","","",null,null,-1,-1,1,0]
[null,null,{"$f":"IF(B1698=\"\",\"\",LOOKUP(B1698,Spiele!B:B,Spiele!C:C))","v":""},{"$f":"IF(B1698=\"\",\"\",LOOKUP(B1698,Spiele!B:B,Spiele!D:D))","v":""},{"$f":"IF(B1698=\"\",\"\",LOOKUP(B1698,Spiele!B:B,Spiele!E:E))","v":""},{"$f":"IF(B1698=\"\",\"\",LOOKUP(B1698,Spiele!B:B,Spiele!F:F))","v":""},"","","",null,null,-1,-1,1,0]
[null,null,{"$f":"IF(B1699=\"\",\"\",LOOKUP(B1699,Spiele!B:B,Spiele!C:C))","v":""},{"$f":"IF(B1699=\"\",\"\",LOOKUP(B1699,Spiele!B:B,Spiele!D:D))","v":""},{"$f":"IF(B1699=\"\",\"\",LOOKUP(B1699,Spiele!B:B,Spiele!E:E))","v":""},{"$f":"IF(B1699=\"\",\"\",LOOKUP(B1699,Spiele!B:B,Spiele!F:F))","v":""},"","","",null,null,-1,-1,1,0]
[null,null,{"$f":"IF(B1700=\"\",\"\",LOOKUP(B1700,Spiele!B:B,Spiele!C:C))","v":""},{"$f":"IF(B1700=\"\",\"\",LOOKUP(B1700,Spiele!B:B,Spiele!D:D))","v":""},{"$f":"IF(B1700=\"\",\"\",LOOKUP(B1700,Spiele!B:B,Spiele!E:E))","v":""},{"$f":"IF(B1700=\"\",\"\",LOOKUP(B1700,Spiele!B:B,Spiele!F:F))","v":""},"","","",null,null,-1,-1,1,0]
[null,null,{"$f":"IF(B1701=\"\",\"\",LOOKUP(B1701,Spiele!B:B,Spiele!C:C))","v":""},{"$f":"IF(B1701=\"\",\"\",LOOKUP(B1701,Spiele!B:B,Spiele!D:D))","v":""},{"$f":"IF(B1701=\"\",\"\",LOOKUP(B1701,Spiele!B:B,Spiele!E:E))","v":""},{"$f":"IF(B1701=\"\",\"\",LOOKUP(B1701,Spiele!B:B,Spiele!F:F))","v":""},"","","",null,null,-1,-1,1,0]
[null,null,{"$f":"IF(B1702=\"\",\"\",LOOKUP(B1702,Spiele!B:B,Spiele!C:C))","v":""},{"$f":"IF(B1702=\"\",\"\",LOOKUP(B1702,Spiele!B:B,Spiele!D:D))","v":""},{"$f":"IF(B1702=\"\",\"\",LOOKUP(B1702,Spiele!B:B,Spiele!E:E))","v":""},{"$f":"IF(B1702=\"\",\"\",LOOKUP(B1702,Spiele!B:B,Spiele!F:F))","v":""},"","","",null,null,-1,-1,1,0]
[null,null,{"$f":"IF(B1703=\"\",\"\",LOOKUP(B1703,Spiele!B:B,Spiele!C:C))","v":""},{"$f":"IF(B1703=\"\",\"\",LOOKUP(B1703,Spiele!B:B,Spiele!D:D))","v":""},{"$f":"IF(B1703=\"\",\"\",LOOKUP(B1703,Spiele!B:B,Spiele!E:E))","v":""},{"$f":"IF(B1703=\"\",\"\",LOOKUP(B1703,Spiele!B:B,Spiele!F:F))","v":""},"","","",null,null,-1,-1,1,0]
[null,null,{"$f":"IF(B1704=\"\",\"\",LOOKUP(B1704,Spiele!B:B,Spiele!C:C))","v":""},{"$f":"IF(B1704=\"\",\"\",LOOKUP(B1704,Spiele!B:B,Spiele!D:D))","v":""},{"$f":"IF(B1704=\"\",\"\",LOOKUP(B1704,Spiele!B:B,Spiele!E:E))","v":""},{"$f":"IF(B1704=\"\",\"\",LOOKUP(B1704,Spiele!B:B,Spiele!F:F))","v":""},"","","",null,null,-1,-1,1,0]
[null,null,{"$f":"IF(B1705=\"\",\"\",LOOKUP(B1705,Spiele!B:B,Spiele!C:C))","v":""},{"$f":"IF(B1705=\"\",\"\",LOOKUP(B1705,Spiele!B:B,Spiele!D:D))","v":""},{"$f":"IF(B1705=\"\",\"\",LOOKUP(B1705,Spiele!B:B,Spiele!E:E))","v":""},{"$f":"IF(B1705=\"\",\"\",LOOKUP(B1705,Spiele!B:B,Spiele!F:F))","v":""},"","","",null,null,-1,-1,1,0]
[null,null,{"$f":"IF(B1706=\"\",\"\",LOOKUP(B1706,Spiele!B:B,Spiele!C:C))","v":""},{"$f":"IF(B1706=\"\",\"\",LOOKUP(B1706,Spiele!B:B,Spiele!D:D))","v":""},{"$f":"IF(B1706=\"\",\"\",LOOKUP(B1706,Spiele!B:B,Spiele!E:E))","v":""},{"$f":"IF(B1706=\"\",\"\",LOOKUP(B1706,Spiele!B:B,Spiele!F:F))","v":""},{"$f":"IF(E1706=\"\",\"\",IF(E1706>F1706,1,0))","v":""},{"$f":"IF(F1706=\"\",\"\",IF(E1706<F1706,1,0))","v":""},{"$f":"IF(E1706=\"\",\"\",IF(E1706=F1706,1,0))","v":""},null,null,{"$f":"IF(E1706=\"\",-1,IF(J1706>K1706,1,-1))","v":-1},{"$f":"IF(F1706=\"\",-1,IF(J1706<K1706,1,-1))","v":-1},{"$f":"IF(E1706=\"-\",-1,IF(J1706=K1706,1,-1))","v":1},{"$f":"IF(E1706=\"\",0,IF(E1706=J1706,1,0)+IF(F1706=K1706,1,0)+IF(G1706=L1706,1,0)+IF(H1706=M1706,1,0)+IF(I1706=N1706,1,0))","v":0}]
[null,null,{"$f":"IF(B1707=\"\",\"\",LOOKUP(B1707,Spiele!B:B,Spiele!C:C))","v":""},{"$f":"IF(B1707=\"\",\"\",LOOKUP(B1707,Spiele!B:B,Spiele!D:D))","v":""},{"$f":"IF(B1707=\"\",\"\",LOOKUP(B1707,Spiele!B:B,Spiele!E:E))","v":""},{"$f":"IF(B1707=\"\",\"\",LOOKUP(B1707,Spiele!B:B,Spiele!F:F))","v":""},"","","",null,null,-1,-1,1,0]
[null,null,{"$f":"IF(B1708=\"\",\"\",LOOKUP(B1708,Spiele!B:B,Spiele!C:C))","v":""},{"$f":"IF(B1708=\"\",\"\",LOOKUP(B1708,Spiele!B:B,Spiele!D:D))","v":""},{"$f":"IF(B1708=\"\",\"\",LOOKUP(B1708,Spiele!B:B,Spiele!E:E))","v":""},{"$f":"IF(B1708=\"\",\"\",LOOKUP(B1708,Spiele!B:B,Spiele!F:F))","v":""},"","","",null,null,-1,-1,1,0]
[null,null,{"$f":"IF(B1709=\"\",\"\",LOOKUP(B1709,Spiele!B:B,Spiele!C:C))","v":""},{"$f":"IF(B1709=\"\",\"\",LOOKUP(B1709,Spiele!B:B,Spiele!D:D))","v":""},{"$f":"IF(B1709=\"\",\"\",LOOKUP(B1709,Spiele!B:B,Spiele!E:E))","v":""},{"$f":"IF(B1709=\"\",\"\",LOOKUP(B1709,Spiele!B:B,Spiele!F:F))","v":""},"","","",null,null,-1,-1,1,0]
[null,null,{"$f":"IF(B1710=\"\",\"\",LOOKUP(B1710,Spiele!B:B,Spiele!C:C))","v":""},{"$f":"IF(B1710=\"\",\"\",LOOKUP(B1710,Spiele!B:B,Spiele!D:D))","v":""},{"$f":"IF(B1710=\"\",\"\",LOOKUP(B1710,Spiele!B:B,Spiele!E:E))","v":""},{"$f":"IF(B1710=\"\",\"\",LOOKUP(B1710,Spiele!B:B,Spiele!F:F))","v":""},"","","",null,null,-1,-1,1,0]
[null,null,{"$f":"IF(B1711=\"\",\"\",LOOKUP(B1711,Spiele!B:B,Spiele!C:C))","v":""},{"$f":"IF(B1711=\"\",\"\",LOOKUP(B1711,Spiele!B:B,Spiele!D:D))","v":""},{"$f":"IF(B1711=\"\",\"\",LOOKUP(B1711,Spiele!B:B,Spiele!E:E))","v":""},{"$f":"IF(B1711=\"\",\"\",LOOKUP(B1711,Spiele!B:B,Spiele!F:F))","v":""},"","","",null,null,-1,-1,1,0]
[null,null,{"$f":"IF(B1712=\"\",\"\",LOOKUP(B1712,Spiele!B:B,Spiele!C:C))","v":""},{"$f":"IF(B1712=\"\",\"\",LOOKUP(B1712,Spiele!B:B,Spiele!D:D))","v":""},{"$f":"IF(B1712=\"\",\"\",LOOKUP(B1712,Spiele!B:B,Spiele!E:E))","v":""},{"$f":"IF(B1712=\"\",\"\",LOOKUP(B1712,Spiele!B:B,Spiele!F:F))","v":""},"","","",null,null,-1,-1,1,0]
[null,null,{"$f":"IF(B1713=\"\",\"\",LOOKUP(B1713,Spiele!B:B,Spiele!C:C))","v":""},{"$f":"IF(B1713=\"\",\"\",LOOKUP(B1713,Spiele!B:B,Spiele!D:D))","v":""},{"$f":"IF(B1713=\"\",\"\",LOOKUP(B1713,Spiele!B:B,Spiele!E:E))","v":""},{"$f":"IF(B1713=\"\",\"\",LOOKUP(B1713,Spiele!B:B,Spiele!F:F))","v":""},"","","",null,null,-1,-1,1,0]
[null,null,{"$f":"IF(B1714=\"\",\"\",LOOKUP(B1714,Spiele!B:B,Spiele!C:C))","v":""},{"$f":"IF(B1714=\"\",\"\",LOOKUP(B1714,Spiele!B:B,Spiele!D:D))","v":""},{"$f":"IF(B1714=\"\",\"\",LOOKUP(B1714,Spiele!B:B,Spiele!E:E))","v":""},{"$f":"IF(B1714=\"\",\"\",LOOKUP(B1714,Spiele!B:B,Spiele!F:F))","v":""},"","","",null,null,-1,-1,1,0]
[null,null,{"$f":"IF(B1715=\"\",\"\",LOOKUP(B1715,Spiele!B:B,Spiele!C:C))","v":""},{"$f":"IF(B1715=\"\",\"\",LOOKUP(B1715,Spiele!B:B,Spiele!D:D))","v":""},{"$f":"IF(B1715=\"\",\"\",LOOKUP(B1715,Spiele!B:B,Spiele!E:E))","v":""},{"$f":"IF(B1715=\"\",\"\",LOOKUP(B1715,Spiele!B:B,Spiele!F:F))","v":""},"","","",null,null,-1,-1,1,0]
[null,null,{"$f":"IF(B1716=\"\",\"\",LOOKUP(B1716,Spiele!B:B,Spiele!C:C))","v":""},{"$f":"IF(B1716=\"\",\"\",LOOKUP(B1716,Spiele!B:B,Spiele!D:D))","v":""},{"$f":"IF(B1716=\"\",\"\",LOOKUP(B1716,Spiele!B:B,Spiele!E:E))","v":""},{"$f":"IF(B1716=\"\",\"\",LOOKUP(B1716,Spiele!B:B,Spiele!F:F))","v":""},"","","",null,null,-1,-1,1,0]
[null,null,{"$f":"IF(B1717=\"\",\"\",LOOKUP(B1717,Spiele!B:B,Spiele!C:C))","v":""},{"$f":"IF(B1717=\"\",\"\",LOOKUP(B1717,Spiele!B:B,Spiele!D:D))","v":""},{"$f":"IF(B1717=\"\",\"\",LOOKUP(B1717,Spiele!B:B,Spiele!E:E))","v":""},{"$f":"IF(B1717=\"\",\"\",LOOKUP(B1717,Spiele!B:B,Spiele!F:F))","v":""},"","","",null,null,-1,-1,1,0]
[null,null,{"$f":"IF(B1718=\"\",\"\",LOOKUP(B1718,Spiele!B:B,Spiele!C:C))","v":""},{"$f":"IF(B1718=\"\",\"\",LOOKUP(B1718,Spiele!B:B,Spiele!D:D))","v":""},{"$f":"IF(B1718=\"\",\"\",LOOKUP(B1718,Spiele!B:B,Spiele!E:E))","v":""},{"$f":"IF(B1718=\"\",\"\",LOOKUP(B1718,Spiele!B:B,Spiele!F:F))","v":""},"","","",null,null,-1,-1,1,0]
[null,null,{"$f":"IF(B1719=\"\",\"\",LOOKUP(B1719,Spiele!B:B,Spiele!C:C))","v":""},{"$f":"IF(B1719=\"\",\"\",LOOKUP(B1719,Spiele!B:B,Spiele!D:D))","v":""},{"$f":"IF(B1719=\"\",\"\",LOOKUP(B1719,Spiele!B:B,Spiele!E:E))","v":""},{"$f":"IF(B1719=\"\",\"\",LOOKUP(B1719,Spiele!B:B,Spiele!F:F))","v":""},"","","",null,null,-1,-1,1,0]
[null,null,{"$f":"IF(B1720=\"\",\"\",LOOKUP(B1720,Spiele!B:B,Spiele!C:C))","v":""},{"$f":"IF(B1720=\"\",\"\",LOOKUP(B1720,Spiele!B:B,Spiele!D:D))","v":""},{"$f":"IF(B1720=\"\",\"\",LOOKUP(B1720,Spiele!B:B,Spiele!E:E))","v":""},{"$f":"IF(B1720=\"\",\"\",LOOKUP(B1720,Spiele!B:B,Spiele!F:F))","v":""},"","","",null,null,-1,-1,1,0]
[null,null,{"$f":"IF(B1721=\"\",\"\",LOOKUP(B1721,Spiele!B:B,Spiele!C:C))","v":""},{"$f":"IF(B1721=\"\",\"\",LOOKUP(B1721,Spiele!B:B,Spiele!D:D))","v":""},{"$f":"IF(B1721=\"\",\"\",LOOKUP(B1721,Spiele!B:B,Spiele!E:E))","v":""},{"$f":"IF(B1721=\"\",\"\",LOOKUP(B1721,Spiele!B:B,Spiele!F:F))","v":""},"","","",null,null,-1,-1,1,0]
[null,null,{"$f":"IF(B1722=\"\",\"\",LOOKUP(B1722,Spiele!B:B,Spiele!C:C))","v":""},{"$f":"IF(B1722=\"\",\"\",LOOKUP(B1722,Spiele!B:B,Spiele!D:D))","v":""},{"$f":"IF(B1722=\"\",\"\",LOOKUP(B1722,Spiele!B:B,Spiele!E:E))","v":""},{"$f":"IF(B1722=\"\",\"\",LOOKUP(B1722,Spiele!B:B,Spiele!F:F))","v":""},"","","",null,null,-1,-1,1,0]
[null,null,{"$f":"IF(B1723=\"\",\"\",LOOKUP(B1723,Spiele!B:B,Spiele!C:C))","v":""},{"$f":"IF(B1723=\"\",\"\",LOOKUP(B1723,Spiele!B:B,Spiele!D:D))","v":""},{"$f":"IF(B1723=\"\",\"\",LOOKUP(B1723,Spiele!B:B,Spiele!E:E))","v":""},{"$f":"IF(B1723=\"\",\"\",LOOKUP(B1723,Spiele!B:B,Spiele!F:F))","v":""},"","","",null,null,-1,-1,1,0]
[null,null,{"$f":"IF(B1724=\"\",\"\",LOOKUP(B1724,Spiele!B:B,Spiele!C:C))","v":""},{"$f":"IF(B1724=\"\",\"\",LOOKUP(B1724,Spiele!B:B,Spiele!D:D))","v":""},{"$f":"IF(B1724=\"\",\"\",LOOKUP(B1724,Spiele!B:B,Spiele!E:E))","v":""},{"$f":"IF(B1724=\"\",\"\",LOOKUP(B1724,Spiele!B:B,Spiele!F:F))","v":""},"","","",null,null,-1,-1,1,0]
[null,null,{"$f":"IF(B1725=\"\",\"\",LOOKUP(B1725,Spiele!B:B,Spiele!C:C))","v":""},{"$f":"IF(B1725=\"\",\"\",LOOKUP(B1725,Spiele!B:B,Spiele!D:D))","v":""},{"$f":"IF(B1725=\"\",\"\",LOOKUP(B1725,Spiele!B:B,Spiele!E:E))","v":""},{"$f":"IF(B1725=\"\",\"\",LOOKUP(B1725,Spiele!B:B,Spiele!F:F))","v":""},"","","",null,null,-1,-1,1,0]
[null,null,{"$f":"IF(B1726=\"\",\"\",LOOKUP(B1726,Spiele!B:B,Spiele!C:C))","v":""},{"$f":"IF(B1726=\"\",\"\",LOOKUP(B1726,Spiele!B:B,Spiele!D:D))","v":""},{"$f":"IF(B1726=\"\",\"\",LOOKUP(B1726,Spiele!B:B,Spiele!E:E))","v":""},{"$f":"IF(B1726=\"\",\"\",LOOKUP(B1726,Spiele!B:B,Spiele!F:F))","v":""},"","","",null,null,-1,-1,1,0]
[null,null,{"$f":"IF(B1727=\"\",\"\",LOOKUP(B1727,Spiele!B:B,Spiele!C:C))","v":""},{"$f":"IF(B1727=\"\",\"\",LOOKUP(B1727,Spiele!B:B,Spiele!D:D))","v":""},{"$f":"IF(B1727=\"\",\"\",LOOKUP(B1727,Spiele!B:B,Spiele!E:E))","v":""},{"$f":"IF(B1727=\"\",\"\",LOOKUP(B1727,Spiele!B:B,Spiele!F:F))","v":""},"","","",null,null,-1,-1,1,0]
[null,null,{"$f":"IF(B1728=\"\",\"\",LOOKUP(B1728,Spiele!B:B,Spiele!C:C))","v":""},{"$f":"IF(B1728=\"\",\"\",LOOKUP(B1728,Spiele!B:B,Spiele!D:D))","v":""},{"$f":"IF(B1728=\"\",\"\",LOOKUP(B1728,Spiele!B:B,Spiele!E:E))","v":""},{"$f":"IF(B1728=\"\",\"\",LOOKUP(B1728,Spiele!B:B,Spiele!F:F))","v":""},"","","",null,null,-1,-1,1,0]
[null,null,{"$f":"IF(B1729=\"\",\"\",LOOKUP(B1729,Spiele!B:B,Spiele!C:C))","v":""},{"$f":"IF(B1729=\"\",\"\",LOOKUP(B1729,Spiele!B:B,Spiele!D:D))","v":""},{"$f":"IF(B1729=\"\",\"\",LOOKUP(B1729,Spiele!B:B,Spiele!E:E))","v":""},{"$f":"IF(B1729=\"\",\"\",LOOKUP(B1729,Spiele!B:B,Spiele!F:F))","v":""},"","","",null,null,-1,-1,1,0]
[null,null,{"$f":"IF(B1730=\"\",\"\",LOOKUP(B1730,Spiele!B:B,Spiele!C:C))","v":""},{"$f":"IF(B1730=\"\",\"\",LOOKUP(B1730,Spiele!B:B,Spiele!D:D))","v":""},{"$f":"IF(B1730=\"\",\"\",LOOKUP(B1730,Spiele!B:B,Spiele!E:E))","v":""},{"$f":"IF(B1730=\"\",\"\",LOOKUP(B1730,Spiele!B:B,Spiele!F:F))","v":""},"","","",null,null,-1,-1,1,0]
[null,null,{"$f":"IF(B1731=\"\",\"\",LOOKUP(B1731,Spiele!B:B,Spiele!C:C))","v":""},{"$f":"IF(B1731=\"\",\"\",LOOKUP(B1731,Spiele!B:B,Spiele!D:D))","v":""},{"$f":"IF(B1731=\"\",\"\",LOOKUP(B1731,Spiele!B:B,Spiele!E:E))","v":""},{"$f":"IF(B1731=\"\",\"\",LOOKUP(B1731,Spiele!B:B,Spiele!F:F))","v":""},"","","",null,null,-1,-1,1,0]
[null,null,{"$f":"IF(B1732=\"\",\"\",LOOKUP(B1732,Spiele!B:B,Spiele!C:C))","v":""},{"$f":"IF(B1732=\"\",\"\",LOOKUP(B1732,Spiele!B:B,Spiele!D:D))","v":""},{"$f":"IF(B1732=\"\",\"\",LOOKUP(B1732,Spiele!B:B,Spiele!E:E))","v":""},{"$f":"IF(B1732=\"\",\"\",LOOKUP(B1732,Spiele!B:B,Spiele!F:F))","v":""},"","","",null,null,-1,-1,1,0]
[null,null,{"$f":"IF(B1733=\"\",\"\",LOOKUP(B1733,Spiele!B:B,Spiele!C:C))","v":""},{"$f":"IF(B1733=\"\",\"\",LOOKUP(B1733,Spiele!B:B,Spiele!D:D))","v":""},{"$f":"IF(B1733=\"\",\"\",LOOKUP(B1733,Spiele!B:B,Spiele!E:E))","v":""},{"$f":"IF(B1733=\"\",\"\",LOOKUP(B1733,Spiele!B:B,Spiele!F:F))","v":""},"","","",null,null,-1,-1,1,0]
[null,null,{"$f":"IF(B1734=\"\",\"\",LOOKUP(B1734,Spiele!B:B,Spiele!C:C))","v":""},{"$f":"IF(B1734=\"\",\"\",LOOKUP(B1734,Spiele!B:B,Spiele!D:D))","v":""},{"$f":"IF(B1734=\"\",\"\",LOOKUP(B1734,Spiele!B:B,Spiele!E:E))","v":""},{"$f":"IF(B1734=\"\",\"\",LOOKUP(B1734,Spiele!B:B,Spiele!F:F))","v":""},"","","",null,null,-1,-1,1,0]
[null,null,{"$f":"IF(B1735=\"\",\"\",LOOKUP(B1735,Spiele!B:B,Spiele!C:C))","v":""},{"$f":"IF(B1735=\"\",\"\",LOOKUP(B1735,Spiele!B:B,Spiele!D:D))","v":""},{"$f":"IF(B1735=\"\",\"\",LOOKUP(B1735,Spiele!B:B,Spiele!E:E))","v":""},{"$f":"IF(B1735=\"\",\"\",LOOKUP(B1735,Spiele!B:B,Spiele!F:F))","v":""},"","","",null,null,-1,-1,1,0]
[null,null,{"$f":"IF(B1736=\"\",\"\",LOOKUP(B1736,Spiele!B:B,Spiele!C:C))","v":""},{"$f":"IF(B1736=\"\",\"\",LOOKUP(B1736,Spiele!B:B,Spiele!D:D))","v":""},{"$f":"IF(B1736=\"\",\"\",LOOKUP(B1736,Spiele!B:B,Spiele!E:E))","v":""},{"$f":"IF(B1736=\"\",\"\",LOOKUP(B1736,Spiele!B:B,Spiele!F:F))","v":""},"","","",null,null,-1,-1,1,0]
[null,null,{"$f":"IF(B1737=\"\",\"\",LOOKUP(B1737,Spiele!B:B,Spiele!C:C))","v":""},{"$f":"IF(B1737=\"\",\"\",LOOKUP(B1737,Spiele!B:B,Spiele!D:D))","v":""},{"$f":"IF(B1737=\"\",\"\",LOOKUP(B1737,Spiele!B:B,Spiele!E:E))","v":""},{"$f":"IF(B1737=\"\",\"\",LOOKUP(B1737,Spiele!B:B,Spiele!F:F))","v":""},"","","",null,null,-1,-1,1,0]
[null,null,{"$f":"IF(B1738=\"\",\"\",LOOKUP(B1738,Spiele!B:B,Spiele!C:C))","v":""},{"$f":"IF(B1738=\"\",\"\",LOOKUP(B1738,Spiele!B:B,Spiele!D:D))","v":""},{"$f":"IF(B1738=\"\",\"\",LOOKUP(B1738,Spiele!B:B,Spiele!E:E))","v":""},{"$f":"IF(B1738=\"\",\"\",LOOKUP(B1738,Spiele!B:B,Spiele!F:F))","v":""},"","","",null,null,-1,-1,1,0]
[null,null,{"$f":"IF(B1739=\"\",\"\",LOOKUP(B1739,Spiele!B:B,Spiele!C:C))","v":""},{"$f":"IF(B1739=\"\",\"\",LOOKUP(B1739,Spiele!B:B,Spiele!D:D))","v":""},{"$f":"IF(B1739=\"\",\"\",LOOKUP(B1739,Spiele!B:B,Spiele!E:E))","v":""},{"$f":"IF(B1739=\"\",\"\",LOOKUP(B1739,Spiele!B:B,Spiele!F:F))","v":""},"","","",null,null,-1,-1,1,0]
[null,null,{"$f":"IF(B1740=\"\",\"\",LOOKUP(B1740,Spiele!B:B,Spiele!C:C))","v":""},{"$f":"IF(B1740=\"\",\"\",LOOKUP(B1740,Spiele!B:B,Spiele!D:D))","v":""},{"$f":"IF(B1740=\"\",\"\",LOOKUP(B1740,Spiele!B:B,Spiele!E:E))","v":""},{"$f":"IF(B1740=\"\",\"\",LOOKUP(B1740,Spiele!B:B,Spiele!F:F))","v":""},"","","",null,null,-1,-1,1,0]
[null,null,{"$f":"IF(B1741=\"\",\"\",LOOKUP(B1741,Spiele!B:B,Spiele!C:C))","v":""},{"$f":"IF(B1741=\"\",\"\",LOOKUP(B1741,Spiele!B:B,Spiele!D:D))","v":""},{"$f":"IF(B1741=\"\",\"\",LOOKUP(B1741,Spiele!B:B,Spiele!E:E))","v":""},{"$f":"IF(B1741=\"\",\"\",LOOKUP(B1741,Spiele!B:B,Spiele!F:F))","v":""},"","","",null,null,-1,-1,1,0]
[null,null,{"$f":"IF(B1742=\"\",\"\",LOOKUP(B1742,Spiele!B:B,Spiele!C:C))","v":""},{"$f":"IF(B1742=\"\",\"\",LOOKUP(B1742,Spiele!B:B,Spiele!D:D))","v":""},{"$f":"IF(B1742=\"\",\"\",LOOKUP(B1742,Spiele!B:B,Spiele!E:E))","v":""},{"$f":"IF(B1742=\"\",\"\",LOOKUP(B1742,Spiele!B:B,Spiele!F:F))","v":""},"","","",null,null,-1,-1,1,0]
[null,null,{"$f":"IF(B1743=\"\",\"\",LOOKUP(B1743,Spiele!B:B,Spiele!C:C))","v":""},{"$f":"IF(B1743=\"\",\"\",LOOKUP(B1743,Spiele!B:B,Spiele!D:D))","v":""},{"$f":"IF(B1743=\"\",\"\",LOOKUP(B1743,Spiele!B:B,Spiele!E:E))","v":""},{"$f":"IF(B1743=\"\",\"\",LOOKUP(B1743,Spiele!B:B,Spiele!F:F))","v":""},"","","",null,null,-1,-1,1,0]
[null,null,{"$f":"IF(B1744=\"\",\"\",LOOKUP(B1744,Spiele!B:B,Spiele!C:C))","v":""},{"$f":"IF(B1744=\"\",\"\",LOOKUP(B1744,Spiele!B:B,Spiele!D:D))","v":""},{"$f":"IF(B1744=\"\",\"\",LOOKUP(B1744,Spiele!B:B,Spiele!E:E))","v":""},{"$f":"IF(B1744=\"\",\"\",LOOKUP(B1744,Spiele!B:B,Spiele!F:F))","v":""},"","","",null,null,-1,-1,1,0]
[null,null,{"$f":"IF(B1745=\"\",\"\",LOOKUP(B1745,Spiele!B:B,Spiele!C:C))","v":""},{"$f":"IF(B1745=\"\",\"\",LOOKUP(B1745,Spiele!B:B,Spiele!D:D))","v":""},{"$f":"IF(B1745=\"\",\"\",LOOKUP(B1745,Spiele!B:B,Spiele!E:E))","v":""},{"$f":"IF(B1745=\"\",\"\",LOOKUP(B1745,Spiele!B:B,Spiele!F:F))","v":""},"","","",null,null,-1,-1,1,0]
[null,null,{"$f":"IF(B1746=\"\",\"\",LOOKUP(B1746,Spiele!B:B,Spiele!C:C))","v":""},{"$f":"IF(B1746=\"\",\"\",LOOKUP(B1746,Spiele!B:B,Spiele!D:D))","v":""},{"$f":"IF(B1746=\"\",\"\",LOOKUP(B1746,Spiele!B:B,Spiele!E:E))","v":""},{"$f":"IF(B1746=\"\",\"\",LOOKUP(B1746,Spiele!B:B,Spiele!F:F))","v":""},"","","",null,null,-1,-1,1,0]
[null,null,{"$f":"IF(B1747=\"\",\"\",LOOKUP(B1747,Spiele!B:B,Spiele!C:C))","v":""},{"$f":"IF(B1747=\"\",\"\",LOOKUP(B1747,Spiele!B:B,Spiele!D:D))","v":""},{"$f":"IF(B1747=\"\",\"\",LOOKUP(B1747,Spiele!B:B,Spiele!E:E))","v":""},{"$f":"IF(B1747=\"\",\"\",LOOKUP(B1747,Spiele!B:B,Spiele!F:F))","v":""},"","","",null,null,-1,-1,1,0]
[null,null,{"$f":"IF(B1748=\"\",\"\",LOOKUP(B1748,Spiele!B:B,Spiele!C:C))","v":""},{"$f":"IF(B1748=\"\",\"\",LOOKUP(B1748,Spiele!B:B,Spiele!D:D))","v":""},{"$f":"IF(B1748=\"\",\"\",LOOKUP(B1748,Spiele!B:B,Spiele!E:E))","v":""},{"$f":"IF(B1748=\"\",\"\",LOOKUP(B1748,Spiele!B:B,Spiele!F:F))","v":""},"","","",null,null,-1,-1,1,0]
[null,null,{"$f":"IF(B1749=\"\",\"\",LOOKUP(B1749,Spiele!B:B,Spiele!C:C))","v":""},{"$f":"IF(B1749=\"\",\"\",LOOKUP(B1749,Spiele!B:B,Spiele!D:D))","v":""},{"$f":"IF(B1749=\"\",\"\",LOOKUP(B1749,Spiele!B:B,Spiele!E:E))","v":""},{"$f":"IF(B1749=\"\",\"\",LOOKUP(B1749,Spiele!B:B,Spiele!F:F))","v":""},"","","",null,null,-1,-1,1,0]
[null,null,{"$f":"IF(B1750=\"\",\"\",LOOKUP(B1750,Spiele!B:B,Spiele!C:C))","v":""},{"$f":"IF(B1750=\"\",\"\",LOOKUP(B1750,Spiele!B:B,Spiele!D:D))","v":""},{"$f":"IF(B1750=\"\",\"\",LOOKUP(B1750,Spiele!B:B,Spiele!E:E))","v":""},{"$f":"IF(B1750=\"\",\"\",LOOKUP(B1750,Spiele!B:B,Spiele!F:F))","v":""},"","","",null,null,-1,-1,1,0]
[null,null,{"$f":"IF(B1751=\"\",\"\",LOOKUP(B1751,Spiele!B:B,Spiele!C:C))","v":""},{"$f":"IF(B1751=\"\",\"\",LOOKUP(B1751,Spiele!B:B,Spiele!D:D))","v":""},{"$f":"IF(B1751=\"\",\"\",LOOKUP(B1751,Spiele!B:B,Spiele!E:E))","v":""},{"$f":"IF(B1751=\"\",\"\",LOOKUP(B1751,Spiele!B:B,Spiele!F:F))","v":""},"","","",null,null,-1,-1,1,0]
[null,null,{"$f":"IF(B1752=\"\",\"\",LOOKUP(B1752,Spiele!B:B,Spiele!C:C))","v":""},{"$f":"IF(B1752=\"\",\"\",LOOKUP(B1752,Spiele!B:B,Spiele!D:D))","v":""},{"$f":"IF(B1752=\"\",\"\",LOOKUP(B1752,Spiele!B:B,Spiele!E:E))","v":""},{"$f":"IF(B1752=\"\",\"\",LOOKUP(B1752,Spiele!B:B,Spiele!F:F))","v":""},"","","",null,null,-1,-1,1,0]
[null,null,{"$f":"IF(B1753=\"\",\"\",LOOKUP(B1753,Spiele!B:B,Spiele!C:C))","v":""},{"$f":"IF(B1753=\"\",\"\",LOOKUP(B1753,Spiele!B:B,Spiele!D:D))","v":""},{"$f":"IF(B1753=\"\",\"\",LOOKUP(B1753,Spiele!B:B,Spiele!E:E))","v":""},{"$f":"IF(B1753=\"\",\"\",LOOKUP(B1753,Spiele!B:B,Spiele!F:F))","v":""},"","","",null,null,-1,-1,1,0]
[null,null,{"$f":"IF(B1754=\"\",\"\",LOOKUP(B1754,Spiele!B:B,Spiele!C:C))","v":""},{"$f":"IF(B1754=\"\",\"\",LOOKUP(B1754,Spiele!B:B,Spiele!D:D))","v":""},{"$f":"IF(B1754=\"\",\"\",LOOKUP(B1754,Spiele!B:B,Spiele!E:E))","v":""},{"$f":"IF(B1754=\"\",\"\",LOOKUP(B1754,Spiele!B:B,Spiele!F:F))","v":""},"","","",null,null,-1,-1,1,0]
[null,null,{"$f":"IF(B1755=\"\",\"\",LOOKUP(B1755,Spiele!B:B,Spiele!C:C))","v":""},{"$f":"IF(B1755=\"\",\"\",LOOKUP(B1755,Spiele!B:B,Spiele!D:D))","v":""},{"$f":"IF(B1755=\"\",\"\",LOOKUP(B1755,Spiele!B:B,Spiele!E:E))","v":""},{"$f":"IF(B1755=\"\",\"\",LOOKUP(B1755,Spiele!B:B,Spiele!F:F))","v":""},"","","",null,null,-1,-1,1,0]
[null,null,{"$f":"IF(B1756=\"\",\"\",LOOKUP(B1756,Spiele!B:B,Spiele!C:C))","v":""},{"$f":"IF(B1756=\"\",\"\",LOOKUP(B1756,Spiele!B:B,Spiele!D:D))","v":""},{"$f":"IF(B1756=\"\",\"\",LOOKUP(B1756,Spiele!B:B,Spiele!E:E))","v":""},{"$f":"IF(B1756=\"\",\"\",LOOKUP(B1756,Spiele!B:B,Spiele!F:F))","v":""},"","","",null,null,-1,-1,1,0]
[null,null,{"$f":"IF(B1757=\"\",\"\",LOOKUP(B1757,Spiele!B:B,Spiele!C:C))","v":""},{"$f":"IF(B1757=\"\",\"\",LOOKUP(B1757,Spiele!B:B,Spiele!D:D))","v":""},{"$f":"IF(B1757=\"\",\"\",LOOKUP(B1757,Spiele!B:B,Spiele!E:E))","v":""},{"$f":"IF(B1757=\"\",\"\",LOOKUP(B1757,Spiele!B:B,Spiele!F:F))","v":""},"","","",null,null,-1,-1,1,0]
[null,null,{"$f":"IF(B1758=\"\",\"\",LOOKUP(B1758,Spiele!B:B,Spiele!C:C))","v":""},{"$f":"IF(B1758=\"\",\"\",LOOKUP(B1758,Spiele!B:B,Spiele!D:D))","v":""},{"$f":"IF(B1758=\"\",\"\",LOOKUP(B1758,Spiele!B:B,Spiele!E:E))","v":""},{"$f":"IF(B1758=\"\",\"\",LOOKUP(B1758,Spiele!B:B,Spiele!F:F))","v":""},"","","",null,null,-1,-1,1,0]
[null,null,{"$f":"IF(B1759=\"\",\"\",LOOKUP(B1759,Spiele!B:B,Spiele!C:C))","v":""},{"$f":"IF(B1759=\"\",\"\",LOOKUP(B1759,Spiele!B:B,Spiele!D:D))","v":""},{"$f":"IF(B1759=\"\",\"\",LOOKUP(B1759,Spiele!B:B,Spiele!E:E))","v":""},{"$f":"IF(B1759=\"\",\"\",LOOKUP(B1759,Spiele!B:B,Spiele!F:F))","v":""},"","","",null,null,-1,-1,1,0]
[null,null,{"$f":"IF(B1760=\"\",\"\",LOOKUP(B1760,Spiele!B:B,Spiele!C:C))","v":""},{"$f":"IF(B1760=\"\",\"\",LOOKUP(B1760,Spiele!B:B,Spiele!D:D))","v":""},{"$f":"IF(B1760=\"\",\"\",LOOKUP(B1760,Spiele!B:B,Spiele!E:E))","v":""},{"$f":"IF(B1760=\"\",\"\",LOOKUP(B1760,Spiele!B:B,Spiele!F:F))","v":""},"","","",null,null,-1,-1,1,0]
[null,null,{"$f":"IF(B1761=\"\",\"\",LOOKUP(B1761,Spiele!B:B,Spiele!C:C))","v":""},{"$f":"IF(B1761=\"\",\"\",LOOKUP(B1761,Spiele!B:B,Spiele!D:D))","v":""},{"$f":"IF(B1761=\"\",\"\",LOOKUP(B1761,Spiele!B:B,Spiele!E:E))","v":""},{"$f":"IF(B1761=\"\",\"\",LOOKUP(B1761,Spiele!B:B,Spiele!F:F))","v":""},"","","",null,null,-1,-1,1,0]
[null,null,{"$f":"IF(B1762=\"\",\"\",LOOKUP(B1762,Spiele!B:B,Spiele!C:C))","v":""},{"$f":"IF(B1762=\"\",\"\",LOOKUP(B1762,Spiele!B:B,Spiele!D:D))","v":""},{"$f":"IF(B1762=\"\",\"\",LOOKUP(B1762,Spiele!B:B,Spiele!E:E))","v":""},{"$f":"IF(B1762=\"\",\"\",LOOKUP(B1762,Spiele!B:B,Spiele!F:F))","v":""},"","","",null,null,-1,-1,1,0]
[null,null,{"$f":"IF(B1763=\"\",\"\",LOOKUP(B1763,Spiele!B:B,Spiele!C:C))","v":""},{"$f":"IF(B1763=\"\",\"\",LOOKUP(B1763,Spiele!B:B,Spiele!D:D))","v":""},{"$f":"IF(B1763=\"\",\"\",LOOKUP(B1763,Spiele!B:B,Spiele!E:E))","v":""},{"$f":"IF(B1763=\"\",\"\",LOOKUP(B1763,Spiele!B:B,Spiele!F:F))","v":""},"","","",null,null,-1,-1,1,0]
[null,null,{"$f":"IF(B1764=\"\",\"\",LOOKUP(B1764,Spiele!B:B,Spiele!C:C))","v":""},{"$f":"IF(B1764=\"\",\"\",LOOKUP(B1764,Spiele!B:B,Spiele!D:D))","v":""},{"$f":"IF(B1764=\"\",\"\",LOOKUP(B1764,Spiele!B:B,Spiele!E:E))","v":""},{"$f":"IF(B1764=\"\",\"\",LOOKUP(B1764,Spiele!B:B,Spiele!F:F))","v":""},"","","",null,null,-1,-1,1,0]
[null,null,{"$f":"IF(B1765=\"\",\"\",LOOKUP(B1765,Spiele!B:B,Spiele!C:C))","v":""},{"$f":"IF(B1765=\"\",\"\",LOOKUP(B1765,Spiele!B:B,Spiele!D:D))","v":""},{"$f":"IF(B1765=\"\",\"\",LOOKUP(B1765,Spiele!B:B,Spiele!E:E))","v":""},{"$f":"IF(B1765=\"\",\"\",LOOKUP(B1765,Spiele!B:B,Spiele!F:F))","v":""},"","","",null,null,-1,-1,1,0]
[null,null,{"$f":"IF(B1766=\"\",\"\",LOOKUP(B1766,Spiele!B:B,Spiele!C:C))","v":""},{"$f":"IF(B1766=\"\",\"\",LOOKUP(B1766,Spiele!B:B,Spiele!D:D))","v":""},{"$f":"IF(B1766=\"\",\"\",LOOKUP(B1766,Spiele!B:B,Spiele!E:E))","v":""},{"$f":"IF(B1766=\"\",\"\",LOOKUP(B1766,Spiele!B:B,Spiele!F:F))","v":""},"","","",null,null,-1,-1,1,0]
[null,null,{"$f":"IF(B1767=\"\",\"\",LOOKUP(B1767,Spiele!B:B,Spiele!C:C))","v":""},{"$f":"IF(B1767=\"\",\"\",LOOKUP(B1767,Spiele!B:B,Spiele!D:D))","v":""},{"$f":"IF(B1767=\"\",\"\",LOOKUP(B1767,Spiele!B:B,Spiele!E:E))","v":""},{"$f":"IF(B1767=\"\",\"\",LOOKUP(B1767,Spiele!B:B,Spiele!F:F))","v":""},"","","",null,null,-1,-1,1,0]
[null,null,{"$f":"IF(B1768=\"\",\"\",LOOKUP(B1768,Spiele!B:B,Spiele!C:C))","v":""},{"$f":"IF(B1768=\"\",\"\",LOOKUP(B1768,Spiele!B:B,Spiele!D:D))","v":""},{"$f":"IF(B1768=\"\",\"\",LOOKUP(B1768,Spiele!B:B,Spiele!E:E))","v":""},{"$f":"IF(B1768=\"\",\"\",LOOKUP(B1768,Spiele!B:B,Spiele!F:F))","v":""},"","","",null,null,-1,-1,1,0]
[null,null,{"$f":"IF(B1769=\"\",\"\",LOOKUP(B1769,Spiele!B:B,Spiele!C:C))","v":""},{"$f":"IF(B1769=\"\",\"\",LOOKUP(B1769,Spiele!B:B,Spiele!D:D))","v":""},{"$f":"IF(B1769=\"\",\"\",LOOKUP(B1769,Spiele!B:B,Spiele!E:E))","v":""},{"$f":"IF(B1769=\"\",\"\",LOOKUP(B1769,Spiele!B:B,Spiele!F:F))","v":""},"","","",null,null,-1,-1,1,0]
[null,null,{"$f":"IF(B1770=\"\",\"\",LOOKUP(B1770,Spiele!B:B,Spiele!C:C))","v":""},{"$f":"IF(B1770=\"\",\"\",LOOKUP(B1770,Spiele!B:B,Spiele!D:D))","v":""},{"$f":"IF(B1770=\"\",\"\",LOOKUP(B1770,Spiele!B:B,Spiele!E:E))","v":""},{"$f":"IF(B1770=\"\",\"\",LOOKUP(B1770,Spiele!B:B,Spiele!F:F))","v":""},{"$f":"IF(E1770=\"\",\"\",IF(E1770>F1770,1,0))","v":""},{"$f":"IF(F1770=\"\",\"\",IF(E1770<F1770,1,0))","v":""},{"$f":"IF(E1770=\"\",\"\",IF(E1770=F1770,1,0))","v":""},null,null,{"$f":"IF(E1770=\"\",-1,IF(J1770>K1770,1,-1))","v":-1},{"$f":"IF(F1770=\"\",-1,IF(J1770<K1770,1,-1))","v":-1},{"$f":"IF(E1770=\"-\",-1,IF(J1770=K1770,1,-1))","v":1},{"$f":"IF(E1770=\"\",0,IF(E1770=J1770,1,0)+IF(F1770=K1770,1,0)+IF(G1770=L1770,1,0)+IF(H1770=M1770,1,0)+IF(I1770=N1770,1,0))","v":0}]
[null,null,{"$f":"IF(B1771=\"\",\"\",LOOKUP(B1771,Spiele!B:B,Spiele!C:C))","v":""},{"$f":"IF(B1771=\"\",\"\",LOOKUP(B1771,Spiele!B:B,Spiele!D:D))","v":""},{"$f":"IF(B1771=\"\",\"\",LOOKUP(B1771,Spiele!B:B,Spiele!E:E))","v":""},{"$f":"IF(B1771=\"\",\"\",LOOKUP(B1771,Spiele!B:B,Spiele!F:F))","v":""},"","","",null,null,-1,-1,1,0]
[null,null,{"$f":"IF(B1772=\"\",\"\",LOOKUP(B1772,Spiele!B:B,Spiele!C:C))","v":""},{"$f":"IF(B1772=\"\",\"\",LOOKUP(B1772,Spiele!B:B,Spiele!D:D))","v":""},{"$f":"IF(B1772=\"\",\"\",LOOKUP(B1772,Spiele!B:B,Spiele!E:E))","v":""},{"$f":"IF(B1772=\"\",\"\",LOOKUP(B1772,Spiele!B:B,Spiele!F:F))","v":""},"","","",null,null,-1,-1,1,0]
[null,null,{"$f":"IF(B1773=\"\",\"\",LOOKUP(B1773,Spiele!B:B,Spiele!C:C))","v":""},{"$f":"IF(B1773=\"\",\"\",LOOKUP(B1773,Spiele!B:B,Spiele!D:D))","v":""},{"$f":"IF(B1773=\"\",\"\",LOOKUP(B1773,Spiele!B:B,Spiele!E:E))","v":""},{"$f":"IF(B1773=\"\",\"\",LOOKUP(B1773,Spiele!B:B,Spiele!F:F))","v":""},"","","",null,null,-1,-1,1,0]
[null,null,{"$f":"IF(B1774=\"\",\"\",LOOKUP(B1774,Spiele!B:B,Spiele!C:C))","v":""},{"$f":"IF(B1774=\"\",\"\",LOOKUP(B1774,Spiele!B:B,Spiele!D:D))","v":""},{"$f":"IF(B1774=\"\",\"\",LOOKUP(B1774,Spiele!B:B,Spiele!E:E))","v":""},{"$f":"IF(B1774=\"\",\"\",LOOKUP(B1774,Spiele!B:B,Spiele!F:F))","v":""},"","","",null,null,-1,-1,1,0]
[null,null,{"$f":"IF(B1775=\"\",\"\",LOOKUP(B1775,Spiele!B:B,Spiele!C:C))","v":""},{"$f":"IF(B1775=\"\",\"\",LOOKUP(B1775,Spiele!B:B,Spiele!D:D))","v":""},{"$f":"IF(B1775=\"\",\"\",LOOKUP(B1775,Spiele!B:B,Spiele!E:E))","v":""},{"$f":"IF(B1775=\"\",\"\",LOOKUP(B1775,Spiele!B:B,Spiele!F:F))","v":""},"","","",null,null,-1,-1,1,0]
[null,null,{"$f":"IF(B1776=\"\",\"\",LOOKUP(B1776,Spiele!B:B,Spiele!C:C))","v":""},{"$f":"IF(B1776=\"\",\"\",LOOKUP(B1776,Spiele!B:B,Spiele!D:D))","v":""},{"$f":"IF(B1776=\"\",\"\",LOOKUP(B1776,Spiele!B:B,Spiele!E:E))","v":""},{"$f":"IF(B1776=\"\",\"\",LOOKUP(B1776,Spiele!B:B,Spiele!F:F))","v":""},"","","",null,null,-1,-1,1,0]
[null,null,{"$f":"IF(B1777=\"\",\"\",LOOKUP(B1777,Spiele!B:B,Spiele!C:C))","v":""},{"$f":"IF(B1777=\"\",\"\",LOOKUP(B1777,Spiele!B:B,Spiele!D:D))","v":""},{"$f":"IF(B1777=\"\",\"\",LOOKUP(B1777,Spiele!B:B,Spiele!E:E))","v":""},{"$f":"IF(B1777=\"\",\"\",LOOKUP(B1777,Spiele!B:B,Spiele!F:F))","v":""},"","","",null,null,-1,-1,1,0]
[null,null,{"$f":"IF(B1778=\"\",\"\",LOOKUP(B1778,Spiele!B:B,Spiele!C:C))","v":""},{"$f":"IF(B1778=\"\",\"\",LOOKUP(B1778,Spiele!B:B,Spiele!D:D))","v":""},{"$f":"IF(B1778=\"\",\"\",LOOKUP(B1778,Spiele!B:B,Spiele!E:E))","v":""},{"$f":"IF(B1778=\"\",\"\",LOOKUP(B1778,Spiele!B:B,Spiele!F:F))","v":""},"","","",null,null,-1,-1,1,0]
[null,null,{"$f":"IF(B1779=\"\",\"\",LOOKUP(B1779,Spiele!B:B,Spiele!C:C))","v":""},{"$f":"IF(B1779=\"\",\"\",LOOKUP(B1779,Spiele!B:B,Spiele!D:D))","v":""},{"$f":"IF(B1779=\"\",\"\",LOOKUP(B1779,Spiele!B:B,Spiele!E:E))","v":""},{"$f":"IF(B1779=\"\",\"\",LOOKUP(B1779,Spiele!B:B,Spiele!F:F))","v":""},"","","",null,null,-1,-1,1,0]
[null,null,{"$f":"IF(B1780=\"\",\"\",LOOKUP(B1780,Spiele!B:B,Spiele!C:C))","v":""},{"$f":"IF(B1780=\"\",\"\",LOOKUP(B1780,Spiele!B:B,Spiele!D:D))","v":""},{"$f":"IF(B1780=\"\",\"\",LOOKUP(B1780,Spiele!B:B,Spiele!E:E))","v":""},{"$f":"IF(B1780=\"\",\"\",LOOKUP(B1780,Spiele!B:B,Spiele!F:F))","v":""},"","","",null,null,-1,-1,1,0]
[null,null,{"$f":"IF(B1781=\"\",\"\",LOOKUP(B1781,Spiele!B:B,Spiele!C:C))","v":""},{"$f":"IF(B1781=\"\",\"\",LOOKUP(B1781,Spiele!B:B,Spiele!D:D))","v":""},{"$f":"IF(B1781=\"\",\"\",LOOKUP(B1781,Spiele!B:B,Spiele!E:E))","v":""},{"$f":"IF(B1781=\"\",\"\",LOOKUP(B1781,Spiele!B:B,Spiele!F:F))","v":""},"","","",null,null,-1,-1,1,0]
[null,null,{"$f":"IF(B1782=\"\",\"\",LOOKUP(B1782,Spiele!B:B,Spiele!C:C))","v":""},{"$f":"IF(B1782=\"\",\"\",LOOKUP(B1782,Spiele!B:B,Spiele!D:D))","v":""},{"$f":"IF(B1782=\"\",\"\",LOOKUP(B1782,Spiele!B:B,Spiele!E:E))","v":""},{"$f":"IF(B1782=\"\",\"\",LOOKUP(B1782,Spiele!B:B,Spiele!F:F))","v":""},"","","",null,null,-1,-1,1,0]
[null,null,{"$f":"IF(B1783=\"\",\"\",LOOKUP(B1783,Spiele!B:B,Spiele!C:C))","v":""},{"$f":"IF(B1783=\"\",\"\",LOOKUP(B1783,Spiele!B:B,Spiele!D:D))","v":""},{"$f":"IF(B1783=\"\",\"\",LOOKUP(B1783,Spiele!B:B,Spiele!E:E))","v":""},{"$f":"IF(B1783=\"\",\"\",LOOKUP(B1783,Spiele!B:B,Spiele!F:F))","v":""},"","","",null,null,-1,-1,1,0]
[null,null,{"$f":"IF(B1784=\"\",\"\",LOOKUP(B1784,Spiele!B:B,Spiele!C:C))","v":""},{"$f":"IF(B1784=\"\",\"\",LOOKUP(B1784,Spiele!B:B,Spiele!D:D))","v":""},{"$f":"IF(B1784=\"\",\"\",LOOKUP(B1784,Spiele!B:B,Spiele!E:E))","v":""},{"$f":"IF(B1784=\"\",\"\",LOOKUP(B1784,Spiele!B:B,Spiele!F:F))","v":""},"","","",null,null,-1,-1,1,0]
[null,null,{"$f":"IF(B1785=\"\",\"\",LOOKUP(B1785,Spiele!B:B,Spiele!C:C))","v":""},{"$f":"IF(B1785=\"\",\"\",LOOKUP(B1785,Spiele!B:B,Spiele!D:D))","v":""},{"$f":"IF(B1785=\"\",\"\",LOOKUP(B1785,Spiele!B:B,Spiele!E:E))","v":""},{"$f":"IF(B1785=\"\",\"\",LOOKUP(B1785,Spiele!B:B,Spiele!F:F))","v":""},"","","",null,null,-1,-1,1,0]
[null,null,{"$f":"IF(B1786=\"\",\"\",LOOKUP(B1786,Spiele!B:B,Spiele!C:C))","v":""},{"$f":"IF(B1786=\"\",\"\",LOOKUP(B1786,Spiele!B:B,Spiele!D:D))","v":""},{"$f":"IF(B1786=\"\",\"\",LOOKUP(B1786,Spiele!B:B,Spiele!E:E))","v":""},{"$f":"IF(B1786=\"\",\"\",LOOKUP(B1786,Spiele!B:B,Spiele!F:F))","v":""},"","","",null,null,-1,-1,1,0]
[null,null,{"$f":"IF(B1787=\"\",\"\",LOOKUP(B1787,Spiele!B:B,Spiele!C:C))","v":""},{"$f":"IF(B1787=\"\",\"\",LOOKUP(B1787,Spiele!B:B,Spiele!D:D))","v":""},{"$f":"IF(B1787=\"\",\"\",LOOKUP(B1787,Spiele!B:B,Spiele!E:E))","v":""},{"$f":"IF(B1787=\"\",\"\",LOOKUP(B1787,Spiele!B:B,Spiele!F:F))","v":""},"","","",null,null,-1,-1,1,0]
[null,null,{"$f":"IF(B1788=\"\",\"\",LOOKUP(B1788,Spiele!B:B,Spiele!C:C))","v":""},{"$f":"IF(B1788=\"\",\"\",LOOKUP(B1788,Spiele!B:B,Spiele!D:D))","v":""},{"$f":"IF(B1788=\"\",\"\",LOOKUP(B1788,Spiele!B:B,Spiele!E:E))","v":""},{"$f":"IF(B1788=\"\",\"\",LOOKUP(B1788,Spiele!B:B,Spiele!F:F))","v":""},"","","",null,null,-1,-1,1,0]
[null,null,{"$f":"IF(B1789=\"\",\"\",LOOKUP(B1789,Spiele!B:B,Spiele!C:C))","v":""},{"$f":"IF(B1789=\"\",\"\",LOOKUP(B1789,Spiele!B:B,Spiele!D:D))","v":""},{"$f":"IF(B1789=\"\",\"\",LOOKUP(B1789,Spiele!B:B,Spiele!E:E))","v":""},{"$f":"IF(B1789=\"\",\"\",LOOKUP(B1789,Spiele!B:B,Spiele!F:F))","v":""},"","","",null,null,-1,-1,1,0]
[null,null,{"$f":"IF(B1790=\"\",\"\",LOOKUP(B1790,Spiele!B:B,Spiele!C:C))","v":""},{"$f":"IF(B1790=\"\",\"\",LOOKUP(B1790,Spiele!B:B,Spiele!D:D))","v":""},{"$f":"IF(B1790=\"\",\"\",LOOKUP(B1790,Spiele!B:B,Spiele!E:E))","v":""},{"$f":"IF(B1790=\"\",\"\",LOOKUP(B1790,Spiele!B:B,Spiele!F:F))","v":""},"","","",null,null,-1,-1,1,0]
[null,null,{"$f":"IF(B1791=\"\",\"\",LOOKUP(B1791,Spiele!B:B,Spiele!C:C))","v":""},{"$f":"IF(B1791=\"\",\"\",LOOKUP(B1791,Spiele!B:B,Spiele!D:D))","v":""},{"$f":"IF(B1791=\"\",\"\",LOOKUP(B1791,Spiele!B:B,Spiele!E:E))","v":""},{"$f":"IF(B1791=\"\",\"\",LOOKUP(B1791,Spiele!B:B,Spiele!F:F))","v":""},"","","",null,null,-1,-1,1,0]
[null,null,{"$f":"IF(B1792=\"\",\"\",LOOKUP(B1792,Spiele!B:B,Spiele!C:C))","v":""},{"$f":"IF(B1792=\"\",\"\",LOOKUP(B1792,Spiele!B:B,Spiele!D:D))","v":""},{"$f":"IF(B1792=\"\",\"\",LOOKUP(B1792,Spiele!B:B,Spiele!E:E))","v":""},{"$f":"IF(B1792=\"\",\"\",LOOKUP(B1792,Spiele!B:B,Spiele!F:F))","v":""},"","","",null,null,-1,-1,1,0]
[null,null,{"$f":"IF(B1793=\"\",\"\",LOOKUP(B1793,Spiele!B:B,Spiele!C:C))","v":""},{"$f":"IF(B1793=\"\",\"\",LOOKUP(B1793,Spiele!B:B,Spiele!D:D))","v":""},{"$f":"IF(B1793=\"\",\"\",LOOKUP(B1793,Spiele!B:B,Spiele!E:E))","v":""},{"$f":"IF(B1793=\"\",\"\",LOOKUP(B1793,Spiele!B:B,Spiele!F:F))","v":""},"","","",null,null,-1,-1,1,0]
[null,null,{"$f":"IF(B1794=\"\",\"\",LOOKUP(B1794,Spiele!B:B,Spiele!C:C))","v":""},{"$f":"IF(B1794=\"\",\"\",LOOKUP(B1794,Spiele!B:B,Spiele!D:D))","v":""},{"$f":"IF(B1794=\"\",\"\",LOOKUP(B1794,Spiele!B:B,Spiele!E:E))","v":""},{"$f":"IF(B1794=\"\",\"\",LOOKUP(B1794,Spiele!B:B,Spiele!F:F))","v":""},"","","",null,null,-1,-1,1,0]
[null,null,{"$f":"IF(B1795=\"\",\"\",LOOKUP(B1795,Spiele!B:B,Spiele!C:C))","v":""},{"$f":"IF(B1795=\"\",\"\",LOOKUP(B1795,Spiele!B:B,Spiele!D:D))","v":""},{"$f":"IF(B1795=\"\",\"\",LOOKUP(B1795,Spiele!B:B,Spiele!E:E))","v":""},{"$f":"IF(B1795=\"\",\"\",LOOKUP(B1795,Spiele!B:B,Spiele!F:F))","v":""},"","","",null,null,-1,-1,1,0]
[null,null,{"$f":"IF(B1796=\"\",\"\",LOOKUP(B1796,Spiele!B:B,Spiele!C:C))","v":""},{"$f":"IF(B1796=\"\",\"\",LOOKUP(B1796,Spiele!B:B,Spiele!D:D))","v":""},{"$f":"IF(B1796=\"\",\"\",LOOKUP(B1796,Spiele!B:B,Spiele!E:E))","v":""},{"$f":"IF(B1796=\"\",\"\",LOOKUP(B1796,Spiele!B:B,Spiele!F:F))","v":""},"","","",null,null,-1,-1,1,0]
[null,null,{"$f":"IF(B1797=\"\",\"\",LOOKUP(B1797,Spiele!B:B,Spiele!C:C))","v":""},{"$f":"IF(B1797=\"\",\"\",LOOKUP(B1797,Spiele!B:B,Spiele!D:D))","v":""},{"$f":"IF(B1797=\"\",\"\",LOOKUP(B1797,Spiele!B:B,Spiele!E:E))","v":""},{"$f":"IF(B1797=\"\",\"\",LOOKUP(B1797,Spiele!B:B,Spiele!F:F))","v":""},"","","",null,null,-1,-1,1,0]
[null,null,{"$f":"IF(B1798=\"\",\"\",LOOKUP(B1798,Spiele!B:B,Spiele!C:C))","v":""},{"$f":"IF(B1798=\"\",\"\",LOOKUP(B1798,Spiele!B:B,Spiele!D:D))","v":""},{"$f":"IF(B1798=\"\",\"\",LOOKUP(B1798,Spiele!B:B,Spiele!E:E))","v":""},{"$f":"IF(B1798=\"\",\"\",LOOKUP(B1798,Spiele!B:B,Spiele!F:F))","v":""},"","","",null,null,-1,-1,1,0]
[null,null,{"$f":"IF(B1799=\"\",\"\",LOOKUP(B1799,Spiele!B:B,Spiele!C:C))","v":""},{"$f":"IF(B1799=\"\",\"\",LOOKUP(B1799,Spiele!B:B,Spiele!D:D))","v":""},{"$f":"IF(B1799=\"\",\"\",LOOKUP(B1799,Spiele!B:B,Spiele!E:E))","v":""},{"$f":"IF(B1799=\"\",\"\",LOOKUP(B1799,Spiele!B:B,Spiele!F:F))","v":""},"","","",null,null,-1,-1,1,0]
[null,null,{"$f":"IF(B1800=\"\",\"\",LOOKUP(B1800,Spiele!B:B,Spiele!C:C))","v":""},{"$f":"IF(B1800=\"\",\"\",LOOKUP(B1800,Spiele!B:B,Spiele!D:D))","v":""},{"$f":"IF(B1800=\"\",\"\",LOOKUP(B1800,Spiele!B:B,Spiele!E:E))","v":""},{"$f":"IF(B1800=\"\",\"\",LOOKUP(B1800,Spiele!B:B,Spiele!F:F))","v":""},"","","",null,null,-1,-1,1,0]
[null,null,{"$f":"IF(B1801=\"\",\"\",LOOKUP(B1801,Spiele!B:B,Spiele!C:C))","v":""},{"$f":"IF(B1801=\"\",\"\",LOOKUP(B1801,Spiele!B:B,Spiele!D:D))","v":""},{"$f":"IF(B1801=\"\",\"\",LOOKUP(B1801,Spiele!B:B,Spiele!E:E))","v":""},{"$f":"IF(B1801=\"\",\"\",LOOKUP(B1801,Spiele!B:B,Spiele!F:F))","v":""},"","","",null,null,-1,-1,1,0]
[null,null,{"$f":"IF(B1802=\"\",\"\",LOOKUP(B1802,Spiele!B:B,Spiele!C:C))","v":""},{"$f":"IF(B1802=\"\",\"\",LOOKUP(B1802,Spiele!B:B,Spiele!D:D))","v":""},{"$f":"IF(B1802=\"\",\"\",LOOKUP(B1802,Spiele!B:B,Spiele!E:E))","v":""},{"$f":"IF(B1802=\"\",\"\",LOOKUP(B1802,Spiele!B:B,Spiele!F:F))","v":""},"","","",null,null,-1,-1,1,0]
[null,null,{"$f":"IF(B1803=\"\",\"\",LOOKUP(B1803,Spiele!B:B,Spiele!C:C))","v":""},{"$f":"IF(B1803=\"\",\"\",LOOKUP(B1803,Spiele!B:B,Spiele!D:D))","v":""},{"$f":"IF(B1803=\"\",\"\",LOOKUP(B1803,Spiele!B:B,Spiele!E:E))","v":""},{"$f":"IF(B1803=\"\",\"\",LOOKUP(B1803,Spiele!B:B,Spiele!F:F))","v":""},"","","",null,null,-1,-1,1,0]
[null,null,{"$f":"IF(B1804=\"\",\"\",LOOKUP(B1804,Spiele!B:B,Spiele!C:C))","v":""},{"$f":"IF(B1804=\"\",\"\",LOOKUP(B1804,Spiele!B:B,Spiele!D:D))","v":""},{"$f":"IF(B1804=\"\",\"\",LOOKUP(B1804,Spiele!B:B,Spiele!E:E))","v":""},{"$f":"IF(B1804=\"\",\"\",LOOKUP(B1804,Spiele!B:B,Spiele!F:F))","v":""},"","","",null,null,-1,-1,1,0]
[null,null,{"$f":"IF(B1805=\"\",\"\",LOOKUP(B1805,Spiele!B:B,Spiele!C:C))","v":""},{"$f":"IF(B1805=\"\",\"\",LOOKUP(B1805,Spiele!B:B,Spiele!D:D))","v":""},{"$f":"IF(B1805=\"\",\"\",LOOKUP(B1805,Spiele!B:B,Spiele!E:E))","v":""},{"$f":"IF(B1805=\"\",\"\",LOOKUP(B1805,Spiele!B:B,Spiele!F:F))","v":""},"","","",null,null,-1,-1,1,0]
[null,null,{"$f":"IF(B1806=\"\",\"\",LOOKUP(B1806,Spiele!B:B,Spiele!C:C))","v":""},{"$f":"IF(B1806=\"\",\"\",LOOKUP(B1806,Spiele!B:B,Spiele!D:D))","v":""},{"$f":"IF(B1806=\"\",\"\",LOOKUP(B1806,Spiele!B:B,Spiele!E:E))","v":""},{"$f":"IF(B1806=\"\",\"\",LOOKUP(B1806,Spiele!B:B,Spiele!F:F))","v":""},"","","",null,null,-1,-1,1,0]
[null,null,{"$f":"IF(B1807=\"\",\"\",LOOKUP(B1807,Spiele!B:B,Spiele!C:C))","v":""},{"$f":"IF(B1807=\"\",\"\",LOOKUP(B1807,Spiele!B:B,Spiele!D:D))","v":""},{"$f":"IF(B1807=\"\",\"\",LOOKUP(B1807,Spiele!B:B,Spiele!E:E))","v":""},{"$f":"IF(B1807=\"\",\"\",LOOKUP(B1807,Spiele!B:B,Spiele!F:F))","v":""},"","","",null,null,-1,-1,1,0]
[null,null,{"$f":"IF(B1808=\"\",\"\",LOOKUP(B1808,Spiele!B:B,Spiele!C:C))","v":""},{"$f":"IF(B1808=\"\",\"\",LOOKUP(B1808,Spiele!B:B,Spiele!D:D))","v":""},{"$f":"IF(B1808=\"\",\"\",LOOKUP(B1808,Spiele!B:B,Spiele!E:E))","v":""},{"$f":"IF(B1808=\"\",\"\",LOOKUP(B1808,Spiele!B:B,Spiele!F:F))","v":""},"","","",null,null,-1,-1,1,0]
[null,null,{"$f":"IF(B1809=\"\",\"\",LOOKUP(B1809,Spiele!B:B,Spiele!C:C))","v":""},{"$f":"IF(B1809=\"\",\"\",LOOKUP(B1809,Spiele!B:B,Spiele!D:D))","v":""},{"$f":"IF(B1809=\"\",\"\",LOOKUP(B1809,Spiele!B:B,Spiele!E:E))","v":""},{"$f":"IF(B1809=\"\",\"\",LOOKUP(B1809,Spiele!B:B,Spiele!F:F))","v":""},"","","",null,null,-1,-1,1,0]
[null,null,{"$f":"IF(B1810=\"\",\"\",LOOKUP(B1810,Spiele!B:B,Spiele!C:C))","v":""},{"$f":"IF(B1810=\"\",\"\",LOOKUP(B1810,Spiele!B:B,Spiele!D:D))","v":""},{"$f":"IF(B1810=\"\",\"\",LOOKUP(B1810,Spiele!B:B,Spiele!E:E))","v":""},{"$f":"IF(B1810=\"\",\"\",LOOKUP(B1810,Spiele!B:B,Spiele!F:F))","v":""},"","","",null,null,-1,-1,1,0]
[null,null,{"$f":"IF(B1811=\"\",\"\",LOOKUP(B1811,Spiele!B:B,Spiele!C:C))","v":""},{"$f":"IF(B1811=\"\",\"\",LOOKUP(B1811,Spiele!B:B,Spiele!D:D))","v":""},{"$f":"IF(B1811=\"\",\"\",LOOKUP(B1811,Spiele!B:B,Spiele!E:E))","v":""},{"$f":"IF(B1811=\"\",\"\",LOOKUP(B1811,Spiele!B:B,Spiele!F:F))","v":""},"","","",null,null,-1,-1,1,0]
[null,null,{"$f":"IF(B1812=\"\",\"\",LOOKUP(B1812,Spiele!B:B,Spiele!C:C))","v":""},{"$f":"IF(B1812=\"\",\"\",LOOKUP(B1812,Spiele!B:B,Spiele!D:D))","v":""},{"$f":"IF(B1812=\"\",\"\",LOOKUP(B1812,Spiele!B:B,Spiele!E:E))","v":""},{"$f":"IF(B1812=\"\",\"\",LOOKUP(B1812,Spiele!B:B,Spiele!F:F))","v":""},"","","",null,null,-1,-1,1,0]
[null,null,{"$f":"IF(B1813=\"\",\"\",LOOKUP(B1813,Spiele!B:B,Spiele!C:C))","v":""},{"$f":"IF(B1813=\"\",\"\",LOOKUP(B1813,Spiele!B:B,Spiele!D:D))","v":""},{"$f":"IF(B1813=\"\",\"\",LOOKUP(B1813,Spiele!B:B,Spiele!E:E))","v":""},{"$f":"IF(B1813=\"\",\"\",LOOKUP(B1813,Spiele!B:B,Spiele!F:F))","v":""},"","","",null,null,-1,-1,1,0]
[null,null,{"$f":"IF(B1814=\"\",\"\",LOOKUP(B1814,Spiele!B:B,Spiele!C:C))","v":""},{"$f":"IF(B1814=\"\",\"\",LOOKUP(B1814,Spiele!B:B,Spiele!D:D))","v":""},{"$f":"IF(B1814=\"\",\"\",LOOKUP(B1814,Spiele!B:B,Spiele!E:E))","v":""},{"$f":"IF(B1814=\"\",\"\",LOOKUP(B1814,Spiele!B:B,Spiele!F:F))","v":""},"","","",null,null,-1,-1,1,0]
[null,null,{"$f":"IF(B1815=\"\",\"\",LOOKUP(B1815,Spiele!B:B,Spiele!C:C))","v":""},{"$f":"IF(B1815=\"\",\"\",LOOKUP(B1815,Spiele!B:B,Spiele!D:D))","v":""},{"$f":"IF(B1815=\"\",\"\",LOOKUP(B1815,Spiele!B:B,Spiele!E:E))","v":""},{"$f":"IF(B1815=\"\",\"\",LOOKUP(B1815,Spiele!B:B,Spiele!F:F))","v":""},"","","",null,null,-1,-1,1,0]
[null,null,{"$f":"IF(B1816=\"\",\"\",LOOKUP(B1816,Spiele!B:B,Spiele!C:C))","v":""},{"$f":"IF(B1816=\"\",\"\",LOOKUP(B1816,Spiele!B:B,Spiele!D:D))","v":""},{"$f":"IF(B1816=\"\",\"\",LOOKUP(B1816,Spiele!B:B,Spiele!E:E))","v":""},{"$f":"IF(B1816=\"\",\"\",LOOKUP(B1816,Spiele!B:B,Spiele!F:F))","v":""},"","","",null,null,-1,-1,1,0]
[null,null,{"$f":"IF(B1817=\"\",\"\",LOOKUP(B1817,Spiele!B:B,Spiele!C:C))","v":""},{"$f":"IF(B1817=\"\",\"\",LOOKUP(B1817,Spiele!B:B,Spiele!D:D))","v":""},{"$f":"IF(B1817=\"\",\"\",LOOKUP(B1817,Spiele!B:B,Spiele!E:E))","v":""},{"$f":"IF(B1817=\"\",\"\",LOOKUP(B1817,Spiele!B:B,Spiele!F:F))","v":""},"","","",null,null,-1,-1,1,0]
[null,null,{"$f":"IF(B1818=\"\",\"\",LOOKUP(B1818,Spiele!B:B,Spiele!C:C))","v":""},{"$f":"IF(B1818=\"\",\"\",LOOKUP(B1818,Spiele!B:B,Spiele!D:D))","v":""},{"$f":"IF(B1818=\"\",\"\",LOOKUP(B1818,Spiele!B:B,Spiele!E:E))","v":""},{"$f":"IF(B1818=\"\",\"\",LOOKUP(B1818,Spiele!B:B,Spiele!F:F))","v":""},"","","",null,null,-1,-1,1,0]
[null,null,{"$f":"IF(B1819=\"\",\"\",LOOKUP(B1819,Spiele!B:B,Spiele!C:C))","v":""},{"$f":"IF(B1819=\"\",\"\",LOOKUP(B1819,Spiele!B:B,Spiele!D:D))","v":""},{"$f":"IF(B1819=\"\",\"\",LOOKUP(B1819,Spiele!B:B,Spiele!E:E))","v":""},{"$f":"IF(B1819=\"\",\"\",LOOKUP(B1819,Spiele!B:B,Spiele!F:F))","v":""},"","","",null,null,-1,-1,1,0]
[null,null,{"$f":"IF(B1820=\"\",\"\",LOOKUP(B1820,Spiele!B:B,Spiele!C:C))","v":""},{"$f":"IF(B1820=\"\",\"\",LOOKUP(B1820,Spiele!B:B,Spiele!D:D))","v":""},{"$f":"IF(B1820=\"\",\"\",LOOKUP(B1820,Spiele!B:B,Spiele!E:E))","v":""},{"$f":"IF(B1820=\"\",\"\",LOOKUP(B1820,Spiele!B:B,Spiele!F:F))","v":""},"","","",null,null,-1,-1,1,0]
[null,null,{"$f":"IF(B1821=\"\",\"\",LOOKUP(B1821,Spiele!B:B,Spiele!C:C))","v":""},{"$f":"IF(B1821=\"\",\"\",LOOKUP(B1821,Spiele!B:B,Spiele!D:D))","v":""},{"$f":"IF(B1821=\"\",\"\",LOOKUP(B1821,Spiele!B:B,Spiele!E:E))","v":""},{"$f":"IF(B1821=\"\",\"\",LOOKUP(B1821,Spiele!B:B,Spiele!F:F))","v":""},"","","",null,null,-1,-1,1,0]
[null,null,{"$f":"IF(B1822=\"\",\"\",LOOKUP(B1822,Spiele!B:B,Spiele!C:C))","v":""},{"$f":"IF(B1822=\"\",\"\",LOOKUP(B1822,Spiele!B:B,Spiele!D:D))","v":""},{"$f":"IF(B1822=\"\",\"\",LOOKUP(B1822,Spiele!B:B,Spiele!E:E))","v":""},{"$f":"IF(B1822=\"\",\"\",LOOKUP(B1822,Spiele!B:B,Spiele!F:F))","v":""},"","","",null,null,-1,-1,1,0]
[null,null,{"$f":"IF(B1823=\"\",\"\",LOOKUP(B1823,Spiele!B:B,Spiele!C:C))","v":""},{"$f":"IF(B1823=\"\",\"\",LOOKUP(B1823,Spiele!B:B,Spiele!D:D))","v":""},{"$f":"IF(B1823=\"\",\"\",LOOKUP(B1823,Spiele!B:B,Spiele!E:E))","v":""},{"$f":"IF(B1823=\"\",\"\",LOOKUP(B1823,Spiele!B:B,Spiele!F:F))","v":""},"","","",null,null,-1,-1,1,0]
[null,null,{"$f":"IF(B1824=\"\",\"\",LOOKUP(B1824,Spiele!B:B,Spiele!C:C))","v":""},{"$f":"IF(B1824=\"\",\"\",LOOKUP(B1824,Spiele!B:B,Spiele!D:D))","v":""},{"$f":"IF(B1824=\"\",\"\",LOOKUP(B1824,Spiele!B:B,Spiele!E:E))","v":""},{"$f":"IF(B1824=\"\",\"\",LOOKUP(B1824,Spiele!B:B,Spiele!F:F))","v":""},"","","",null,null,-1,-1,1,0]
[null,null,{"$f":"IF(B1825=\"\",\"\",LOOKUP(B1825,Spiele!B:B,Spiele!C:C))","v":""},{"$f":"IF(B1825=\"\",\"\",LOOKUP(B1825,Spiele!B:B,Spiele!D:D))","v":""},{"$f":"IF(B1825=\"\",\"\",LOOKUP(B1825,Spiele!B:B,Spiele!E:E))","v":""},{"$f":"IF(B1825=\"\",\"\",LOOKUP(B1825,Spiele!B:B,Spiele!F:F))","v":""},"","","",null,null,-1,-1,1,0]
[null,null,{"$f":"IF(B1826=\"\",\"\",LOOKUP(B1826,Spiele!B:B,Spiele!C:C))","v":""},{"$f":"IF(B1826=\"\",\"\",LOOKUP(B1826,Spiele!B:B,Spiele!D:D))","v":""},{"$f":"IF(B1826=\"\",\"\",LOOKUP(B1826,Spiele!B:B,Spiele!E:E))","v":""},{"$f":"IF(B1826=\"\",\"\",LOOKUP(B1826,Spiele!B:B,Spiele!F:F))","v":""},"","","",null,null,-1,-1,1,0]
[null,null,{"$f":"IF(B1827=\"\",\"\",LOOKUP(B1827,Spiele!B:B,Spiele!C:C))","v":""},{"$f":"IF(B1827=\"\",\"\",LOOKUP(B1827,Spiele!B:B,Spiele!D:D))","v":""},{"$f":"IF(B1827=\"\",\"\",LOOKUP(B1827,Spiele!B:B,Spiele!E:E))","v":""},{"$f":"IF(B1827=\"\",\"\",LOOKUP(B1827,Spiele!B:B,Spiele!F:F))","v":""},"","","",null,null,-1,-1,1,0]
[null,null,{"$f":"IF(B1828=\"\",\"\",LOOKUP(B1828,Spiele!B:B,Spiele!C:C))","v":""},{"$f":"IF(B1828=\"\",\"\",LOOKUP(B1828,Spiele!B:B,Spiele!D:D))","v":""},{"$f":"IF(B1828=\"\",\"\",LOOKUP(B1828,Spiele!B:B,Spiele!E:E))","v":""},{"$f":"IF(B1828=\"\",\"\",LOOKUP(B1828,Spiele!B:B,Spiele!F:F))","v":""},"","","",null,null,-1,-1,1,0]
[null,null,{"$f":"IF(B1829=\"\",\"\",LOOKUP(B1829,Spiele!B:B,Spiele!C:C))","v":""},{"$f":"IF(B1829=\"\",\"\",LOOKUP(B1829,Spiele!B:B,Spiele!D:D))","v":""},{"$f":"IF(B1829=\"\",\"\",LOOKUP(B1829,Spiele!B:B,Spiele!E:E))","v":""},{"$f":"IF(B1829=\"\",\"\",LOOKUP(B1829,Spiele!B:B,Spiele!F:F))","v":""},"","","",null,null,-1,-1,1,0]
[null,null,{"$f":"IF(B1830=\"\",\"\",LOOKUP(B1830,Spiele!B:B,Spiele!C:C))","v":""},{"$f":"IF(B1830=\"\",\"\",LOOKUP(B1830,Spiele!B:B,Spiele!D:D))","v":""},{"$f":"IF(B1830=\"\",\"\",LOOKUP(B1830,Spiele!B:B,Spiele!E:E))","v":""},{"$f":"IF(B1830=\"\",\"\",LOOKUP(B1830,Spiele!B:B,Spiele!F:F))","v":""},"","","",null,null,-1,-1,1,0]
[null,null,{"$f":"IF(B1831=\"\",\"\",LOOKUP(B1831,Spiele!B:B,Spiele!C:C))","v":""},{"$f":"IF(B1831=\"\",\"\",LOOKUP(B1831,Spiele!B:B,Spiele!D:D))","v":""},{"$f":"IF(B1831=\"\",\"\",LOOKUP(B1831,Spiele!B:B,Spiele!E:E))","v":""},{"$f":"IF(B1831=\"\",\"\",LOOKUP(B1831,Spiele!B:B,Spiele!F:F))","v":""},"","","",null,null,-1,-1,1,0]
[null,null,{"$f":"IF(B1832=\"\",\"\",LOOKUP(B1832,Spiele!B:B,Spiele!C:C))","v":""},{"$f":"IF(B1832=\"\",\"\",LOOKUP(B1832,Spiele!B:B,Spiele!D:D))","v":""},{"$f":"IF(B1832=\"\",\"\",LOOKUP(B1832,Spiele!B:B,Spiele!E:E))","v":""},{"$f":"IF(B1832=\"\",\"\",LOOKUP(B1832,Spiele!B:B,Spiele!F:F))","v":""},"","","",null,null,-1,-1,1,0]
[null,null,{"$f":"IF(B1833=\"\",\"\",LOOKUP(B1833,Spiele!B:B,Spiele!C:C))","v":""},{"$f":"IF(B1833=\"\",\"\",LOOKUP(B1833,Spiele!B:B,Spiele!D:D))","v":""},{"$f":"IF(B1833=\"\",\"\",LOOKUP(B1833,Spiele!B:B,Spiele!E:E))","v":""},{"$f":"IF(B1833=\"\",\"\",LOOKUP(B1833,Spiele!B:B,Spiele!F:F))","v":""},"","","",null,null,-1,-1,1,0]
[null,null,{"$f":"IF(B1834=\"\",\"\",LOOKUP(B1834,Spiele!B:B,Spiele!C:C))","v":""},{"$f":"IF(B1834=\"\",\"\",LOOKUP(B1834,Spiele!B:B,Spiele!D:D))","v":""},{"$f":"IF(B1834=\"\",\"\",LOOKUP(B1834,Spiele!B:B,Spiele!E:E))","v":""},{"$f":"IF(B1834=\"\",\"\",LOOKUP(B1834,Spiele!B:B,Spiele!F:F))","v":""},{"$f":"IF(E1834=\"\",\"\",IF(E1834>F1834,1,0))","v":""},{"$f":"IF(F1834=\"\",\"\",IF(E1834<F1834,1,0))","v":""},{"$f":"IF(E1834=\"\",\"\",IF(E1834=F1834,1,0))","v":""},null,null,{"$f":"IF(E1834=\"\",-1,IF(J1834>K1834,1,-1))","v":-1},{"$f":"IF(F1834=\"\",-1,IF(J1834<K1834,1,-1))","v":-1},{"$f":"IF(E1834=\"-\",-1,IF(J1834=K1834,1,-1))","v":1},{"$f":"IF(E1834=\"\",0,IF(E1834=J1834,1,0)+IF(F1834=K1834,1,0)+IF(G1834=L1834,1,0)+IF(H1834=M1834,1,0)+IF(I1834=N1834,1,0))","v":0}]
[null,null,{"$f":"IF(B1835=\"\",\"\",LOOKUP(B1835,Spiele!B:B,Spiele!C:C))","v":""},{"$f":"IF(B1835=\"\",\"\",LOOKUP(B1835,Spiele!B:B,Spiele!D:D))","v":""},{"$f":"IF(B1835=\"\",\"\",LOOKUP(B1835,Spiele!B:B,Spiele!E:E))","v":""},{"$f":"IF(B1835=\"\",\"\",LOOKUP(B1835,Spiele!B:B,Spiele!F:F))","v":""},"","","",null,null,-1,-1,1,0]
[null,null,{"$f":"IF(B1836=\"\",\"\",LOOKUP(B1836,Spiele!B:B,Spiele!C:C))","v":""},{"$f":"IF(B1836=\"\",\"\",LOOKUP(B1836,Spiele!B:B,Spiele!D:D))","v":""},{"$f":"IF(B1836=\"\",\"\",LOOKUP(B1836,Spiele!B:B,Spiele!E:E))","v":""},{"$f":"IF(B1836=\"\",\"\",LOOKUP(B1836,Spiele!B:B,Spiele!F:F))","v":""},"","","",null,null,-1,-1,1,0]
[null,null,{"$f":"IF(B1837=\"\",\"\",LOOKUP(B1837,Spiele!B:B,Spiele!C:C))","v":""},{"$f":"IF(B1837=\"\",\"\",LOOKUP(B1837,Spiele!B:B,Spiele!D:D))","v":""},{"$f":"IF(B1837=\"\",\"\",LOOKUP(B1837,Spiele!B:B,Spiele!E:E))","v":""},{"$f":"IF(B1837=\"\",\"\",LOOKUP(B1837,Spiele!B:B,Spiele!F:F))","v":""},"","","",null,null,-1,-1,1,0]
[null,null,{"$f":"IF(B1838=\"\",\"\",LOOKUP(B1838,Spiele!B:B,Spiele!C:C))","v":""},{"$f":"IF(B1838=\"\",\"\",LOOKUP(B1838,Spiele!B:B,Spiele!D:D))","v":""},{"$f":"IF(B1838=\"\",\"\",LOOKUP(B1838,Spiele!B:B,Spiele!E:E))","v":""},{"$f":"IF(B1838=\"\",\"\",LOOKUP(B1838,Spiele!B:B,Spiele!F:F))","v":""},"","","",null,null,-1,-1,1,0]
[null,null,{"$f":"IF(B1839=\"\",\"\",LOOKUP(B1839,Spiele!B:B,Spiele!C:C))","v":""},{"$f":"IF(B1839=\"\",\"\",LOOKUP(B1839,Spiele!B:B,Spiele!D:D))","v":""},{"$f":"IF(B1839=\"\",\"\",LOOKUP(B1839,Spiele!B:B,Spiele!E:E))","v":""},{"$f":"IF(B1839=\"\",\"\",LOOKUP(B1839,Spiele!B:B,Spiele!F:F))","v":""},"","","",null,null,-1,-1,1,0]
[null,null,{"$f":"IF(B1840=\"\",\"\",LOOKUP(B1840,Spiele!B:B,Spiele!C:C))","v":""},{"$f":"IF(B1840=\"\",\"\",LOOKUP(B1840,Spiele!B:B,Spiele!D:D))","v":""},{"$f":"IF(B1840=\"\",\"\",LOOKUP(B1840,Spiele!B:B,Spiele!E:E))","v":""},{"$f":"IF(B1840=\"\",\"\",LOOKUP(B1840,Spiele!B:B,Spiele!F:F))","v":""},"","","",null,null,-1,-1,1,0]
[null,null,{"$f":"IF(B1841=\"\",\"\",LOOKUP(B1841,Spiele!B:B,Spiele!C:C))","v":""},{"$f":"IF(B1841=\"\",\"\",LOOKUP(B1841,Spiele!B:B,Spiele!D:D))","v":""},{"$f":"IF(B1841=\"\",\"\",LOOKUP(B1841,Spiele!B:B,Spiele!E:E))","v":""},{"$f":"IF(B1841=\"\",\"\",LOOKUP(B1841,Spiele!B:B,Spiele!F:F))","v":""},"","","",null,null,-1,-1,1,0]
[null,null,{"$f":"IF(B1842=\"\",\"\",LOOKUP(B1842,Spiele!B:B,Spiele!C:C))","v":""},{"$f":"IF(B1842=\"\",\"\",LOOKUP(B1842,Spiele!B:B,Spiele!D:D))","v":""},{"$f":"IF(B1842=\"\",\"\",LOOKUP(B1842,Spiele!B:B,Spiele!E:E))","v":""},{"$f":"IF(B1842=\"\",\"\",LOOKUP(B1842,Spiele!B:B,Spiele!F:F))","v":""},"","","",null,null,-1,-1,1,0]
[null,null,{"$f":"IF(B1843=\"\",\"\",LOOKUP(B1843,Spiele!B:B,Spiele!C:C))","v":""},{"$f":"IF(B1843=\"\",\"\",LOOKUP(B1843,Spiele!B:B,Spiele!D:D))","v":""},{"$f":"IF(B1843=\"\",\"\",LOOKUP(B1843,Spiele!B:B,Spiele!E:E))","v":""},{"$f":"IF(B1843=\"\",\"\",LOOKUP(B1843,Spiele!B:B,Spiele!F:F))","v":""},"","","",null,null,-1,-1,1,0]
[null,null,{"$f":"IF(B1844=\"\",\"\",LOOKUP(B1844,Spiele!B:B,Spiele!C:C))","v":""},{"$f":"IF(B1844=\"\",\"\",LOOKUP(B1844,Spiele!B:B,Spiele!D:D))","v":""},{"$f":"IF(B1844=\"\",\"\",LOOKUP(B1844,Spiele!B:B,Spiele!E:E))","v":""},{"$f":"IF(B1844=\"\",\"\",LOOKUP(B1844,Spiele!B:B,Spiele!F:F))","v":""},"","","",null,null,-1,-1,1,0]
[null,null,{"$f":"IF(B1845=\"\",\"\",LOOKUP(B1845,Spiele!B:B,Spiele!C:C))","v":""},{"$f":"IF(B1845=\"\",\"\",LOOKUP(B1845,Spiele!B:B,Spiele!D:D))","v":""},{"$f":"IF(B1845=\"\",\"\",LOOKUP(B1845,Spiele!B:B,Spiele!E:E))","v":""},{"$f":"IF(B1845=\"\",\"\",LOOKUP(B1845,Spiele!B:B,Spiele!F:F))","v":""},"","","",null,null,-1,-1,1,0]
[null,null,{"$f":"IF(B1846=\"\",\"\",LOOKUP(B1846,Spiele!B:B,Spiele!C:C))","v":""},{"$f":"IF(B1846=\"\",\"\",LOOKUP(B1846,Spiele!B:B,Spiele!D:D))","v":""},{"$f":"IF(B1846=\"\",\"\",LOOKUP(B1846,Spiele!B:B,Spiele!E:E))","v":""},{"$f":"IF(B1846=\"\",\"\",LOOKUP(B1846,Spiele!B:B,Spiele!F:F))","v":""},"","","",null,null,-1,-1,1,0]
[null,null,{"$f":"IF(B1847=\"\",\"\",LOOKUP(B1847,Spiele!B:B,Spiele!C:C))","v":""},{"$f":"IF(B1847=\"\",\"\",LOOKUP(B1847,Spiele!B:B,Spiele!D:D))","v":""},{"$f":"IF(B1847=\"\",\"\",LOOKUP(B1847,Spiele!B:B,Spiele!E:E))","v":""},{"$f":"IF(B1847=\"\",\"\",LOOKUP(B1847,Spiele!B:B,Spiele!F:F))","v":""},"","","",null,null,-1,-1,1,0]
[null,null,{"$f":"IF(B1848=\"\",\"\",LOOKUP(B1848,Spiele!B:B,Spiele!C:C))","v":""},{"$f":"IF(B1848=\"\",\"\",LOOKUP(B1848,Spiele!B:B,Spiele!D:D))","v":""},{"$f":"IF(B1848=\"\",\"\",LOOKUP(B1848,Spiele!B:B,Spiele!E:E))","v":""},{"$f":"IF(B1848=\"\",\"\",LOOKUP(B1848,Spiele!B:B,Spiele!F:F))","v":""},"","","",null,null,-1,-1,1,0]
[null,null,{"$f":"IF(B1849=\"\",\"\",LOOKUP(B1849,Spiele!B:B,Spiele!C:C))","v":""},{"$f":"IF(B1849=\"\",\"\",LOOKUP(B1849,Spiele!B:B,Spiele!D:D))","v":""},{"$f":"IF(B1849=\"\",\"\",LOOKUP(B1849,Spiele!B:B,Spiele!E:E))","v":""},{"$f":"IF(B1849=\"\",\"\",LOOKUP(B1849,Spiele!B:B,Spiele!F:F))","v":""},"","","",null,null,-1,-1,1,0]
[null,null,{"$f":"IF(B1850=\"\",\"\",LOOKUP(B1850,Spiele!B:B,Spiele!C:C))","v":""},{"$f":"IF(B1850=\"\",\"\",LOOKUP(B1850,Spiele!B:B,Spiele!D:D))","v":""},{"$f":"IF(B1850=\"\",\"\",LOOKUP(B1850,Spiele!B:B,Spiele!E:E))","v":""},{"$f":"IF(B1850=\"\",\"\",LOOKUP(B1850,Spiele!B:B,Spiele!F:F))","v":""},"","","",null,null,-1,-1,1,0]
[null,null,{"$f":"IF(B1851=\"\",\"\",LOOKUP(B1851,Spiele!B:B,Spiele!C:C))","v":""},{"$f":"IF(B1851=\"\",\"\",LOOKUP(B1851,Spiele!B:B,Spiele!D:D))","v":""},{"$f":"IF(B1851=\"\",\"\",LOOKUP(B1851,Spiele!B:B,Spiele!E:E))","v":""},{"$f":"IF(B1851=\"\",\"\",LOOKUP(B1851,Spiele!B:B,Spiele!F:F))","v":""},"","","",null,null,-1,-1,1,0]
[null,null,{"$f":"IF(B1852=\"\",\"\",LOOKUP(B1852,Spiele!B:B,Spiele!C:C))","v":""},{"$f":"IF(B1852=\"\",\"\",LOOKUP(B1852,Spiele!B:B,Spiele!D:D))","v":""},{"$f":"IF(B1852=\"\",\"\",LOOKUP(B1852,Spiele!B:B,Spiele!E:E))","v":""},{"$f":"IF(B1852=\"\",\"\",LOOKUP(B1852,Spiele!B:B,Spiele!F:F))","v":""},"","","",null,null,-1,-1,1,0]
[null,null,{"$f":"IF(B1853=\"\",\"\",LOOKUP(B1853,Spiele!B:B,Spiele!C:C))","v":""},{"$f":"IF(B1853=\"\",\"\",LOOKUP(B1853,Spiele!B:B,Spiele!D:D))","v":""},{"$f":"IF(B1853=\"\",\"\",LOOKUP(B1853,Spiele!B:B,Spiele!E:E))","v":""},{"$f":"IF(B1853=\"\",\"\",LOOKUP(B1853,Spiele!B:B,Spiele!F:F))","v":""},"","","",null,null,-1,-1,1,0]
[null,null,{"$f":"IF(B1854=\"\",\"\",LOOKUP(B1854,Spiele!B:B,Spiele!C:C))","v":""},{"$f":"IF(B1854=\"\",\"\",LOOKUP(B1854,Spiele!B:B,Spiele!D:D))","v":""},{"$f":"IF(B1854=\"\",\"\",LOOKUP(B1854,Spiele!B:B,Spiele!E:E))","v":""},{"$f":"IF(B1854=\"\",\"\",LOOKUP(B1854,Spiele!B:B,Spiele!F:F))","v":""},"","","",null,null,-1,-1,1,0]
[null,null,{"$f":"IF(B1855=\"\",\"\",LOOKUP(B1855,Spiele!B:B,Spiele!C:C))","v":""},{"$f":"IF(B1855=\"\",\"\",LOOKUP(B1855,Spiele!B:B,Spiele!D:D))","v":""},{"$f":"IF(B1855=\"\",\"\",LOOKUP(B1855,Spiele!B:B,Spiele!E:E))","v":""},{"$f":"IF(B1855=\"\",\"\",LOOKUP(B1855,Spiele!B:B,Spiele!F:F))","v":""},"","","",null,null,-1,-1,1,0]
[null,null,{"$f":"IF(B1856=\"\",\"\",LOOKUP(B1856,Spiele!B:B,Spiele!C:C))","v":""},{"$f":"IF(B1856=\"\",\"\",LOOKUP(B1856,Spiele!B:B,Spiele!D:D))","v":""},{"$f":"IF(B1856=\"\",\"\",LOOKUP(B1856,Spiele!B:B,Spiele!E:E))","v":""},{"$f":"IF(B1856=\"\",\"\",LOOKUP(B1856,Spiele!B:B,Spiele!F:F))","v":""},"","","",null,null,-1,-1,1,0]
[null,null,{"$f":"IF(B1857=\"\",\"\",LOOKUP(B1857,Spiele!B:B,Spiele!C:C))","v":""},{"$f":"IF(B1857=\"\",\"\",LOOKUP(B1857,Spiele!B:B,Spiele!D:D))","v":""},{"$f":"IF(B1857=\"\",\"\",LOOKUP(B1857,Spiele!B:B,Spiele!E:E))","v":""},{"$f":"IF(B1857=\"\",\"\",LOOKUP(B1857,Spiele!B:B,Spiele!F:F))","v":""},"","","",null,null,-1,-1,1,0]
[null,null,{"$f":"IF(B1858=\"\",\"\",LOOKUP(B1858,Spiele!B:B,Spiele!C:C))","v":""},{"$f":"IF(B1858=\"\",\"\",LOOKUP(B1858,Spiele!B:B,Spiele!D:D))","v":""},{"$f":"IF(B1858=\"\",\"\",LOOKUP(B1858,Spiele!B:B,Spiele!E:E))","v":""},{"$f":"IF(B1858=\"\",\"\",LOOKUP(B1858,Spiele!B:B,Spiele!F:F))","v":""},"","","",null,null,-1,-1,1,0]
[null,null,{"$f":"IF(B1859=\"\",\"\",LOOKUP(B1859,Spiele!B:B,Spiele!C:C))","v":""},{"$f":"IF(B1859=\"\",\"\",LOOKUP(B1859,Spiele!B:B,Spiele!D:D))","v":""},{"$f":"IF(B1859=\"\",\"\",LOOKUP(B1859,Spiele!B:B,Spiele!E:E))","v":""},{"$f":"IF(B1859=\"\",\"\",LOOKUP(B1859,Spiele!B:B,Spiele!F:F))","v":""},"","","",null,null,-1,-1,1,0]
[null,null,{"$f":"IF(B1860=\"\",\"\",LOOKUP(B1860,Spiele!B:B,Spiele!C:C))","v":""},{"$f":"IF(B1860=\"\",\"\",LOOKUP(B1860,Spiele!B:B,Spiele!D:D))","v":""},{"$f":"IF(B1860=\"\",\"\",LOOKUP(B1860,Spiele!B:B,Spiele!E:E))","v":""},{"$f":"IF(B1860=\"\",\"\",LOOKUP(B1860,Spiele!B:B,Spiele!F:F))","v":""},"","","",null,null,-1,-1,1,0]
[null,null,{"$f":"IF(B1861=\"\",\"\",LOOKUP(B1861,Spiele!B:B,Spiele!C:C))","v":""},{"$f":"IF(B1861=\"\",\"\",LOOKUP(B1861,Spiele!B:B,Spiele!D:D))","v":""},{"$f":"IF(B1861=\"\",\"\",LOOKUP(B1861,Spiele!B:B,Spiele!E:E))","v":""},{"$f":"IF(B1861=\"\",\"\",LOOKUP(B1861,Spiele!B:B,Spiele!F:F))","v":""},"","","",null,null,-1,-1,1,0]
[null,null,{"$f":"IF(B1862=\"\",\"\",LOOKUP(B1862,Spiele!B:B,Spiele!C:C))","v":""},{"$f":"IF(B1862=\"\",\"\",LOOKUP(B1862,Spiele!B:B,Spiele!D:D))","v":""},{"$f":"IF(B1862=\"\",\"\",LOOKUP(B1862,Spiele!B:B,Spiele!E:E))","v":""},{"$f":"IF(B1862=\"\",\"\",LOOKUP(B1862,Spiele!B:B,Spiele!F:F))","v":""},"","","",null,null,-1,-1,1,0]
[null,null,{"$f":"IF(B1863=\"\",\"\",LOOKUP(B1863,Spiele!B:B,Spiele!C:C))","v":""},{"$f":"IF(B1863=\"\",\"\",LOOKUP(B1863,Spiele!B:B,Spiele!D:D))","v":""},{"$f":"IF(B1863=\"\",\"\",LOOKUP(B1863,Spiele!B:B,Spiele!E:E))","v":""},{"$f":"IF(B1863=\"\",\"\",LOOKUP(B1863,Spiele!B:B,Spiele!F:F))","v":""},"","","",null,null,-1,-1,1,0]
[null,null,{"$f":"IF(B1864=\"\",\"\",LOOKUP(B1864,Spiele!B:B,Spiele!C:C))","v":""},{"$f":"IF(B1864=\"\",\"\",LOOKUP(B1864,Spiele!B:B,Spiele!D:D))","v":""},{"$f":"IF(B1864=\"\",\"\",LOOKUP(B1864,Spiele!B:B,Spiele!E:E))","v":""},{"$f":"IF(B1864=\"\",\"\",LOOKUP(B1864,Spiele!B:B,Spiele!F:F))","v":""},"","","",null,null,-1,-1,1,0]
[null,null,{"$f":"IF(B1865=\"\",\"\",LOOKUP(B1865,Spiele!B:B,Spiele!C:C))","v":""},{"$f":"IF(B1865=\"\",\"\",LOOKUP(B1865,Spiele!B:B,Spiele!D:D))","v":""},{"$f":"IF(B1865=\"\",\"\",LOOKUP(B1865,Spiele!B:B,Spiele!E:E))","v":""},{"$f":"IF(B1865=\"\",\"\",LOOKUP(B1865,Spiele!B:B,Spiele!F:F))","v":""},"","","",null,null,-1,-1,1,0]
[null,null,{"$f":"IF(B1866=\"\",\"\",LOOKUP(B1866,Spiele!B:B,Spiele!C:C))","v":""},{"$f":"IF(B1866=\"\",\"\",LOOKUP(B1866,Spiele!B:B,Spiele!D:D))","v":""},{"$f":"IF(B1866=\"\",\"\",LOOKUP(B1866,Spiele!B:B,Spiele!E:E))","v":""},{"$f":"IF(B1866=\"\",\"\",LOOKUP(B1866,Spiele!B:B,Spiele!F:F))","v":""},"","","",null,null,-1,-1,1,0]
[null,null,{"$f":"IF(B1867=\"\",\"\",LOOKUP(B1867,Spiele!B:B,Spiele!C:C))","v":""},{"$f":"IF(B1867=\"\",\"\",LOOKUP(B1867,Spiele!B:B,Spiele!D:D))","v":""},{"$f":"IF(B1867=\"\",\"\",LOOKUP(B1867,Spiele!B:B,Spiele!E:E))","v":""},{"$f":"IF(B1867=\"\",\"\",LOOKUP(B1867,Spiele!B:B,Spiele!F:F))","v":""},"","","",null,null,-1,-1,1,0]
[null,null,{"$f":"IF(B1868=\"\",\"\",LOOKUP(B1868,Spiele!B:B,Spiele!C:C))","v":""},{"$f":"IF(B1868=\"\",\"\",LOOKUP(B1868,Spiele!B:B,Spiele!D:D))","v":""},{"$f":"IF(B1868=\"\",\"\",LOOKUP(B1868,Spiele!B:B,Spiele!E:E))","v":""},{"$f":"IF(B1868=\"\",\"\",LOOKUP(B1868,Spiele!B:B,Spiele!F:F))","v":""},"","","",null,null,-1,-1,1,0]
[null,null,{"$f":"IF(B1869=\"\",\"\",LOOKUP(B1869,Spiele!B:B,Spiele!C:C))","v":""},{"$f":"IF(B1869=\"\",\"\",LOOKUP(B1869,Spiele!B:B,Spiele!D:D))","v":""},{"$f":"IF(B1869=\"\",\"\",LOOKUP(B1869,Spiele!B:B,Spiele!E:E))","v":""},{"$f":"IF(B1869=\"\",\"\",LOOKUP(B1869,Spiele!B:B,Spiele!F:F))","v":""},"","","",null,null,-1,-1,1,0]
[null,null,{"$f":"IF(B1870=\"\",\"\",LOOKUP(B1870,Spiele!B:B,Spiele!C:C))","v":""},{"$f":"IF(B1870=\"\",\"\",LOOKUP(B1870,Spiele!B:B,Spiele!D:D))","v":""},{"$f":"IF(B1870=\"\",\"\",LOOKUP(B1870,Spiele!B:B,Spiele!E:E))","v":""},{"$f":"IF(B1870=\"\",\"\",LOOKUP(B1870,Spiele!B:B,Spiele!F:F))","v":""},"","","",null,null,-1,-1,1,0]
[null,null,{"$f":"IF(B1871=\"\",\"\",LOOKUP(B1871,Spiele!B:B,Spiele!C:C))","v":""},{"$f":"IF(B1871=\"\",\"\",LOOKUP(B1871,Spiele!B:B,Spiele!D:D))","v":""},{"$f":"IF(B1871=\"\",\"\",LOOKUP(B1871,Spiele!B:B,Spiele!E:E))","v":""},{"$f":"IF(B1871=\"\",\"\",LOOKUP(B1871,Spiele!B:B,Spiele!F:F))","v":""},"","","",null,null,-1,-1,1,0]
[null,null,{"$f":"IF(B1872=\"\",\"\",LOOKUP(B1872,Spiele!B:B,Spiele!C:C))","v":""},{"$f":"IF(B1872=\"\",\"\",LOOKUP(B1872,Spiele!B:B,Spiele!D:D))","v":""},{"$f":"IF(B1872=\"\",\"\",LOOKUP(B1872,Spiele!B:B,Spiele!E:E))","v":""},{"$f":"IF(B1872=\"\",\"\",LOOKUP(B1872,Spiele!B:B,Spiele!F:F))","v":""},"","","",null,null,-1,-1,1,0]
[null,null,{"$f":"IF(B1873=\"\",\"\",LOOKUP(B1873,Spiele!B:B,Spiele!C:C))","v":""},{"$f":"IF(B1873=\"\",\"\",LOOKUP(B1873,Spiele!B:B,Spiele!D:D))","v":""},{"$f":"IF(B1873=\"\",\"\",LOOKUP(B1873,Spiele!B:B,Spiele!E:E))","v":""},{"$f":"IF(B1873=\"\",\"\",LOOKUP(B1873,Spiele!B:B,Spiele!F:F))","v":""},"","","",null,null,-1,-1,1,0]
[null,null,{"$f":"IF(B1874=\"\",\"\",LOOKUP(B1874,Spiele!B:B,Spiele!C:C))","v":""},{"$f":"IF(B1874=\"\",\"\",LOOKUP(B1874,Spiele!B:B,Spiele!D:D))","v":""},{"$f":"IF(B1874=\"\",\"\",LOOKUP(B1874,Spiele!B:B,Spiele!E:E))","v":""},{"$f":"IF(B1874=\"\",\"\",LOOKUP(B1874,Spiele!B:B,Spiele!F:F))","v":""},"","","",null,null,-1,-1,1,0]
[null,null,{"$f":"IF(B1875=\"\",\"\",LOOKUP(B1875,Spiele!B:B,Spiele!C:C))","v":""},{"$f":"IF(B1875=\"\",\"\",LOOKUP(B1875,Spiele!B:B,Spiele!D:D))","v":""},{"$f":"IF(B1875=\"\",\"\",LOOKUP(B1875,Spiele!B:B,Spiele!E:E))","v":""},{"$f":"IF(B1875=\"\",\"\",LOOKUP(B1875,Spiele!B:B,Spiele!F:F))","v":""},"","","",null,null,-1,-1,1,0]
[null,null,{"$f":"IF(B1876=\"\",\"\",LOOKUP(B1876,Spiele!B:B,Spiele!C:C))","v":""},{"$f":"IF(B1876=\"\",\"\",LOOKUP(B1876,Spiele!B:B,Spiele!D:D))","v":""},{"$f":"IF(B1876=\"\",\"\",LOOKUP(B1876,Spiele!B:B,Spiele!E:E))","v":""},{"$f":"IF(B1876=\"\",\"\",LOOKUP(B1876,Spiele!B:B,Spiele!F:F))","v":""},"","","",null,null,-1,-1,1,0]
[null,null,{"$f":"IF(B1877=\"\",\"\",LOOKUP(B1877,Spiele!B:B,Spiele!C:C))","v":""},{"$f":"IF(B1877=\"\",\"\",LOOKUP(B1877,Spiele!B:B,Spiele!D:D))","v":""},{"$f":"IF(B1877=\"\",\"\",LOOKUP(B1877,Spiele!B:B,Spiele!E:E))","v":""},{"$f":"IF(B1877=\"\",\"\",LOOKUP(B1877,Spiele!B:B,Spiele!F:F))","v":""},"","","",null,null,-1,-1,1,0]
[null,null,{"$f":"IF(B1878=\"\",\"\",LOOKUP(B1878,Spiele!B:B,Spiele!C:C))","v":""},{"$f":"IF(B1878=\"\",\"\",LOOKUP(B1878,Spiele!B:B,Spiele!D:D))","v":""},{"$f":"IF(B1878=\"\",\"\",LOOKUP(B1878,Spiele!B:B,Spiele!E:E))","v":""},{"$f":"IF(B1878=\"\",\"\",LOOKUP(B1878,Spiele!B:B,Spiele!F:F))","v":""},"","","",null,null,-1,-1,1,0]
[null,null,{"$f":"IF(B1879=\"\",\"\",LOOKUP(B1879,Spiele!B:B,Spiele!C:C))","v":""},{"$f":"IF(B1879=\"\",\"\",LOOKUP(B1879,Spiele!B:B,Spiele!D:D))","v":""},{"$f":"IF(B1879=\"\",\"\",LOOKUP(B1879,Spiele!B:B,Spiele!E:E))","v":""},{"$f":"IF(B1879=\"\",\"\",LOOKUP(B1879,Spiele!B:B,Spiele!F:F))","v":""},"","","",null,null,-1,-1,1,0]
[null,null,{"$f":"IF(B1880=\"\",\"\",LOOKUP(B1880,Spiele!B:B,Spiele!C:C))","v":""},{"$f":"IF(B1880=\"\",\"\",LOOKUP(B1880,Spiele!B:B,Spiele!D:D))","v":""},{"$f":"IF(B1880=\"\",\"\",LOOKUP(B1880,Spiele!B:B,Spiele!E:E))","v":""},{"$f":"IF(B1880=\"\",\"\",LOOKUP(B1880,Spiele!B:B,Spiele!F:F))","v":""},"","","",null,null,-1,-1,1,0]
[null,null,{"$f":"IF(B1881=\"\",\"\",LOOKUP(B1881,Spiele!B:B,Spiele!C:C))","v":""},{"$f":"IF(B1881=\"\",\"\",LOOKUP(B1881,Spiele!B:B,Spiele!D:D))","v":""},{"$f":"IF(B1881=\"\",\"\",LOOKUP(B1881,Spiele!B:B,Spiele!E:E))","v":""},{"$f":"IF(B1881=\"\",\"\",LOOKUP(B1881,Spiele!B:B,Spiele!F:F))","v":""},"","","",null,null,-1,-1,1,0]
[null,null,{"$f":"IF(B1882=\"\",\"\",LOOKUP(B1882,Spiele!B:B,Spiele!C:C))","v":""},{"$f":"IF(B1882=\"\",\"\",LOOKUP(B1882,Spiele!B:B,Spiele!D:D))","v":""},{"$f":"IF(B1882=\"\",\"\",LOOKUP(B1882,Spiele!B:B,Spiele!E:E))","v":""},{"$f":"IF(B1882=\"\",\"\",LOOKUP(B1882,Spiele!B:B,Spiele!F:F))","v":""},"","","",null,null,-1,-1,1,0]
[null,null,{"$f":"IF(B1883=\"\",\"\",LOOKUP(B1883,Spiele!B:B,Spiele!C:C))","v":""},{"$f":"IF(B1883=\"\",\"\",LOOKUP(B1883,Spiele!B:B,Spiele!D:D))","v":""},{"$f":"IF(B1883=\"\",\"\",LOOKUP(B1883,Spiele!B:B,Spiele!E:E))","v":""},{"$f":"IF(B1883=\"\",\"\",LOOKUP(B1883,Spiele!B:B,Spiele!F:F))","v":""},"","","",null,null,-1,-1,1,0]
[null,null,{"$f":"IF(B1884=\"\",\"\",LOOKUP(B1884,Spiele!B:B,Spiele!C:C))","v":""},{"$f":"IF(B1884=\"\",\"\",LOOKUP(B1884,Spiele!B:B,Spiele!D:D))","v":""},{"$f":"IF(B1884=\"\",\"\",LOOKUP(B1884,Spiele!B:B,Spiele!E:E))","v":""},{"$f":"IF(B1884=\"\",\"\",LOOKUP(B1884,Spiele!B:B,Spiele!F:F))","v":""},"","","",null,null,-1,-1,1,0]
[null,null,{"$f":"IF(B1885=\"\",\"\",LOOKUP(B1885,Spiele!B:B,Spiele!C:C))","v":""},{"$f":"IF(B1885=\"\",\"\",LOOKUP(B1885,Spiele!B:B,Spiele!D:D))","v":""},{"$f":"IF(B1885=\"\",\"\",LOOKUP(B1885,Spiele!B:B,Spiele!E:E))","v":""},{"$f":"IF(B1885=\"\",\"\",LOOKUP(B1885,Spiele!B:B,Spiele!F:F))","v":""},"","","",null,null,-1,-1,1,0]
[null,null,{"$f":"IF(B1886=\"\",\"\",LOOKUP(B1886,Spiele!B:B,Spiele!C:C))","v":""},{"$f":"IF(B1886=\"\",\"\",LOOKUP(B1886,Spiele!B:B,Spiele!D:D))","v":""},{"$f":"IF(B1886=\"\",\"\",LOOKUP(B1886,Spiele!B:B,Spiele!E:E))","v":""},{"$f":"IF(B1886=\"\",\"\",LOOKUP(B1886,Spiele!B:B,Spiele!F:F))","v":""},"","","",null,null,-1,-1,1,0]
[null,null,{"$f":"IF(B1887=\"\",\"\",LOOKUP(B1887,Spiele!B:B,Spiele!C:C))","v":""},{"$f":"IF(B1887=\"\",\"\",LOOKUP(B1887,Spiele!B:B,Spiele!D:D))","v":""},{"$f":"IF(B1887=\"\",\"\",LOOKUP(B1887,Spiele!B:B,Spiele!E:E))","v":""},{"$f":"IF(B1887=\"\",\"\",LOOKUP(B1887,Spiele!B:B,Spiele!F:F))","v":""},"","","",null,null,-1,-1,1,0]
[null,null,{"$f":"IF(B1888=\"\",\"\",LOOKUP(B1888,Spiele!B:B,Spiele!C:C))","v":""},{"$f":"IF(B1888=\"\",\"\",LOOKUP(B1888,Spiele!B:B,Spiele!D:D))","v":""},{"$f":"IF(B1888=\"\",\"\",LOOKUP(B1888,Spiele!B:B,Spiele!E:E))","v":""},{"$f":"IF(B1888=\"\",\"\",LOOKUP(B1888,Spiele!B:B,Spiele!F:F))","v":""},"","","",null,null,-1,-1,1,0]
[null,null,{"$f":"IF(B1889=\"\",\"\",LOOKUP(B1889,Spiele!B:B,Spiele!C:C))","v":""},{"$f":"IF(B1889=\"\",\"\",LOOKUP(B1889,Spiele!B:B,Spiele!D:D))","v":""},{"$f":"IF(B1889=\"\",\"\",LOOKUP(B1889,Spiele!B:B,Spiele!E:E))","v":""},{"$f":"IF(B1889=\"\",\"\",LOOKUP(B1889,Spiele!B:B,Spiele!F:F))","v":""},"","","",null,null,-1,-1,1,0]
[null,null,{"$f":"IF(B1890=\"\",\"\",LOOKUP(B1890,Spiele!B:B,Spiele!C:C))","v":""},{"$f":"IF(B1890=\"\",\"\",LOOKUP(B1890,Spiele!B:B,Spiele!D:D))","v":""},{"$f":"IF(B1890=\"\",\"\",LOOKUP(B1890,Spiele!B:B,Spiele!E:E))","v":""},{"$f":"IF(B1890=\"\",\"\",LOOKUP(B1890,Spiele!B:B,Spiele!F:F))","v":""},"","","",null,null,-1,-1,1,0]
[null,null,{"$f":"IF(B1891=\"\",\"\",LOOKUP(B1891,Spiele!B:B,Spiele!C:C))","v":""},{"$f":"IF(B1891=\"\",\"\",LOOKUP(B1891,Spiele!B:B,Spiele!D:D))","v":""},{"$f":"IF(B1891=\"\",\"\",LOOKUP(B1891,Spiele!B:B,Spiele!E:E))","v":""},{"$f":"IF(B1891=\"\",\"\",LOOKUP(B1891,Spiele!B:B,Spiele!F:F))","v":""},"","","",null,null,-1,-1,1,0]
[null,null,{"$f":"IF(B1892=\"\",\"\",LOOKUP(B1892,Spiele!B:B,Spiele!C:C))","v":""},{"$f":"IF(B1892=\"\",\"\",LOOKUP(B1892,Spiele!B:B,Spiele!D:D))","v":""},{"$f":"IF(B1892=\"\",\"\",LOOKUP(B1892,Spiele!B:B,Spiele!E:E))","v":""},{"$f":"IF(B1892=\"\",\"\",LOOKUP(B1892,Spiele!B:B,Spiele!F:F))","v":""},"","","",null,null,-1,-1,1,0]
[null,null,{"$f":"IF(B1893=\"\",\"\",LOOKUP(B1893,Spiele!B:B,Spiele!C:C))","v":""},{"$f":"IF(B1893=\"\",\"\",LOOKUP(B1893,Spiele!B:B,Spiele!D:D))","v":""},{"$f":"IF(B1893=\"\",\"\",LOOKUP(B1893,Spiele!B:B,Spiele!E:E))","v":""},{"$f":"IF(B1893=\"\",\"\",LOOKUP(B1893,Spiele!B:B,Spiele!F:F))","v":""},"","","",null,null,-1,-1,1,0]
[null,null,{"$f":"IF(B1894=\"\",\"\",LOOKUP(B1894,Spiele!B:B,Spiele!C:C))","v":""},{"$f":"IF(B1894=\"\",\"\",LOOKUP(B1894,Spiele!B:B,Spiele!D:D))","v":""},{"$f":"IF(B1894=\"\",\"\",LOOKUP(B1894,Spiele!B:B,Spiele!E:E))","v":""},{"$f":"IF(B1894=\"\",\"\",LOOKUP(B1894,Spiele!B:B,Spiele!F:F))","v":""},"","","",null,null,-1,-1,1,0]
[null,null,{"$f":"IF(B1895=\"\",\"\",LOOKUP(B1895,Spiele!B:B,Spiele!C:C))","v":""},{"$f":"IF(B1895=\"\",\"\",LOOKUP(B1895,Spiele!B:B,Spiele!D:D))","v":""},{"$f":"IF(B1895=\"\",\"\",LOOKUP(B1895,Spiele!B:B,Spiele!E:E))","v":""},{"$f":"IF(B1895=\"\",\"\",LOOKUP(B1895,Spiele!B:B,Spiele!F:F))","v":""},"","","",null,null,-1,-1,1,0]
[null,null,{"$f":"IF(B1896=\"\",\"\",LOOKUP(B1896,Spiele!B:B,Spiele!C:C))","v":""},{"$f":"IF(B1896=\"\",\"\",LOOKUP(B1896,Spiele!B:B,Spiele!D:D))","v":""},{"$f":"IF(B1896=\"\",\"\",LOOKUP(B1896,Spiele!B:B,Spiele!E:E))","v":""},{"$f":"IF(B1896=\"\",\"\",LOOKUP(B1896,Spiele!B:B,Spiele!F:F))","v":""},"","","",null,null,-1,-1,1,0]
[null,null,{"$f":"IF(B1897=\"\",\"\",LOOKUP(B1897,Spiele!B:B,Spiele!C:C))","v":""},{"$f":"IF(B1897=\"\",\"\",LOOKUP(B1897,Spiele!B:B,Spiele!D:D))","v":""},{"$f":"IF(B1897=\"\",\"\",LOOKUP(B1897,Spiele!B:B,Spiele!E:E))","v":""},{"$f":"IF(B1897=\"\",\"\",LOOKUP(B1897,Spiele!B:B,Spiele!F:F))","v":""},"","","",null,null,-1,-1,1,0]
[null,null,{"$f":"IF(B1898=\"\",\"\",LOOKUP(B1898,Spiele!B:B,Spiele!C:C))","v":""},{"$f":"IF(B1898=\"\",\"\",LOOKUP(B1898,Spiele!B:B,Spiele!D:D))","v":""},{"$f":"IF(B1898=\"\",\"\",LOOKUP(B1898,Spiele!B:B,Spiele!E:E))","v":""},{"$f":"IF(B1898=\"\",\"\",LOOKUP(B1898,Spiele!B:B,Spiele!F:F))","v":""},{"$f":"IF(E1898=\"\",\"\",IF(E1898>F1898,1,0))","v":""},{"$f":"IF(F1898=\"\",\"\",IF(E1898<F1898,1,0))","v":""},{"$f":"IF(E1898=\"\",\"\",IF(E1898=F1898,1,0))","v":""},null,null,{"$f":"IF(E1898=\"\",-1,IF(J1898>K1898,1,-1))","v":-1},{"$f":"IF(F1898=\"\",-1,IF(J1898<K1898,1,-1))","v":-1},{"$f":"IF(E1898=\"-\",-1,IF(J1898=K1898,1,-1))","v":1},{"$f":"IF(E1898=\"\",0,IF(E1898=J1898,1,0)+IF(F1898=K1898,1,0)+IF(G1898=L1898,1,0)+IF(H1898=M1898,1,0)+IF(I1898=N1898,1,0))","v":0}]
[null,null,{"$f":"IF(B1899=\"\",\"\",LOOKUP(B1899,Spiele!B:B,Spiele!C:C))","v":""},{"$f":"IF(B1899=\"\",\"\",LOOKUP(B1899,Spiele!B:B,Spiele!D:D))","v":""},{"$f":"IF(B1899=\"\",\"\",LOOKUP(B1899,Spiele!B:B,Spiele!E:E))","v":""},{"$f":"IF(B1899=\"\",\"\",LOOKUP(B1899,Spiele!B:B,Spiele!F:F))","v":""},"","","",null,null,-1,-1,1,0]
[null,null,{"$f":"IF(B1900=\"\",\"\",LOOKUP(B1900,Spiele!B:B,Spiele!C:C))","v":""},{"$f":"IF(B1900=\"\",\"\",LOOKUP(B1900,Spiele!B:B,Spiele!D:D))","v":""},{"$f":"IF(B1900=\"\",\"\",LOOKUP(B1900,Spiele!B:B,Spiele!E:E))","v":""},{"$f":"IF(B1900=\"\",\"\",LOOKUP(B1900,Spiele!B:B,Spiele!F:F))","v":""},"","","",null,null,-1,-1,1,0]
[null,null,{"$f":"IF(B1901=\"\",\"\",LOOKUP(B1901,Spiele!B:B,Spiele!C:C))","v":""},{"$f":"IF(B1901=\"\",\"\",LOOKUP(B1901,Spiele!B:B,Spiele!D:D))","v":""},{"$f":"IF(B1901=\"\",\"\",LOOKUP(B1901,Spiele!B:B,Spiele!E:E))","v":""},{"$f":"IF(B1901=\"\",\"\",LOOKUP(B1901,Spiele!B:B,Spiele!F:F))","v":""},"","","",null,null,-1,-1,1,0]
[null,null,{"$f":"IF(B1902=\"\",\"\",LOOKUP(B1902,Spiele!B:B,Spiele!C:C))","v":""},{"$f":"IF(B1902=\"\",\"\",LOOKUP(B1902,Spiele!B:B,Spiele!D:D))","v":""},{"$f":"IF(B1902=\"\",\"\",LOOKUP(B1902,Spiele!B:B,Spiele!E:E))","v":""},{"$f":"IF(B1902=\"\",\"\",LOOKUP(B1902,Spiele!B:B,Spiele!F:F))","v":""},"","","",null,null,-1,-1,1,0]
[null,null,{"$f":"IF(B1903=\"\",\"\",LOOKUP(B1903,Spiele!B:B,Spiele!C:C))","v":""},{"$f":"IF(B1903=\"\",\"\",LOOKUP(B1903,Spiele!B:B,Spiele!D:D))","v":""},{"$f":"IF(B1903=\"\",\"\",LOOKUP(B1903,Spiele!B:B,Spiele!E:E))","v":""},{"$f":"IF(B1903=\"\",\"\",LOOKUP(B1903,Spiele!B:B,Spiele!F:F))","v":""},"","","",null,null,-1,-1,1,0]
[null,null,{"$f":"IF(B1904=\"\",\"\",LOOKUP(B1904,Spiele!B:B,Spiele!C:C))","v":""},{"$f":"IF(B1904=\"\",\"\",LOOKUP(B1904,Spiele!B:B,Spiele!D:D))","v":""},{"$f":"IF(B1904=\"\",\"\",LOOKUP(B1904,Spiele!B:B,Spiele!E:E))","v":""},{"$f":"IF(B1904=\"\",\"\",LOOKUP(B1904,Spiele!B:B,Spiele!F:F))","v":""},"","","",null,null,-1,-1,1,0]
[null,null,{"$f":"IF(B1905=\"\",\"\",LOOKUP(B1905,Spiele!B:B,Spiele!C:C))","v":""},{"$f":"IF(B1905=\"\",\"\",LOOKUP(B1905,Spiele!B:B,Spiele!D:D))","v":""},{"$f":"IF(B1905=\"\",\"\",LOOKUP(B1905,Spiele!B:B,Spiele!E:E))","v":""},{"$f":"IF(B1905=\"\",\"\",LOOKUP(B1905,Spiele!B:B,Spiele!F:F))","v":""},"","","",null,null,-1,-1,1,0]
[null,null,{"$f":"IF(B1906=\"\",\"\",LOOKUP(B1906,Spiele!B:B,Spiele!C:C))","v":""},{"$f":"IF(B1906=\"\",\"\",LOOKUP(B1906,Spiele!B:B,Spiele!D:D))","v":""},{"$f":"IF(B1906=\"\",\"\",LOOKUP(B1906,Spiele!B:B,Spiele!E:E))","v":""},{"$f":"IF(B1906=\"\",\"\",LOOKUP(B1906,Spiele!B:B,Spiele!F:F))","v":""},"","","",null,null,-1,-1,1,0]
[null,null,{"$f":"IF(B1907=\"\",\"\",LOOKUP(B1907,Spiele!B:B,Spiele!C:C))","v":""},{"$f":"IF(B1907=\"\",\"\",LOOKUP(B1907,Spiele!B:B,Spiele!D:D))","v":""},{"$f":"IF(B1907=\"\",\"\",LOOKUP(B1907,Spiele!B:B,Spiele!E:E))","v":""},{"$f":"IF(B1907=\"\",\"\",LOOKUP(B1907,Spiele!B:B,Spiele!F:F))","v":""},"","","",null,null,-1,-1,1,0]
[null,null,{"$f":"IF(B1908=\"\",\"\",LOOKUP(B1908,Spiele!B:B,Spiele!C:C))","v":""},{"$f":"IF(B1908=\"\",\"\",LOOKUP(B1908,Spiele!B:B,Spiele!D:D))","v":""},{"$f":"IF(B1908=\"\",\"\",LOOKUP(B1908,Spiele!B:B,Spiele!E:E))","v":""},{"$f":"IF(B1908=\"\",\"\",LOOKUP(B1908,Spiele!B:B,Spiele!F:F))","v":""},"","","",null,null,-1,-1,1,0]
[null,null,{"$f":"IF(B1909=\"\",\"\",LOOKUP(B1909,Spiele!B:B,Spiele!C:C))","v":""},{"$f":"IF(B1909=\"\",\"\",LOOKUP(B1909,Spiele!B:B,Spiele!D:D))","v":""},{"$f":"IF(B1909=\"\",\"\",LOOKUP(B1909,Spiele!B:B,Spiele!E:E))","v":""},{"$f":"IF(B1909=\"\",\"\",LOOKUP(B1909,Spiele!B:B,Spiele!F:F))","v":""},"","","",null,null,-1,-1,1,0]
[null,null,{"$f":"IF(B1910=\"\",\"\",LOOKUP(B1910,Spiele!B:B,Spiele!C:C))","v":""},{"$f":"IF(B1910=\"\",\"\",LOOKUP(B1910,Spiele!B:B,Spiele!D:D))","v":""},{"$f":"IF(B1910=\"\",\"\",LOOKUP(B1910,Spiele!B:B,Spiele!E:E))","v":""},{"$f":"IF(B1910=\"\",\"\",LOOKUP(B1910,Spiele!B:B,Spiele!F:F))","v":""},"","","",null,null,-1,-1,1,0]
[null,null,{"$f":"IF(B1911=\"\",\"\",LOOKUP(B1911,Spiele!B:B,Spiele!C:C))","v":""},{"$f":"IF(B1911=\"\",\"\",LOOKUP(B1911,Spiele!B:B,Spiele!D:D))","v":""},{"$f":"IF(B1911=\"\",\"\",LOOKUP(B1911,Spiele!B:B,Spiele!E:E))","v":""},{"$f":"IF(B1911=\"\",\"\",LOOKUP(B1911,Spiele!B:B,Spiele!F:F))","v":""},"","","",null,null,-1,-1,1,0]
[null,null,{"$f":"IF(B1912=\"\",\"\",LOOKUP(B1912,Spiele!B:B,Spiele!C:C))","v":""},{"$f":"IF(B1912=\"\",\"\",LOOKUP(B1912,Spiele!B:B,Spiele!D:D))","v":""},{"$f":"IF(B1912=\"\",\"\",LOOKUP(B1912,Spiele!B:B,Spiele!E:E))","v":""},{"$f":"IF(B1912=\"\",\"\",LOOKUP(B1912,Spiele!B:B,Spiele!F:F))","v":""},"","","",null,null,-1,-1,1,0]
[null,null,{"$f":"IF(B1913=\"\",\"\",LOOKUP(B1913,Spiele!B:B,Spiele!C:C))","v":""},{"$f":"IF(B1913=\"\",\"\",LOOKUP(B1913,Spiele!B:B,Spiele!D:D))","v":""},{"$f":"IF(B1913=\"\",\"\",LOOKUP(B1913,Spiele!B:B,Spiele!E:E))","v":""},{"$f":"IF(B1913=\"\",\"\",LOOKUP(B1913,Spiele!B:B,Spiele!F:F))","v":""},"","","",null,null,-1,-1,1,0]
[null,null,{"$f":"IF(B1914=\"\",\"\",LOOKUP(B1914,Spiele!B:B,Spiele!C:C))","v":""},{"$f":"IF(B1914=\"\",\"\",LOOKUP(B1914,Spiele!B:B,Spiele!D:D))","v":""},{"$f":"IF(B1914=\"\",\"\",LOOKUP(B1914,Spiele!B:B,Spiele!E:E))","v":""},{"$f":"IF(B1914=\"\",\"\",LOOKUP(B1914,Spiele!B:B,Spiele!F:F))","v":""},"","","",null,null,-1,-1,1,0]
[null,null,{"$f":"IF(B1915=\"\",\"\",LOOKUP(B1915,Spiele!B:B,Spiele!C:C))","v":""},{"$f":"IF(B1915=\"\",\"\",LOOKUP(B1915,Spiele!B:B,Spiele!D:D))","v":""},{"$f":"IF(B1915=\"\",\"\",LOOKUP(B1915,Spiele!B:B,Spiele!E:E))","v":""},{"$f":"IF(B1915=\"\",\"\",LOOKUP(B1915,Spiele!B:B,Spiele!F:F))","v":""},"","","",null,null,-1,-1,1,0]
[null,null,{"$f":"IF(B1916=\"\",\"\",LOOKUP(B1916,Spiele!B:B,Spiele!C:C))","v":""},{"$f":"IF(B1916=\"\",\"\",LOOKUP(B1916,Spiele!B:B,Spiele!D:D))","v":""},{"$f":"IF(B1916=\"\",\"\",LOOKUP(B1916,Spiele!B:B,Spiele!E:E))","v":""},{"$f":"IF(B1916=\"\",\"\",LOOKUP(B1916,Spiele!B:B,Spiele!F:F))","v":""},"","","",null,null,-1,-1,1,0]
[null,null,{"$f":"IF(B1917=\"\",\"\",LOOKUP(B1917,Spiele!B:B,Spiele!C:C))","v":""},{"$f":"IF(B1917=\"\",\"\",LOOKUP(B1917,Spiele!B:B,Spiele!D:D))","v":""},{"$f":"IF(B1917=\"\",\"\",LOOKUP(B1917,Spiele!B:B,Spiele!E:E))","v":""},{"$f":"IF(B1917=\"\",\"\",LOOKUP(B1917,Spiele!B:B,Spiele!F:F))","v":""},"","","",null,null,-1,-1,1,0]
[null,null,{"$f":"IF(B1918=\"\",\"\",LOOKUP(B1918,Spiele!B:B,Spiele!C:C))","v":""},{"$f":"IF(B1918=\"\",\"\",LOOKUP(B1918,Spiele!B:B,Spiele!D:D))","v":""},{"$f":"IF(B1918=\"\",\"\",LOOKUP(B1918,Spiele!B:B,Spiele!E:E))","v":""},{"$f":"IF(B1918=\"\",\"\",LOOKUP(B1918,Spiele!B:B,Spiele!F:F))","v":""},"","","",null,null,-1,-1,1,0]
[null,null,{"$f":"IF(B1919=\"\",\"\",LOOKUP(B1919,Spiele!B:B,Spiele!C:C))","v":""},{"$f":"IF(B1919=\"\",\"\",LOOKUP(B1919,Spiele!B:B,Spiele!D:D))","v":""},{"$f":"IF(B1919=\"\",\"\",LOOKUP(B1919,Spiele!B:B,Spiele!E:E))","v":""},{"$f":"IF(B1919=\"\",\"\",LOOKUP(B1919,Spiele!B:B,Spiele!F:F))","v":""},"","","",null,null,-1,-1,1,0]
[null,null,{"$f":"IF(B1920=\"\",\"\",LOOKUP(B1920,Spiele!B:B,Spiele!C:C))","v":""},{"$f":"IF(B1920=\"\",\"\",LOOKUP(B1920,Spiele!B:B,Spiele!D:D))","v":""},{"$f":"IF(B1920=\"\",\"\",LOOKUP(B1920,Spiele!B:B,Spiele!E:E))","v":""},{"$f":"IF(B1920=\"\",\"\",LOOKUP(B1920,Spiele!B:B,Spiele!F:F))","v":""},"","","",null,null,-1,-1,1,0]
[null,null,{"$f":"IF(B1921=\"\",\"\",LOOKUP(B1921,Spiele!B:B,Spiele!C:C))","v":""},{"$f":"IF(B1921=\"\",\"\",LOOKUP(B1921,Spiele!B:B,Spiele!D:D))","v":""},{"$f":"IF(B1921=\"\",\"\",LOOKUP(B1921,Spiele!B:B,Spiele!E:E))","v":""},{"$f":"IF(B1921=\"\",\"\",LOOKUP(B1921,Spiele!B:B,Spiele!F:F))","v":""},"","","",null,null,-1,-1,1,0]
[null,null,{"$f":"IF(B1922=\"\",\"\",LOOKUP(B1922,Spiele!B:B,Spiele!C:C))","v":""},{"$f":"IF(B1922=\"\",\"\",LOOKUP(B1922,Spiele!B:B,Spiele!D:D))","v":""},{"$f":"IF(B1922=\"\",\"\",LOOKUP(B1922,Spiele!B:B,Spiele!E:E))","v":""},{"$f":"IF(B1922=\"\",\"\",LOOKUP(B1922,Spiele!B:B,Spiele!F:F))","v":""},"","","",null,null,-1,-1,1,0]
[null,null,{"$f":"IF(B1923=\"\",\"\",LOOKUP(B1923,Spiele!B:B,Spiele!C:C))","v":""},{"$f":"IF(B1923=\"\",\"\",LOOKUP(B1923,Spiele!B:B,Spiele!D:D))","v":""},{"$f":"IF(B1923=\"\",\"\",LOOKUP(B1923,Spiele!B:B,Spiele!E:E))","v":""},{"$f":"IF(B1923=\"\",\"\",LOOKUP(B1923,Spiele!B:B,Spiele!F:F))","v":""},"","","",null,null,-1,-1,1,0]
[null,null,{"$f":"IF(B1924=\"\",\"\",LOOKUP(B1924,Spiele!B:B,Spiele!C:C))","v":""},{"$f":"IF(B1924=\"\",\"\",LOOKUP(B1924,Spiele!B:B,Spiele!D:D))","v":""},{"$f":"IF(B1924=\"\",\"\",LOOKUP(B1924,Spiele!B:B,Spiele!E:E))","v":""},{"$f":"IF(B1924=\"\",\"\",LOOKUP(B1924,Spiele!B:B,Spiele!F:F))","v":""},"","","",null,null,-1,-1,1,0]
[null,null,{"$f":"IF(B1925=\"\",\"\",LOOKUP(B1925,Spiele!B:B,Spiele!C:C))","v":""},{"$f":"IF(B1925=\"\",\"\",LOOKUP(B1925,Spiele!B:B,Spiele!D:D))","v":""},{"$f":"IF(B1925=\"\",\"\",LOOKUP(B1925,Spiele!B:B,Spiele!E:E))","v":""},{"$f":"IF(B1925=\"\",\"\",LOOKUP(B1925,Spiele!B:B,Spiele!F:F))","v":""},"","","",null,null,-1,-1,1,0]
[null,null,{"$f":"IF(B1926=\"\",\"\",LOOKUP(B1926,Spiele!B:B,Spiele!C:C))","v":""},{"$f":"IF(B1926=\"\",\"\",LOOKUP(B1926,Spiele!B:B,Spiele!D:D))","v":""},{"$f":"IF(B1926=\"\",\"\",LOOKUP(B1926,Spiele!B:B,Spiele!E:E))","v":""},{"$f":"IF(B1926=\"\",\"\",LOOKUP(B1926,Spiele!B:B,Spiele!F:F))","v":""},"","","",null,null,-1,-1,1,0]
[null,null,{"$f":"IF(B1927=\"\",\"\",LOOKUP(B1927,Spiele!B:B,Spiele!C:C))","v":""},{"$f":"IF(B1927=\"\",\"\",LOOKUP(B1927,Spiele!B:B,Spiele!D:D))","v":""},{"$f":"IF(B1927=\"\",\"\",LOOKUP(B1927,Spiele!B:B,Spiele!E:E))","v":""},{"$f":"IF(B1927=\"\",\"\",LOOKUP(B1927,Spiele!B:B,Spiele!F:F))","v":""},"","","",null,null,-1,-1,1,0]
[null,null,{"$f":"IF(B1928=\"\",\"\",LOOKUP(B1928,Spiele!B:B,Spiele!C:C))","v":""},{"$f":"IF(B1928=\"\",\"\",LOOKUP(B1928,Spiele!B:B,Spiele!D:D))","v":""},{"$f":"IF(B1928=\"\",\"\",LOOKUP(B1928,Spiele!B:B,Spiele!E:E))","v":""},{"$f":"IF(B1928=\"\",\"\",LOOKUP(B1928,Spiele!B:B,Spiele!F:F))","v":""},"","","",null,null,-1,-1,1,0]
[null,null,{"$f":"IF(B1929=\"\",\"\",LOOKUP(B1929,Spiele!B:B,Spiele!C:C))","v":""},{"$f":"IF(B1929=\"\",\"\",LOOKUP(B1929,Spiele!B:B,Spiele!D:D))","v":""},{"$f":"IF(B1929=\"\",\"\",LOOKUP(B1929,Spiele!B:B,Spiele!E:E))","v":""},{"$f":"IF(B1929=\"\",\"\",LOOKUP(B1929,Spiele!B:B,Spiele!F:F))","v":""},"","","",null,null,-1,-1,1,0]
[null,null,{"$f":"IF(B1930=\"\",\"\",LOOKUP(B1930,Spiele!B:B,Spiele!C:C))","v":""},{"$f":"IF(B1930=\"\",\"\",LOOKUP(B1930,Spiele!B:B,Spiele!D:D))","v":""},{"$f":"IF(B1930=\"\",\"\",LOOKUP(B1930,Spiele!B:B,Spiele!E:E))","v":""},{"$f":"IF(B1930=\"\",\"\",LOOKUP(B1930,Spiele!B:B,Spiele!F:F))","v":""},"","","",null,null,-1,-1,1,0]
[null,null,{"$f":"IF(B1931=\"\",\"\",LOOKUP(B1931,Spiele!B:B,Spiele!C:C))","v":""},{"$f":"IF(B1931=\"\",\"\",LOOKUP(B1931,Spiele!B:B,Spiele!D:D))","v":""},{"$f":"IF(B1931=\"\",\"\",LOOKUP(B1931,Spiele!B:B,Spiele!E:E))","v":""},{"$f":"IF(B1931=\"\",\"\",LOOKUP(B1931,Spiele!B:B,Spiele!F:F))","v":""},"","","",null,null,-1,-1,1,0]
[null,null,{"$f":"IF(B1932=\"\",\"\",LOOKUP(B1932,Spiele!B:B,Spiele!C:C))","v":""},{"$f":"IF(B1932=\"\",\"\",LOOKUP(B1932,Spiele!B:B,Spiele!D:D))","v":""},{"$f":"IF(B1932=\"\",\"\",LOOKUP(B1932,Spiele!B:B,Spiele!E:E))","v":""},{"$f":"IF(B1932=\"\",\"\",LOOKUP(B1932,Spiele!B:B,Spiele!F:F))","v":""},"","","",null,null,-1,-1,1,0]
[null,null,{"$f":"IF(B1933=\"\",\"\",LOOKUP(B1933,Spiele!B:B,Spiele!C:C))","v":""},{"$f":"IF(B1933=\"\",\"\",LOOKUP(B1933,Spiele!B:B,Spiele!D:D))","v":""},{"$f":"IF(B1933=\"\",\"\",LOOKUP(B1933,Spiele!B:B,Spiele!E:E))","v":""},{"$f":"IF(B1933=\"\",\"\",LOOKUP(B1933,Spiele!B:B,Spiele!F:F))","v":""},"","","",null,null,-1,-1,1,0]
[null,null,{"$f":"IF(B1934=\"\",\"\",LOOKUP(B1934,Spiele!B:B,Spiele!C:C))","v":""},{"$f":"IF(B1934=\"\",\"\",LOOKUP(B1934,Spiele!B:B,Spiele!D:D))","v":""},{"$f":"IF(B1934=\"\",\"\",LOOKUP(B1934,Spiele!B:B,Spiele!E:E))","v":""},{"$f":"IF(B1934=\"\",\"\",LOOKUP(B1934,Spiele!B:B,Spiele!F:F))","v":""},"","","",null,null,-1,-1,1,0]
[null,null,{"$f":"IF(B1935=\"\",\"\",LOOKUP(B1935,Spiele!B:B,Spiele!C:C))","v":""},{"$f":"IF(B1935=\"\",\"\",LOOKUP(B1935,Spiele!B:B,Spiele!D:D))","v":""},{"$f":"IF(B1935=\"\",\"\",LOOKUP(B1935,Spiele!B:B,Spiele!E:E))","v":""},{"$f":"IF(B1935=\"\",\"\",LOOKUP(B1935,Spiele!B:B,Spiele!F:F))","v":""},"","","",null,null,-1,-1,1,0]
[null,null,{"$f":"IF(B1936=\"\",\"\",LOOKUP(B1936,Spiele!B:B,Spiele!C:C))","v":""},{"$f":"IF(B1936=\"\",\"\",LOOKUP(B1936,Spiele!B:B,Spiele!D:D))","v":""},{"$f":"IF(B1936=\"\",\"\",LOOKUP(B1936,Spiele!B:B,Spiele!E:E))","v":""},{"$f":"IF(B1936=\"\",\"\",LOOKUP(B1936,Spiele!B:B,Spiele!F:F))","v":""},"","","",null,null,-1,-1,1,0]
[null,null,{"$f":"IF(B1937=\"\",\"\",LOOKUP(B1937,Spiele!B:B,Spiele!C:C))","v":""},{"$f":"IF(B1937=\"\",\"\",LOOKUP(B1937,Spiele!B:B,Spiele!D:D))","v":""},{"$f":"IF(B1937=\"\",\"\",LOOKUP(B1937,Spiele!B:B,Spiele!E:E))","v":""},{"$f":"IF(B1937=\"\",\"\",LOOKUP(B1937,Spiele!B:B,Spiele!F:F))","v":""},"","","",null,null,-1,-1,1,0]
[null,null,{"$f":"IF(B1938=\"\",\"\",LOOKUP(B1938,Spiele!B:B,Spiele!C:C))","v":""},{"$f":"IF(B1938=\"\",\"\",LOOKUP(B1938,Spiele!B:B,Spiele!D:D))","v":""},{"$f":"IF(B1938=\"\",\"\",LOOKUP(B1938,Spiele!B:B,Spiele!E:E))","v":""},{"$f":"IF(B1938=\"\",\"\",LOOKUP(B1938,Spiele!B:B,Spiele!F:F))","v":""},"","","",null,null,-1,-1,1,0]
[null,null,{"$f":"IF(B1939=\"\",\"\",LOOKUP(B1939,Spiele!B:B,Spiele!C:C))","v":""},{"$f":"IF(B1939=\"\",\"\",LOOKUP(B1939,Spiele!B:B,Spiele!D:D))","v":""},{"$f":"IF(B1939=\"\",\"\",LOOKUP(B1939,Spiele!B:B,Spiele!E:E))","v":""},{"$f":"IF(B1939=\"\",\"\",LOOKUP(B1939,Spiele!B:B,Spiele!F:F))","v":""},"","","",null,null,-1,-1,1,0]
[null,null,{"$f":"IF(B1940=\"\",\"\",LOOKUP(B1940,Spiele!B:B,Spiele!C:C))","v":""},{"$f":"IF(B1940=\"\",\"\",LOOKUP(B1940,Spiele!B:B,Spiele!D:D))","v":""},{"$f":"IF(B1940=\"\",\"\",LOOKUP(B1940,Spiele!B:B,Spiele!E:E))","v":""},{"$f":"IF(B1940=\"\",\"\",LOOKUP(B1940,Spiele!B:B,Spiele!F:F))","v":""},"","","",null,null,-1,-1,1,0]
[null,null,{"$f":"IF(B1941=\"\",\"\",LOOKUP(B1941,Spiele!B:B,Spiele!C:C))","v":""},{"$f":"IF(B1941=\"\",\"\",LOOKUP(B1941,Spiele!B:B,Spiele!D:D))","v":""},{"$f":"IF(B1941=\"\",\"\",LOOKUP(B1941,Spiele!B:B,Spiele!E:E))","v":""},{"$f":"IF(B1941=\"\",\"\",LOOKUP(B1941,Spiele!B:B,Spiele!F:F))","v":""},"","","",null,null,-1,-1,1,0]
[null,null,{"$f":"IF(B1942=\"\",\"\",LOOKUP(B1942,Spiele!B:B,Spiele!C:C))","v":""},{"$f":"IF(B1942=\"\",\"\",LOOKUP(B1942,Spiele!B:B,Spiele!D:D))","v":""},{"$f":"IF(B1942=\"\",\"\",LOOKUP(B1942,Spiele!B:B,Spiele!E:E))","v":""},{"$f":"IF(B1942=\"\",\"\",LOOKUP(B1942,Spiele!B:B,Spiele!F:F))","v":""},"","","",null,null,-1,-1,1,0]
[null,null,{"$f":"IF(B1943=\"\",\"\",LOOKUP(B1943,Spiele!B:B,Spiele!C:C))","v":""},{"$f":"IF(B1943=\"\",\"\",LOOKUP(B1943,Spiele!B:B,Spiele!D:D))","v":""},{"$f":"IF(B1943=\"\",\"\",LOOKUP(B1943,Spiele!B:B,Spiele!E:E))","v":""},{"$f":"IF(B1943=\"\",\"\",LOOKUP(B1943,Spiele!B:B,Spiele!F:F))","v":""},"","","",null,null,-1,-1,1,0]
[null,null,{"$f":"IF(B1944=\"\",\"\",LOOKUP(B1944,Spiele!B:B,Spiele!C:C))","v":""},{"$f":"IF(B1944=\"\",\"\",LOOKUP(B1944,Spiele!B:B,Spiele!D:D))","v":""},{"$f":"IF(B1944=\"\",\"\",LOOKUP(B1944,Spiele!B:B,Spiele!E:E))","v":""},{"$f":"IF(B1944=\"\",\"\",LOOKUP(B1944,Spiele!B:B,Spiele!F:F))","v":""},"","","",null,null,-1,-1,1,0]
[null,null,{"$f":"IF(B1945=\"\",\"\",LOOKUP(B1945,Spiele!B:B,Spiele!C:C))","v":""},{"$f":"IF(B1945=\"\",\"\",LOOKUP(B1945,Spiele!B:B,Spiele!D:D))","v":""},{"$f":"IF(B1945=\"\",\"\",LOOKUP(B1945,Spiele!B:B,Spiele!E:E))","v":""},{"$f":"IF(B1945=\"\",\"\",LOOKUP(B1945,Spiele!B:B,Spiele!F:F))","v":""},"","","",null,null,-1,-1,1,0]
[null,null,{"$f":"IF(B1946=\"\",\"\",LOOKUP(B1946,Spiele!B:B,Spiele!C:C))","v":""},{"$f":"IF(B1946=\"\",\"\",LOOKUP(B1946,Spiele!B:B,Spiele!D:D))","v":""},{"$f":"IF(B1946=\"\",\"\",LOOKUP(B1946,Spiele!B:B,Spiele!E:E))","v":""},{"$f":"IF(B1946=\"\",\"\",LOOKUP(B1946,Spiele!B:B,Spiele!F:F))","v":""},"","","",null,null,-1,-1,1,0]
[null,null,{"$f":"IF(B1947=\"\",\"\",LOOKUP(B1947,Spiele!B:B,Spiele!C:C))","v":""},{"$f":"IF(B1947=\"\",\"\",LOOKUP(B1947,Spiele!B:B,Spiele!D:D))","v":""},{"$f":"IF(B1947=\"\",\"\",LOOKUP(B1947,Spiele!B:B,Spiele!E:E))","v":""},{"$f":"IF(B1947=\"\",\"\",LOOKUP(B1947,Spiele!B:B,Spiele!F:F))","v":""},"","","",null,null,-1,-1,1,0]
[null,null,{"$f":"IF(B1948=\"\",\"\",LOOKUP(B1948,Spiele!B:B,Spiele!C:C))","v":""},{"$f":"IF(B1948=\"\",\"\",LOOKUP(B1948,Spiele!B:B,Spiele!D:D))","v":""},{"$f":"IF(B1948=\"\",\"\",LOOKUP(B1948,Spiele!B:B,Spiele!E:E))","v":""},{"$f":"IF(B1948=\"\",\"\",LOOKUP(B1948,Spiele!B:B,Spiele!F:F))","v":""},"","","",null,null,-1,-1,1,0]
[null,null,{"$f":"IF(B1949=\"\",\"\",LOOKUP(B1949,Spiele!B:B,Spiele!C:C))","v":""},{"$f":"IF(B1949=\"\",\"\",LOOKUP(B1949,Spiele!B:B,Spiele!D:D))","v":""},{"$f":"IF(B1949=\"\",\"\",LOOKUP(B1949,Spiele!B:B,Spiele!E:E))","v":""},{"$f":"IF(B1949=\"\",\"\",LOOKUP(B1949,Spiele!B:B,Spiele!F:F))","v":""},"","","",null,null,-1,-1,1,0]
[null,null,{"$f":"IF(B1950=\"\",\"\",LOOKUP(B1950,Spiele!B:B,Spiele!C:C))","v":""},{"$f":"IF(B1950=\"\",\"\",LOOKUP(B1950,Spiele!B:B,Spiele!D:D))","v":""},{"$f":"IF(B1950=\"\",\"\",LOOKUP(B1950,Spiele!B:B,Spiele!E:E))","v":""},{"$f":"IF(B1950=\"\",\"\",LOOKUP(B1950,Spiele!B:B,Spiele!F:F))","v":""},"","","",null,null,-1,-1,1,0]
[null,null,{"$f":"IF(B1951=\"\",\"\",LOOKUP(B1951,Spiele!B:B,Spiele!C:C))","v":""},{"$f":"IF(B1951=\"\",\"\",LOOKUP(B1951,Spiele!B:B,Spiele!D:D))","v":""},{"$f":"IF(B1951=\"\",\"\",LOOKUP(B1951,Spiele!B:B,Spiele!E:E))","v":""},{"$f":"IF(B1951=\"\",\"\",LOOKUP(B1951,Spiele!B:B,Spiele!F:F))","v":""},"","","",null,null,-1,-1,1,0]
[null,null,{"$f":"IF(B1952=\"\",\"\",LOOKUP(B1952,Spiele!B:B,Spiele!C:C))","v":""},{"$f":"IF(B1952=\"\",\"\",LOOKUP(B1952,Spiele!B:B,Spiele!D:D))","v":""},{"$f":"IF(B1952=\"\",\"\",LOOKUP(B1952,Spiele!B:B,Spiele!E:E))","v":""},{"$f":"IF(B1952=\"\",\"\",LOOKUP(B1952,Spiele!B:B,Spiele!F:F))","v":""},"","","",null,null,-1,-1,1,0]
[null,null,{"$f":"IF(B1953=\"\",\"\",LOOKUP(B1953,Spiele!B:B,Spiele!C:C))","v":""},{"$f":"IF(B1953=\"\",\"\",LOOKUP(B1953,Spiele!B:B,Spiele!D:D))","v":""},{"$f":"IF(B1953=\"\",\"\",LOOKUP(B1953,Spiele!B:B,Spiele!E:E))","v":""},{"$f":"IF(B1953=\"\",\"\",LOOKUP(B1953,Spiele!B:B,Spiele!F:F))","v":""},"","","",null,null,-1,-1,1,0]
[null,null,{"$f":"IF(B1954=\"\",\"\",LOOKUP(B1954,Spiele!B:B,Spiele!C:C))","v":""},{"$f":"IF(B1954=\"\",\"\",LOOKUP(B1954,Spiele!B:B,Spiele!D:D))","v":""},{"$f":"IF(B1954=\"\",\"\",LOOKUP(B1954,Spiele!B:B,Spiele!E:E))","v":""},{"$f":"IF(B1954=\"\",\"\",LOOKUP(B1954,Spiele!B:B,Spiele!F:F))","v":""},"","","",null,null,-1,-1,1,0]
[null,null,{"$f":"IF(B1955=\"\",\"\",LOOKUP(B1955,Spiele!B:B,Spiele!C:C))","v":""},{"$f":"IF(B1955=\"\",\"\",LOOKUP(B1955,Spiele!B:B,Spiele!D:D))","v":""},{"$f":"IF(B1955=\"\",\"\",LOOKUP(B1955,Spiele!B:B,Spiele!E:E))","v":""},{"$f":"IF(B1955=\"\",\"\",LOOKUP(B1955,Spiele!B:B,Spiele!F:F))","v":""},"","","",null,null,-1,-1,1,0]
[null,null,{"$f":"IF(B1956=\"\",\"\",LOOKUP(B1956,Spiele!B:B,Spiele!C:C))","v":""},{"$f":"IF(B1956=\"\",\"\",LOOKUP(B1956,Spiele!B:B,Spiele!D:D))","v":""},{"$f":"IF(B1956=\"\",\"\",LOOKUP(B1956,Spiele!B:B,Spiele!E:E))","v":""},{"$f":"IF(B1956=\"\",\"\",LOOKUP(B1956,Spiele!B:B,Spiele!F:F))","v":""},"","","",null,null,-1,-1,1,0]
[null,null,{"$f":"IF(B1957=\"\",\"\",LOOKUP(B1957,Spiele!B:B,Spiele!C:C))","v":""},{"$f":"IF(B1957=\"\",\"\",LOOKUP(B1957,Spiele!B:B,Spiele!D:D))","v":""},{"$f":"IF(B1957=\"\",\"\",LOOKUP(B1957,Spiele!B:B,Spiele!E:E))","v":""},{"$f":"IF(B1957=\"\",\"\",LOOKUP(B1957,Spiele!B:B,Spiele!F:F))","v":""},"","","",null,null,-1,-1,1,0]
[null,null,{"$f":"IF(B1958=\"\",\"\",LOOKUP(B1958,Spiele!B:B,Spiele!C:C))","v":""},{"$f":"IF(B1958=\"\",\"\",LOOKUP(B1958,Spiele!B:B,Spiele!D:D))","v":""},{"$f":"IF(B1958=\"\",\"\",LOOKUP(B1958,Spiele!B:B,Spiele!E:E))","v":""},{"$f":"IF(B1958=\"\",\"\",LOOKUP(B1958,Spiele!B:B,Spiele!F:F))","v":""},"","","",null,null,-1,-1,1,0]
[null,null,{"$f":"IF(B1959=\"\",\"\",LOOKUP(B1959,Spiele!B:B,Spiele!C:C))","v":""},{"$f":"IF(B1959=\"\",\"\",LOOKUP(B1959,Spiele!B:B,Spiele!D:D))","v":""},{"$f":"IF(B1959=\"\",\"\",LOOKUP(B1959,Spiele!B:B,Spiele!E:E))","v":""},{"$f":"IF(B1959=\"\",\"\",LOOKUP(B1959,Spiele!B:B,Spiele!F:F))","v":""},"","","",null,null,-1,-1,1,0]
[null,null,{"$f":"IF(B1960=\"\",\"\",LOOKUP(B1960,Spiele!B:B,Spiele!C:C))","v":""},{"$f":"IF(B1960=\"\",\"\",LOOKUP(B1960,Spiele!B:B,Spiele!D:D))","v":""},{"$f":"IF(B1960=\"\",\"\",LOOKUP(B1960,Spiele!B:B,Spiele!E:E))","v":""},{"$f":"IF(B1960=\"\",\"\",LOOKUP(B1960,Spiele!B:B,Spiele!F:F))","v":""},"","","",null,null,-1,-1,1,0]
[null,null,{"$f":"IF(B1961=\"\",\"\",LOOKUP(B1961,Spiele!B:B,Spiele!C:C))","v":""},{"$f":"IF(B1961=\"\",\"\",LOOKUP(B1961,Spiele!B:B,Spiele!D:D))","v":""},{"$f":"IF(B1961=\"\",\"\",LOOKUP(B1961,Spiele!B:B,Spiele!E:E))","v":""},{"$f":"IF(B1961=\"\",\"\",LOOKUP(B1961,Spiele!B:B,Spiele!F:F))","v":""},"","","",null,null,-1,-1,1,0]
[null,null,{"$f":"IF(B1962=\"\",\"\",LOOKUP(B1962,Spiele!B:B,Spiele!C:C))","v":""},{"$f":"IF(B1962=\"\",\"\",LOOKUP(B1962,Spiele!B:B,Spiele!D:D))","v":""},{"$f":"IF(B1962=\"\",\"\",LOOKUP(B1962,Spiele!B:B,Spiele!E:E))","v":""},{"$f":"IF(B1962=\"\",\"\",LOOKUP(B1962,Spiele!B:B,Spiele!F:F))","v":""},{"$f":"IF(E1962=\"\",\"\",IF(E1962>F1962,1,0))","v":""},{"$f":"IF(F1962=\"\",\"\",IF(E1962<F1962,1,0))","v":""},{"$f":"IF(E1962=\"\",\"\",IF(E1962=F1962,1,0))","v":""},null,null,{"$f":"IF(E1962=\"\",-1,IF(J1962>K1962,1,-1))","v":-1},{"$f":"IF(F1962=\"\",-1,IF(J1962<K1962,1,-1))","v":-1},{"$f":"IF(E1962=\"-\",-1,IF(J1962=K1962,1,-1))","v":1},{"$f":"IF(E1962=\"\",0,IF(E1962=J1962,1,0)+IF(F1962=K1962,1,0)+IF(G1962=L1962,1,0)+IF(H1962=M1962,1,0)+IF(I1962=N1962,1,0))","v":0}]
[null,null,{"$f":"IF(B1963=\"\",\"\",LOOKUP(B1963,Spiele!B:B,Spiele!C:C))","v":""},{"$f":"IF(B1963=\"\",\"\",LOOKUP(B1963,Spiele!B:B,Spiele!D:D))","v":""},{"$f":"IF(B1963=\"\",\"\",LOOKUP(B1963,Spiele!B:B,Spiele!E:E))","v":""},{"$f":"IF(B1963=\"\",\"\",LOOKUP(B1963,Spiele!B:B,Spiele!F:F))","v":""},"","","",null,null,-1,-1,1,0]
[null,null,{"$f":"IF(B1964=\"\",\"\",LOOKUP(B1964,Spiele!B:B,Spiele!C:C))","v":""},{"$f":"IF(B1964=\"\",\"\",LOOKUP(B1964,Spiele!B:B,Spiele!D:D))","v":""},{"$f":"IF(B1964=\"\",\"\",LOOKUP(B1964,Spiele!B:B,Spiele!E:E))","v":""},{"$f":"IF(B1964=\"\",\"\",LOOKUP(B1964,Spiele!B:B,Spiele!F:F))","v":""},"","","",null,null,-1,-1,1,0]
[null,null,{"$f":"IF(B1965=\"\",\"\",LOOKUP(B1965,Spiele!B:B,Spiele!C:C))","v":""},{"$f":"IF(B1965=\"\",\"\",LOOKUP(B1965,Spiele!B:B,Spiele!D:D))","v":""},{"$f":"IF(B1965=\"\",\"\",LOOKUP(B1965,Spiele!B:B,Spiele!E:E))","v":""},{"$f":"IF(B1965=\"\",\"\",LOOKUP(B1965,Spiele!B:B,Spiele!F:F))","v":""},"","","",null,null,-1,-1,1,0]
[null,null,{"$f":"IF(B1966=\"\",\"\",LOOKUP(B1966,Spiele!B:B,Spiele!C:C))","v":""},{"$f":"IF(B1966=\"\",\"\",LOOKUP(B1966,Spiele!B:B,Spiele!D:D))","v":""},{"$f":"IF(B1966=\"\",\"\",LOOKUP(B1966,Spiele!B:B,Spiele!E:E))","v":""},{"$f":"IF(B1966=\"\",\"\",LOOKUP(B1966,Spiele!B:B,Spiele!F:F))","v":""},"","","",null,null,-1,-1,1,0]
[null,null,{"$f":"IF(B1967=\"\",\"\",LOOKUP(B1967,Spiele!B:B,Spiele!C:C))","v":""},{"$f":"IF(B1967=\"\",\"\",LOOKUP(B1967,Spiele!B:B,Spiele!D:D))","v":""},{"$f":"IF(B1967=\"\",\"\",LOOKUP(B1967,Spiele!B:B,Spiele!E:E))","v":""},{"$f":"IF(B1967=\"\",\"\",LOOKUP(B1967,Spiele!B:B,Spiele!F:F))","v":""},"","","",null,null,-1,-1,1,0]
[null,null,{"$f":"IF(B1968=\"\",\"\",LOOKUP(B1968,Spiele!B:B,Spiele!C:C))","v":""},{"$f":"IF(B1968=\"\",\"\",LOOKUP(B1968,Spiele!B:B,Spiele!D:D))","v":""},{"$f":"IF(B1968=\"\",\"\",LOOKUP(B1968,Spiele!B:B,Spiele!E:E))","v":""},{"$f":"IF(B1968=\"\",\"\",LOOKUP(B1968,Spiele!B:B,Spiele!F:F))","v":""},"","","",null,null,-1,-1,1,0]
[null,null,{"$f":"IF(B1969=\"\",\"\",LOOKUP(B1969,Spiele!B:B,Spiele!C:C))","v":""},{"$f":"IF(B1969=\"\",\"\",LOOKUP(B1969,Spiele!B:B,Spiele!D:D))","v":""},{"$f":"IF(B1969=\"\",\"\",LOOKUP(B1969,Spiele!B:B,Spiele!E:E))","v":""},{"$f":"IF(B1969=\"\",\"\",LOOKUP(B1969,Spiele!B:B,Spiele!F:F))","v":""},"","","",null,null,-1,-1,1,0]
[null,null,{"$f":"IF(B1970=\"\",\"\",LOOKUP(B1970,Spiele!B:B,Spiele!C:C))","v":""},{"$f":"IF(B1970=\"\",\"\",LOOKUP(B1970,Spiele!B:B,Spiele!D:D))","v":""},{"$f":"IF(B1970=\"\",\"\",LOOKUP(B1970,Spiele!B:B,Spiele!E:E))","v":""},{"$f":"IF(B1970=\"\",\"\",LOOKUP(B1970,Spiele!B:B,Spiele!F:F))","v":""},"","","",null,null,-1,-1,1,0]
[null,null,{"$f":"IF(B1971=\"\",\"\",LOOKUP(B1971,Spiele!B:B,Spiele!C:C))","v":""},{"$f":"IF(B1971=\"\",\"\",LOOKUP(B1971,Spiele!B:B,Spiele!D:D))","v":""},{"$f":"IF(B1971=\"\",\"\",LOOKUP(B1971,Spiele!B:B,Spiele!E:E))","v":""},{"$f":"IF(B1971=\"\",\"\",LOOKUP(B1971,Spiele!B:B,Spiele!F:F))","v":""},"","","",null,null,-1,-1,1,0]
[null,null,{"$f":"IF(B1972=\"\",\"\",LOOKUP(B1972,Spiele!B:B,Spiele!C:C))","v":""},{"$f":"IF(B1972=\"\",\"\",LOOKUP(B1972,Spiele!B:B,Spiele!D:D))","v":""},{"$f":"IF(B1972=\"\",\"\",LOOKUP(B1972,Spiele!B:B,Spiele!E:E))","v":""},{"$f":"IF(B1972=\"\",\"\",LOOKUP(B1972,Spiele!B:B,Spiele!F:F))","v":""},"","","",null,null,-1,-1,1,0]
[null,null,{"$f":"IF(B1973=\"\",\"\",LOOKUP(B1973,Spiele!B:B,Spiele!C:C))","v":""},{"$f":"IF(B1973=\"\",\"\",LOOKUP(B1973,Spiele!B:B,Spiele!D:D))","v":""},{"$f":"IF(B1973=\"\",\"\",LOOKUP(B1973,Spiele!B:B,Spiele!E:E))","v":""},{"$f":"IF(B1973=\"\",\"\",LOOKUP(B1973,Spiele!B:B,Spiele!F:F))","v":""},"","","",null,null,-1,-1,1,0]
[null,null,{"$f":"IF(B1974=\"\",\"\",LOOKUP(B1974,Spiele!B:B,Spiele!C:C))","v":""},{"$f":"IF(B1974=\"\",\"\",LOOKUP(B1974,Spiele!B:B,Spiele!D:D))","v":""},{"$f":"IF(B1974=\"\",\"\",LOOKUP(B1974,Spiele!B:B,Spiele!E:E))","v":""},{"$f":"IF(B1974=\"\",\"\",LOOKUP(B1974,Spiele!B:B,Spiele!F:F))","v":""},"","","",null,null,-1,-1,1,0]
[null,null,{"$f":"IF(B1975=\"\",\"\",LOOKUP(B1975,Spiele!B:B,Spiele!C:C))","v":""},{"$f":"IF(B1975=\"\",\"\",LOOKUP(B1975,Spiele!B:B,Spiele!D:D))","v":""},{"$f":"IF(B1975=\"\",\"\",LOOKUP(B1975,Spiele!B:B,Spiele!E:E))","v":""},{"$f":"IF(B1975=\"\",\"\",LOOKUP(B1975,Spiele!B:B,Spiele!F:F))","v":""},"","","",null,null,-1,-1,1,0]
[null,null,{"$f":"IF(B1976=\"\",\"\",LOOKUP(B1976,Spiele!B:B,Spiele!C:C))","v":""},{"$f":"IF(B1976=\"\",\"\",LOOKUP(B1976,Spiele!B:B,Spiele!D:D))","v":""},{"$f":"IF(B1976=\"\",\"\",LOOKUP(B1976,Spiele!B:B,Spiele!E:E))","v":""},{"$f":"IF(B1976=\"\",\"\",LOOKUP(B1976,Spiele!B:B,Spiele!F:F))","v":""},"","","",null,null,-1,-1,1,0]
[null,null,{"$f":"IF(B1977=\"\",\"\",LOOKUP(B1977,Spiele!B:B,Spiele!C:C))","v":""},{"$f":"IF(B1977=\"\",\"\",LOOKUP(B1977,Spiele!B:B,Spiele!D:D))","v":""},{"$f":"IF(B1977=\"\",\"\",LOOKUP(B1977,Spiele!B:B,Spiele!E:E))","v":""},{"$f":"IF(B1977=\"\",\"\",LOOKUP(B1977,Spiele!B:B,Spiele!F:F))","v":""},"","","",null,null,-1,-1,1,0]
[null,null,{"$f":"IF(B1978=\"\",\"\",LOOKUP(B1978,Spiele!B:B,Spiele!C:C))","v":""},{"$f":"IF(B1978=\"\",\"\",LOOKUP(B1978,Spiele!B:B,Spiele!D:D))","v":""},{"$f":"IF(B1978=\"\",\"\",LOOKUP(B1978,Spiele!B:B,Spiele!E:E))","v":""},{"$f":"IF(B1978=\"\",\"\",LOOKUP(B1978,Spiele!B:B,Spiele!F:F))","v":""},"","","",null,null,-1,-1,1,0]
[null,null,{"$f":"IF(B1979=\"\",\"\",LOOKUP(B1979,Spiele!B:B,Spiele!C:C))","v":""},{"$f":"IF(B1979=\"\",\"\",LOOKUP(B1979,Spiele!B:B,Spiele!D:D))","v":""},{"$f":"IF(B1979=\"\",\"\",LOOKUP(B1979,Spiele!B:B,Spiele!E:E))","v":""},{"$f":"IF(B1979=\"\",\"\",LOOKUP(B1979,Spiele!B:B,Spiele!F:F))","v":""},"","","",null,null,-1,-1,1,0]
[null,null,{"$f":"IF(B1980=\"\",\"\",LOOKUP(B1980,Spiele!B:B,Spiele!C:C))","v":""},{"$f":"IF(B1980=\"\",\"\",LOOKUP(B1980,Spiele!B:B,Spiele!D:D))","v":""},{"$f":"IF(B1980=\"\",\"\",LOOKUP(B1980,Spiele!B:B,Spiele!E:E))","v":""},{"$f":"IF(B1980=\"\",\"\",LOOKUP(B1980,Spiele!B:B,Spiele!F:F))","v":""},"","","",null,null,-1,-1,1,0]
[null,null,{"$f":"IF(B1981=\"\",\"\",LOOKUP(B1981,Spiele!B:B,Spiele!C:C))","v":""},{"$f":"IF(B1981=\"\",\"\",LOOKUP(B1981,Spiele!B:B,Spiele!D:D))","v":""},{"$f":"IF(B1981=\"\",\"\",LOOKUP(B1981,Spiele!B:B,Spiele!E:E))","v":""},{"$f":"IF(B1981=\"\",\"\",LOOKUP(B1981,Spiele!B:B,Spiele!F:F))","v":""},"","","",null,null,-1,-1,1,0]
[null,null,{"$f":"IF(B1982=\"\",\"\",LOOKUP(B1982,Spiele!B:B,Spiele!C:C))","v":""},{"$f":"IF(B1982=\"\",\"\",LOOKUP(B1982,Spiele!B:B,Spiele!D:D))","v":""},{"$f":"IF(B1982=\"\",\"\",LOOKUP(B1982,Spiele!B:B,Spiele!E:E))","v":""},{"$f":"IF(B1982=\"\",\"\",LOOKUP(B1982,Spiele!B:B,Spiele!F:F))","v":""},"","","",null,null,-1,-1,1,0]
[null,null,{"$f":"IF(B1983=\"\",\"\",LOOKUP(B1983,Spiele!B:B,Spiele!C:C))","v":""},{"$f":"IF(B1983=\"\",\"\",LOOKUP(B1983,Spiele!B:B,Spiele!D:D))","v":""},{"$f":"IF(B1983=\"\",\"\",LOOKUP(B1983,Spiele!B:B,Spiele!E:E))","v":""},{"$f":"IF(B1983=\"\",\"\",LOOKUP(B1983,Spiele!B:B,Spiele!F:F))","v":""},"","","",null,null,-1,-1,1,0]
[null,null,{"$f":"IF(B1984=\"\",\"\",LOOKUP(B1984,Spiele!B:B,Spiele!C:C))","v":""},{"$f":"IF(B1984=\"\",\"\",LOOKUP(B1984,Spiele!B:B,Spiele!D:D))","v":""},{"$f":"IF(B1984=\"\",\"\",LOOKUP(B1984,Spiele!B:B,Spiele!E:E))","v":""},{"$f":"IF(B1984=\"\",\"\",LOOKUP(B1984,Spiele!B:B,Spiele!F:F))","v":""},"","","",null,null,-1,-1,1,0]
[null,null,{"$f":"IF(B1985=\"\",\"\",LOOKUP(B1985,Spiele!B:B,Spiele!C:C))","v":""},{"$f":"IF(B1985=\"\",\"\",LOOKUP(B1985,Spiele!B:B,Spiele!D:D))","v":""},{"$f":"IF(B1985=\"\",\"\",LOOKUP(B1985,Spiele!B:B,Spiele!E:E))","v":""},{"$f":"IF(B1985=\"\",\"\",LOOKUP(B1985,Spiele!B:B,Spiele!F:F))","v":""},"","","",null,null,-1,-1,1,0]
[null,null,{"$f":"IF(B1986=\"\",\"\",LOOKUP(B1986,Spiele!B:B,Spiele!C:C))","v":""},{"$f":"IF(B1986=\"\",\"\",LOOKUP(B1986,Spiele!B:B,Spiele!D:D))","v":""},{"$f":"IF(B1986=\"\",\"\",LOOKUP(B1986,Spiele!B:B,Spiele!E:E))","v":""},{"$f":"IF(B1986=\"\",\"\",LOOKUP(B1986,Spiele!B:B,Spiele!F:F))","v":""},"","","",null,null,-1,-1,1,0]
[null,null,{"$f":"IF(B1987=\"\",\"\",LOOKUP(B1987,Spiele!B:B,Spiele!C:C))","v":""},{"$f":"IF(B1987=\"\",\"\",LOOKUP(B1987,Spiele!B:B,Spiele!D:D))","v":""},{"$f":"IF(B1987=\"\",\"\",LOOKUP(B1987,Spiele!B:B,Spiele!E:E))","v":""},{"$f":"IF(B1987=\"\",\"\",LOOKUP(B1987,Spiele!B:B,Spiele!F:F))","v":""},"","","",null,null,-1,-1,1,0]
[null,null,{"$f":"IF(B1988=\"\",\"\",LOOKUP(B1988,Spiele!B:B,Spiele!C:C))","v":""},{"$f":"IF(B1988=\"\",\"\",LOOKUP(B1988,Spiele!B:B,Spiele!D:D))","v":""},{"$f":"IF(B1988=\"\",\"\",LOOKUP(B1988,Spiele!B:B,Spiele!E:E))","v":""},{"$f":"IF(B1988=\"\",\"\",LOOKUP(B1988,Spiele!B:B,Spiele!F:F))","v":""},"","","",null,null,-1,-1,1,0]
[null,null,{"$f":"IF(B1989=\"\",\"\",LOOKUP(B1989,Spiele!B:B,Spiele!C:C))","v":""},{"$f":"IF(B1989=\"\",\"\",LOOKUP(B1989,Spiele!B:B,Spiele!D:D))","v":""},{"$f":"IF(B1989=\"\",\"\",LOOKUP(B1989,Spiele!B:B,Spiele!E:E))","v":""},{"$f":"IF(B1989=\"\",\"\",LOOKUP(B1989,Spiele!B:B,Spiele!F:F))","v":""},"","","",null,null,-1,-1,1,0]
[null,null,{"$f":"IF(B1990=\"\",\"\",LOOKUP(B1990,Spiele!B:B,Spiele!C:C))","v":""},{"$f":"IF(B1990=\"\",\"\",LOOKUP(B1990,Spiele!B:B,Spiele!D:D))","v":""},{"$f":"IF(B1990=\"\",\"\",LOOKUP(B1990,Spiele!B:B,Spiele!E:E))","v":""},{"$f":"IF(B1990=\"\",\"\",LOOKUP(B1990,Spiele!B:B,Spiele!F:F))","v":""},"","","",null,null,-1,-1,1,0]
[null,null,{"$f":"IF(B1991=\"\",\"\",LOOKUP(B1991,Spiele!B:B,Spiele!C:C))","v":""},{"$f":"IF(B1991=\"\",\"\",LOOKUP(B1991,Spiele!B:B,Spiele!D:D))","v":""},{"$f":"IF(B1991=\"\",\"\",LOOKUP(B1991,Spiele!B:B,Spiele!E:E))","v":""},{"$f":"IF(B1991=\"\",\"\",LOOKUP(B1991,Spiele!B:B,Spiele!F:F))","v":""},"","","",null,null,-1,-1,1,0]
[null,null,{"$f":"IF(B1992=\"\",\"\",LOOKUP(B1992,Spiele!B:B,Spiele!C:C))","v":""},{"$f":"IF(B1992=\"\",\"\",LOOKUP(B1992,Spiele!B:B,Spiele!D:D))","v":""},{"$f":"IF(B1992=\"\",\"\",LOOKUP(B1992,Spiele!B:B,Spiele!E:E))","v":""},{"$f":"IF(B1992=\"\",\"\",LOOKUP(B1992,Spiele!B:B,Spiele!F:F))","v":""},"","","",null,null,-1,-1,1,0]
[null,null,{"$f":"IF(B1993=\"\",\"\",LOOKUP(B1993,Spiele!B:B,Spiele!C:C))","v":""},{"$f":"IF(B1993=\"\",\"\",LOOKUP(B1993,Spiele!B:B,Spiele!D:D))","v":""},{"$f":"IF(B1993=\"\",\"\",LOOKUP(B1993,Spiele!B:B,Spiele!E:E))","v":""},{"$f":"IF(B1993=\"\",\"\",LOOKUP(B1993,Spiele!B:B,Spiele!F:F))","v":""},"","","",null,null,-1,-1,1,0]
[null,null,{"$f":"IF(B1994=\"\",\"\",LOOKUP(B1994,Spiele!B:B,Spiele!C:C))","v":""},{"$f":"IF(B1994=\"\",\"\",LOOKUP(B1994,Spiele!B:B,Spiele!D:D))","v":""},{"$f":"IF(B1994=\"\",\"\",LOOKUP(B1994,Spiele!B:B,Spiele!E:E))","v":""},{"$f":"IF(B1994=\"\",\"\",LOOKUP(B1994,Spiele!B:B,Spiele!F:F))","v":""},"","","",null,null,-1,-1,1,0]
[null,null,{"$f":"IF(B1995=\"\",\"\",LOOKUP(B1995,Spiele!B:B,Spiele!C:C))","v":""},{"$f":"IF(B1995=\"\",\"\",LOOKUP(B1995,Spiele!B:B,Spiele!D:D))","v":""},{"$f":"IF(B1995=\"\",\"\",LOOKUP(B1995,Spiele!B:B,Spiele!E:E))","v":""},{"$f":"IF(B1995=\"\",\"\",LOOKUP(B1995,Spiele!B:B,Spiele!F:F))","v":""},"","","",null,null,-1,-1,1,0]
[null,null,{"$f":"IF(B1996=\"\",\"\",LOOKUP(B1996,Spiele!B:B,Spiele!C:C))","v":""},{"$f":"IF(B1996=\"\",\"\",LOOKUP(B1996,Spiele!B:B,Spiele!D:D))","v":""},{"$f":"IF(B1996=\"\",\"\",LOOKUP(B1996,Spiele!B:B,Spiele!E:E))","v":""},{"$f":"IF(B1996=\"\",\"\",LOOKUP(B1996,Spiele!B:B,Spiele!F:F))","v":""},"","","",null,null,-1,-1,1,0]
[null,null,{"$f":"IF(B1997=\"\",\"\",LOOKUP(B1997,Spiele!B:B,Spiele!C:C))","v":""},{"$f":"IF(B1997=\"\",\"\",LOOKUP(B1997,Spiele!B:B,Spiele!D:D))","v":""},{"$f":"IF(B1997=\"\",\"\",LOOKUP(B1997,Spiele!B:B,Spiele!E:E))","v":""},{"$f":"IF(B1997=\"\",\"\",LOOKUP(B1997,Spiele!B:B,Spiele!F:F))","v":""},"","","",null,null,-1,-1,1,0]
[null,null,{"$f":"IF(B1998=\"\",\"\",LOOKUP(B1998,Spiele!B:B,Spiele!C:C))","v":""},{"$f":"IF(B1998=\"\",\"\",LOOKUP(B1998,Spiele!B:B,Spiele!D:D))","v":""},{"$f":"IF(B1998=\"\",\"\",LOOKUP(B1998,Spiele!B:B,Spiele!E:E))","v":""},{"$f":"IF(B1998=\"\",\"\",LOOKUP(B1998,Spiele!B:B,Spiele!F:F))","v":""},"","","",null,null,-1,-1,1,0]
[null,null,{"$f":"IF(B1999=\"\",\"\",LOOKUP(B1999,Spiele!B:B,Spiele!C:C))","v":""},{"$f":"IF(B1999=\"\",\"\",LOOKUP(B1999,Spiele!B:B,Spiele!D:D))","v":""},{"$f":"IF(B1999=\"\",\"\",LOOKUP(B1999,Spiele!B:B,Spiele!E:E))","v":""},{"$f":"IF(B1999=\"\",\"\",LOOKUP(B1999,Spiele!B:B,Spiele!F:F))","v":""},"","","",null,null,-1,-1,1,0]
[null,null,{"$f":"IF(B2000=\"\",\"\",LOOKUP(B2000,Spiele!B:B,Spiele!C:C))","v":""},{"$f":"IF(B2000=\"\",\"\",LOOKUP(B2000,Spiele!B:B,Spiele!D:D))","v":""},{"$f":"IF(B2000=\"\",\"\",LOOKUP(B2000,Spiele!B:B,Spiele!E:E))","v":""},{"$f":"IF(B2000=\"\",\"\",LOOKUP(B2000,Spiele!B:B,Spiele!F:F))","v":""},"","","",null,null,-1,-1,1,0]
[null,null,{"$f":"IF(B2001=\"\",\"\",LOOKUP(B2001,Spiele!B:B,Spiele!C:C))","v":""},{"$f":"IF(B2001=\"\",\"\",LOOKUP(B2001,Spiele!B:B,Spiele!D:D))","v":""},{"$f":"IF(B2001=\"\",\"\",LOOKUP(B2001,Spiele!B:B,Spiele!E:E))","v":""},{"$f":"IF(B2001=\"\",\"\",LOOKUP(B2001,Spiele!B:B,Spiele!F:F))","v":""},"","","",null,null,-1,-1,1,0]
[null,null,{"$f":"IF(B2006=\"\",\"\",LOOKUP(B2006,Spiele!B:B,Spiele!C:C))","v":""},{"$f":"IF(B2006=\"\",\"\",LOOKUP(B2006,Spiele!B:B,Spiele!D:D))","v":""},{"$f":"IF(B2006=\"\",\"\",LOOKUP(B2006,Spiele!B:B,Spiele!E:E))","v":""},{"$f":"IF(B2006=\"\",\"\",LOOKUP(B2006,Spiele!B:B,Spiele!F:F))","v":""},"","","",null,null,-1,-1,1,0]
[null,null,{"$f":"IF(B2011=\"\",\"\",LOOKUP(B2011,Spiele!B:B,Spiele!C:C))","v":""},{"$f":"IF(B2011=\"\",\"\",LOOKUP(B2011,Spiele!B:B,Spiele!D:D))","v":""},{"$f":"IF(B2011=\"\",\"\",LOOKUP(B2011,Spiele!B:B,Spiele!E:E))","v":""},{"$f":"IF(B2011=\"\",\"\",LOOKUP(B2011,Spiele!B:B,Spiele!F:F))","v":""},"","","",null,null,-1,-1,1,0]
[null,null,{"$f":"IF(B2012=\"\",\"\",LOOKUP(B2012,Spiele!B:B,Spiele!C:C))","v":""},{"$f":"IF(B2012=\"\",\"\",LOOKUP(B2012,Spiele!B:B,Spiele!D:D))","v":""},{"$f":"IF(B2012=\"\",\"\",LOOKUP(B2012,Spiele!B:B,Spiele!E:E))","v":""},{"$f":"IF(B2012=\"\",\"\",LOOKUP(B2012,Spiele!B:B,Spiele!F:F))","v":""},"","","",null,null,-1,-1,1,0]
[null,null,{"$f":"IF(B2018=\"\",\"\",LOOKUP(B2018,Spiele!B:B,Spiele!C:C))","v":""},{"$f":"IF(B2018=\"\",\"\",LOOKUP(B2018,Spiele!B:B,Spiele!D:D))","v":""},{"$f":"IF(B2018=\"\",\"\",LOOKUP(B2018,Spiele!B:B,Spiele!E:E))","v":""},{"$f":"IF(B2018=\"\",\"\",LOOKUP(B2018,Spiele!B:B,Spiele!F:F))","v":""},"","","",null,null,-1,-1,1,0]
[null,null,{"$f":"IF(B2021=\"\",\"\",LOOKUP(B2021,Spiele!B:B,Spiele!C:C))","v":""},{"$f":"IF(B2021=\"\",\"\",LOOKUP(B2021,Spiele!B:B,Spiele!D:D))","v":""},{"$f":"IF(B2021=\"\",\"\",LOOKUP(B2021,Spiele!B:B,Spiele!E:E))","v":""},{"$f":"IF(B2021=\"\",\"\",LOOKUP(B2021,Spiele!B:B,Spiele!F:F))","v":""},"","","",null,null,-1,-1,1,0]
[null,null,{"$f":"IF(B2026=\"\",\"\",LOOKUP(B2026,Spiele!B:B,Spiele!C:C))","v":""},{"$f":"IF(B2026=\"\",\"\",LOOKUP(B2026,Spiele!B:B,Spiele!D:D))","v":""},{"$f":"IF(B2026=\"\",\"\",LOOKUP(B2026,Spiele!B:B,Spiele!E:E))","v":""},{"$f":"IF(B2026=\"\",\"\",LOOKUP(B2026,Spiele!B:B,Spiele!F:F))","v":""},{"$f":"IF(E2026=\"\",\"\",IF(E2026>F2026,1,0))","v":""},{"$f":"IF(F2026=\"\",\"\",IF(E2026<F2026,1,0))","v":""},{"$f":"IF(E2026=\"\",\"\",IF(E2026=F2026,1,0))","v":""},null,null,{"$f":"IF(E2026=\"\",-1,IF(J2026>K2026,1,-1))","v":-1},{"$f":"IF(F2026=\"\",-1,IF(J2026<K2026,1,-1))","v":-1},{"$f":"IF(E2026=\"-\",-1,IF(J2026=K2026,1,-1))","v":1},{"$f":"IF(E2026=\"\",0,IF(E2026=J2026,1,0)+IF(F2026=K2026,1,0)+IF(G2026=L2026,1,0)+IF(H2026=M2026,1,0)+IF(I2026=N2026,1,0))","v":0}]
[null,null,{"$f":"IF(B2027=\"\",\"\",LOOKUP(B2027,Spiele!B:B,Spiele!C:C))","v":""},{"$f":"IF(B2027=\"\",\"\",LOOKUP(B2027,Spiele!B:B,Spiele!D:D))","v":""},{"$f":"IF(B2027=\"\",\"\",LOOKUP(B2027,Spiele!B:B,Spiele!E:E))","v":""},{"$f":"IF(B2027=\"\",\"\",LOOKUP(B2027,Spiele!B:B,Spiele!F:F))","v":""},"","","",null,null,-1,-1,1,0]
[null,null,{"$f":"IF(B2032=\"\",\"\",LOOKUP(B2032,Spiele!B:B,Spiele!C:C))","v":""},{"$f":"IF(B2032=\"\",\"\",LOOKUP(B2032,Spiele!B:B,Spiele!D:D))","v":""},{"$f":"IF(B2032=\"\",\"\",LOOKUP(B2032,Spiele!B:B,Spiele!E:E))","v":""},{"$f":"IF(B2032=\"\",\"\",LOOKUP(B2032,Spiele!B:B,Spiele!F:F))","v":""},"","","",null,null,-1,-1,1,0]
[null,null,{"$f":"IF(B2036=\"\",\"\",LOOKUP(B2036,Spiele!B:B,Spiele!C:C))","v":""},{"$f":"IF(B2036=\"\",\"\",LOOKUP(B2036,Spiele!B:B,Spiele!D:D))","v":""},{"$f":"IF(B2036=\"\",\"\",LOOKUP(B2036,Spiele!B:B,Spiele!E:E))","v":""},{"$f":"IF(B2036=\"\",\"\",LOOKUP(B2036,Spiele!B:B,Spiele!F:F))","v":""},"","","",null,null,-1,-1,1,0]
[null,null,{"$f":"IF(B2041=\"\",\"\",LOOKUP(B2041,Spiele!B:B,Spiele!C:C))","v":""},{"$f":"IF(B2041=\"\",\"\",LOOKUP(B2041,Spiele!B:B,Spiele!D:D))","v":""},{"$f":"IF(B2041=\"\",\"\",LOOKUP(B2041,Spiele!B:B,Spiele!E:E))","v":""},{"$f":"IF(B2041=\"\",\"\",LOOKUP(B2041,Spiele!B:B,Spiele!F:F))","v":""},"","","",null,null,-1,-1,1,0]
[null,null,{"$f":"IF(B2042=\"\",\"\",LOOKUP(B2042,Spiele!B:B,Spiele!C:C))","v":""},{"$f":"IF(B2042=\"\",\"\",LOOKUP(B2042,Spiele!B:B,Spiele!D:D))","v":""},{"$f":"IF(B2042=\"\",\"\",LOOKUP(B2042,Spiele!B:B,Spiele!E:E))","v":""},{"$f":"IF(B2042=\"\",\"\",LOOKUP(B2042,Spiele!B:B,Spiele!F:F))","v":""},"","","",null,null,-1,-1,1,0]
[null,null,{"$f":"IF(B2048=\"\",\"\",LOOKUP(B2048,Spiele!B:B,Spiele!C:C))","v":""},{"$f":"IF(B2048=\"\",\"\",LOOKUP(B2048,Spiele!B:B,Spiele!D:D))","v":""},{"$f":"IF(B2048=\"\",\"\",LOOKUP(B2048,Spiele!B:B,Spiele!E:E))","v":""},{"$f":"IF(B2048=\"\",\"\",LOOKUP(B2048,Spiele!B:B,Spiele!F:F))","v":""},"","","",null,null,-1,-1,1,0]
[null,null,{"$f":"IF(B2051=\"\",\"\",LOOKUP(B2051,Spiele!B:B,Spiele!C:C))","v":""},{"$f":"IF(B2051=\"\",\"\",LOOKUP(B2051,Spiele!B:B,Spiele!D:D))","v":""},{"$f":"IF(B2051=\"\",\"\",LOOKUP(B2051,Spiele!B:B,Spiele!E:E))","v":""},{"$f":"IF(B2051=\"\",\"\",LOOKUP(B2051,Spiele!B:B,Spiele!F:F))","v":""},"","","",null,null,-1,-1,1,0]
[null,null,{"$f":"IF(B2056=\"\",\"\",LOOKUP(B2056,Spiele!B:B,Spiele!C:C))","v":""},{"$f":"IF(B2056=\"\",\"\",LOOKUP(B2056,Spiele!B:B,Spiele!D:D))","v":""},{"$f":"IF(B2056=\"\",\"\",LOOKUP(B2056,Spiele!B:B,Spiele!E:E))","v":""},{"$f":"IF(B2056=\"\",\"\",LOOKUP(B2056,Spiele!B:B,Spiele!F:F))","v":""},"","","",null,null,-1,-1,1,0]
[null,null,{"$f":"IF(B2057=\"\",\"\",LOOKUP(B2057,Spiele!B:B,Spiele!C:C))","v":""},{"$f":"IF(B2057=\"\",\"\",LOOKUP(B2057,Spiele!B:B,Spiele!D:D))","v":""},{"$f":"IF(B2057=\"\",\"\",LOOKUP(B2057,Spiele!B:B,Spiele!E:E))","v":""},{"$f":"IF(B2057=\"\",\"\",LOOKUP(B2057,Spiele!B:B,Spiele!F:F))","v":""},"","","",null,null,-1,-1,1,0]
[null,null,{"$f":"IF(B2062=\"\",\"\",LOOKUP(B2062,Spiele!B:B,Spiele!C:C))","v":""},{"$f":"IF(B2062=\"\",\"\",LOOKUP(B2062,Spiele!B:B,Spiele!D:D))","v":""},{"$f":"IF(B2062=\"\",\"\",LOOKUP(B2062,Spiele!B:B,Spiele!E:E))","v":""},{"$f":"IF(B2062=\"\",\"\",LOOKUP(B2062,Spiele!B:B,Spiele!F:F))","v":""},"","","",null,null,-1,-1,1,0]
[null,null,{"$f":"IF(B2066=\"\",\"\",LOOKUP(B2066,Spiele!B:B,Spiele!C:C))","v":""},{"$f":"IF(B2066=\"\",\"\",LOOKUP(B2066,Spiele!B:B,Spiele!D:D))","v":""},{"$f":"IF(B2066=\"\",\"\",LOOKUP(B2066,Spiele!B:B,Spiele!E:E))","v":""},{"$f":"IF(B2066=\"\",\"\",LOOKUP(B2066,Spiele!B:B,Spiele!F:F))","v":""},"","","",null,null,-1,-1,1,0]
[null,null,{"$f":"IF(B2071=\"\",\"\",LOOKUP(B2071,Spiele!B:B,Spiele!C:C))","v":""},{"$f":"IF(B2071=\"\",\"\",LOOKUP(B2071,Spiele!B:B,Spiele!D:D))","v":""},{"$f":"IF(B2071=\"\",\"\",LOOKUP(B2071,Spiele!B:B,Spiele!E:E))","v":""},{"$f":"IF(B2071=\"\",\"\",LOOKUP(B2071,Spiele!B:B,Spiele!F:F))","v":""},"","","",null,null,-1,-1,1,0]
[null,null,{"$f":"IF(B2072=\"\",\"\",LOOKUP(B2072,Spiele!B:B,Spiele!C:C))","v":""},{"$f":"IF(B2072=\"\",\"\",LOOKUP(B2072,Spiele!B:B,Spiele!D:D))","v":""},{"$f":"IF(B2072=\"\",\"\",LOOKUP(B2072,Spiele!B:B,Spiele!E:E))","v":""},{"$f":"IF(B2072=\"\",\"\",LOOKUP(B2072,Spiele!B:B,Spiele!F:F))","v":""},"","","",null,null,-1,-1,1,0]
[null,null,{"$f":"IF(B2078=\"\",\"\",LOOKUP(B2078,Spiele!B:B,Spiele!C:C))","v":""},{"$f":"IF(B2078=\"\",\"\",LOOKUP(B2078,Spiele!B:B,Spiele!D:D))","v":""},{"$f":"IF(B2078=\"\",\"\",LOOKUP(B2078,Spiele!B:B,Spiele!E:E))","v":""},{"$f":"IF(B2078=\"\",\"\",LOOKUP(B2078,Spiele!B:B,Spiele!F:F))","v":""},"","","",null,null,-1,-1,1,0]
[null,null,{"$f":"IF(B2081=\"\",\"\",LOOKUP(B2081,Spiele!B:B,Spiele!C:C))","v":""},{"$f":"IF(B2081=\"\",\"\",LOOKUP(B2081,Spiele!B:B,Spiele!D:D))","v":""},{"$f":"IF(B2081=\"\",\"\",LOOKUP(B2081,Spiele!B:B,Spiele!E:E))","v":""},{"$f":"IF(B2081=\"\",\"\",LOOKUP(B2081,Spiele!B:B,Spiele!F:F))","v":""},"","","",null,null,-1,-1,1,0]
[null,null,{"$f":"IF(B2086=\"\",\"\",LOOKUP(B2086,Spiele!B:B,Spiele!C:C))","v":""},{"$f":"IF(B2086=\"\",\"\",LOOKUP(B2086,Spiele!B:B,Spiele!D:D))","v":""},{"$f":"IF(B2086=\"\",\"\",LOOKUP(B2086,Spiele!B:B,Spiele!E:E))","v":""},{"$f":"IF(B2086=\"\",\"\",LOOKUP(B2086,Spiele!B:B,Spiele!F:F))","v":""},"","","",null,null,-1,-1,1,0]
[null,null,{"$f":"IF(B2087=\"\",\"\",LOOKUP(B2087,Spiele!B:B,Spiele!C:C))","v":""},{"$f":"IF(B2087=\"\",\"\",LOOKUP(B2087,Spiele!B:B,Spiele!D:D))","v":""},{"$f":"IF(B2087=\"\",\"\",LOOKUP(B2087,Spiele!B:B,Spiele!E:E))","v":""},{"$f":"IF(B2087=\"\",\"\",LOOKUP(B2087,Spiele!B:B,Spiele!F:F))","v":""},"","","",null,null,-1,-1,1,0]
[null,null,{"$f":"IF(B2092=\"\",\"\",LOOKUP(B2092,Spiele!B:B,Spiele!C:C))","v":""},{"$f":"IF(B2092=\"\",\"\",LOOKUP(B2092,Spiele!B:B,Spiele!D:D))","v":""},{"$f":"IF(B2092=\"\",\"\",LOOKUP(B2092,Spiele!B:B,Spiele!E:E))","v":""},{"$f":"IF(B2092=\"\",\"\",LOOKUP(B2092,Spiele!B:B,Spiele!F:F))","v":""},"","","",null,null,-1,-1,1,0]
[null,null,{"$f":"IF(B2096=\"\",\"\",LOOKUP(B2096,Spiele!B:B,Spiele!C:C))","v":""},{"$f":"IF(B2096=\"\",\"\",LOOKUP(B2096,Spiele!B:B,Spiele!D:D))","v":""},{"$f":"IF(B2096=\"\",\"\",LOOKUP(B2096,Spiele!B:B,Spiele!E:E))","v":""},{"$f":"IF(B2096=\"\",\"\",LOOKUP(B2096,Spiele!B:B,Spiele!F:F))","v":""},"","","",null,null,-1,-1,1,0]
[null,null,{"$f":"IF(B2101=\"\",\"\",LOOKUP(B2101,Spiele!B:B,Spiele!C:C))","v":""},{"$f":"IF(B2101=\"\",\"\",LOOKUP(B2101,Spiele!B:B,Spiele!D:D))","v":""},{"$f":"IF(B2101=\"\",\"\",LOOKUP(B2101,Spiele!B:B,Spiele!E:E))","v":""},{"$f":"IF(B2101=\"\",\"\",LOOKUP(B2101,Spiele!B:B,Spiele!F:F))","v":""},"","","",null,null,-1,-1,1,0]
[null,null,{"$f":"IF(B2102=\"\",\"\",LOOKUP(B2102,Spiele!B:B,Spiele!C:C))","v":""},{"$f":"IF(B2102=\"\",\"\",LOOKUP(B2102,Spiele!B:B,Spiele!D:D))","v":""},{"$f":"IF(B2102=\"\",\"\",LOOKUP(B2102,Spiele!B:B,Spiele!E:E))","v":""},{"$f":"IF(B2102=\"\",\"\",LOOKUP(B2102,Spiele!B:B,Spiele!F:F))","v":""},"","","",null,null,-1,-1,1,0]
[null,null,{"$f":"IF(B2108=\"\",\"\",LOOKUP(B2108,Spiele!B:B,Spiele!C:C))","v":""},{"$f":"IF(B2108=\"\",\"\",LOOKUP(B2108,Spiele!B:B,Spiele!D:D))","v":""},{"$f":"IF(B2108=\"\",\"\",LOOKUP(B2108,Spiele!B:B,Spiele!E:E))","v":""},{"$f":"IF(B2108=\"\",\"\",LOOKUP(B2108,Spiele!B:B,Spiele!F:F))","v":""},"","","",null,null,-1,-1,1,0]
[null,null,{"$f":"IF(B2111=\"\",\"\",LOOKUP(B2111,Spiele!B:B,Spiele!C:C))","v":""},{"$f":"IF(B2111=\"\",\"\",LOOKUP(B2111,Spiele!B:B,Spiele!D:D))","v":""},{"$f":"IF(B2111=\"\",\"\",LOOKUP(B2111,Spiele!B:B,Spiele!E:E))","v":""},{"$f":"IF(B2111=\"\",\"\",LOOKUP(B2111,Spiele!B:B,Spiele!F:F))","v":""},"","","",null,null,-1,-1,1,0]
[null,null,{"$f":"IF(B2116=\"\",\"\",LOOKUP(B2116,Spiele!B:B,Spiele!C:C))","v":""},{"$f":"IF(B2116=\"\",\"\",LOOKUP(B2116,Spiele!B:B,Spiele!D:D))","v":""},{"$f":"IF(B2116=\"\",\"\",LOOKUP(B2116,Spiele!B:B,Spiele!E:E))","v":""},{"$f":"IF(B2116=\"\",\"\",LOOKUP(B2116,Spiele!B:B,Spiele!F:F))","v":""},"","","",null,null,-1,-1,1,0]
[null,null,{"$f":"IF(B2117=\"\",\"\",LOOKUP(B2117,Spiele!B:B,Spiele!C:C))","v":""},{"$f":"IF(B2117=\"\",\"\",LOOKUP(B2117,Spiele!B:B,Spiele!D:D))","v":""},{"$f":"IF(B2117=\"\",\"\",LOOKUP(B2117,Spiele!B:B,Spiele!E:E))","v":""},{"$f":"IF(B2117=\"\",\"\",LOOKUP(B2117,Spiele!B:B,Spiele!F:F))","v":""},"","","",null,null,-1,-1,1,0]
[null,null,{"$f":"IF(B2122=\"\",\"\",LOOKUP(B2122,Spiele!B:B,Spiele!C:C))","v":""},{"$f":"IF(B2122=\"\",\"\",LOOKUP(B2122,Spiele!B:B,Spiele!D:D))","v":""},{"$f":"IF(B2122=\"\",\"\",LOOKUP(B2122,Spiele!B:B,Spiele!E:E))","v":""},{"$f":"IF(B2122=\"\",\"\",LOOKUP(B2122,Spiele!B:B,Spiele!F:F))","v":""},"","","",null,null,-1,-1,1,0]
[null,null,{"$f":"IF(B2126=\"\",\"\",LOOKUP(B2126,Spiele!B:B,Spiele!C:C))","v":""},{"$f":"IF(B2126=\"\",\"\",LOOKUP(B2126,Spiele!B:B,Spiele!D:D))","v":""},{"$f":"IF(B2126=\"\",\"\",LOOKUP(B2126,Spiele!B:B,Spiele!E:E))","v":""},{"$f":"IF(B2126=\"\",\"\",LOOKUP(B2126,Spiele!B:B,Spiele!F:F))","v":""},"","","",null,null,-1,-1,1,0]
[null,null,{"$f":"IF(B2131=\"\",\"\",LOOKUP(B2131,Spiele!B:B,Spiele!C:C))","v":""},{"$f":"IF(B2131=\"\",\"\",LOOKUP(B2131,Spiele!B:B,Spiele!D:D))","v":""},{"$f":"IF(B2131=\"\",\"\",LOOKUP(B2131,Spiele!B:B,Spiele!E:E))","v":""},{"$f":"IF(B2131=\"\",\"\",LOOKUP(B2131,Spiele!B:B,Spiele!F:F))","v":""},"","","",null,null,-1,-1,1,0]
[null,null,{"$f":"IF(B2132=\"\",\"\",LOOKUP(B2132,Spiele!B:B,Spiele!C:C))","v":""},{"$f":"IF(B2132=\"\",\"\",LOOKUP(B2132,Spiele!B:B,Spiele!D:D))","v":""},{"$f":"IF(B2132=\"\",\"\",LOOKUP(B2132,Spiele!B:B,Spiele!E:E))","v":""},{"$f":"IF(B2132=\"\",\"\",LOOKUP(B2132,Spiele!B:B,Spiele!F:F))","v":""},"","","",null,null,-1,-1,1,0]
[null,null,{"$f":"IF(B2138=\"\",\"\",LOOKUP(B2138,Spiele!B:B,Spiele!C:C))","v":""},{"$f":"IF(B2138=\"\",\"\",LOOKUP(B2138,Spiele!B:B,Spiele!D:D))","v":""},{"$f":"IF(B2138=\"\",\"\",LOOKUP(B2138,Spiele!B:B,Spiele!E:E))","v":""},{"$f":"IF(B2138=\"\",\"\",LOOKUP(B2138,Spiele!B:B,Spiele!F:F))","v":""},"","","",null,null,-1,-1,1,0]
[null,null,{"$f":"IF(B2141=\"\",\"\",LOOKUP(B2141,Spiele!B:B,Spiele!C:C))","v":""},{"$f":"IF(B2141=\"\",\"\",LOOKUP(B2141,Spiele!B:B,Spiele!D:D))","v":""},{"$f":"IF(B2141=\"\",\"\",LOOKUP(B2141,Spiele!B:B,Spiele!E:E))","v":""},{"$f":"IF(B2141=\"\",\"\",LOOKUP(B2141,Spiele!B:B,Spiele!F:F))","v":""},"","","",null,null,-1,-1,1,0]
[null,null,{"$f":"IF(B2146=\"\",\"\",LOOKUP(B2146,Spiele!B:B,Spiele!C:C))","v":""},{"$f":"IF(B2146=\"\",\"\",LOOKUP(B2146,Spiele!B:B,Spiele!D:D))","v":""},{"$f":"IF(B2146=\"\",\"\",LOOKUP(B2146,Spiele!B:B,Spiele!E:E))","v":""},{"$f":"IF(B2146=\"\",\"\",LOOKUP(B2146,Spiele!B:B,Spiele!F:F))","v":""},"","","",null,null,-1,-1,1,0]
[null,null,{"$f":"IF(B2147=\"\",\"\",LOOKUP(B2147,Spiele!B:B,Spiele!C:C))","v":""},{"$f":"IF(B2147=\"\",\"\",LOOKUP(B2147,Spiele!B:B,Spiele!D:D))","v":""},{"$f":"IF(B2147=\"\",\"\",LOOKUP(B2147,Spiele!B:B,Spiele!E:E))","v":""},{"$f":"IF(B2147=\"\",\"\",LOOKUP(B2147,Spiele!B:B,Spiele!F:F))","v":""},"","","",null,null,-1,-1,1,0]
[null,null,{"$f":"IF(B2152=\"\",\"\",LOOKUP(B2152,Spiele!B:B,Spiele!C:C))","v":""},{"$f":"IF(B2152=\"\",\"\",LOOKUP(B2152,Spiele!B:B,Spiele!D:D))","v":""},{"$f":"IF(B2152=\"\",\"\",LOOKUP(B2152,Spiele!B:B,Spiele!E:E))","v":""},{"$f":"IF(B2152=\"\",\"\",LOOKUP(B2152,Spiele!B:B,Spiele!F:F))","v":""},"","","",null,null,-1,-1,1,0]
[null,null,{"$f":"IF(B2156=\"\",\"\",LOOKUP(B2156,Spiele!B:B,Spiele!C:C))","v":""},{"$f":"IF(B2156=\"\",\"\",LOOKUP(B2156,Spiele!B:B,Spiele!D:D))","v":""},{"$f":"IF(B2156=\"\",\"\",LOOKUP(B2156,Spiele!B:B,Spiele!E:E))","v":""},{"$f":"IF(B2156=\"\",\"\",LOOKUP(B2156,Spiele!B:B,Spiele!F:F))","v":""},"","","",null,null,-1,-1,1,0]
[null,null,{"$f":"IF(B2161=\"\",\"\",LOOKUP(B2161,Spiele!B:B,Spiele!C:C))","v":""},{"$f":"IF(B2161=\"\",\"\",LOOKUP(B2161,Spiele!B:B,Spiele!D:D))","v":""},{"$f":"IF(B2161=\"\",\"\",LOOKUP(B2161,Spiele!B:B,Spiele!E:E))","v":""},{"$f":"IF(B2161=\"\",\"\",LOOKUP(B2161,Spiele!B:B,Spiele!F:F))","v":""},"","","",null,null,-1,-1,1,0]
[null,null,{"$f":"IF(B2162=\"\",\"\",LOOKUP(B2162,Spiele!B:B,Spiele!C:C))","v":""},{"$f":"IF(B2162=\"\",\"\",LOOKUP(B2162,Spiele!B:B,Spiele!D:D))","v":""},{"$f":"IF(B2162=\"\",\"\",LOOKUP(B2162,Spiele!B:B,Spiele!E:E))","v":""},{"$f":"IF(B2162=\"\",\"\",LOOKUP(B2162,Spiele!B:B,Spiele!F:F))","v":""},"","","",null,null,-1,-1,1,0]
[null,null,{"$f":"IF(B2168=\"\",\"\",LOOKUP(B2168,Spiele!B:B,Spiele!C:C))","v":""},{"$f":"IF(B2168=\"\",\"\",LOOKUP(B2168,Spiele!B:B,Spiele!D:D))","v":""},{"$f":"IF(B2168=\"\",\"\",LOOKUP(B2168,Spiele!B:B,Spiele!E:E))","v":""},{"$f":"IF(B2168=\"\",\"\",LOOKUP(B2168,Spiele!B:B,Spiele!F:F))","v":""},"","","",null,null,-1,-1,1,0]
[null,null,{"$f":"IF(B2171=\"\",\"\",LOOKUP(B2171,Spiele!B:B,Spiele!C:C))","v":""},{"$f":"IF(B2171=\"\",\"\",LOOKUP(B2171,Spiele!B:B,Spiele!D:D))","v":""},{"$f":"IF(B2171=\"\",\"\",LOOKUP(B2171,Spiele!B:B,Spiele!E:E))","v":""},{"$f":"IF(B2171=\"\",\"\",LOOKUP(B2171,Spiele!B:B,Spiele!F:F))","v":""},"","","",null,null,-1,-1,1,0]
[null,null,{"$f":"IF(B2176=\"\",\"\",LOOKUP(B2176,Spiele!B:B,Spiele!C:C))","v":""},{"$f":"IF(B2176=\"\",\"\",LOOKUP(B2176,Spiele!B:B,Spiele!D:D))","v":""},{"$f":"IF(B2176=\"\",\"\",LOOKUP(B2176,Spiele!B:B,Spiele!E:E))","v":""},{"$f":"IF(B2176=\"\",\"\",LOOKUP(B2176,Spiele!B:B,Spiele!F:F))","v":""},"","","",null,null,-1,-1,1,0]
[null,null,{"$f":"IF(B2177=\"\",\"\",LOOKUP(B2177,Spiele!B:B,Spiele!C:C))","v":""},{"$f":"IF(B2177=\"\",\"\",LOOKUP(B2177,Spiele!B:B,Spiele!D:D))","v":""},{"$f":"IF(B2177=\"\",\"\",LOOKUP(B2177,Spiele!B:B,Spiele!E:E))","v":""},{"$f":"IF(B2177=\"\",\"\",LOOKUP(B2177,Spiele!B:B,Spiele!F:F))","v":""},"","","",null,null,-1,-1,1,0]
[null,null,{"$f":"IF(B2182=\"\",\"\",LOOKUP(B2182,Spiele!B:B,Spiele!C:C))","v":""},{"$f":"IF(B2182=\"\",\"\",LOOKUP(B2182,Spiele!B:B,Spiele!D:D))","v":""},{"$f":"IF(B2182=\"\",\"\",LOOKUP(B2182,Spiele!B:B,Spiele!E:E))","v":""},{"$f":"IF(B2182=\"\",\"\",LOOKUP(B2182,Spiele!B:B,Spiele!F:F))","v":""},"","","",null,null,-1,-1,1,0]
[null,null,{"$f":"IF(B2186=\"\",\"\",LOOKUP(B2186,Spiele!B:B,Spiele!C:C))","v":""},{"$f":"IF(B2186=\"\",\"\",LOOKUP(B2186,Spiele!B:B,Spiele!D:D))","v":""},{"$f":"IF(B2186=\"\",\"\",LOOKUP(B2186,Spiele!B:B,Spiele!E:E))","v":""},{"$f":"IF(B2186=\"\",\"\",LOOKUP(B2186,Spiele!B:B,Spiele!F:F))","v":""},"","","",null,null,-1,-1,1,0]
[null,null,{"$f":"IF(B2191=\"\",\"\",LOOKUP(B2191,Spiele!B:B,Spiele!C:C))","v":""},{"$f":"IF(B2191=\"\",\"\",LOOKUP(B2191,Spiele!B:B,Spiele!D:D))","v":""},{"$f":"IF(B2191=\"\",\"\",LOOKUP(B2191,Spiele!B:B,Spiele!E:E))","v":""},{"$f":"IF(B2191=\"\",\"\",LOOKUP(B2191,Spiele!B:B,Spiele!F:F))","v":""},"","","",null,null,-1,-1,1,0]
[null,null,{"$f":"IF(B2192=\"\",\"\",LOOKUP(B2192,Spiele!B:B,Spiele!C:C))","v":""},{"$f":"IF(B2192=\"\",\"\",LOOKUP(B2192,Spiele!B:B,Spiele!D:D))","v":""},{"$f":"IF(B2192=\"\",\"\",LOOKUP(B2192,Spiele!B:B,Spiele!E:E))","v":""},{"$f":"IF(B2192=\"\",\"\",LOOKUP(B2192,Spiele!B:B,Spiele!F:F))","v":""},"","","",null,null,-1,-1,1,0]
[null,null,{"$f":"IF(B2198=\"\",\"\",LOOKUP(B2198,Spiele!B:B,Spiele!C:C))","v":""},{"$f":"IF(B2198=\"\",\"\",LOOKUP(B2198,Spiele!B:B,Spiele!D:D))","v":""},{"$f":"IF(B2198=\"\",\"\",LOOKUP(B2198,Spiele!B:B,Spiele!E:E))","v":""},{"$f":"IF(B2198=\"\",\"\",LOOKUP(B2198,Spiele!B:B,Spiele!F:F))","v":""},"","","",null,null,-1,-1,1,0]
[null,null,{"$f":"IF(B2201=\"\",\"\",LOOKUP(B2201,Spiele!B:B,Spiele!C:C))","v":""},{"$f":"IF(B2201=\"\",\"\",LOOKUP(B2201,Spiele!B:B,Spiele!D:D))","v":""},{"$f":"IF(B2201=\"\",\"\",LOOKUP(B2201,Spiele!B:B,Spiele!E:E))","v":""},{"$f":"IF(B2201=\"\",\"\",LOOKUP(B2201,Spiele!B:B,Spiele!F:F))","v":""},"","","",null,null,-1,-1,1,0]
[null,null,{"$f":"IF(B2206=\"\",\"\",LOOKUP(B2206,Spiele!B:B,Spiele!C:C))","v":""},{"$f":"IF(B2206=\"\",\"\",LOOKUP(B2206,Spiele!B:B,Spiele!D:D))","v":""},{"$f":"IF(B2206=\"\",\"\",LOOKUP(B2206,Spiele!B:B,Spiele!E:E))","v":""},{"$f":"IF(B2206=\"\",\"\",LOOKUP(B2206,Spiele!B:B,Spiele!F:F))","v":""},"","","",null,null,-1,-1,1,0]
[null,null,{"$f":"IF(B2207=\"\",\"\",LOOKUP(B2207,Spiele!B:B,Spiele!C:C))","v":""},{"$f":"IF(B2207=\"\",\"\",LOOKUP(B2207,Spiele!B:B,Spiele!D:D))","v":""},{"$f":"IF(B2207=\"\",\"\",LOOKUP(B2207,Spiele!B:B,Spiele!E:E))","v":""},{"$f":"IF(B2207=\"\",\"\",LOOKUP(B2207,Spiele!B:B,Spiele!F:F))","v":""},"","","",null,null,-1,-1,1,0]
[null,null,{"$f":"IF(B2212=\"\",\"\",LOOKUP(B2212,Spiele!B:B,Spiele!C:C))","v":""},{"$f":"IF(B2212=\"\",\"\",LOOKUP(B2212,Spiele!B:B,Spiele!D:D))","v":""},{"$f":"IF(B2212=\"\",\"\",LOOKUP(B2212,Spiele!B:B,Spiele!E:E))","v":""},{"$f":"IF(B2212=\"\",\"\",LOOKUP(B2212,Spiele!B:B,Spiele!F:F))","v":""},"","","",null,null,-1,-1,1,0]
[null,null,{"$f":"IF(B2216=\"\",\"\",LOOKUP(B2216,Spiele!B:B,Spiele!C:C))","v":""},{"$f":"IF(B2216=\"\",\"\",LOOKUP(B2216,Spiele!B:B,Spiele!D:D))","v":""},{"$f":"IF(B2216=\"\",\"\",LOOKUP(B2216,Spiele!B:B,Spiele!E:E))","v":""},{"$f":"IF(B2216=\"\",\"\",LOOKUP(B2216,Spiele!B:B,Spiele!F:F))","v":""},"","","",null,null,-1,-1,1,0]
[null,null,{"$f":"IF(B2221=\"\",\"\",LOOKUP(B2221,Spiele!B:B,Spiele!C:C))","v":""},{"$f":"IF(B2221=\"\",\"\",LOOKUP(B2221,Spiele!B:B,Spiele!D:D))","v":""},{"$f":"IF(B2221=\"\",\"\",LOOKUP(B2221,Spiele!B:B,Spiele!E:E))","v":""},{"$f":"IF(B2221=\"\",\"\",LOOKUP(B2221,Spiele!B:B,Spiele!F:F))","v":""},"","","",null,null,-1,-1,1,0]
[null,null,{"$f":"IF(B2222=\"\",\"\",LOOKUP(B2222,Spiele!B:B,Spiele!C:C))","v":""},{"$f":"IF(B2222=\"\",\"\",LOOKUP(B2222,Spiele!B:B,Spiele!D:D))","v":""},{"$f":"IF(B2222=\"\",\"\",LOOKUP(B2222,Spiele!B:B,Spiele!E:E))","v":""},{"$f":"IF(B2222=\"\",\"\",LOOKUP(B2222,Spiele!B:B,Spiele!F:F))","v":""},"","","",null,null,-1,-1,1,0]
[null,null,{"$f":"IF(B2228=\"\",\"\",LOOKUP(B2228,Spiele!B:B,Spiele!C:C))","v":""},{"$f":"IF(B2228=\"\",\"\",LOOKUP(B2228,Spiele!B:B,Spiele!D:D))","v":""},{"$f":"IF(B2228=\"\",\"\",LOOKUP(B2228,Spiele!B:B,Spiele!E:E))","v":""},{"$f":"IF(B2228=\"\",\"\",LOOKUP(B2228,Spiele!B:B,Spiele!F:F))","v":""},"","","",null,null,-1,-1,1,0]
[null,null,{"$f":"IF(B2231=\"\",\"\",LOOKUP(B2231,Spiele!B:B,Spiele!C:C))","v":""},{"$f":"IF(B2231=\"\",\"\",LOOKUP(B2231,Spiele!B:B,Spiele!D:D))","v":""},{"$f":"IF(B2231=\"\",\"\",LOOKUP(B2231,Spiele!B:B,Spiele!E:E))","v":""},{"$f":"IF(B2231=\"\",\"\",LOOKUP(B2231,Spiele!B:B,Spiele!F:F))","v":""},"","","",null,null,-1,-1,1,0]
[null,null,{"$f":"IF(B2236=\"\",\"\",LOOKUP(B2236,Spiele!B:B,Spiele!C:C))","v":""},{"$f":"IF(B2236=\"\",\"\",LOOKUP(B2236,Spiele!B:B,Spiele!D:D))","v":""},{"$f":"IF(B2236=\"\",\"\",LOOKUP(B2236,Spiele!B:B,Spiele!E:E))","v":""},{"$f":"IF(B2236=\"\",\"\",LOOKUP(B2236,Spiele!B:B,Spiele!F:F))","v":""},"","","",null,null,-1,-1,1,0]
[null,null,{"$f":"IF(B2237=\"\",\"\",LOOKUP(B2237,Spiele!B:B,Spiele!C:C))","v":""},{"$f":"IF(B2237=\"\",\"\",LOOKUP(B2237,Spiele!B:B,Spiele!D:D))","v":""},{"$f":"IF(B2237=\"\",\"\",LOOKUP(B2237,Spiele!B:B,Spiele!E:E))","v":""},{"$f":"IF(B2237=\"\",\"\",LOOKUP(B2237,Spiele!B:B,Spiele!F:F))","v":""},"","","",null,null,-1,-1,1,0]
[null,null,{"$f":"IF(B2242=\"\",\"\",LOOKUP(B2242,Spiele!B:B,Spiele!C:C))","v":""},{"$f":"IF(B2242=\"\",\"\",LOOKUP(B2242,Spiele!B:B,Spiele!D:D))","v":""},{"$f":"IF(B2242=\"\",\"\",LOOKUP(B2242,Spiele!B:B,Spiele!E:E))","v":""},{"$f":"IF(B2242=\"\",\"\",LOOKUP(B2242,Spiele!B:B,Spiele!F:F))","v":""},"","","",null,null,-1,-1,1,0]
[null,null,{"$f":"IF(B2246=\"\",\"\",LOOKUP(B2246,Spiele!B:B,Spiele!C:C))","v":""},{"$f":"IF(B2246=\"\",\"\",LOOKUP(B2246,Spiele!B:B,Spiele!D:D))","v":""},{"$f":"IF(B2246=\"\",\"\",LOOKUP(B2246,Spiele!B:B,Spiele!E:E))","v":""},{"$f":"IF(B2246=\"\",\"\",LOOKUP(B2246,Spiele!B:B,Spiele!F:F))","v":""},"","","",null,null,-1,-1,1,0]
[null,null,{"$f":"IF(B2251=\"\",\"\",LOOKUP(B2251,Spiele!B:B,Spiele!C:C))","v":""},{"$f":"IF(B2251=\"\",\"\",LOOKUP(B2251,Spiele!B:B,Spiele!D:D))","v":""},{"$f":"IF(B2251=\"\",\"\",LOOKUP(B2251,Spiele!B:B,Spiele!E:E))","v":""},{"$f":"IF(B2251=\"\",\"\",LOOKUP(B2251,Spiele!B:B,Spiele!F:F))","v":""},"","","",null,null,-1,-1,1,0]
[null,null,{"$f":"IF(B2252=\"\",\"\",LOOKUP(B2252,Spiele!B:B,Spiele!C:C))","v":""},{"$f":"IF(B2252=\"\",\"\",LOOKUP(B2252,Spiele!B:B,Spiele!D:D))","v":""},{"$f":"IF(B2252=\"\",\"\",LOOKUP(B2252,Spiele!B:B,Spiele!E:E))","v":""},{"$f":"IF(B2252=\"\",\"\",LOOKUP(B2252,Spiele!B:B,Spiele!F:F))","v":""},"","","",null,null,-1,-1,1,0]
[null,null,{"$f":"IF(B2258=\"\",\"\",LOOKUP(B2258,Spiele!B:B,Spiele!C:C))","v":""},{"$f":"IF(B2258=\"\",\"\",LOOKUP(B2258,Spiele!B:B,Spiele!D:D))","v":""},{"$f":"IF(B2258=\"\",\"\",LOOKUP(B2258,Spiele!B:B,Spiele!E:E))","v":""},{"$f":"IF(B2258=\"\",\"\",LOOKUP(B2258,Spiele!B:B,Spiele!F:F))","v":""},"","","",null,null,-1,-1,1,0]
[null,null,{"$f":"IF(B2261=\"\",\"\",LOOKUP(B2261,Spiele!B:B,Spiele!C:C))","v":""},{"$f":"IF(B2261=\"\",\"\",LOOKUP(B2261,Spiele!B:B,Spiele!D:D))","v":""},{"$f":"IF(B2261=\"\",\"\",LOOKUP(B2261,Spiele!B:B,Spiele!E:E))","v":""},{"$f":"IF(B2261=\"\",\"\",LOOKUP(B2261,Spiele!B:B,Spiele!F:F))","v":""},"","","",null,null,-1,-1,1,0]
[null,null,{"$f":"IF(B2266=\"\",\"\",LOOKUP(B2266,Spiele!B:B,Spiele!C:C))","v":""},{"$f":"IF(B2266=\"\",\"\",LOOKUP(B2266,Spiele!B:B,Spiele!D:D))","v":""},{"$f":"IF(B2266=\"\",\"\",LOOKUP(B2266,Spiele!B:B,Spiele!E:E))","v":""},{"$f":"IF(B2266=\"\",\"\",LOOKUP(B2266,Spiele!B:B,Spiele!F:F))","v":""},"","","",null,null,-1,-1,1,0]
[null,null,{"$f":"IF(B2267=\"\",\"\",LOOKUP(B2267,Spiele!B:B,Spiele!C:C))","v":""},{"$f":"IF(B2267=\"\",\"\",LOOKUP(B2267,Spiele!B:B,Spiele!D:D))","v":""},{"$f":"IF(B2267=\"\",\"\",LOOKUP(B2267,Spiele!B:B,Spiele!E:E))","v":""},{"$f":"IF(B2267=\"\",\"\",LOOKUP(B2267,Spiele!B:B,Spiele!F:F))","v":""},"","","",null,null,-1,-1,1,0]
[null,null,{"$f":"IF(B2272=\"\",\"\",LOOKUP(B2272,Spiele!B:B,Spiele!C:C))","v":""},{"$f":"IF(B2272=\"\",\"\",LOOKUP(B2272,Spiele!B:B,Spiele!D:D))","v":""},{"$f":"IF(B2272=\"\",\"\",LOOKUP(B2272,Spiele!B:B,Spiele!E:E))","v":""},{"$f":"IF(B2272=\"\",\"\",LOOKUP(B2272,Spiele!B:B,Spiele!F:F))","v":""},"","","",null,null,-1,-1,1,0]
[null,null,{"$f":"IF(B2276=\"\",\"\",LOOKUP(B2276,Spiele!B:B,Spiele!C:C))","v":""},{"$f":"IF(B2276=\"\",\"\",LOOKUP(B2276,Spiele!B:B,Spiele!D:D))","v":""},{"$f":"IF(B2276=\"\",\"\",LOOKUP(B2276,Spiele!B:B,Spiele!E:E))","v":""},{"$f":"IF(B2276=\"\",\"\",LOOKUP(B2276,Spiele!B:B,Spiele!F:F))","v":""},"","","",null,null,-1,-1,1,0]
[null,null,{"$f":"IF(B2281=\"\",\"\",LOOKUP(B2281,Spiele!B:B,Spiele!C:C))","v":""},{"$f":"IF(B2281=\"\",\"\",LOOKUP(B2281,Spiele!B:B,Spiele!D:D))","v":""},{"$f":"IF(B2281=\"\",\"\",LOOKUP(B2281,Spiele!B:B,Spiele!E:E))","v":""},{"$f":"IF(B2281=\"\",\"\",LOOKUP(B2281,Spiele!B:B,Spiele!F:F))","v":""},"","","",null,null,-1,-1,1,0]
[null,null,{"$f":"IF(B2282=\"\",\"\",LOOKUP(B2282,Spiele!B:B,Spiele!C:C))","v":""},{"$f":"IF(B2282=\"\",\"\",LOOKUP(B2282,Spiele!B:B,Spiele!D:D))","v":""},{"$f":"IF(B2282=\"\",\"\",LOOKUP(B2282,Spiele!B:B,Spiele!E:E))","v":""},{"$f":"IF(B2282=\"\",\"\",LOOKUP(B2282,Spiele!B:B,Spiele!F:F))","v":""},{"$f":"IF(E2282=\"\",\"\",IF(E2282>F2282,1,0))","v":""},{"$f":"IF(F2282=\"\",\"\",IF(E2282<F2282,1,0))","v":""},{"$f":"IF(E2282=\"\",\"\",IF(E2282=F2282,1,0))","v":""},null,null,{"$f":"IF(E2282=\"\",-1,IF(J2282>K2282,1,-1))","v":-1},{"$f":"IF(F2282=\"\",-1,IF(J2282<K2282,1,-1))","v":-1},{"$f":"IF(E2282=\"-\",-1,IF(J2282=K2282,1,-1))","v":1},{"$f":"IF(E2282=\"\",0,IF(E2282=J2282,1,0)+IF(F2282=K2282,1,0)+IF(G2282=L2282,1,0)+IF(H2282=M2282,1,0)+IF(I2282=N2282,1,0))","v":0}]
[null,null,{"$f":"IF(B2286=\"\",\"\",LOOKUP(B2286,Spiele!B:B,Spiele!C:C))","v":""},{"$f":"IF(B2286=\"\",\"\",LOOKUP(B2286,Spiele!B:B,Spiele!D:D))","v":""},{"$f":"IF(B2286=\"\",\"\",LOOKUP(B2286,Spiele!B:B,Spiele!E:E))","v":""},{"$f":"IF(B2286=\"\",\"\",LOOKUP(B2286,Spiele!B:B,Spiele!F:F))","v":""},"","","",null,null,-1,-1,1,0]
[null,null,{"$f":"IF(B2291=\"\",\"\",LOOKUP(B2291,Spiele!B:B,Spiele!C:C))","v":""},{"$f":"IF(B2291=\"\",\"\",LOOKUP(B2291,Spiele!B:B,Spiele!D:D))","v":""},{"$f":"IF(B2291=\"\",\"\",LOOKUP(B2291,Spiele!B:B,Spiele!E:E))","v":""},{"$f":"IF(B2291=\"\",\"\",LOOKUP(B2291,Spiele!B:B,Spiele!F:F))","v":""},"","","",null,null,-1,-1,1,0]
[null,null,{"$f":"IF(B2296=\"\",\"\",LOOKUP(B2296,Spiele!B:B,Spiele!C:C))","v":""},{"$f":"IF(B2296=\"\",\"\",LOOKUP(B2296,Spiele!B:B,Spiele!D:D))","v":""},{"$f":"IF(B2296=\"\",\"\",LOOKUP(B2296,Spiele!B:B,Spiele!E:E))","v":""},{"$f":"IF(B2296=\"\",\"\",LOOKUP(B2296,Spiele!B:B,Spiele!F:F))","v":""},"","","",null,null,-1,-1,1,0]
[null,null,{"$f":"IF(B2297=\"\",\"\",LOOKUP(B2297,Spiele!B:B,Spiele!C:C))","v":""},{"$f":"IF(B2297=\"\",\"\",LOOKUP(B2297,Spiele!B:B,Spiele!D:D))","v":""},{"$f":"IF(B2297=\"\",\"\",LOOKUP(B2297,Spiele!B:B,Spiele!E:E))","v":""},{"$f":"IF(B2297=\"\",\"\",LOOKUP(B2297,Spiele!B:B,Spiele!F:F))","v":""},"","","",null,null,-1,-1,1,0]
[null,null,{"$f":"IF(B2302=\"\",\"\",LOOKUP(B2302,Spiele!B:B,Spiele!C:C))","v":""},{"$f":"IF(B2302=\"\",\"\",LOOKUP(B2302,Spiele!B:B,Spiele!D:D))","v":""},{"$f":"IF(B2302=\"\",\"\",LOOKUP(B2302,Spiele!B:B,Spiele!E:E))","v":""},{"$f":"IF(B2302=\"\",\"\",LOOKUP(B2302,Spiele!B:B,Spiele!F:F))","v":""},"","","",null,null,-1,-1,1,0]
[null,null,{"$f":"IF(B2306=\"\",\"\",LOOKUP(B2306,Spiele!B:B,Spiele!C:C))","v":""},{"$f":"IF(B2306=\"\",\"\",LOOKUP(B2306,Spiele!B:B,Spiele!D:D))","v":""},{"$f":"IF(B2306=\"\",\"\",LOOKUP(B2306,Spiele!B:B,Spiele!E:E))","v":""},{"$f":"IF(B2306=\"\",\"\",LOOKUP(B2306,Spiele!B:B,Spiele!F:F))","v":""},"","","",null,null,-1,-1,1,0]
[null,null,{"$f":"IF(B2311=\"\",\"\",LOOKUP(B2311,Spiele!B:B,Spiele!C:C))","v":""},{"$f":"IF(B2311=\"\",\"\",LOOKUP(B2311,Spiele!B:B,Spiele!D:D))","v":""},{"$f":"IF(B2311=\"\",\"\",LOOKUP(B2311,Spiele!B:B,Spiele!E:E))","v":""},{"$f":"IF(B2311=\"\",\"\",LOOKUP(B2311,Spiele!B:B,Spiele!F:F))","v":""},"","","",null,null,-1,-1,1,0]
[null,null,{"$f":"IF(B2312=\"\",\"\",LOOKUP(B2312,Spiele!B:B,Spiele!C:C))","v":""},{"$f":"IF(B2312=\"\",\"\",LOOKUP(B2312,Spiele!B:B,Spiele!D:D))","v":""},{"$f":"IF(B2312=\"\",\"\",LOOKUP(B2312,Spiele!B:B,Spiele!E:E))","v":""},{"$f":"IF(B2312=\"\",\"\",LOOKUP(B2312,Spiele!B:B,Spiele!F:F))","v":""},"","","",null,null,-1,-1,1,0]
[null,null,{"$f":"IF(B2316=\"\",\"\",LOOKUP(B2316,Spiele!B:B,Spiele!C:C))","v":""},{"$f":"IF(B2316=\"\",\"\",LOOKUP(B2316,Spiele!B:B,Spiele!D:D))","v":""},{"$f":"IF(B2316=\"\",\"\",LOOKUP(B2316,Spiele!B:B,Spiele!E:E))","v":""},{"$f":"IF(B2316=\"\",\"\",LOOKUP(B2316,Spiele!B:B,Spiele!F:F))","v":""},"","","",null,null,-1,-1,1,0]
[null,null,{"$f":"IF(B2321=\"\",\"\",LOOKUP(B2321,Spiele!B:B,Spiele!C:C))","v":""},{"$f":"IF(B2321=\"\",\"\",LOOKUP(B2321,Spiele!B:B,Spiele!D:D))","v":""},{"$f":"IF(B2321=\"\",\"\",LOOKUP(B2321,Spiele!B:B,Spiele!E:E))","v":""},{"$f":"IF(B2321=\"\",\"\",LOOKUP(B2321,Spiele!B:B,Spiele!F:F))","v":""},"","","",null,null,-1,-1,1,0]
[null,null,{"$f":"IF(B2326=\"\",\"\",LOOKUP(B2326,Spiele!B:B,Spiele!C:C))","v":""},{"$f":"IF(B2326=\"\",\"\",LOOKUP(B2326,Spiele!B:B,Spiele!D:D))","v":""},{"$f":"IF(B2326=\"\",\"\",LOOKUP(B2326,Spiele!B:B,Spiele!E:E))","v":""},{"$f":"IF(B2326=\"\",\"\",LOOKUP(B2326,Spiele!B:B,Spiele!F:F))","v":""},"","","",null,null,-1,-1,1,0]
[null,null,{"$f":"IF(B2327=\"\",\"\",LOOKUP(B2327,Spiele!B:B,Spiele!C:C))","v":""},{"$f":"IF(B2327=\"\",\"\",LOOKUP(B2327,Spiele!B:B,Spiele!D:D))","v":""},{"$f":"IF(B2327=\"\",\"\",LOOKUP(B2327,Spiele!B:B,Spiele!E:E))","v":""},{"$f":"IF(B2327=\"\",\"\",LOOKUP(B2327,Spiele!B:B,Spiele!F:F))","v":""},"","","",null,null,-1,-1,1,0]
[null,null,{"$f":"IF(B2332=\"\",\"\",LOOKUP(B2332,Spiele!B:B,Spiele!C:C))","v":""},{"$f":"IF(B2332=\"\",\"\",LOOKUP(B2332,Spiele!B:B,Spiele!D:D))","v":""},{"$f":"IF(B2332=\"\",\"\",LOOKUP(B2332,Spiele!B:B,Spiele!E:E))","v":""},{"$f":"IF(B2332=\"\",\"\",LOOKUP(B2332,Spiele!B:B,Spiele!F:F))","v":""},"","","",null,null,-1,-1,1,0]
[null,null,{"$f":"IF(B2336=\"\",\"\",LOOKUP(B2336,Spiele!B:B,Spiele!C:C))","v":""},{"$f":"IF(B2336=\"\",\"\",LOOKUP(B2336,Spiele!B:B,Spiele!D:D))","v":""},{"$f":"IF(B2336=\"\",\"\",LOOKUP(B2336,Spiele!B:B,Spiele!E:E))","v":""},{"$f":"IF(B2336=\"\",\"\",LOOKUP(B2336,Spiele!B:B,Spiele!F:F))","v":""},"","","",null,null,-1,-1,1,0]
[null,null,{"$f":"IF(B2341=\"\",\"\",LOOKUP(B2341,Spiele!B:B,Spiele!C:C))","v":""},{"$f":"IF(B2341=\"\",\"\",LOOKUP(B2341,Spiele!B:B,Spiele!D:D))","v":""},{"$f":"IF(B2341=\"\",\"\",LOOKUP(B2341,Spiele!B:B,Spiele!E:E))","v":""},{"$f":"IF(B2341=\"\",\"\",LOOKUP(B2341,Spiele!B:B,Spiele!F:F))","v":""},"","","",null,null,-1,-1,1,0]
[null,null,{"$f":"IF(B2342=\"\",\"\",LOOKUP(B2342,Spiele!B:B,Spiele!C:C))","v":""},{"$f":"IF(B2342=\"\",\"\",LOOKUP(B2342,Spiele!B:B,Spiele!D:D))","v":""},{"$f":"IF(B2342=\"\",\"\",LOOKUP(B2342,Spiele!B:B,Spiele!E:E))","v":""},{"$f":"IF(B2342=\"\",\"\",LOOKUP(B2342,Spiele!B:B,Spiele!F:F))","v":""},"","","",null,null,-1,-1,1,0]
[null,null,{"$f":"IF(B2346=\"\",\"\",LOOKUP(B2346,Spiele!B:B,Spiele!C:C))","v":""},{"$f":"IF(B2346=\"\",\"\",LOOKUP(B2346,Spiele!B:B,Spiele!D:D))","v":""},{"$f":"IF(B2346=\"\",\"\",LOOKUP(B2346,Spiele!B:B,Spiele!E:E))","v":""},{"$f":"IF(B2346=\"\",\"\",LOOKUP(B2346,Spiele!B:B,Spiele!F:F))","v":""},{"$f":"IF(E2346=\"\",\"\",IF(E2346>F2346,1,0))","v":""},{"$f":"IF(F2346=\"\",\"\",IF(E2346<F2346,1,0))","v":""},{"$f":"IF(E2346=\"\",\"\",IF(E2346=F2346,1,0))","v":""},null,null,{"$f":"IF(E2346=\"\",-1,IF(J2346>K2346,1,-1))","v":-1},{"$f":"IF(F2346=\"\",-1,IF(J2346<K2346,1,-1))","v":-1},{"$f":"IF(E2346=\"-\",-1,IF(J2346=K2346,1,-1))","v":1},{"$f":"IF(E2346=\"\",0,IF(E2346=J2346,1,0)+IF(F2346=K2346,1,0)+IF(G2346=L2346,1,0)+IF(H2346=M2346,1,0)+IF(I2346=N2346,1,0))","v":0}]
[null,null,{"$f":"IF(B2351=\"\",\"\",LOOKUP(B2351,Spiele!B:B,Spiele!C:C))","v":""},{"$f":"IF(B2351=\"\",\"\",LOOKUP(B2351,Spiele!B:B,Spiele!D:D))","v":""},{"$f":"IF(B2351=\"\",\"\",LOOKUP(B2351,Spiele!B:B,Spiele!E:E))","v":""},{"$f":"IF(B2351=\"\",\"\",LOOKUP(B2351,Spiele!B:B,Spiele!F:F))","v":""},"","","",null,null,-1,-1,1,0]
[null,null,{"$f":"IF(B2356=\"\",\"\",LOOKUP(B2356,Spiele!B:B,Spiele!C:C))","v":""},{"$f":"IF(B2356=\"\",\"\",LOOKUP(B2356,Spiele!B:B,Spiele!D:D))","v":""},{"$f":"IF(B2356=\"\",\"\",LOOKUP(B2356,Spiele!B:B,Spiele!E:E))","v":""},{"$f":"IF(B2356=\"\",\"\",LOOKUP(B2356,Spiele!B:B,Spiele!F:F))","v":""},"","","",null,null,-1,-1,1,0]
[null,null,{"$f":"IF(B2357=\"\",\"\",LOOKUP(B2357,Spiele!B:B,Spiele!C:C))","v":""},{"$f":"IF(B2357=\"\",\"\",LOOKUP(B2357,Spiele!B:B,Spiele!D:D))","v":""},{"$f":"IF(B2357=\"\",\"\",LOOKUP(B2357,Spiele!B:B,Spiele!E:E))","v":""},{"$f":"IF(B2357=\"\",\"\",LOOKUP(B2357,Spiele!B:B,Spiele!F:F))","v":""},"","","",null,null,-1,-1,1,0]
[null,null,{"$f":"IF(B2362=\"\",\"\",LOOKUP(B2362,Spiele!B:B,Spiele!C:C))","v":""},{"$f":"IF(B2362=\"\",\"\",LOOKUP(B2362,Spiele!B:B,Spiele!D:D))","v":""},{"$f":"IF(B2362=\"\",\"\",LOOKUP(B2362,Spiele!B:B,Spiele!E:E))","v":""},{"$f":"IF(B2362=\"\",\"\",LOOKUP(B2362,Spiele!B:B,Spiele!F:F))","v":""},"","","",null,null,-1,-1,1,0]
[null,null,{"$f":"IF(B2366=\"\",\"\",LOOKUP(B2366,Spiele!B:B,Spiele!C:C))","v":""},{"$f":"IF(B2366=\"\",\"\",LOOKUP(B2366,Spiele!B:B,Spiele!D:D))","v":""},{"$f":"IF(B2366=\"\",\"\",LOOKUP(B2366,Spiele!B:B,Spiele!E:E))","v":""},{"$f":"IF(B2366=\"\",\"\",LOOKUP(B2366,Spiele!B:B,Spiele!F:F))","v":""},"","","",null,null,-1,-1,1,0]
[null,null,{"$f":"IF(B2371=\"\",\"\",LOOKUP(B2371,Spiele!B:B,Spiele!C:C))","v":""},{"$f":"IF(B2371=\"\",\"\",LOOKUP(B2371,Spiele!B:B,Spiele!D:D))","v":""},{"$f":"IF(B2371=\"\",\"\",LOOKUP(B2371,Spiele!B:B,Spiele!E:E))","v":""},{"$f":"IF(B2371=\"\",\"\",LOOKUP(B2371,Spiele!B:B,Spiele!F:F))","v":""},"","","",null,null,-1,-1,1,0]
[null,null,{"$f":"IF(B2372=\"\",\"\",LOOKUP(B2372,Spiele!B:B,Spiele!C:C))","v":""},{"$f":"IF(B2372=\"\",\"\",LOOKUP(B2372,Spiele!B:B,Spiele!D:D))","v":""},{"$f":"IF(B2372=\"\",\"\",LOOKUP(B2372,Spiele!B:B,Spiele!E:E))","v":""},{"$f":"IF(B2372=\"\",\"\",LOOKUP(B2372,Spiele!B:B,Spiele!F:F))","v":""},"","","",null,null,-1,-1,1,0]
[null,null,{"$f":"IF(B2376=\"\",\"\",LOOKUP(B2376,Spiele!B:B,Spiele!C:C))","v":""},{"$f":"IF(B2376=\"\",\"\",LOOKUP(B2376,Spiele!B:B,Spiele!D:D))","v":""},{"$f":"IF(B2376=\"\",\"\",LOOKUP(B2376,Spiele!B:B,Spiele!E:E))","v":""},{"$f":"IF(B2376=\"\",\"\",LOOKUP(B2376,Spiele!B:B,Spiele!F:F))","v":""},"","","",null,null,-1,-1,1,0]
[null,null,{"$f":"IF(B2381=\"\",\"\",LOOKUP(B2381,Spiele!B:B,Spiele!C:C))","v":""},{"$f":"IF(B2381=\"\",\"\",LOOKUP(B2381,Spiele!B:B,Spiele!D:D))","v":""},{"$f":"IF(B2381=\"\",\"\",LOOKUP(B2381,Spiele!B:B,Spiele!E:E))","v":""},{"$f":"IF(B2381=\"\",\"\",LOOKUP(B2381,Spiele!B:B,Spiele!F:F))","v":""},"","","",null,null,-1,-1,1,0]
[null,null,{"$f":"IF(B2386=\"\",\"\",LOOKUP(B2386,Spiele!B:B,Spiele!C:C))","v":""},{"$f":"IF(B2386=\"\",\"\",LOOKUP(B2386,Spiele!B:B,Spiele!D:D))","v":""},{"$f":"IF(B2386=\"\",\"\",LOOKUP(B2386,Spiele!B:B,Spiele!E:E))","v":""},{"$f":"IF(B2386=\"\",\"\",LOOKUP(B2386,Spiele!B:B,Spiele!F:F))","v":""},"","","",null,null,-1,-1,1,0]
[null,null,{"$f":"IF(B2387=\"\",\"\",LOOKUP(B2387,Spiele!B:B,Spiele!C:C))","v":""},{"$f":"IF(B2387=\"\",\"\",LOOKUP(B2387,Spiele!B:B,Spiele!D:D))","v":""},{"$f":"IF(B2387=\"\",\"\",LOOKUP(B2387,Spiele!B:B,Spiele!E:E))","v":""},{"$f":"IF(B2387=\"\",\"\",LOOKUP(B2387,Spiele!B:B,Spiele!F:F))","v":""},"","","",null,null,-1,-1,1,0]
[null,null,{"$f":"IF(B2392=\"\",\"\",LOOKUP(B2392,Spiele!B:B,Spiele!C:C))","v":""},{"$f":"IF(B2392=\"\",\"\",LOOKUP(B2392,Spiele!B:B,Spiele!D:D))","v":""},{"$f":"IF(B2392=\"\",\"\",LOOKUP(B2392,Spiele!B:B,Spiele!E:E))","v":""},{"$f":"IF(B2392=\"\",\"\",LOOKUP(B2392,Spiele!B:B,Spiele!F:F))","v":""},"","","",null,null,-1,-1,1,0]
[null,null,{"$f":"IF(B2396=\"\",\"\",LOOKUP(B2396,Spiele!B:B,Spiele!C:C))","v":""},{"$f":"IF(B2396=\"\",\"\",LOOKUP(B2396,Spiele!B:B,Spiele!D:D))","v":""},{"$f":"IF(B2396=\"\",\"\",LOOKUP(B2396,Spiele!B:B,Spiele!E:E))","v":""},{"$f":"IF(B2396=\"\",\"\",LOOKUP(B2396,Spiele!B:B,Spiele!F:F))","v":""},"","","",null,null,-1,-1,1,0]
[null,null,{"$f":"IF(B2401=\"\",\"\",LOOKUP(B2401,Spiele!B:B,Spiele!C:C))","v":""},{"$f":"IF(B2401=\"\",\"\",LOOKUP(B2401,Spiele!B:B,Spiele!D:D))","v":""},{"$f":"IF(B2401=\"\",\"\",LOOKUP(B2401,Spiele!B:B,Spiele!E:E))","v":""},{"$f":"IF(B2401=\"\",\"\",LOOKUP(B2401,Spiele!B:B,Spiele!F:F))","v":""},"","","",null,null,-1,-1,1,0]
[null,null,{"$f":"IF(B2402=\"\",\"\",LOOKUP(B2402,Spiele!B:B,Spiele!C:C))","v":""},{"$f":"IF(B2402=\"\",\"\",LOOKUP(B2402,Spiele!B:B,Spiele!D:D))","v":""},{"$f":"IF(B2402=\"\",\"\",LOOKUP(B2402,Spiele!B:B,Spiele!E:E))","v":""},{"$f":"IF(B2402=\"\",\"\",LOOKUP(B2402,Spiele!B:B,Spiele!F:F))","v":""},"","","",null,null,-1,-1,1,0]
[null,null,{"$f":"IF(B2406=\"\",\"\",LOOKUP(B2406,Spiele!B:B,Spiele!C:C))","v":""},{"$f":"IF(B2406=\"\",\"\",LOOKUP(B2406,Spiele!B:B,Spiele!D:D))","v":""},{"$f":"IF(B2406=\"\",\"\",LOOKUP(B2406,Spiele!B:B,Spiele!E:E))","v":""},{"$f":"IF(B2406=\"\",\"\",LOOKUP(B2406,Spiele!B:B,Spiele!F:F))","v":""},"","","",null,null,-1,-1,1,0]
[null,null,{"$f":"IF(B2411=\"\",\"\",LOOKUP(B2411,Spiele!B:B,Spiele!C:C))","v":""},{"$f":"IF(B2411=\"\",\"\",LOOKUP(B2411,Spiele!B:B,Spiele!D:D))","v":""},{"$f":"IF(B2411=\"\",\"\",LOOKUP(B2411,Spiele!B:B,Spiele!E:E))","v":""},{"$f":"IF(B2411=\"\",\"\",LOOKUP(B2411,Spiele!B:B,Spiele!F:F))","v":""},"","","",null,null,-1,-1,1,0]
[null,null,{"$f":"IF(B2416=\"\",\"\",LOOKUP(B2416,Spiele!B:B,Spiele!C:C))","v":""},{"$f":"IF(B2416=\"\",\"\",LOOKUP(B2416,Spiele!B:B,Spiele!D:D))","v":""},{"$f":"IF(B2416=\"\",\"\",LOOKUP(B2416,Spiele!B:B,Spiele!E:E))","v":""},{"$f":"IF(B2416=\"\",\"\",LOOKUP(B2416,Spiele!B:B,Spiele!F:F))","v":""},"","","",null,null,-1,-1,1,0]
[null,null,{"$f":"IF(B2417=\"\",\"\",LOOKUP(B2417,Spiele!B:B,Spiele!C:C))","v":""},{"$f":"IF(B2417=\"\",\"\",LOOKUP(B2417,Spiele!B:B,Spiele!D:D))","v":""},{"$f":"IF(B2417=\"\",\"\",LOOKUP(B2417,Spiele!B:B,Spiele!E:E))","v":""},{"$f":"IF(B2417=\"\",\"\",LOOKUP(B2417,Spiele!B:B,Spiele!F:F))","v":""},"","","",null,null,-1,-1,1,0]
[null,null,{"$f":"IF(B2422=\"\",\"\",LOOKUP(B2422,Spiele!B:B,Spiele!C:C))","v":""},{"$f":"IF(B2422=\"\",\"\",LOOKUP(B2422,Spiele!B:B,Spiele!D:D))","v":""},{"$f":"IF(B2422=\"\",\"\",LOOKUP(B2422,Spiele!B:B,Spiele!E:E))","v":""},{"$f":"IF(B2422=\"\",\"\",LOOKUP(B2422,Spiele!B:B,Spiele!F:F))","v":""},"","","",null,null,-1,-1,1,0]
[null,null,{"$f":"IF(B2426=\"\",\"\",LOOKUP(B2426,Spiele!B:B,Spiele!C:C))","v":""},{"$f":"IF(B2426=\"\",\"\",LOOKUP(B2426,Spiele!B:B,Spiele!D:D))","v":""},{"$f":"IF(B2426=\"\",\"\",LOOKUP(B2426,Spiele!B:B,Spiele!E:E))","v":""},{"$f":"IF(B2426=\"\",\"\",LOOKUP(B2426,Spiele!B:B,Spiele!F:F))","v":""},"","","",null,null,-1,-1,1,0]
[null,null,{"$f":"IF(B2431=\"\",\"\",LOOKUP(B2431,Spiele!B:B,Spiele!C:C))","v":""},{"$f":"IF(B2431=\"\",\"\",LOOKUP(B2431,Spiele!B:B,Spiele!D:D))","v":""},{"$f":"IF(B2431=\"\",\"\",LOOKUP(B2431,Spiele!B:B,Spiele!E:E))","v":""},{"$f":"IF(B2431=\"\",\"\",LOOKUP(B2431,Spiele!B:B,Spiele!F:F))","v":""},"","","",null,null,-1,-1,1,0]
[null,null,{"$f":"IF(B2432=\"\",\"\",LOOKUP(B2432,Spiele!B:B,Spiele!C:C))","v":""},{"$f":"IF(B2432=\"\",\"\",LOOKUP(B2432,Spiele!B:B,Spiele!D:D))","v":""},{"$f":"IF(B2432=\"\",\"\",LOOKUP(B2432,Spiele!B:B,Spiele!E:E))","v":""},{"$f":"IF(B2432=\"\",\"\",LOOKUP(B2432,Spiele!B:B,Spiele!F:F))","v":""},"","","",null,null,-1,-1,1,0]
[null,null,{"$f":"IF(B2436=\"\",\"\",LOOKUP(B2436,Spiele!B:B,Spiele!C:C))","v":""},{"$f":"IF(B2436=\"\",\"\",LOOKUP(B2436,Spiele!B:B,Spiele!D:D))","v":""},{"$f":"IF(B2436=\"\",\"\",LOOKUP(B2436,Spiele!B:B,Spiele!E:E))","v":""},{"$f":"IF(B2436=\"\",\"\",LOOKUP(B2436,Spiele!B:B,Spiele!F:F))","v":""},"","","",null,null,-1,-1,1,0]
[null,null,{"$f":"IF(B2441=\"\",\"\",LOOKUP(B2441,Spiele!B:B,Spiele!C:C))","v":""},{"$f":"IF(B2441=\"\",\"\",LOOKUP(B2441,Spiele!B:B,Spiele!D:D))","v":""},{"$f":"IF(B2441=\"\",\"\",LOOKUP(B2441,Spiele!B:B,Spiele!E:E))","v":""},{"$f":"IF(B2441=\"\",\"\",LOOKUP(B2441,Spiele!B:B,Spiele!F:F))","v":""},"","","",null,null,-1,-1,1,0]
[null,null,{"$f":"IF(B2446=\"\",\"\",LOOKUP(B2446,Spiele!B:B,Spiele!C:C))","v":""},{"$f":"IF(B2446=\"\",\"\",LOOKUP(B2446,Spiele!B:B,Spiele!D:D))","v":""},{"$f":"IF(B2446=\"\",\"\",LOOKUP(B2446,Spiele!B:B,Spiele!E:E))","v":""},{"$f":"IF(B2446=\"\",\"\",LOOKUP(B2446,Spiele!B:B,Spiele!F:F))","v":""},"","","",null,null,-1,-1,1,0]
[null,null,{"$f":"IF(B2447=\"\",\"\",LOOKUP(B2447,Spiele!B:B,Spiele!C:C))","v":""},{"$f":"IF(B2447=\"\",\"\",LOOKUP(B2447,Spiele!B:B,Spiele!D:D))","v":""},{"$f":"IF(B2447=\"\",\"\",LOOKUP(B2447,Spiele!B:B,Spiele!E:E))","v":""},{"$f":"IF(B2447=\"\",\"\",LOOKUP(B2447,Spiele!B:B,Spiele!F:F))","v":""},"","","",null,null,-1,-1,1,0]
[null,null,{"$f":"IF(B2452=\"\",\"\",LOOKUP(B2452,Spiele!B:B,Spiele!C:C))","v":""},{"$f":"IF(B2452=\"\",\"\",LOOKUP(B2452,Spiele!B:B,Spiele!D:D))","v":""},{"$f":"IF(B2452=\"\",\"\",LOOKUP(B2452,Spiele!B:B,Spiele!E:E))","v":""},{"$f":"IF(B2452=\"\",\"\",LOOKUP(B2452,Spiele!B:B,Spiele!F:F))","v":""},"","","",null,null,-1,-1,1,0]
[null,null,{"$f":"IF(B2456=\"\",\"\",LOOKUP(B2456,Spiele!B:B,Spiele!C:C))","v":""},{"$f":"IF(B2456=\"\",\"\",LOOKUP(B2456,Spiele!B:B,Spiele!D:D))","v":""},{"$f":"IF(B2456=\"\",\"\",LOOKUP(B2456,Spiele!B:B,Spiele!E:E))","v":""},{"$f":"IF(B2456=\"\",\"\",LOOKUP(B2456,Spiele!B:B,Spiele!F:F))","v":""},"","","",null,null,-1,-1,1,0]
[null,null,{"$f":"IF(B2461=\"\",\"\",LOOKUP(B2461,Spiele!B:B,Spiele!C:C))","v":""},{"$f":"IF(B2461=\"\",\"\",LOOKUP(B2461,Spiele!B:B,Spiele!D:D))","v":""},{"$f":"IF(B2461=\"\",\"\",LOOKUP(B2461,Spiele!B:B,Spiele!E:E))","v":""},{"$f":"IF(B2461=\"\",\"\",LOOKUP(B2461,Spiele!B:B,Spiele!F:F))","v":""},"","","",null,null,-1,-1,1,0]
[null,null,{"$f":"IF(B2462=\"\",\"\",LOOKUP(B2462,Spiele!B:B,Spiele!C:C))","v":""},{"$f":"IF(B2462=\"\",\"\",LOOKUP(B2462,Spiele!B:B,Spiele!D:D))","v":""},{"$f":"IF(B2462=\"\",\"\",LOOKUP(B2462,Spiele!B:B,Spiele!E:E))","v":""},{"$f":"IF(B2462=\"\",\"\",LOOKUP(B2462,Spiele!B:B,Spiele!F:F))","v":""},"","","",null,null,-1,-1,1,0]
[null,null,{"$f":"IF(B2466=\"\",\"\",LOOKUP(B2466,Spiele!B:B,Spiele!C:C))","v":""},{"$f":"IF(B2466=\"\",\"\",LOOKUP(B2466,Spiele!B:B,Spiele!D:D))","v":""},{"$f":"IF(B2466=\"\",\"\",LOOKUP(B2466,Spiele!B:B,Spiele!E:E))","v":""},{"$f":"IF(B2466=\"\",\"\",LOOKUP(B2466,Spiele!B:B,Spiele!F:F))","v":""},"","","",null,null,-1,-1,1,0]
[null,null,{"$f":"IF(B2471=\"\",\"\",LOOKUP(B2471,Spiele!B:B,Spiele!C:C))","v":""},{"$f":"IF(B2471=\"\",\"\",LOOKUP(B2471,Spiele!B:B,Spiele!D:D))","v":""},{"$f":"IF(B2471=\"\",\"\",LOOKUP(B2471,Spiele!B:B,Spiele!E:E))","v":""},{"$f":"IF(B2471=\"\",\"\",LOOKUP(B2471,Spiele!B:B,Spiele!F:F))","v":""},"","","",null,null,-1,-1,1,0]
[null,null,{"$f":"IF(B2476=\"\",\"\",LOOKUP(B2476,Spiele!B:B,Spiele!C:C))","v":""},{"$f":"IF(B2476=\"\",\"\",LOOKUP(B2476,Spiele!B:B,Spiele!D:D))","v":""},{"$f":"IF(B2476=\"\",\"\",LOOKUP(B2476,Spiele!B:B,Spiele!E:E))","v":""},{"$f":"IF(B2476=\"\",\"\",LOOKUP(B2476,Spiele!B:B,Spiele!F:F))","v":""},"","","",null,null,-1,-1,1,0]
[null,null,{"$f":"IF(B2477=\"\",\"\",LOOKUP(B2477,Spiele!B:B,Spiele!C:C))","v":""},{"$f":"IF(B2477=\"\",\"\",LOOKUP(B2477,Spiele!B:B,Spiele!D:D))","v":""},{"$f":"IF(B2477=\"\",\"\",LOOKUP(B2477,Spiele!B:B,Spiele!E:E))","v":""},{"$f":"IF(B2477=\"\",\"\",LOOKUP(B2477,Spiele!B:B,Spiele!F:F))","v":""},"","","",null,null,-1,-1,1,0]
[null,null,{"$f":"IF(B2482=\"\",\"\",LOOKUP(B2482,Spiele!B:B,Spiele!C:C))","v":""},{"$f":"IF(B2482=\"\",\"\",LOOKUP(B2482,Spiele!B:B,Spiele!D:D))","v":""},{"$f":"IF(B2482=\"\",\"\",LOOKUP(B2482,Spiele!B:B,Spiele!E:E))","v":""},{"$f":"IF(B2482=\"\",\"\",LOOKUP(B2482,Spiele!B:B,Spiele!F:F))","v":""},"","","",null,null,-1,-1,1,0]
[null,null,{"$f":"IF(B2486=\"\",\"\",LOOKUP(B2486,Spiele!B:B,Spiele!C:C))","v":""},{"$f":"IF(B2486=\"\",\"\",LOOKUP(B2486,Spiele!B:B,Spiele!D:D))","v":""},{"$f":"IF(B2486=\"\",\"\",LOOKUP(B2486,Spiele!B:B,Spiele!E:E))","v":""},{"$f":"IF(B2486=\"\",\"\",LOOKUP(B2486,Spiele!B:B,Spiele!F:F))","v":""},"","","",null,null,-1,-1,1,0]
[null,null,{"$f":"IF(B2491=\"\",\"\",LOOKUP(B2491,Spiele!B:B,Spiele!C:C))","v":""},{"$f":"IF(B2491=\"\",\"\",LOOKUP(B2491,Spiele!B:B,Spiele!D:D))","v":""},{"$f":"IF(B2491=\"\",\"\",LOOKUP(B2491,Spiele!B:B,Spiele!E:E))","v":""},{"$f":"IF(B2491=\"\",\"\",LOOKUP(B2491,Spiele!B:B,Spiele!F:F))","v":""},"","","",null,null,-1,-1,1,0]
[null,null,{"$f":"IF(B2492=\"\",\"\",LOOKUP(B2492,Spiele!B:B,Spiele!C:C))","v":""},{"$f":"IF(B2492=\"\",\"\",LOOKUP(B2492,Spiele!B:B,Spiele!D:D))","v":""},{"$f":"IF(B2492=\"\",\"\",LOOKUP(B2492,Spiele!B:B,Spiele!E:E))","v":""},{"$f":"IF(B2492=\"\",\"\",LOOKUP(B2492,Spiele!B:B,Spiele!F:F))","v":""},"","","",null,null,-1,-1,1,0]
[null,null,{"$f":"IF(B2496=\"\",\"\",LOOKUP(B2496,Spiele!B:B,Spiele!C:C))","v":""},{"$f":"IF(B2496=\"\",\"\",LOOKUP(B2496,Spiele!B:B,Spiele!D:D))","v":""},{"$f":"IF(B2496=\"\",\"\",LOOKUP(B2496,Spiele!B:B,Spiele!E:E))","v":""},{"$f":"IF(B2496=\"\",\"\",LOOKUP(B2496,Spiele!B:B,Spiele!F:F))","v":""},"","","",null,null,-1,-1,1,0]
[null,null,{"$f":"IF(B2501=\"\",\"\",LOOKUP(B2501,Spiele!B:B,Spiele!C:C))","v":""},{"$f":"IF(B2501=\"\",\"\",LOOKUP(B2501,Spiele!B:B,Spiele!D:D))","v":""},{"$f":"IF(B2501=\"\",\"\",LOOKUP(B2501,Spiele!B:B,Spiele!E:E))","v":""},{"$f":"IF(B2501=\"\",\"\",LOOKUP(B2501,Spiele!B:B,Spiele!F:F))","v":""},"","","",null,null,-1,-1,1,0]
[null,null,{"$f":"IF(B2506=\"\",\"\",LOOKUP(B2506,Spiele!B:B,Spiele!C:C))","v":""},{"$f":"IF(B2506=\"\",\"\",LOOKUP(B2506,Spiele!B:B,Spiele!D:D))","v":""},{"$f":"IF(B2506=\"\",\"\",LOOKUP(B2506,Spiele!B:B,Spiele!E:E))","v":""},{"$f":"IF(B2506=\"\",\"\",LOOKUP(B2506,Spiele!B:B,Spiele!F:F))","v":""},"","","",null,null,-1,-1,1,0]
[null,null,{"$f":"IF(B2507=\"\",\"\",LOOKUP(B2507,Spiele!B:B,Spiele!C:C))","v":""},{"$f":"IF(B2507=\"\",\"\",LOOKUP(B2507,Spiele!B:B,Spiele!D:D))","v":""},{"$f":"IF(B2507=\"\",\"\",LOOKUP(B2507,Spiele!B:B,Spiele!E:E))","v":""},{"$f":"IF(B2507=\"\",\"\",LOOKUP(B2507,Spiele!B:B,Spiele!F:F))","v":""},"","","",null,null,-1,-1,1,0]
[null,null,{"$f":"IF(B2512=\"\",\"\",LOOKUP(B2512,Spiele!B:B,Spiele!C:C))","v":""},{"$f":"IF(B2512=\"\",\"\",LOOKUP(B2512,Spiele!B:B,Spiele!D:D))","v":""},{"$f":"IF(B2512=\"\",\"\",LOOKUP(B2512,Spiele!B:B,Spiele!E:E))","v":""},{"$f":"IF(B2512=\"\",\"\",LOOKUP(B2512,Spiele!B:B,Spiele!F:F))","v":""},"","","",null,null,-1,-1,1,0]
[null,null,{"$f":"IF(B2516=\"\",\"\",LOOKUP(B2516,Spiele!B:B,Spiele!C:C))","v":""},{"$f":"IF(B2516=\"\",\"\",LOOKUP(B2516,Spiele!B:B,Spiele!D:D))","v":""},{"$f":"IF(B2516=\"\",\"\",LOOKUP(B2516,Spiele!B:B,Spiele!E:E))","v":""},{"$f":"IF(B2516=\"\",\"\",LOOKUP(B2516,Spiele!B:B,Spiele!F:F))","v":""},"","","",null,null,-1,-1,1,0]
[null,null,{"$f":"IF(B2521=\"\",\"\",LOOKUP(B2521,Spiele!B:B,Spiele!C:C))","v":""},{"$f":"IF(B2521=\"\",\"\",LOOKUP(B2521,Spiele!B:B,Spiele!D:D))","v":""},{"$f":"IF(B2521=\"\",\"\",LOOKUP(B2521,Spiele!B:B,Spiele!E:E))","v":""},{"$f":"IF(B2521=\"\",\"\",LOOKUP(B2521,Spiele!B:B,Spiele!F:F))","v":""},"","","",null,null,-1,-1,1,0]
[null,null,{"$f":"IF(B2522=\"\",\"\",LOOKUP(B2522,Spiele!B:B,Spiele!C:C))","v":""},{"$f":"IF(B2522=\"\",\"\",LOOKUP(B2522,Spiele!B:B,Spiele!D:D))","v":""},{"$f":"IF(B2522=\"\",\"\",LOOKUP(B2522,Spiele!B:B,Spiele!E:E))","v":""},{"$f":"IF(B2522=\"\",\"\",LOOKUP(B2522,Spiele!B:B,Spiele!F:F))","v":""},"","","",null,null,-1,-1,1,0]
[null,null,{"$f":"IF(B2526=\"\",\"\",LOOKUP(B2526,Spiele!B:B,Spiele!C:C))","v":""},{"$f":"IF(B2526=\"\",\"\",LOOKUP(B2526,Spiele!B:B,Spiele!D:D))","v":""},{"$f":"IF(B2526=\"\",\"\",LOOKUP(B2526,Spiele!B:B,Spiele!E:E))","v":""},{"$f":"IF(B2526=\"\",\"\",LOOKUP(B2526,Spiele!B:B,Spiele!F:F))","v":""},"","","",null,null,-1,-1,1,0]
[null,null,{"$f":"IF(B2531=\"\",\"\",LOOKUP(B2531,Spiele!B:B,Spiele!C:C))","v":""},{"$f":"IF(B2531=\"\",\"\",LOOKUP(B2531,Spiele!B:B,Spiele!D:D))","v":""},{"$f":"IF(B2531=\"\",\"\",LOOKUP(B2531,Spiele!B:B,Spiele!E:E))","v":""},{"$f":"IF(B2531=\"\",\"\",LOOKUP(B2531,Spiele!B:B,Spiele!F:F))","v":""},"","","",null,null,-1,-1,1,0]
[null,null,{"$f":"IF(B2536=\"\",\"\",LOOKUP(B2536,Spiele!B:B,Spiele!C:C))","v":""},{"$f":"IF(B2536=\"\",\"\",LOOKUP(B2536,Spiele!B:B,Spiele!D:D))","v":""},{"$f":"IF(B2536=\"\",\"\",LOOKUP(B2536,Spiele!B:B,Spiele!E:E))","v":""},{"$f":"IF(B2536=\"\",\"\",LOOKUP(B2536,Spiele!B:B,Spiele!F:F))","v":""},"","","",null,null,-1,-1,1,0]
[null,null,{"$f":"IF(B2537=\"\",\"\",LOOKUP(B2537,Spiele!B:B,Spiele!C:C))","v":""},{"$f":"IF(B2537=\"\",\"\",LOOKUP(B2537,Spiele!B:B,Spiele!D:D))","v":""},{"$f":"IF(B2537=\"\",\"\",LOOKUP(B2537,Spiele!B:B,Spiele!E:E))","v":""},{"$f":"IF(B2537=\"\",\"\",LOOKUP(B2537,Spiele!B:B,Spiele!F:F))","v":""},"","","",null,null,-1,-1,1,0]
[null,null,{"$f":"IF(B2543=\"\",\"\",LOOKUP(B2543,Spiele!B:B,Spiele!C:C))","v":""},{"$f":"IF(B2543=\"\",\"\",LOOKUP(B2543,Spiele!B:B,Spiele!D:D))","v":""},{"$f":"IF(B2543=\"\",\"\",LOOKUP(B2543,Spiele!B:B,Spiele!E:E))","v":""},{"$f":"IF(B2543=\"\",\"\",LOOKUP(B2543,Spiele!B:B,Spiele!F:F))","v":""},"","","",null,null,-1,-1,1,0]
[null,null,{"$f":"IF(B2546=\"\",\"\",LOOKUP(B2546,Spiele!B:B,Spiele!C:C))","v":""},{"$f":"IF(B2546=\"\",\"\",LOOKUP(B2546,Spiele!B:B,Spiele!D:D))","v":""},{"$f":"IF(B2546=\"\",\"\",LOOKUP(B2546,Spiele!B:B,Spiele!E:E))","v":""},{"$f":"IF(B2546=\"\",\"\",LOOKUP(B2546,Spiele!B:B,Spiele!F:F))","v":""},"","","",null,null,-1,-1,1,0]
[null,null,{"$f":"IF(B2551=\"\",\"\",LOOKUP(B2551,Spiele!B:B,Spiele!C:C))","v":""},{"$f":"IF(B2551=\"\",\"\",LOOKUP(B2551,Spiele!B:B,Spiele!D:D))","v":""},{"$f":"IF(B2551=\"\",\"\",LOOKUP(B2551,Spiele!B:B,Spiele!E:E))","v":""},{"$f":"IF(B2551=\"\",\"\",LOOKUP(B2551,Spiele!B:B,Spiele!F:F))","v":""},"","","",null,null,-1,-1,1,0]
[null,null,{"$f":"IF(B2552=\"\",\"\",LOOKUP(B2552,Spiele!B:B,Spiele!C:C))","v":""},{"$f":"IF(B2552=\"\",\"\",LOOKUP(B2552,Spiele!B:B,Spiele!D:D))","v":""},{"$f":"IF(B2552=\"\",\"\",LOOKUP(B2552,Spiele!B:B,Spiele!E:E))","v":""},{"$f":"IF(B2552=\"\",\"\",LOOKUP(B2552,Spiele!B:B,Spiele!F:F))","v":""},"","","",null,null,-1,-1,1,0]
[null,null,{"$f":"IF(B2556=\"\",\"\",LOOKUP(B2556,Spiele!B:B,Spiele!C:C))","v":""},{"$f":"IF(B2556=\"\",\"\",LOOKUP(B2556,Spiele!B:B,Spiele!D:D))","v":""},{"$f":"IF(B2556=\"\",\"\",LOOKUP(B2556,Spiele!B:B,Spiele!E:E))","v":""},{"$f":"IF(B2556=\"\",\"\",LOOKUP(B2556,Spiele!B:B,Spiele!F:F))","v":""},"","","",null,null,-1,-1,1,0]
[null,null,{"$f":"IF(B2561=\"\",\"\",LOOKUP(B2561,Spiele!B:B,Spiele!C:C))","v":""},{"$f":"IF(B2561=\"\",\"\",LOOKUP(B2561,Spiele!B:B,Spiele!D:D))","v":""},{"$f":"IF(B2561=\"\",\"\",LOOKUP(B2561,Spiele!B:B,Spiele!E:E))","v":""},{"$f":"IF(B2561=\"\",\"\",LOOKUP(B2561,Spiele!B:B,Spiele!F:F))","v":""},"","","",null,null,-1,-1,1,0]
[null,null,{"$f":"IF(B2566=\"\",\"\",LOOKUP(B2566,Spiele!B:B,Spiele!C:C))","v":""},{"$f":"IF(B2566=\"\",\"\",LOOKUP(B2566,Spiele!B:B,Spiele!D:D))","v":""},{"$f":"IF(B2566=\"\",\"\",LOOKUP(B2566,Spiele!B:B,Spiele!E:E))","v":""},{"$f":"IF(B2566=\"\",\"\",LOOKUP(B2566,Spiele!B:B,Spiele!F:F))","v":""},"","","",null,null,-1,-1,1,0]
[null,null,{"$f":"IF(B2567=\"\",\"\",LOOKUP(B2567,Spiele!B:B,Spiele!C:C))","v":""},{"$f":"IF(B2567=\"\",\"\",LOOKUP(B2567,Spiele!B:B,Spiele!D:D))","v":""},{"$f":"IF(B2567=\"\",\"\",LOOKUP(B2567,Spiele!B:B,Spiele!E:E))","v":""},{"$f":"IF(B2567=\"\",\"\",LOOKUP(B2567,Spiele!B:B,Spiele!F:F))","v":""},"","","",null,null,-1,-1,1,0]
[null,null,{"$f":"IF(B2573=\"\",\"\",LOOKUP(B2573,Spiele!B:B,Spiele!C:C))","v":""},{"$f":"IF(B2573=\"\",\"\",LOOKUP(B2573,Spiele!B:B,Spiele!D:D))","v":""},{"$f":"IF(B2573=\"\",\"\",LOOKUP(B2573,Spiele!B:B,Spiele!E:E))","v":""},{"$f":"IF(B2573=\"\",\"\",LOOKUP(B2573,Spiele!B:B,Spiele!F:F))","v":""},"","","",null,null,-1,-1,1,0]
[null,null,{"$f":"IF(B2576=\"\",\"\",LOOKUP(B2576,Spiele!B:B,Spiele!C:C))","v":""},{"$f":"IF(B2576=\"\",\"\",LOOKUP(B2576,Spiele!B:B,Spiele!D:D))","v":""},{"$f":"IF(B2576=\"\",\"\",LOOKUP(B2576,Spiele!B:B,Spiele!E:E))","v":""},{"$f":"IF(B2576=\"\",\"\",LOOKUP(B2576,Spiele!B:B,Spiele!F:F))","v":""},"","","",null,null,-1,-1,1,0]
[null,null,{"$f":"IF(B2581=\"\",\"\",LOOKUP(B2581,Spiele!B:B,Spiele!C:C))","v":""},{"$f":"IF(B2581=\"\",\"\",LOOKUP(B2581,Spiele!B:B,Spiele!D:D))","v":""},{"$f":"IF(B2581=\"\",\"\",LOOKUP(B2581,Spiele!B:B,Spiele!E:E))","v":""},{"$f":"IF(B2581=\"\",\"\",LOOKUP(B2581,Spiele!B:B,Spiele!F:F))","v":""},"","","",null,null,-1,-1,1,0]
[null,null,{"$f":"IF(B2582=\"\",\"\",LOOKUP(B2582,Spiele!B:B,Spiele!C:C))","v":""},{"$f":"IF(B2582=\"\",\"\",LOOKUP(B2582,Spiele!B:B,Spiele!D:D))","v":""},{"$f":"IF(B2582=\"\",\"\",LOOKUP(B2582,Spiele!B:B,Spiele!E:E))","v":""},{"$f":"IF(B2582=\"\",\"\",LOOKUP(B2582,Spiele!B:B,Spiele!F:F))","v":""},"","","",null,null,-1,-1,1,0]
[null,null,{"$f":"IF(B2586=\"\",\"\",LOOKUP(B2586,Spiele!B:B,Spiele!C:C))","v":""},{"$f":"IF(B2586=\"\",\"\",LOOKUP(B2586,Spiele!B:B,Spiele!D:D))","v":""},{"$f":"IF(B2586=\"\",\"\",LOOKUP(B2586,Spiele!B:B,Spiele!E:E))","v":""},{"$f":"IF(B2586=\"\",\"\",LOOKUP(B2586,Spiele!B:B,Spiele!F:F))","v":""},"","","",null,null,-1,-1,1,0]
[null,null,{"$f":"IF(B2591=\"\",\"\",LOOKUP(B2591,Spiele!B:B,Spiele!C:C))","v":""},{"$f":"IF(B2591=\"\",\"\",LOOKUP(B2591,Spiele!B:B,Spiele!D:D))","v":""},{"$f":"IF(B2591=\"\",\"\",LOOKUP(B2591,Spiele!B:B,Spiele!E:E))","v":""},{"$f":"IF(B2591=\"\",\"\",LOOKUP(B2591,Spiele!B:B,Spiele!F:F))","v":""},"","","",null,null,-1,-1,1,0]
[null,null,{"$f":"IF(B2596=\"\",\"\",LOOKUP(B2596,Spiele!B:B,Spiele!C:C))","v":""},{"$f":"IF(B2596=\"\",\"\",LOOKUP(B2596,Spiele!B:B,Spiele!D:D))","v":""},{"$f":"IF(B2596=\"\",\"\",LOOKUP(B2596,Spiele!B:B,Spiele!E:E))","v":""},{"$f":"IF(B2596=\"\",\"\",LOOKUP(B2596,Spiele!B:B,Spiele!F:F))","v":""},"","","",null,null,-1,-1,1,0]
[null,null,{"$f":"IF(B2597=\"\",\"\",LOOKUP(B2597,Spiele!B:B,Spiele!C:C))","v":""},{"$f":"IF(B2597=\"\",\"\",LOOKUP(B2597,Spiele!B:B,Spiele!D:D))","v":""},{"$f":"IF(B2597=\"\",\"\",LOOKUP(B2597,Spiele!B:B,Spiele!E:E))","v":""},{"$f":"IF(B2597=\"\",\"\",LOOKUP(B2597,Spiele!B:B,Spiele!F:F))","v":""},"","","",null,null,-1,-1,1,0]
[null,null,{"$f":"IF(B2603=\"\",\"\",LOOKUP(B2603,Spiele!B:B,Spiele!C:C))","v":""},{"$f":"IF(B2603=\"\",\"\",LOOKUP(B2603,Spiele!B:B,Spiele!D:D))","v":""},{"$f":"IF(B2603=\"\",\"\",LOOKUP(B2603,Spiele!B:B,Spiele!E:E))","v":""},{"$f":"IF(B2603=\"\",\"\",LOOKUP(B2603,Spiele!B:B,Spiele!F:F))","v":""},"","","",null,null,-1,-1,1,0]
[null,null,{"$f":"IF(B2606=\"\",\"\",LOOKUP(B2606,Spiele!B:B,Spiele!C:C))","v":""},{"$f":"IF(B2606=\"\",\"\",LOOKUP(B2606,Spiele!B:B,Spiele!D:D))","v":""},{"$f":"IF(B2606=\"\",\"\",LOOKUP(B2606,Spiele!B:B,Spiele!E:E))","v":""},{"$f":"IF(B2606=\"\",\"\",LOOKUP(B2606,Spiele!B:B,Spiele!F:F))","v":""},"","","",null,null,-1,-1,1,0]
[null,null,{"$f":"IF(B2611=\"\",\"\",LOOKUP(B2611,Spiele!B:B,Spiele!C:C))","v":""},{"$f":"IF(B2611=\"\",\"\",LOOKUP(B2611,Spiele!B:B,Spiele!D:D))","v":""},{"$f":"IF(B2611=\"\",\"\",LOOKUP(B2611,Spiele!B:B,Spiele!E:E))","v":""},{"$f":"IF(B2611=\"\",\"\",LOOKUP(B2611,Spiele!B:B,Spiele!F:F))","v":""},"","","",null,null,-1,-1,1,0]
[null,null,{"$f":"IF(B2612=\"\",\"\",LOOKUP(B2612,Spiele!B:B,Spiele!C:C))","v":""},{"$f":"IF(B2612=\"\",\"\",LOOKUP(B2612,Spiele!B:B,Spiele!D:D))","v":""},{"$f":"IF(B2612=\"\",\"\",LOOKUP(B2612,Spiele!B:B,Spiele!E:E))","v":""},{"$f":"IF(B2612=\"\",\"\",LOOKUP(B2612,Spiele!B:B,Spiele!F:F))","v":""},"","","",null,null,-1,-1,1,0]
[null,null,{"$f":"IF(B2616=\"\",\"\",LOOKUP(B2616,Spiele!B:B,Spiele!C:C))","v":""},{"$f":"IF(B2616=\"\",\"\",LOOKUP(B2616,Spiele!B:B,Spiele!D:D))","v":""},{"$f":"IF(B2616=\"\",\"\",LOOKUP(B2616,Spiele!B:B,Spiele!E:E))","v":""},{"$f":"IF(B2616=\"\",\"\",LOOKUP(B2616,Spiele!B:B,Spiele!F:F))","v":""},"","","",null,null,-1,-1,1,0]
[null,null,{"$f":"IF(B2621=\"\",\"\",LOOKUP(B2621,Spiele!B:B,Spiele!C:C))","v":""},{"$f":"IF(B2621=\"\",\"\",LOOKUP(B2621,Spiele!B:B,Spiele!D:D))","v":""},{"$f":"IF(B2621=\"\",\"\",LOOKUP(B2621,Spiele!B:B,Spiele!E:E))","v":""},{"$f":"IF(B2621=\"\",\"\",LOOKUP(B2621,Spiele!B:B,Spiele!F:F))","v":""},"","","",null,null,-1,-1,1,0]
[null,null,{"$f":"IF(B2626=\"\",\"\",LOOKUP(B2626,Spiele!B:B,Spiele!C:C))","v":""},{"$f":"IF(B2626=\"\",\"\",LOOKUP(B2626,Spiele!B:B,Spiele!D:D))","v":""},{"$f":"IF(B2626=\"\",\"\",LOOKUP(B2626,Spiele!B:B,Spiele!E:E))","v":""},{"$f":"IF(B2626=\"\",\"\",LOOKUP(B2626,Spiele!B:B,Spiele!F:F))","v":""},"","","",null,null,-1,-1,1,0]
[null,null,{"$f":"IF(B2627=\"\",\"\",LOOKUP(B2627,Spiele!B:B,Spiele!C:C))","v":""},{"$f":"IF(B2627=\"\",\"\",LOOKUP(B2627,Spiele!B:B,Spiele!D:D))","v":""},{"$f":"IF(B2627=\"\",\"\",LOOKUP(B2627,Spiele!B:B,Spiele!E:E))","v":""},{"$f":"IF(B2627=\"\",\"\",LOOKUP(B2627,Spiele!B:B,Spiele!F:F))","v":""},"","","",null,null,-1,-1,1,0]
[null,null,{"$f":"IF(B2633=\"\",\"\",LOOKUP(B2633,Spiele!B:B,Spiele!C:C))","v":""},{"$f":"IF(B2633=\"\",\"\",LOOKUP(B2633,Spiele!B:B,Spiele!D:D))","v":""},{"$f":"IF(B2633=\"\",\"\",LOOKUP(B2633,Spiele!B:B,Spiele!E:E))","v":""},{"$f":"IF(B2633=\"\",\"\",LOOKUP(B2633,Spiele!B:B,Spiele!F:F))","v":""},"","","",null,null,-1,-1,1,0]
[null,null,{"$f":"IF(B2636=\"\",\"\",LOOKUP(B2636,Spiele!B:B,Spiele!C:C))","v":""},{"$f":"IF(B2636=\"\",\"\",LOOKUP(B2636,Spiele!B:B,Spiele!D:D))","v":""},{"$f":"IF(B2636=\"\",\"\",LOOKUP(B2636,Spiele!B:B,Spiele!E:E))","v":""},{"$f":"IF(B2636=\"\",\"\",LOOKUP(B2636,Spiele!B:B,Spiele!F:F))","v":""},"","","",null,null,-1,-1,1,0]
[null,null,{"$f":"IF(B2641=\"\",\"\",LOOKUP(B2641,Spiele!B:B,Spiele!C:C))","v":""},{"$f":"IF(B2641=\"\",\"\",LOOKUP(B2641,Spiele!B:B,Spiele!D:D))","v":""},{"$f":"IF(B2641=\"\",\"\",LOOKUP(B2641,Spiele!B:B,Spiele!E:E))","v":""},{"$f":"IF(B2641=\"\",\"\",LOOKUP(B2641,Spiele!B:B,Spiele!F:F))","v":""},"","","",null,null,-1,-1,1,0]
[null,null,{"$f":"IF(B2642=\"\",\"\",LOOKUP(B2642,Spiele!B:B,Spiele!C:C))","v":""},{"$f":"IF(B2642=\"\",\"\",LOOKUP(B2642,Spiele!B:B,Spiele!D:D))","v":""},{"$f":"IF(B2642=\"\",\"\",LOOKUP(B2642,Spiele!B:B,Spiele!E:E))","v":""},{"$f":"IF(B2642=\"\",\"\",LOOKUP(B2642,Spiele!B:B,Spiele!F:F))","v":""},"","","",null,null,-1,-1,1,0]
[null,null,{"$f":"IF(B2646=\"\",\"\",LOOKUP(B2646,Spiele!B:B,Spiele!C:C))","v":""},{"$f":"IF(B2646=\"\",\"\",LOOKUP(B2646,Spiele!B:B,Spiele!D:D))","v":""},{"$f":"IF(B2646=\"\",\"\",LOOKUP(B2646,Spiele!B:B,Spiele!E:E))","v":""},{"$f":"IF(B2646=\"\",\"\",LOOKUP(B2646,Spiele!B:B,Spiele!F:F))","v":""},"","","",null,null,-1,-1,1,0]
[null,null,{"$f":"IF(B2651=\"\",\"\",LOOKUP(B2651,Spiele!B:B,Spiele!C:C))","v":""},{"$f":"IF(B2651=\"\",\"\",LOOKUP(B2651,Spiele!B:B,Spiele!D:D))","v":""},{"$f":"IF(B2651=\"\",\"\",LOOKUP(B2651,Spiele!B:B,Spiele!E:E))","v":""},{"$f":"IF(B2651=\"\",\"\",LOOKUP(B2651,Spiele!B:B,Spiele!F:F))","v":""},"","","",null,null,-1,-1,1,0]
[null,null,{"$f":"IF(B2656=\"\",\"\",LOOKUP(B2656,Spiele!B:B,Spiele!C:C))","v":""},{"$f":"IF(B2656=\"\",\"\",LOOKUP(B2656,Spiele!B:B,Spiele!D:D))","v":""},{"$f":"IF(B2656=\"\",\"\",LOOKUP(B2656,Spiele!B:B,Spiele!E:E))","v":""},{"$f":"IF(B2656=\"\",\"\",LOOKUP(B2656,Spiele!B:B,Spiele!F:F))","v":""},"","","",null,null,-1,-1,1,0]
[null,null,{"$f":"IF(B2657=\"\",\"\",LOOKUP(B2657,Spiele!B:B,Spiele!C:C))","v":""},{"$f":"IF(B2657=\"\",\"\",LOOKUP(B2657,Spiele!B:B,Spiele!D:D))","v":""},{"$f":"IF(B2657=\"\",\"\",LOOKUP(B2657,Spiele!B:B,Spiele!E:E))","v":""},{"$f":"IF(B2657=\"\",\"\",LOOKUP(B2657,Spiele!B:B,Spiele!F:F))","v":""},"","","",null,null,-1,-1,1,0]
[null,null,{"$f":"IF(B2663=\"\",\"\",LOOKUP(B2663,Spiele!B:B,Spiele!C:C))","v":""},{"$f":"IF(B2663=\"\",\"\",LOOKUP(B2663,Spiele!B:B,Spiele!D:D))","v":""},{"$f":"IF(B2663=\"\",\"\",LOOKUP(B2663,Spiele!B:B,Spiele!E:E))","v":""},{"$f":"IF(B2663=\"\",\"\",LOOKUP(B2663,Spiele!B:B,Spiele!F:F))","v":""},"","","",null,null,-1,-1,1,0]
[null,null,{"$f":"IF(B2666=\"\",\"\",LOOKUP(B2666,Spiele!B:B,Spiele!C:C))","v":""},{"$f":"IF(B2666=\"\",\"\",LOOKUP(B2666,Spiele!B:B,Spiele!D:D))","v":""},{"$f":"IF(B2666=\"\",\"\",LOOKUP(B2666,Spiele!B:B,Spiele!E:E))","v":""},{"$f":"IF(B2666=\"\",\"\",LOOKUP(B2666,Spiele!B:B,Spiele!F:F))","v":""},{"$f":"IF(E2666=\"\",\"\",IF(E2666>F2666,1,0))","v":""},{"$f":"IF(F2666=\"\",\"\",IF(E2666<F2666,1,0))","v":""},{"$f":"IF(E2666=\"\",\"\",IF(E2666=F2666,1,0))","v":""},null,null,{"$f":"IF(E2666=\"\",-1,IF(J2666>K2666,1,-1))","v":-1},{"$f":"IF(F2666=\"\",-1,IF(J2666<K2666,1,-1))","v":-1},{"$f":"IF(E2666=\"-\",-1,IF(J2666=K2666,1,-1))","v":1},{"$f":"IF(E2666=\"\",0,IF(E2666=J2666,1,0)+IF(F2666=K2666,1,0)+IF(G2666=L2666,1,0)+IF(H2666=M2666,1,0)+IF(I2666=N2666,1,0))","v":0}]
[null,null,{"$f":"IF(B2671=\"\",\"\",LOOKUP(B2671,Spiele!B:B,Spiele!C:C))","v":""},{"$f":"IF(B2671=\"\",\"\",LOOKUP(B2671,Spiele!B:B,Spiele!D:D))","v":""},{"$f":"IF(B2671=\"\",\"\",LOOKUP(B2671,Spiele!B:B,Spiele!E:E))","v":""},{"$f":"IF(B2671=\"\",\"\",LOOKUP(B2671,Spiele!B:B,Spiele!F:F))","v":""},"","","",null,null,-1,-1,1,0]
[null,null,{"$f":"IF(B2672=\"\",\"\",LOOKUP(B2672,Spiele!B:B,Spiele!C:C))","v":""},{"$f":"IF(B2672=\"\",\"\",LOOKUP(B2672,Spiele!B:B,Spiele!D:D))","v":""},{"$f":"IF(B2672=\"\",\"\",LOOKUP(B2672,Spiele!B:B,Spiele!E:E))","v":""},{"$f":"IF(B2672=\"\",\"\",LOOKUP(B2672,Spiele!B:B,Spiele!F:F))","v":""},"","","",null,null,-1,-1,1,0]
[null,null,{"$f":"IF(B2676=\"\",\"\",LOOKUP(B2676,Spiele!B:B,Spiele!C:C))","v":""},{"$f":"IF(B2676=\"\",\"\",LOOKUP(B2676,Spiele!B:B,Spiele!D:D))","v":""},{"$f":"IF(B2676=\"\",\"\",LOOKUP(B2676,Spiele!B:B,Spiele!E:E))","v":""},{"$f":"IF(B2676=\"\",\"\",LOOKUP(B2676,Spiele!B:B,Spiele!F:F))","v":""},"","","",null,null,-1,-1,1,0]
[null,null,{"$f":"IF(B2681=\"\",\"\",LOOKUP(B2681,Spiele!B:B,Spiele!C:C))","v":""},{"$f":"IF(B2681=\"\",\"\",LOOKUP(B2681,Spiele!B:B,Spiele!D:D))","v":""},{"$f":"IF(B2681=\"\",\"\",LOOKUP(B2681,Spiele!B:B,Spiele!E:E))","v":""},{"$f":"IF(B2681=\"\",\"\",LOOKUP(B2681,Spiele!B:B,Spiele!F:F))","v":""},"","","",null,null,-1,-1,1,0]
[null,null,{"$f":"IF(B2686=\"\",\"\",LOOKUP(B2686,Spiele!B:B,Spiele!C:C))","v":""},{"$f":"IF(B2686=\"\",\"\",LOOKUP(B2686,Spiele!B:B,Spiele!D:D))","v":""},{"$f":"IF(B2686=\"\",\"\",LOOKUP(B2686,Spiele!B:B,Spiele!E:E))","v":""},{"$f":"IF(B2686=\"\",\"\",LOOKUP(B2686,Spiele!B:B,Spiele!F:F))","v":""},"","","",null,null,-1,-1,1,0]
[null,null,{"$f":"IF(B2687=\"\",\"\",LOOKUP(B2687,Spiele!B:B,Spiele!C:C))","v":""},{"$f":"IF(B2687=\"\",\"\",LOOKUP(B2687,Spiele!B:B,Spiele!D:D))","v":""},{"$f":"IF(B2687=\"\",\"\",LOOKUP(B2687,Spiele!B:B,Spiele!E:E))","v":""},{"$f":"IF(B2687=\"\",\"\",LOOKUP(B2687,Spiele!B:B,Spiele!F:F))","v":""},"","","",null,null,-1,-1,1,0]
[null,null,{"$f":"IF(B2693=\"\",\"\",LOOKUP(B2693,Spiele!B:B,Spiele!C:C))","v":""},{"$f":"IF(B2693=\"\",\"\",LOOKUP(B2693,Spiele!B:B,Spiele!D:D))","v":""},{"$f":"IF(B2693=\"\",\"\",LOOKUP(B2693,Spiele!B:B,Spiele!E:E))","v":""},{"$f":"IF(B2693=\"\",\"\",LOOKUP(B2693,Spiele!B:B,Spiele!F:F))","v":""},"","","",null,null,-1,-1,1,0]
[null,null,{"$f":"IF(B2696=\"\",\"\",LOOKUP(B2696,Spiele!B:B,Spiele!C:C))","v":""},{"$f":"IF(B2696=\"\",\"\",LOOKUP(B2696,Spiele!B:B,Spiele!D:D))","v":""},{"$f":"IF(B2696=\"\",\"\",LOOKUP(B2696,Spiele!B:B,Spiele!E:E))","v":""},{"$f":"IF(B2696=\"\",\"\",LOOKUP(B2696,Spiele!B:B,Spiele!F:F))","v":""},"","","",null,null,-1,-1,1,0]
[null,null,{"$f":"IF(B2701=\"\",\"\",LOOKUP(B2701,Spiele!B:B,Spiele!C:C))","v":""},{"$f":"IF(B2701=\"\",\"\",LOOKUP(B2701,Spiele!B:B,Spiele!D:D))","v":""},{"$f":"IF(B2701=\"\",\"\",LOOKUP(B2701,Spiele!B:B,Spiele!E:E))","v":""},{"$f":"IF(B2701=\"\",\"\",LOOKUP(B2701,Spiele!B:B,Spiele!F:F))","v":""},"","","",null,null,-1,-1,1,0]
[null,null,{"$f":"IF(B2702=\"\",\"\",LOOKUP(B2702,Spiele!B:B,Spiele!C:C))","v":""},{"$f":"IF(B2702=\"\",\"\",LOOKUP(B2702,Spiele!B:B,Spiele!D:D))","v":""},{"$f":"IF(B2702=\"\",\"\",LOOKUP(B2702,Spiele!B:B,Spiele!E:E))","v":""},{"$f":"IF(B2702=\"\",\"\",LOOKUP(B2702,Spiele!B:B,Spiele!F:F))","v":""},"","","",null,null,-1,-1,1,0]
[null,null,{"$f":"IF(B2706=\"\",\"\",LOOKUP(B2706,Spiele!B:B,Spiele!C:C))","v":""},{"$f":"IF(B2706=\"\",\"\",LOOKUP(B2706,Spiele!B:B,Spiele!D:D))","v":""},{"$f":"IF(B2706=\"\",\"\",LOOKUP(B2706,Spiele!B:B,Spiele!E:E))","v":""},{"$f":"IF(B2706=\"\",\"\",LOOKUP(B2706,Spiele!B:B,Spiele!F:F))","v":""},"","","",null,null,-1,-1,1,0]
[null,null,{"$f":"IF(B2711=\"\",\"\",LOOKUP(B2711,Spiele!B:B,Spiele!C:C))","v":""},{"$f":"IF(B2711=\"\",\"\",LOOKUP(B2711,Spiele!B:B,Spiele!D:D))","v":""},{"$f":"IF(B2711=\"\",\"\",LOOKUP(B2711,Spiele!B:B,Spiele!E:E))","v":""},{"$f":"IF(B2711=\"\",\"\",LOOKUP(B2711,Spiele!B:B,Spiele!F:F))","v":""},"","","",null,null,-1,-1,1,0]
[null,null,{"$f":"IF(B2716=\"\",\"\",LOOKUP(B2716,Spiele!B:B,Spiele!C:C))","v":""},{"$f":"IF(B2716=\"\",\"\",LOOKUP(B2716,Spiele!B:B,Spiele!D:D))","v":""},{"$f":"IF(B2716=\"\",\"\",LOOKUP(B2716,Spiele!B:B,Spiele!E:E))","v":""},{"$f":"IF(B2716=\"\",\"\",LOOKUP(B2716,Spiele!B:B,Spiele!F:F))","v":""},"","","",null,null,-1,-1,1,0]
[null,null,{"$f":"IF(B2717=\"\",\"\",LOOKUP(B2717,Spiele!B:B,Spiele!C:C))","v":""},{"$f":"IF(B2717=\"\",\"\",LOOKUP(B2717,Spiele!B:B,Spiele!D:D))","v":""},{"$f":"IF(B2717=\"\",\"\",LOOKUP(B2717,Spiele!B:B,Spiele!E:E))","v":""},{"$f":"IF(B2717=\"\",\"\",LOOKUP(B2717,Spiele!B:B,Spiele!F:F))","v":""},"","","",null,null,-1,-1,1,0]
[null,null,{"$f":"IF(B2723=\"\",\"\",LOOKUP(B2723,Spiele!B:B,Spiele!C:C))","v":""},{"$f":"IF(B2723=\"\",\"\",LOOKUP(B2723,Spiele!B:B,Spiele!D:D))","v":""},{"$f":"IF(B2723=\"\",\"\",LOOKUP(B2723,Spiele!B:B,Spiele!E:E))","v":""},{"$f":"IF(B2723=\"\",\"\",LOOKUP(B2723,Spiele!B:B,Spiele!F:F))","v":""},"","","",null,null,-1,-1,1,0]
[null,null,{"$f":"IF(B2726=\"\",\"\",LOOKUP(B2726,Spiele!B:B,Spiele!C:C))","v":""},{"$f":"IF(B2726=\"\",\"\",LOOKUP(B2726,Spiele!B:B,Spiele!D:D))","v":""},{"$f":"IF(B2726=\"\",\"\",LOOKUP(B2726,Spiele!B:B,Spiele!E:E))","v":""},{"$f":"IF(B2726=\"\",\"\",LOOKUP(B2726,Spiele!B:B,Spiele!F:F))","v":""},"","","",null,null,-1,-1,1,0]
[null,null,{"$f":"IF(B2731=\"\",\"\",LOOKUP(B2731,Spiele!B:B,Spiele!C:C))","v":""},{"$f":"IF(B2731=\"\",\"\",LOOKUP(B2731,Spiele!B:B,Spiele!D:D))","v":""},{"$f":"IF(B2731=\"\",\"\",LOOKUP(B2731,Spiele!B:B,Spiele!E:E))","v":""},{"$f":"IF(B2731=\"\",\"\",LOOKUP(B2731,Spiele!B:B,Spiele!F:F))","v":""},"","","",null,null,-1,-1,1,0]
[null,null,{"$f":"IF(B2732=\"\",\"\",LOOKUP(B2732,Spiele!B:B,Spiele!C:C))","v":""},{"$f":"IF(B2732=\"\",\"\",LOOKUP(B2732,Spiele!B:B,Spiele!D:D))","v":""},{"$f":"IF(B2732=\"\",\"\",LOOKUP(B2732,Spiele!B:B,Spiele!E:E))","v":""},{"$f":"IF(B2732=\"\",\"\",LOOKUP(B2732,Spiele!B:B,Spiele!F:F))","v":""},"","","",null,null,-1,-1,1,0]
[null,null,{"$f":"IF(B2736=\"\",\"\",LOOKUP(B2736,Spiele!B:B,Spiele!C:C))","v":""},{"$f":"IF(B2736=\"\",\"\",LOOKUP(B2736,Spiele!B:B,Spiele!D:D))","v":""},{"$f":"IF(B2736=\"\",\"\",LOOKUP(B2736,Spiele!B:B,Spiele!E:E))","v":""},{"$f":"IF(B2736=\"\",\"\",LOOKUP(B2736,Spiele!B:B,Spiele!F:F))","v":""},"","","",null,null,-1,-1,1,0]
[null,null,{"$f":"IF(B2741=\"\",\"\",LOOKUP(B2741,Spiele!B:B,Spiele!C:C))","v":""},{"$f":"IF(B2741=\"\",\"\",LOOKUP(B2741,Spiele!B:B,Spiele!D:D))","v":""},{"$f":"IF(B2741=\"\",\"\",LOOKUP(B2741,Spiele!B:B,Spiele!E:E))","v":""},{"$f":"IF(B2741=\"\",\"\",LOOKUP(B2741,Spiele!B:B,Spiele!F:F))","v":""},"","","",null,null,-1,-1,1,0]
[null,null,{"$f":"IF(B2746=\"\",\"\",LOOKUP(B2746,Spiele!B:B,Spiele!C:C))","v":""},{"$f":"IF(B2746=\"\",\"\",LOOKUP(B2746,Spiele!B:B,Spiele!D:D))","v":""},{"$f":"IF(B2746=\"\",\"\",LOOKUP(B2746,Spiele!B:B,Spiele!E:E))","v":""},{"$f":"IF(B2746=\"\",\"\",LOOKUP(B2746,Spiele!B:B,Spiele!F:F))","v":""},"","","",null,null,-1,-1,1,0]
[null,null,{"$f":"IF(B2747=\"\",\"\",LOOKUP(B2747,Spiele!B:B,Spiele!C:C))","v":""},{"$f":"IF(B2747=\"\",\"\",LOOKUP(B2747,Spiele!B:B,Spiele!D:D))","v":""},{"$f":"IF(B2747=\"\",\"\",LOOKUP(B2747,Spiele!B:B,Spiele!E:E))","v":""},{"$f":"IF(B2747=\"\",\"\",LOOKUP(B2747,Spiele!B:B,Spiele!F:F))","v":""},"","","",null,null,-1,-1,1,0]
[null,null,{"$f":"IF(B2753=\"\",\"\",LOOKUP(B2753,Spiele!B:B,Spiele!C:C))","v":""},{"$f":"IF(B2753=\"\",\"\",LOOKUP(B2753,Spiele!B:B,Spiele!D:D))","v":""},{"$f":"IF(B2753=\"\",\"\",LOOKUP(B2753,Spiele!B:B,Spiele!E:E))","v":""},{"$f":"IF(B2753=\"\",\"\",LOOKUP(B2753,Spiele!B:B,Spiele!F:F))","v":""},"","","",null,null,-1,-1,1,0]
[null,null,{"$f":"IF(B2756=\"\",\"\",LOOKUP(B2756,Spiele!B:B,Spiele!C:C))","v":""},{"$f":"IF(B2756=\"\",\"\",LOOKUP(B2756,Spiele!B:B,Spiele!D:D))","v":""},{"$f":"IF(B2756=\"\",\"\",LOOKUP(B2756,Spiele!B:B,Spiele!E:E))","v":""},{"$f":"IF(B2756=\"\",\"\",LOOKUP(B2756,Spiele!B:B,Spiele!F:F))","v":""},"","","",null,null,-1,-1,1,0]
[null,null,{"$f":"IF(B2761=\"\",\"\",LOOKUP(B2761,Spiele!B:B,Spiele!C:C))","v":""},{"$f":"IF(B2761=\"\",\"\",LOOKUP(B2761,Spiele!B:B,Spiele!D:D))","v":""},{"$f":"IF(B2761=\"\",\"\",LOOKUP(B2761,Spiele!B:B,Spiele!E:E))","v":""},{"$f":"IF(B2761=\"\",\"\",LOOKUP(B2761,Spiele!B:B,Spiele!F:F))","v":""},"","","",null,null,-1,-1,1,0]
[null,null,{"$f":"IF(B2762=\"\",\"\",LOOKUP(B2762,Spiele!B:B,Spiele!C:C))","v":""},{"$f":"IF(B2762=\"\",\"\",LOOKUP(B2762,Spiele!B:B,Spiele!D:D))","v":""},{"$f":"IF(B2762=\"\",\"\",LOOKUP(B2762,Spiele!B:B,Spiele!E:E))","v":""},{"$f":"IF(B2762=\"\",\"\",LOOKUP(B2762,Spiele!B:B,Spiele!F:F))","v":""},"","","",null,null,-1,-1,1,0]
[null,null,{"$f":"IF(B2766=\"\",\"\",LOOKUP(B2766,Spiele!B:B,Spiele!C:C))","v":""},{"$f":"IF(B2766=\"\",\"\",LOOKUP(B2766,Spiele!B:B,Spiele!D:D))","v":""},{"$f":"IF(B2766=\"\",\"\",LOOKUP(B2766,Spiele!B:B,Spiele!E:E))","v":""},{"$f":"IF(B2766=\"\",\"\",LOOKUP(B2766,Spiele!B:B,Spiele!F:F))","v":""},"","","",null,null,-1,-1,1,0]
[null,null,{"$f":"IF(B2771=\"\",\"\",LOOKUP(B2771,Spiele!B:B,Spiele!C:C))","v":""},{"$f":"IF(B2771=\"\",\"\",LOOKUP(B2771,Spiele!B:B,Spiele!D:D))","v":""},{"$f":"IF(B2771=\"\",\"\",LOOKUP(B2771,Spiele!B:B,Spiele!E:E))","v":""},{"$f":"IF(B2771=\"\",\"\",LOOKUP(B2771,Spiele!B:B,Spiele!F:F))","v":""},"","","",null,null,-1,-1,1,0]
[null,null,{"$f":"IF(B2776=\"\",\"\",LOOKUP(B2776,Spiele!B:B,Spiele!C:C))","v":""},{"$f":"IF(B2776=\"\",\"\",LOOKUP(B2776,Spiele!B:B,Spiele!D:D))","v":""},{"$f":"IF(B2776=\"\",\"\",LOOKUP(B2776,Spiele!B:B,Spiele!E:E))","v":""},{"$f":"IF(B2776=\"\",\"\",LOOKUP(B2776,Spiele!B:B,Spiele!F:F))","v":""},"","","",null,null,-1,-1,1,0]
[null,null,{"$f":"IF(B2777=\"\",\"\",LOOKUP(B2777,Spiele!B:B,Spiele!C:C))","v":""},{"$f":"IF(B2777=\"\",\"\",LOOKUP(B2777,Spiele!B:B,Spiele!D:D))","v":""},{"$f":"IF(B2777=\"\",\"\",LOOKUP(B2777,Spiele!B:B,Spiele!E:E))","v":""},{"$f":"IF(B2777=\"\",\"\",LOOKUP(B2777,Spiele!B:B,Spiele!F:F))","v":""},"","","",null,null,-1,-1,1,0]
[null,null,{"$f":"IF(B2783=\"\",\"\",LOOKUP(B2783,Spiele!B:B,Spiele!C:C))","v":""},{"$f":"IF(B2783=\"\",\"\",LOOKUP(B2783,Spiele!B:B,Spiele!D:D))","v":""},{"$f":"IF(B2783=\"\",\"\",LOOKUP(B2783,Spiele!B:B,Spiele!E:E))","v":""},{"$f":"IF(B2783=\"\",\"\",LOOKUP(B2783,Spiele!B:B,Spiele!F:F))","v":""},"","","",null,null,-1,-1,1,0]
[null,null,{"$f":"IF(B2786=\"\",\"\",LOOKUP(B2786,Spiele!B:B,Spiele!C:C))","v":""},{"$f":"IF(B2786=\"\",\"\",LOOKUP(B2786,Spiele!B:B,Spiele!D:D))","v":""},{"$f":"IF(B2786=\"\",\"\",LOOKUP(B2786,Spiele!B:B,Spiele!E:E))","v":""},{"$f":"IF(B2786=\"\",\"\",LOOKUP(B2786,Spiele!B:B,Spiele!F:F))","v":""},"","","",null,null,-1,-1,1,0]
[null,null,{"$f":"IF(B2791=\"\",\"\",LOOKUP(B2791,Spiele!B:B,Spiele!C:C))","v":""},{"$f":"IF(B2791=\"\",\"\",LOOKUP(B2791,Spiele!B:B,Spiele!D:D))","v":""},{"$f":"IF(B2791=\"\",\"\",LOOKUP(B2791,Spiele!B:B,Spiele!E:E))","v":""},{"$f":"IF(B2791=\"\",\"\",LOOKUP(B2791,Spiele!B:B,Spiele!F:F))","v":""},"","","",null,null,-1,-1,1,0]
[null,null,{"$f":"IF(B2792=\"\",\"\",LOOKUP(B2792,Spiele!B:B,Spiele!C:C))","v":""},{"$f":"IF(B2792=\"\",\"\",LOOKUP(B2792,Spiele!B:B,Spiele!D:D))","v":""},{"$f":"IF(B2792=\"\",\"\",LOOKUP(B2792,Spiele!B:B,Spiele!E:E))","v":""},{"$f":"IF(B2792=\"\",\"\",LOOKUP(B2792,Spiele!B:B,Spiele!F:F))","v":""},"","","",null,null,-1,-1,1,0]
[null,null,{"$f":"IF(B2796=\"\",\"\",LOOKUP(B2796,Spiele!B:B,Spiele!C:C))","v":""},{"$f":"IF(B2796=\"\",\"\",LOOKUP(B2796,Spiele!B:B,Spiele!D:D))","v":""},{"$f":"IF(B2796=\"\",\"\",LOOKUP(B2796,Spiele!B:B,Spiele!E:E))","v":""},{"$f":"IF(B2796=\"\",\"\",LOOKUP(B2796,Spiele!B:B,Spiele!F:F))","v":""},"","","",null,null,-1,-1,1,0]
[null,null,{"$f":"IF(B2801=\"\",\"\",LOOKUP(B2801,Spiele!B:B,Spiele!C:C))","v":""},{"$f":"IF(B2801=\"\",\"\",LOOKUP(B2801,Spiele!B:B,Spiele!D:D))","v":""},{"$f":"IF(B2801=\"\",\"\",LOOKUP(B2801,Spiele!B:B,Spiele!E:E))","v":""},{"$f":"IF(B2801=\"\",\"\",LOOKUP(B2801,Spiele!B:B,Spiele!F:F))","v":""},"","","",null,null,-1,-1,1,0]
[null,null,{"$f":"IF(B2806=\"\",\"\",LOOKUP(B2806,Spiele!B:B,Spiele!C:C))","v":""},{"$f":"IF(B2806=\"\",\"\",LOOKUP(B2806,Spiele!B:B,Spiele!D:D))","v":""},{"$f":"IF(B2806=\"\",\"\",LOOKUP(B2806,Spiele!B:B,Spiele!E:E))","v":""},{"$f":"IF(B2806=\"\",\"\",LOOKUP(B2806,Spiele!B:B,Spiele!F:F))","v":""},"","","",null,null,-1,-1,1,0]
[null,null,{"$f":"IF(B2807=\"\",\"\",LOOKUP(B2807,Spiele!B:B,Spiele!C:C))","v":""},{"$f":"IF(B2807=\"\",\"\",LOOKUP(B2807,Spiele!B:B,Spiele!D:D))","v":""},{"$f":"IF(B2807=\"\",\"\",LOOKUP(B2807,Spiele!B:B,Spiele!E:E))","v":""},{"$f":"IF(B2807=\"\",\"\",LOOKUP(B2807,Spiele!B:B,Spiele!F:F))","v":""},"","","",null,null,-1,-1,1,0]
[null,null,{"$f":"IF(B2813=\"\",\"\",LOOKUP(B2813,Spiele!B:B,Spiele!C:C))","v":""},{"$f":"IF(B2813=\"\",\"\",LOOKUP(B2813,Spiele!B:B,Spiele!D:D))","v":""},{"$f":"IF(B2813=\"\",\"\",LOOKUP(B2813,Spiele!B:B,Spiele!E:E))","v":""},{"$f":"IF(B2813=\"\",\"\",LOOKUP(B2813,Spiele!B:B,Spiele!F:F))","v":""},"","","",null,null,-1,-1,1,0]
[null,null,{"$f":"IF(B2816=\"\",\"\",LOOKUP(B2816,Spiele!B:B,Spiele!C:C))","v":""},{"$f":"IF(B2816=\"\",\"\",LOOKUP(B2816,Spiele!B:B,Spiele!D:D))","v":""},{"$f":"IF(B2816=\"\",\"\",LOOKUP(B2816,Spiele!B:B,Spiele!E:E))","v":""},{"$f":"IF(B2816=\"\",\"\",LOOKUP(B2816,Spiele!B:B,Spiele!F:F))","v":""},"","","",null,null,-1,-1,1,0]
[null,null,{"$f":"IF(B2821=\"\",\"\",LOOKUP(B2821,Spiele!B:B,Spiele!C:C))","v":""},{"$f":"IF(B2821=\"\",\"\",LOOKUP(B2821,Spiele!B:B,Spiele!D:D))","v":""},{"$f":"IF(B2821=\"\",\"\",LOOKUP(B2821,Spiele!B:B,Spiele!E:E))","v":""},{"$f":"IF(B2821=\"\",\"\",LOOKUP(B2821,Spiele!B:B,Spiele!F:F))","v":""},"","","",null,null,-1,-1,1,0]
[null,null,{"$f":"IF(B2822=\"\",\"\",LOOKUP(B2822,Spiele!B:B,Spiele!C:C))","v":""},{"$f":"IF(B2822=\"\",\"\",LOOKUP(B2822,Spiele!B:B,Spiele!D:D))","v":""},{"$f":"IF(B2822=\"\",\"\",LOOKUP(B2822,Spiele!B:B,Spiele!E:E))","v":""},{"$f":"IF(B2822=\"\",\"\",LOOKUP(B2822,Spiele!B:B,Spiele!F:F))","v":""},"","","",null,null,-1,-1,1,0]
[null,null,{"$f":"IF(B2827=\"\",\"\",LOOKUP(B2827,Spiele!B:B,Spiele!C:C))","v":""},{"$f":"IF(B2827=\"\",\"\",LOOKUP(B2827,Spiele!B:B,Spiele!D:D))","v":""},{"$f":"IF(B2827=\"\",\"\",LOOKUP(B2827,Spiele!B:B,Spiele!E:E))","v":""},{"$f":"IF(B2827=\"\",\"\",LOOKUP(B2827,Spiele!B:B,Spiele!F:F))","v":""},"","","",null,null,-1,-1,1,0]
[null,null,{"$f":"IF(B2831=\"\",\"\",LOOKUP(B2831,Spiele!B:B,Spiele!C:C))","v":""},{"$f":"IF(B2831=\"\",\"\",LOOKUP(B2831,Spiele!B:B,Spiele!D:D))","v":""},{"$f":"IF(B2831=\"\",\"\",LOOKUP(B2831,Spiele!B:B,Spiele!E:E))","v":""},{"$f":"IF(B2831=\"\",\"\",LOOKUP(B2831,Spiele!B:B,Spiele!F:F))","v":""},"","","",null,null,-1,-1,1,0]
[null,null,{"$f":"IF(B2836=\"\",\"\",LOOKUP(B2836,Spiele!B:B,Spiele!C:C))","v":""},{"$f":"IF(B2836=\"\",\"\",LOOKUP(B2836,Spiele!B:B,Spiele!D:D))","v":""},{"$f":"IF(B2836=\"\",\"\",LOOKUP(B2836,Spiele!B:B,Spiele!E:E))","v":""},{"$f":"IF(B2836=\"\",\"\",LOOKUP(B2836,Spiele!B:B,Spiele!F:F))","v":""},"","","",null,null,-1,-1,1,0]
[null,null,{"$f":"IF(B2837=\"\",\"\",LOOKUP(B2837,Spiele!B:B,Spiele!C:C))","v":""},{"$f":"IF(B2837=\"\",\"\",LOOKUP(B2837,Spiele!B:B,Spiele!D:D))","v":""},{"$f":"IF(B2837=\"\",\"\",LOOKUP(B2837,Spiele!B:B,Spiele!E:E))","v":""},{"$f":"IF(B2837=\"\",\"\",LOOKUP(B2837,Spiele!B:B,Spiele!F:F))","v":""},"","","",null,null,-1,-1,1,0]
[null,null,{"$f":"IF(B2843=\"\",\"\",LOOKUP(B2843,Spiele!B:B,Spiele!C:C))","v":""},{"$f":"IF(B2843=\"\",\"\",LOOKUP(B2843,Spiele!B:B,Spiele!D:D))","v":""},{"$f":"IF(B2843=\"\",\"\",LOOKUP(B2843,Spiele!B:B,Spiele!E:E))","v":""},{"$f":"IF(B2843=\"\",\"\",LOOKUP(B2843,Spiele!B:B,Spiele!F:F))","v":""},"","","",null,null,-1,-1,1,0]
[null,null,{"$f":"IF(B2846=\"\",\"\",LOOKUP(B2846,Spiele!B:B,Spiele!C:C))","v":""},{"$f":"IF(B2846=\"\",\"\",LOOKUP(B2846,Spiele!B:B,Spiele!D:D))","v":""},{"$f":"IF(B2846=\"\",\"\",LOOKUP(B2846,Spiele!B:B,Spiele!E:E))","v":""},{"$f":"IF(B2846=\"\",\"\",LOOKUP(B2846,Spiele!B:B,Spiele!F:F))","v":""},"","","",null,null,-1,-1,1,0]
[null,null,{"$f":"IF(B2851=\"\",\"\",LOOKUP(B2851,Spiele!B:B,Spiele!C:C))","v":""},{"$f":"IF(B2851=\"\",\"\",LOOKUP(B2851,Spiele!B:B,Spiele!D:D))","v":""},{"$f":"IF(B2851=\"\",\"\",LOOKUP(B2851,Spiele!B:B,Spiele!E:E))","v":""},{"$f":"IF(B2851=\"\",\"\",LOOKUP(B2851,Spiele!B:B,Spiele!F:F))","v":""},"","","",null,null,-1,-1,1,0]
[null,null,{"$f":"IF(B2852=\"\",\"\",LOOKUP(B2852,Spiele!B:B,Spiele!C:C))","v":""},{"$f":"IF(B2852=\"\",\"\",LOOKUP(B2852,Spiele!B:B,Spiele!D:D))","v":""},{"$f":"IF(B2852=\"\",\"\",LOOKUP(B2852,Spiele!B:B,Spiele!E:E))","v":""},{"$f":"IF(B2852=\"\",\"\",LOOKUP(B2852,Spiele!B:B,Spiele!F:F))","v":""},"","","",null,null,-1,-1,1,0]
[null,null,{"$f":"IF(B2857=\"\",\"\",LOOKUP(B2857,Spiele!B:B,Spiele!C:C))","v":""},{"$f":"IF(B2857=\"\",\"\",LOOKUP(B2857,Spiele!B:B,Spiele!D:D))","v":""},{"$f":"IF(B2857=\"\",\"\",LOOKUP(B2857,Spiele!B:B,Spiele!E:E))","v":""},{"$f":"IF(B2857=\"\",\"\",LOOKUP(B2857,Spiele!B:B,Spiele!F:F))","v":""},"","","",null,null,-1,-1,1,0]
[null,null,{"$f":"IF(B2861=\"\",\"\",LOOKUP(B2861,Spiele!B:B,Spiele!C:C))","v":""},{"$f":"IF(B2861=\"\",\"\",LOOKUP(B2861,Spiele!B:B,Spiele!D:D))","v":""},{"$f":"IF(B2861=\"\",\"\",LOOKUP(B2861,Spiele!B:B,Spiele!E:E))","v":""},{"$f":"IF(B2861=\"\",\"\",LOOKUP(B2861,Spiele!B:B,Spiele!F:F))","v":""},"","","",null,null,-1,-1,1,0]
[null,null,{"$f":"IF(B2866=\"\",\"\",LOOKUP(B2866,Spiele!B:B,Spiele!C:C))","v":""},{"$f":"IF(B2866=\"\",\"\",LOOKUP(B2866,Spiele!B:B,Spiele!D:D))","v":""},{"$f":"IF(B2866=\"\",\"\",LOOKUP(B2866,Spiele!B:B,Spiele!E:E))","v":""},{"$f":"IF(B2866=\"\",\"\",LOOKUP(B2866,Spiele!B:B,Spiele!F:F))","v":""},"","","",null,null,-1,-1,1,0]
[null,null,{"$f":"IF(B2867=\"\",\"\",LOOKUP(B2867,Spiele!B:B,Spiele!C:C))","v":""},{"$f":"IF(B2867=\"\",\"\",LOOKUP(B2867,Spiele!B:B,Spiele!D:D))","v":""},{"$f":"IF(B2867=\"\",\"\",LOOKUP(B2867,Spiele!B:B,Spiele!E:E))","v":""},{"$f":"IF(B2867=\"\",\"\",LOOKUP(B2867,Spiele!B:B,Spiele!F:F))","v":""},"","","",null,null,-1,-1,1,0]
[null,null,{"$f":"IF(B2873=\"\",\"\",LOOKUP(B2873,Spiele!B:B,Spiele!C:C))","v":""},{"$f":"IF(B2873=\"\",\"\",LOOKUP(B2873,Spiele!B:B,Spiele!D:D))","v":""},{"$f":"IF(B2873=\"\",\"\",LOOKUP(B2873,Spiele!B:B,Spiele!E:E))","v":""},{"$f":"IF(B2873=\"\",\"\",LOOKUP(B2873,Spiele!B:B,Spiele!F:F))","v":""},"","","",null,null,-1,-1,1,0]
[null,null,{"$f":"IF(B2876=\"\",\"\",LOOKUP(B2876,Spiele!B:B,Spiele!C:C))","v":""},{"$f":"IF(B2876=\"\",\"\",LOOKUP(B2876,Spiele!B:B,Spiele!D:D))","v":""},{"$f":"IF(B2876=\"\",\"\",LOOKUP(B2876,Spiele!B:B,Spiele!E:E))","v":""},{"$f":"IF(B2876=\"\",\"\",LOOKUP(B2876,Spiele!B:B,Spiele!F:F))","v":""},"","","",null,null,-1,-1,1,0]
[null,null,{"$f":"IF(B2881=\"\",\"\",LOOKUP(B2881,Spiele!B:B,Spiele!C:C))","v":""},{"$f":"IF(B2881=\"\",\"\",LOOKUP(B2881,Spiele!B:B,Spiele!D:D))","v":""},{"$f":"IF(B2881=\"\",\"\",LOOKUP(B2881,Spiele!B:B,Spiele!E:E))","v":""},{"$f":"IF(B2881=\"\",\"\",LOOKUP(B2881,Spiele!B:B,Spiele!F:F))","v":""},"","","",null,null,-1,-1,1,0]
[null,null,{"$f":"IF(B2882=\"\",\"\",LOOKUP(B2882,Spiele!B:B,Spiele!C:C))","v":""},{"$f":"IF(B2882=\"\",\"\",LOOKUP(B2882,Spiele!B:B,Spiele!D:D))","v":""},{"$f":"IF(B2882=\"\",\"\",LOOKUP(B2882,Spiele!B:B,Spiele!E:E))","v":""},{"$f":"IF(B2882=\"\",\"\",LOOKUP(B2882,Spiele!B:B,Spiele!F:F))","v":""},"","","",null,null,-1,-1,1,0]
[null,null,{"$f":"IF(B2887=\"\",\"\",LOOKUP(B2887,Spiele!B:B,Spiele!C:C))","v":""},{"$f":"IF(B2887=\"\",\"\",LOOKUP(B2887,Spiele!B:B,Spiele!D:D))","v":""},{"$f":"IF(B2887=\"\",\"\",LOOKUP(B2887,Spiele!B:B,Spiele!E:E))","v":""},{"$f":"IF(B2887=\"\",\"\",LOOKUP(B2887,Spiele!B:B,Spiele!F:F))","v":""},"","","",null,null,-1,-1,1,0]
[null,null,{"$f":"IF(B2891=\"\",\"\",LOOKUP(B2891,Spiele!B:B,Spiele!C:C))","v":""},{"$f":"IF(B2891=\"\",\"\",LOOKUP(B2891,Spiele!B:B,Spiele!D:D))","v":""},{"$f":"IF(B2891=\"\",\"\",LOOKUP(B2891,Spiele!B:B,Spiele!E:E))","v":""},{"$f":"IF(B2891=\"\",\"\",LOOKUP(B2891,Spiele!B:B,Spiele!F:F))","v":""},"","","",null,null,-1,-1,1,0]
[null,null,{"$f":"IF(B2896=\"\",\"\",LOOKUP(B2896,Spiele!B:B,Spiele!C:C))","v":""},{"$f":"IF(B2896=\"\",\"\",LOOKUP(B2896,Spiele!B:B,Spiele!D:D))","v":""},{"$f":"IF(B2896=\"\",\"\",LOOKUP(B2896,Spiele!B:B,Spiele!E:E))","v":""},{"$f":"IF(B2896=\"\",\"\",LOOKUP(B2896,Spiele!B:B,Spiele!F:F))","v":""},"","","",null,null,-1,-1,1,0]
[null,null,{"$f":"IF(B2897=\"\",\"\",LOOKUP(B2897,Spiele!B:B,Spiele!C:C))","v":""},{"$f":"IF(B2897=\"\",\"\",LOOKUP(B2897,Spiele!B:B,Spiele!D:D))","v":""},{"$f":"IF(B2897=\"\",\"\",LOOKUP(B2897,Spiele!B:B,Spiele!E:E))","v":""},{"$f":"IF(B2897=\"\",\"\",LOOKUP(B2897,Spiele!B:B,Spiele!F:F))","v":""},"","","",null,null,-1,-1,1,0]
[null,null,{"$f":"IF(B2903=\"\",\"\",LOOKUP(B2903,Spiele!B:B,Spiele!C:C))","v":""},{"$f":"IF(B2903=\"\",\"\",LOOKUP(B2903,Spiele!B:B,Spiele!D:D))","v":""},{"$f":"IF(B2903=\"\",\"\",LOOKUP(B2903,Spiele!B:B,Spiele!E:E))","v":""},{"$f":"IF(B2903=\"\",\"\",LOOKUP(B2903,Spiele!B:B,Spiele!F:F))","v":""},"","","",null,null,-1,-1,1,0]
[null,null,{"$f":"IF(B2906=\"\",\"\",LOOKUP(B2906,Spiele!B:B,Spiele!C:C))","v":""},{"$f":"IF(B2906=\"\",\"\",LOOKUP(B2906,Spiele!B:B,Spiele!D:D))","v":""},{"$f":"IF(B2906=\"\",\"\",LOOKUP(B2906,Spiele!B:B,Spiele!E:E))","v":""},{"$f":"IF(B2906=\"\",\"\",LOOKUP(B2906,Spiele!B:B,Spiele!F:F))","v":""},"","","",null,null,-1,-1,1,0]
[null,null,{"$f":"IF(B2911=\"\",\"\",LOOKUP(B2911,Spiele!B:B,Spiele!C:C))","v":""},{"$f":"IF(B2911=\"\",\"\",LOOKUP(B2911,Spiele!B:B,Spiele!D:D))","v":""},{"$f":"IF(B2911=\"\",\"\",LOOKUP(B2911,Spiele!B:B,Spiele!E:E))","v":""},{"$f":"IF(B2911=\"\",\"\",LOOKUP(B2911,Spiele!B:B,Spiele!F:F))","v":""},"","","",null,null,-1,-1,1,0]
[null,null,{"$f":"IF(B2912=\"\",\"\",LOOKUP(B2912,Spiele!B:B,Spiele!C:C))","v":""},{"$f":"IF(B2912=\"\",\"\",LOOKUP(B2912,Spiele!B:B,Spiele!D:D))","v":""},{"$f":"IF(B2912=\"\",\"\",LOOKUP(B2912,Spiele!B:B,Spiele!E:E))","v":""},{"$f":"IF(B2912=\"\",\"\",LOOKUP(B2912,Spiele!B:B,Spiele!F:F))","v":""},"","","",null,null,-1,-1,1,0]
[null,null,{"$f":"IF(B2917=\"\",\"\",LOOKUP(B2917,Spiele!B:B,Spiele!C:C))","v":""},{"$f":"IF(B2917=\"\",\"\",LOOKUP(B2917,Spiele!B:B,Spiele!D:D))","v":""},{"$f":"IF(B2917=\"\",\"\",LOOKUP(B2917,Spiele!B:B,Spiele!E:E))","v":""},{"$f":"IF(B2917=\"\",\"\",LOOKUP(B2917,Spiele!B:B,Spiele!F:F))","v":""},"","","",null,null,-1,-1,1,0]
[null,null,{"$f":"IF(B2921=\"\",\"\",LOOKUP(B2921,Spiele!B:B,Spiele!C:C))","v":""},{"$f":"IF(B2921=\"\",\"\",LOOKUP(B2921,Spiele!B:B,Spiele!D:D))","v":""},{"$f":"IF(B2921=\"\",\"\",LOOKUP(B2921,Spiele!B:B,Spiele!E:E))","v":""},{"$f":"IF(B2921=\"\",\"\",LOOKUP(B2921,Spiele!B:B,Spiele!F:F))","v":""},"","","",null,null,-1,-1,1,0]
[null,null,{"$f":"IF(B2926=\"\",\"\",LOOKUP(B2926,Spiele!B:B,Spiele!C:C))","v":""},{"$f":"IF(B2926=\"\",\"\",LOOKUP(B2926,Spiele!B:B,Spiele!D:D))","v":""},{"$f":"IF(B2926=\"\",\"\",LOOKUP(B2926,Spiele!B:B,Spiele!E:E))","v":""},{"$f":"IF(B2926=\"\",\"\",LOOKUP(B2926,Spiele!B:B,Spiele!F:F))","v":""},"","","",null,null,-1,-1,1,0]
[null,null,{"$f":"IF(B2927=\"\",\"\",LOOKUP(B2927,Spiele!B:B,Spiele!C:C))","v":""},{"$f":"IF(B2927=\"\",\"\",LOOKUP(B2927,Spiele!B:B,Spiele!D:D))","v":""},{"$f":"IF(B2927=\"\",\"\",LOOKUP(B2927,Spiele!B:B,Spiele!E:E))","v":""},{"$f":"IF(B2927=\"\",\"\",LOOKUP(B2927,Spiele!B:B,Spiele!F:F))","v":""},"","","",null,null,-1,-1,1,0]
[null,null,{"$f":"IF(B2933=\"\",\"\",LOOKUP(B2933,Spiele!B:B,Spiele!C:C))","v":""},{"$f":"IF(B2933=\"\",\"\",LOOKUP(B2933,Spiele!B:B,Spiele!D:D))","v":""},{"$f":"IF(B2933=\"\",\"\",LOOKUP(B2933,Spiele!B:B,Spiele!E:E))","v":""},{"$f":"IF(B2933=\"\",\"\",LOOKUP(B2933,Spiele!B:B,Spiele!F:F))","v":""},"","","",null,null,-1,-1,1,0]
[null,null,{"$f":"IF(B2936=\"\",\"\",LOOKUP(B2936,Spiele!B:B,Spiele!C:C))","v":""},{"$f":"IF(B2936=\"\",\"\",LOOKUP(B2936,Spiele!B:B,Spiele!D:D))","v":""},{"$f":"IF(B2936=\"\",\"\",LOOKUP(B2936,Spiele!B:B,Spiele!E:E))","v":""},{"$f":"IF(B2936=\"\",\"\",LOOKUP(B2936,Spiele!B:B,Spiele!F:F))","v":""},"","","",null,null,-1,-1,1,0]
[null,null,{"$f":"IF(B2941=\"\",\"\",LOOKUP(B2941,Spiele!B:B,Spiele!C:C))","v":""},{"$f":"IF(B2941=\"\",\"\",LOOKUP(B2941,Spiele!B:B,Spiele!D:D))","v":""},{"$f":"IF(B2941=\"\",\"\",LOOKUP(B2941,Spiele!B:B,Spiele!E:E))","v":""},{"$f":"IF(B2941=\"\",\"\",LOOKUP(B2941,Spiele!B:B,Spiele!F:F))","v":""},"","","",null,null,-1,-1,1,0]
[null,null,{"$f":"IF(B2942=\"\",\"\",LOOKUP(B2942,Spiele!B:B,Spiele!C:C))","v":""},{"$f":"IF(B2942=\"\",\"\",LOOKUP(B2942,Spiele!B:B,Spiele!D:D))","v":""},{"$f":"IF(B2942=\"\",\"\",LOOKUP(B2942,Spiele!B:B,Spiele!E:E))","v":""},{"$f":"IF(B2942=\"\",\"\",LOOKUP(B2942,Spiele!B:B,Spiele!F:F))","v":""},"","","",null,null,-1,-1,1,0]
[null,null,{"$f":"IF(B2947=\"\",\"\",LOOKUP(B2947,Spiele!B:B,Spiele!C:C))","v":""},{"$f":"IF(B2947=\"\",\"\",LOOKUP(B2947,Spiele!B:B,Spiele!D:D))","v":""},{"$f":"IF(B2947=\"\",\"\",LOOKUP(B2947,Spiele!B:B,Spiele!E:E))","v":""},{"$f":"IF(B2947=\"\",\"\",LOOKUP(B2947,Spiele!B:B,Spiele!F:F))","v":""},"","","",null,null,-1,-1,1,0]
[null,null,{"$f":"IF(B2951=\"\",\"\",LOOKUP(B2951,Spiele!B:B,Spiele!C:C))","v":""},{"$f":"IF(B2951=\"\",\"\",LOOKUP(B2951,Spiele!B:B,Spiele!D:D))","v":""},{"$f":"IF(B2951=\"\",\"\",LOOKUP(B2951,Spiele!B:B,Spiele!E:E))","v":""},{"$f":"IF(B2951=\"\",\"\",LOOKUP(B2951,Spiele!B:B,Spiele!F:F))","v":""},"","","",null,null,-1,-1,1,0]
[null,null,{"$f":"IF(B2956=\"\",\"\",LOOKUP(B2956,Spiele!B:B,Spiele!C:C))","v":""},{"$f":"IF(B2956=\"\",\"\",LOOKUP(B2956,Spiele!B:B,Spiele!D:D))","v":""},{"$f":"IF(B2956=\"\",\"\",LOOKUP(B2956,Spiele!B:B,Spiele!E:E))","v":""},{"$f":"IF(B2956=\"\",\"\",LOOKUP(B2956,Spiele!B:B,Spiele!F:F))","v":""},"","","",null,null,-1,-1,1,0]
[null,null,{"$f":"IF(B2957=\"\",\"\",LOOKUP(B2957,Spiele!B:B,Spiele!C:C))","v":""},{"$f":"IF(B2957=\"\",\"\",LOOKUP(B2957,Spiele!B:B,Spiele!D:D))","v":""},{"$f":"IF(B2957=\"\",\"\",LOOKUP(B2957,Spiele!B:B,Spiele!E:E))","v":""},{"$f":"IF(B2957=\"\",\"\",LOOKUP(B2957,Spiele!B:B,Spiele!F:F))","v":""},"","","",null,null,-1,-1,1,0]
[null,null,{"$f":"IF(B2962=\"\",\"\",LOOKUP(B2962,Spiele!B:B,Spiele!C:C))","v":""},{"$f":"IF(B2962=\"\",\"\",LOOKUP(B2962,Spiele!B:B,Spiele!D:D))","v":""},{"$f":"IF(B2962=\"\",\"\",LOOKUP(B2962,Spiele!B:B,Spiele!E:E))","v":""},{"$f":"IF(B2962=\"\",\"\",LOOKUP(B2962,Spiele!B:B,Spiele!F:F))","v":""},"","","",null,null,-1,-1,1,0]
[null,null,{"$f":"IF(B2965=\"\",\"\",LOOKUP(B2965,Spiele!B:B,Spiele!C:C))","v":""},{"$f":"IF(B2965=\"\",\"\",LOOKUP(B2965,Spiele!B:B,Spiele!D:D))","v":""},{"$f":"IF(B2965=\"\",\"\",LOOKUP(B2965,Spiele!B:B,Spiele!E:E))","v":""},{"$f":"IF(B2965=\"\",\"\",LOOKUP(B2965,Spiele!B:B,Spiele!F:F))","v":""},"","","",null,null,-1,-1,1,0]
[null,null,{"$f":"IF(B2971=\"\",\"\",LOOKUP(B2971,Spiele!B:B,Spiele!C:C))","v":""},{"$f":"IF(B2971=\"\",\"\",LOOKUP(B2971,Spiele!B:B,Spiele!D:D))","v":""},{"$f":"IF(B2971=\"\",\"\",LOOKUP(B2971,Spiele!B:B,Spiele!E:E))","v":""},{"$f":"IF(B2971=\"\",\"\",LOOKUP(B2971,Spiele!B:B,Spiele!F:F))","v":""},"","","",null,null,-1,-1,1,0]
[null,null,{"$f":"IF(B2972=\"\",\"\",LOOKUP(B2972,Spiele!B:B,Spiele!C:C))","v":""},{"$f":"IF(B2972=\"\",\"\",LOOKUP(B2972,Spiele!B:B,Spiele!D:D))","v":""},{"$f":"IF(B2972=\"\",\"\",LOOKUP(B2972,Spiele!B:B,Spiele!E:E))","v":""},{"$f":"IF(B2972=\"\",\"\",LOOKUP(B2972,Spiele!B:B,Spiele!F:F))","v":""},"","","",null,null,-1,-1,1,0]
[null,null,{"$f":"IF(B2977=\"\",\"\",LOOKUP(B2977,Spiele!B:B,Spiele!C:C))","v":""},{"$f":"IF(B2977=\"\",\"\",LOOKUP(B2977,Spiele!B:B,Spiele!D:D))","v":""},{"$f":"IF(B2977=\"\",\"\",LOOKUP(B2977,Spiele!B:B,Spiele!E:E))","v":""},{"$f":"IF(B2977=\"\",\"\",LOOKUP(B2977,Spiele!B:B,Spiele!F:F))","v":""},"","","",null,null,-1,-1,1,0]
[null,null,{"$f":"IF(B2981=\"\",\"\",LOOKUP(B2981,Spiele!B:B,Spiele!C:C))","v":""},{"$f":"IF(B2981=\"\",\"\",LOOKUP(B2981,Spiele!B:B,Spiele!D:D))","v":""},{"$f":"IF(B2981=\"\",\"\",LOOKUP(B2981,Spiele!B:B,Spiele!E:E))","v":""},{"$f":"IF(B2981=\"\",\"\",LOOKUP(B2981,Spiele!B:B,Spiele!F:F))","v":""},"","","",null,null,-1,-1,1,0]
[null,null,{"$f":"IF(B2986=\"\",\"\",LOOKUP(B2986,Spiele!B:B,Spiele!C:C))","v":""},{"$f":"IF(B2986=\"\",\"\",LOOKUP(B2986,Spiele!B:B,Spiele!D:D))","v":""},{"$f":"IF(B2986=\"\",\"\",LOOKUP(B2986,Spiele!B:B,Spiele!E:E))","v":""},{"$f":"IF(B2986=\"\",\"\",LOOKUP(B2986,Spiele!B:B,Spiele!F:F))","v":""},{"$f":"IF(E2986=\"\",\"\",IF(E2986>F2986,1,0))","v":""},{"$f":"IF(F2986=\"\",\"\",IF(E2986<F2986,1,0))","v":""},{"$f":"IF(E2986=\"\",\"\",IF(E2986=F2986,1,0))","v":""},null,null,{"$f":"IF(E2986=\"\",-1,IF(J2986>K2986,1,-1))","v":-1},{"$f":"IF(F2986=\"\",-1,IF(J2986<K2986,1,-1))","v":-1},{"$f":"IF(E2986=\"-\",-1,IF(J2986=K2986,1,-1))","v":1},{"$f":"IF(E2986=\"\",0,IF(E2986=J2986,1,0)+IF(F2986=K2986,1,0)+IF(G2986=L2986,1,0)+IF(H2986=M2986,1,0)+IF(I2986=N2986,1,0))","v":0}]
[null,null,{"$f":"IF(B2987=\"\",\"\",LOOKUP(B2987,Spiele!B:B,Spiele!C:C))","v":""},{"$f":"IF(B2987=\"\",\"\",LOOKUP(B2987,Spiele!B:B,Spiele!D:D))","v":""},{"$f":"IF(B2987=\"\",\"\",LOOKUP(B2987,Spiele!B:B,Spiele!E:E))","v":""},{"$f":"IF(B2987=\"\",\"\",LOOKUP(B2987,Spiele!B:B,Spiele!F:F))","v":""},"","","",null,null,-1,-1,1,0]
[null,null,{"$f":"IF(B2992=\"\",\"\",LOOKUP(B2992,Spiele!B:B,Spiele!C:C))","v":""},{"$f":"IF(B2992=\"\",\"\",LOOKUP(B2992,Spiele!B:B,Spiele!D:D))","v":""},{"$f":"IF(B2992=\"\",\"\",LOOKUP(B2992,Spiele!B:B,Spiele!E:E))","v":""},{"$f":"IF(B2992=\"\",\"\",LOOKUP(B2992,Spiele!B:B,Spiele!F:F))","v":""},"","","",null,null,-1,-1,1,0]
[null,null,{"$f":"IF(B2995=\"\",\"\",LOOKUP(B2995,Spiele!B:B,Spiele!C:C))","v":""},{"$f":"IF(B2995=\"\",\"\",LOOKUP(B2995,Spiele!B:B,Spiele!D:D))","v":""},{"$f":"IF(B2995=\"\",\"\",LOOKUP(B2995,Spiele!B:B,Spiele!E:E))","v":""},{"$f":"IF(B2995=\"\",\"\",LOOKUP(B2995,Spiele!B:B,Spiele!F:F))","v":""},"","","",null,null,-1,-1,1,0]
[null,null,{"$f":"IF(B3001=\"\",\"\",LOOKUP(B3001,Spiele!B:B,Spiele!C:C))","v":""},{"$f":"IF(B3001=\"\",\"\",LOOKUP(B3001,Spiele!B:B,Spiele!D:D))","v":""},{"$f":"IF(B3001=\"\",\"\",LOOKUP(B3001,Spiele!B:B,Spiele!E:E))","v":""},{"$f":"IF(B3001=\"\",\"\",LOOKUP(B3001,Spiele!B:B,Spiele!F:F))","v":""},"","","",null,null,-1,-1,1,0]
[null,null,{"$f":"IF(B3002=\"\",\"\",LOOKUP(B3002,Spiele!B:B,Spiele!C:C))","v":""},{"$f":"IF(B3002=\"\",\"\",LOOKUP(B3002,Spiele!B:B,Spiele!D:D))","v":""},{"$f":"IF(B3002=\"\",\"\",LOOKUP(B3002,Spiele!B:B,Spiele!E:E))","v":""},{"$f":"IF(B3002=\"\",\"\",LOOKUP(B3002,Spiele!B:B,Spiele!F:F))","v":""},"","","",null,null,-1,-1,1,0]
[null,null,{"$f":"IF(B3007=\"\",\"\",LOOKUP(B3007,Spiele!B:B,Spiele!C:C))","v":""},{"$f":"IF(B3007=\"\",\"\",LOOKUP(B3007,Spiele!B:B,Spiele!D:D))","v":""},{"$f":"IF(B3007=\"\",\"\",LOOKUP(B3007,Spiele!B:B,Spiele!E:E))","v":""},{"$f":"IF(B3007=\"\",\"\",LOOKUP(B3007,Spiele!B:B,Spiele!F:F))","v":""},"","","",null,null,-1,-1,1,0]
[null,null,{"$f":"IF(B3011=\"\",\"\",LOOKUP(B3011,Spiele!B:B,Spiele!C:C))","v":""},{"$f":"IF(B3011=\"\",\"\",LOOKUP(B3011,Spiele!B:B,Spiele!D:D))","v":""},{"$f":"IF(B3011=\"\",\"\",LOOKUP(B3011,Spiele!B:B,Spiele!E:E))","v":""},{"$f":"IF(B3011=\"\",\"\",LOOKUP(B3011,Spiele!B:B,Spiele!F:F))","v":""},"","","",null,null,-1,-1,1,0]
[null,null,{"$f":"IF(B3016=\"\",\"\",LOOKUP(B3016,Spiele!B:B,Spiele!C:C))","v":""},{"$f":"IF(B3016=\"\",\"\",LOOKUP(B3016,Spiele!B:B,Spiele!D:D))","v":""},{"$f":"IF(B3016=\"\",\"\",LOOKUP(B3016,Spiele!B:B,Spiele!E:E))","v":""},{"$f":"IF(B3016=\"\",\"\",LOOKUP(B3016,Spiele!B:B,Spiele!F:F))","v":""},"","","",null,null,-1,-1,1,0]
[null,null,{"$f":"IF(B3017=\"\",\"\",LOOKUP(B3017,Spiele!B:B,Spiele!C:C))","v":""},{"$f":"IF(B3017=\"\",\"\",LOOKUP(B3017,Spiele!B:B,Spiele!D:D))","v":""},{"$f":"IF(B3017=\"\",\"\",LOOKUP(B3017,Spiele!B:B,Spiele!E:E))","v":""},{"$f":"IF(B3017=\"\",\"\",LOOKUP(B3017,Spiele!B:B,Spiele!F:F))","v":""},"","","",null,null,-1,-1,1,0]
[null,null,{"$f":"IF(B3022=\"\",\"\",LOOKUP(B3022,Spiele!B:B,Spiele!C:C))","v":""},{"$f":"IF(B3022=\"\",\"\",LOOKUP(B3022,Spiele!B:B,Spiele!D:D))","v":""},{"$f":"IF(B3022=\"\",\"\",LOOKUP(B3022,Spiele!B:B,Spiele!E:E))","v":""},{"$f":"IF(B3022=\"\",\"\",LOOKUP(B3022,Spiele!B:B,Spiele!F:F))","v":""},"","","",null,null,-1,-1,1,0]
[null,null,{"$f":"IF(B3025=\"\",\"\",LOOKUP(B3025,Spiele!B:B,Spiele!C:C))","v":""},{"$f":"IF(B3025=\"\",\"\",LOOKUP(B3025,Spiele!B:B,Spiele!D:D))","v":""},{"$f":"IF(B3025=\"\",\"\",LOOKUP(B3025,Spiele!B:B,Spiele!E:E))","v":""},{"$f":"IF(B3025=\"\",\"\",LOOKUP(B3025,Spiele!B:B,Spiele!F:F))","v":""},"","","",null,null,-1,-1,1,0]
[null,null,{"$f":"IF(B3031=\"\",\"\",LOOKUP(B3031,Spiele!B:B,Spiele!C:C))","v":""},{"$f":"IF(B3031=\"\",\"\",LOOKUP(B3031,Spiele!B:B,Spiele!D:D))","v":""},{"$f":"IF(B3031=\"\",\"\",LOOKUP(B3031,Spiele!B:B,Spiele!E:E))","v":""},{"$f":"IF(B3031=\"\",\"\",LOOKUP(B3031,Spiele!B:B,Spiele!F:F))","v":""},"","","",null,null,-1,-1,1,0]
[null,null,{"$f":"IF(B3032=\"\",\"\",LOOKUP(B3032,Spiele!B:B,Spiele!C:C))","v":""},{"$f":"IF(B3032=\"\",\"\",LOOKUP(B3032,Spiele!B:B,Spiele!D:D))","v":""},{"$f":"IF(B3032=\"\",\"\",LOOKUP(B3032,Spiele!B:B,Spiele!E:E))","v":""},{"$f":"IF(B3032=\"\",\"\",LOOKUP(B3032,Spiele!B:B,Spiele!F:F))","v":""},"","","",null,null,-1,-1,1,0]
[null,null,{"$f":"IF(B3037=\"\",\"\",LOOKUP(B3037,Spiele!B:B,Spiele!C:C))","v":""},{"$f":"IF(B3037=\"\",\"\",LOOKUP(B3037,Spiele!B:B,Spiele!D:D))","v":""},{"$f":"IF(B3037=\"\",\"\",LOOKUP(B3037,Spiele!B:B,Spiele!E:E))","v":""},{"$f":"IF(B3037=\"\",\"\",LOOKUP(B3037,Spiele!B:B,Spiele!F:F))","v":""},"","","",null,null,-1,-1,1,0]
[null,null,{"$f":"IF(B3041=\"\",\"\",LOOKUP(B3041,Spiele!B:B,Spiele!C:C))","v":""},{"$f":"IF(B3041=\"\",\"\",LOOKUP(B3041,Spiele!B:B,Spiele!D:D))","v":""},{"$f":"IF(B3041=\"\",\"\",LOOKUP(B3041,Spiele!B:B,Spiele!E:E))","v":""},{"$f":"IF(B3041=\"\",\"\",LOOKUP(B3041,Spiele!B:B,Spiele!F:F))","v":""},"","","",null,null,-1,-1,1,0]
[null,null,{"$f":"IF(B3046=\"\",\"\",LOOKUP(B3046,Spiele!B:B,Spiele!C:C))","v":""},{"$f":"IF(B3046=\"\",\"\",LOOKUP(B3046,Spiele!B:B,Spiele!D:D))","v":""},{"$f":"IF(B3046=\"\",\"\",LOOKUP(B3046,Spiele!B:B,Spiele!E:E))","v":""},{"$f":"IF(B3046=\"\",\"\",LOOKUP(B3046,Spiele!B:B,Spiele!F:F))","v":""},"","","",null,null,-1,-1,1,0]
[null,null,{"$f":"IF(B3047=\"\",\"\",LOOKUP(B3047,Spiele!B:B,Spiele!C:C))","v":""},{"$f":"IF(B3047=\"\",\"\",LOOKUP(B3047,Spiele!B:B,Spiele!D:D))","v":""},{"$f":"IF(B3047=\"\",\"\",LOOKUP(B3047,Spiele!B:B,Spiele!E:E))","v":""},{"$f":"IF(B3047=\"\",\"\",LOOKUP(B3047,Spiele!B:B,Spiele!F:F))","v":""},"","","",null,null,-1,-1,1,0]
[null,null,{"$f":"IF(B3052=\"\",\"\",LOOKUP(B3052,Spiele!B:B,Spiele!C:C))","v":""},{"$f":"IF(B3052=\"\",\"\",LOOKUP(B3052,Spiele!B:B,Spiele!D:D))","v":""},{"$f":"IF(B3052=\"\",\"\",LOOKUP(B3052,Spiele!B:B,Spiele!E:E))","v":""},{"$f":"IF(B3052=\"\",\"\",LOOKUP(B3052,Spiele!B:B,Spiele!F:F))","v":""},"","","",null,null,-1,-1,1,0]
[null,null,{"$f":"IF(B3055=\"\",\"\",LOOKUP(B3055,Spiele!B:B,Spiele!C:C))","v":""},{"$f":"IF(B3055=\"\",\"\",LOOKUP(B3055,Spiele!B:B,Spiele!D:D))","v":""},{"$f":"IF(B3055=\"\",\"\",LOOKUP(B3055,Spiele!B:B,Spiele!E:E))","v":""},{"$f":"IF(B3055=\"\",\"\",LOOKUP(B3055,Spiele!B:B,Spiele!F:F))","v":""},"","","",null,null,-1,-1,1,0]
[null,null,{"$f":"IF(B3061=\"\",\"\",LOOKUP(B3061,Spiele!B:B,Spiele!C:C))","v":""},{"$f":"IF(B3061=\"\",\"\",LOOKUP(B3061,Spiele!B:B,Spiele!D:D))","v":""},{"$f":"IF(B3061=\"\",\"\",LOOKUP(B3061,Spiele!B:B,Spiele!E:E))","v":""},{"$f":"IF(B3061=\"\",\"\",LOOKUP(B3061,Spiele!B:B,Spiele!F:F))","v":""},"","","",null,null,-1,-1,1,0]
[null,null,{"$f":"IF(B3062=\"\",\"\",LOOKUP(B3062,Spiele!B:B,Spiele!C:C))","v":""},{"$f":"IF(B3062=\"\",\"\",LOOKUP(B3062,Spiele!B:B,Spiele!D:D))","v":""},{"$f":"IF(B3062=\"\",\"\",LOOKUP(B3062,Spiele!B:B,Spiele!E:E))","v":""},{"$f":"IF(B3062=\"\",\"\",LOOKUP(B3062,Spiele!B:B,Spiele!F:F))","v":""},"","","",null,null,-1,-1,1,0]
[null,null,{"$f":"IF(B3067=\"\",\"\",LOOKUP(B3067,Spiele!B:B,Spiele!C:C))","v":""},{"$f":"IF(B3067=\"\",\"\",LOOKUP(B3067,Spiele!B:B,Spiele!D:D))","v":""},{"$f":"IF(B3067=\"\",\"\",LOOKUP(B3067,Spiele!B:B,Spiele!E:E))","v":""},{"$f":"IF(B3067=\"\",\"\",LOOKUP(B3067,Spiele!B:B,Spiele!F:F))","v":""},"","","",null,null,-1,-1,1,0]
[null,null,{"$f":"IF(B3071=\"\",\"\",LOOKUP(B3071,Spiele!B:B,Spiele!C:C))","v":""},{"$f":"IF(B3071=\"\",\"\",LOOKUP(B3071,Spiele!B:B,Spiele!D:D))","v":""},{"$f":"IF(B3071=\"\",\"\",LOOKUP(B3071,Spiele!B:B,Spiele!E:E))","v":""},{"$f":"IF(B3071=\"\",\"\",LOOKUP(B3071,Spiele!B:B,Spiele!F:F))","v":""},"","","",null,null,-1,-1,1,0]
[null,null,{"$f":"IF(B3076=\"\",\"\",LOOKUP(B3076,Spiele!B:B,Spiele!C:C))","v":""},{"$f":"IF(B3076=\"\",\"\",LOOKUP(B3076,Spiele!B:B,Spiele!D:D))","v":""},{"$f":"IF(B3076=\"\",\"\",LOOKUP(B3076,Spiele!B:B,Spiele!E:E))","v":""},{"$f":"IF(B3076=\"\",\"\",LOOKUP(B3076,Spiele!B:B,Spiele!F:F))","v":""},"","","",null,null,-1,-1,1,0]
[null,null,{"$f":"IF(B3077=\"\",\"\",LOOKUP(B3077,Spiele!B:B,Spiele!C:C))","v":""},{"$f":"IF(B3077=\"\",\"\",LOOKUP(B3077,Spiele!B:B,Spiele!D:D))","v":""},{"$f":"IF(B3077=\"\",\"\",LOOKUP(B3077,Spiele!B:B,Spiele!E:E))","v":""},{"$f":"IF(B3077=\"\",\"\",LOOKUP(B3077,Spiele!B:B,Spiele!F:F))","v":""},"","","",null,null,-1,-1,1,0]
[null,null,{"$f":"IF(B3082=\"\",\"\",LOOKUP(B3082,Spiele!B:B,Spiele!C:C))","v":""},{"$f":"IF(B3082=\"\",\"\",LOOKUP(B3082,Spiele!B:B,Spiele!D:D))","v":""},{"$f":"IF(B3082=\"\",\"\",LOOKUP(B3082,Spiele!B:B,Spiele!E:E))","v":""},{"$f":"IF(B3082=\"\",\"\",LOOKUP(B3082,Spiele!B:B,Spiele!F:F))","v":""},"","","",null,null,-1,-1,1,0]
[null,null,{"$f":"IF(B3085=\"\",\"\",LOOKUP(B3085,Spiele!B:B,Spiele!C:C))","v":""},{"$f":"IF(B3085=\"\",\"\",LOOKUP(B3085,Spiele!B:B,Spiele!D:D))","v":""},{"$f":"IF(B3085=\"\",\"\",LOOKUP(B3085,Spiele!B:B,Spiele!E:E))","v":""},{"$f":"IF(B3085=\"\",\"\",LOOKUP(B3085,Spiele!B:B,Spiele!F:F))","v":""},"","","",null,null,-1,-1,1,0]
[null,null,{"$f":"IF(B3091=\"\",\"\",LOOKUP(B3091,Spiele!B:B,Spiele!C:C))","v":""},{"$f":"IF(B3091=\"\",\"\",LOOKUP(B3091,Spiele!B:B,Spiele!D:D))","v":""},{"$f":"IF(B3091=\"\",\"\",LOOKUP(B3091,Spiele!B:B,Spiele!E:E))","v":""},{"$f":"IF(B3091=\"\",\"\",LOOKUP(B3091,Spiele!B:B,Spiele!F:F))","v":""},"","","",null,null,-1,-1,1,0]
[null,null,{"$f":"IF(B3092=\"\",\"\",LOOKUP(B3092,Spiele!B:B,Spiele!C:C))","v":""},{"$f":"IF(B3092=\"\",\"\",LOOKUP(B3092,Spiele!B:B,Spiele!D:D))","v":""},{"$f":"IF(B3092=\"\",\"\",LOOKUP(B3092,Spiele!B:B,Spiele!E:E))","v":""},{"$f":"IF(B3092=\"\",\"\",LOOKUP(B3092,Spiele!B:B,Spiele!F:F))","v":""},"","","",null,null,-1,-1,1,0]
[null,null,{"$f":"IF(B3097=\"\",\"\",LOOKUP(B3097,Spiele!B:B,Spiele!C:C))","v":""},{"$f":"IF(B3097=\"\",\"\",LOOKUP(B3097,Spiele!B:B,Spiele!D:D))","v":""},{"$f":"IF(B3097=\"\",\"\",LOOKUP(B3097,Spiele!B:B,Spiele!E:E))","v":""},{"$f":"IF(B3097=\"\",\"\",LOOKUP(B3097,Spiele!B:B,Spiele!F:F))","v":""},"","","",null,null,-1,-1,1,0]
[null,null,{"$f":"IF(B3101=\"\",\"\",LOOKUP(B3101,Spiele!B:B,Spiele!C:C))","v":""},{"$f":"IF(B3101=\"\",\"\",LOOKUP(B3101,Spiele!B:B,Spiele!D:D))","v":""},{"$f":"IF(B3101=\"\",\"\",LOOKUP(B3101,Spiele!B:B,Spiele!E:E))","v":""},{"$f":"IF(B3101=\"\",\"\",LOOKUP(B3101,Spiele!B:B,Spiele!F:F))","v":""},"","","",null,null,-1,-1,1,0]
[null,null,{"$f":"IF(B3106=\"\",\"\",LOOKUP(B3106,Spiele!B:B,Spiele!C:C))","v":""},{"$f":"IF(B3106=\"\",\"\",LOOKUP(B3106,Spiele!B:B,Spiele!D:D))","v":""},{"$f":"IF(B3106=\"\",\"\",LOOKUP(B3106,Spiele!B:B,Spiele!E:E))","v":""},{"$f":"IF(B3106=\"\",\"\",LOOKUP(B3106,Spiele!B:B,Spiele!F:F))","v":""},"","","",null,null,-1,-1,1,0]
[null,null,{"$f":"IF(B3107=\"\",\"\",LOOKUP(B3107,Spiele!B:B,Spiele!C:C))","v":""},{"$f":"IF(B3107=\"\",\"\",LOOKUP(B3107,Spiele!B:B,Spiele!D:D))","v":""},{"$f":"IF(B3107=\"\",\"\",LOOKUP(B3107,Spiele!B:B,Spiele!E:E))","v":""},{"$f":"IF(B3107=\"\",\"\",LOOKUP(B3107,Spiele!B:B,Spiele!F:F))","v":""},"","","",null,null,-1,-1,1,0]
[null,null,{"$f":"IF(B3112=\"\",\"\",LOOKUP(B3112,Spiele!B:B,Spiele!C:C))","v":""},{"$f":"IF(B3112=\"\",\"\",LOOKUP(B3112,Spiele!B:B,Spiele!D:D))","v":""},{"$f":"IF(B3112=\"\",\"\",LOOKUP(B3112,Spiele!B:B,Spiele!E:E))","v":""},{"$f":"IF(B3112=\"\",\"\",LOOKUP(B3112,Spiele!B:B,Spiele!F:F))","v":""},"","","",null,null,-1,-1,1,0]
[null,null,{"$f":"IF(B3115=\"\",\"\",LOOKUP(B3115,Spiele!B:B,Spiele!C:C))","v":""},{"$f":"IF(B3115=\"\",\"\",LOOKUP(B3115,Spiele!B:B,Spiele!D:D))","v":""},{"$f":"IF(B3115=\"\",\"\",LOOKUP(B3115,Spiele!B:B,Spiele!E:E))","v":""},{"$f":"IF(B3115=\"\",\"\",LOOKUP(B3115,Spiele!B:B,Spiele!F:F))","v":""},"","","",null,null,-1,-1,1,0]
[null,null,{"$f":"IF(B3121=\"\",\"\",LOOKUP(B3121,Spiele!B:B,Spiele!C:C))","v":""},{"$f":"IF(B3121=\"\",\"\",LOOKUP(B3121,Spiele!B:B,Spiele!D:D))","v":""},{"$f":"IF(B3121=\"\",\"\",LOOKUP(B3121,Spiele!B:B,Spiele!E:E))","v":""},{"$f":"IF(B3121=\"\",\"\",LOOKUP(B3121,Spiele!B:B,Spiele!F:F))","v":""},"","","",null,null,-1,-1,1,0]
[null,null,{"$f":"IF(B3122=\"\",\"\",LOOKUP(B3122,Spiele!B:B,Spiele!C:C))","v":""},{"$f":"IF(B3122=\"\",\"\",LOOKUP(B3122,Spiele!B:B,Spiele!D:D))","v":""},{"$f":"IF(B3122=\"\",\"\",LOOKUP(B3122,Spiele!B:B,Spiele!E:E))","v":""},{"$f":"IF(B3122=\"\",\"\",LOOKUP(B3122,Spiele!B:B,Spiele!F:F))","v":""},"","","",null,null,-1,-1,1,0]
[null,null,{"$f":"IF(B3127=\"\",\"\",LOOKUP(B3127,Spiele!B:B,Spiele!C:C))","v":""},{"$f":"IF(B3127=\"\",\"\",LOOKUP(B3127,Spiele!B:B,Spiele!D:D))","v":""},{"$f":"IF(B3127=\"\",\"\",LOOKUP(B3127,Spiele!B:B,Spiele!E:E))","v":""},{"$f":"IF(B3127=\"\",\"\",LOOKUP(B3127,Spiele!B:B,Spiele!F:F))","v":""},"","","",null,null,-1,-1,1,0]
[null,null,{"$f":"IF(B3131=\"\",\"\",LOOKUP(B3131,Spiele!B:B,Spiele!C:C))","v":""},{"$f":"IF(B3131=\"\",\"\",LOOKUP(B3131,Spiele!B:B,Spiele!D:D))","v":""},{"$f":"IF(B3131=\"\",\"\",LOOKUP(B3131,Spiele!B:B,Spiele!E:E))","v":""},{"$f":"IF(B3131=\"\",\"\",LOOKUP(B3131,Spiele!B:B,Spiele!F:F))","v":""},"","","",null,null,-1,-1,1,0]
[null,null,{"$f":"IF(B3136=\"\",\"\",LOOKUP(B3136,Spiele!B:B,Spiele!C:C))","v":""},{"$f":"IF(B3136=\"\",\"\",LOOKUP(B3136,Spiele!B:B,Spiele!D:D))","v":""},{"$f":"IF(B3136=\"\",\"\",LOOKUP(B3136,Spiele!B:B,Spiele!E:E))","v":""},{"$f":"IF(B3136=\"\",\"\",LOOKUP(B3136,Spiele!B:B,Spiele!F:F))","v":""},"","","",null,null,-1,-1,1,0]
[null,null,{"$f":"IF(B3137=\"\",\"\",LOOKUP(B3137,Spiele!B:B,Spiele!C:C))","v":""},{"$f":"IF(B3137=\"\",\"\",LOOKUP(B3137,Spiele!B:B,Spiele!D:D))","v":""},{"$f":"IF(B3137=\"\",\"\",LOOKUP(B3137,Spiele!B:B,Spiele!E:E))","v":""},{"$f":"IF(B3137=\"\",\"\",LOOKUP(B3137,Spiele!B:B,Spiele!F:F))","v":""},"","","",null,null,-1,-1,1,0]
[null,null,{"$f":"IF(B3142=\"\",\"\",LOOKUP(B3142,Spiele!B:B,Spiele!C:C))","v":""},{"$f":"IF(B3142=\"\",\"\",LOOKUP(B3142,Spiele!B:B,Spiele!D:D))","v":""},{"$f":"IF(B3142=\"\",\"\",LOOKUP(B3142,Spiele!B:B,Spiele!E:E))","v":""},{"$f":"IF(B3142=\"\",\"\",LOOKUP(B3142,Spiele!B:B,Spiele!F:F))","v":""},"","","",null,null,-1,-1,1,0]
[null,null,{"$f":"IF(B3145=\"\",\"\",LOOKUP(B3145,Spiele!B:B,Spiele!C:C))","v":""},{"$f":"IF(B3145=\"\",\"\",LOOKUP(B3145,Spiele!B:B,Spiele!D:D))","v":""},{"$f":"IF(B3145=\"\",\"\",LOOKUP(B3145,Spiele!B:B,Spiele!E:E))","v":""},{"$f":"IF(B3145=\"\",\"\",LOOKUP(B3145,Spiele!B:B,Spiele!F:F))","v":""},"","","",null,null,-1,-1,1,0]
[null,null,{"$f":"IF(B3151=\"\",\"\",LOOKUP(B3151,Spiele!B:B,Spiele!C:C))","v":""},{"$f":"IF(B3151=\"\",\"\",LOOKUP(B3151,Spiele!B:B,Spiele!D:D))","v":""},{"$f":"IF(B3151=\"\",\"\",LOOKUP(B3151,Spiele!B:B,Spiele!E:E))","v":""},{"$f":"IF(B3151=\"\",\"\",LOOKUP(B3151,Spiele!B:B,Spiele!F:F))","v":""},"","","",null,null,-1,-1,1,0]
[null,null,{"$f":"IF(B3152=\"\",\"\",LOOKUP(B3152,Spiele!B:B,Spiele!C:C))","v":""},{"$f":"IF(B3152=\"\",\"\",LOOKUP(B3152,Spiele!B:B,Spiele!D:D))","v":""},{"$f":"IF(B3152=\"\",\"\",LOOKUP(B3152,Spiele!B:B,Spiele!E:E))","v":""},{"$f":"IF(B3152=\"\",\"\",LOOKUP(B3152,Spiele!B:B,Spiele!F:F))","v":""},"","","",null,null,-1,-1,1,0]
[null,null,{"$f":"IF(B3157=\"\",\"\",LOOKUP(B3157,Spiele!B:B,Spiele!C:C))","v":""},{"$f":"IF(B3157=\"\",\"\",LOOKUP(B3157,Spiele!B:B,Spiele!D:D))","v":""},{"$f":"IF(B3157=\"\",\"\",LOOKUP(B3157,Spiele!B:B,Spiele!E:E))","v":""},{"$f":"IF(B3157=\"\",\"\",LOOKUP(B3157,Spiele!B:B,Spiele!F:F))","v":""},"","","",null,null,-1,-1,1,0]
[null,null,{"$f":"IF(B3162=\"\",\"\",LOOKUP(B3162,Spiele!B:B,Spiele!C:C))","v":""},{"$f":"IF(B3162=\"\",\"\",LOOKUP(B3162,Spiele!B:B,Spiele!D:D))","v":""},{"$f":"IF(B3162=\"\",\"\",LOOKUP(B3162,Spiele!B:B,Spiele!E:E))","v":""},{"$f":"IF(B3162=\"\",\"\",LOOKUP(B3162,Spiele!B:B,Spiele!F:F))","v":""},"","","",null,null,-1,-1,1,0]
[null,null,{"$f":"IF(B3166=\"\",\"\",LOOKUP(B3166,Spiele!B:B,Spiele!C:C))","v":""},{"$f":"IF(B3166=\"\",\"\",LOOKUP(B3166,Spiele!B:B,Spiele!D:D))","v":""},{"$f":"IF(B3166=\"\",\"\",LOOKUP(B3166,Spiele!B:B,Spiele!E:E))","v":""},{"$f":"IF(B3166=\"\",\"\",LOOKUP(B3166,Spiele!B:B,Spiele!F:F))","v":""},"","","",null,null,-1,-1,1,0]
[null,null,{"$f":"IF(B3167=\"\",\"\",LOOKUP(B3167,Spiele!B:B,Spiele!C:C))","v":""},{"$f":"IF(B3167=\"\",\"\",LOOKUP(B3167,Spiele!B:B,Spiele!D:D))","v":""},{"$f":"IF(B3167=\"\",\"\",LOOKUP(B3167,Spiele!B:B,Spiele!E:E))","v":""},{"$f":"IF(B3167=\"\",\"\",LOOKUP(B3167,Spiele!B:B,Spiele!F:F))","v":""},"","","",null,null,-1,-1,1,0]
[null,null,{"$f":"IF(B3172=\"\",\"\",LOOKUP(B3172,Spiele!B:B,Spiele!C:C))","v":""},{"$f":"IF(B3172=\"\",\"\",LOOKUP(B3172,Spiele!B:B,Spiele!D:D))","v":""},{"$f":"IF(B3172=\"\",\"\",LOOKUP(B3172,Spiele!B:B,Spiele!E:E))","v":""},{"$f":"IF(B3172=\"\",\"\",LOOKUP(B3172,Spiele!B:B,Spiele!F:F))","v":""},"","","",null,null,-1,-1,1,0]
[null,null,{"$f":"IF(B3175=\"\",\"\",LOOKUP(B3175,Spiele!B:B,Spiele!C:C))","v":""},{"$f":"IF(B3175=\"\",\"\",LOOKUP(B3175,Spiele!B:B,Spiele!D:D))","v":""},{"$f":"IF(B3175=\"\",\"\",LOOKUP(B3175,Spiele!B:B,Spiele!E:E))","v":""},{"$f":"IF(B3175=\"\",\"\",LOOKUP(B3175,Spiele!B:B,Spiele!F:F))","v":""},"","","",null,null,-1,-1,1,0]
[null,null,{"$f":"IF(B3181=\"\",\"\",LOOKUP(B3181,Spiele!B:B,Spiele!C:C))","v":""},{"$f":"IF(B3181=\"\",\"\",LOOKUP(B3181,Spiele!B:B,Spiele!D:D))","v":""},{"$f":"IF(B3181=\"\",\"\",LOOKUP(B3181,Spiele!B:B,Spiele!E:E))","v":""},{"$f":"IF(B3181=\"\",\"\",LOOKUP(B3181,Spiele!B:B,Spiele!F:F))","v":""},"","","",null,null,-1,-1,1,0]
[null,null,{"$f":"IF(B3182=\"\",\"\",LOOKUP(B3182,Spiele!B:B,Spiele!C:C))","v":""},{"$f":"IF(B3182=\"\",\"\",LOOKUP(B3182,Spiele!B:B,Spiele!D:D))","v":""},{"$f":"IF(B3182=\"\",\"\",LOOKUP(B3182,Spiele!B:B,Spiele!E:E))","v":""},{"$f":"IF(B3182=\"\",\"\",LOOKUP(B3182,Spiele!B:B,Spiele!F:F))","v":""},"","","",null,null,-1,-1,1,0]
[null,null,{"$f":"IF(B3187=\"\",\"\",LOOKUP(B3187,Spiele!B:B,Spiele!C:C))","v":""},{"$f":"IF(B3187=\"\",\"\",LOOKUP(B3187,Spiele!B:B,Spiele!D:D))","v":""},{"$f":"IF(B3187=\"\",\"\",LOOKUP(B3187,Spiele!B:B,Spiele!E:E))","v":""},{"$f":"IF(B3187=\"\",\"\",LOOKUP(B3187,Spiele!B:B,Spiele!F:F))","v":""},"","","",null,null,-1,-1,1,0]
[null,null,{"$f":"IF(B3192=\"\",\"\",LOOKUP(B3192,Spiele!B:B,Spiele!C:C))","v":""},{"$f":"IF(B3192=\"\",\"\",LOOKUP(B3192,Spiele!B:B,Spiele!D:D))","v":""},{"$f":"IF(B3192=\"\",\"\",LOOKUP(B3192,Spiele!B:B,Spiele!E:E))","v":""},{"$f":"IF(B3192=\"\",\"\",LOOKUP(B3192,Spiele!B:B,Spiele!F:F))","v":""},{"$f":"IF(E3192=\"\",\"\",IF(E3192>F3192,1,0))","v":""},{"$f":"IF(F3192=\"\",\"\",IF(E3192<F3192,1,0))","v":""},{"$f":"IF(E3192=\"\",\"\",IF(E3192=F3192,1,0))","v":""},null,null,{"$f":"IF(E3192=\"\",-1,IF(J3192>K3192,1,-1))","v":-1},{"$f":"IF(F3192=\"\",-1,IF(J3192<K3192,1,-1))","v":-1},{"$f":"IF(E3192=\"-\",-1,IF(J3192=K3192,1,-1))","v":1},{"$f":"IF(E3192=\"\",0,IF(E3192=J3192,1,0)+IF(F3192=K3192,1,0)+IF(G3192=L3192,1,0)+IF(H3192=M3192,1,0)+IF(I3192=N3192,1,0))","v":0}]
[null,null,{"$f":"IF(B3196=\"\",\"\",LOOKUP(B3196,Spiele!B:B,Spiele!C:C))","v":""},{"$f":"IF(B3196=\"\",\"\",LOOKUP(B3196,Spiele!B:B,Spiele!D:D))","v":""},{"$f":"IF(B3196=\"\",\"\",LOOKUP(B3196,Spiele!B:B,Spiele!E:E))","v":""},{"$f":"IF(B3196=\"\",\"\",LOOKUP(B3196,Spiele!B:B,Spiele!F:F))","v":""},"","","",null,null,-1,-1,1,0]
[null,null,{"$f":"IF(B3197=\"\",\"\",LOOKUP(B3197,Spiele!B:B,Spiele!C:C))","v":""},{"$f":"IF(B3197=\"\",\"\",LOOKUP(B3197,Spiele!B:B,Spiele!D:D))","v":""},{"$f":"IF(B3197=\"\",\"\",LOOKUP(B3197,Spiele!B:B,Spiele!E:E))","v":""},{"$f":"IF(B3197=\"\",\"\",LOOKUP(B3197,Spiele!B:B,Spiele!F:F))","v":""},"","","",null,null,-1,-1,1,0]
[null,null,{"$f":"IF(B3202=\"\",\"\",LOOKUP(B3202,Spiele!B:B,Spiele!C:C))","v":""},{"$f":"IF(B3202=\"\",\"\",LOOKUP(B3202,Spiele!B:B,Spiele!D:D))","v":""},{"$f":"IF(B3202=\"\",\"\",LOOKUP(B3202,Spiele!B:B,Spiele!E:E))","v":""},{"$f":"IF(B3202=\"\",\"\",LOOKUP(B3202,Spiele!B:B,Spiele!F:F))","v":""},"","","",null,null,-1,-1,1,0]
[null,null,{"$f":"IF(B3205=\"\",\"\",LOOKUP(B3205,Spiele!B:B,Spiele!C:C))","v":""},{"$f":"IF(B3205=\"\",\"\",LOOKUP(B3205,Spiele!B:B,Spiele!D:D))","v":""},{"$f":"IF(B3205=\"\",\"\",LOOKUP(B3205,Spiele!B:B,Spiele!E:E))","v":""},{"$f":"IF(B3205=\"\",\"\",LOOKUP(B3205,Spiele!B:B,Spiele!F:F))","v":""},"","","",null,null,-1,-1,1,0]
[null,null,{"$f":"IF(B3211=\"\",\"\",LOOKUP(B3211,Spiele!B:B,Spiele!C:C))","v":""},{"$f":"IF(B3211=\"\",\"\",LOOKUP(B3211,Spiele!B:B,Spiele!D:D))","v":""},{"$f":"IF(B3211=\"\",\"\",LOOKUP(B3211,Spiele!B:B,Spiele!E:E))","v":""},{"$f":"IF(B3211=\"\",\"\",LOOKUP(B3211,Spiele!B:B,Spiele!F:F))","v":""},"","","",null,null,-1,-1,1,0]
[null,null,{"$f":"IF(B3212=\"\",\"\",LOOKUP(B3212,Spiele!B:B,Spiele!C:C))","v":""},{"$f":"IF(B3212=\"\",\"\",LOOKUP(B3212,Spiele!B:B,Spiele!D:D))","v":""},{"$f":"IF(B3212=\"\",\"\",LOOKUP(B3212,Spiele!B:B,Spiele!E:E))","v":""},{"$f":"IF(B3212=\"\",\"\",LOOKUP(B3212,Spiele!B:B,Spiele!F:F))","v":""},"","","",null,null,-1,-1,1,0]
[null,null,{"$f":"IF(B3217=\"\",\"\",LOOKUP(B3217,Spiele!B:B,Spiele!C:C))","v":""},{"$f":"IF(B3217=\"\",\"\",LOOKUP(B3217,Spiele!B:B,Spiele!D:D))","v":""},{"$f":"IF(B3217=\"\",\"\",LOOKUP(B3217,Spiele!B:B,Spiele!E:E))","v":""},{"$f":"IF(B3217=\"\",\"\",LOOKUP(B3217,Spiele!B:B,Spiele!F:F))","v":""},"","","",null,null,-1,-1,1,0]
[null,null,{"$f":"IF(B3222=\"\",\"\",LOOKUP(B3222,Spiele!B:B,Spiele!C:C))","v":""},{"$f":"IF(B3222=\"\",\"\",LOOKUP(B3222,Spiele!B:B,Spiele!D:D))","v":""},{"$f":"IF(B3222=\"\",\"\",LOOKUP(B3222,Spiele!B:B,Spiele!E:E))","v":""},{"$f":"IF(B3222=\"\",\"\",LOOKUP(B3222,Spiele!B:B,Spiele!F:F))","v":""},"","","",null,null,-1,-1,1,0]
[null,null,{"$f":"IF(B3226=\"\",\"\",LOOKUP(B3226,Spiele!B:B,Spiele!C:C))","v":""},{"$f":"IF(B3226=\"\",\"\",LOOKUP(B3226,Spiele!B:B,Spiele!D:D))","v":""},{"$f":"IF(B3226=\"\",\"\",LOOKUP(B3226,Spiele!B:B,Spiele!E:E))","v":""},{"$f":"IF(B3226=\"\",\"\",LOOKUP(B3226,Spiele!B:B,Spiele!F:F))","v":""},"","","",null,null,-1,-1,1,0]
[null,null,{"$f":"IF(B3227=\"\",\"\",LOOKUP(B3227,Spiele!B:B,Spiele!C:C))","v":""},{"$f":"IF(B3227=\"\",\"\",LOOKUP(B3227,Spiele!B:B,Spiele!D:D))","v":""},{"$f":"IF(B3227=\"\",\"\",LOOKUP(B3227,Spiele!B:B,Spiele!E:E))","v":""},{"$f":"IF(B3227=\"\",\"\",LOOKUP(B3227,Spiele!B:B,Spiele!F:F))","v":""},"","","",null,null,-1,-1,1,0]
[null,null,{"$f":"IF(B3232=\"\",\"\",LOOKUP(B3232,Spiele!B:B,Spiele!C:C))","v":""},{"$f":"IF(B3232=\"\",\"\",LOOKUP(B3232,Spiele!B:B,Spiele!D:D))","v":""},{"$f":"IF(B3232=\"\",\"\",LOOKUP(B3232,Spiele!B:B,Spiele!E:E))","v":""},{"$f":"IF(B3232=\"\",\"\",LOOKUP(B3232,Spiele!B:B,Spiele!F:F))","v":""},"","","",null,null,-1,-1,1,0]
[null,null,{"$f":"IF(B3235=\"\",\"\",LOOKUP(B3235,Spiele!B:B,Spiele!C:C))","v":""},{"$f":"IF(B3235=\"\",\"\",LOOKUP(B3235,Spiele!B:B,Spiele!D:D))","v":""},{"$f":"IF(B3235=\"\",\"\",LOOKUP(B3235,Spiele!B:B,Spiele!E:E))","v":""},{"$f":"IF(B3235=\"\",\"\",LOOKUP(B3235,Spiele!B:B,Spiele!F:F))","v":""},"","","",null,null,-1,-1,1,0]
[null,null,{"$f":"IF(B3241=\"\",\"\",LOOKUP(B3241,Spiele!B:B,Spiele!C:C))","v":""},{"$f":"IF(B3241=\"\",\"\",LOOKUP(B3241,Spiele!B:B,Spiele!D:D))","v":""},{"$f":"IF(B3241=\"\",\"\",LOOKUP(B3241,Spiele!B:B,Spiele!E:E))","v":""},{"$f":"IF(B3241=\"\",\"\",LOOKUP(B3241,Spiele!B:B,Spiele!F:F))","v":""},"","","",null,null,-1,-1,1,0]
[null,null,{"$f":"IF(B3242=\"\",\"\",LOOKUP(B3242,Spiele!B:B,Spiele!C:C))","v":""},{"$f":"IF(B3242=\"\",\"\",LOOKUP(B3242,Spiele!B:B,Spiele!D:D))","v":""},{"$f":"IF(B3242=\"\",\"\",LOOKUP(B3242,Spiele!B:B,Spiele!E:E))","v":""},{"$f":"IF(B3242=\"\",\"\",LOOKUP(B3242,Spiele!B:B,Spiele!F:F))","v":""},"","","",null,null,-1,-1,1,0]
[null,null,{"$f":"IF(B3247=\"\",\"\",LOOKUP(B3247,Spiele!B:B,Spiele!C:C))","v":""},{"$f":"IF(B3247=\"\",\"\",LOOKUP(B3247,Spiele!B:B,Spiele!D:D))","v":""},{"$f":"IF(B3247=\"\",\"\",LOOKUP(B3247,Spiele!B:B,Spiele!E:E))","v":""},{"$f":"IF(B3247=\"\",\"\",LOOKUP(B3247,Spiele!B:B,Spiele!F:F))","v":""},"","","",null,null,-1,-1,1,0]
[null,null,{"$f":"IF(B3252=\"\",\"\",LOOKUP(B3252,Spiele!B:B,Spiele!C:C))","v":""},{"$f":"IF(B3252=\"\",\"\",LOOKUP(B3252,Spiele!B:B,Spiele!D:D))","v":""},{"$f":"IF(B3252=\"\",\"\",LOOKUP(B3252,Spiele!B:B,Spiele!E:E))","v":""},{"$f":"IF(B3252=\"\",\"\",LOOKUP(B3252,Spiele!B:B,Spiele!F:F))","v":""},"","","",null,null,-1,-1,1,0]
[null,null,{"$f":"IF(B3256=\"\",\"\",LOOKUP(B3256,Spiele!B:B,Spiele!C:C))","v":""},{"$f":"IF(B3256=\"\",\"\",LOOKUP(B3256,Spiele!B:B,Spiele!D:D))","v":""},{"$f":"IF(B3256=\"\",\"\",LOOKUP(B3256,Spiele!B:B,Spiele!E:E))","v":""},{"$f":"IF(B3256=\"\",\"\",LOOKUP(B3256,Spiele!B:B,Spiele!F:F))","v":""},{"$f":"IF(E3256=\"\",\"\",IF(E3256>F3256,1,0))","v":""},{"$f":"IF(F3256=\"\",\"\",IF(E3256<F3256,1,0))","v":""},{"$f":"IF(E3256=\"\",\"\",IF(E3256=F3256,1,0))","v":""},null,null,{"$f":"IF(E3256=\"\",-1,IF(J3256>K3256,1,-1))","v":-1},{"$f":"IF(F3256=\"\",-1,IF(J3256<K3256,1,-1))","v":-1},{"$f":"IF(E3256=\"-\",-1,IF(J3256=K3256,1,-1))","v":1},{"$f":"IF(E3256=\"\",0,IF(E3256=J3256,1,0)+IF(F3256=K3256,1,0)+IF(G3256=L3256,1,0)+IF(H3256=M3256,1,0)+IF(I3256=N3256,1,0))","v":0}]
[null,null,{"$f":"IF(B3257=\"\",\"\",LOOKUP(B3257,Spiele!B:B,Spiele!C:C))","v":""},{"$f":"IF(B3257=\"\",\"\",LOOKUP(B3257,Spiele!B:B,Spiele!D:D))","v":""},{"$f":"IF(B3257=\"\",\"\",LOOKUP(B3257,Spiele!B:B,Spiele!E:E))","v":""},{"$f":"IF(B3257=\"\",\"\",LOOKUP(B3257,Spiele!B:B,Spiele!F:F))","v":""},"","","",null,null,-1,-1,1,0]
[null,null,{"$f":"IF(B3262=\"\",\"\",LOOKUP(B3262,Spiele!B:B,Spiele!C:C))","v":""},{"$f":"IF(B3262=\"\",\"\",LOOKUP(B3262,Spiele!B:B,Spiele!D:D))","v":""},{"$f":"IF(B3262=\"\",\"\",LOOKUP(B3262,Spiele!B:B,Spiele!E:E))","v":""},{"$f":"IF(B3262=\"\",\"\",LOOKUP(B3262,Spiele!B:B,Spiele!F:F))","v":""},"","","",null,null,-1,-1,1,0]
[null,null,{"$f":"IF(B3265=\"\",\"\",LOOKUP(B3265,Spiele!B:B,Spiele!C:C))","v":""},{"$f":"IF(B3265=\"\",\"\",LOOKUP(B3265,Spiele!B:B,Spiele!D:D))","v":""},{"$f":"IF(B3265=\"\",\"\",LOOKUP(B3265,Spiele!B:B,Spiele!E:E))","v":""},{"$f":"IF(B3265=\"\",\"\",LOOKUP(B3265,Spiele!B:B,Spiele!F:F))","v":""},"","","",null,null,-1,-1,1,0]
[null,null,{"$f":"IF(B3271=\"\",\"\",LOOKUP(B3271,Spiele!B:B,Spiele!C:C))","v":""},{"$f":"IF(B3271=\"\",\"\",LOOKUP(B3271,Spiele!B:B,Spiele!D:D))","v":""},{"$f":"IF(B3271=\"\",\"\",LOOKUP(B3271,Spiele!B:B,Spiele!E:E))","v":""},{"$f":"IF(B3271=\"\",\"\",LOOKUP(B3271,Spiele!B:B,Spiele!F:F))","v":""},"","","",null,null,-1,-1,1,0]
[null,null,{"$f":"IF(B3272=\"\",\"\",LOOKUP(B3272,Spiele!B:B,Spiele!C:C))","v":""},{"$f":"IF(B3272=\"\",\"\",LOOKUP(B3272,Spiele!B:B,Spiele!D:D))","v":""},{"$f":"IF(B3272=\"\",\"\",LOOKUP(B3272,Spiele!B:B,Spiele!E:E))","v":""},{"$f":"IF(B3272=\"\",\"\",LOOKUP(B3272,Spiele!B:B,Spiele!F:F))","v":""},"","","",null,null,-1,-1,1,0]
[null,null,{"$f":"IF(B3277=\"\",\"\",LOOKUP(B3277,Spiele!B:B,Spiele!C:C))","v":""},{"$f":"IF(B3277=\"\",\"\",LOOKUP(B3277,Spiele!B:B,Spiele!D:D))","v":""},{"$f":"IF(B3277=\"\",\"\",LOOKUP(B3277,Spiele!B:B,Spiele!E:E))","v":""},{"$f":"IF(B3277=\"\",\"\",LOOKUP(B3277,Spiele!B:B,Spiele!F:F))","v":""},"","","",null,null,-1,-1,1,0]
[null,null,{"$f":"IF(B3282=\"\",\"\",LOOKUP(B3282,Spiele!B:B,Spiele!C:C))","v":""},{"$f":"IF(B3282=\"\",\"\",LOOKUP(B3282,Spiele!B:B,Spiele!D:D))","v":""},{"$f":"IF(B3282=\"\",\"\",LOOKUP(B3282,Spiele!B:B,Spiele!E:E))","v":""},{"$f":"IF(B3282=\"\",\"\",LOOKUP(B3282,Spiele!B:B,Spiele!F:F))","v":""},"","","",null,null,-1,-1,1,0]
[null,null,{"$f":"IF(B3286=\"\",\"\",LOOKUP(B3286,Spiele!B:B,Spiele!C:C))","v":""},{"$f":"IF(B3286=\"\",\"\",LOOKUP(B3286,Spiele!B:B,Spiele!D:D))","v":""},{"$f":"IF(B3286=\"\",\"\",LOOKUP(B3286,Spiele!B:B,Spiele!E:E))","v":""},{"$f":"IF(B3286=\"\",\"\",LOOKUP(B3286,Spiele!B:B,Spiele!F:F))","v":""},"","","",null,null,-1,-1,1,0]
[null,null,{"$f":"IF(B3287=\"\",\"\",LOOKUP(B3287,Spiele!B:B,Spiele!C:C))","v":""},{"$f":"IF(B3287=\"\",\"\",LOOKUP(B3287,Spiele!B:B,Spiele!D:D))","v":""},{"$f":"IF(B3287=\"\",\"\",LOOKUP(B3287,Spiele!B:B,Spiele!E:E))","v":""},{"$f":"IF(B3287=\"\",\"\",LOOKUP(B3287,Spiele!B:B,Spiele!F:F))","v":""},"","","",null,null,-1,-1,1,0]
[null,null,{"$f":"IF(B3292=\"\",\"\",LOOKUP(B3292,Spiele!B:B,Spiele!C:C))","v":""},{"$f":"IF(B3292=\"\",\"\",LOOKUP(B3292,Spiele!B:B,Spiele!D:D))","v":""},{"$f":"IF(B3292=\"\",\"\",LOOKUP(B3292,Spiele!B:B,Spiele!E:E))","v":""},{"$f":"IF(B3292=\"\",\"\",LOOKUP(B3292,Spiele!B:B,Spiele!F:F))","v":""},"","","",null,null,-1,-1,1,0]
[null,null,{"$f":"IF(B3295=\"\",\"\",LOOKUP(B3295,Spiele!B:B,Spiele!C:C))","v":""},{"$f":"IF(B3295=\"\",\"\",LOOKUP(B3295,Spiele!B:B,Spiele!D:D))","v":""},{"$f":"IF(B3295=\"\",\"\",LOOKUP(B3295,Spiele!B:B,Spiele!E:E))","v":""},{"$f":"IF(B3295=\"\",\"\",LOOKUP(B3295,Spiele!B:B,Spiele!F:F))","v":""},"","","",null,null,-1,-1,1,0]
[null,null,{"$f":"IF(B3301=\"\",\"\",LOOKUP(B3301,Spiele!B:B,Spiele!C:C))","v":""},{"$f":"IF(B3301=\"\",\"\",LOOKUP(B3301,Spiele!B:B,Spiele!D:D))","v":""},{"$f":"IF(B3301=\"\",\"\",LOOKUP(B3301,Spiele!B:B,Spiele!E:E))","v":""},{"$f":"IF(B3301=\"\",\"\",LOOKUP(B3301,Spiele!B:B,Spiele!F:F))","v":""},"","","",null,null,-1,-1,1,0]
[null,null,{"$f":"IF(B3302=\"\",\"\",LOOKUP(B3302,Spiele!B:B,Spiele!C:C))","v":""},{"$f":"IF(B3302=\"\",\"\",LOOKUP(B3302,Spiele!B:B,Spiele!D:D))","v":""},{"$f":"IF(B3302=\"\",\"\",LOOKUP(B3302,Spiele!B:B,Spiele!E:E))","v":""},{"$f":"IF(B3302=\"\",\"\",LOOKUP(B3302,Spiele!B:B,Spiele!F:F))","v":""},"","","",null,null,-1,-1,1,0]
[null,null,{"$f":"IF(B3307=\"\",\"\",LOOKUP(B3307,Spiele!B:B,Spiele!C:C))","v":""},{"$f":"IF(B3307=\"\",\"\",LOOKUP(B3307,Spiele!B:B,Spiele!D:D))","v":""},{"$f":"IF(B3307=\"\",\"\",LOOKUP(B3307,Spiele!B:B,Spiele!E:E))","v":""},{"$f":"IF(B3307=\"\",\"\",LOOKUP(B3307,Spiele!B:B,Spiele!F:F))","v":""},"","","",null,null,-1,-1,1,0]
[null,null,{"$f":"IF(B3312=\"\",\"\",LOOKUP(B3312,Spiele!B:B,Spiele!C:C))","v":""},{"$f":"IF(B3312=\"\",\"\",LOOKUP(B3312,Spiele!B:B,Spiele!D:D))","v":""},{"$f":"IF(B3312=\"\",\"\",LOOKUP(B3312,Spiele!B:B,Spiele!E:E))","v":""},{"$f":"IF(B3312=\"\",\"\",LOOKUP(B3312,Spiele!B:B,Spiele!F:F))","v":""},"","","",null,null,-1,-1,1,0]
[null,null,{"$f":"IF(B3316=\"\",\"\",LOOKUP(B3316,Spiele!B:B,Spiele!C:C))","v":""},{"$f":"IF(B3316=\"\",\"\",LOOKUP(B3316,Spiele!B:B,Spiele!D:D))","v":""},{"$f":"IF(B3316=\"\",\"\",LOOKUP(B3316,Spiele!B:B,Spiele!E:E))","v":""},{"$f":"IF(B3316=\"\",\"\",LOOKUP(B3316,Spiele!B:B,Spiele!F:F))","v":""},"","","",null,null,-1,-1,1,0]
[null,null,{"$f":"IF(B3317=\"\",\"\",LOOKUP(B3317,Spiele!B:B,Spiele!C:C))","v":""},{"$f":"IF(B3317=\"\",\"\",LOOKUP(B3317,Spiele!B:B,Spiele!D:D))","v":""},{"$f":"IF(B3317=\"\",\"\",LOOKUP(B3317,Spiele!B:B,Spiele!E:E))","v":""},{"$f":"IF(B3317=\"\",\"\",LOOKUP(B3317,Spiele!B:B,Spiele!F:F))","v":""},"","","",null,null,-1,-1,1,0]
[null,null,{"$f":"IF(B3322=\"\",\"\",LOOKUP(B3322,Spiele!B:B,Spiele!C:C))","v":""},{"$f":"IF(B3322=\"\",\"\",LOOKUP(B3322,Spiele!B:B,Spiele!D:D))","v":""},{"$f":"IF(B3322=\"\",\"\",LOOKUP(B3322,Spiele!B:B,Spiele!E:E))","v":""},{"$f":"IF(B3322=\"\",\"\",LOOKUP(B3322,Spiele!B:B,Spiele!F:F))","v":""},"","","",null,null,-1,-1,1,0]
[null,null,{"$f":"IF(B3325=\"\",\"\",LOOKUP(B3325,Spiele!B:B,Spiele!C:C))","v":""},{"$f":"IF(B3325=\"\",\"\",LOOKUP(B3325,Spiele!B:B,Spiele!D:D))","v":""},{"$f":"IF(B3325=\"\",\"\",LOOKUP(B3325,Spiele!B:B,Spiele!E:E))","v":""},{"$f":"IF(B3325=\"\",\"\",LOOKUP(B3325,Spiele!B:B,Spiele!F:F))","v":""},"","","",null,null,-1,-1,1,0]
[null,null,{"$f":"IF(B3331=\"\",\"\",LOOKUP(B3331,Spiele!B:B,Spiele!C:C))","v":""},{"$f":"IF(B3331=\"\",\"\",LOOKUP(B3331,Spiele!B:B,Spiele!D:D))","v":""},{"$f":"IF(B3331=\"\",\"\",LOOKUP(B3331,Spiele!B:B,Spiele!E:E))","v":""},{"$f":"IF(B3331=\"\",\"\",LOOKUP(B3331,Spiele!B:B,Spiele!F:F))","v":""},"","","",null,null,-1,-1,1,0]
[null,null,{"$f":"IF(B3332=\"\",\"\",LOOKUP(B3332,Spiele!B:B,Spiele!C:C))","v":""},{"$f":"IF(B3332=\"\",\"\",LOOKUP(B3332,Spiele!B:B,Spiele!D:D))","v":""},{"$f":"IF(B3332=\"\",\"\",LOOKUP(B3332,Spiele!B:B,Spiele!E:E))","v":""},{"$f":"IF(B3332=\"\",\"\",LOOKUP(B3332,Spiele!B:B,Spiele!F:F))","v":""},"","","",null,null,-1,-1,1,0]
[null,null,{"$f":"IF(B3337=\"\",\"\",LOOKUP(B3337,Spiele!B:B,Spiele!C:C))","v":""},{"$f":"IF(B3337=\"\",\"\",LOOKUP(B3337,Spiele!B:B,Spiele!D:D))","v":""},{"$f":"IF(B3337=\"\",\"\",LOOKUP(B3337,Spiele!B:B,Spiele!E:E))","v":""},{"$f":"IF(B3337=\"\",\"\",LOOKUP(B3337,Spiele!B:B,Spiele!F:F))","v":""},"","","",null,null,-1,-1,1,0]
[null,null,{"$f":"IF(B3342=\"\",\"\",LOOKUP(B3342,Spiele!B:B,Spiele!C:C))","v":""},{"$f":"IF(B3342=\"\",\"\",LOOKUP(B3342,Spiele!B:B,Spiele!D:D))","v":""},{"$f":"IF(B3342=\"\",\"\",LOOKUP(B3342,Spiele!B:B,Spiele!E:E))","v":""},{"$f":"IF(B3342=\"\",\"\",LOOKUP(B3342,Spiele!B:B,Spiele!F:F))","v":""},"","","",null,null,-1,-1,1,0]
[null,null,{"$f":"IF(B3346=\"\",\"\",LOOKUP(B3346,Spiele!B:B,Spiele!C:C))","v":""},{"$f":"IF(B3346=\"\",\"\",LOOKUP(B3346,Spiele!B:B,Spiele!D:D))","v":""},{"$f":"IF(B3346=\"\",\"\",LOOKUP(B3346,Spiele!B:B,Spiele!E:E))","v":""},{"$f":"IF(B3346=\"\",\"\",LOOKUP(B3346,Spiele!B:B,Spiele!F:F))","v":""},"","","",null,null,-1,-1,1,0]
[null,null,{"$f":"IF(B3347=\"\",\"\",LOOKUP(B3347,Spiele!B:B,Spiele!C:C))","v":""},{"$f":"IF(B3347=\"\",\"\",LOOKUP(B3347,Spiele!B:B,Spiele!D:D))","v":""},{"$f":"IF(B3347=\"\",\"\",LOOKUP(B3347,Spiele!B:B,Spiele!E:E))","v":""},{"$f":"IF(B3347=\"\",\"\",LOOKUP(B3347,Spiele!B:B,Spiele!F:F))","v":""},"","","",null,null,-1,-1,1,0]
[null,null,{"$f":"IF(B3352=\"\",\"\",LOOKUP(B3352,Spiele!B:B,Spiele!C:C))","v":""},{"$f":"IF(B3352=\"\",\"\",LOOKUP(B3352,Spiele!B:B,Spiele!D:D))","v":""},{"$f":"IF(B3352=\"\",\"\",LOOKUP(B3352,Spiele!B:B,Spiele!E:E))","v":""},{"$f":"IF(B3352=\"\",\"\",LOOKUP(B3352,Spiele!B:B,Spiele!F:F))","v":""},"","","",null,null,-1,-1,1,0]
[null,null,{"$f":"IF(B3355=\"\",\"\",LOOKUP(B3355,Spiele!B:B,Spiele!C:C))","v":""},{"$f":"IF(B3355=\"\",\"\",LOOKUP(B3355,Spiele!B:B,Spiele!D:D))","v":""},{"$f":"IF(B3355=\"\",\"\",LOOKUP(B3355,Spiele!B:B,Spiele!E:E))","v":""},{"$f":"IF(B3355=\"\",\"\",LOOKUP(B3355,Spiele!B:B,Spiele!F:F))","v":""},"","","",null,null,-1,-1,1,0]
[null,null,{"$f":"IF(B3361=\"\",\"\",LOOKUP(B3361,Spiele!B:B,Spiele!C:C))","v":""},{"$f":"IF(B3361=\"\",\"\",LOOKUP(B3361,Spiele!B:B,Spiele!D:D))","v":""},{"$f":"IF(B3361=\"\",\"\",LOOKUP(B3361,Spiele!B:B,Spiele!E:E))","v":""},{"$f":"IF(B3361=\"\",\"\",LOOKUP(B3361,Spiele!B:B,Spiele!F:F))","v":""},"","","",null,null,-1,-1,1,0]
[null,null,{"$f":"IF(B3362=\"\",\"\",LOOKUP(B3362,Spiele!B:B,Spiele!C:C))","v":""},{"$f":"IF(B3362=\"\",\"\",LOOKUP(B3362,Spiele!B:B,Spiele!D:D))","v":""},{"$f":"IF(B3362=\"\",\"\",LOOKUP(B3362,Spiele!B:B,Spiele!E:E))","v":""},{"$f":"IF(B3362=\"\",\"\",LOOKUP(B3362,Spiele!B:B,Spiele!F:F))","v":""},"","","",null,null,-1,-1,1,0]
[null,null,{"$f":"IF(B3367=\"\",\"\",LOOKUP(B3367,Spiele!B:B,Spiele!C:C))","v":""},{"$f":"IF(B3367=\"\",\"\",LOOKUP(B3367,Spiele!B:B,Spiele!D:D))","v":""},{"$f":"IF(B3367=\"\",\"\",LOOKUP(B3367,Spiele!B:B,Spiele!E:E))","v":""},{"$f":"IF(B3367=\"\",\"\",LOOKUP(B3367,Spiele!B:B,Spiele!F:F))","v":""},"","","",null,null,-1,-1,1,0]
[null,null,{"$f":"IF(B3372=\"\",\"\",LOOKUP(B3372,Spiele!B:B,Spiele!C:C))","v":""},{"$f":"IF(B3372=\"\",\"\",LOOKUP(B3372,Spiele!B:B,Spiele!D:D))","v":""},{"$f":"IF(B3372=\"\",\"\",LOOKUP(B3372,Spiele!B:B,Spiele!E:E))","v":""},{"$f":"IF(B3372=\"\",\"\",LOOKUP(B3372,Spiele!B:B,Spiele!F:F))","v":""},"","","",null,null,-1,-1,1,0]
[null,null,{"$f":"IF(B3376=\"\",\"\",LOOKUP(B3376,Spiele!B:B,Spiele!C:C))","v":""},{"$f":"IF(B3376=\"\",\"\",LOOKUP(B3376,Spiele!B:B,Spiele!D:D))","v":""},{"$f":"IF(B3376=\"\",\"\",LOOKUP(B3376,Spiele!B:B,Spiele!E:E))","v":""},{"$f":"IF(B3376=\"\",\"\",LOOKUP(B3376,Spiele!B:B,Spiele!F:F))","v":""},"","","",null,null,-1,-1,1,0]
[null,null,{"$f":"IF(B3377=\"\",\"\",LOOKUP(B3377,Spiele!B:B,Spiele!C:C))","v":""},{"$f":"IF(B3377=\"\",\"\",LOOKUP(B3377,Spiele!B:B,Spiele!D:D))","v":""},{"$f":"IF(B3377=\"\",\"\",LOOKUP(B3377,Spiele!B:B,Spiele!E:E))","v":""},{"$f":"IF(B3377=\"\",\"\",LOOKUP(B3377,Spiele!B:B,Spiele!F:F))","v":""},"","","",null,null,-1,-1,1,0]
[null,null,{"$f":"IF(B3382=\"\",\"\",LOOKUP(B3382,Spiele!B:B,Spiele!C:C))","v":""},{"$f":"IF(B3382=\"\",\"\",LOOKUP(B3382,Spiele!B:B,Spiele!D:D))","v":""},{"$f":"IF(B3382=\"\",\"\",LOOKUP(B3382,Spiele!B:B,Spiele!E:E))","v":""},{"$f":"IF(B3382=\"\",\"\",LOOKUP(B3382,Spiele!B:B,Spiele!F:F))","v":""},"","","",null,null,-1,-1,1,0]
[null,null,{"$f":"IF(B3385=\"\",\"\",LOOKUP(B3385,Spiele!B:B,Spiele!C:C))","v":""},{"$f":"IF(B3385=\"\",\"\",LOOKUP(B3385,Spiele!B:B,Spiele!D:D))","v":""},{"$f":"IF(B3385=\"\",\"\",LOOKUP(B3385,Spiele!B:B,Spiele!E:E))","v":""},{"$f":"IF(B3385=\"\",\"\",LOOKUP(B3385,Spiele!B:B,Spiele!F:F))","v":""},"","","",null,null,-1,-1,1,0]
[null,null,{"$f":"IF(B3391=\"\",\"\",LOOKUP(B3391,Spiele!B:B,Spiele!C:C))","v":""},{"$f":"IF(B3391=\"\",\"\",LOOKUP(B3391,Spiele!B:B,Spiele!D:D))","v":""},{"$f":"IF(B3391=\"\",\"\",LOOKUP(B3391,Spiele!B:B,Spiele!E:E))","v":""},{"$f":"IF(B3391=\"\",\"\",LOOKUP(B3391,Spiele!B:B,Spiele!F:F))","v":""},"","","",null,null,-1,-1,1,0]
[null,null,{"$f":"IF(B3392=\"\",\"\",LOOKUP(B3392,Spiele!B:B,Spiele!C:C))","v":""},{"$f":"IF(B3392=\"\",\"\",LOOKUP(B3392,Spiele!B:B,Spiele!D:D))","v":""},{"$f":"IF(B3392=\"\",\"\",LOOKUP(B3392,Spiele!B:B,Spiele!E:E))","v":""},{"$f":"IF(B3392=\"\",\"\",LOOKUP(B3392,Spiele!B:B,Spiele!F:F))","v":""},"","","",null,null,-1,-1,1,0]
[null,null,{"$f":"IF(B3397=\"\",\"\",LOOKUP(B3397,Spiele!B:B,Spiele!C:C))","v":""},{"$f":"IF(B3397=\"\",\"\",LOOKUP(B3397,Spiele!B:B,Spiele!D:D))","v":""},{"$f":"IF(B3397=\"\",\"\",LOOKUP(B3397,Spiele!B:B,Spiele!E:E))","v":""},{"$f":"IF(B3397=\"\",\"\",LOOKUP(B3397,Spiele!B:B,Spiele!F:F))","v":""},"","","",null,null,-1,-1,1,0]
[null,null,{"$f":"IF(B3402=\"\",\"\",LOOKUP(B3402,Spiele!B:B,Spiele!C:C))","v":""},{"$f":"IF(B3402=\"\",\"\",LOOKUP(B3402,Spiele!B:B,Spiele!D:D))","v":""},{"$f":"IF(B3402=\"\",\"\",LOOKUP(B3402,Spiele!B:B,Spiele!E:E))","v":""},{"$f":"IF(B3402=\"\",\"\",LOOKUP(B3402,Spiele!B:B,Spiele!F:F))","v":""},"","","",null,null,-1,-1,1,0]
[null,null,{"$f":"IF(B3406=\"\",\"\",LOOKUP(B3406,Spiele!B:B,Spiele!C:C))","v":""},{"$f":"IF(B3406=\"\",\"\",LOOKUP(B3406,Spiele!B:B,Spiele!D:D))","v":""},{"$f":"IF(B3406=\"\",\"\",LOOKUP(B3406,Spiele!B:B,Spiele!E:E))","v":""},{"$f":"IF(B3406=\"\",\"\",LOOKUP(B3406,Spiele!B:B,Spiele!F:F))","v":""},"","","",null,null,-1,-1,1,0]
[null,null,{"$f":"IF(B3407=\"\",\"\",LOOKUP(B3407,Spiele!B:B,Spiele!C:C))","v":""},{"$f":"IF(B3407=\"\",\"\",LOOKUP(B3407,Spiele!B:B,Spiele!D:D))","v":""},{"$f":"IF(B3407=\"\",\"\",LOOKUP(B3407,Spiele!B:B,Spiele!E:E))","v":""},{"$f":"IF(B3407=\"\",\"\",LOOKUP(B3407,Spiele!B:B,Spiele!F:F))","v":""},"","","",null,null,-1,-1,1,0]
[null,null,{"$f":"IF(B3412=\"\",\"\",LOOKUP(B3412,Spiele!B:B,Spiele!C:C))","v":""},{"$f":"IF(B3412=\"\",\"\",LOOKUP(B3412,Spiele!B:B,Spiele!D:D))","v":""},{"$f":"IF(B3412=\"\",\"\",LOOKUP(B3412,Spiele!B:B,Spiele!E:E))","v":""},{"$f":"IF(B3412=\"\",\"\",LOOKUP(B3412,Spiele!B:B,Spiele!F:F))","v":""},"","","",null,null,-1,-1,1,0]
[null,null,{"$f":"IF(B3416=\"\",\"\",LOOKUP(B3416,Spiele!B:B,Spiele!C:C))","v":""},{"$f":"IF(B3416=\"\",\"\",LOOKUP(B3416,Spiele!B:B,Spiele!D:D))","v":""},{"$f":"IF(B3416=\"\",\"\",LOOKUP(B3416,Spiele!B:B,Spiele!E:E))","v":""},{"$f":"IF(B3416=\"\",\"\",LOOKUP(B3416,Spiele!B:B,Spiele!F:F))","v":""},"","","",null,null,-1,-1,1,0]
[null,null,{"$f":"IF(B3421=\"\",\"\",LOOKUP(B3421,Spiele!B:B,Spiele!C:C))","v":""},{"$f":"IF(B3421=\"\",\"\",LOOKUP(B3421,Spiele!B:B,Spiele!D:D))","v":""},{"$f":"IF(B3421=\"\",\"\",LOOKUP(B3421,Spiele!B:B,Spiele!E:E))","v":""},{"$f":"IF(B3421=\"\",\"\",LOOKUP(B3421,Spiele!B:B,Spiele!F:F))","v":""},"","","",null,null,-1,-1,1,0]
[null,null,{"$f":"IF(B3422=\"\",\"\",LOOKUP(B3422,Spiele!B:B,Spiele!C:C))","v":""},{"$f":"IF(B3422=\"\",\"\",LOOKUP(B3422,Spiele!B:B,Spiele!D:D))","v":""},{"$f":"IF(B3422=\"\",\"\",LOOKUP(B3422,Spiele!B:B,Spiele!E:E))","v":""},{"$f":"IF(B3422=\"\",\"\",LOOKUP(B3422,Spiele!B:B,Spiele!F:F))","v":""},"","","",null,null,-1,-1,1,0]
[null,null,{"$f":"IF(B3427=\"\",\"\",LOOKUP(B3427,Spiele!B:B,Spiele!C:C))","v":""},{"$f":"IF(B3427=\"\",\"\",LOOKUP(B3427,Spiele!B:B,Spiele!D:D))","v":""},{"$f":"IF(B3427=\"\",\"\",LOOKUP(B3427,Spiele!B:B,Spiele!E:E))","v":""},{"$f":"IF(B3427=\"\",\"\",LOOKUP(B3427,Spiele!B:B,Spiele!F:F))","v":""},"","","",null,null,-1,-1,1,0]
[null,null,{"$f":"IF(B3432=\"\",\"\",LOOKUP(B3432,Spiele!B:B,Spiele!C:C))","v":""},{"$f":"IF(B3432=\"\",\"\",LOOKUP(B3432,Spiele!B:B,Spiele!D:D))","v":""},{"$f":"IF(B3432=\"\",\"\",LOOKUP(B3432,Spiele!B:B,Spiele!E:E))","v":""},{"$f":"IF(B3432=\"\",\"\",LOOKUP(B3432,Spiele!B:B,Spiele!F:F))","v":""},"","","",null,null,-1,-1,1,0]
[null,null,{"$f":"IF(B3436=\"\",\"\",LOOKUP(B3436,Spiele!B:B,Spiele!C:C))","v":""},{"$f":"IF(B3436=\"\",\"\",LOOKUP(B3436,Spiele!B:B,Spiele!D:D))","v":""},{"$f":"IF(B3436=\"\",\"\",LOOKUP(B3436,Spiele!B:B,Spiele!E:E))","v":""},{"$f":"IF(B3436=\"\",\"\",LOOKUP(B3436,Spiele!B:B,Spiele!F:F))","v":""},"","","",null,null,-1,-1,1,0]
[null,null,{"$f":"IF(B3437=\"\",\"\",LOOKUP(B3437,Spiele!B:B,Spiele!C:C))","v":""},{"$f":"IF(B3437=\"\",\"\",LOOKUP(B3437,Spiele!B:B,Spiele!D:D))","v":""},{"$f":"IF(B3437=\"\",\"\",LOOKUP(B3437,Spiele!B:B,Spiele!E:E))","v":""},{"$f":"IF(B3437=\"\",\"\",LOOKUP(B3437,Spiele!B:B,Spiele!F:F))","v":""},"","","",null,null,-1,-1,1,0]
[null,null,{"$f":"IF(B3442=\"\",\"\",LOOKUP(B3442,Spiele!B:B,Spiele!C:C))","v":""},{"$f":"IF(B3442=\"\",\"\",LOOKUP(B3442,Spiele!B:B,Spiele!D:D))","v":""},{"$f":"IF(B3442=\"\",\"\",LOOKUP(B3442,Spiele!B:B,Spiele!E:E))","v":""},{"$f":"IF(B3442=\"\",\"\",LOOKUP(B3442,Spiele!B:B,Spiele!F:F))","v":""},"","","",null,null,-1,-1,1,0]
[null,null,{"$f":"IF(B3446=\"\",\"\",LOOKUP(B3446,Spiele!B:B,Spiele!C:C))","v":""},{"$f":"IF(B3446=\"\",\"\",LOOKUP(B3446,Spiele!B:B,Spiele!D:D))","v":""},{"$f":"IF(B3446=\"\",\"\",LOOKUP(B3446,Spiele!B:B,Spiele!E:E))","v":""},{"$f":"IF(B3446=\"\",\"\",LOOKUP(B3446,Spiele!B:B,Spiele!F:F))","v":""},"","","",null,null,-1,-1,1,0]
[null,null,{"$f":"IF(B3451=\"\",\"\",LOOKUP(B3451,Spiele!B:B,Spiele!C:C))","v":""},{"$f":"IF(B3451=\"\",\"\",LOOKUP(B3451,Spiele!B:B,Spiele!D:D))","v":""},{"$f":"IF(B3451=\"\",\"\",LOOKUP(B3451,Spiele!B:B,Spiele!E:E))","v":""},{"$f":"IF(B3451=\"\",\"\",LOOKUP(B3451,Spiele!B:B,Spiele!F:F))","v":""},"","","",null,null,-1,-1,1,0]
[null,null,{"$f":"IF(B3452=\"\",\"\",LOOKUP(B3452,Spiele!B:B,Spiele!C:C))","v":""},{"$f":"IF(B3452=\"\",\"\",LOOKUP(B3452,Spiele!B:B,Spiele!D:D))","v":""},{"$f":"IF(B3452=\"\",\"\",LOOKUP(B3452,Spiele!B:B,Spiele!E:E))","v":""},{"$f":"IF(B3452=\"\",\"\",LOOKUP(B3452,Spiele!B:B,Spiele!F:F))","v":""},"","","",null,null,-1,-1,1,0]
[null,null,{"$f":"IF(B3457=\"\",\"\",LOOKUP(B3457,Spiele!B:B,Spiele!C:C))","v":""},{"$f":"IF(B3457=\"\",\"\",LOOKUP(B3457,Spiele!B:B,Spiele!D:D))","v":""},{"$f":"IF(B3457=\"\",\"\",LOOKUP(B3457,Spiele!B:B,Spiele!E:E))","v":""},{"$f":"IF(B3457=\"\",\"\",LOOKUP(B3457,Spiele!B:B,Spiele!F:F))","v":""},"","","",null,null,-1,-1,1,0]
[null,null,{"$f":"IF(B3462=\"\",\"\",LOOKUP(B3462,Spiele!B:B,Spiele!C:C))","v":""},{"$f":"IF(B3462=\"\",\"\",LOOKUP(B3462,Spiele!B:B,Spiele!D:D))","v":""},{"$f":"IF(B3462=\"\",\"\",LOOKUP(B3462,Spiele!B:B,Spiele!E:E))","v":""},{"$f":"IF(B3462=\"\",\"\",LOOKUP(B3462,Spiele!B:B,Spiele!F:F))","v":""},"","","",null,null,-1,-1,1,0]
[null,null,{"$f":"IF(B3466=\"\",\"\",LOOKUP(B3466,Spiele!B:B,Spiele!C:C))","v":""},{"$f":"IF(B3466=\"\",\"\",LOOKUP(B3466,Spiele!B:B,Spiele!D:D))","v":""},{"$f":"IF(B3466=\"\",\"\",LOOKUP(B3466,Spiele!B:B,Spiele!E:E))","v":""},{"$f":"IF(B3466=\"\",\"\",LOOKUP(B3466,Spiele!B:B,Spiele!F:F))","v":""},"","","",null,null,-1,-1,1,0]
[null,null,{"$f":"IF(B3467=\"\",\"\",LOOKUP(B3467,Spiele!B:B,Spiele!C:C))","v":""},{"$f":"IF(B3467=\"\",\"\",LOOKUP(B3467,Spiele!B:B,Spiele!D:D))","v":""},{"$f":"IF(B3467=\"\",\"\",LOOKUP(B3467,Spiele!B:B,Spiele!E:E))","v":""},{"$f":"IF(B3467=\"\",\"\",LOOKUP(B3467,Spiele!B:B,Spiele!F:F))","v":""},"","","",null,null,-1,-1,1,0]
[null,null,{"$f":"IF(B3472=\"\",\"\",LOOKUP(B3472,Spiele!B:B,Spiele!C:C))","v":""},{"$f":"IF(B3472=\"\",\"\",LOOKUP(B3472,Spiele!B:B,Spiele!D:D))","v":""},{"$f":"IF(B3472=\"\",\"\",LOOKUP(B3472,Spiele!B:B,Spiele!E:E))","v":""},{"$f":"IF(B3472=\"\",\"\",LOOKUP(B3472,Spiele!B:B,Spiele!F:F))","v":""},"","","",null,null,-1,-1,1,0]
[null,null,{"$f":"IF(B3476=\"\",\"\",LOOKUP(B3476,Spiele!B:B,Spiele!C:C))","v":""},{"$f":"IF(B3476=\"\",\"\",LOOKUP(B3476,Spiele!B:B,Spiele!D:D))","v":""},{"$f":"IF(B3476=\"\",\"\",LOOKUP(B3476,Spiele!B:B,Spiele!E:E))","v":""},{"$f":"IF(B3476=\"\",\"\",LOOKUP(B3476,Spiele!B:B,Spiele!F:F))","v":""},"","","",null,null,-1,-1,1,0]
[null,null,{"$f":"IF(B3481=\"\",\"\",LOOKUP(B3481,Spiele!B:B,Spiele!C:C))","v":""},{"$f":"IF(B3481=\"\",\"\",LOOKUP(B3481,Spiele!B:B,Spiele!D:D))","v":""},{"$f":"IF(B3481=\"\",\"\",LOOKUP(B3481,Spiele!B:B,Spiele!E:E))","v":""},{"$f":"IF(B3481=\"\",\"\",LOOKUP(B3481,Spiele!B:B,Spiele!F:F))","v":""},"","","",null,null,-1,-1,1,0]
[null,null,{"$f":"IF(B3482=\"\",\"\",LOOKUP(B3482,Spiele!B:B,Spiele!C:C))","v":""},{"$f":"IF(B3482=\"\",\"\",LOOKUP(B3482,Spiele!B:B,Spiele!D:D))","v":""},{"$f":"IF(B3482=\"\",\"\",LOOKUP(B3482,Spiele!B:B,Spiele!E:E))","v":""},{"$f":"IF(B3482=\"\",\"\",LOOKUP(B3482,Spiele!B:B,Spiele!F:F))","v":""},"","","",null,null,-1,-1,1,0]
[null,null,{"$f":"IF(B3487=\"\",\"\",LOOKUP(B3487,Spiele!B:B,Spiele!C:C))","v":""},{"$f":"IF(B3487=\"\",\"\",LOOKUP(B3487,Spiele!B:B,Spiele!D:D))","v":""},{"$f":"IF(B3487=\"\",\"\",LOOKUP(B3487,Spiele!B:B,Spiele!E:E))","v":""},{"$f":"IF(B3487=\"\",\"\",LOOKUP(B3487,Spiele!B:B,Spiele!F:F))","v":""},"","","",null,null,-1,-1,1,0]
[null,null,{"$f":"IF(B3492=\"\",\"\",LOOKUP(B3492,Spiele!B:B,Spiele!C:C))","v":""},{"$f":"IF(B3492=\"\",\"\",LOOKUP(B3492,Spiele!B:B,Spiele!D:D))","v":""},{"$f":"IF(B3492=\"\",\"\",LOOKUP(B3492,Spiele!B:B,Spiele!E:E))","v":""},{"$f":"IF(B3492=\"\",\"\",LOOKUP(B3492,Spiele!B:B,Spiele!F:F))","v":""},"","","",null,null,-1,-1,1,0]
[null,null,{"$f":"IF(B3496=\"\",\"\",LOOKUP(B3496,Spiele!B:B,Spiele!C:C))","v":""},{"$f":"IF(B3496=\"\",\"\",LOOKUP(B3496,Spiele!B:B,Spiele!D:D))","v":""},{"$f":"IF(B3496=\"\",\"\",LOOKUP(B3496,Spiele!B:B,Spiele!E:E))","v":""},{"$f":"IF(B3496=\"\",\"\",LOOKUP(B3496,Spiele!B:B,Spiele!F:F))","v":""},"","","",null,null,-1,-1,1,0]
[null,null,{"$f":"IF(B3497=\"\",\"\",LOOKUP(B3497,Spiele!B:B,Spiele!C:C))","v":""},{"$f":"IF(B3497=\"\",\"\",LOOKUP(B3497,Spiele!B:B,Spiele!D:D))","v":""},{"$f":"IF(B3497=\"\",\"\",LOOKUP(B3497,Spiele!B:B,Spiele!E:E))","v":""},{"$f":"IF(B3497=\"\",\"\",LOOKUP(B3497,Spiele!B:B,Spiele!F:F))","v":""},"","","",null,null,-1,-1,1,0]
[null,null,{"$f":"IF(B3502=\"\",\"\",LOOKUP(B3502,Spiele!B:B,Spiele!C:C))","v":""},{"$f":"IF(B3502=\"\",\"\",LOOKUP(B3502,Spiele!B:B,Spiele!D:D))","v":""},{"$f":"IF(B3502=\"\",\"\",LOOKUP(B3502,Spiele!B:B,Spiele!E:E))","v":""},{"$f":"IF(B3502=\"\",\"\",LOOKUP(B3502,Spiele!B:B,Spiele!F:F))","v":""},"","","",null,null,-1,-1,1,0]
[null,null,{"$f":"IF(B3506=\"\",\"\",LOOKUP(B3506,Spiele!B:B,Spiele!C:C))","v":""},{"$f":"IF(B3506=\"\",\"\",LOOKUP(B3506,Spiele!B:B,Spiele!D:D))","v":""},{"$f":"IF(B3506=\"\",\"\",LOOKUP(B3506,Spiele!B:B,Spiele!E:E))","v":""},{"$f":"IF(B3506=\"\",\"\",LOOKUP(B3506,Spiele!B:B,Spiele!F:F))","v":""},"","","",null,null,-1,-1,1,0]
[null,null,{"$f":"IF(B3511=\"\",\"\",LOOKUP(B3511,Spiele!B:B,Spiele!C:C))","v":""},{"$f":"IF(B3511=\"\",\"\",LOOKUP(B3511,Spiele!B:B,Spiele!D:D))","v":""},{"$f":"IF(B3511=\"\",\"\",LOOKUP(B3511,Spiele!B:B,Spiele!E:E))","v":""},{"$f":"IF(B3511=\"\",\"\",LOOKUP(B3511,Spiele!B:B,Spiele!F:F))","v":""},"","","",null,null,-1,-1,1,0]
[null,null,{"$f":"IF(B3512=\"\",\"\",LOOKUP(B3512,Spiele!B:B,Spiele!C:C))","v":""},{"$f":"IF(B3512=\"\",\"\",LOOKUP(B3512,Spiele!B:B,Spiele!D:D))","v":""},{"$f":"IF(B3512=\"\",\"\",LOOKUP(B3512,Spiele!B:B,Spiele!E:E))","v":""},{"$f":"IF(B3512=\"\",\"\",LOOKUP(B3512,Spiele!B:B,Spiele!F:F))","v":""},{"$f":"IF(E3512=\"\",\"\",IF(E3512>F3512,1,0))","v":""},{"$f":"IF(F3512=\"\",\"\",IF(E3512<F3512,1,0))","v":""},{"$f":"IF(E3512=\"\",\"\",IF(E3512=F3512,1,0))","v":""},null,null,{"$f":"IF(E3512=\"\",-1,IF(J3512>K3512,1,-1))","v":-1},{"$f":"IF(F3512=\"\",-1,IF(J3512<K3512,1,-1))","v":-1},{"$f":"IF(E3512=\"-\",-1,IF(J3512=K3512,1,-1))","v":1},{"$f":"IF(E3512=\"\",0,IF(E3512=J3512,1,0)+IF(F3512=K3512,1,0)+IF(G3512=L3512,1,0)+IF(H3512=M3512,1,0)+IF(I3512=N3512,1,0))","v":0}]
[null,null,{"$f":"IF(B3517=\"\",\"\",LOOKUP(B3517,Spiele!B:B,Spiele!C:C))","v":""},{"$f":"IF(B3517=\"\",\"\",LOOKUP(B3517,Spiele!B:B,Spiele!D:D))","v":""},{"$f":"IF(B3517=\"\",\"\",LOOKUP(B3517,Spiele!B:B,Spiele!E:E))","v":""},{"$f":"IF(B3517=\"\",\"\",LOOKUP(B3517,Spiele!B:B,Spiele!F:F))","v":""},"","","",null,null,-1,-1,1,0]
[null,null,{"$f":"IF(B3522=\"\",\"\",LOOKUP(B3522,Spiele!B:B,Spiele!C:C))","v":""},{"$f":"IF(B3522=\"\",\"\",LOOKUP(B3522,Spiele!B:B,Spiele!D:D))","v":""},{"$f":"IF(B3522=\"\",\"\",LOOKUP(B3522,Spiele!B:B,Spiele!E:E))","v":""},{"$f":"IF(B3522=\"\",\"\",LOOKUP(B3522,Spiele!B:B,Spiele!F:F))","v":""},"","","",null,null,-1,-1,1,0]
[null,null,{"$f":"IF(B3526=\"\",\"\",LOOKUP(B3526,Spiele!B:B,Spiele!C:C))","v":""},{"$f":"IF(B3526=\"\",\"\",LOOKUP(B3526,Spiele!B:B,Spiele!D:D))","v":""},{"$f":"IF(B3526=\"\",\"\",LOOKUP(B3526,Spiele!B:B,Spiele!E:E))","v":""},{"$f":"IF(B3526=\"\",\"\",LOOKUP(B3526,Spiele!B:B,Spiele!F:F))","v":""},"","","",null,null,-1,-1,1,0]
[null,null,{"$f":"IF(B3527=\"\",\"\",LOOKUP(B3527,Spiele!B:B,Spiele!C:C))","v":""},{"$f":"IF(B3527=\"\",\"\",LOOKUP(B3527,Spiele!B:B,Spiele!D:D))","v":""},{"$f":"IF(B3527=\"\",\"\",LOOKUP(B3527,Spiele!B:B,Spiele!E:E))","v":""},{"$f":"IF(B3527=\"\",\"\",LOOKUP(B3527,Spiele!B:B,Spiele!F:F))","v":""},"","","",null,null,-1,-1,1,0]
[null,null,{"$f":"IF(B3532=\"\",\"\",LOOKUP(B3532,Spiele!B:B,Spiele!C:C))","v":""},{"$f":"IF(B3532=\"\",\"\",LOOKUP(B3532,Spiele!B:B,Spiele!D:D))","v":""},{"$f":"IF(B3532=\"\",\"\",LOOKUP(B3532,Spiele!B:B,Spiele!E:E))","v":""},{"$f":"IF(B3532=\"\",\"\",LOOKUP(B3532,Spiele!B:B,Spiele!F:F))","v":""},"","","",null,null,-1,-1,1,0]
[null,null,{"$f":"IF(B3536=\"\",\"\",LOOKUP(B3536,Spiele!B:B,Spiele!C:C))","v":""},{"$f":"IF(B3536=\"\",\"\",LOOKUP(B3536,Spiele!B:B,Spiele!D:D))","v":""},{"$f":"IF(B3536=\"\",\"\",LOOKUP(B3536,Spiele!B:B,Spiele!E:E))","v":""},{"$f":"IF(B3536=\"\",\"\",LOOKUP(B3536,Spiele!B:B,Spiele!F:F))","v":""},"","","",null,null,-1,-1,1,0]
[null,null,{"$f":"IF(B3541=\"\",\"\",LOOKUP(B3541,Spiele!B:B,Spiele!C:C))","v":""},{"$f":"IF(B3541=\"\",\"\",LOOKUP(B3541,Spiele!B:B,Spiele!D:D))","v":""},{"$f":"IF(B3541=\"\",\"\",LOOKUP(B3541,Spiele!B:B,Spiele!E:E))","v":""},{"$f":"IF(B3541=\"\",\"\",LOOKUP(B3541,Spiele!B:B,Spiele!F:F))","v":""},"","","",null,null,-1,-1,1,0]
[null,null,{"$f":"IF(B3542=\"\",\"\",LOOKUP(B3542,Spiele!B:B,Spiele!C:C))","v":""},{"$f":"IF(B3542=\"\",\"\",LOOKUP(B3542,Spiele!B:B,Spiele!D:D))","v":""},{"$f":"IF(B3542=\"\",\"\",LOOKUP(B3542,Spiele!B:B,Spiele!E:E))","v":""},{"$f":"IF(B3542=\"\",\"\",LOOKUP(B3542,Spiele!B:B,Spiele!F:F))","v":""},"","","",null,null,-1,-1,1,0]
[null,null,{"$f":"IF(B3547=\"\",\"\",LOOKUP(B3547,Spiele!B:B,Spiele!C:C))","v":""},{"$f":"IF(B3547=\"\",\"\",LOOKUP(B3547,Spiele!B:B,Spiele!D:D))","v":""},{"$f":"IF(B3547=\"\",\"\",LOOKUP(B3547,Spiele!B:B,Spiele!E:E))","v":""},{"$f":"IF(B3547=\"\",\"\",LOOKUP(B3547,Spiele!B:B,Spiele!F:F))","v":""},"","","",null,null,-1,-1,1,0]
[null,null,{"$f":"IF(B3552=\"\",\"\",LOOKUP(B3552,Spiele!B:B,Spiele!C:C))","v":""},{"$f":"IF(B3552=\"\",\"\",LOOKUP(B3552,Spiele!B:B,Spiele!D:D))","v":""},{"$f":"IF(B3552=\"\",\"\",LOOKUP(B3552,Spiele!B:B,Spiele!E:E))","v":""},{"$f":"IF(B3552=\"\",\"\",LOOKUP(B3552,Spiele!B:B,Spiele!F:F))","v":""},"","","",null,null,-1,-1,1,0]
[null,null,{"$f":"IF(B3556=\"\",\"\",LOOKUP(B3556,Spiele!B:B,Spiele!C:C))","v":""},{"$f":"IF(B3556=\"\",\"\",LOOKUP(B3556,Spiele!B:B,Spiele!D:D))","v":""},{"$f":"IF(B3556=\"\",\"\",LOOKUP(B3556,Spiele!B:B,Spiele!E:E))","v":""},{"$f":"IF(B3556=\"\",\"\",LOOKUP(B3556,Spiele!B:B,Spiele!F:F))","v":""},"","","",null,null,-1,-1,1,0]
[null,null,{"$f":"IF(B3557=\"\",\"\",LOOKUP(B3557,Spiele!B:B,Spiele!C:C))","v":""},{"$f":"IF(B3557=\"\",\"\",LOOKUP(B3557,Spiele!B:B,Spiele!D:D))","v":""},{"$f":"IF(B3557=\"\",\"\",LOOKUP(B3557,Spiele!B:B,Spiele!E:E))","v":""},{"$f":"IF(B3557=\"\",\"\",LOOKUP(B3557,Spiele!B:B,Spiele!F:F))","v":""},"","","",null,null,-1,-1,1,0]
[null,null,{"$f":"IF(B3562=\"\",\"\",LOOKUP(B3562,Spiele!B:B,Spiele!C:C))","v":""},{"$f":"IF(B3562=\"\",\"\",LOOKUP(B3562,Spiele!B:B,Spiele!D:D))","v":""},{"$f":"IF(B3562=\"\",\"\",LOOKUP(B3562,Spiele!B:B,Spiele!E:E))","v":""},{"$f":"IF(B3562=\"\",\"\",LOOKUP(B3562,Spiele!B:B,Spiele!F:F))","v":""},"","","",null,null,-1,-1,1,0]
[null,null,{"$f":"IF(B3566=\"\",\"\",LOOKUP(B3566,Spiele!B:B,Spiele!C:C))","v":""},{"$f":"IF(B3566=\"\",\"\",LOOKUP(B3566,Spiele!B:B,Spiele!D:D))","v":""},{"$f":"IF(B3566=\"\",\"\",LOOKUP(B3566,Spiele!B:B,Spiele!E:E))","v":""},{"$f":"IF(B3566=\"\",\"\",LOOKUP(B3566,Spiele!B:B,Spiele!F:F))","v":""},"","","",null,null,-1,-1,1,0]
[null,null,{"$f":"IF(B3571=\"\",\"\",LOOKUP(B3571,Spiele!B:B,Spiele!C:C))","v":""},{"$f":"IF(B3571=\"\",\"\",LOOKUP(B3571,Spiele!B:B,Spiele!D:D))","v":""},{"$f":"IF(B3571=\"\",\"\",LOOKUP(B3571,Spiele!B:B,Spiele!E:E))","v":""},{"$f":"IF(B3571=\"\",\"\",LOOKUP(B3571,Spiele!B:B,Spiele!F:F))","v":""},"","","",null,null,-1,-1,1,0]
[null,null,{"$f":"IF(B3572=\"\",\"\",LOOKUP(B3572,Spiele!B:B,Spiele!C:C))","v":""},{"$f":"IF(B3572=\"\",\"\",LOOKUP(B3572,Spiele!B:B,Spiele!D:D))","v":""},{"$f":"IF(B3572=\"\",\"\",LOOKUP(B3572,Spiele!B:B,Spiele!E:E))","v":""},{"$f":"IF(B3572=\"\",\"\",LOOKUP(B3572,Spiele!B:B,Spiele!F:F))","v":""},"","","",null,null,-1,-1,1,0]
[null,null,{"$f":"IF(B3577=\"\",\"\",LOOKUP(B3577,Spiele!B:B,Spiele!C:C))","v":""},{"$f":"IF(B3577=\"\",\"\",LOOKUP(B3577,Spiele!B:B,Spiele!D:D))","v":""},{"$f":"IF(B3577=\"\",\"\",LOOKUP(B3577,Spiele!B:B,Spiele!E:E))","v":""},{"$f":"IF(B3577=\"\",\"\",LOOKUP(B3577,Spiele!B:B,Spiele!F:F))","v":""},"","","",null,null,-1,-1,1,0]
[null,null,{"$f":"IF(B3582=\"\",\"\",LOOKUP(B3582,Spiele!B:B,Spiele!C:C))","v":""},{"$f":"IF(B3582=\"\",\"\",LOOKUP(B3582,Spiele!B:B,Spiele!D:D))","v":""},{"$f":"IF(B3582=\"\",\"\",LOOKUP(B3582,Spiele!B:B,Spiele!E:E))","v":""},{"$f":"IF(B3582=\"\",\"\",LOOKUP(B3582,Spiele!B:B,Spiele!F:F))","v":""},"","","",null,null,-1,-1,1,0]
[null,null,{"$f":"IF(B3586=\"\",\"\",LOOKUP(B3586,Spiele!B:B,Spiele!C:C))","v":""},{"$f":"IF(B3586=\"\",\"\",LOOKUP(B3586,Spiele!B:B,Spiele!D:D))","v":""},{"$f":"IF(B3586=\"\",\"\",LOOKUP(B3586,Spiele!B:B,Spiele!E:E))","v":""},{"$f":"IF(B3586=\"\",\"\",LOOKUP(B3586,Spiele!B:B,Spiele!F:F))","v":""},"","","",null,null,-1,-1,1,0]
[null,null,{"$f":"IF(B3587=\"\",\"\",LOOKUP(B3587,Spiele!B:B,Spiele!C:C))","v":""},{"$f":"IF(B3587=\"\",\"\",LOOKUP(B3587,Spiele!B:B,Spiele!D:D))","v":""},{"$f":"IF(B3587=\"\",\"\",LOOKUP(B3587,Spiele!B:B,Spiele!E:E))","v":""},{"$f":"IF(B3587=\"\",\"\",LOOKUP(B3587,Spiele!B:B,Spiele!F:F))","v":""},"","","",null,null,-1,-1,1,0]
[null,null,{"$f":"IF(B3592=\"\",\"\",LOOKUP(B3592,Spiele!B:B,Spiele!C:C))","v":""},{"$f":"IF(B3592=\"\",\"\",LOOKUP(B3592,Spiele!B:B,Spiele!D:D))","v":""},{"$f":"IF(B3592=\"\",\"\",LOOKUP(B3592,Spiele!B:B,Spiele!E:E))","v":""},{"$f":"IF(B3592=\"\",\"\",LOOKUP(B3592,Spiele!B:B,Spiele!F:F))","v":""},"","","",null,null,-1,-1,1,0]
[null,null,{"$f":"IF(B3596=\"\",\"\",LOOKUP(B3596,Spiele!B:B,Spiele!C:C))","v":""},{"$f":"IF(B3596=\"\",\"\",LOOKUP(B3596,Spiele!B:B,Spiele!D:D))","v":""},{"$f":"IF(B3596=\"\",\"\",LOOKUP(B3596,Spiele!B:B,Spiele!E:E))","v":""},{"$f":"IF(B3596=\"\",\"\",LOOKUP(B3596,Spiele!B:B,Spiele!F:F))","v":""},"","","",null,null,-1,-1,1,0]
[null,null,{"$f":"IF(B3601=\"\",\"\",LOOKUP(B3601,Spiele!B:B,Spiele!C:C))","v":""},{"$f":"IF(B3601=\"\",\"\",LOOKUP(B3601,Spiele!B:B,Spiele!D:D))","v":""},{"$f":"IF(B3601=\"\",\"\",LOOKUP(B3601,Spiele!B:B,Spiele!E:E))","v":""},{"$f":"IF(B3601=\"\",\"\",LOOKUP(B3601,Spiele!B:B,Spiele!F:F))","v":""},"","","",null,null,-1,-1,1,0]
[null,null,{"$f":"IF(B3602=\"\",\"\",LOOKUP(B3602,Spiele!B:B,Spiele!C:C))","v":""},{"$f":"IF(B3602=\"\",\"\",LOOKUP(B3602,Spiele!B:B,Spiele!D:D))","v":""},{"$f":"IF(B3602=\"\",\"\",LOOKUP(B3602,Spiele!B:B,Spiele!E:E))","v":""},{"$f":"IF(B3602=\"\",\"\",LOOKUP(B3602,Spiele!B:B,Spiele!F:F))","v":""},"","","",null,null,-1,-1,1,0]
[null,null,{"$f":"IF(B3607=\"\",\"\",LOOKUP(B3607,Spiele!B:B,Spiele!C:C))","v":""},{"$f":"IF(B3607=\"\",\"\",LOOKUP(B3607,Spiele!B:B,Spiele!D:D))","v":""},{"$f":"IF(B3607=\"\",\"\",LOOKUP(B3607,Spiele!B:B,Spiele!E:E))","v":""},{"$f":"IF(B3607=\"\",\"\",LOOKUP(B3607,Spiele!B:B,Spiele!F:F))","v":""},"","","",null,null,-1,-1,1,0]
[null,null,{"$f":"IF(B3612=\"\",\"\",LOOKUP(B3612,Spiele!B:B,Spiele!C:C))","v":""},{"$f":"IF(B3612=\"\",\"\",LOOKUP(B3612,Spiele!B:B,Spiele!D:D))","v":""},{"$f":"IF(B3612=\"\",\"\",LOOKUP(B3612,Spiele!B:B,Spiele!E:E))","v":""},{"$f":"IF(B3612=\"\",\"\",LOOKUP(B3612,Spiele!B:B,Spiele!F:F))","v":""},"","","",null,null,-1,-1,1,0]
[null,null,{"$f":"IF(B3616=\"\",\"\",LOOKUP(B3616,Spiele!B:B,Spiele!C:C))","v":""},{"$f":"IF(B3616=\"\",\"\",LOOKUP(B3616,Spiele!B:B,Spiele!D:D))","v":""},{"$f":"IF(B3616=\"\",\"\",LOOKUP(B3616,Spiele!B:B,Spiele!E:E))","v":""},{"$f":"IF(B3616=\"\",\"\",LOOKUP(B3616,Spiele!B:B,Spiele!F:F))","v":""},"","","",null,null,-1,-1,1,0]
[null,null,{"$f":"IF(B3617=\"\",\"\",LOOKUP(B3617,Spiele!B:B,Spiele!C:C))","v":""},{"$f":"IF(B3617=\"\",\"\",LOOKUP(B3617,Spiele!B:B,Spiele!D:D))","v":""},{"$f":"IF(B3617=\"\",\"\",LOOKUP(B3617,Spiele!B:B,Spiele!E:E))","v":""},{"$f":"IF(B3617=\"\",\"\",LOOKUP(B3617,Spiele!B:B,Spiele!F:F))","v":""},"","","",null,null,-1,-1,1,0]
[null,null,{"$f":"IF(B3622=\"\",\"\",LOOKUP(B3622,Spiele!B:B,Spiele!C:C))","v":""},{"$f":"IF(B3622=\"\",\"\",LOOKUP(B3622,Spiele!B:B,Spiele!D:D))","v":""},{"$f":"IF(B3622=\"\",\"\",LOOKUP(B3622,Spiele!B:B,Spiele!E:E))","v":""},{"$f":"IF(B3622=\"\",\"\",LOOKUP(B3622,Spiele!B:B,Spiele!F:F))","v":""},"","","",null,null,-1,-1,1,0]
[null,null,{"$f":"IF(B3626=\"\",\"\",LOOKUP(B3626,Spiele!B:B,Spiele!C:C))","v":""},{"$f":"IF(B3626=\"\",\"\",LOOKUP(B3626,Spiele!B:B,Spiele!D:D))","v":""},{"$f":"IF(B3626=\"\",\"\",LOOKUP(B3626,Spiele!B:B,Spiele!E:E))","v":""},{"$f":"IF(B3626=\"\",\"\",LOOKUP(B3626,Spiele!B:B,Spiele!F:F))","v":""},"","","",null,null,-1,-1,1,0]
[null,null,{"$f":"IF(B3631=\"\",\"\",LOOKUP(B3631,Spiele!B:B,Spiele!C:C))","v":""},{"$f":"IF(B3631=\"\",\"\",LOOKUP(B3631,Spiele!B:B,Spiele!D:D))","v":""},{"$f":"IF(B3631=\"\",\"\",LOOKUP(B3631,Spiele!B:B,Spiele!E:E))","v":""},{"$f":"IF(B3631=\"\",\"\",LOOKUP(B3631,Spiele!B:B,Spiele!F:F))","v":""},"","","",null,null,-1,-1,1,0]
[null,null,{"$f":"IF(B3632=\"\",\"\",LOOKUP(B3632,Spiele!B:B,Spiele!C:C))","v":""},{"$f":"IF(B3632=\"\",\"\",LOOKUP(B3632,Spiele!B:B,Spiele!D:D))","v":""},{"$f":"IF(B3632=\"\",\"\",LOOKUP(B3632,Spiele!B:B,Spiele!E:E))","v":""},{"$f":"IF(B3632=\"\",\"\",LOOKUP(B3632,Spiele!B:B,Spiele!F:F))","v":""},"","","",null,null,-1,-1,1,0]
[null,null,{"$f":"IF(B3637=\"\",\"\",LOOKUP(B3637,Spiele!B:B,Spiele!C:C))","v":""},{"$f":"IF(B3637=\"\",\"\",LOOKUP(B3637,Spiele!B:B,Spiele!D:D))","v":""},{"$f":"IF(B3637=\"\",\"\",LOOKUP(B3637,Spiele!B:B,Spiele!E:E))","v":""},{"$f":"IF(B3637=\"\",\"\",LOOKUP(B3637,Spiele!B:B,Spiele!F:F))","v":""},"","","",null,null,-1,-1,1,0]
[null,null,{"$f":"IF(B3642=\"\",\"\",LOOKUP(B3642,Spiele!B:B,Spiele!C:C))","v":""},{"$f":"IF(B3642=\"\",\"\",LOOKUP(B3642,Spiele!B:B,Spiele!D:D))","v":""},{"$f":"IF(B3642=\"\",\"\",LOOKUP(B3642,Spiele!B:B,Spiele!E:E))","v":""},{"$f":"IF(B3642=\"\",\"\",LOOKUP(B3642,Spiele!B:B,Spiele!F:F))","v":""},"","","",null,null,-1,-1,1,0]
[null,null,{"$f":"IF(B3646=\"\",\"\",LOOKUP(B3646,Spiele!B:B,Spiele!C:C))","v":""},{"$f":"IF(B3646=\"\",\"\",LOOKUP(B3646,Spiele!B:B,Spiele!D:D))","v":""},{"$f":"IF(B3646=\"\",\"\",LOOKUP(B3646,Spiele!B:B,Spiele!E:E))","v":""},{"$f":"IF(B3646=\"\",\"\",LOOKUP(B3646,Spiele!B:B,Spiele!F:F))","v":""},"","","",null,null,-1,-1,1,0]
[null,null,{"$f":"IF(B3647=\"\",\"\",LOOKUP(B3647,Spiele!B:B,Spiele!C:C))","v":""},{"$f":"IF(B3647=\"\",\"\",LOOKUP(B3647,Spiele!B:B,Spiele!D:D))","v":""},{"$f":"IF(B3647=\"\",\"\",LOOKUP(B3647,Spiele!B:B,Spiele!E:E))","v":""},{"$f":"IF(B3647=\"\",\"\",LOOKUP(B3647,Spiele!B:B,Spiele!F:F))","v":""},"","","",null,null,-1,-1,1,0]
[null,null,{"$f":"IF(B3652=\"\",\"\",LOOKUP(B3652,Spiele!B:B,Spiele!C:C))","v":""},{"$f":"IF(B3652=\"\",\"\",LOOKUP(B3652,Spiele!B:B,Spiele!D:D))","v":""},{"$f":"IF(B3652=\"\",\"\",LOOKUP(B3652,Spiele!B:B,Spiele!E:E))","v":""},{"$f":"IF(B3652=\"\",\"\",LOOKUP(B3652,Spiele!B:B,Spiele!F:F))","v":""},"","","",null,null,-1,-1,1,0]
[null,null,{"$f":"IF(B3656=\"\",\"\",LOOKUP(B3656,Spiele!B:B,Spiele!C:C))","v":""},{"$f":"IF(B3656=\"\",\"\",LOOKUP(B3656,Spiele!B:B,Spiele!D:D))","v":""},{"$f":"IF(B3656=\"\",\"\",LOOKUP(B3656,Spiele!B:B,Spiele!E:E))","v":""},{"$f":"IF(B3656=\"\",\"\",LOOKUP(B3656,Spiele!B:B,Spiele!F:F))","v":""},"","","",null,null,-1,-1,1,0]
[null,null,{"$f":"IF(B3661=\"\",\"\",LOOKUP(B3661,Spiele!B:B,Spiele!C:C))","v":""},{"$f":"IF(B3661=\"\",\"\",LOOKUP(B3661,Spiele!B:B,Spiele!D:D))","v":""},{"$f":"IF(B3661=\"\",\"\",LOOKUP(B3661,Spiele!B:B,Spiele!E:E))","v":""},{"$f":"IF(B3661=\"\",\"\",LOOKUP(B3661,Spiele!B:B,Spiele!F:F))","v":""},"","","",null,null,-1,-1,1,0]
[null,null,{"$f":"IF(B3662=\"\",\"\",LOOKUP(B3662,Spiele!B:B,Spiele!C:C))","v":""},{"$f":"IF(B3662=\"\",\"\",LOOKUP(B3662,Spiele!B:B,Spiele!D:D))","v":""},{"$f":"IF(B3662=\"\",\"\",LOOKUP(B3662,Spiele!B:B,Spiele!E:E))","v":""},{"$f":"IF(B3662=\"\",\"\",LOOKUP(B3662,Spiele!B:B,Spiele!F:F))","v":""},"","","",null,null,-1,-1,1,0]
[null,null,{"$f":"IF(B3667=\"\",\"\",LOOKUP(B3667,Spiele!B:B,Spiele!C:C))","v":""},{"$f":"IF(B3667=\"\",\"\",LOOKUP(B3667,Spiele!B:B,Spiele!D:D))","v":""},{"$f":"IF(B3667=\"\",\"\",LOOKUP(B3667,Spiele!B:B,Spiele!E:E))","v":""},{"$f":"IF(B3667=\"\",\"\",LOOKUP(B3667,Spiele!B:B,Spiele!F:F))","v":""},"","","",null,null,-1,-1,1,0]
[null,null,{"$f":"IF(B3672=\"\",\"\",LOOKUP(B3672,Spiele!B:B,Spiele!C:C))","v":""},{"$f":"IF(B3672=\"\",\"\",LOOKUP(B3672,Spiele!B:B,Spiele!D:D))","v":""},{"$f":"IF(B3672=\"\",\"\",LOOKUP(B3672,Spiele!B:B,Spiele!E:E))","v":""},{"$f":"IF(B3672=\"\",\"\",LOOKUP(B3672,Spiele!B:B,Spiele!F:F))","v":""},"","","",null,null,-1,-1,1,0]
[null,null,{"$f":"IF(B3676=\"\",\"\",LOOKUP(B3676,Spiele!B:B,Spiele!C:C))","v":""},{"$f":"IF(B3676=\"\",\"\",LOOKUP(B3676,Spiele!B:B,Spiele!D:D))","v":""},{"$f":"IF(B3676=\"\",\"\",LOOKUP(B3676,Spiele!B:B,Spiele!E:E))","v":""},{"$f":"IF(B3676=\"\",\"\",LOOKUP(B3676,Spiele!B:B,Spiele!F:F))","v":""},"","","",null,null,-1,-1,1,0]
[null,null,{"$f":"IF(B3677=\"\",\"\",LOOKUP(B3677,Spiele!B:B,Spiele!C:C))","v":""},{"$f":"IF(B3677=\"\",\"\",LOOKUP(B3677,Spiele!B:B,Spiele!D:D))","v":""},{"$f":"IF(B3677=\"\",\"\",LOOKUP(B3677,Spiele!B:B,Spiele!E:E))","v":""},{"$f":"IF(B3677=\"\",\"\",LOOKUP(B3677,Spiele!B:B,Spiele!F:F))","v":""},"","","",null,null,-1,-1,1,0]
[null,null,{"$f":"IF(B3682=\"\",\"\",LOOKUP(B3682,Spiele!B:B,Spiele!C:C))","v":""},{"$f":"IF(B3682=\"\",\"\",LOOKUP(B3682,Spiele!B:B,Spiele!D:D))","v":""},{"$f":"IF(B3682=\"\",\"\",LOOKUP(B3682,Spiele!B:B,Spiele!E:E))","v":""},{"$f":"IF(B3682=\"\",\"\",LOOKUP(B3682,Spiele!B:B,Spiele!F:F))","v":""},"","","",null,null,-1,-1,1,0]
[null,null,{"$f":"IF(B3686=\"\",\"\",LOOKUP(B3686,Spiele!B:B,Spiele!C:C))","v":""},{"$f":"IF(B3686=\"\",\"\",LOOKUP(B3686,Spiele!B:B,Spiele!D:D))","v":""},{"$f":"IF(B3686=\"\",\"\",LOOKUP(B3686,Spiele!B:B,Spiele!E:E))","v":""},{"$f":"IF(B3686=\"\",\"\",LOOKUP(B3686,Spiele!B:B,Spiele!F:F))","v":""},"","","",null,null,-1,-1,1,0]
[null,null,{"$f":"IF(B3691=\"\",\"\",LOOKUP(B3691,Spiele!B:B,Spiele!C:C))","v":""},{"$f":"IF(B3691=\"\",\"\",LOOKUP(B3691,Spiele!B:B,Spiele!D:D))","v":""},{"$f":"IF(B3691=\"\",\"\",LOOKUP(B3691,Spiele!B:B,Spiele!E:E))","v":""},{"$f":"IF(B3691=\"\",\"\",LOOKUP(B3691,Spiele!B:B,Spiele!F:F))","v":""},"","","",null,null,-1,-1,1,0]
[null,null,{"$f":"IF(B3692=\"\",\"\",LOOKUP(B3692,Spiele!B:B,Spiele!C:C))","v":""},{"$f":"IF(B3692=\"\",\"\",LOOKUP(B3692,Spiele!B:B,Spiele!D:D))","v":""},{"$f":"IF(B3692=\"\",\"\",LOOKUP(B3692,Spiele!B:B,Spiele!E:E))","v":""},{"$f":"IF(B3692=\"\",\"\",LOOKUP(B3692,Spiele!B:B,Spiele!F:F))","v":""},"","","",null,null,-1,-1,1,0]
[null,null,{"$f":"IF(B3697=\"\",\"\",LOOKUP(B3697,Spiele!B:B,Spiele!C:C))","v":""},{"$f":"IF(B3697=\"\",\"\",LOOKUP(B3697,Spiele!B:B,Spiele!D:D))","v":""},{"$f":"IF(B3697=\"\",\"\",LOOKUP(B3697,Spiele!B:B,Spiele!E:E))","v":""},{"$f":"IF(B3697=\"\",\"\",LOOKUP(B3697,Spiele!B:B,Spiele!F:F))","v":""},"","","",null,null,-1,-1,1,0]
[null,null,{"$f":"IF(B3700=\"\",\"\",LOOKUP(B3700,Spiele!B:B,Spiele!C:C))","v":""},{"$f":"IF(B3700=\"\",\"\",LOOKUP(B3700,Spiele!B:B,Spiele!D:D))","v":""},{"$f":"IF(B3700=\"\",\"\",LOOKUP(B3700,Spiele!B:B,Spiele!E:E))","v":""},{"$f":"IF(B3700=\"\",\"\",LOOKUP(B3700,Spiele!B:B,Spiele!F:F))","v":""},"","","",null,null,-1,-1,1,0]
[null,null,{"$f":"IF(B3706=\"\",\"\",LOOKUP(B3706,Spiele!B:B,Spiele!C:C))","v":""},{"$f":"IF(B3706=\"\",\"\",LOOKUP(B3706,Spiele!B:B,Spiele!D:D))","v":""},{"$f":"IF(B3706=\"\",\"\",LOOKUP(B3706,Spiele!B:B,Spiele!E:E))","v":""},{"$f":"IF(B3706=\"\",\"\",LOOKUP(B3706,Spiele!B:B,Spiele!F:F))","v":""},"","","",null,null,-1,-1,1,0]
[null,null,{"$f":"IF(B3707=\"\",\"\",LOOKUP(B3707,Spiele!B:B,Spiele!C:C))","v":""},{"$f":"IF(B3707=\"\",\"\",LOOKUP(B3707,Spiele!B:B,Spiele!D:D))","v":""},{"$f":"IF(B3707=\"\",\"\",LOOKUP(B3707,Spiele!B:B,Spiele!E:E))","v":""},{"$f":"IF(B3707=\"\",\"\",LOOKUP(B3707,Spiele!B:B,Spiele!F:F))","v":""},"","","",null,null,-1,-1,1,0]
[null,null,{"$f":"IF(B3712=\"\",\"\",LOOKUP(B3712,Spiele!B:B,Spiele!C:C))","v":""},{"$f":"IF(B3712=\"\",\"\",LOOKUP(B3712,Spiele!B:B,Spiele!D:D))","v":""},{"$f":"IF(B3712=\"\",\"\",LOOKUP(B3712,Spiele!B:B,Spiele!E:E))","v":""},{"$f":"IF(B3712=\"\",\"\",LOOKUP(B3712,Spiele!B:B,Spiele!F:F))","v":""},"","","",null,null,-1,-1,1,0]
[null,null,{"$f":"IF(B3716=\"\",\"\",LOOKUP(B3716,Spiele!B:B,Spiele!C:C))","v":""},{"$f":"IF(B3716=\"\",\"\",LOOKUP(B3716,Spiele!B:B,Spiele!D:D))","v":""},{"$f":"IF(B3716=\"\",\"\",LOOKUP(B3716,Spiele!B:B,Spiele!E:E))","v":""},{"$f":"IF(B3716=\"\",\"\",LOOKUP(B3716,Spiele!B:B,Spiele!F:F))","v":""},"","","",null,null,-1,-1,1,0]
[null,null,{"$f":"IF(B3721=\"\",\"\",LOOKUP(B3721,Spiele!B:B,Spiele!C:C))","v":""},{"$f":"IF(B3721=\"\",\"\",LOOKUP(B3721,Spiele!B:B,Spiele!D:D))","v":""},{"$f":"IF(B3721=\"\",\"\",LOOKUP(B3721,Spiele!B:B,Spiele!E:E))","v":""},{"$f":"IF(B3721=\"\",\"\",LOOKUP(B3721,Spiele!B:B,Spiele!F:F))","v":""},"","","",null,null,-1,-1,1,0]
[null,null,{"$f":"IF(B3722=\"\",\"\",LOOKUP(B3722,Spiele!B:B,Spiele!C:C))","v":""},{"$f":"IF(B3722=\"\",\"\",LOOKUP(B3722,Spiele!B:B,Spiele!D:D))","v":""},{"$f":"IF(B3722=\"\",\"\",LOOKUP(B3722,Spiele!B:B,Spiele!E:E))","v":""},{"$f":"IF(B3722=\"\",\"\",LOOKUP(B3722,Spiele!B:B,Spiele!F:F))","v":""},"","","",null,null,-1,-1,1,0]
[null,null,{"$f":"IF(B3727=\"\",\"\",LOOKUP(B3727,Spiele!B:B,Spiele!C:C))","v":""},{"$f":"IF(B3727=\"\",\"\",LOOKUP(B3727,Spiele!B:B,Spiele!D:D))","v":""},{"$f":"IF(B3727=\"\",\"\",LOOKUP(B3727,Spiele!B:B,Spiele!E:E))","v":""},{"$f":"IF(B3727=\"\",\"\",LOOKUP(B3727,Spiele!B:B,Spiele!F:F))","v":""},"","","",null,null,-1,-1,1,0]
[null,null,{"$f":"IF(B3730=\"\",\"\",LOOKUP(B3730,Spiele!B:B,Spiele!C:C))","v":""},{"$f":"IF(B3730=\"\",\"\",LOOKUP(B3730,Spiele!B:B,Spiele!D:D))","v":""},{"$f":"IF(B3730=\"\",\"\",LOOKUP(B3730,Spiele!B:B,Spiele!E:E))","v":""},{"$f":"IF(B3730=\"\",\"\",LOOKUP(B3730,Spiele!B:B,Spiele!F:F))","v":""},"","","",null,null,-1,-1,1,0]
[null,null,{"$f":"IF(B3736=\"\",\"\",LOOKUP(B3736,Spiele!B:B,Spiele!C:C))","v":""},{"$f":"IF(B3736=\"\",\"\",LOOKUP(B3736,Spiele!B:B,Spiele!D:D))","v":""},{"$f":"IF(B3736=\"\",\"\",LOOKUP(B3736,Spiele!B:B,Spiele!E:E))","v":""},{"$f":"IF(B3736=\"\",\"\",LOOKUP(B3736,Spiele!B:B,Spiele!F:F))","v":""},"","","",null,null,-1,-1,1,0]
[null,null,{"$f":"IF(B3737=\"\",\"\",LOOKUP(B3737,Spiele!B:B,Spiele!C:C))","v":""},{"$f":"IF(B3737=\"\",\"\",LOOKUP(B3737,Spiele!B:B,Spiele!D:D))","v":""},{"$f":"IF(B3737=\"\",\"\",LOOKUP(B3737,Spiele!B:B,Spiele!E:E))","v":""},{"$f":"IF(B3737=\"\",\"\",LOOKUP(B3737,Spiele!B:B,Spiele!F:F))","v":""},"","","",null,null,-1,-1,1,0]
[null,null,{"$f":"IF(B3742=\"\",\"\",LOOKUP(B3742,Spiele!B:B,Spiele!C:C))","v":""},{"$f":"IF(B3742=\"\",\"\",LOOKUP(B3742,Spiele!B:B,Spiele!D:D))","v":""},{"$f":"IF(B3742=\"\",\"\",LOOKUP(B3742,Spiele!B:B,Spiele!E:E))","v":""},{"$f":"IF(B3742=\"\",\"\",LOOKUP(B3742,Spiele!B:B,Spiele!F:F))","v":""},"","","",null,null,-1,-1,1,0]
[null,null,{"$f":"IF(B3746=\"\",\"\",LOOKUP(B3746,Spiele!B:B,Spiele!C:C))","v":""},{"$f":"IF(B3746=\"\",\"\",LOOKUP(B3746,Spiele!B:B,Spiele!D:D))","v":""},{"$f":"IF(B3746=\"\",\"\",LOOKUP(B3746,Spiele!B:B,Spiele!E:E))","v":""},{"$f":"IF(B3746=\"\",\"\",LOOKUP(B3746,Spiele!B:B,Spiele!F:F))","v":""},"","","",null,null,-1,-1,1,0]
[null,null,{"$f":"IF(B3751=\"\",\"\",LOOKUP(B3751,Spiele!B:B,Spiele!C:C))","v":""},{"$f":"IF(B3751=\"\",\"\",LOOKUP(B3751,Spiele!B:B,Spiele!D:D))","v":""},{"$f":"IF(B3751=\"\",\"\",LOOKUP(B3751,Spiele!B:B,Spiele!E:E))","v":""},{"$f":"IF(B3751=\"\",\"\",LOOKUP(B3751,Spiele!B:B,Spiele!F:F))","v":""},"","","",null,null,-1,-1,1,0]
[null,null,{"$f":"IF(B3752=\"\",\"\",LOOKUP(B3752,Spiele!B:B,Spiele!C:C))","v":""},{"$f":"IF(B3752=\"\",\"\",LOOKUP(B3752,Spiele!B:B,Spiele!D:D))","v":""},{"$f":"IF(B3752=\"\",\"\",LOOKUP(B3752,Spiele!B:B,Spiele!E:E))","v":""},{"$f":"IF(B3752=\"\",\"\",LOOKUP(B3752,Spiele!B:B,Spiele!F:F))","v":""},"","","",null,null,-1,-1,1,0]
[null,null,{"$f":"IF(B3757=\"\",\"\",LOOKUP(B3757,Spiele!B:B,Spiele!C:C))","v":""},{"$f":"IF(B3757=\"\",\"\",LOOKUP(B3757,Spiele!B:B,Spiele!D:D))","v":""},{"$f":"IF(B3757=\"\",\"\",LOOKUP(B3757,Spiele!B:B,Spiele!E:E))","v":""},{"$f":"IF(B3757=\"\",\"\",LOOKUP(B3757,Spiele!B:B,Spiele!F:F))","v":""},"","","",null,null,-1,-1,1,0]
[null,null,{"$f":"IF(B3760=\"\",\"\",LOOKUP(B3760,Spiele!B:B,Spiele!C:C))","v":""},{"$f":"IF(B3760=\"\",\"\",LOOKUP(B3760,Spiele!B:B,Spiele!D:D))","v":""},{"$f":"IF(B3760=\"\",\"\",LOOKUP(B3760,Spiele!B:B,Spiele!E:E))","v":""},{"$f":"IF(B3760=\"\",\"\",LOOKUP(B3760,Spiele!B:B,Spiele!F:F))","v":""},"","","",null,null,-1,-1,1,0]
[null,null,{"$f":"IF(B3766=\"\",\"\",LOOKUP(B3766,Spiele!B:B,Spiele!C:C))","v":""},{"$f":"IF(B3766=\"\",\"\",LOOKUP(B3766,Spiele!B:B,Spiele!D:D))","v":""},{"$f":"IF(B3766=\"\",\"\",LOOKUP(B3766,Spiele!B:B,Spiele!E:E))","v":""},{"$f":"IF(B3766=\"\",\"\",LOOKUP(B3766,Spiele!B:B,Spiele!F:F))","v":""},"","","",null,null,-1,-1,1,0]
[null,null,{"$f":"IF(B3767=\"\",\"\",LOOKUP(B3767,Spiele!B:B,Spiele!C:C))","v":""},{"$f":"IF(B3767=\"\",\"\",LOOKUP(B3767,Spiele!B:B,Spiele!D:D))","v":""},{"$f":"IF(B3767=\"\",\"\",LOOKUP(B3767,Spiele!B:B,Spiele!E:E))","v":""},{"$f":"IF(B3767=\"\",\"\",LOOKUP(B3767,Spiele!B:B,Spiele!F:F))","v":""},"","","",null,null,-1,-1,1,0]
[null,null,{"$f":"IF(B3772=\"\",\"\",LOOKUP(B3772,Spiele!B:B,Spiele!C:C))","v":""},{"$f":"IF(B3772=\"\",\"\",LOOKUP(B3772,Spiele!B:B,Spiele!D:D))","v":""},{"$f":"IF(B3772=\"\",\"\",LOOKUP(B3772,Spiele!B:B,Spiele!E:E))","v":""},{"$f":"IF(B3772=\"\",\"\",LOOKUP(B3772,Spiele!B:B,Spiele!F:F))","v":""},"","","",null,null,-1,-1,1,0]
[null,null,{"$f":"IF(B3776=\"\",\"\",LOOKUP(B3776,Spiele!B:B,Spiele!C:C))","v":""},{"$f":"IF(B3776=\"\",\"\",LOOKUP(B3776,Spiele!B:B,Spiele!D:D))","v":""},{"$f":"IF(B3776=\"\",\"\",LOOKUP(B3776,Spiele!B:B,Spiele!E:E))","v":""},{"$f":"IF(B3776=\"\",\"\",LOOKUP(B3776,Spiele!B:B,Spiele!F:F))","v":""},"","","",null,null,-1,-1,1,0]
[null,null,{"$f":"IF(B3781=\"\",\"\",LOOKUP(B3781,Spiele!B:B,Spiele!C:C))","v":""},{"$f":"IF(B3781=\"\",\"\",LOOKUP(B3781,Spiele!B:B,Spiele!D:D))","v":""},{"$f":"IF(B3781=\"\",\"\",LOOKUP(B3781,Spiele!B:B,Spiele!E:E))","v":""},{"$f":"IF(B3781=\"\",\"\",LOOKUP(B3781,Spiele!B:B,Spiele!F:F))","v":""},"","","",null,null,-1,-1,1,0]
[null,null,{"$f":"IF(B3782=\"\",\"\",LOOKUP(B3782,Spiele!B:B,Spiele!C:C))","v":""},{"$f":"IF(B3782=\"\",\"\",LOOKUP(B3782,Spiele!B:B,Spiele!D:D))","v":""},{"$f":"IF(B3782=\"\",\"\",LOOKUP(B3782,Spiele!B:B,Spiele!E:E))","v":""},{"$f":"IF(B3782=\"\",\"\",LOOKUP(B3782,Spiele!B:B,Spiele!F:F))","v":""},"","","",null,null,-1,-1,1,0]
[null,null,{"$f":"IF(B3787=\"\",\"\",LOOKUP(B3787,Spiele!B:B,Spiele!C:C))","v":""},{"$f":"IF(B3787=\"\",\"\",LOOKUP(B3787,Spiele!B:B,Spiele!D:D))","v":""},{"$f":"IF(B3787=\"\",\"\",LOOKUP(B3787,Spiele!B:B,Spiele!E:E))","v":""},{"$f":"IF(B3787=\"\",\"\",LOOKUP(B3787,Spiele!B:B,Spiele!F:F))","v":""},"","","",null,null,-1,-1,1,0]
[null,null,{"$f":"IF(B3790=\"\",\"\",LOOKUP(B3790,Spiele!B:B,Spiele!C:C))","v":""},{"$f":"IF(B3790=\"\",\"\",LOOKUP(B3790,Spiele!B:B,Spiele!D:D))","v":""},{"$f":"IF(B3790=\"\",\"\",LOOKUP(B3790,Spiele!B:B,Spiele!E:E))","v":""},{"$f":"IF(B3790=\"\",\"\",LOOKUP(B3790,Spiele!B:B,Spiele!F:F))","v":""},"","","",null,null,-1,-1,1,0]
[null,null,{"$f":"IF(B3796=\"\",\"\",LOOKUP(B3796,Spiele!B:B,Spiele!C:C))","v":""},{"$f":"IF(B3796=\"\",\"\",LOOKUP(B3796,Spiele!B:B,Spiele!D:D))","v":""},{"$f":"IF(B3796=\"\",\"\",LOOKUP(B3796,Spiele!B:B,Spiele!E:E))","v":""},{"$f":"IF(B3796=\"\",\"\",LOOKUP(B3796,Spiele!B:B,Spiele!F:F))","v":""},"","","",null,null,-1,-1,1,0]
[null,null,{"$f":"IF(B3797=\"\",\"\",LOOKUP(B3797,Spiele!B:B,Spiele!C:C))","v":""},{"$f":"IF(B3797=\"\",\"\",LOOKUP(B3797,Spiele!B:B,Spiele!D:D))","v":""},{"$f":"IF(B3797=\"\",\"\",LOOKUP(B3797,Spiele!B:B,Spiele!E:E))","v":""},{"$f":"IF(B3797=\"\",\"\",LOOKUP(B3797,Spiele!B:B,Spiele!F:F))","v":""},"","","",null,null,-1,-1,1,0]
[null,null,{"$f":"IF(B3802=\"\",\"\",LOOKUP(B3802,Spiele!B:B,Spiele!C:C))","v":""},{"$f":"IF(B3802=\"\",\"\",LOOKUP(B3802,Spiele!B:B,Spiele!D:D))","v":""},{"$f":"IF(B3802=\"\",\"\",LOOKUP(B3802,Spiele!B:B,Spiele!E:E))","v":""},{"$f":"IF(B3802=\"\",\"\",LOOKUP(B3802,Spiele!B:B,Spiele!F:F))","v":""},"","","",null,null,-1,-1,1,0]
[null,null,{"$f":"IF(B3806=\"\",\"\",LOOKUP(B3806,Spiele!B:B,Spiele!C:C))","v":""},{"$f":"IF(B3806=\"\",\"\",LOOKUP(B3806,Spiele!B:B,Spiele!D:D))","v":""},{"$f":"IF(B3806=\"\",\"\",LOOKUP(B3806,Spiele!B:B,Spiele!E:E))","v":""},{"$f":"IF(B3806=\"\",\"\",LOOKUP(B3806,Spiele!B:B,Spiele!F:F))","v":""},"","","",null,null,-1,-1,1,0]
[null,null,{"$f":"IF(B3811=\"\",\"\",LOOKUP(B3811,Spiele!B:B,Spiele!C:C))","v":""},{"$f":"IF(B3811=\"\",\"\",LOOKUP(B3811,Spiele!B:B,Spiele!D:D))","v":""},{"$f":"IF(B3811=\"\",\"\",LOOKUP(B3811,Spiele!B:B,Spiele!E:E))","v":""},{"$f":"IF(B3811=\"\",\"\",LOOKUP(B3811,Spiele!B:B,Spiele!F:F))","v":""},"","","",null,null,-1,-1,1,0]
[null,null,{"$f":"IF(B3812=\"\",\"\",LOOKUP(B3812,Spiele!B:B,Spiele!C:C))","v":""},{"$f":"IF(B3812=\"\",\"\",LOOKUP(B3812,Spiele!B:B,Spiele!D:D))","v":""},{"$f":"IF(B3812=\"\",\"\",LOOKUP(B3812,Spiele!B:B,Spiele!E:E))","v":""},{"$f":"IF(B3812=\"\",\"\",LOOKUP(B3812,Spiele!B:B,Spiele!F:F))","v":""},"","","",null,null,-1,-1,1,0]
[null,null,{"$f":"IF(B3817=\"\",\"\",LOOKUP(B3817,Spiele!B:B,Spiele!C:C))","v":""},{"$f":"IF(B3817=\"\",\"\",LOOKUP(B3817,Spiele!B:B,Spiele!D:D))","v":""},{"$f":"IF(B3817=\"\",\"\",LOOKUP(B3817,Spiele!B:B,Spiele!E:E))","v":""},{"$f":"IF(B3817=\"\",\"\",LOOKUP(B3817,Spiele!B:B,Spiele!F:F))","v":""},"","","",null,null,-1,-1,1,0]
[null,null,{"$f":"IF(B3820=\"\",\"\",LOOKUP(B3820,Spiele!B:B,Spiele!C:C))","v":""},{"$f":"IF(B3820=\"\",\"\",LOOKUP(B3820,Spiele!B:B,Spiele!D:D))","v":""},{"$f":"IF(B3820=\"\",\"\",LOOKUP(B3820,Spiele!B:B,Spiele!E:E))","v":""},{"$f":"IF(B3820=\"\",\"\",LOOKUP(B3820,Spiele!B:B,Spiele!F:F))","v":""},"","","",null,null,-1,-1,1,0]
[null,null,{"$f":"IF(B3826=\"\",\"\",LOOKUP(B3826,Spiele!B:B,Spiele!C:C))","v":""},{"$f":"IF(B3826=\"\",\"\",LOOKUP(B3826,Spiele!B:B,Spiele!D:D))","v":""},{"$f":"IF(B3826=\"\",\"\",LOOKUP(B3826,Spiele!B:B,Spiele!E:E))","v":""},{"$f":"IF(B3826=\"\",\"\",LOOKUP(B3826,Spiele!B:B,Spiele!F:F))","v":""},"","","",null,null,-1,-1,1,0]
[null,null,{"$f":"IF(B3827=\"\",\"\",LOOKUP(B3827,Spiele!B:B,Spiele!C:C))","v":""},{"$f":"IF(B3827=\"\",\"\",LOOKUP(B3827,Spiele!B:B,Spiele!D:D))","v":""},{"$f":"IF(B3827=\"\",\"\",LOOKUP(B3827,Spiele!B:B,Spiele!E:E))","v":""},{"$f":"IF(B3827=\"\",\"\",LOOKUP(B3827,Spiele!B:B,Spiele!F:F))","v":""},"","","",null,null,-1,-1,1,0]
[null,null,{"$f":"IF(B3832=\"\",\"\",LOOKUP(B3832,Spiele!B:B,Spiele!C:C))","v":""},{"$f":"IF(B3832=\"\",\"\",LOOKUP(B3832,Spiele!B:B,Spiele!D:D))","v":""},{"$f":"IF(B3832=\"\",\"\",LOOKUP(B3832,Spiele!B:B,Spiele!E:E))","v":""},{"$f":"IF(B3832=\"\",\"\",LOOKUP(B3832,Spiele!B:B,Spiele!F:F))","v":""},{"$f":"IF(E3832=\"\",\"\",IF(E3832>F3832,1,0))","v":""},{"$f":"IF(F3832=\"\",\"\",IF(E3832<F3832,1,0))","v":""},{"$f":"IF(E3832=\"\",\"\",IF(E3832=F3832,1,0))","v":""},null,null,{"$f":"IF(E3832=\"\",-1,IF(J3832>K3832,1,-1))","v":-1},{"$f":"IF(F3832=\"\",-1,IF(J3832<K3832,1,-1))","v":-1},{"$f":"IF(E3832=\"-\",-1,IF(J3832=K3832,1,-1))","v":1},{"$f":"IF(E3832=\"\",0,IF(E3832=J3832,1,0)+IF(F3832=K3832,1,0)+IF(G3832=L3832,1,0)+IF(H3832=M3832,1,0)+IF(I3832=N3832,1,0))","v":0}]
[null,null,{"$f":"IF(B3836=\"\",\"\",LOOKUP(B3836,Spiele!B:B,Spiele!C:C))","v":""},{"$f":"IF(B3836=\"\",\"\",LOOKUP(B3836,Spiele!B:B,Spiele!D:D))","v":""},{"$f":"IF(B3836=\"\",\"\",LOOKUP(B3836,Spiele!B:B,Spiele!E:E))","v":""},{"$f":"IF(B3836=\"\",\"\",LOOKUP(B3836,Spiele!B:B,Spiele!F:F))","v":""},"","","",null,null,-1,-1,1,0]
[null,null,{"$f":"IF(B3841=\"\",\"\",LOOKUP(B3841,Spiele!B:B,Spiele!C:C))","v":""},{"$f":"IF(B3841=\"\",\"\",LOOKUP(B3841,Spiele!B:B,Spiele!D:D))","v":""},{"$f":"IF(B3841=\"\",\"\",LOOKUP(B3841,Spiele!B:B,Spiele!E:E))","v":""},{"$f":"IF(B3841=\"\",\"\",LOOKUP(B3841,Spiele!B:B,Spiele!F:F))","v":""},"","","",null,null,-1,-1,1,0]
[null,null,{"$f":"IF(B3842=\"\",\"\",LOOKUP(B3842,Spiele!B:B,Spiele!C:C))","v":""},{"$f":"IF(B3842=\"\",\"\",LOOKUP(B3842,Spiele!B:B,Spiele!D:D))","v":""},{"$f":"IF(B3842=\"\",\"\",LOOKUP(B3842,Spiele!B:B,Spiele!E:E))","v":""},{"$f":"IF(B3842=\"\",\"\",LOOKUP(B3842,Spiele!B:B,Spiele!F:F))","v":""},"","","",null,null,-1,-1,1,0]
[null,null,{"$f":"IF(B3847=\"\",\"\",LOOKUP(B3847,Spiele!B:B,Spiele!C:C))","v":""},{"$f":"IF(B3847=\"\",\"\",LOOKUP(B3847,Spiele!B:B,Spiele!D:D))","v":""},{"$f":"IF(B3847=\"\",\"\",LOOKUP(B3847,Spiele!B:B,Spiele!E:E))","v":""},{"$f":"IF(B3847=\"\",\"\",LOOKUP(B3847,Spiele!B:B,Spiele!F:F))","v":""},"","","",null,null,-1,-1,1,0]
[null,null,{"$f":"IF(B3850=\"\",\"\",LOOKUP(B3850,Spiele!B:B,Spiele!C:C))","v":""},{"$f":"IF(B3850=\"\",\"\",LOOKUP(B3850,Spiele!B:B,Spiele!D:D))","v":""},{"$f":"IF(B3850=\"\",\"\",LOOKUP(B3850,Spiele!B:B,Spiele!E:E))","v":""},{"$f":"IF(B3850=\"\",\"\",LOOKUP(B3850,Spiele!B:B,Spiele!F:F))","v":""},"","","",null,null,-1,-1,1,0]
[null,null,{"$f":"IF(B3856=\"\",\"\",LOOKUP(B3856,Spiele!B:B,Spiele!C:C))","v":""},{"$f":"IF(B3856=\"\",\"\",LOOKUP(B3856,Spiele!B:B,Spiele!D:D))","v":""},{"$f":"IF(B3856=\"\",\"\",LOOKUP(B3856,Spiele!B:B,Spiele!E:E))","v":""},{"$f":"IF(B3856=\"\",\"\",LOOKUP(B3856,Spiele!B:B,Spiele!F:F))","v":""},"","","",null,null,-1,-1,1,0]
[null,null,{"$f":"IF(B3857=\"\",\"\",LOOKUP(B3857,Spiele!B:B,Spiele!C:C))","v":""},{"$f":"IF(B3857=\"\",\"\",LOOKUP(B3857,Spiele!B:B,Spiele!D:D))","v":""},{"$f":"IF(B3857=\"\",\"\",LOOKUP(B3857,Spiele!B:B,Spiele!E:E))","v":""},{"$f":"IF(B3857=\"\",\"\",LOOKUP(B3857,Spiele!B:B,Spiele!F:F))","v":""},"","","",null,null,-1,-1,1,0]
[null,null,{"$f":"IF(B3862=\"\",\"\",LOOKUP(B3862,Spiele!B:B,Spiele!C:C))","v":""},{"$f":"IF(B3862=\"\",\"\",LOOKUP(B3862,Spiele!B:B,Spiele!D:D))","v":""},{"$f":"IF(B3862=\"\",\"\",LOOKUP(B3862,Spiele!B:B,Spiele!E:E))","v":""},{"$f":"IF(B3862=\"\",\"\",LOOKUP(B3862,Spiele!B:B,Spiele!F:F))","v":""},"","","",null,null,-1,-1,1,0]
[null,null,{"$f":"IF(B3866=\"\",\"\",LOOKUP(B3866,Spiele!B:B,Spiele!C:C))","v":""},{"$f":"IF(B3866=\"\",\"\",LOOKUP(B3866,Spiele!B:B,Spiele!D:D))","v":""},{"$f":"IF(B3866=\"\",\"\",LOOKUP(B3866,Spiele!B:B,Spiele!E:E))","v":""},{"$f":"IF(B3866=\"\",\"\",LOOKUP(B3866,Spiele!B:B,Spiele!F:F))","v":""},"","","",null,null,-1,-1,1,0]
[null,null,{"$f":"IF(B3871=\"\",\"\",LOOKUP(B3871,Spiele!B:B,Spiele!C:C))","v":""},{"$f":"IF(B3871=\"\",\"\",LOOKUP(B3871,Spiele!B:B,Spiele!D:D))","v":""},{"$f":"IF(B3871=\"\",\"\",LOOKUP(B3871,Spiele!B:B,Spiele!E:E))","v":""},{"$f":"IF(B3871=\"\",\"\",LOOKUP(B3871,Spiele!B:B,Spiele!F:F))","v":""},"","","",null,null,-1,-1,1,0]
[null,null,{"$f":"IF(B3872=\"\",\"\",LOOKUP(B3872,Spiele!B:B,Spiele!C:C))","v":""},{"$f":"IF(B3872=\"\",\"\",LOOKUP(B3872,Spiele!B:B,Spiele!D:D))","v":""},{"$f":"IF(B3872=\"\",\"\",LOOKUP(B3872,Spiele!B:B,Spiele!E:E))","v":""},{"$f":"IF(B3872=\"\",\"\",LOOKUP(B3872,Spiele!B:B,Spiele!F:F))","v":""},"","","",null,null,-1,-1,1,0]
[null,null,{"$f":"IF(B3877=\"\",\"\",LOOKUP(B3877,Spiele!B:B,Spiele!C:C))","v":""},{"$f":"IF(B3877=\"\",\"\",LOOKUP(B3877,Spiele!B:B,Spiele!D:D))","v":""},{"$f":"IF(B3877=\"\",\"\",LOOKUP(B3877,Spiele!B:B,Spiele!E:E))","v":""},{"$f":"IF(B3877=\"\",\"\",LOOKUP(B3877,Spiele!B:B,Spiele!F:F))","v":""},"","","",null,null,-1,-1,1,0]
[null,null,{"$f":"IF(B3882=\"\",\"\",LOOKUP(B3882,Spiele!B:B,Spiele!C:C))","v":""},{"$f":"IF(B3882=\"\",\"\",LOOKUP(B3882,Spiele!B:B,Spiele!D:D))","v":""},{"$f":"IF(B3882=\"\",\"\",LOOKUP(B3882,Spiele!B:B,Spiele!E:E))","v":""},{"$f":"IF(B3882=\"\",\"\",LOOKUP(B3882,Spiele!B:B,Spiele!F:F))","v":""},"","","",null,null,-1,-1,1,0]
[null,null,{"$f":"IF(B3884=\"\",\"\",LOOKUP(B3884,Spiele!B:B,Spiele!C:C))","v":""},{"$f":"IF(B3884=\"\",\"\",LOOKUP(B3884,Spiele!B:B,Spiele!D:D))","v":""},{"$f":"IF(B3884=\"\",\"\",LOOKUP(B3884,Spiele!B:B,Spiele!E:E))","v":""},{"$f":"IF(B3884=\"\",\"\",LOOKUP(B3884,Spiele!B:B,Spiele!F:F))","v":""},"","","",null,null,-1,-1,1,0]
[null,null,{"$f":"IF(B3887=\"\",\"\",LOOKUP(B3887,Spiele!B:B,Spiele!C:C))","v":""},{"$f":"IF(B3887=\"\",\"\",LOOKUP(B3887,Spiele!B:B,Spiele!D:D))","v":""},{"$f":"IF(B3887=\"\",\"\",LOOKUP(B3887,Spiele!B:B,Spiele!E:E))","v":""},{"$f":"IF(B3887=\"\",\"\",LOOKUP(B3887,Spiele!B:B,Spiele!F:F))","v":""},"","","",null,null,-1,-1,1,0]
[null,null,{"$f":"IF(B3892=\"\",\"\",LOOKUP(B3892,Spiele!B:B,Spiele!C:C))","v":""},{"$f":"IF(B3892=\"\",\"\",LOOKUP(B3892,Spiele!B:B,Spiele!D:D))","v":""},{"$f":"IF(B3892=\"\",\"\",LOOKUP(B3892,Spiele!B:B,Spiele!E:E))","v":""},{"$f":"IF(B3892=\"\",\"\",LOOKUP(B3892,Spiele!B:B,Spiele!F:F))","v":""},"","","",null,null,-1,-1,1,0]
[null,null,{"$f":"IF(B3897=\"\",\"\",LOOKUP(B3897,Spiele!B:B,Spiele!C:C))","v":""},{"$f":"IF(B3897=\"\",\"\",LOOKUP(B3897,Spiele!B:B,Spiele!D:D))","v":""},{"$f":"IF(B3897=\"\",\"\",LOOKUP(B3897,Spiele!B:B,Spiele!E:E))","v":""},{"$f":"IF(B3897=\"\",\"\",LOOKUP(B3897,Spiele!B:B,Spiele!F:F))","v":""},"","","",null,null,-1,-1,1,0]
[null,null,{"$f":"IF(B3901=\"\",\"\",LOOKUP(B3901,Spiele!B:B,Spiele!C:C))","v":""},{"$f":"IF(B3901=\"\",\"\",LOOKUP(B3901,Spiele!B:B,Spiele!D:D))","v":""},{"$f":"IF(B3901=\"\",\"\",LOOKUP(B3901,Spiele!B:B,Spiele!E:E))","v":""},{"$f":"IF(B3901=\"\",\"\",LOOKUP(B3901,Spiele!B:B,Spiele!F:F))","v":""},"","","",null,null,-1,-1,1,0]
[null,null,{"$f":"IF(B3902=\"\",\"\",LOOKUP(B3902,Spiele!B:B,Spiele!C:C))","v":""},{"$f":"IF(B3902=\"\",\"\",LOOKUP(B3902,Spiele!B:B,Spiele!D:D))","v":""},{"$f":"IF(B3902=\"\",\"\",LOOKUP(B3902,Spiele!B:B,Spiele!E:E))","v":""},{"$f":"IF(B3902=\"\",\"\",LOOKUP(B3902,Spiele!B:B,Spiele!F:F))","v":""},"","","",null,null,-1,-1,1,0]
[null,null,{"$f":"IF(B3907=\"\",\"\",LOOKUP(B3907,Spiele!B:B,Spiele!C:C))","v":""},{"$f":"IF(B3907=\"\",\"\",LOOKUP(B3907,Spiele!B:B,Spiele!D:D))","v":""},{"$f":"IF(B3907=\"\",\"\",LOOKUP(B3907,Spiele!B:B,Spiele!E:E))","v":""},{"$f":"IF(B3907=\"\",\"\",LOOKUP(B3907,Spiele!B:B,Spiele!F:F))","v":""},"","","",null,null,-1,-1,1,0]
[null,null,{"$f":"IF(B3912=\"\",\"\",LOOKUP(B3912,Spiele!B:B,Spiele!C:C))","v":""},{"$f":"IF(B3912=\"\",\"\",LOOKUP(B3912,Spiele!B:B,Spiele!D:D))","v":""},{"$f":"IF(B3912=\"\",\"\",LOOKUP(B3912,Spiele!B:B,Spiele!E:E))","v":""},{"$f":"IF(B3912=\"\",\"\",LOOKUP(B3912,Spiele!B:B,Spiele!F:F))","v":""},"","","",null,null,-1,-1,1,0]
[null,null,{"$f":"IF(B3914=\"\",\"\",LOOKUP(B3914,Spiele!B:B,Spiele!C:C))","v":""},{"$f":"IF(B3914=\"\",\"\",LOOKUP(B3914,Spiele!B:B,Spiele!D:D))","v":""},{"$f":"IF(B3914=\"\",\"\",LOOKUP(B3914,Spiele!B:B,Spiele!E:E))","v":""},{"$f":"IF(B3914=\"\",\"\",LOOKUP(B3914,Spiele!B:B,Spiele!F:F))","v":""},"","","",null,null,-1,-1,1,0]
[null,null,{"$f":"IF(B3917=\"\",\"\",LOOKUP(B3917,Spiele!B:B,Spiele!C:C))","v":""},{"$f":"IF(B3917=\"\",\"\",LOOKUP(B3917,Spiele!B:B,Spiele!D:D))","v":""},{"$f":"IF(B3917=\"\",\"\",LOOKUP(B3917,Spiele!B:B,Spiele!E:E))","v":""},{"$f":"IF(B3917=\"\",\"\",LOOKUP(B3917,Spiele!B:B,Spiele!F:F))","v":""},"","","",null,null,-1,-1,1,0]
[null,null,{"$f":"IF(B3922=\"\",\"\",LOOKUP(B3922,Spiele!B:B,Spiele!C:C))","v":""},{"$f":"IF(B3922=\"\",\"\",LOOKUP(B3922,Spiele!B:B,Spiele!D:D))","v":""},{"$f":"IF(B3922=\"\",\"\",LOOKUP(B3922,Spiele!B:B,Spiele!E:E))","v":""},{"$f":"IF(B3922=\"\",\"\",LOOKUP(B3922,Spiele!B:B,Spiele!F:F))","v":""},"","","",null,null,-1,-1,1,0]
[null,null,{"$f":"IF(B3927=\"\",\"\",LOOKUP(B3927,Spiele!B:B,Spiele!C:C))","v":""},{"$f":"IF(B3927=\"\",\"\",LOOKUP(B3927,Spiele!B:B,Spiele!D:D))","v":""},{"$f":"IF(B3927=\"\",\"\",LOOKUP(B3927,Spiele!B:B,Spiele!E:E))","v":""},{"$f":"IF(B3927=\"\",\"\",LOOKUP(B3927,Spiele!B:B,Spiele!F:F))","v":""},"","","",null,null,-1,-1,1,0]
[null,null,{"$f":"IF(B3931=\"\",\"\",LOOKUP(B3931,Spiele!B:B,Spiele!C:C))","v":""},{"$f":"IF(B3931=\"\",\"\",LOOKUP(B3931,Spiele!B:B,Spiele!D:D))","v":""},{"$f":"IF(B3931=\"\",\"\",LOOKUP(B3931,Spiele!B:B,Spiele!E:E))","v":""},{"$f":"IF(B3931=\"\",\"\",LOOKUP(B3931,Spiele!B:B,Spiele!F:F))","v":""},"","","",null,null,-1,-1,1,0]
[null,null,{"$f":"IF(B3932=\"\",\"\",LOOKUP(B3932,Spiele!B:B,Spiele!C:C))","v":""},{"$f":"IF(B3932=\"\",\"\",LOOKUP(B3932,Spiele!B:B,Spiele!D:D))","v":""},{"$f":"IF(B3932=\"\",\"\",LOOKUP(B3932,Spiele!B:B,Spiele!E:E))","v":""},{"$f":"IF(B3932=\"\",\"\",LOOKUP(B3932,Spiele!B:B,Spiele!F:F))","v":""},"","","",null,null,-1,-1,1,0]
[null,null,{"$f":"IF(B3937=\"\",\"\",LOOKUP(B3937,Spiele!B:B,Spiele!C:C))","v":""},{"$f":"IF(B3937=\"\",\"\",LOOKUP(B3937,Spiele!B:B,Spiele!D:D))","v":""},{"$f":"IF(B3937=\"\",\"\",LOOKUP(B3937,Spiele!B:B,Spiele!E:E))","v":""},{"$f":"IF(B3937=\"\",\"\",LOOKUP(B3937,Spiele!B:B,Spiele!F:F))","v":""},"","","",null,null,-1,-1,1,0]
[null,null,{"$f":"IF(B3942=\"\",\"\",LOOKUP(B3942,Spiele!B:B,Spiele!C:C))","v":""},{"$f":"IF(B3942=\"\",\"\",LOOKUP(B3942,Spiele!B:B,Spiele!D:D))","v":""},{"$f":"IF(B3942=\"\",\"\",LOOKUP(B3942,Spiele!B:B,Spiele!E:E))","v":""},{"$f":"IF(B3942=\"\",\"\",LOOKUP(B3942,Spiele!B:B,Spiele!F:F))","v":""},"","","",null,null,-1,-1,1,0]
[null,null,{"$f":"IF(B3944=\"\",\"\",LOOKUP(B3944,Spiele!B:B,Spiele!C:C))","v":""},{"$f":"IF(B3944=\"\",\"\",LOOKUP(B3944,Spiele!B:B,Spiele!D:D))","v":""},{"$f":"IF(B3944=\"\",\"\",LOOKUP(B3944,Spiele!B:B,Spiele!E:E))","v":""},{"$f":"IF(B3944=\"\",\"\",LOOKUP(B3944,Spiele!B:B,Spiele!F:F))","v":""},"","","",null,null,-1,-1,1,0]
[null,null,{"$f":"IF(B3947=\"\",\"\",LOOKUP(B3947,Spiele!B:B,Spiele!C:C))","v":""},{"$f":"IF(B3947=\"\",\"\",LOOKUP(B3947,Spiele!B:B,Spiele!D:D))","v":""},{"$f":"IF(B3947=\"\",\"\",LOOKUP(B3947,Spiele!B:B,Spiele!E:E))","v":""},{"$f":"IF(B3947=\"\",\"\",LOOKUP(B3947,Spiele!B:B,Spiele!F:F))","v":""},"","","",null,null,-1,-1,1,0]
[null,null,{"$f":"IF(B3952=\"\",\"\",LOOKUP(B3952,Spiele!B:B,Spiele!C:C))","v":""},{"$f":"IF(B3952=\"\",\"\",LOOKUP(B3952,Spiele!B:B,Spiele!D:D))","v":""},{"$f":"IF(B3952=\"\",\"\",LOOKUP(B3952,Spiele!B:B,Spiele!E:E))","v":""},{"$f":"IF(B3952=\"\",\"\",LOOKUP(B3952,Spiele!B:B,Spiele!F:F))","v":""},"","","",null,null,-1,-1,1,0]
[null,null,{"$f":"IF(B3957=\"\",\"\",LOOKUP(B3957,Spiele!B:B,Spiele!C:C))","v":""},{"$f":"IF(B3957=\"\",\"\",LOOKUP(B3957,Spiele!B:B,Spiele!D:D))","v":""},{"$f":"IF(B3957=\"\",\"\",LOOKUP(B3957,Spiele!B:B,Spiele!E:E))","v":""},{"$f":"IF(B3957=\"\",\"\",LOOKUP(B3957,Spiele!B:B,Spiele!F:F))","v":""},"","","",null,null,-1,-1,1,0]
[null,null,{"$f":"IF(B3961=\"\",\"\",LOOKUP(B3961,Spiele!B:B,Spiele!C:C))","v":""},{"$f":"IF(B3961=\"\",\"\",LOOKUP(B3961,Spiele!B:B,Spiele!D:D))","v":""},{"$f":"IF(B3961=\"\",\"\",LOOKUP(B3961,Spiele!B:B,Spiele!E:E))","v":""},{"$f":"IF(B3961=\"\",\"\",LOOKUP(B3961,Spiele!B:B,Spiele!F:F))","v":""},"","","",null,null,-1,-1,1,0]
[null,null,{"$f":"IF(B3962=\"\",\"\",LOOKUP(B3962,Spiele!B:B,Spiele!C:C))","v":""},{"$f":"IF(B3962=\"\",\"\",LOOKUP(B3962,Spiele!B:B,Spiele!D:D))","v":""},{"$f":"IF(B3962=\"\",\"\",LOOKUP(B3962,Spiele!B:B,Spiele!E:E))","v":""},{"$f":"IF(B3962=\"\",\"\",LOOKUP(B3962,Spiele!B:B,Spiele!F:F))","v":""},"","","",null,null,-1,-1,1,0]
[null,null,{"$f":"IF(B3967=\"\",\"\",LOOKUP(B3967,Spiele!B:B,Spiele!C:C))","v":""},{"$f":"IF(B3967=\"\",\"\",LOOKUP(B3967,Spiele!B:B,Spiele!D:D))","v":""},{"$f":"IF(B3967=\"\",\"\",LOOKUP(B3967,Spiele!B:B,Spiele!E:E))","v":""},{"$f":"IF(B3967=\"\",\"\",LOOKUP(B3967,Spiele!B:B,Spiele!F:F))","v":""},"","","",null,null,-1,-1,1,0]
[null,null,{"$f":"IF(B3972=\"\",\"\",LOOKUP(B3972,Spiele!B:B,Spiele!C:C))","v":""},{"$f":"IF(B3972=\"\",\"\",LOOKUP(B3972,Spiele!B:B,Spiele!D:D))","v":""},{"$f":"IF(B3972=\"\",\"\",LOOKUP(B3972,Spiele!B:B,Spiele!E:E))","v":""},{"$f":"IF(B3972=\"\",\"\",LOOKUP(B3972,Spiele!B:B,Spiele!F:F))","v":""},"","","",null,null,-1,-1,1,0]
[null,null,{"$f":"IF(B3974=\"\",\"\",LOOKUP(B3974,Spiele!B:B,Spiele!C:C))","v":""},{"$f":"IF(B3974=\"\",\"\",LOOKUP(B3974,Spiele!B:B,Spiele!D:D))","v":""},{"$f":"IF(B3974=\"\",\"\",LOOKUP(B3974,Spiele!B:B,Spiele!E:E))","v":""},{"$f":"IF(B3974=\"\",\"\",LOOKUP(B3974,Spiele!B:B,Spiele!F:F))","v":""},"","","",null,null,-1,-1,1,0]
[null,null,{"$f":"IF(B3977=\"\",\"\",LOOKUP(B3977,Spiele!B:B,Spiele!C:C))","v":""},{"$f":"IF(B3977=\"\",\"\",LOOKUP(B3977,Spiele!B:B,Spiele!D:D))","v":""},{"$f":"IF(B3977=\"\",\"\",LOOKUP(B3977,Spiele!B:B,Spiele!E:E))","v":""},{"$f":"IF(B3977=\"\",\"\",LOOKUP(B3977,Spiele!B:B,Spiele!F:F))","v":""},"","","",null,null,-1,-1,1,0]
[null,null,{"$f":"IF(B3982=\"\",\"\",LOOKUP(B3982,Spiele!B:B,Spiele!C:C))","v":""},{"$f":"IF(B3982=\"\",\"\",LOOKUP(B3982,Spiele!B:B,Spiele!D:D))","v":""},{"$f":"IF(B3982=\"\",\"\",LOOKUP(B3982,Spiele!B:B,Spiele!E:E))","v":""},{"$f":"IF(B3982=\"\",\"\",LOOKUP(B3982,Spiele!B:B,Spiele!F:F))","v":""},"","","",null,null,-1,-1,1,0]
[null,null,{"$f":"IF(B3987=\"\",\"\",LOOKUP(B3987,Spiele!B:B,Spiele!C:C))","v":""},{"$f":"IF(B3987=\"\",\"\",LOOKUP(B3987,Spiele!B:B,Spiele!D:D))","v":""},{"$f":"IF(B3987=\"\",\"\",LOOKUP(B3987,Spiele!B:B,Spiele!E:E))","v":""},{"$f":"IF(B3987=\"\",\"\",LOOKUP(B3987,Spiele!B:B,Spiele!F:F))","v":""},"","","",null,null,-1,-1,1,0]
[null,null,{"$f":"IF(B3991=\"\",\"\",LOOKUP(B3991,Spiele!B:B,Spiele!C:C))","v":""},{"$f":"IF(B3991=\"\",\"\",LOOKUP(B3991,Spiele!B:B,Spiele!D:D))","v":""},{"$f":"IF(B3991=\"\",\"\",LOOKUP(B3991,Spiele!B:B,Spiele!E:E))","v":""},{"$f":"IF(B3991=\"\",\"\",LOOKUP(B3991,Spiele!B:B,Spiele!F:F))","v":""},"","","",null,null,-1,-1,1,0]
[null,null,{"$f":"IF(B3992=\"\",\"\",LOOKUP(B3992,Spiele!B:B,Spiele!C:C))","v":""},{"$f":"IF(B3992=\"\",\"\",LOOKUP(B3992,Spiele!B:B,Spiele!D:D))","v":""},{"$f":"IF(B3992=\"\",\"\",LOOKUP(B3992,Spiele!B:B,Spiele!E:E))","v":""},{"$f":"IF(B3992=\"\",\"\",LOOKUP(B3992,Spiele!B:B,Spiele!F:F))","v":""},"","","",null,null,-1,-1,1,0]
[null,null,{"$f":"IF(B3997=\"\",\"\",LOOKUP(B3997,Spiele!B:B,Spiele!C:C))","v":""},{"$f":"IF(B3997=\"\",\"\",LOOKUP(B3997,Spiele!B:B,Spiele!D:D))","v":""},{"$f":"IF(B3997=\"\",\"\",LOOKUP(B3997,Spiele!B:B,Spiele!E:E))","v":""},{"$f":"IF(B3997=\"\",\"\",LOOKUP(B3997,Spiele!B:B,Spiele!F:F))","v":""},"","","",null,null,-1,-1,1,0]
[null,null,{"$f":"IF(B4002=\"\",\"\",LOOKUP(B4002,Spiele!B:B,Spiele!C:C))","v":""},{"$f":"IF(B4002=\"\",\"\",LOOKUP(B4002,Spiele!B:B,Spiele!D:D))","v":""},{"$f":"IF(B4002=\"\",\"\",LOOKUP(B4002,Spiele!B:B,Spiele!E:E))","v":""},{"$f":"IF(B4002=\"\",\"\",LOOKUP(B4002,Spiele!B:B,Spiele!F:F))","v":""},"","","",null,null,-1,-1,1,0]
[null,null,{"$f":"IF(B4004=\"\",\"\",LOOKUP(B4004,Spiele!B:B,Spiele!C:C))","v":""},{"$f":"IF(B4004=\"\",\"\",LOOKUP(B4004,Spiele!B:B,Spiele!D:D))","v":""},{"$f":"IF(B4004=\"\",\"\",LOOKUP(B4004,Spiele!B:B,Spiele!E:E))","v":""},{"$f":"IF(B4004=\"\",\"\",LOOKUP(B4004,Spiele!B:B,Spiele!F:F))","v":""},"","","",null,null,-1,-1,1,0]
[null,null,{"$f":"IF(B4007=\"\",\"\",LOOKUP(B4007,Spiele!B:B,Spiele!C:C))","v":""},{"$f":"IF(B4007=\"\",\"\",LOOKUP(B4007,Spiele!B:B,Spiele!D:D))","v":""},{"$f":"IF(B4007=\"\",\"\",LOOKUP(B4007,Spiele!B:B,Spiele!E:E))","v":""},{"$f":"IF(B4007=\"\",\"\",LOOKUP(B4007,Spiele!B:B,Spiele!F:F))","v":""},"","","",null,null,-1,-1,1,0]
[null,null,{"$f":"IF(B4012=\"\",\"\",LOOKUP(B4012,Spiele!B:B,Spiele!C:C))","v":""},{"$f":"IF(B4012=\"\",\"\",LOOKUP(B4012,Spiele!B:B,Spiele!D:D))","v":""},{"$f":"IF(B4012=\"\",\"\",LOOKUP(B4012,Spiele!B:B,Spiele!E:E))","v":""},{"$f":"IF(B4012=\"\",\"\",LOOKUP(B4012,Spiele!B:B,Spiele!F:F))","v":""},"","","",null,null,-1,-1,1,0]
[null,null,{"$f":"IF(B4017=\"\",\"\",LOOKUP(B4017,Spiele!B:B,Spiele!C:C))","v":""},{"$f":"IF(B4017=\"\",\"\",LOOKUP(B4017,Spiele!B:B,Spiele!D:D))","v":""},{"$f":"IF(B4017=\"\",\"\",LOOKUP(B4017,Spiele!B:B,Spiele!E:E))","v":""},{"$f":"IF(B4017=\"\",\"\",LOOKUP(B4017,Spiele!B:B,Spiele!F:F))","v":""},"","","",null,null,-1,-1,1,0]
[null,null,{"$f":"IF(B4021=\"\",\"\",LOOKUP(B4021,Spiele!B:B,Spiele!C:C))","v":""},{"$f":"IF(B4021=\"\",\"\",LOOKUP(B4021,Spiele!B:B,Spiele!D:D))","v":""},{"$f":"IF(B4021=\"\",\"\",LOOKUP(B4021,Spiele!B:B,Spiele!E:E))","v":""},{"$f":"IF(B4021=\"\",\"\",LOOKUP(B4021,Spiele!B:B,Spiele!F:F))","v":""},"","","",null,null,-1,-1,1,0]
[null,null,{"$f":"IF(B4022=\"\",\"\",LOOKUP(B4022,Spiele!B:B,Spiele!C:C))","v":""},{"$f":"IF(B4022=\"\",\"\",LOOKUP(B4022,Spiele!B:B,Spiele!D:D))","v":""},{"$f":"IF(B4022=\"\",\"\",LOOKUP(B4022,Spiele!B:B,Spiele!E:E))","v":""},{"$f":"IF(B4022=\"\",\"\",LOOKUP(B4022,Spiele!B:B,Spiele!F:F))","v":""},"","","",null,null,-1,-1,1,0]
[null,null,{"$f":"IF(B4027=\"\",\"\",LOOKUP(B4027,Spiele!B:B,Spiele!C:C))","v":""},{"$f":"IF(B4027=\"\",\"\",LOOKUP(B4027,Spiele!B:B,Spiele!D:D))","v":""},{"$f":"IF(B4027=\"\",\"\",LOOKUP(B4027,Spiele!B:B,Spiele!E:E))","v":""},{"$f":"IF(B4027=\"\",\"\",LOOKUP(B4027,Spiele!B:B,Spiele!F:F))","v":""},"","","",null,null,-1,-1,1,0]
[null,null,{"$f":"IF(B4032=\"\",\"\",LOOKUP(B4032,Spiele!B:B,Spiele!C:C))","v":""},{"$f":"IF(B4032=\"\",\"\",LOOKUP(B4032,Spiele!B:B,Spiele!D:D))","v":""},{"$f":"IF(B4032=\"\",\"\",LOOKUP(B4032,Spiele!B:B,Spiele!E:E))","v":""},{"$f":"IF(B4032=\"\",\"\",LOOKUP(B4032,Spiele!B:B,Spiele!F:F))","v":""},"","","",null,null,-1,-1,1,0]
[null,null,{"$f":"IF(B4035=\"\",\"\",LOOKUP(B4035,Spiele!B:B,Spiele!C:C))","v":""},{"$f":"IF(B4035=\"\",\"\",LOOKUP(B4035,Spiele!B:B,Spiele!D:D))","v":""},{"$f":"IF(B4035=\"\",\"\",LOOKUP(B4035,Spiele!B:B,Spiele!E:E))","v":""},{"$f":"IF(B4035=\"\",\"\",LOOKUP(B4035,Spiele!B:B,Spiele!F:F))","v":""},"","","",null,null,-1,-1,1,0]
[null,null,{"$f":"IF(B4037=\"\",\"\",LOOKUP(B4037,Spiele!B:B,Spiele!C:C))","v":""},{"$f":"IF(B4037=\"\",\"\",LOOKUP(B4037,Spiele!B:B,Spiele!D:D))","v":""},{"$f":"IF(B4037=\"\",\"\",LOOKUP(B4037,Spiele!B:B,Spiele!E:E))","v":""},{"$f":"IF(B4037=\"\",\"\",LOOKUP(B4037,Spiele!B:B,Spiele!F:F))","v":""},"","","",null,null,-1,-1,1,0]
[null,null,{"$f":"IF(B4042=\"\",\"\",LOOKUP(B4042,Spiele!B:B,Spiele!C:C))","v":""},{"$f":"IF(B4042=\"\",\"\",LOOKUP(B4042,Spiele!B:B,Spiele!D:D))","v":""},{"$f":"IF(B4042=\"\",\"\",LOOKUP(B4042,Spiele!B:B,Spiele!E:E))","v":""},{"$f":"IF(B4042=\"\",\"\",LOOKUP(B4042,Spiele!B:B,Spiele!F:F))","v":""},"","","",null,null,-1,-1,1,0]
[null,null,{"$f":"IF(B4047=\"\",\"\",LOOKUP(B4047,Spiele!B:B,Spiele!C:C))","v":""},{"$f":"IF(B4047=\"\",\"\",LOOKUP(B4047,Spiele!B:B,Spiele!D:D))","v":""},{"$f":"IF(B4047=\"\",\"\",LOOKUP(B4047,Spiele!B:B,Spiele!E:E))","v":""},{"$f":"IF(B4047=\"\",\"\",LOOKUP(B4047,Spiele!B:B,Spiele!F:F))","v":""},"","","",null,null,-1,-1,1,0]
[null,null,{"$f":"IF(B4051=\"\",\"\",LOOKUP(B4051,Spiele!B:B,Spiele!C:C))","v":""},{"$f":"IF(B4051=\"\",\"\",LOOKUP(B4051,Spiele!B:B,Spiele!D:D))","v":""},{"$f":"IF(B4051=\"\",\"\",LOOKUP(B4051,Spiele!B:B,Spiele!E:E))","v":""},{"$f":"IF(B4051=\"\",\"\",LOOKUP(B4051,Spiele!B:B,Spiele!F:F))","v":""},"","","",null,null,-1,-1,1,0]
[null,null,{"$f":"IF(B4052=\"\",\"\",LOOKUP(B4052,Spiele!B:B,Spiele!C:C))","v":""},{"$f":"IF(B4052=\"\",\"\",LOOKUP(B4052,Spiele!B:B,Spiele!D:D))","v":""},{"$f":"IF(B4052=\"\",\"\",LOOKUP(B4052,Spiele!B:B,Spiele!E:E))","v":""},{"$f":"IF(B4052=\"\",\"\",LOOKUP(B4052,Spiele!B:B,Spiele!F:F))","v":""},"","","",null,null,-1,-1,1,0]
[null,null,{"$f":"IF(B4057=\"\",\"\",LOOKUP(B4057,Spiele!B:B,Spiele!C:C))","v":""},{"$f":"IF(B4057=\"\",\"\",LOOKUP(B4057,Spiele!B:B,Spiele!D:D))","v":""},{"$f":"IF(B4057=\"\",\"\",LOOKUP(B4057,Spiele!B:B,Spiele!E:E))","v":""},{"$f":"IF(B4057=\"\",\"\",LOOKUP(B4057,Spiele!B:B,Spiele!F:F))","v":""},"","","",null,null,-1,-1,1,0]
[null,null,{"$f":"IF(B4062=\"\",\"\",LOOKUP(B4062,Spiele!B:B,Spiele!C:C))","v":""},{"$f":"IF(B4062=\"\",\"\",LOOKUP(B4062,Spiele!B:B,Spiele!D:D))","v":""},{"$f":"IF(B4062=\"\",\"\",LOOKUP(B4062,Spiele!B:B,Spiele!E:E))","v":""},{"$f":"IF(B4062=\"\",\"\",LOOKUP(B4062,Spiele!B:B,Spiele!F:F))","v":""},"","","",null,null,-1,-1,1,0]
[null,null,{"$f":"IF(B4065=\"\",\"\",LOOKUP(B4065,Spiele!B:B,Spiele!C:C))","v":""},{"$f":"IF(B4065=\"\",\"\",LOOKUP(B4065,Spiele!B:B,Spiele!D:D))","v":""},{"$f":"IF(B4065=\"\",\"\",LOOKUP(B4065,Spiele!B:B,Spiele!E:E))","v":""},{"$f":"IF(B4065=\"\",\"\",LOOKUP(B4065,Spiele!B:B,Spiele!F:F))","v":""},"","","",null,null,-1,-1,1,0]
[null,null,{"$f":"IF(B4067=\"\",\"\",LOOKUP(B4067,Spiele!B:B,Spiele!C:C))","v":""},{"$f":"IF(B4067=\"\",\"\",LOOKUP(B4067,Spiele!B:B,Spiele!D:D))","v":""},{"$f":"IF(B4067=\"\",\"\",LOOKUP(B4067,Spiele!B:B,Spiele!E:E))","v":""},{"$f":"IF(B4067=\"\",\"\",LOOKUP(B4067,Spiele!B:B,Spiele!F:F))","v":""},"","","",null,null,-1,-1,1,0]
[null,null,{"$f":"IF(B4072=\"\",\"\",LOOKUP(B4072,Spiele!B:B,Spiele!C:C))","v":""},{"$f":"IF(B4072=\"\",\"\",LOOKUP(B4072,Spiele!B:B,Spiele!D:D))","v":""},{"$f":"IF(B4072=\"\",\"\",LOOKUP(B4072,Spiele!B:B,Spiele!E:E))","v":""},{"$f":"IF(B4072=\"\",\"\",LOOKUP(B4072,Spiele!B:B,Spiele!F:F))","v":""},"","","",null,null,-1,-1,1,0]
[null,null,{"$f":"IF(B4077=\"\",\"\",LOOKUP(B4077,Spiele!B:B,Spiele!C:C))","v":""},{"$f":"IF(B4077=\"\",\"\",LOOKUP(B4077,Spiele!B:B,Spiele!D:D))","v":""},{"$f":"IF(B4077=\"\",\"\",LOOKUP(B4077,Spiele!B:B,Spiele!E:E))","v":""},{"$f":"IF(B4077=\"\",\"\",LOOKUP(B4077,Spiele!B:B,Spiele!F:F))","v":""},"","","",null,null,-1,-1,1,0]
[null,null,{"$f":"IF(B4081=\"\",\"\",LOOKUP(B4081,Spiele!B:B,Spiele!C:C))","v":""},{"$f":"IF(B4081=\"\",\"\",LOOKUP(B4081,Spiele!B:B,Spiele!D:D))","v":""},{"$f":"IF(B4081=\"\",\"\",LOOKUP(B4081,Spiele!B:B,Spiele!E:E))","v":""},{"$f":"IF(B4081=\"\",\"\",LOOKUP(B4081,Spiele!B:B,Spiele!F:F))","v":""},"","","",null,null,-1,-1,1,0]
[null,null,{"$f":"IF(B4082=\"\",\"\",LOOKUP(B4082,Spiele!B:B,Spiele!C:C))","v":""},{"$f":"IF(B4082=\"\",\"\",LOOKUP(B4082,Spiele!B:B,Spiele!D:D))","v":""},{"$f":"IF(B4082=\"\",\"\",LOOKUP(B4082,Spiele!B:B,Spiele!E:E))","v":""},{"$f":"IF(B4082=\"\",\"\",LOOKUP(B4082,Spiele!B:B,Spiele!F:F))","v":""},"","","",null,null,-1,-1,1,0]
[null,null,{"$f":"IF(B4087=\"\",\"\",LOOKUP(B4087,Spiele!B:B,Spiele!C:C))","v":""},{"$f":"IF(B4087=\"\",\"\",LOOKUP(B4087,Spiele!B:B,Spiele!D:D))","v":""},{"$f":"IF(B4087=\"\",\"\",LOOKUP(B4087,Spiele!B:B,Spiele!E:E))","v":""},{"$f":"IF(B4087=\"\",\"\",LOOKUP(B4087,Spiele!B:B,Spiele!F:F))","v":""},"","","",null,null,-1,-1,1,0]
[null,null,{"$f":"IF(B4092=\"\",\"\",LOOKUP(B4092,Spiele!B:B,Spiele!C:C))","v":""},{"$f":"IF(B4092=\"\",\"\",LOOKUP(B4092,Spiele!B:B,Spiele!D:D))","v":""},{"$f":"IF(B4092=\"\",\"\",LOOKUP(B4092,Spiele!B:B,Spiele!E:E))","v":""},{"$f":"IF(B4092=\"\",\"\",LOOKUP(B4092,Spiele!B:B,Spiele!F:F))","v":""},"","","",null,null,-1,-1,1,0]
[null,null,{"$f":"IF(B4095=\"\",\"\",LOOKUP(B4095,Spiele!B:B,Spiele!C:C))","v":""},{"$f":"IF(B4095=\"\",\"\",LOOKUP(B4095,Spiele!B:B,Spiele!D:D))","v":""},{"$f":"IF(B4095=\"\",\"\",LOOKUP(B4095,Spiele!B:B,Spiele!E:E))","v":""},{"$f":"IF(B4095=\"\",\"\",LOOKUP(B4095,Spiele!B:B,Spiele!F:F))","v":""},"","","",null,null,-1,-1,1,0]
[null,null,{"$f":"IF(B4097=\"\",\"\",LOOKUP(B4097,Spiele!B:B,Spiele!C:C))","v":""},{"$f":"IF(B4097=\"\",\"\",LOOKUP(B4097,Spiele!B:B,Spiele!D:D))","v":""},{"$f":"IF(B4097=\"\",\"\",LOOKUP(B4097,Spiele!B:B,Spiele!E:E))","v":""},{"$f":"IF(B4097=\"\",\"\",LOOKUP(B4097,Spiele!B:B,Spiele!F:F))","v":""},"","","",null,null,-1,-1,1,0]
[null,null,{"$f":"IF(B4102=\"\",\"\",LOOKUP(B4102,Spiele!B:B,Spiele!C:C))","v":""},{"$f":"IF(B4102=\"\",\"\",LOOKUP(B4102,Spiele!B:B,Spiele!D:D))","v":""},{"$f":"IF(B4102=\"\",\"\",LOOKUP(B4102,Spiele!B:B,Spiele!E:E))","v":""},{"$f":"IF(B4102=\"\",\"\",LOOKUP(B4102,Spiele!B:B,Spiele!F:F))","v":""},"","","",null,null,-1,-1,1,0]
[null,null,{"$f":"IF(B4107=\"\",\"\",LOOKUP(B4107,Spiele!B:B,Spiele!C:C))","v":""},{"$f":"IF(B4107=\"\",\"\",LOOKUP(B4107,Spiele!B:B,Spiele!D:D))","v":""},{"$f":"IF(B4107=\"\",\"\",LOOKUP(B4107,Spiele!B:B,Spiele!E:E))","v":""},{"$f":"IF(B4107=\"\",\"\",LOOKUP(B4107,Spiele!B:B,Spiele!F:F))","v":""},"","","",null,null,-1,-1,1,0]
[null,null,{"$f":"IF(B4111=\"\",\"\",LOOKUP(B4111,Spiele!B:B,Spiele!C:C))","v":""},{"$f":"IF(B4111=\"\",\"\",LOOKUP(B4111,Spiele!B:B,Spiele!D:D))","v":""},{"$f":"IF(B4111=\"\",\"\",LOOKUP(B4111,Spiele!B:B,Spiele!E:E))","v":""},{"$f":"IF(B4111=\"\",\"\",LOOKUP(B4111,Spiele!B:B,Spiele!F:F))","v":""},"","","",null,null,-1,-1,1,0]
[null,null,{"$f":"IF(B4112=\"\",\"\",LOOKUP(B4112,Spiele!B:B,Spiele!C:C))","v":""},{"$f":"IF(B4112=\"\",\"\",LOOKUP(B4112,Spiele!B:B,Spiele!D:D))","v":""},{"$f":"IF(B4112=\"\",\"\",LOOKUP(B4112,Spiele!B:B,Spiele!E:E))","v":""},{"$f":"IF(B4112=\"\",\"\",LOOKUP(B4112,Spiele!B:B,Spiele!F:F))","v":""},"","","",null,null,-1,-1,1,0]
[null,null,{"$f":"IF(B4117=\"\",\"\",LOOKUP(B4117,Spiele!B:B,Spiele!C:C))","v":""},{"$f":"IF(B4117=\"\",\"\",LOOKUP(B4117,Spiele!B:B,Spiele!D:D))","v":""},{"$f":"IF(B4117=\"\",\"\",LOOKUP(B4117,Spiele!B:B,Spiele!E:E))","v":""},{"$f":"IF(B4117=\"\",\"\",LOOKUP(B4117,Spiele!B:B,Spiele!F:F))","v":""},"","","",null,null,-1,-1,1,0]
[null,null,{"$f":"IF(B4122=\"\",\"\",LOOKUP(B4122,Spiele!B:B,Spiele!C:C))","v":""},{"$f":"IF(B4122=\"\",\"\",LOOKUP(B4122,Spiele!B:B,Spiele!D:D))","v":""},{"$f":"IF(B4122=\"\",\"\",LOOKUP(B4122,Spiele!B:B,Spiele!E:E))","v":""},{"$f":"IF(B4122=\"\",\"\",LOOKUP(B4122,Spiele!B:B,Spiele!F:F))","v":""},"","","",null,null,-1,-1,1,0]
[null,null,{"$f":"IF(B4125=\"\",\"\",LOOKUP(B4125,Spiele!B:B,Spiele!C:C))","v":""},{"$f":"IF(B4125=\"\",\"\",LOOKUP(B4125,Spiele!B:B,Spiele!D:D))","v":""},{"$f":"IF(B4125=\"\",\"\",LOOKUP(B4125,Spiele!B:B,Spiele!E:E))","v":""},{"$f":"IF(B4125=\"\",\"\",LOOKUP(B4125,Spiele!B:B,Spiele!F:F))","v":""},"","","",null,null,-1,-1,1,0]
[null,null,{"$f":"IF(B4127=\"\",\"\",LOOKUP(B4127,Spiele!B:B,Spiele!C:C))","v":""},{"$f":"IF(B4127=\"\",\"\",LOOKUP(B4127,Spiele!B:B,Spiele!D:D))","v":""},{"$f":"IF(B4127=\"\",\"\",LOOKUP(B4127,Spiele!B:B,Spiele!E:E))","v":""},{"$f":"IF(B4127=\"\",\"\",LOOKUP(B4127,Spiele!B:B,Spiele!F:F))","v":""},"","","",null,null,-1,-1,1,0]
[null,null,{"$f":"IF(B4132=\"\",\"\",LOOKUP(B4132,Spiele!B:B,Spiele!C:C))","v":""},{"$f":"IF(B4132=\"\",\"\",LOOKUP(B4132,Spiele!B:B,Spiele!D:D))","v":""},{"$f":"IF(B4132=\"\",\"\",LOOKUP(B4132,Spiele!B:B,Spiele!E:E))","v":""},{"$f":"IF(B4132=\"\",\"\",LOOKUP(B4132,Spiele!B:B,Spiele!F:F))","v":""},"","","",null,null,-1,-1,1,0]
[null,null,{"$f":"IF(B4137=\"\",\"\",LOOKUP(B4137,Spiele!B:B,Spiele!C:C))","v":""},{"$f":"IF(B4137=\"\",\"\",LOOKUP(B4137,Spiele!B:B,Spiele!D:D))","v":""},{"$f":"IF(B4137=\"\",\"\",LOOKUP(B4137,Spiele!B:B,Spiele!E:E))","v":""},{"$f":"IF(B4137=\"\",\"\",LOOKUP(B4137,Spiele!B:B,Spiele!F:F))","v":""},"","","",null,null,-1,-1,1,0]
[null,null,{"$f":"IF(B4141=\"\",\"\",LOOKUP(B4141,Spiele!B:B,Spiele!C:C))","v":""},{"$f":"IF(B4141=\"\",\"\",LOOKUP(B4141,Spiele!B:B,Spiele!D:D))","v":""},{"$f":"IF(B4141=\"\",\"\",LOOKUP(B4141,Spiele!B:B,Spiele!E:E))","v":""},{"$f":"IF(B4141=\"\",\"\",LOOKUP(B4141,Spiele!B:B,Spiele!F:F))","v":""},"","","",null,null,-1,-1,1,0]
[null,null,{"$f":"IF(B4142=\"\",\"\",LOOKUP(B4142,Spiele!B:B,Spiele!C:C))","v":""},{"$f":"IF(B4142=\"\",\"\",LOOKUP(B4142,Spiele!B:B,Spiele!D:D))","v":""},{"$f":"IF(B4142=\"\",\"\",LOOKUP(B4142,Spiele!B:B,Spiele!E:E))","v":""},{"$f":"IF(B4142=\"\",\"\",LOOKUP(B4142,Spiele!B:B,Spiele!F:F))","v":""},"","","",null,null,-1,-1,1,0]
[null,null,{"$f":"IF(B4147=\"\",\"\",LOOKUP(B4147,Spiele!B:B,Spiele!C:C))","v":""},{"$f":"IF(B4147=\"\",\"\",LOOKUP(B4147,Spiele!B:B,Spiele!D:D))","v":""},{"$f":"IF(B4147=\"\",\"\",LOOKUP(B4147,Spiele!B:B,Spiele!E:E))","v":""},{"$f":"IF(B4147=\"\",\"\",LOOKUP(B4147,Spiele!B:B,Spiele!F:F))","v":""},"","","",null,null,-1,-1,1,0]
[null,null,{"$f":"IF(B4152=\"\",\"\",LOOKUP(B4152,Spiele!B:B,Spiele!C:C))","v":""},{"$f":"IF(B4152=\"\",\"\",LOOKUP(B4152,Spiele!B:B,Spiele!D:D))","v":""},{"$f":"IF(B4152=\"\",\"\",LOOKUP(B4152,Spiele!B:B,Spiele!E:E))","v":""},{"$f":"IF(B4152=\"\",\"\",LOOKUP(B4152,Spiele!B:B,Spiele!F:F))","v":""},"","","",null,null,-1,-1,1,0]
[null,null,{"$f":"IF(B4155=\"\",\"\",LOOKUP(B4155,Spiele!B:B,Spiele!C:C))","v":""},{"$f":"IF(B4155=\"\",\"\",LOOKUP(B4155,Spiele!B:B,Spiele!D:D))","v":""},{"$f":"IF(B4155=\"\",\"\",LOOKUP(B4155,Spiele!B:B,Spiele!E:E))","v":""},{"$f":"IF(B4155=\"\",\"\",LOOKUP(B4155,Spiele!B:B,Spiele!F:F))","v":""},"","","",null,null,-1,-1,1,0]
[null,null,{"$f":"IF(B4157=\"\",\"\",LOOKUP(B4157,Spiele!B:B,Spiele!C:C))","v":""},{"$f":"IF(B4157=\"\",\"\",LOOKUP(B4157,Spiele!B:B,Spiele!D:D))","v":""},{"$f":"IF(B4157=\"\",\"\",LOOKUP(B4157,Spiele!B:B,Spiele!E:E))","v":""},{"$f":"IF(B4157=\"\",\"\",LOOKUP(B4157,Spiele!B:B,Spiele!F:F))","v":""},"","","",null,null,-1,-1,1,0]
[null,null,{"$f":"IF(B4162=\"\",\"\",LOOKUP(B4162,Spiele!B:B,Spiele!C:C))","v":""},{"$f":"IF(B4162=\"\",\"\",LOOKUP(B4162,Spiele!B:B,Spiele!D:D))","v":""},{"$f":"IF(B4162=\"\",\"\",LOOKUP(B4162,Spiele!B:B,Spiele!E:E))","v":""},{"$f":"IF(B4162=\"\",\"\",LOOKUP(B4162,Spiele!B:B,Spiele!F:F))","v":""},"","","",null,null,-1,-1,1,0]
[null,null,{"$f":"IF(B4167=\"\",\"\",LOOKUP(B4167,Spiele!B:B,Spiele!C:C))","v":""},{"$f":"IF(B4167=\"\",\"\",LOOKUP(B4167,Spiele!B:B,Spiele!D:D))","v":""},{"$f":"IF(B4167=\"\",\"\",LOOKUP(B4167,Spiele!B:B,Spiele!E:E))","v":""},{"$f":"IF(B4167=\"\",\"\",LOOKUP(B4167,Spiele!B:B,Spiele!F:F))","v":""},"","","",null,null,-1,-1,1,0]
[null,null,{"$f":"IF(B4171=\"\",\"\",LOOKUP(B4171,Spiele!B:B,Spiele!C:C))","v":""},{"$f":"IF(B4171=\"\",\"\",LOOKUP(B4171,Spiele!B:B,Spiele!D:D))","v":""},{"$f":"IF(B4171=\"\",\"\",LOOKUP(B4171,Spiele!B:B,Spiele!E:E))","v":""},{"$f":"IF(B4171=\"\",\"\",LOOKUP(B4171,Spiele!B:B,Spiele!F:F))","v":""},"","","",null,null,-1,-1,1,0]
[null,null,{"$f":"IF(B4172=\"\",\"\",LOOKUP(B4172,Spiele!B:B,Spiele!C:C))","v":""},{"$f":"IF(B4172=\"\",\"\",LOOKUP(B4172,Spiele!B:B,Spiele!D:D))","v":""},{"$f":"IF(B4172=\"\",\"\",LOOKUP(B4172,Spiele!B:B,Spiele!E:E))","v":""},{"$f":"IF(B4172=\"\",\"\",LOOKUP(B4172,Spiele!B:B,Spiele!F:F))","v":""},"","","",null,null,-1,-1,1,0]
[null,null,{"$f":"IF(B4177=\"\",\"\",LOOKUP(B4177,Spiele!B:B,Spiele!C:C))","v":""},{"$f":"IF(B4177=\"\",\"\",LOOKUP(B4177,Spiele!B:B,Spiele!D:D))","v":""},{"$f":"IF(B4177=\"\",\"\",LOOKUP(B4177,Spiele!B:B,Spiele!E:E))","v":""},{"$f":"IF(B4177=\"\",\"\",LOOKUP(B4177,Spiele!B:B,Spiele!F:F))","v":""},"","","",null,null,-1,-1,1,0]
[null,null,{"$f":"IF(B4182=\"\",\"\",LOOKUP(B4182,Spiele!B:B,Spiele!C:C))","v":""},{"$f":"IF(B4182=\"\",\"\",LOOKUP(B4182,Spiele!B:B,Spiele!D:D))","v":""},{"$f":"IF(B4182=\"\",\"\",LOOKUP(B4182,Spiele!B:B,Spiele!E:E))","v":""},{"$f":"IF(B4182=\"\",\"\",LOOKUP(B4182,Spiele!B:B,Spiele!F:F))","v":""},"","","",null,null,-1,-1,1,0]
[null,null,{"$f":"IF(B4185=\"\",\"\",LOOKUP(B4185,Spiele!B:B,Spiele!C:C))","v":""},{"$f":"IF(B4185=\"\",\"\",LOOKUP(B4185,Spiele!B:B,Spiele!D:D))","v":""},{"$f":"IF(B4185=\"\",\"\",LOOKUP(B4185,Spiele!B:B,Spiele!E:E))","v":""},{"$f":"IF(B4185=\"\",\"\",LOOKUP(B4185,Spiele!B:B,Spiele!F:F))","v":""},"","","",null,null,-1,-1,1,0]
[null,null,{"$f":"IF(B4187=\"\",\"\",LOOKUP(B4187,Spiele!B:B,Spiele!C:C))","v":""},{"$f":"IF(B4187=\"\",\"\",LOOKUP(B4187,Spiele!B:B,Spiele!D:D))","v":""},{"$f":"IF(B4187=\"\",\"\",LOOKUP(B4187,Spiele!B:B,Spiele!E:E))","v":""},{"$f":"IF(B4187=\"\",\"\",LOOKUP(B4187,Spiele!B:B,Spiele!F:F))","v":""},"","","",null,null,-1,-1,1,0]
[null,null,{"$f":"IF(B4192=\"\",\"\",LOOKUP(B4192,Spiele!B:B,Spiele!C:C))","v":""},{"$f":"IF(B4192=\"\",\"\",LOOKUP(B4192,Spiele!B:B,Spiele!D:D))","v":""},{"$f":"IF(B4192=\"\",\"\",LOOKUP(B4192,Spiele!B:B,Spiele!E:E))","v":""},{"$f":"IF(B4192=\"\",\"\",LOOKUP(B4192,Spiele!B:B,Spiele!F:F))","v":""},{"$f":"IF(E4192=\"\",\"\",IF(E4192>F4192,1,0))","v":""},{"$f":"IF(F4192=\"\",\"\",IF(E4192<F4192,1,0))","v":""},{"$f":"IF(E4192=\"\",\"\",IF(E4192=F4192,1,0))","v":""},null,null,{"$f":"IF(E4192=\"\",-1,IF(J4192>K4192,1,-1))","v":-1},{"$f":"IF(F4192=\"\",-1,IF(J4192<K4192,1,-1))","v":-1},{"$f":"IF(E4192=\"-\",-1,IF(J4192=K4192,1,-1))","v":1},{"$f":"IF(E4192=\"\",0,IF(E4192=J4192,1,0)+IF(F4192=K4192,1,0)+IF(G4192=L4192,1,0)+IF(H4192=M4192,1,0)+IF(I4192=N4192,1,0))","v":0}]
[null,null,{"$f":"IF(B4197=\"\",\"\",LOOKUP(B4197,Spiele!B:B,Spiele!C:C))","v":""},{"$f":"IF(B4197=\"\",\"\",LOOKUP(B4197,Spiele!B:B,Spiele!D:D))","v":""},{"$f":"IF(B4197=\"\",\"\",LOOKUP(B4197,Spiele!B:B,Spiele!E:E))","v":""},{"$f":"IF(B4197=\"\",\"\",LOOKUP(B4197,Spiele!B:B,Spiele!F:F))","v":""},"","","",null,null,-1,-1,1,0]
[null,null,{"$f":"IF(B4201=\"\",\"\",LOOKUP(B4201,Spiele!B:B,Spiele!C:C))","v":""},{"$f":"IF(B4201=\"\",\"\",LOOKUP(B4201,Spiele!B:B,Spiele!D:D))","v":""},{"$f":"IF(B4201=\"\",\"\",LOOKUP(B4201,Spiele!B:B,Spiele!E:E))","v":""},{"$f":"IF(B4201=\"\",\"\",LOOKUP(B4201,Spiele!B:B,Spiele!F:F))","v":""},"","","",null,null,-1,-1,1,0]
[null,null,{"$f":"IF(B4202=\"\",\"\",LOOKUP(B4202,Spiele!B:B,Spiele!C:C))","v":""},{"$f":"IF(B4202=\"\",\"\",LOOKUP(B4202,Spiele!B:B,Spiele!D:D))","v":""},{"$f":"IF(B4202=\"\",\"\",LOOKUP(B4202,Spiele!B:B,Spiele!E:E))","v":""},{"$f":"IF(B4202=\"\",\"\",LOOKUP(B4202,Spiele!B:B,Spiele!F:F))","v":""},"","","",null,null,-1,-1,1,0]
[null,null,{"$f":"IF(B4207=\"\",\"\",LOOKUP(B4207,Spiele!B:B,Spiele!C:C))","v":""},{"$f":"IF(B4207=\"\",\"\",LOOKUP(B4207,Spiele!B:B,Spiele!D:D))","v":""},{"$f":"IF(B4207=\"\",\"\",LOOKUP(B4207,Spiele!B:B,Spiele!E:E))","v":""},{"$f":"IF(B4207=\"\",\"\",LOOKUP(B4207,Spiele!B:B,Spiele!F:F))","v":""},"","","",null,null,-1,-1,1,0]
[null,null,{"$f":"IF(B4212=\"\",\"\",LOOKUP(B4212,Spiele!B:B,Spiele!C:C))","v":""},{"$f":"IF(B4212=\"\",\"\",LOOKUP(B4212,Spiele!B:B,Spiele!D:D))","v":""},{"$f":"IF(B4212=\"\",\"\",LOOKUP(B4212,Spiele!B:B,Spiele!E:E))","v":""},{"$f":"IF(B4212=\"\",\"\",LOOKUP(B4212,Spiele!B:B,Spiele!F:F))","v":""},"","","",null,null,-1,-1,1,0]
[null,null,{"$f":"IF(B4215=\"\",\"\",LOOKUP(B4215,Spiele!B:B,Spiele!C:C))","v":""},{"$f":"IF(B4215=\"\",\"\",LOOKUP(B4215,Spiele!B:B,Spiele!D:D))","v":""},{"$f":"IF(B4215=\"\",\"\",LOOKUP(B4215,Spiele!B:B,Spiele!E:E))","v":""},{"$f":"IF(B4215=\"\",\"\",LOOKUP(B4215,Spiele!B:B,Spiele!F:F))","v":""},"","","",null,null,-1,-1,1,0]
[null,null,{"$f":"IF(B4217=\"\",\"\",LOOKUP(B4217,Spiele!B:B,Spiele!C:C))","v":""},{"$f":"IF(B4217=\"\",\"\",LOOKUP(B4217,Spiele!B:B,Spiele!D:D))","v":""},{"$f":"IF(B4217=\"\",\"\",LOOKUP(B4217,Spiele!B:B,Spiele!E:E))","v":""},{"$f":"IF(B4217=\"\",\"\",LOOKUP(B4217,Spiele!B:B,Spiele!F:F))","v":""},"","","",null,null,-1,-1,1,0]
[null,null,{"$f":"IF(B4222=\"\",\"\",LOOKUP(B4222,Spiele!B:B,Spiele!C:C))","v":""},{"$f":"IF(B4222=\"\",\"\",LOOKUP(B4222,Spiele!B:B,Spiele!D:D))","v":""},{"$f":"IF(B4222=\"\",\"\",LOOKUP(B4222,Spiele!B:B,Spiele!E:E))","v":""},{"$f":"IF(B4222=\"\",\"\",LOOKUP(B4222,Spiele!B:B,Spiele!F:F))","v":""},"","","",null,null,-1,-1,1,0]
[null,null,{"$f":"IF(B4227=\"\",\"\",LOOKUP(B4227,Spiele!B:B,Spiele!C:C))","v":""},{"$f":"IF(B4227=\"\",\"\",LOOKUP(B4227,Spiele!B:B,Spiele!D:D))","v":""},{"$f":"IF(B4227=\"\",\"\",LOOKUP(B4227,Spiele!B:B,Spiele!E:E))","v":""},{"$f":"IF(B4227=\"\",\"\",LOOKUP(B4227,Spiele!B:B,Spiele!F:F))","v":""},"","","",null,null,-1,-1,1,0]
[null,null,{"$f":"IF(B4231=\"\",\"\",LOOKUP(B4231,Spiele!B:B,Spiele!C:C))","v":""},{"$f":"IF(B4231=\"\",\"\",LOOKUP(B4231,Spiele!B:B,Spiele!D:D))","v":""},{"$f":"IF(B4231=\"\",\"\",LOOKUP(B4231,Spiele!B:B,Spiele!E:E))","v":""},{"$f":"IF(B4231=\"\",\"\",LOOKUP(B4231,Spiele!B:B,Spiele!F:F))","v":""},"","","",null,null,-1,-1,1,0]
[null,null,{"$f":"IF(B4232=\"\",\"\",LOOKUP(B4232,Spiele!B:B,Spiele!C:C))","v":""},{"$f":"IF(B4232=\"\",\"\",LOOKUP(B4232,Spiele!B:B,Spiele!D:D))","v":""},{"$f":"IF(B4232=\"\",\"\",LOOKUP(B4232,Spiele!B:B,Spiele!E:E))","v":""},{"$f":"IF(B4232=\"\",\"\",LOOKUP(B4232,Spiele!B:B,Spiele!F:F))","v":""},"","","",null,null,-1,-1,1,0]
[null,null,{"$f":"IF(B4237=\"\",\"\",LOOKUP(B4237,Spiele!B:B,Spiele!C:C))","v":""},{"$f":"IF(B4237=\"\",\"\",LOOKUP(B4237,Spiele!B:B,Spiele!D:D))","v":""},{"$f":"IF(B4237=\"\",\"\",LOOKUP(B4237,Spiele!B:B,Spiele!E:E))","v":""},{"$f":"IF(B4237=\"\",\"\",LOOKUP(B4237,Spiele!B:B,Spiele!F:F))","v":""},"","","",null,null,-1,-1,1,0]
[null,null,{"$f":"IF(B4242=\"\",\"\",LOOKUP(B4242,Spiele!B:B,Spiele!C:C))","v":""},{"$f":"IF(B4242=\"\",\"\",LOOKUP(B4242,Spiele!B:B,Spiele!D:D))","v":""},{"$f":"IF(B4242=\"\",\"\",LOOKUP(B4242,Spiele!B:B,Spiele!E:E))","v":""},{"$f":"IF(B4242=\"\",\"\",LOOKUP(B4242,Spiele!B:B,Spiele!F:F))","v":""},"","","",null,null,-1,-1,1,0]
[null,null,{"$f":"IF(B4245=\"\",\"\",LOOKUP(B4245,Spiele!B:B,Spiele!C:C))","v":""},{"$f":"IF(B4245=\"\",\"\",LOOKUP(B4245,Spiele!B:B,Spiele!D:D))","v":""},{"$f":"IF(B4245=\"\",\"\",LOOKUP(B4245,Spiele!B:B,Spiele!E:E))","v":""},{"$f":"IF(B4245=\"\",\"\",LOOKUP(B4245,Spiele!B:B,Spiele!F:F))","v":""},"","","",null,null,-1,-1,1,0]
[null,null,{"$f":"IF(B4247=\"\",\"\",LOOKUP(B4247,Spiele!B:B,Spiele!C:C))","v":""},{"$f":"IF(B4247=\"\",\"\",LOOKUP(B4247,Spiele!B:B,Spiele!D:D))","v":""},{"$f":"IF(B4247=\"\",\"\",LOOKUP(B4247,Spiele!B:B,Spiele!E:E))","v":""},{"$f":"IF(B4247=\"\",\"\",LOOKUP(B4247,Spiele!B:B,Spiele!F:F))","v":""},"","","",null,null,-1,-1,1,0]
[null,null,{"$f":"IF(B4252=\"\",\"\",LOOKUP(B4252,Spiele!B:B,Spiele!C:C))","v":""},{"$f":"IF(B4252=\"\",\"\",LOOKUP(B4252,Spiele!B:B,Spiele!D:D))","v":""},{"$f":"IF(B4252=\"\",\"\",LOOKUP(B4252,Spiele!B:B,Spiele!E:E))","v":""},{"$f":"IF(B4252=\"\",\"\",LOOKUP(B4252,Spiele!B:B,Spiele!F:F))","v":""},"","","",null,null,-1,-1,1,0]
[null,null,{"$f":"IF(B4257=\"\",\"\",LOOKUP(B4257,Spiele!B:B,Spiele!C:C))","v":""},{"$f":"IF(B4257=\"\",\"\",LOOKUP(B4257,Spiele!B:B,Spiele!D:D))","v":""},{"$f":"IF(B4257=\"\",\"\",LOOKUP(B4257,Spiele!B:B,Spiele!E:E))","v":""},{"$f":"IF(B4257=\"\",\"\",LOOKUP(B4257,Spiele!B:B,Spiele!F:F))","v":""},"","","",null,null,-1,-1,1,0]
[null,null,{"$f":"IF(B4261=\"\",\"\",LOOKUP(B4261,Spiele!B:B,Spiele!C:C))","v":""},{"$f":"IF(B4261=\"\",\"\",LOOKUP(B4261,Spiele!B:B,Spiele!D:D))","v":""},{"$f":"IF(B4261=\"\",\"\",LOOKUP(B4261,Spiele!B:B,Spiele!E:E))","v":""},{"$f":"IF(B4261=\"\",\"\",LOOKUP(B4261,Spiele!B:B,Spiele!F:F))","v":""},"","","",null,null,-1,-1,1,0]
[null,null,{"$f":"IF(B4262=\"\",\"\",LOOKUP(B4262,Spiele!B:B,Spiele!C:C))","v":""},{"$f":"IF(B4262=\"\",\"\",LOOKUP(B4262,Spiele!B:B,Spiele!D:D))","v":""},{"$f":"IF(B4262=\"\",\"\",LOOKUP(B4262,Spiele!B:B,Spiele!E:E))","v":""},{"$f":"IF(B4262=\"\",\"\",LOOKUP(B4262,Spiele!B:B,Spiele!F:F))","v":""},"","","",null,null,-1,-1,1,0]
[null,null,{"$f":"IF(B4267=\"\",\"\",LOOKUP(B4267,Spiele!B:B,Spiele!C:C))","v":""},{"$f":"IF(B4267=\"\",\"\",LOOKUP(B4267,Spiele!B:B,Spiele!D:D))","v":""},{"$f":"IF(B4267=\"\",\"\",LOOKUP(B4267,Spiele!B:B,Spiele!E:E))","v":""},{"$f":"IF(B4267=\"\",\"\",LOOKUP(B4267,Spiele!B:B,Spiele!F:F))","v":""},"","","",null,null,-1,-1,1,0]
[null,null,{"$f":"IF(B4272=\"\",\"\",LOOKUP(B4272,Spiele!B:B,Spiele!C:C))","v":""},{"$f":"IF(B4272=\"\",\"\",LOOKUP(B4272,Spiele!B:B,Spiele!D:D))","v":""},{"$f":"IF(B4272=\"\",\"\",LOOKUP(B4272,Spiele!B:B,Spiele!E:E))","v":""},{"$f":"IF(B4272=\"\",\"\",LOOKUP(B4272,Spiele!B:B,Spiele!F:F))","v":""},"","","",null,null,-1,-1,1,0]
[null,null,{"$f":"IF(B4275=\"\",\"\",LOOKUP(B4275,Spiele!B:B,Spiele!C:C))","v":""},{"$f":"IF(B4275=\"\",\"\",LOOKUP(B4275,Spiele!B:B,Spiele!D:D))","v":""},{"$f":"IF(B4275=\"\",\"\",LOOKUP(B4275,Spiele!B:B,Spiele!E:E))","v":""},{"$f":"IF(B4275=\"\",\"\",LOOKUP(B4275,Spiele!B:B,Spiele!F:F))","v":""},"","","",null,null,-1,-1,1,0]
[null,null,{"$f":"IF(B4277=\"\",\"\",LOOKUP(B4277,Spiele!B:B,Spiele!C:C))","v":""},{"$f":"IF(B4277=\"\",\"\",LOOKUP(B4277,Spiele!B:B,Spiele!D:D))","v":""},{"$f":"IF(B4277=\"\",\"\",LOOKUP(B4277,Spiele!B:B,Spiele!E:E))","v":""},{"$f":"IF(B4277=\"\",\"\",LOOKUP(B4277,Spiele!B:B,Spiele!F:F))","v":""},"","","",null,null,-1,-1,1,0]
[null,null,{"$f":"IF(B4282=\"\",\"\",LOOKUP(B4282,Spiele!B:B,Spiele!C:C))","v":""},{"$f":"IF(B4282=\"\",\"\",LOOKUP(B4282,Spiele!B:B,Spiele!D:D))","v":""},{"$f":"IF(B4282=\"\",\"\",LOOKUP(B4282,Spiele!B:B,Spiele!E:E))","v":""},{"$f":"IF(B4282=\"\",\"\",LOOKUP(B4282,Spiele!B:B,Spiele!F:F))","v":""},"","","",null,null,-1,-1,1,0]
[null,null,{"$f":"IF(B4287=\"\",\"\",LOOKUP(B4287,Spiele!B:B,Spiele!C:C))","v":""},{"$f":"IF(B4287=\"\",\"\",LOOKUP(B4287,Spiele!B:B,Spiele!D:D))","v":""},{"$f":"IF(B4287=\"\",\"\",LOOKUP(B4287,Spiele!B:B,Spiele!E:E))","v":""},{"$f":"IF(B4287=\"\",\"\",LOOKUP(B4287,Spiele!B:B,Spiele!F:F))","v":""},"","","",null,null,-1,-1,1,0]
[null,null,{"$f":"IF(B4291=\"\",\"\",LOOKUP(B4291,Spiele!B:B,Spiele!C:C))","v":""},{"$f":"IF(B4291=\"\",\"\",LOOKUP(B4291,Spiele!B:B,Spiele!D:D))","v":""},{"$f":"IF(B4291=\"\",\"\",LOOKUP(B4291,Spiele!B:B,Spiele!E:E))","v":""},{"$f":"IF(B4291=\"\",\"\",LOOKUP(B4291,Spiele!B:B,Spiele!F:F))","v":""},"","","",null,null,-1,-1,1,0]
[null,null,{"$f":"IF(B4292=\"\",\"\",LOOKUP(B4292,Spiele!B:B,Spiele!C:C))","v":""},{"$f":"IF(B4292=\"\",\"\",LOOKUP(B4292,Spiele!B:B,Spiele!D:D))","v":""},{"$f":"IF(B4292=\"\",\"\",LOOKUP(B4292,Spiele!B:B,Spiele!E:E))","v":""},{"$f":"IF(B4292=\"\",\"\",LOOKUP(B4292,Spiele!B:B,Spiele!F:F))","v":""},"","","",null,null,-1,-1,1,0]
[null,null,{"$f":"IF(B4297=\"\",\"\",LOOKUP(B4297,Spiele!B:B,Spiele!C:C))","v":""},{"$f":"IF(B4297=\"\",\"\",LOOKUP(B4297,Spiele!B:B,Spiele!D:D))","v":""},{"$f":"IF(B4297=\"\",\"\",LOOKUP(B4297,Spiele!B:B,Spiele!E:E))","v":""},{"$f":"IF(B4297=\"\",\"\",LOOKUP(B4297,Spiele!B:B,Spiele!F:F))","v":""},"","","",null,null,-1,-1,1,0]
[null,null,{"$f":"IF(B4302=\"\",\"\",LOOKUP(B4302,Spiele!B:B,Spiele!C:C))","v":""},{"$f":"IF(B4302=\"\",\"\",LOOKUP(B4302,Spiele!B:B,Spiele!D:D))","v":""},{"$f":"IF(B4302=\"\",\"\",LOOKUP(B4302,Spiele!B:B,Spiele!E:E))","v":""},{"$f":"IF(B4302=\"\",\"\",LOOKUP(B4302,Spiele!B:B,Spiele!F:F))","v":""},"","","",null,null,-1,-1,1,0]
[null,null,{"$f":"IF(B4305=\"\",\"\",LOOKUP(B4305,Spiele!B:B,Spiele!C:C))","v":""},{"$f":"IF(B4305=\"\",\"\",LOOKUP(B4305,Spiele!B:B,Spiele!D:D))","v":""},{"$f":"IF(B4305=\"\",\"\",LOOKUP(B4305,Spiele!B:B,Spiele!E:E))","v":""},{"$f":"IF(B4305=\"\",\"\",LOOKUP(B4305,Spiele!B:B,Spiele!F:F))","v":""},"","","",null,null,-1,-1,1,0]
[null,null,{"$f":"IF(B4307=\"\",\"\",LOOKUP(B4307,Spiele!B:B,Spiele!C:C))","v":""},{"$f":"IF(B4307=\"\",\"\",LOOKUP(B4307,Spiele!B:B,Spiele!D:D))","v":""},{"$f":"IF(B4307=\"\",\"\",LOOKUP(B4307,Spiele!B:B,Spiele!E:E))","v":""},{"$f":"IF(B4307=\"\",\"\",LOOKUP(B4307,Spiele!B:B,Spiele!F:F))","v":""},"","","",null,null,-1,-1,1,0]
[null,null,{"$f":"IF(B4312=\"\",\"\",LOOKUP(B4312,Spiele!B:B,Spiele!C:C))","v":""},{"$f":"IF(B4312=\"\",\"\",LOOKUP(B4312,Spiele!B:B,Spiele!D:D))","v":""},{"$f":"IF(B4312=\"\",\"\",LOOKUP(B4312,Spiele!B:B,Spiele!E:E))","v":""},{"$f":"IF(B4312=\"\",\"\",LOOKUP(B4312,Spiele!B:B,Spiele!F:F))","v":""},"","","",null,null,-1,-1,1,0]
[null,null,{"$f":"IF(B4317=\"\",\"\",LOOKUP(B4317,Spiele!B:B,Spiele!C:C))","v":""},{"$f":"IF(B4317=\"\",\"\",LOOKUP(B4317,Spiele!B:B,Spiele!D:D))","v":""},{"$f":"IF(B4317=\"\",\"\",LOOKUP(B4317,Spiele!B:B,Spiele!E:E))","v":""},{"$f":"IF(B4317=\"\",\"\",LOOKUP(B4317,Spiele!B:B,Spiele!F:F))","v":""},"","","",null,null,-1,-1,1,0]
[null,null,{"$f":"IF(B4319=\"\",\"\",LOOKUP(B4319,Spiele!B:B,Spiele!C:C))","v":""},{"$f":"IF(B4319=\"\",\"\",LOOKUP(B4319,Spiele!B:B,Spiele!D:D))","v":""},{"$f":"IF(B4319=\"\",\"\",LOOKUP(B4319,Spiele!B:B,Spiele!E:E))","v":""},{"$f":"IF(B4319=\"\",\"\",LOOKUP(B4319,Spiele!B:B,Spiele!F:F))","v":""},"","","",null,null,-1,-1,1,0]
[null,null,{"$f":"IF(B4322=\"\",\"\",LOOKUP(B4322,Spiele!B:B,Spiele!C:C))","v":""},{"$f":"IF(B4322=\"\",\"\",LOOKUP(B4322,Spiele!B:B,Spiele!D:D))","v":""},{"$f":"IF(B4322=\"\",\"\",LOOKUP(B4322,Spiele!B:B,Spiele!E:E))","v":""},{"$f":"IF(B4322=\"\",\"\",LOOKUP(B4322,Spiele!B:B,Spiele!F:F))","v":""},"","","",null,null,-1,-1,1,0]
[null,null,{"$f":"IF(B4327=\"\",\"\",LOOKUP(B4327,Spiele!B:B,Spiele!C:C))","v":""},{"$f":"IF(B4327=\"\",\"\",LOOKUP(B4327,Spiele!B:B,Spiele!D:D))","v":""},{"$f":"IF(B4327=\"\",\"\",LOOKUP(B4327,Spiele!B:B,Spiele!E:E))","v":""},{"$f":"IF(B4327=\"\",\"\",LOOKUP(B4327,Spiele!B:B,Spiele!F:F))","v":""},"","","",null,null,-1,-1,1,0]
[null,null,{"$f":"IF(B4332=\"\",\"\",LOOKUP(B4332,Spiele!B:B,Spiele!C:C))","v":""},{"$f":"IF(B4332=\"\",\"\",LOOKUP(B4332,Spiele!B:B,Spiele!D:D))","v":""},{"$f":"IF(B4332=\"\",\"\",LOOKUP(B4332,Spiele!B:B,Spiele!E:E))","v":""},{"$f":"IF(B4332=\"\",\"\",LOOKUP(B4332,Spiele!B:B,Spiele!F:F))","v":""},"","","",null,null,-1,-1,1,0]
[null,null,{"$f":"IF(B4335=\"\",\"\",LOOKUP(B4335,Spiele!B:B,Spiele!C:C))","v":""},{"$f":"IF(B4335=\"\",\"\",LOOKUP(B4335,Spiele!B:B,Spiele!D:D))","v":""},{"$f":"IF(B4335=\"\",\"\",LOOKUP(B4335,Spiele!B:B,Spiele!E:E))","v":""},{"$f":"IF(B4335=\"\",\"\",LOOKUP(B4335,Spiele!B:B,Spiele!F:F))","v":""},"","","",null,null,-1,-1,1,0]
[null,null,{"$f":"IF(B4337=\"\",\"\",LOOKUP(B4337,Spiele!B:B,Spiele!C:C))","v":""},{"$f":"IF(B4337=\"\",\"\",LOOKUP(B4337,Spiele!B:B,Spiele!D:D))","v":""},{"$f":"IF(B4337=\"\",\"\",LOOKUP(B4337,Spiele!B:B,Spiele!E:E))","v":""},{"$f":"IF(B4337=\"\",\"\",LOOKUP(B4337,Spiele!B:B,Spiele!F:F))","v":""},"","","",null,null,-1,-1,1,0]
[null,null,{"$f":"IF(B4342=\"\",\"\",LOOKUP(B4342,Spiele!B:B,Spiele!C:C))","v":""},{"$f":"IF(B4342=\"\",\"\",LOOKUP(B4342,Spiele!B:B,Spiele!D:D))","v":""},{"$f":"IF(B4342=\"\",\"\",LOOKUP(B4342,Spiele!B:B,Spiele!E:E))","v":""},{"$f":"IF(B4342=\"\",\"\",LOOKUP(B4342,Spiele!B:B,Spiele!F:F))","v":""},"","","",null,null,-1,-1,1,0]
[null,null,{"$f":"IF(B4347=\"\",\"\",LOOKUP(B4347,Spiele!B:B,Spiele!C:C))","v":""},{"$f":"IF(B4347=\"\",\"\",LOOKUP(B4347,Spiele!B:B,Spiele!D:D))","v":""},{"$f":"IF(B4347=\"\",\"\",LOOKUP(B4347,Spiele!B:B,Spiele!E:E))","v":""},{"$f":"IF(B4347=\"\",\"\",LOOKUP(B4347,Spiele!B:B,Spiele!F:F))","v":""},"","","",null,null,-1,-1,1,0]
[null,null,{"$f":"IF(B4349=\"\",\"\",LOOKUP(B4349,Spiele!B:B,Spiele!C:C))","v":""},{"$f":"IF(B4349=\"\",\"\",LOOKUP(B4349,Spiele!B:B,Spiele!D:D))","v":""},{"$f":"IF(B4349=\"\",\"\",LOOKUP(B4349,Spiele!B:B,Spiele!E:E))","v":""},{"$f":"IF(B4349=\"\",\"\",LOOKUP(B4349,Spiele!B:B,Spiele!F:F))","v":""},"","","",null,null,-1,-1,1,0]
[null,null,{"$f":"IF(B4352=\"\",\"\",LOOKUP(B4352,Spiele!B:B,Spiele!C:C))","v":""},{"$f":"IF(B4352=\"\",\"\",LOOKUP(B4352,Spiele!B:B,Spiele!D:D))","v":""},{"$f":"IF(B4352=\"\",\"\",LOOKUP(B4352,Spiele!B:B,Spiele!E:E))","v":""},{"$f":"IF(B4352=\"\",\"\",LOOKUP(B4352,Spiele!B:B,Spiele!F:F))","v":""},"","","",null,null,-1,-1,1,0]
[null,null,{"$f":"IF(B4357=\"\",\"\",LOOKUP(B4357,Spiele!B:B,Spiele!C:C))","v":""},{"$f":"IF(B4357=\"\",\"\",LOOKUP(B4357,Spiele!B:B,Spiele!D:D))","v":""},{"$f":"IF(B4357=\"\",\"\",LOOKUP(B4357,Spiele!B:B,Spiele!E:E))","v":""},{"$f":"IF(B4357=\"\",\"\",LOOKUP(B4357,Spiele!B:B,Spiele!F:F))","v":""},"","","",null,null,-1,-1,1,0]
[null,null,{"$f":"IF(B4362=\"\",\"\",LOOKUP(B4362,Spiele!B:B,Spiele!C:C))","v":""},{"$f":"IF(B4362=\"\",\"\",LOOKUP(B4362,Spiele!B:B,Spiele!D:D))","v":""},{"$f":"IF(B4362=\"\",\"\",LOOKUP(B4362,Spiele!B:B,Spiele!E:E))","v":""},{"$f":"IF(B4362=\"\",\"\",LOOKUP(B4362,Spiele!B:B,Spiele!F:F))","v":""},"","","",null,null,-1,-1,1,0]
[null,null,{"$f":"IF(B4365=\"\",\"\",LOOKUP(B4365,Spiele!B:B,Spiele!C:C))","v":""},{"$f":"IF(B4365=\"\",\"\",LOOKUP(B4365,Spiele!B:B,Spiele!D:D))","v":""},{"$f":"IF(B4365=\"\",\"\",LOOKUP(B4365,Spiele!B:B,Spiele!E:E))","v":""},{"$f":"IF(B4365=\"\",\"\",LOOKUP(B4365,Spiele!B:B,Spiele!F:F))","v":""},"","","",null,null,-1,-1,1,0]
[null,null,{"$f":"IF(B4367=\"\",\"\",LOOKUP(B4367,Spiele!B:B,Spiele!C:C))","v":""},{"$f":"IF(B4367=\"\",\"\",LOOKUP(B4367,Spiele!B:B,Spiele!D:D))","v":""},{"$f":"IF(B4367=\"\",\"\",LOOKUP(B4367,Spiele!B:B,Spiele!E:E))","v":""},{"$f":"IF(B4367=\"\",\"\",LOOKUP(B4367,Spiele!B:B,Spiele!F:F))","v":""},"","","",null,null,-1,-1,1,0]
[null,null,{"$f":"IF(B4372=\"\",\"\",LOOKUP(B4372,Spiele!B:B,Spiele!C:C))","v":""},{"$f":"IF(B4372=\"\",\"\",LOOKUP(B4372,Spiele!B:B,Spiele!D:D))","v":""},{"$f":"IF(B4372=\"\",\"\",LOOKUP(B4372,Spiele!B:B,Spiele!E:E))","v":""},{"$f":"IF(B4372=\"\",\"\",LOOKUP(B4372,Spiele!B:B,Spiele!F:F))","v":""},"","","",null,null,-1,-1,1,0]
[null,null,{"$f":"IF(B4377=\"\",\"\",LOOKUP(B4377,Spiele!B:B,Spiele!C:C))","v":""},{"$f":"IF(B4377=\"\",\"\",LOOKUP(B4377,Spiele!B:B,Spiele!D:D))","v":""},{"$f":"IF(B4377=\"\",\"\",LOOKUP(B4377,Spiele!B:B,Spiele!E:E))","v":""},{"$f":"IF(B4377=\"\",\"\",LOOKUP(B4377,Spiele!B:B,Spiele!F:F))","v":""},"","","",null,null,-1,-1,1,0]
[null,null,{"$f":"IF(B4379=\"\",\"\",LOOKUP(B4379,Spiele!B:B,Spiele!C:C))","v":""},{"$f":"IF(B4379=\"\",\"\",LOOKUP(B4379,Spiele!B:B,Spiele!D:D))","v":""},{"$f":"IF(B4379=\"\",\"\",LOOKUP(B4379,Spiele!B:B,Spiele!E:E))","v":""},{"$f":"IF(B4379=\"\",\"\",LOOKUP(B4379,Spiele!B:B,Spiele!F:F))","v":""},"","","",null,null,-1,-1,1,0]
[null,null,{"$f":"IF(B4382=\"\",\"\",LOOKUP(B4382,Spiele!B:B,Spiele!C:C))","v":""},{"$f":"IF(B4382=\"\",\"\",LOOKUP(B4382,Spiele!B:B,Spiele!D:D))","v":""},{"$f":"IF(B4382=\"\",\"\",LOOKUP(B4382,Spiele!B:B,Spiele!E:E))","v":""},{"$f":"IF(B4382=\"\",\"\",LOOKUP(B4382,Spiele!B:B,Spiele!F:F))","v":""},"","","",null,null,-1,-1,1,0]
[null,null,{"$f":"IF(B4387=\"\",\"\",LOOKUP(B4387,Spiele!B:B,Spiele!C:C))","v":""},{"$f":"IF(B4387=\"\",\"\",LOOKUP(B4387,Spiele!B:B,Spiele!D:D))","v":""},{"$f":"IF(B4387=\"\",\"\",LOOKUP(B4387,Spiele!B:B,Spiele!E:E))","v":""},{"$f":"IF(B4387=\"\",\"\",LOOKUP(B4387,Spiele!B:B,Spiele!F:F))","v":""},"","","",null,null,-1,-1,1,0]
[null,null,{"$f":"IF(B4392=\"\",\"\",LOOKUP(B4392,Spiele!B:B,Spiele!C:C))","v":""},{"$f":"IF(B4392=\"\",\"\",LOOKUP(B4392,Spiele!B:B,Spiele!D:D))","v":""},{"$f":"IF(B4392=\"\",\"\",LOOKUP(B4392,Spiele!B:B,Spiele!E:E))","v":""},{"$f":"IF(B4392=\"\",\"\",LOOKUP(B4392,Spiele!B:B,Spiele!F:F))","v":""},"","","",null,null,-1,-1,1,0]
[null,null,{"$f":"IF(B4395=\"\",\"\",LOOKUP(B4395,Spiele!B:B,Spiele!C:C))","v":""},{"$f":"IF(B4395=\"\",\"\",LOOKUP(B4395,Spiele!B:B,Spiele!D:D))","v":""},{"$f":"IF(B4395=\"\",\"\",LOOKUP(B4395,Spiele!B:B,Spiele!E:E))","v":""},{"$f":"IF(B4395=\"\",\"\",LOOKUP(B4395,Spiele!B:B,Spiele!F:F))","v":""},"","","",null,null,-1,-1,1,0]
[null,null,{"$f":"IF(B4397=\"\",\"\",LOOKUP(B4397,Spiele!B:B,Spiele!C:C))","v":""},{"$f":"IF(B4397=\"\",\"\",LOOKUP(B4397,Spiele!B:B,Spiele!D:D))","v":""},{"$f":"IF(B4397=\"\",\"\",LOOKUP(B4397,Spiele!B:B,Spiele!E:E))","v":""},{"$f":"IF(B4397=\"\",\"\",LOOKUP(B4397,Spiele!B:B,Spiele!F:F))","v":""},"","","",null,null,-1,-1,1,0]
[null,null,{"$f":"IF(B4402=\"\",\"\",LOOKUP(B4402,Spiele!B:B,Spiele!C:C))","v":""},{"$f":"IF(B4402=\"\",\"\",LOOKUP(B4402,Spiele!B:B,Spiele!D:D))","v":""},{"$f":"IF(B4402=\"\",\"\",LOOKUP(B4402,Spiele!B:B,Spiele!E:E))","v":""},{"$f":"IF(B4402=\"\",\"\",LOOKUP(B4402,Spiele!B:B,Spiele!F:F))","v":""},"","","",null,null,-1,-1,1,0]
[null,null,{"$f":"IF(B4407=\"\",\"\",LOOKUP(B4407,Spiele!B:B,Spiele!C:C))","v":""},{"$f":"IF(B4407=\"\",\"\",LOOKUP(B4407,Spiele!B:B,Spiele!D:D))","v":""},{"$f":"IF(B4407=\"\",\"\",LOOKUP(B4407,Spiele!B:B,Spiele!E:E))","v":""},{"$f":"IF(B4407=\"\",\"\",LOOKUP(B4407,Spiele!B:B,Spiele!F:F))","v":""},"","","",null,null,-1,-1,1,0]
[null,null,{"$f":"IF(B4409=\"\",\"\",LOOKUP(B4409,Spiele!B:B,Spiele!C:C))","v":""},{"$f":"IF(B4409=\"\",\"\",LOOKUP(B4409,Spiele!B:B,Spiele!D:D))","v":""},{"$f":"IF(B4409=\"\",\"\",LOOKUP(B4409,Spiele!B:B,Spiele!E:E))","v":""},{"$f":"IF(B4409=\"\",\"\",LOOKUP(B4409,Spiele!B:B,Spiele!F:F))","v":""},"","","",null,null,-1,-1,1,0]
[null,null,{"$f":"IF(B4412=\"\",\"\",LOOKUP(B4412,Spiele!B:B,Spiele!C:C))","v":""},{"$f":"IF(B4412=\"\",\"\",LOOKUP(B4412,Spiele!B:B,Spiele!D:D))","v":""},{"$f":"IF(B4412=\"\",\"\",LOOKUP(B4412,Spiele!B:B,Spiele!E:E))","v":""},{"$f":"IF(B4412=\"\",\"\",LOOKUP(B4412,Spiele!B:B,Spiele!F:F))","v":""},"","","",null,null,-1,-1,1,0]
[null,null,{"$f":"IF(B4417=\"\",\"\",LOOKUP(B4417,Spiele!B:B,Spiele!C:C))","v":""},{"$f":"IF(B4417=\"\",\"\",LOOKUP(B4417,Spiele!B:B,Spiele!D:D))","v":""},{"$f":"IF(B4417=\"\",\"\",LOOKUP(B4417,Spiele!B:B,Spiele!E:E))","v":""},{"$f":"IF(B4417=\"\",\"\",LOOKUP(B4417,Spiele!B:B,Spiele!F:F))","v":""},"","","",null,null,-1,-1,1,0]
[null,null,{"$f":"IF(B4422=\"\",\"\",LOOKUP(B4422,Spiele!B:B,Spiele!C:C))","v":""},{"$f":"IF(B4422=\"\",\"\",LOOKUP(B4422,Spiele!B:B,Spiele!D:D))","v":""},{"$f":"IF(B4422=\"\",\"\",LOOKUP(B4422,Spiele!B:B,Spiele!E:E))","v":""},{"$f":"IF(B4422=\"\",\"\",LOOKUP(B4422,Spiele!B:B,Spiele!F:F))","v":""},"","","",null,null,-1,-1,1,0]
[null,null,{"$f":"IF(B4425=\"\",\"\",LOOKUP(B4425,Spiele!B:B,Spiele!C:C))","v":""},{"$f":"IF(B4425=\"\",\"\",LOOKUP(B4425,Spiele!B:B,Spiele!D:D))","v":""},{"$f":"IF(B4425=\"\",\"\",LOOKUP(B4425,Spiele!B:B,Spiele!E:E))","v":""},{"$f":"IF(B4425=\"\",\"\",LOOKUP(B4425,Spiele!B:B,Spiele!F:F))","v":""},"","","",null,null,-1,-1,1,0]
[null,null,{"$f":"IF(B4427=\"\",\"\",LOOKUP(B4427,Spiele!B:B,Spiele!C:C))","v":""},{"$f":"IF(B4427=\"\",\"\",LOOKUP(B4427,Spiele!B:B,Spiele!D:D))","v":""},{"$f":"IF(B4427=\"\",\"\",LOOKUP(B4427,Spiele!B:B,Spiele!E:E))","v":""},{"$f":"IF(B4427=\"\",\"\",LOOKUP(B4427,Spiele!B:B,Spiele!F:F))","v":""},"","","",null,null,-1,-1,1,0]
[null,null,{"$f":"IF(B4432=\"\",\"\",LOOKUP(B4432,Spiele!B:B,Spiele!C:C))","v":""},{"$f":"IF(B4432=\"\",\"\",LOOKUP(B4432,Spiele!B:B,Spiele!D:D))","v":""},{"$f":"IF(B4432=\"\",\"\",LOOKUP(B4432,Spiele!B:B,Spiele!E:E))","v":""},{"$f":"IF(B4432=\"\",\"\",LOOKUP(B4432,Spiele!B:B,Spiele!F:F))","v":""},"","","",null,null,-1,-1,1,0]
[null,null,{"$f":"IF(B4437=\"\",\"\",LOOKUP(B4437,Spiele!B:B,Spiele!C:C))","v":""},{"$f":"IF(B4437=\"\",\"\",LOOKUP(B4437,Spiele!B:B,Spiele!D:D))","v":""},{"$f":"IF(B4437=\"\",\"\",LOOKUP(B4437,Spiele!B:B,Spiele!E:E))","v":""},{"$f":"IF(B4437=\"\",\"\",LOOKUP(B4437,Spiele!B:B,Spiele!F:F))","v":""},"","","",null,null,-1,-1,1,0]
[null,null,{"$f":"IF(B4439=\"\",\"\",LOOKUP(B4439,Spiele!B:B,Spiele!C:C))","v":""},{"$f":"IF(B4439=\"\",\"\",LOOKUP(B4439,Spiele!B:B,Spiele!D:D))","v":""},{"$f":"IF(B4439=\"\",\"\",LOOKUP(B4439,Spiele!B:B,Spiele!E:E))","v":""},{"$f":"IF(B4439=\"\",\"\",LOOKUP(B4439,Spiele!B:B,Spiele!F:F))","v":""},"","","",null,null,-1,-1,1,0]
[null,null,{"$f":"IF(B4442=\"\",\"\",LOOKUP(B4442,Spiele!B:B,Spiele!C:C))","v":""},{"$f":"IF(B4442=\"\",\"\",LOOKUP(B4442,Spiele!B:B,Spiele!D:D))","v":""},{"$f":"IF(B4442=\"\",\"\",LOOKUP(B4442,Spiele!B:B,Spiele!E:E))","v":""},{"$f":"IF(B4442=\"\",\"\",LOOKUP(B4442,Spiele!B:B,Spiele!F:F))","v":""},"","","",null,null,-1,-1,1,0]
[null,null,{"$f":"IF(B4447=\"\",\"\",LOOKUP(B4447,Spiele!B:B,Spiele!C:C))","v":""},{"$f":"IF(B4447=\"\",\"\",LOOKUP(B4447,Spiele!B:B,Spiele!D:D))","v":""},{"$f":"IF(B4447=\"\",\"\",LOOKUP(B4447,Spiele!B:B,Spiele!E:E))","v":""},{"$f":"IF(B4447=\"\",\"\",LOOKUP(B4447,Spiele!B:B,Spiele!F:F))","v":""},"","","",null,null,-1,-1,1,0]
[null,null,{"$f":"IF(B4452=\"\",\"\",LOOKUP(B4452,Spiele!B:B,Spiele!C:C))","v":""},{"$f":"IF(B4452=\"\",\"\",LOOKUP(B4452,Spiele!B:B,Spiele!D:D))","v":""},{"$f":"IF(B4452=\"\",\"\",LOOKUP(B4452,Spiele!B:B,Spiele!E:E))","v":""},{"$f":"IF(B4452=\"\",\"\",LOOKUP(B4452,Spiele!B:B,Spiele!F:F))","v":""},"","","",null,null,-1,-1,1,0]
[null,null,{"$f":"IF(B4455=\"\",\"\",LOOKUP(B4455,Spiele!B:B,Spiele!C:C))","v":""},{"$f":"IF(B4455=\"\",\"\",LOOKUP(B4455,Spiele!B:B,Spiele!D:D))","v":""},{"$f":"IF(B4455=\"\",\"\",LOOKUP(B4455,Spiele!B:B,Spiele!E:E))","v":""},{"$f":"IF(B4455=\"\",\"\",LOOKUP(B4455,Spiele!B:B,Spiele!F:F))","v":""},"","","",null,null,-1,-1,1,0]
[null,null,{"$f":"IF(B4457=\"\",\"\",LOOKUP(B4457,Spiele!B:B,Spiele!C:C))","v":""},{"$f":"IF(B4457=\"\",\"\",LOOKUP(B4457,Spiele!B:B,Spiele!D:D))","v":""},{"$f":"IF(B4457=\"\",\"\",LOOKUP(B4457,Spiele!B:B,Spiele!E:E))","v":""},{"$f":"IF(B4457=\"\",\"\",LOOKUP(B4457,Spiele!B:B,Spiele!F:F))","v":""},"","","",null,null,-1,-1,1,0]
[null,null,{"$f":"IF(B4462=\"\",\"\",LOOKUP(B4462,Spiele!B:B,Spiele!C:C))","v":""},{"$f":"IF(B4462=\"\",\"\",LOOKUP(B4462,Spiele!B:B,Spiele!D:D))","v":""},{"$f":"IF(B4462=\"\",\"\",LOOKUP(B4462,Spiele!B:B,Spiele!E:E))","v":""},{"$f":"IF(B4462=\"\",\"\",LOOKUP(B4462,Spiele!B:B,Spiele!F:F))","v":""},"","","",null,null,-1,-1,1,0]
[null,null,{"$f":"IF(B4467=\"\",\"\",LOOKUP(B4467,Spiele!B:B,Spiele!C:C))","v":""},{"$f":"IF(B4467=\"\",\"\",LOOKUP(B4467,Spiele!B:B,Spiele!D:D))","v":""},{"$f":"IF(B4467=\"\",\"\",LOOKUP(B4467,Spiele!B:B,Spiele!E:E))","v":""},{"$f":"IF(B4467=\"\",\"\",LOOKUP(B4467,Spiele!B:B,Spiele!F:F))","v":""},"","","",null,null,-1,-1,1,0]
[null,null,{"$f":"IF(B4469=\"\",\"\",LOOKUP(B4469,Spiele!B:B,Spiele!C:C))","v":""},{"$f":"IF(B4469=\"\",\"\",LOOKUP(B4469,Spiele!B:B,Spiele!D:D))","v":""},{"$f":"IF(B4469=\"\",\"\",LOOKUP(B4469,Spiele!B:B,Spiele!E:E))","v":""},{"$f":"IF(B4469=\"\",\"\",LOOKUP(B4469,Spiele!B:B,Spiele!F:F))","v":""},"","","",null,null,-1,-1,1,0]
[null,null,{"$f":"IF(B4472=\"\",\"\",LOOKUP(B4472,Spiele!B:B,Spiele!C:C))","v":""},{"$f":"IF(B4472=\"\",\"\",LOOKUP(B4472,Spiele!B:B,Spiele!D:D))","v":""},{"$f":"IF(B4472=\"\",\"\",LOOKUP(B4472,Spiele!B:B,Spiele!E:E))","v":""},{"$f":"IF(B4472=\"\",\"\",LOOKUP(B4472,Spiele!B:B,Spiele!F:F))","v":""},"","","",null,null,-1,-1,1,0]
[null,null,{"$f":"IF(B4477=\"\",\"\",LOOKUP(B4477,Spiele!B:B,Spiele!C:C))","v":""},{"$f":"IF(B4477=\"\",\"\",LOOKUP(B4477,Spiele!B:B,Spiele!D:D))","v":""},{"$f":"IF(B4477=\"\",\"\",LOOKUP(B4477,Spiele!B:B,Spiele!E:E))","v":""},{"$f":"IF(B4477=\"\",\"\",LOOKUP(B4477,Spiele!B:B,Spiele!F:F))","v":""},"","","",null,null,-1,-1,1,0]
[null,null,{"$f":"IF(B4482=\"\",\"\",LOOKUP(B4482,Spiele!B:B,Spiele!C:C))","v":""},{"$f":"IF(B4482=\"\",\"\",LOOKUP(B4482,Spiele!B:B,Spiele!D:D))","v":""},{"$f":"IF(B4482=\"\",\"\",LOOKUP(B4482,Spiele!B:B,Spiele!E:E))","v":""},{"$f":"IF(B4482=\"\",\"\",LOOKUP(B4482,Spiele!B:B,Spiele!F:F))","v":""},"","","",null,null,-1,-1,1,0]
[null,null,{"$f":"IF(B4485=\"\",\"\",LOOKUP(B4485,Spiele!B:B,Spiele!C:C))","v":""},{"$f":"IF(B4485=\"\",\"\",LOOKUP(B4485,Spiele!B:B,Spiele!D:D))","v":""},{"$f":"IF(B4485=\"\",\"\",LOOKUP(B4485,Spiele!B:B,Spiele!E:E))","v":""},{"$f":"IF(B4485=\"\",\"\",LOOKUP(B4485,Spiele!B:B,Spiele!F:F))","v":""},"","","",null,null,-1,-1,1,0]
[null,null,{"$f":"IF(B4487=\"\",\"\",LOOKUP(B4487,Spiele!B:B,Spiele!C:C))","v":""},{"$f":"IF(B4487=\"\",\"\",LOOKUP(B4487,Spiele!B:B,Spiele!D:D))","v":""},{"$f":"IF(B4487=\"\",\"\",LOOKUP(B4487,Spiele!B:B,Spiele!E:E))","v":""},{"$f":"IF(B4487=\"\",\"\",LOOKUP(B4487,Spiele!B:B,Spiele!F:F))","v":""},"","","",null,null,-1,-1,1,0]
[null,null,{"$f":"IF(B4492=\"\",\"\",LOOKUP(B4492,Spiele!B:B,Spiele!C:C))","v":""},{"$f":"IF(B4492=\"\",\"\",LOOKUP(B4492,Spiele!B:B,Spiele!D:D))","v":""},{"$f":"IF(B4492=\"\",\"\",LOOKUP(B4492,Spiele!B:B,Spiele!E:E))","v":""},{"$f":"IF(B4492=\"\",\"\",LOOKUP(B4492,Spiele!B:B,Spiele!F:F))","v":""},"","","",null,null,-1,-1,1,0]
[null,null,{"$f":"IF(B4497=\"\",\"\",LOOKUP(B4497,Spiele!B:B,Spiele!C:C))","v":""},{"$f":"IF(B4497=\"\",\"\",LOOKUP(B4497,Spiele!B:B,Spiele!D:D))","v":""},{"$f":"IF(B4497=\"\",\"\",LOOKUP(B4497,Spiele!B:B,Spiele!E:E))","v":""},{"$f":"IF(B4497=\"\",\"\",LOOKUP(B4497,Spiele!B:B,Spiele!F:F))","v":""},"","","",null,null,-1,-1,1,0]
[null,null,{"$f":"IF(B4499=\"\",\"\",LOOKUP(B4499,Spiele!B:B,Spiele!C:C))","v":""},{"$f":"IF(B4499=\"\",\"\",LOOKUP(B4499,Spiele!B:B,Spiele!D:D))","v":""},{"$f":"IF(B4499=\"\",\"\",LOOKUP(B4499,Spiele!B:B,Spiele!E:E))","v":""},{"$f":"IF(B4499=\"\",\"\",LOOKUP(B4499,Spiele!B:B,Spiele!F:F))","v":""},"","","",null,null,-1,-1,1,0]
[null,null,{"$f":"IF(B4502=\"\",\"\",LOOKUP(B4502,Spiele!B:B,Spiele!C:C))","v":""},{"$f":"IF(B4502=\"\",\"\",LOOKUP(B4502,Spiele!B:B,Spiele!D:D))","v":""},{"$f":"IF(B4502=\"\",\"\",LOOKUP(B4502,Spiele!B:B,Spiele!E:E))","v":""},{"$f":"IF(B4502=\"\",\"\",LOOKUP(B4502,Spiele!B:B,Spiele!F:F))","v":""},"","","",null,null,-1,-1,1,0]
[null,null,{"$f":"IF(B4507=\"\",\"\",LOOKUP(B4507,Spiele!B:B,Spiele!C:C))","v":""},{"$f":"IF(B4507=\"\",\"\",LOOKUP(B4507,Spiele!B:B,Spiele!D:D))","v":""},{"$f":"IF(B4507=\"\",\"\",LOOKUP(B4507,Spiele!B:B,Spiele!E:E))","v":""},{"$f":"IF(B4507=\"\",\"\",LOOKUP(B4507,Spiele!B:B,Spiele!F:F))","v":""},"","","",null,null,-1,-1,1,0]
[null,null,{"$f":"IF(B4512=\"\",\"\",LOOKUP(B4512,Spiele!B:B,Spiele!C:C))","v":""},{"$f":"IF(B4512=\"\",\"\",LOOKUP(B4512,Spiele!B:B,Spiele!D:D))","v":""},{"$f":"IF(B4512=\"\",\"\",LOOKUP(B4512,Spiele!B:B,Spiele!E:E))","v":""},{"$f":"IF(B4512=\"\",\"\",LOOKUP(B4512,Spiele!B:B,Spiele!F:F))","v":""},{"$f":"IF(E4512=\"\",\"\",IF(E4512>F4512,1,0))","v":""},{"$f":"IF(F4512=\"\",\"\",IF(E4512<F4512,1,0))","v":""},{"$f":"IF(E4512=\"\",\"\",IF(E4512=F4512,1,0))","v":""},null,null,{"$f":"IF(E4512=\"\",-1,IF(J4512>K4512,1,-1))","v":-1},{"$f":"IF(F4512=\"\",-1,IF(J4512<K4512,1,-1))","v":-1},{"$f":"IF(E4512=\"-\",-1,IF(J4512=K4512,1,-1))","v":1},{"$f":"IF(E4512=\"\",0,IF(E4512=J4512,1,0)+IF(F4512=K4512,1,0)+IF(G4512=L4512,1,0)+IF(H4512=M4512,1,0)+IF(I4512=N4512,1,0))","v":0}]
[null,null,{"$f":"IF(B4515=\"\",\"\",LOOKUP(B4515,Spiele!B:B,Spiele!C:C))","v":""},{"$f":"IF(B4515=\"\",\"\",LOOKUP(B4515,Spiele!B:B,Spiele!D:D))","v":""},{"$f":"IF(B4515=\"\",\"\",LOOKUP(B4515,Spiele!B:B,Spiele!E:E))","v":""},{"$f":"IF(B4515=\"\",\"\",LOOKUP(B4515,Spiele!B:B,Spiele!F:F))","v":""},"","","",null,null,-1,-1,1,0]
[null,null,{"$f":"IF(B4517=\"\",\"\",LOOKUP(B4517,Spiele!B:B,Spiele!C:C))","v":""},{"$f":"IF(B4517=\"\",\"\",LOOKUP(B4517,Spiele!B:B,Spiele!D:D))","v":""},{"$f":"IF(B4517=\"\",\"\",LOOKUP(B4517,Spiele!B:B,Spiele!E:E))","v":""},{"$f":"IF(B4517=\"\",\"\",LOOKUP(B4517,Spiele!B:B,Spiele!F:F))","v":""},"","","",null,null,-1,-1,1,0]
[null,null,{"$f":"IF(B4522=\"\",\"\",LOOKUP(B4522,Spiele!B:B,Spiele!C:C))","v":""},{"$f":"IF(B4522=\"\",\"\",LOOKUP(B4522,Spiele!B:B,Spiele!D:D))","v":""},{"$f":"IF(B4522=\"\",\"\",LOOKUP(B4522,Spiele!B:B,Spiele!E:E))","v":""},{"$f":"IF(B4522=\"\",\"\",LOOKUP(B4522,Spiele!B:B,Spiele!F:F))","v":""},"","","",null,null,-1,-1,1,0]
[null,null,{"$f":"IF(B4527=\"\",\"\",LOOKUP(B4527,Spiele!B:B,Spiele!C:C))","v":""},{"$f":"IF(B4527=\"\",\"\",LOOKUP(B4527,Spiele!B:B,Spiele!D:D))","v":""},{"$f":"IF(B4527=\"\",\"\",LOOKUP(B4527,Spiele!B:B,Spiele!E:E))","v":""},{"$f":"IF(B4527=\"\",\"\",LOOKUP(B4527,Spiele!B:B,Spiele!F:F))","v":""},"","","",null,null,-1,-1,1,0]
[null,null,{"$f":"IF(B4529=\"\",\"\",LOOKUP(B4529,Spiele!B:B,Spiele!C:C))","v":""},{"$f":"IF(B4529=\"\",\"\",LOOKUP(B4529,Spiele!B:B,Spiele!D:D))","v":""},{"$f":"IF(B4529=\"\",\"\",LOOKUP(B4529,Spiele!B:B,Spiele!E:E))","v":""},{"$f":"IF(B4529=\"\",\"\",LOOKUP(B4529,Spiele!B:B,Spiele!F:F))","v":""},"","","",null,null,-1,-1,1,0]
[null,null,{"$f":"IF(B4532=\"\",\"\",LOOKUP(B4532,Spiele!B:B,Spiele!C:C))","v":""},{"$f":"IF(B4532=\"\",\"\",LOOKUP(B4532,Spiele!B:B,Spiele!D:D))","v":""},{"$f":"IF(B4532=\"\",\"\",LOOKUP(B4532,Spiele!B:B,Spiele!E:E))","v":""},{"$f":"IF(B4532=\"\",\"\",LOOKUP(B4532,Spiele!B:B,Spiele!F:F))","v":""},"","","",null,null,-1,-1,1,0]
[null,null,{"$f":"IF(B4537=\"\",\"\",LOOKUP(B4537,Spiele!B:B,Spiele!C:C))","v":""},{"$f":"IF(B4537=\"\",\"\",LOOKUP(B4537,Spiele!B:B,Spiele!D:D))","v":""},{"$f":"IF(B4537=\"\",\"\",LOOKUP(B4537,Spiele!B:B,Spiele!E:E))","v":""},{"$f":"IF(B4537=\"\",\"\",LOOKUP(B4537,Spiele!B:B,Spiele!F:F))","v":""},"","","",null,null,-1,-1,1,0]
[null,null,{"$f":"IF(B4542=\"\",\"\",LOOKUP(B4542,Spiele!B:B,Spiele!C:C))","v":""},{"$f":"IF(B4542=\"\",\"\",LOOKUP(B4542,Spiele!B:B,Spiele!D:D))","v":""},{"$f":"IF(B4542=\"\",\"\",LOOKUP(B4542,Spiele!B:B,Spiele!E:E))","v":""},{"$f":"IF(B4542=\"\",\"\",LOOKUP(B4542,Spiele!B:B,Spiele!F:F))","v":""},"","","",null,null,-1,-1,1,0]
[null,null,{"$f":"IF(B4545=\"\",\"\",LOOKUP(B4545,Spiele!B:B,Spiele!C:C))","v":""},{"$f":"IF(B4545=\"\",\"\",LOOKUP(B4545,Spiele!B:B,Spiele!D:D))","v":""},{"$f":"IF(B4545=\"\",\"\",LOOKUP(B4545,Spiele!B:B,Spiele!E:E))","v":""},{"$f":"IF(B4545=\"\",\"\",LOOKUP(B4545,Spiele!B:B,Spiele!F:F))","v":""},"","","",null,null,-1,-1,1,0]
[null,null,{"$f":"IF(B4547=\"\",\"\",LOOKUP(B4547,Spiele!B:B,Spiele!C:C))","v":""},{"$f":"IF(B4547=\"\",\"\",LOOKUP(B4547,Spiele!B:B,Spiele!D:D))","v":""},{"$f":"IF(B4547=\"\",\"\",LOOKUP(B4547,Spiele!B:B,Spiele!E:E))","v":""},{"$f":"IF(B4547=\"\",\"\",LOOKUP(B4547,Spiele!B:B,Spiele!F:F))","v":""},"","","",null,null,-1,-1,1,0]
[null,null,{"$f":"IF(B4552=\"\",\"\",LOOKUP(B4552,Spiele!B:B,Spiele!C:C))","v":""},{"$f":"IF(B4552=\"\",\"\",LOOKUP(B4552,Spiele!B:B,Spiele!D:D))","v":""},{"$f":"IF(B4552=\"\",\"\",LOOKUP(B4552,Spiele!B:B,Spiele!E:E))","v":""},{"$f":"IF(B4552=\"\",\"\",LOOKUP(B4552,Spiele!B:B,Spiele!F:F))","v":""},"","","",null,null,-1,-1,1,0]
[null,null,{"$f":"IF(B4557=\"\",\"\",LOOKUP(B4557,Spiele!B:B,Spiele!C:C))","v":""},{"$f":"IF(B4557=\"\",\"\",LOOKUP(B4557,Spiele!B:B,Spiele!D:D))","v":""},{"$f":"IF(B4557=\"\",\"\",LOOKUP(B4557,Spiele!B:B,Spiele!E:E))","v":""},{"$f":"IF(B4557=\"\",\"\",LOOKUP(B4557,Spiele!B:B,Spiele!F:F))","v":""},"","","",null,null,-1,-1,1,0]
[null,null,{"$f":"IF(B4559=\"\",\"\",LOOKUP(B4559,Spiele!B:B,Spiele!C:C))","v":""},{"$f":"IF(B4559=\"\",\"\",LOOKUP(B4559,Spiele!B:B,Spiele!D:D))","v":""},{"$f":"IF(B4559=\"\",\"\",LOOKUP(B4559,Spiele!B:B,Spiele!E:E))","v":""},{"$f":"IF(B4559=\"\",\"\",LOOKUP(B4559,Spiele!B:B,Spiele!F:F))","v":""},"","","",null,null,-1,-1,1,0]
[null,null,{"$f":"IF(B4562=\"\",\"\",LOOKUP(B4562,Spiele!B:B,Spiele!C:C))","v":""},{"$f":"IF(B4562=\"\",\"\",LOOKUP(B4562,Spiele!B:B,Spiele!D:D))","v":""},{"$f":"IF(B4562=\"\",\"\",LOOKUP(B4562,Spiele!B:B,Spiele!E:E))","v":""},{"$f":"IF(B4562=\"\",\"\",LOOKUP(B4562,Spiele!B:B,Spiele!F:F))","v":""},"","","",null,null,-1,-1,1,0]
[null,null,{"$f":"IF(B4567=\"\",\"\",LOOKUP(B4567,Spiele!B:B,Spiele!C:C))","v":""},{"$f":"IF(B4567=\"\",\"\",LOOKUP(B4567,Spiele!B:B,Spiele!D:D))","v":""},{"$f":"IF(B4567=\"\",\"\",LOOKUP(B4567,Spiele!B:B,Spiele!E:E))","v":""},{"$f":"IF(B4567=\"\",\"\",LOOKUP(B4567,Spiele!B:B,Spiele!F:F))","v":""},"","","",null,null,-1,-1,1,0]
[null,null,{"$f":"IF(B4572=\"\",\"\",LOOKUP(B4572,Spiele!B:B,Spiele!C:C))","v":""},{"$f":"IF(B4572=\"\",\"\",LOOKUP(B4572,Spiele!B:B,Spiele!D:D))","v":""},{"$f":"IF(B4572=\"\",\"\",LOOKUP(B4572,Spiele!B:B,Spiele!E:E))","v":""},{"$f":"IF(B4572=\"\",\"\",LOOKUP(B4572,Spiele!B:B,Spiele!F:F))","v":""},"","","",null,null,-1,-1,1,0]
[null,null,{"$f":"IF(B4576=\"\",\"\",LOOKUP(B4576,Spiele!B:B,Spiele!C:C))","v":""},{"$f":"IF(B4576=\"\",\"\",LOOKUP(B4576,Spiele!B:B,Spiele!D:D))","v":""},{"$f":"IF(B4576=\"\",\"\",LOOKUP(B4576,Spiele!B:B,Spiele!E:E))","v":""},{"$f":"IF(B4576=\"\",\"\",LOOKUP(B4576,Spiele!B:B,Spiele!F:F))","v":""},{"$f":"IF(E4576=\"\",\"\",IF(E4576>F4576,1,0))","v":""},{"$f":"IF(F4576=\"\",\"\",IF(E4576<F4576,1,0))","v":""},{"$f":"IF(E4576=\"\",\"\",IF(E4576=F4576,1,0))","v":""},null,null,{"$f":"IF(E4576=\"\",-1,IF(J4576>K4576,1,-1))","v":-1},{"$f":"IF(F4576=\"\",-1,IF(J4576<K4576,1,-1))","v":-1},{"$f":"IF(E4576=\"-\",-1,IF(J4576=K4576,1,-1))","v":1},{"$f":"IF(E4576=\"\",0,IF(E4576=J4576,1,0)+IF(F4576=K4576,1,0)+IF(G4576=L4576,1,0)+IF(H4576=M4576,1,0)+IF(I4576=N4576,1,0))","v":0}]
[null,null,{"$f":"IF(B4577=\"\",\"\",LOOKUP(B4577,Spiele!B:B,Spiele!C:C))","v":""},{"$f":"IF(B4577=\"\",\"\",LOOKUP(B4577,Spiele!B:B,Spiele!D:D))","v":""},{"$f":"IF(B4577=\"\",\"\",LOOKUP(B4577,Spiele!B:B,Spiele!E:E))","v":""},{"$f":"IF(B4577=\"\",\"\",LOOKUP(B4577,Spiele!B:B,Spiele!F:F))","v":""},"","","",null,null,-1,-1,1,0]
[null,null,{"$f":"IF(B4582=\"\",\"\",LOOKUP(B4582,Spiele!B:B,Spiele!C:C))","v":""},{"$f":"IF(B4582=\"\",\"\",LOOKUP(B4582,Spiele!B:B,Spiele!D:D))","v":""},{"$f":"IF(B4582=\"\",\"\",LOOKUP(B4582,Spiele!B:B,Spiele!E:E))","v":""},{"$f":"IF(B4582=\"\",\"\",LOOKUP(B4582,Spiele!B:B,Spiele!F:F))","v":""},"","","",null,null,-1,-1,1,0]
[null,null,{"$f":"IF(B4587=\"\",\"\",LOOKUP(B4587,Spiele!B:B,Spiele!C:C))","v":""},{"$f":"IF(B4587=\"\",\"\",LOOKUP(B4587,Spiele!B:B,Spiele!D:D))","v":""},{"$f":"IF(B4587=\"\",\"\",LOOKUP(B4587,Spiele!B:B,Spiele!E:E))","v":""},{"$f":"IF(B4587=\"\",\"\",LOOKUP(B4587,Spiele!B:B,Spiele!F:F))","v":""},"","","",null,null,-1,-1,1,0]
[null,null,{"$f":"IF(B4589=\"\",\"\",LOOKUP(B4589,Spiele!B:B,Spiele!C:C))","v":""},{"$f":"IF(B4589=\"\",\"\",LOOKUP(B4589,Spiele!B:B,Spiele!D:D))","v":""},{"$f":"IF(B4589=\"\",\"\",LOOKUP(B4589,Spiele!B:B,Spiele!E:E))","v":""},{"$f":"IF(B4589=\"\",\"\",LOOKUP(B4589,Spiele!B:B,Spiele!F:F))","v":""},"","","",null,null,-1,-1,1,0]
[null,null,{"$f":"IF(B4592=\"\",\"\",LOOKUP(B4592,Spiele!B:B,Spiele!C:C))","v":""},{"$f":"IF(B4592=\"\",\"\",LOOKUP(B4592,Spiele!B:B,Spiele!D:D))","v":""},{"$f":"IF(B4592=\"\",\"\",LOOKUP(B4592,Spiele!B:B,Spiele!E:E))","v":""},{"$f":"IF(B4592=\"\",\"\",LOOKUP(B4592,Spiele!B:B,Spiele!F:F))","v":""},"","","",null,null,-1,-1,1,0]
[null,null,{"$f":"IF(B4597=\"\",\"\",LOOKUP(B4597,Spiele!B:B,Spiele!C:C))","v":""},{"$f":"IF(B4597=\"\",\"\",LOOKUP(B4597,Spiele!B:B,Spiele!D:D))","v":""},{"$f":"IF(B4597=\"\",\"\",LOOKUP(B4597,Spiele!B:B,Spiele!E:E))","v":""},{"$f":"IF(B4597=\"\",\"\",LOOKUP(B4597,Spiele!B:B,Spiele!F:F))","v":""},"","","",null,null,-1,-1,1,0]
[null,null,{"$f":"IF(B4602=\"\",\"\",LOOKUP(B4602,Spiele!B:B,Spiele!C:C))","v":""},{"$f":"IF(B4602=\"\",\"\",LOOKUP(B4602,Spiele!B:B,Spiele!D:D))","v":""},{"$f":"IF(B4602=\"\",\"\",LOOKUP(B4602,Spiele!B:B,Spiele!E:E))","v":""},{"$f":"IF(B4602=\"\",\"\",LOOKUP(B4602,Spiele!B:B,Spiele!F:F))","v":""},"","","",null,null,-1,-1,1,0]
[null,null,{"$f":"IF(B4606=\"\",\"\",LOOKUP(B4606,Spiele!B:B,Spiele!C:C))","v":""},{"$f":"IF(B4606=\"\",\"\",LOOKUP(B4606,Spiele!B:B,Spiele!D:D))","v":""},{"$f":"IF(B4606=\"\",\"\",LOOKUP(B4606,Spiele!B:B,Spiele!E:E))","v":""},{"$f":"IF(B4606=\"\",\"\",LOOKUP(B4606,Spiele!B:B,Spiele!F:F))","v":""},"","","",null,null,-1,-1,1,0]
[null,null,{"$f":"IF(B4607=\"\",\"\",LOOKUP(B4607,Spiele!B:B,Spiele!C:C))","v":""},{"$f":"IF(B4607=\"\",\"\",LOOKUP(B4607,Spiele!B:B,Spiele!D:D))","v":""},{"$f":"IF(B4607=\"\",\"\",LOOKUP(B4607,Spiele!B:B,Spiele!E:E))","v":""},{"$f":"IF(B4607=\"\",\"\",LOOKUP(B4607,Spiele!B:B,Spiele!F:F))","v":""},"","","",null,null,-1,-1,1,0]
[null,null,{"$f":"IF(B4612=\"\",\"\",LOOKUP(B4612,Spiele!B:B,Spiele!C:C))","v":""},{"$f":"IF(B4612=\"\",\"\",LOOKUP(B4612,Spiele!B:B,Spiele!D:D))","v":""},{"$f":"IF(B4612=\"\",\"\",LOOKUP(B4612,Spiele!B:B,Spiele!E:E))","v":""},{"$f":"IF(B4612=\"\",\"\",LOOKUP(B4612,Spiele!B:B,Spiele!F:F))","v":""},"","","",null,null,-1,-1,1,0]
[null,null,{"$f":"IF(B4617=\"\",\"\",LOOKUP(B4617,Spiele!B:B,Spiele!C:C))","v":""},{"$f":"IF(B4617=\"\",\"\",LOOKUP(B4617,Spiele!B:B,Spiele!D:D))","v":""},{"$f":"IF(B4617=\"\",\"\",LOOKUP(B4617,Spiele!B:B,Spiele!E:E))","v":""},{"$f":"IF(B4617=\"\",\"\",LOOKUP(B4617,Spiele!B:B,Spiele!F:F))","v":""},"","","",null,null,-1,-1,1,0]
[null,null,{"$f":"IF(B4619=\"\",\"\",LOOKUP(B4619,Spiele!B:B,Spiele!C:C))","v":""},{"$f":"IF(B4619=\"\",\"\",LOOKUP(B4619,Spiele!B:B,Spiele!D:D))","v":""},{"$f":"IF(B4619=\"\",\"\",LOOKUP(B4619,Spiele!B:B,Spiele!E:E))","v":""},{"$f":"IF(B4619=\"\",\"\",LOOKUP(B4619,Spiele!B:B,Spiele!F:F))","v":""},"","","",null,null,-1,-1,1,0]
[null,null,{"$f":"IF(B4622=\"\",\"\",LOOKUP(B4622,Spiele!B:B,Spiele!C:C))","v":""},{"$f":"IF(B4622=\"\",\"\",LOOKUP(B4622,Spiele!B:B,Spiele!D:D))","v":""},{"$f":"IF(B4622=\"\",\"\",LOOKUP(B4622,Spiele!B:B,Spiele!E:E))","v":""},{"$f":"IF(B4622=\"\",\"\",LOOKUP(B4622,Spiele!B:B,Spiele!F:F))","v":""},"","","",null,null,-1,-1,1,0]
[null,null,{"$f":"IF(B4627=\"\",\"\",LOOKUP(B4627,Spiele!B:B,Spiele!C:C))","v":""},{"$f":"IF(B4627=\"\",\"\",LOOKUP(B4627,Spiele!B:B,Spiele!D:D))","v":""},{"$f":"IF(B4627=\"\",\"\",LOOKUP(B4627,Spiele!B:B,Spiele!E:E))","v":""},{"$f":"IF(B4627=\"\",\"\",LOOKUP(B4627,Spiele!B:B,Spiele!F:F))","v":""},"","","",null,null,-1,-1,1,0]
[null,null,{"$f":"IF(B4632=\"\",\"\",LOOKUP(B4632,Spiele!B:B,Spiele!C:C))","v":""},{"$f":"IF(B4632=\"\",\"\",LOOKUP(B4632,Spiele!B:B,Spiele!D:D))","v":""},{"$f":"IF(B4632=\"\",\"\",LOOKUP(B4632,Spiele!B:B,Spiele!E:E))","v":""},{"$f":"IF(B4632=\"\",\"\",LOOKUP(B4632,Spiele!B:B,Spiele!F:F))","v":""},"","","",null,null,-1,-1,1,0]
[null,null,{"$f":"IF(B4636=\"\",\"\",LOOKUP(B4636,Spiele!B:B,Spiele!C:C))","v":""},{"$f":"IF(B4636=\"\",\"\",LOOKUP(B4636,Spiele!B:B,Spiele!D:D))","v":""},{"$f":"IF(B4636=\"\",\"\",LOOKUP(B4636,Spiele!B:B,Spiele!E:E))","v":""},{"$f":"IF(B4636=\"\",\"\",LOOKUP(B4636,Spiele!B:B,Spiele!F:F))","v":""},"","","",null,null,-1,-1,1,0]
[null,null,{"$f":"IF(B4637=\"\",\"\",LOOKUP(B4637,Spiele!B:B,Spiele!C:C))","v":""},{"$f":"IF(B4637=\"\",\"\",LOOKUP(B4637,Spiele!B:B,Spiele!D:D))","v":""},{"$f":"IF(B4637=\"\",\"\",LOOKUP(B4637,Spiele!B:B,Spiele!E:E))","v":""},{"$f":"IF(B4637=\"\",\"\",LOOKUP(B4637,Spiele!B:B,Spiele!F:F))","v":""},"","","",null,null,-1,-1,1,0]
[null,null,{"$f":"IF(B4642=\"\",\"\",LOOKUP(B4642,Spiele!B:B,Spiele!C:C))","v":""},{"$f":"IF(B4642=\"\",\"\",LOOKUP(B4642,Spiele!B:B,Spiele!D:D))","v":""},{"$f":"IF(B4642=\"\",\"\",LOOKUP(B4642,Spiele!B:B,Spiele!E:E))","v":""},{"$f":"IF(B4642=\"\",\"\",LOOKUP(B4642,Spiele!B:B,Spiele!F:F))","v":""},"","","",null,null,-1,-1,1,0]
[null,null,{"$f":"IF(B4647=\"\",\"\",LOOKUP(B4647,Spiele!B:B,Spiele!C:C))","v":""},{"$f":"IF(B4647=\"\",\"\",LOOKUP(B4647,Spiele!B:B,Spiele!D:D))","v":""},{"$f":"IF(B4647=\"\",\"\",LOOKUP(B4647,Spiele!B:B,Spiele!E:E))","v":""},{"$f":"IF(B4647=\"\",\"\",LOOKUP(B4647,Spiele!B:B,Spiele!F:F))","v":""},"","","",null,null,-1,-1,1,0]
[null,null,{"$f":"IF(B4649=\"\",\"\",LOOKUP(B4649,Spiele!B:B,Spiele!C:C))","v":""},{"$f":"IF(B4649=\"\",\"\",LOOKUP(B4649,Spiele!B:B,Spiele!D:D))","v":""},{"$f":"IF(B4649=\"\",\"\",LOOKUP(B4649,Spiele!B:B,Spiele!E:E))","v":""},{"$f":"IF(B4649=\"\",\"\",LOOKUP(B4649,Spiele!B:B,Spiele!F:F))","v":""},"","","",null,null,-1,-1,1,0]
[null,null,{"$f":"IF(B4652=\"\",\"\",LOOKUP(B4652,Spiele!B:B,Spiele!C:C))","v":""},{"$f":"IF(B4652=\"\",\"\",LOOKUP(B4652,Spiele!B:B,Spiele!D:D))","v":""},{"$f":"IF(B4652=\"\",\"\",LOOKUP(B4652,Spiele!B:B,Spiele!E:E))","v":""},{"$f":"IF(B4652=\"\",\"\",LOOKUP(B4652,Spiele!B:B,Spiele!F:F))","v":""},"","","",null,null,-1,-1,1,0]
[null,null,{"$f":"IF(B4657=\"\",\"\",LOOKUP(B4657,Spiele!B:B,Spiele!C:C))","v":""},{"$f":"IF(B4657=\"\",\"\",LOOKUP(B4657,Spiele!B:B,Spiele!D:D))","v":""},{"$f":"IF(B4657=\"\",\"\",LOOKUP(B4657,Spiele!B:B,Spiele!E:E))","v":""},{"$f":"IF(B4657=\"\",\"\",LOOKUP(B4657,Spiele!B:B,Spiele!F:F))","v":""},"","","",null,null,-1,-1,1,0]
[null,null,{"$f":"IF(B4662=\"\",\"\",LOOKUP(B4662,Spiele!B:B,Spiele!C:C))","v":""},{"$f":"IF(B4662=\"\",\"\",LOOKUP(B4662,Spiele!B:B,Spiele!D:D))","v":""},{"$f":"IF(B4662=\"\",\"\",LOOKUP(B4662,Spiele!B:B,Spiele!E:E))","v":""},{"$f":"IF(B4662=\"\",\"\",LOOKUP(B4662,Spiele!B:B,Spiele!F:F))","v":""},"","","",null,null,-1,-1,1,0]
[null,null,{"$f":"IF(B4666=\"\",\"\",LOOKUP(B4666,Spiele!B:B,Spiele!C:C))","v":""},{"$f":"IF(B4666=\"\",\"\",LOOKUP(B4666,Spiele!B:B,Spiele!D:D))","v":""},{"$f":"IF(B4666=\"\",\"\",LOOKUP(B4666,Spiele!B:B,Spiele!E:E))","v":""},{"$f":"IF(B4666=\"\",\"\",LOOKUP(B4666,Spiele!B:B,Spiele!F:F))","v":""},"","","",null,null,-1,-1,1,0]
[null,null,{"$f":"IF(B4667=\"\",\"\",LOOKUP(B4667,Spiele!B:B,Spiele!C:C))","v":""},{"$f":"IF(B4667=\"\",\"\",LOOKUP(B4667,Spiele!B:B,Spiele!D:D))","v":""},{"$f":"IF(B4667=\"\",\"\",LOOKUP(B4667,Spiele!B:B,Spiele!E:E))","v":""},{"$f":"IF(B4667=\"\",\"\",LOOKUP(B4667,Spiele!B:B,Spiele!F:F))","v":""},"","","",null,null,-1,-1,1,0]
[null,null,{"$f":"IF(B4672=\"\",\"\",LOOKUP(B4672,Spiele!B:B,Spiele!C:C))","v":""},{"$f":"IF(B4672=\"\",\"\",LOOKUP(B4672,Spiele!B:B,Spiele!D:D))","v":""},{"$f":"IF(B4672=\"\",\"\",LOOKUP(B4672,Spiele!B:B,Spiele!E:E))","v":""},{"$f":"IF(B4672=\"\",\"\",LOOKUP(B4672,Spiele!B:B,Spiele!F:F))","v":""},"","","",null,null,-1,-1,1,0]
[null,null,{"$f":"IF(B4677=\"\",\"\",LOOKUP(B4677,Spiele!B:B,Spiele!C:C))","v":""},{"$f":"IF(B4677=\"\",\"\",LOOKUP(B4677,Spiele!B:B,Spiele!D:D))","v":""},{"$f":"IF(B4677=\"\",\"\",LOOKUP(B4677,Spiele!B:B,Spiele!E:E))","v":""},{"$f":"IF(B4677=\"\",\"\",LOOKUP(B4677,Spiele!B:B,Spiele!F:F))","v":""},"","","",null,null,-1,-1,1,0]
[null,null,{"$f":"IF(B4679=\"\",\"\",LOOKUP(B4679,Spiele!B:B,Spiele!C:C))","v":""},{"$f":"IF(B4679=\"\",\"\",LOOKUP(B4679,Spiele!B:B,Spiele!D:D))","v":""},{"$f":"IF(B4679=\"\",\"\",LOOKUP(B4679,Spiele!B:B,Spiele!E:E))","v":""},{"$f":"IF(B4679=\"\",\"\",LOOKUP(B4679,Spiele!B:B,Spiele!F:F))","v":""},"","","",null,null,-1,-1,1,0]
[null,null,{"$f":"IF(B4682=\"\",\"\",LOOKUP(B4682,Spiele!B:B,Spiele!C:C))","v":""},{"$f":"IF(B4682=\"\",\"\",LOOKUP(B4682,Spiele!B:B,Spiele!D:D))","v":""},{"$f":"IF(B4682=\"\",\"\",LOOKUP(B4682,Spiele!B:B,Spiele!E:E))","v":""},{"$f":"IF(B4682=\"\",\"\",LOOKUP(B4682,Spiele!B:B,Spiele!F:F))","v":""},"","","",null,null,-1,-1,1,0]
[null,null,{"$f":"IF(B4687=\"\",\"\",LOOKUP(B4687,Spiele!B:B,Spiele!C:C))","v":""},{"$f":"IF(B4687=\"\",\"\",LOOKUP(B4687,Spiele!B:B,Spiele!D:D))","v":""},{"$f":"IF(B4687=\"\",\"\",LOOKUP(B4687,Spiele!B:B,Spiele!E:E))","v":""},{"$f":"IF(B4687=\"\",\"\",LOOKUP(B4687,Spiele!B:B,Spiele!F:F))","v":""},"","","",null,null,-1,-1,1,0]
[null,null,{"$f":"IF(B4692=\"\",\"\",LOOKUP(B4692,Spiele!B:B,Spiele!C:C))","v":""},{"$f":"IF(B4692=\"\",\"\",LOOKUP(B4692,Spiele!B:B,Spiele!D:D))","v":""},{"$f":"IF(B4692=\"\",\"\",LOOKUP(B4692,Spiele!B:B,Spiele!E:E))","v":""},{"$f":"IF(B4692=\"\",\"\",LOOKUP(B4692,Spiele!B:B,Spiele!F:F))","v":""},"","","",null,null,-1,-1,1,0]
[null,null,{"$f":"IF(B4696=\"\",\"\",LOOKUP(B4696,Spiele!B:B,Spiele!C:C))","v":""},{"$f":"IF(B4696=\"\",\"\",LOOKUP(B4696,Spiele!B:B,Spiele!D:D))","v":""},{"$f":"IF(B4696=\"\",\"\",LOOKUP(B4696,Spiele!B:B,Spiele!E:E))","v":""},{"$f":"IF(B4696=\"\",\"\",LOOKUP(B4696,Spiele!B:B,Spiele!F:F))","v":""},"","","",null,null,-1,-1,1,0]
[null,null,{"$f":"IF(B4697=\"\",\"\",LOOKUP(B4697,Spiele!B:B,Spiele!C:C))","v":""},{"$f":"IF(B4697=\"\",\"\",LOOKUP(B4697,Spiele!B:B,Spiele!D:D))","v":""},{"$f":"IF(B4697=\"\",\"\",LOOKUP(B4697,Spiele!B:B,Spiele!E:E))","v":""},{"$f":"IF(B4697=\"\",\"\",LOOKUP(B4697,Spiele!B:B,Spiele!F:F))","v":""},"","","",null,null,-1,-1,1,0]
[null,null,{"$f":"IF(B4702=\"\",\"\",LOOKUP(B4702,Spiele!B:B,Spiele!C:C))","v":""},{"$f":"IF(B4702=\"\",\"\",LOOKUP(B4702,Spiele!B:B,Spiele!D:D))","v":""},{"$f":"IF(B4702=\"\",\"\",LOOKUP(B4702,Spiele!B:B,Spiele!E:E))","v":""},{"$f":"IF(B4702=\"\",\"\",LOOKUP(B4702,Spiele!B:B,Spiele!F:F))","v":""},"","","",null,null,-1,-1,1,0]
[null,null,{"$f":"IF(B4707=\"\",\"\",LOOKUP(B4707,Spiele!B:B,Spiele!C:C))","v":""},{"$f":"IF(B4707=\"\",\"\",LOOKUP(B4707,Spiele!B:B,Spiele!D:D))","v":""},{"$f":"IF(B4707=\"\",\"\",LOOKUP(B4707,Spiele!B:B,Spiele!E:E))","v":""},{"$f":"IF(B4707=\"\",\"\",LOOKUP(B4707,Spiele!B:B,Spiele!F:F))","v":""},"","","",null,null,-1,-1,1,0]
[null,null,{"$f":"IF(B4709=\"\",\"\",LOOKUP(B4709,Spiele!B:B,Spiele!C:C))","v":""},{"$f":"IF(B4709=\"\",\"\",LOOKUP(B4709,Spiele!B:B,Spiele!D:D))","v":""},{"$f":"IF(B4709=\"\",\"\",LOOKUP(B4709,Spiele!B:B,Spiele!E:E))","v":""},{"$f":"IF(B4709=\"\",\"\",LOOKUP(B4709,Spiele!B:B,Spiele!F:F))","v":""},"","","",null,null,-1,-1,1,0]
[null,null,{"$f":"IF(B4712=\"\",\"\",LOOKUP(B4712,Spiele!B:B,Spiele!C:C))","v":""},{"$f":"IF(B4712=\"\",\"\",LOOKUP(B4712,Spiele!B:B,Spiele!D:D))","v":""},{"$f":"IF(B4712=\"\",\"\",LOOKUP(B4712,Spiele!B:B,Spiele!E:E))","v":""},{"$f":"IF(B4712=\"\",\"\",LOOKUP(B4712,Spiele!B:B,Spiele!F:F))","v":""},"","","",null,null,-1,-1,1,0]
[null,null,{"$f":"IF(B4717=\"\",\"\",LOOKUP(B4717,Spiele!B:B,Spiele!C:C))","v":""},{"$f":"IF(B4717=\"\",\"\",LOOKUP(B4717,Spiele!B:B,Spiele!D:D))","v":""},{"$f":"IF(B4717=\"\",\"\",LOOKUP(B4717,Spiele!B:B,Spiele!E:E))","v":""},{"$f":"IF(B4717=\"\",\"\",LOOKUP(B4717,Spiele!B:B,Spiele!F:F))","v":""},"","","",null,null,-1,-1,1,0]
[null,null,{"$f":"IF(B4722=\"\",\"\",LOOKUP(B4722,Spiele!B:B,Spiele!C:C))","v":""},{"$f":"IF(B4722=\"\",\"\",LOOKUP(B4722,Spiele!B:B,Spiele!D:D))","v":""},{"$f":"IF(B4722=\"\",\"\",LOOKUP(B4722,Spiele!B:B,Spiele!E:E))","v":""},{"$f":"IF(B4722=\"\",\"\",LOOKUP(B4722,Spiele!B:B,Spiele!F:F))","v":""},"","","",null,null,-1,-1,1,0]
[null,null,{"$f":"IF(B4726=\"\",\"\",LOOKUP(B4726,Spiele!B:B,Spiele!C:C))","v":""},{"$f":"IF(B4726=\"\",\"\",LOOKUP(B4726,Spiele!B:B,Spiele!D:D))","v":""},{"$f":"IF(B4726=\"\",\"\",LOOKUP(B4726,Spiele!B:B,Spiele!E:E))","v":""},{"$f":"IF(B4726=\"\",\"\",LOOKUP(B4726,Spiele!B:B,Spiele!F:F))","v":""},"","","",null,null,-1,-1,1,0]
[null,null,{"$f":"IF(B4727=\"\",\"\",LOOKUP(B4727,Spiele!B:B,Spiele!C:C))","v":""},{"$f":"IF(B4727=\"\",\"\",LOOKUP(B4727,Spiele!B:B,Spiele!D:D))","v":""},{"$f":"IF(B4727=\"\",\"\",LOOKUP(B4727,Spiele!B:B,Spiele!E:E))","v":""},{"$f":"IF(B4727=\"\",\"\",LOOKUP(B4727,Spiele!B:B,Spiele!F:F))","v":""},"","","",null,null,-1,-1,1,0]
[null,null,{"$f":"IF(B4732=\"\",\"\",LOOKUP(B4732,Spiele!B:B,Spiele!C:C))","v":""},{"$f":"IF(B4732=\"\",\"\",LOOKUP(B4732,Spiele!B:B,Spiele!D:D))","v":""},{"$f":"IF(B4732=\"\",\"\",LOOKUP(B4732,Spiele!B:B,Spiele!E:E))","v":""},{"$f":"IF(B4732=\"\",\"\",LOOKUP(B4732,Spiele!B:B,Spiele!F:F))","v":""},"","","",null,null,-1,-1,1,0]
[null,null,{"$f":"IF(B4737=\"\",\"\",LOOKUP(B4737,Spiele!B:B,Spiele!C:C))","v":""},{"$f":"IF(B4737=\"\",\"\",LOOKUP(B4737,Spiele!B:B,Spiele!D:D))","v":""},{"$f":"IF(B4737=\"\",\"\",LOOKUP(B4737,Spiele!B:B,Spiele!E:E))","v":""},{"$f":"IF(B4737=\"\",\"\",LOOKUP(B4737,Spiele!B:B,Spiele!F:F))","v":""},"","","",null,null,-1,-1,1,0]
[null,null,{"$f":"IF(B4739=\"\",\"\",LOOKUP(B4739,Spiele!B:B,Spiele!C:C))","v":""},{"$f":"IF(B4739=\"\",\"\",LOOKUP(B4739,Spiele!B:B,Spiele!D:D))","v":""},{"$f":"IF(B4739=\"\",\"\",LOOKUP(B4739,Spiele!B:B,Spiele!E:E))","v":""},{"$f":"IF(B4739=\"\",\"\",LOOKUP(B4739,Spiele!B:B,Spiele!F:F))","v":""},"","","",null,null,-1,-1,1,0]
[null,null,{"$f":"IF(B4742=\"\",\"\",LOOKUP(B4742,Spiele!B:B,Spiele!C:C))","v":""},{"$f":"IF(B4742=\"\",\"\",LOOKUP(B4742,Spiele!B:B,Spiele!D:D))","v":""},{"$f":"IF(B4742=\"\",\"\",LOOKUP(B4742,Spiele!B:B,Spiele!E:E))","v":""},{"$f":"IF(B4742=\"\",\"\",LOOKUP(B4742,Spiele!B:B,Spiele!F:F))","v":""},"","","",null,null,-1,-1,1,0]
[null,null,{"$f":"IF(B4747=\"\",\"\",LOOKUP(B4747,Spiele!B:B,Spiele!C:C))","v":""},{"$f":"IF(B4747=\"\",\"\",LOOKUP(B4747,Spiele!B:B,Spiele!D:D))","v":""},{"$f":"IF(B4747=\"\",\"\",LOOKUP(B4747,Spiele!B:B,Spiele!E:E))","v":""},{"$f":"IF(B4747=\"\",\"\",LOOKUP(B4747,Spiele!B:B,Spiele!F:F))","v":""},"","","",null,null,-1,-1,1,0]
[null,null,{"$f":"IF(B4752=\"\",\"\",LOOKUP(B4752,Spiele!B:B,Spiele!C:C))","v":""},{"$f":"IF(B4752=\"\",\"\",LOOKUP(B4752,Spiele!B:B,Spiele!D:D))","v":""},{"$f":"IF(B4752=\"\",\"\",LOOKUP(B4752,Spiele!B:B,Spiele!E:E))","v":""},{"$f":"IF(B4752=\"\",\"\",LOOKUP(B4752,Spiele!B:B,Spiele!F:F))","v":""},"","","",null,null,-1,-1,1,0]
[null,null,{"$f":"IF(B4756=\"\",\"\",LOOKUP(B4756,Spiele!B:B,Spiele!C:C))","v":""},{"$f":"IF(B4756=\"\",\"\",LOOKUP(B4756,Spiele!B:B,Spiele!D:D))","v":""},{"$f":"IF(B4756=\"\",\"\",LOOKUP(B4756,Spiele!B:B,Spiele!E:E))","v":""},{"$f":"IF(B4756=\"\",\"\",LOOKUP(B4756,Spiele!B:B,Spiele!F:F))","v":""},"","","",null,null,-1,-1,1,0]
[null,null,{"$f":"IF(B4757=\"\",\"\",LOOKUP(B4757,Spiele!B:B,Spiele!C:C))","v":""},{"$f":"IF(B4757=\"\",\"\",LOOKUP(B4757,Spiele!B:B,Spiele!D:D))","v":""},{"$f":"IF(B4757=\"\",\"\",LOOKUP(B4757,Spiele!B:B,Spiele!E:E))","v":""},{"$f":"IF(B4757=\"\",\"\",LOOKUP(B4757,Spiele!B:B,Spiele!F:F))","v":""},"","","",null,null,-1,-1,1,0]
[null,null,{"$f":"IF(B4762=\"\",\"\",LOOKUP(B4762,Spiele!B:B,Spiele!C:C))","v":""},{"$f":"IF(B4762=\"\",\"\",LOOKUP(B4762,Spiele!B:B,Spiele!D:D))","v":""},{"$f":"IF(B4762=\"\",\"\",LOOKUP(B4762,Spiele!B:B,Spiele!E:E))","v":""},{"$f":"IF(B4762=\"\",\"\",LOOKUP(B4762,Spiele!B:B,Spiele!F:F))","v":""},"","","",null,null,-1,-1,1,0]
[null,null,{"$f":"IF(B4767=\"\",\"\",LOOKUP(B4767,Spiele!B:B,Spiele!C:C))","v":""},{"$f":"IF(B4767=\"\",\"\",LOOKUP(B4767,Spiele!B:B,Spiele!D:D))","v":""},{"$f":"IF(B4767=\"\",\"\",LOOKUP(B4767,Spiele!B:B,Spiele!E:E))","v":""},{"$f":"IF(B4767=\"\",\"\",LOOKUP(B4767,Spiele!B:B,Spiele!F:F))","v":""},"","","",null,null,-1,-1,1,0]
[null,null,{"$f":"IF(B4769=\"\",\"\",LOOKUP(B4769,Spiele!B:B,Spiele!C:C))","v":""},{"$f":"IF(B4769=\"\",\"\",LOOKUP(B4769,Spiele!B:B,Spiele!D:D))","v":""},{"$f":"IF(B4769=\"\",\"\",LOOKUP(B4769,Spiele!B:B,Spiele!E:E))","v":""},{"$f":"IF(B4769=\"\",\"\",LOOKUP(B4769,Spiele!B:B,Spiele!F:F))","v":""},"","","",null,null,-1,-1,1,0]
[null,null,{"$f":"IF(B4772=\"\",\"\",LOOKUP(B4772,Spiele!B:B,Spiele!C:C))","v":""},{"$f":"IF(B4772=\"\",\"\",LOOKUP(B4772,Spiele!B:B,Spiele!D:D))","v":""},{"$f":"IF(B4772=\"\",\"\",LOOKUP(B4772,Spiele!B:B,Spiele!E:E))","v":""},{"$f":"IF(B4772=\"\",\"\",LOOKUP(B4772,Spiele!B:B,Spiele!F:F))","v":""},"","","",null,null,-1,-1,1,0]
[null,null,{"$f":"IF(B4777=\"\",\"\",LOOKUP(B4777,Spiele!B:B,Spiele!C:C))","v":""},{"$f":"IF(B4777=\"\",\"\",LOOKUP(B4777,Spiele!B:B,Spiele!D:D))","v":""},{"$f":"IF(B4777=\"\",\"\",LOOKUP(B4777,Spiele!B:B,Spiele!E:E))","v":""},{"$f":"IF(B4777=\"\",\"\",LOOKUP(B4777,Spiele!B:B,Spiele!F:F))","v":""},"","","",null,null,-1,-1,1,0]
[null,null,{"$f":"IF(B4782=\"\",\"\",LOOKUP(B4782,Spiele!B:B,Spiele!C:C))","v":""},{"$f":"IF(B4782=\"\",\"\",LOOKUP(B4782,Spiele!B:B,Spiele!D:D))","v":""},{"$f":"IF(B4782=\"\",\"\",LOOKUP(B4782,Spiele!B:B,Spiele!E:E))","v":""},{"$f":"IF(B4782=\"\",\"\",LOOKUP(B4782,Spiele!B:B,Spiele!F:F))","v":""},"","","",null,null,-1,-1,1,0]
[null,null,{"$f":"IF(B4786=\"\",\"\",LOOKUP(B4786,Spiele!B:B,Spiele!C:C))","v":""},{"$f":"IF(B4786=\"\",\"\",LOOKUP(B4786,Spiele!B:B,Spiele!D:D))","v":""},{"$f":"IF(B4786=\"\",\"\",LOOKUP(B4786,Spiele!B:B,Spiele!E:E))","v":""},{"$f":"IF(B4786=\"\",\"\",LOOKUP(B4786,Spiele!B:B,Spiele!F:F))","v":""},"","","",null,null,-1,-1,1,0]
[null,null,{"$f":"IF(B4787=\"\",\"\",LOOKUP(B4787,Spiele!B:B,Spiele!C:C))","v":""},{"$f":"IF(B4787=\"\",\"\",LOOKUP(B4787,Spiele!B:B,Spiele!D:D))","v":""},{"$f":"IF(B4787=\"\",\"\",LOOKUP(B4787,Spiele!B:B,Spiele!E:E))","v":""},{"$f":"IF(B4787=\"\",\"\",LOOKUP(B4787,Spiele!B:B,Spiele!F:F))","v":""},"","","",null,null,-1,-1,1,0]
[null,null,{"$f":"IF(B4792=\"\",\"\",LOOKUP(B4792,Spiele!B:B,Spiele!C:C))","v":""},{"$f":"IF(B4792=\"\",\"\",LOOKUP(B4792,Spiele!B:B,Spiele!D:D))","v":""},{"$f":"IF(B4792=\"\",\"\",LOOKUP(B4792,Spiele!B:B,Spiele!E:E))","v":""},{"$f":"IF(B4792=\"\",\"\",LOOKUP(B4792,Spiele!B:B,Spiele!F:F))","v":""},"","","",null,null,-1,-1,1,0]
[null,null,{"$f":"IF(B4797=\"\",\"\",LOOKUP(B4797,Spiele!B:B,Spiele!C:C))","v":""},{"$f":"IF(B4797=\"\",\"\",LOOKUP(B4797,Spiele!B:B,Spiele!D:D))","v":""},{"$f":"IF(B4797=\"\",\"\",LOOKUP(B4797,Spiele!B:B,Spiele!E:E))","v":""},{"$f":"IF(B4797=\"\",\"\",LOOKUP(B4797,Spiele!B:B,Spiele!F:F))","v":""},"","","",null,null,-1,-1,1,0]
[null,null,{"$f":"IF(B4799=\"\",\"\",LOOKUP(B4799,Spiele!B:B,Spiele!C:C))","v":""},{"$f":"IF(B4799=\"\",\"\",LOOKUP(B4799,Spiele!B:B,Spiele!D:D))","v":""},{"$f":"IF(B4799=\"\",\"\",LOOKUP(B4799,Spiele!B:B,Spiele!E:E))","v":""},{"$f":"IF(B4799=\"\",\"\",LOOKUP(B4799,Spiele!B:B,Spiele!F:F))","v":""},"","","",null,null,-1,-1,1,0]
[null,null,{"$f":"IF(B4802=\"\",\"\",LOOKUP(B4802,Spiele!B:B,Spiele!C:C))","v":""},{"$f":"IF(B4802=\"\",\"\",LOOKUP(B4802,Spiele!B:B,Spiele!D:D))","v":""},{"$f":"IF(B4802=\"\",\"\",LOOKUP(B4802,Spiele!B:B,Spiele!E:E))","v":""},{"$f":"IF(B4802=\"\",\"\",LOOKUP(B4802,Spiele!B:B,Spiele!F:F))","v":""},"","","",null,null,-1,-1,1,0]
[null,null,{"$f":"IF(B4807=\"\",\"\",LOOKUP(B4807,Spiele!B:B,Spiele!C:C))","v":""},{"$f":"IF(B4807=\"\",\"\",LOOKUP(B4807,Spiele!B:B,Spiele!D:D))","v":""},{"$f":"IF(B4807=\"\",\"\",LOOKUP(B4807,Spiele!B:B,Spiele!E:E))","v":""},{"$f":"IF(B4807=\"\",\"\",LOOKUP(B4807,Spiele!B:B,Spiele!F:F))","v":""},"","","",null,null,-1,-1,1,0]
[null,null,{"$f":"IF(B4812=\"\",\"\",LOOKUP(B4812,Spiele!B:B,Spiele!C:C))","v":""},{"$f":"IF(B4812=\"\",\"\",LOOKUP(B4812,Spiele!B:B,Spiele!D:D))","v":""},{"$f":"IF(B4812=\"\",\"\",LOOKUP(B4812,Spiele!B:B,Spiele!E:E))","v":""},{"$f":"IF(B4812=\"\",\"\",LOOKUP(B4812,Spiele!B:B,Spiele!F:F))","v":""},"","","",null,null,-1,-1,1,0]
[null,null,{"$f":"IF(B4817=\"\",\"\",LOOKUP(B4817,Spiele!B:B,Spiele!C:C))","v":""},{"$f":"IF(B4817=\"\",\"\",LOOKUP(B4817,Spiele!B:B,Spiele!D:D))","v":""},{"$f":"IF(B4817=\"\",\"\",LOOKUP(B4817,Spiele!B:B,Spiele!E:E))","v":""},{"$f":"IF(B4817=\"\",\"\",LOOKUP(B4817,Spiele!B:B,Spiele!F:F))","v":""},"","","",null,null,-1,-1,1,0]
[null,null,{"$f":"IF(B4820=\"\",\"\",LOOKUP(B4820,Spiele!B:B,Spiele!C:C))","v":""},{"$f":"IF(B4820=\"\",\"\",LOOKUP(B4820,Spiele!B:B,Spiele!D:D))","v":""},{"$f":"IF(B4820=\"\",\"\",LOOKUP(B4820,Spiele!B:B,Spiele!E:E))","v":""},{"$f":"IF(B4820=\"\",\"\",LOOKUP(B4820,Spiele!B:B,Spiele!F:F))","v":""},"","","",null,null,-1,-1,1,0]
[null,null,{"$f":"IF(B4822=\"\",\"\",LOOKUP(B4822,Spiele!B:B,Spiele!C:C))","v":""},{"$f":"IF(B4822=\"\",\"\",LOOKUP(B4822,Spiele!B:B,Spiele!D:D))","v":""},{"$f":"IF(B4822=\"\",\"\",LOOKUP(B4822,Spiele!B:B,Spiele!E:E))","v":""},{"$f":"IF(B4822=\"\",\"\",LOOKUP(B4822,Spiele!B:B,Spiele!F:F))","v":""},"","","",null,null,-1,-1,1,0]
[null,null,{"$f":"IF(B4827=\"\",\"\",LOOKUP(B4827,Spiele!B:B,Spiele!C:C))","v":""},{"$f":"IF(B4827=\"\",\"\",LOOKUP(B4827,Spiele!B:B,Spiele!D:D))","v":""},{"$f":"IF(B4827=\"\",\"\",LOOKUP(B4827,Spiele!B:B,Spiele!E:E))","v":""},{"$f":"IF(B4827=\"\",\"\",LOOKUP(B4827,Spiele!B:B,Spiele!F:F))","v":""},"","","",null,null,-1,-1,1,0]
[null,null,{"$f":"IF(B4832=\"\",\"\",LOOKUP(B4832,Spiele!B:B,Spiele!C:C))","v":""},{"$f":"IF(B4832=\"\",\"\",LOOKUP(B4832,Spiele!B:B,Spiele!D:D))","v":""},{"$f":"IF(B4832=\"\",\"\",LOOKUP(B4832,Spiele!B:B,Spiele!E:E))","v":""},{"$f":"IF(B4832=\"\",\"\",LOOKUP(B4832,Spiele!B:B,Spiele!F:F))","v":""},{"$f":"IF(E4832=\"\",\"\",IF(E4832>F4832,1,0))","v":""},{"$f":"IF(F4832=\"\",\"\",IF(E4832<F4832,1,0))","v":""},{"$f":"IF(E4832=\"\",\"\",IF(E4832=F4832,1,0))","v":""},null,null,{"$f":"IF(E4832=\"\",-1,IF(J4832>K4832,1,-1))","v":-1},{"$f":"IF(F4832=\"\",-1,IF(J4832<K4832,1,-1))","v":-1},{"$f":"IF(E4832=\"-\",-1,IF(J4832=K4832,1,-1))","v":1},{"$f":"IF(E4832=\"\",0,IF(E4832=J4832,1,0)+IF(F4832=K4832,1,0)+IF(G4832=L4832,1,0)+IF(H4832=M4832,1,0)+IF(I4832=N4832,1,0))","v":0}]
[null,null,{"$f":"IF(B4834=\"\",\"\",LOOKUP(B4834,Spiele!B:B,Spiele!C:C))","v":""},{"$f":"IF(B4834=\"\",\"\",LOOKUP(B4834,Spiele!B:B,Spiele!D:D))","v":""},{"$f":"IF(B4834=\"\",\"\",LOOKUP(B4834,Spiele!B:B,Spiele!E:E))","v":""},{"$f":"IF(B4834=\"\",\"\",LOOKUP(B4834,Spiele!B:B,Spiele!F:F))","v":""},"","","",null,null,-1,-1,1,0]
[null,null,{"$f":"IF(B4837=\"\",\"\",LOOKUP(B4837,Spiele!B:B,Spiele!C:C))","v":""},{"$f":"IF(B4837=\"\",\"\",LOOKUP(B4837,Spiele!B:B,Spiele!D:D))","v":""},{"$f":"IF(B4837=\"\",\"\",LOOKUP(B4837,Spiele!B:B,Spiele!E:E))","v":""},{"$f":"IF(B4837=\"\",\"\",LOOKUP(B4837,Spiele!B:B,Spiele!F:F))","v":""},"","","",null,null,-1,-1,1,0]
[null,null,{"$f":"IF(B4842=\"\",\"\",LOOKUP(B4842,Spiele!B:B,Spiele!C:C))","v":""},{"$f":"IF(B4842=\"\",\"\",LOOKUP(B4842,Spiele!B:B,Spiele!D:D))","v":""},{"$f":"IF(B4842=\"\",\"\",LOOKUP(B4842,Spiele!B:B,Spiele!E:E))","v":""},{"$f":"IF(B4842=\"\",\"\",LOOKUP(B4842,Spiele!B:B,Spiele!F:F))","v":""},"","","",null,null,-1,-1,1,0]
[null,null,{"$f":"IF(B4847=\"\",\"\",LOOKUP(B4847,Spiele!B:B,Spiele!C:C))","v":""},{"$f":"IF(B4847=\"\",\"\",LOOKUP(B4847,Spiele!B:B,Spiele!D:D))","v":""},{"$f":"IF(B4847=\"\",\"\",LOOKUP(B4847,Spiele!B:B,Spiele!E:E))","v":""},{"$f":"IF(B4847=\"\",\"\",LOOKUP(B4847,Spiele!B:B,Spiele!F:F))","v":""},"","","",null,null,-1,-1,1,0]
[null,null,{"$f":"IF(B4850=\"\",\"\",LOOKUP(B4850,Spiele!B:B,Spiele!C:C))","v":""},{"$f":"IF(B4850=\"\",\"\",LOOKUP(B4850,Spiele!B:B,Spiele!D:D))","v":""},{"$f":"IF(B4850=\"\",\"\",LOOKUP(B4850,Spiele!B:B,Spiele!E:E))","v":""},{"$f":"IF(B4850=\"\",\"\",LOOKUP(B4850,Spiele!B:B,Spiele!F:F))","v":""},"","","",null,null,-1,-1,1,0]
[null,null,{"$f":"IF(B4852=\"\",\"\",LOOKUP(B4852,Spiele!B:B,Spiele!C:C))","v":""},{"$f":"IF(B4852=\"\",\"\",LOOKUP(B4852,Spiele!B:B,Spiele!D:D))","v":""},{"$f":"IF(B4852=\"\",\"\",LOOKUP(B4852,Spiele!B:B,Spiele!E:E))","v":""},{"$f":"IF(B4852=\"\",\"\",LOOKUP(B4852,Spiele!B:B,Spiele!F:F))","v":""},"","","",null,null,-1,-1,1,0]
[null,null,{"$f":"IF(B4857=\"\",\"\",LOOKUP(B4857,Spiele!B:B,Spiele!C:C))","v":""},{"$f":"IF(B4857=\"\",\"\",LOOKUP(B4857,Spiele!B:B,Spiele!D:D))","v":""},{"$f":"IF(B4857=\"\",\"\",LOOKUP(B4857,Spiele!B:B,Spiele!E:E))","v":""},{"$f":"IF(B4857=\"\",\"\",LOOKUP(B4857,Spiele!B:B,Spiele!F:F))","v":""},"","","",null,null,-1,-1,1,0]
[null,null,{"$f":"IF(B4862=\"\",\"\",LOOKUP(B4862,Spiele!B:B,Spiele!C:C))","v":""},{"$f":"IF(B4862=\"\",\"\",LOOKUP(B4862,Spiele!B:B,Spiele!D:D))","v":""},{"$f":"IF(B4862=\"\",\"\",LOOKUP(B4862,Spiele!B:B,Spiele!E:E))","v":""},{"$f":"IF(B4862=\"\",\"\",LOOKUP(B4862,Spiele!B:B,Spiele!F:F))","v":""},"","","",null,null,-1,-1,1,0]
[null,null,{"$f":"IF(B4864=\"\",\"\",LOOKUP(B4864,Spiele!B:B,Spiele!C:C))","v":""},{"$f":"IF(B4864=\"\",\"\",LOOKUP(B4864,Spiele!B:B,Spiele!D:D))","v":""},{"$f":"IF(B4864=\"\",\"\",LOOKUP(B4864,Spiele!B:B,Spiele!E:E))","v":""},{"$f":"IF(B4864=\"\",\"\",LOOKUP(B4864,Spiele!B:B,Spiele!F:F))","v":""},"","","",null,null,-1,-1,1,0]
[null,null,{"$f":"IF(B4867=\"\",\"\",LOOKUP(B4867,Spiele!B:B,Spiele!C:C))","v":""},{"$f":"IF(B4867=\"\",\"\",LOOKUP(B4867,Spiele!B:B,Spiele!D:D))","v":""},{"$f":"IF(B4867=\"\",\"\",LOOKUP(B4867,Spiele!B:B,Spiele!E:E))","v":""},{"$f":"IF(B4867=\"\",\"\",LOOKUP(B4867,Spiele!B:B,Spiele!F:F))","v":""},"","","",null,null,-1,-1,1,0]
[null,null,{"$f":"IF(B4872=\"\",\"\",LOOKUP(B4872,Spiele!B:B,Spiele!C:C))","v":""},{"$f":"IF(B4872=\"\",\"\",LOOKUP(B4872,Spiele!B:B,Spiele!D:D))","v":""},{"$f":"IF(B4872=\"\",\"\",LOOKUP(B4872,Spiele!B:B,Spiele!E:E))","v":""},{"$f":"IF(B4872=\"\",\"\",LOOKUP(B4872,Spiele!B:B,Spiele!F:F))","v":""},"","","",null,null,-1,-1,1,0]
[null,null,{"$f":"IF(B4877=\"\",\"\",LOOKUP(B4877,Spiele!B:B,Spiele!C:C))","v":""},{"$f":"IF(B4877=\"\",\"\",LOOKUP(B4877,Spiele!B:B,Spiele!D:D))","v":""},{"$f":"IF(B4877=\"\",\"\",LOOKUP(B4877,Spiele!B:B,Spiele!E:E))","v":""},{"$f":"IF(B4877=\"\",\"\",LOOKUP(B4877,Spiele!B:B,Spiele!F:F))","v":""},"","","",null,null,-1,-1,1,0]
[null,null,{"$f":"IF(B4880=\"\",\"\",LOOKUP(B4880,Spiele!B:B,Spiele!C:C))","v":""},{"$f":"IF(B4880=\"\",\"\",LOOKUP(B4880,Spiele!B:B,Spiele!D:D))","v":""},{"$f":"IF(B4880=\"\",\"\",LOOKUP(B4880,Spiele!B:B,Spiele!E:E))","v":""},{"$f":"IF(B4880=\"\",\"\",LOOKUP(B4880,Spiele!B:B,Spiele!F:F))","v":""},"","","",null,null,-1,-1,1,0]
[null,null,{"$f":"IF(B4882=\"\",\"\",LOOKUP(B4882,Spiele!B:B,Spiele!C:C))","v":""},{"$f":"IF(B4882=\"\",\"\",LOOKUP(B4882,Spiele!B:B,Spiele!D:D))","v":""},{"$f":"IF(B4882=\"\",\"\",LOOKUP(B4882,Spiele!B:B,Spiele!E:E))","v":""},{"$f":"IF(B4882=\"\",\"\",LOOKUP(B4882,Spiele!B:B,Spiele!F:F))","v":""},"","","",null,null,-1,-1,1,0]
[null,null,{"$f":"IF(B4887=\"\",\"\",LOOKUP(B4887,Spiele!B:B,Spiele!C:C))","v":""},{"$f":"IF(B4887=\"\",\"\",LOOKUP(B4887,Spiele!B:B,Spiele!D:D))","v":""},{"$f":"IF(B4887=\"\",\"\",LOOKUP(B4887,Spiele!B:B,Spiele!E:E))","v":""},{"$f":"IF(B4887=\"\",\"\",LOOKUP(B4887,Spiele!B:B,Spiele!F:F))","v":""},"","","",null,null,-1,-1,1,0]
[null,null,{"$f":"IF(B4892=\"\",\"\",LOOKUP(B4892,Spiele!B:B,Spiele!C:C))","v":""},{"$f":"IF(B4892=\"\",\"\",LOOKUP(B4892,Spiele!B:B,Spiele!D:D))","v":""},{"$f":"IF(B4892=\"\",\"\",LOOKUP(B4892,Spiele!B:B,Spiele!E:E))","v":""},{"$f":"IF(B4892=\"\",\"\",LOOKUP(B4892,Spiele!B:B,Spiele!F:F))","v":""},"","","",null,null,-1,-1,1,0]
[null,null,{"$f":"IF(B4894=\"\",\"\",LOOKUP(B4894,Spiele!B:B,Spiele!C:C))","v":""},{"$f":"IF(B4894=\"\",\"\",LOOKUP(B4894,Spiele!B:B,Spiele!D:D))","v":""},{"$f":"IF(B4894=\"\",\"\",LOOKUP(B4894,Spiele!B:B,Spiele!E:E))","v":""},{"$f":"IF(B4894=\"\",\"\",LOOKUP(B4894,Spiele!B:B,Spiele!F:F))","v":""},"","","",null,null,-1,-1,1,0]
[null,null,{"$f":"IF(B4897=\"\",\"\",LOOKUP(B4897,Spiele!B:B,Spiele!C:C))","v":""},{"$f":"IF(B4897=\"\",\"\",LOOKUP(B4897,Spiele!B:B,Spiele!D:D))","v":""},{"$f":"IF(B4897=\"\",\"\",LOOKUP(B4897,Spiele!B:B,Spiele!E:E))","v":""},{"$f":"IF(B4897=\"\",\"\",LOOKUP(B4897,Spiele!B:B,Spiele!F:F))","v":""},"","","",null,null,-1,-1,1,0]
[null,null,{"$f":"IF(B4902=\"\",\"\",LOOKUP(B4902,Spiele!B:B,Spiele!C:C))","v":""},{"$f":"IF(B4902=\"\",\"\",LOOKUP(B4902,Spiele!B:B,Spiele!D:D))","v":""},{"$f":"IF(B4902=\"\",\"\",LOOKUP(B4902,Spiele!B:B,Spiele!E:E))","v":""},{"$f":"IF(B4902=\"\",\"\",LOOKUP(B4902,Spiele!B:B,Spiele!F:F))","v":""},"","","",null,null,-1,-1,1,0]
[null,null,{"$f":"IF(B4907=\"\",\"\",LOOKUP(B4907,Spiele!B:B,Spiele!C:C))","v":""},{"$f":"IF(B4907=\"\",\"\",LOOKUP(B4907,Spiele!B:B,Spiele!D:D))","v":""},{"$f":"IF(B4907=\"\",\"\",LOOKUP(B4907,Spiele!B:B,Spiele!E:E))","v":""},{"$f":"IF(B4907=\"\",\"\",LOOKUP(B4907,Spiele!B:B,Spiele!F:F))","v":""},"","","",null,null,-1,-1,1,0]
[null,null,{"$f":"IF(B4908=\"\",\"\",LOOKUP(B4908,Spiele!B:B,Spiele!C:C))","v":""},{"$f":"IF(B4908=\"\",\"\",LOOKUP(B4908,Spiele!B:B,Spiele!D:D))","v":""},{"$f":"IF(B4908=\"\",\"\",LOOKUP(B4908,Spiele!B:B,Spiele!E:E))","v":""},{"$f":"IF(B4908=\"\",\"\",LOOKUP(B4908,Spiele!B:B,Spiele!F:F))","v":""},"","","",null,null,-1,-1,1,0]
[null,null,{"$f":"IF(B4912=\"\",\"\",LOOKUP(B4912,Spiele!B:B,Spiele!C:C))","v":""},{"$f":"IF(B4912=\"\",\"\",LOOKUP(B4912,Spiele!B:B,Spiele!D:D))","v":""},{"$f":"IF(B4912=\"\",\"\",LOOKUP(B4912,Spiele!B:B,Spiele!E:E))","v":""},{"$f":"IF(B4912=\"\",\"\",LOOKUP(B4912,Spiele!B:B,Spiele!F:F))","v":""},"","","",null,null,-1,-1,1,0]
[null,null,{"$f":"IF(B4917=\"\",\"\",LOOKUP(B4917,Spiele!B:B,Spiele!C:C))","v":""},{"$f":"IF(B4917=\"\",\"\",LOOKUP(B4917,Spiele!B:B,Spiele!D:D))","v":""},{"$f":"IF(B4917=\"\",\"\",LOOKUP(B4917,Spiele!B:B,Spiele!E:E))","v":""},{"$f":"IF(B4917=\"\",\"\",LOOKUP(B4917,Spiele!B:B,Spiele!F:F))","v":""},"","","",null,null,-1,-1,1,0]
[null,null,{"$f":"IF(B4922=\"\",\"\",LOOKUP(B4922,Spiele!B:B,Spiele!C:C))","v":""},{"$f":"IF(B4922=\"\",\"\",LOOKUP(B4922,Spiele!B:B,Spiele!D:D))","v":""},{"$f":"IF(B4922=\"\",\"\",LOOKUP(B4922,Spiele!B:B,Spiele!E:E))","v":""},{"$f":"IF(B4922=\"\",\"\",LOOKUP(B4922,Spiele!B:B,Spiele!F:F))","v":""},"","","",null,null,-1,-1,1,0]
[null,null,{"$f":"IF(B4924=\"\",\"\",LOOKUP(B4924,Spiele!B:B,Spiele!C:C))","v":""},{"$f":"IF(B4924=\"\",\"\",LOOKUP(B4924,Spiele!B:B,Spiele!D:D))","v":""},{"$f":"IF(B4924=\"\",\"\",LOOKUP(B4924,Spiele!B:B,Spiele!E:E))","v":""},{"$f":"IF(B4924=\"\",\"\",LOOKUP(B4924,Spiele!B:B,Spiele!F:F))","v":""},"","","",null,null,-1,-1,1,0]
[null,null,{"$f":"IF(B4927=\"\",\"\",LOOKUP(B4927,Spiele!B:B,Spiele!C:C))","v":""},{"$f":"IF(B4927=\"\",\"\",LOOKUP(B4927,Spiele!B:B,Spiele!D:D))","v":""},{"$f":"IF(B4927=\"\",\"\",LOOKUP(B4927,Spiele!B:B,Spiele!E:E))","v":""},{"$f":"IF(B4927=\"\",\"\",LOOKUP(B4927,Spiele!B:B,Spiele!F:F))","v":""},"","","",null,null,-1,-1,1,0]
[null,null,{"$f":"IF(B4932=\"\",\"\",LOOKUP(B4932,Spiele!B:B,Spiele!C:C))","v":""},{"$f":"IF(B4932=\"\",\"\",LOOKUP(B4932,Spiele!B:B,Spiele!D:D))","v":""},{"$f":"IF(B4932=\"\",\"\",LOOKUP(B4932,Spiele!B:B,Spiele!E:E))","v":""},{"$f":"IF(B4932=\"\",\"\",LOOKUP(B4932,Spiele!B:B,Spiele!F:F))","v":""},"","","",null,null,-1,-1,1,0]
[null,null,{"$f":"IF(B4937=\"\",\"\",LOOKUP(B4937,Spiele!B:B,Spiele!C:C))","v":""},{"$f":"IF(B4937=\"\",\"\",LOOKUP(B4937,Spiele!B:B,Spiele!D:D))","v":""},{"$f":"IF(B4937=\"\",\"\",LOOKUP(B4937,Spiele!B:B,Spiele!E:E))","v":""},{"$f":"IF(B4937=\"\",\"\",LOOKUP(B4937,Spiele!B:B,Spiele!F:F))","v":""},"","","",null,null,-1,-1,1,0]
[null,null,{"$f":"IF(B4938=\"\",\"\",LOOKUP(B4938,Spiele!B:B,Spiele!C:C))","v":""},{"$f":"IF(B4938=\"\",\"\",LOOKUP(B4938,Spiele!B:B,Spiele!D:D))","v":""},{"$f":"IF(B4938=\"\",\"\",LOOKUP(B4938,Spiele!B:B,Spiele!E:E))","v":""},{"$f":"IF(B4938=\"\",\"\",LOOKUP(B4938,Spiele!B:B,Spiele!F:F))","v":""},"","","",null,null,-1,-1,1,0]
[null,null,{"$f":"IF(B4942=\"\",\"\",LOOKUP(B4942,Spiele!B:B,Spiele!C:C))","v":""},{"$f":"IF(B4942=\"\",\"\",LOOKUP(B4942,Spiele!B:B,Spiele!D:D))","v":""},{"$f":"IF(B4942=\"\",\"\",LOOKUP(B4942,Spiele!B:B,Spiele!E:E))","v":""},{"$f":"IF(B4942=\"\",\"\",LOOKUP(B4942,Spiele!B:B,Spiele!F:F))","v":""},"","","",null,null,-1,-1,1,0]
[null,null,{"$f":"IF(B4947=\"\",\"\",LOOKUP(B4947,Spiele!B:B,Spiele!C:C))","v":""},{"$f":"IF(B4947=\"\",\"\",LOOKUP(B4947,Spiele!B:B,Spiele!D:D))","v":""},{"$f":"IF(B4947=\"\",\"\",LOOKUP(B4947,Spiele!B:B,Spiele!E:E))","v":""},{"$f":"IF(B4947=\"\",\"\",LOOKUP(B4947,Spiele!B:B,Spiele!F:F))","v":""},"","","",null,null,-1,-1,1,0]
[null,null,{"$f":"IF(B4952=\"\",\"\",LOOKUP(B4952,Spiele!B:B,Spiele!C:C))","v":""},{"$f":"IF(B4952=\"\",\"\",LOOKUP(B4952,Spiele!B:B,Spiele!D:D))","v":""},{"$f":"IF(B4952=\"\",\"\",LOOKUP(B4952,Spiele!B:B,Spiele!E:E))","v":""},{"$f":"IF(B4952=\"\",\"\",LOOKUP(B4952,Spiele!B:B,Spiele!F:F))","v":""},"","","",null,null,-1,-1,1,0]
[null,null,{"$f":"IF(B4954=\"\",\"\",LOOKUP(B4954,Spiele!B:B,Spiele!C:C))","v":""},{"$f":"IF(B4954=\"\",\"\",LOOKUP(B4954,Spiele!B:B,Spiele!D:D))","v":""},{"$f":"IF(B4954=\"\",\"\",LOOKUP(B4954,Spiele!B:B,Spiele!E:E))","v":""},{"$f":"IF(B4954=\"\",\"\",LOOKUP(B4954,Spiele!B:B,Spiele!F:F))","v":""},"","","",null,null,-1,-1,1,0]
[null,null,{"$f":"IF(B4957=\"\",\"\",LOOKUP(B4957,Spiele!B:B,Spiele!C:C))","v":""},{"$f":"IF(B4957=\"\",\"\",LOOKUP(B4957,Spiele!B:B,Spiele!D:D))","v":""},{"$f":"IF(B4957=\"\",\"\",LOOKUP(B4957,Spiele!B:B,Spiele!E:E))","v":""},{"$f":"IF(B4957=\"\",\"\",LOOKUP(B4957,Spiele!B:B,Spiele!F:F))","v":""},"","","",null,null,-1,-1,1,0]
[null,null,{"$f":"IF(B4962=\"\",\"\",LOOKUP(B4962,Spiele!B:B,Spiele!C:C))","v":""},{"$f":"IF(B4962=\"\",\"\",LOOKUP(B4962,Spiele!B:B,Spiele!D:D))","v":""},{"$f":"IF(B4962=\"\",\"\",LOOKUP(B4962,Spiele!B:B,Spiele!E:E))","v":""},{"$f":"IF(B4962=\"\",\"\",LOOKUP(B4962,Spiele!B:B,Spiele!F:F))","v":""},"","","",null,null,-1,-1,1,0]
[null,null,{"$f":"IF(B4967=\"\",\"\",LOOKUP(B4967,Spiele!B:B,Spiele!C:C))","v":""},{"$f":"IF(B4967=\"\",\"\",LOOKUP(B4967,Spiele!B:B,Spiele!D:D))","v":""},{"$f":"IF(B4967=\"\",\"\",LOOKUP(B4967,Spiele!B:B,Spiele!E:E))","v":""},{"$f":"IF(B4967=\"\",\"\",LOOKUP(B4967,Spiele!B:B,Spiele!F:F))","v":""},"","","",null,null,-1,-1,1,0]
[null,null,{"$f":"IF(B4968=\"\",\"\",LOOKUP(B4968,Spiele!B:B,Spiele!C:C))","v":""},{"$f":"IF(B4968=\"\",\"\",LOOKUP(B4968,Spiele!B:B,Spiele!D:D))","v":""},{"$f":"IF(B4968=\"\",\"\",LOOKUP(B4968,Spiele!B:B,Spiele!E:E))","v":""},{"$f":"IF(B4968=\"\",\"\",LOOKUP(B4968,Spiele!B:B,Spiele!F:F))","v":""},"","","",null,null,-1,-1,1,0]
[null,null,{"$f":"IF(B4972=\"\",\"\",LOOKUP(B4972,Spiele!B:B,Spiele!C:C))","v":""},{"$f":"IF(B4972=\"\",\"\",LOOKUP(B4972,Spiele!B:B,Spiele!D:D))","v":""},{"$f":"IF(B4972=\"\",\"\",LOOKUP(B4972,Spiele!B:B,Spiele!E:E))","v":""},{"$f":"IF(B4972=\"\",\"\",LOOKUP(B4972,Spiele!B:B,Spiele!F:F))","v":""},"","","",null,null,-1,-1,1,0]
[null,null,{"$f":"IF(B4977=\"\",\"\",LOOKUP(B4977,Spiele!B:B,Spiele!C:C))","v":""},{"$f":"IF(B4977=\"\",\"\",LOOKUP(B4977,Spiele!B:B,Spiele!D:D))","v":""},{"$f":"IF(B4977=\"\",\"\",LOOKUP(B4977,Spiele!B:B,Spiele!E:E))","v":""},{"$f":"IF(B4977=\"\",\"\",LOOKUP(B4977,Spiele!B:B,Spiele!F:F))","v":""},"","","",null,null,-1,-1,1,0]
[null,null,{"$f":"IF(B4982=\"\",\"\",LOOKUP(B4982,Spiele!B:B,Spiele!C:C))","v":""},{"$f":"IF(B4982=\"\",\"\",LOOKUP(B4982,Spiele!B:B,Spiele!D:D))","v":""},{"$f":"IF(B4982=\"\",\"\",LOOKUP(B4982,Spiele!B:B,Spiele!E:E))","v":""},{"$f":"IF(B4982=\"\",\"\",LOOKUP(B4982,Spiele!B:B,Spiele!F:F))","v":""},"","","",null,null,-1,-1,1,0]
[null,null,{"$f":"IF(B4984=\"\",\"\",LOOKUP(B4984,Spiele!B:B,Spiele!C:C))","v":""},{"$f":"IF(B4984=\"\",\"\",LOOKUP(B4984,Spiele!B:B,Spiele!D:D))","v":""},{"$f":"IF(B4984=\"\",\"\",LOOKUP(B4984,Spiele!B:B,Spiele!E:E))","v":""},{"$f":"IF(B4984=\"\",\"\",LOOKUP(B4984,Spiele!B:B,Spiele!F:F))","v":""},"","","",null,null,-1,-1,1,0]
[null,null,{"$f":"IF(B4987=\"\",\"\",LOOKUP(B4987,Spiele!B:B,Spiele!C:C))","v":""},{"$f":"IF(B4987=\"\",\"\",LOOKUP(B4987,Spiele!B:B,Spiele!D:D))","v":""},{"$f":"IF(B4987=\"\",\"\",LOOKUP(B4987,Spiele!B:B,Spiele!E:E))","v":""},{"$f":"IF(B4987=\"\",\"\",LOOKUP(B4987,Spiele!B:B,Spiele!F:F))","v":""},"","","",null,null,-1,-1,1,0]
[null,null,{"$f":"IF(B4992=\"\",\"\",LOOKUP(B4992,Spiele!B:B,Spiele!C:C))","v":""},{"$f":"IF(B4992=\"\",\"\",LOOKUP(B4992,Spiele!B:B,Spiele!D:D))","v":""},{"$f":"IF(B4992=\"\",\"\",LOOKUP(B4992,Spiele!B:B,Spiele!E:E))","v":""},{"$f":"IF(B4992=\"\",\"\",LOOKUP(B4992,Spiele!B:B,Spiele!F:F))","v":""},"","","",null,null,-1,-1,1,0]
[null,null,{"$f":"IF(B4997=\"\",\"\",LOOKUP(B4997,Spiele!B:B,Spiele!C:C))","v":""},{"$f":"IF(B4997=\"\",\"\",LOOKUP(B4997,Spiele!B:B,Spiele!D:D))","v":""},{"$f":"IF(B4997=\"\",\"\",LOOKUP(B4997,Spiele!B:B,Spiele!E:E))","v":""},{"$f":"IF(B4997=\"\",\"\",LOOKUP(B4997,Spiele!B:B,Spiele!F:F))","v":""},"","","",null,null,-1,-1,1,0]
[null,null,{"$f":"IF(B4998=\"\",\"\",LOOKUP(B4998,Spiele!B:B,Spiele!C:C))","v":""},{"$f":"IF(B4998=\"\",\"\",LOOKUP(B4998,Spiele!B:B,Spiele!D:D))","v":""},{"$f":"IF(B4998=\"\",\"\",LOOKUP(B4998,Spiele!B:B,Spiele!E:E))","v":""},{"$f":"IF(B4998=\"\",\"\",LOOKUP(B4998,Spiele!B:B,Spiele!F:F))","v":""},"","","",null,null,-1,-1,1,0]
[null,null,{"$f":"IF(B5002=\"\",\"\",LOOKUP(B5002,Spiele!B:B,Spiele!C:C))","v":""},{"$f":"IF(B5002=\"\",\"\",LOOKUP(B5002,Spiele!B:B,Spiele!D:D))","v":""},{"$f":"IF(B5002=\"\",\"\",LOOKUP(B5002,Spiele!B:B,Spiele!E:E))","v":""},{"$f":"IF(B5002=\"\",\"\",LOOKUP(B5002,Spiele!B:B,Spiele!F:F))","v":""},"","","",null,null,-1,-1,1,0]
[null,null,{"$f":"IF(B5007=\"\",\"\",LOOKUP(B5007,Spiele!B:B,Spiele!C:C))","v":""},{"$f":"IF(B5007=\"\",\"\",LOOKUP(B5007,Spiele!B:B,Spiele!D:D))","v":""},{"$f":"IF(B5007=\"\",\"\",LOOKUP(B5007,Spiele!B:B,Spiele!E:E))","v":""},{"$f":"IF(B5007=\"\",\"\",LOOKUP(B5007,Spiele!B:B,Spiele!F:F))","v":""},"","","",null,null,-1,-1,1,0]
[null,null,{"$f":"IF(B5012=\"\",\"\",LOOKUP(B5012,Spiele!B:B,Spiele!C:C))","v":""},{"$f":"IF(B5012=\"\",\"\",LOOKUP(B5012,Spiele!B:B,Spiele!D:D))","v":""},{"$f":"IF(B5012=\"\",\"\",LOOKUP(B5012,Spiele!B:B,Spiele!E:E))","v":""},{"$f":"IF(B5012=\"\",\"\",LOOKUP(B5012,Spiele!B:B,Spiele!F:F))","v":""},"","","",null,null,-1,-1,1,0]
[null,null,{"$f":"IF(B5014=\"\",\"\",LOOKUP(B5014,Spiele!B:B,Spiele!C:C))","v":""},{"$f":"IF(B5014=\"\",\"\",LOOKUP(B5014,Spiele!B:B,Spiele!D:D))","v":""},{"$f":"IF(B5014=\"\",\"\",LOOKUP(B5014,Spiele!B:B,Spiele!E:E))","v":""},{"$f":"IF(B5014=\"\",\"\",LOOKUP(B5014,Spiele!B:B,Spiele!F:F))","v":""},"","","",null,null,-1,-1,1,0]
[null,null,{"$f":"IF(B5017=\"\",\"\",LOOKUP(B5017,Spiele!B:B,Spiele!C:C))","v":""},{"$f":"IF(B5017=\"\",\"\",LOOKUP(B5017,Spiele!B:B,Spiele!D:D))","v":""},{"$f":"IF(B5017=\"\",\"\",LOOKUP(B5017,Spiele!B:B,Spiele!E:E))","v":""},{"$f":"IF(B5017=\"\",\"\",LOOKUP(B5017,Spiele!B:B,Spiele!F:F))","v":""},"","","",null,null,-1,-1,1,0]
[null,null,{"$f":"IF(B5022=\"\",\"\",LOOKUP(B5022,Spiele!B:B,Spiele!C:C))","v":""},{"$f":"IF(B5022=\"\",\"\",LOOKUP(B5022,Spiele!B:B,Spiele!D:D))","v":""},{"$f":"IF(B5022=\"\",\"\",LOOKUP(B5022,Spiele!B:B,Spiele!E:E))","v":""},{"$f":"IF(B5022=\"\",\"\",LOOKUP(B5022,Spiele!B:B,Spiele!F:F))","v":""},"","","",null,null,-1,-1,1,0]
[null,null,{"$f":"IF(B5027=\"\",\"\",LOOKUP(B5027,Spiele!B:B,Spiele!C:C))","v":""},{"$f":"IF(B5027=\"\",\"\",LOOKUP(B5027,Spiele!B:B,Spiele!D:D))","v":""},{"$f":"IF(B5027=\"\",\"\",LOOKUP(B5027,Spiele!B:B,Spiele!E:E))","v":""},{"$f":"IF(B5027=\"\",\"\",LOOKUP(B5027,Spiele!B:B,Spiele!F:F))","v":""},"","","",null,null,-1,-1,1,0]
[null,null,{"$f":"IF(B5028=\"\",\"\",LOOKUP(B5028,Spiele!B:B,Spiele!C:C))","v":""},{"$f":"IF(B5028=\"\",\"\",LOOKUP(B5028,Spiele!B:B,Spiele!D:D))","v":""},{"$f":"IF(B5028=\"\",\"\",LOOKUP(B5028,Spiele!B:B,Spiele!E:E))","v":""},{"$f":"IF(B5028=\"\",\"\",LOOKUP(B5028,Spiele!B:B,Spiele!F:F))","v":""},"","","",null,null,-1,-1,1,0]
[null,null,{"$f":"IF(B5032=\"\",\"\",LOOKUP(B5032,Spiele!B:B,Spiele!C:C))","v":""},{"$f":"IF(B5032=\"\",\"\",LOOKUP(B5032,Spiele!B:B,Spiele!D:D))","v":""},{"$f":"IF(B5032=\"\",\"\",LOOKUP(B5032,Spiele!B:B,Spiele!E:E))","v":""},{"$f":"IF(B5032=\"\",\"\",LOOKUP(B5032,Spiele!B:B,Spiele!F:F))","v":""},"","","",null,null,-1,-1,1,0]
[null,null,{"$f":"IF(B5037=\"\",\"\",LOOKUP(B5037,Spiele!B:B,Spiele!C:C))","v":""},{"$f":"IF(B5037=\"\",\"\",LOOKUP(B5037,Spiele!B:B,Spiele!D:D))","v":""},{"$f":"IF(B5037=\"\",\"\",LOOKUP(B5037,Spiele!B:B,Spiele!E:E))","v":""},{"$f":"IF(B5037=\"\",\"\",LOOKUP(B5037,Spiele!B:B,Spiele!F:F))","v":""},"","","",null,null,-1,-1,1,0]
[null,null,{"$f":"IF(B5042=\"\",\"\",LOOKUP(B5042,Spiele!B:B,Spiele!C:C))","v":""},{"$f":"IF(B5042=\"\",\"\",LOOKUP(B5042,Spiele!B:B,Spiele!D:D))","v":""},{"$f":"IF(B5042=\"\",\"\",LOOKUP(B5042,Spiele!B:B,Spiele!E:E))","v":""},{"$f":"IF(B5042=\"\",\"\",LOOKUP(B5042,Spiele!B:B,Spiele!F:F))","v":""},"","","",null,null,-1,-1,1,0]
[null,null,{"$f":"IF(B5044=\"\",\"\",LOOKUP(B5044,Spiele!B:B,Spiele!C:C))","v":""},{"$f":"IF(B5044=\"\",\"\",LOOKUP(B5044,Spiele!B:B,Spiele!D:D))","v":""},{"$f":"IF(B5044=\"\",\"\",LOOKUP(B5044,Spiele!B:B,Spiele!E:E))","v":""},{"$f":"IF(B5044=\"\",\"\",LOOKUP(B5044,Spiele!B:B,Spiele!F:F))","v":""},"","","",null,null,-1,-1,1,0]
[null,null,{"$f":"IF(B5047=\"\",\"\",LOOKUP(B5047,Spiele!B:B,Spiele!C:C))","v":""},{"$f":"IF(B5047=\"\",\"\",LOOKUP(B5047,Spiele!B:B,Spiele!D:D))","v":""},{"$f":"IF(B5047=\"\",\"\",LOOKUP(B5047,Spiele!B:B,Spiele!E:E))","v":""},{"$f":"IF(B5047=\"\",\"\",LOOKUP(B5047,Spiele!B:B,Spiele!F:F))","v":""},"","","",null,null,-1,-1,1,0]
[null,null,{"$f":"IF(B5052=\"\",\"\",LOOKUP(B5052,Spiele!B:B,Spiele!C:C))","v":""},{"$f":"IF(B5052=\"\",\"\",LOOKUP(B5052,Spiele!B:B,Spiele!D:D))","v":""},{"$f":"IF(B5052=\"\",\"\",LOOKUP(B5052,Spiele!B:B,Spiele!E:E))","v":""},{"$f":"IF(B5052=\"\",\"\",LOOKUP(B5052,Spiele!B:B,Spiele!F:F))","v":""},"","","",null,null,-1,-1,1,0]
[null,null,{"$f":"IF(B5057=\"\",\"\",LOOKUP(B5057,Spiele!B:B,Spiele!C:C))","v":""},{"$f":"IF(B5057=\"\",\"\",LOOKUP(B5057,Spiele!B:B,Spiele!D:D))","v":""},{"$f":"IF(B5057=\"\",\"\",LOOKUP(B5057,Spiele!B:B,Spiele!E:E))","v":""},{"$f":"IF(B5057=\"\",\"\",LOOKUP(B5057,Spiele!B:B,Spiele!F:F))","v":""},"","","",null,null,-1,-1,1,0]
[null,null,{"$f":"IF(B5058=\"\",\"\",LOOKUP(B5058,Spiele!B:B,Spiele!C:C))","v":""},{"$f":"IF(B5058=\"\",\"\",LOOKUP(B5058,Spiele!B:B,Spiele!D:D))","v":""},{"$f":"IF(B5058=\"\",\"\",LOOKUP(B5058,Spiele!B:B,Spiele!E:E))","v":""},{"$f":"IF(B5058=\"\",\"\",LOOKUP(B5058,Spiele!B:B,Spiele!F:F))","v":""},"","","",null,null,-1,-1,1,0]
[null,null,{"$f":"IF(B5062=\"\",\"\",LOOKUP(B5062,Spiele!B:B,Spiele!C:C))","v":""},{"$f":"IF(B5062=\"\",\"\",LOOKUP(B5062,Spiele!B:B,Spiele!D:D))","v":""},{"$f":"IF(B5062=\"\",\"\",LOOKUP(B5062,Spiele!B:B,Spiele!E:E))","v":""},{"$f":"IF(B5062=\"\",\"\",LOOKUP(B5062,Spiele!B:B,Spiele!F:F))","v":""},"","","",null,null,-1,-1,1,0]
[null,null,{"$f":"IF(B5067=\"\",\"\",LOOKUP(B5067,Spiele!B:B,Spiele!C:C))","v":""},{"$f":"IF(B5067=\"\",\"\",LOOKUP(B5067,Spiele!B:B,Spiele!D:D))","v":""},{"$f":"IF(B5067=\"\",\"\",LOOKUP(B5067,Spiele!B:B,Spiele!E:E))","v":""},{"$f":"IF(B5067=\"\",\"\",LOOKUP(B5067,Spiele!B:B,Spiele!F:F))","v":""},"","","",null,null,-1,-1,1,0]
[null,null,{"$f":"IF(B5072=\"\",\"\",LOOKUP(B5072,Spiele!B:B,Spiele!C:C))","v":""},{"$f":"IF(B5072=\"\",\"\",LOOKUP(B5072,Spiele!B:B,Spiele!D:D))","v":""},{"$f":"IF(B5072=\"\",\"\",LOOKUP(B5072,Spiele!B:B,Spiele!E:E))","v":""},{"$f":"IF(B5072=\"\",\"\",LOOKUP(B5072,Spiele!B:B,Spiele!F:F))","v":""},"","","",null,null,-1,-1,1,0]
[null,null,{"$f":"IF(B5074=\"\",\"\",LOOKUP(B5074,Spiele!B:B,Spiele!C:C))","v":""},{"$f":"IF(B5074=\"\",\"\",LOOKUP(B5074,Spiele!B:B,Spiele!D:D))","v":""},{"$f":"IF(B5074=\"\",\"\",LOOKUP(B5074,Spiele!B:B,Spiele!E:E))","v":""},{"$f":"IF(B5074=\"\",\"\",LOOKUP(B5074,Spiele!B:B,Spiele!F:F))","v":""},"","","",null,null,-1,-1,1,0]
[null,null,{"$f":"IF(B5077=\"\",\"\",LOOKUP(B5077,Spiele!B:B,Spiele!C:C))","v":""},{"$f":"IF(B5077=\"\",\"\",LOOKUP(B5077,Spiele!B:B,Spiele!D:D))","v":""},{"$f":"IF(B5077=\"\",\"\",LOOKUP(B5077,Spiele!B:B,Spiele!E:E))","v":""},{"$f":"IF(B5077=\"\",\"\",LOOKUP(B5077,Spiele!B:B,Spiele!F:F))","v":""},"","","",null,null,-1,-1,1,0]
[null,null,{"$f":"IF(B5082=\"\",\"\",LOOKUP(B5082,Spiele!B:B,Spiele!C:C))","v":""},{"$f":"IF(B5082=\"\",\"\",LOOKUP(B5082,Spiele!B:B,Spiele!D:D))","v":""},{"$f":"IF(B5082=\"\",\"\",LOOKUP(B5082,Spiele!B:B,Spiele!E:E))","v":""},{"$f":"IF(B5082=\"\",\"\",LOOKUP(B5082,Spiele!B:B,Spiele!F:F))","v":""},"","","",null,null,-1,-1,1,0]
[null,null,{"$f":"IF(B5087=\"\",\"\",LOOKUP(B5087,Spiele!B:B,Spiele!C:C))","v":""},{"$f":"IF(B5087=\"\",\"\",LOOKUP(B5087,Spiele!B:B,Spiele!D:D))","v":""},{"$f":"IF(B5087=\"\",\"\",LOOKUP(B5087,Spiele!B:B,Spiele!E:E))","v":""},{"$f":"IF(B5087=\"\",\"\",LOOKUP(B5087,Spiele!B:B,Spiele!F:F))","v":""},"","","",null,null,-1,-1,1,0]
[null,null,{"$f":"IF(B5088=\"\",\"\",LOOKUP(B5088,Spiele!B:B,Spiele!C:C))","v":""},{"$f":"IF(B5088=\"\",\"\",LOOKUP(B5088,Spiele!B:B,Spiele!D:D))","v":""},{"$f":"IF(B5088=\"\",\"\",LOOKUP(B5088,Spiele!B:B,Spiele!E:E))","v":""},{"$f":"IF(B5088=\"\",\"\",LOOKUP(B5088,Spiele!B:B,Spiele!F:F))","v":""},{"$f":"IF(E5088=\"\",\"\",IF(E5088>F5088,1,0))","v":""},{"$f":"IF(F5088=\"\",\"\",IF(E5088<F5088,1,0))","v":""},{"$f":"IF(E5088=\"\",\"\",IF(E5088=F5088,1,0))","v":""},null,null,{"$f":"IF(E5088=\"\",-1,IF(J5088>K5088,1,-1))","v":-1},{"$f":"IF(F5088=\"\",-1,IF(J5088<K5088,1,-1))","v":-1},{"$f":"IF(E5088=\"-\",-1,IF(J5088=K5088,1,-1))","v":1},{"$f":"IF(E5088=\"\",0,IF(E5088=J5088,1,0)+IF(F5088=K5088,1,0)+IF(G5088=L5088,1,0)+IF(H5088=M5088,1,0)+IF(I5088=N5088,1,0))","v":0}]
[null,null,{"$f":"IF(B5092=\"\",\"\",LOOKUP(B5092,Spiele!B:B,Spiele!C:C))","v":""},{"$f":"IF(B5092=\"\",\"\",LOOKUP(B5092,Spiele!B:B,Spiele!D:D))","v":""},{"$f":"IF(B5092=\"\",\"\",LOOKUP(B5092,Spiele!B:B,Spiele!E:E))","v":""},{"$f":"IF(B5092=\"\",\"\",LOOKUP(B5092,Spiele!B:B,Spiele!F:F))","v":""},"","","",null,null,-1,-1,1,0]
[null,null,{"$f":"IF(B5097=\"\",\"\",LOOKUP(B5097,Spiele!B:B,Spiele!C:C))","v":""},{"$f":"IF(B5097=\"\",\"\",LOOKUP(B5097,Spiele!B:B,Spiele!D:D))","v":""},{"$f":"IF(B5097=\"\",\"\",LOOKUP(B5097,Spiele!B:B,Spiele!E:E))","v":""},{"$f":"IF(B5097=\"\",\"\",LOOKUP(B5097,Spiele!B:B,Spiele!F:F))","v":""},"","","",null,null,-1,-1,1,0]
[null,null,{"$f":"IF(B5102=\"\",\"\",LOOKUP(B5102,Spiele!B:B,Spiele!C:C))","v":""},{"$f":"IF(B5102=\"\",\"\",LOOKUP(B5102,Spiele!B:B,Spiele!D:D))","v":""},{"$f":"IF(B5102=\"\",\"\",LOOKUP(B5102,Spiele!B:B,Spiele!E:E))","v":""},{"$f":"IF(B5102=\"\",\"\",LOOKUP(B5102,Spiele!B:B,Spiele!F:F))","v":""},"","","",null,null,-1,-1,1,0]
[null,null,{"$f":"IF(B5104=\"\",\"\",LOOKUP(B5104,Spiele!B:B,Spiele!C:C))","v":""},{"$f":"IF(B5104=\"\",\"\",LOOKUP(B5104,Spiele!B:B,Spiele!D:D))","v":""},{"$f":"IF(B5104=\"\",\"\",LOOKUP(B5104,Spiele!B:B,Spiele!E:E))","v":""},{"$f":"IF(B5104=\"\",\"\",LOOKUP(B5104,Spiele!B:B,Spiele!F:F))","v":""},"","","",null,null,-1,-1,1,0]
[null,null,{"$f":"IF(B5107=\"\",\"\",LOOKUP(B5107,Spiele!B:B,Spiele!C:C))","v":""},{"$f":"IF(B5107=\"\",\"\",LOOKUP(B5107,Spiele!B:B,Spiele!D:D))","v":""},{"$f":"IF(B5107=\"\",\"\",LOOKUP(B5107,Spiele!B:B,Spiele!E:E))","v":""},{"$f":"IF(B5107=\"\",\"\",LOOKUP(B5107,Spiele!B:B,Spiele!F:F))","v":""},"","","",null,null,-1,-1,1,0]
[null,null,{"$f":"IF(B5112=\"\",\"\",LOOKUP(B5112,Spiele!B:B,Spiele!C:C))","v":""},{"$f":"IF(B5112=\"\",\"\",LOOKUP(B5112,Spiele!B:B,Spiele!D:D))","v":""},{"$f":"IF(B5112=\"\",\"\",LOOKUP(B5112,Spiele!B:B,Spiele!E:E))","v":""},{"$f":"IF(B5112=\"\",\"\",LOOKUP(B5112,Spiele!B:B,Spiele!F:F))","v":""},"","","",null,null,-1,-1,1,0]
[null,null,{"$f":"IF(B5117=\"\",\"\",LOOKUP(B5117,Spiele!B:B,Spiele!C:C))","v":""},{"$f":"IF(B5117=\"\",\"\",LOOKUP(B5117,Spiele!B:B,Spiele!D:D))","v":""},{"$f":"IF(B5117=\"\",\"\",LOOKUP(B5117,Spiele!B:B,Spiele!E:E))","v":""},{"$f":"IF(B5117=\"\",\"\",LOOKUP(B5117,Spiele!B:B,Spiele!F:F))","v":""},"","","",null,null,-1,-1,1,0]
[null,null,{"$f":"IF(B5118=\"\",\"\",LOOKUP(B5118,Spiele!B:B,Spiele!C:C))","v":""},{"$f":"IF(B5118=\"\",\"\",LOOKUP(B5118,Spiele!B:B,Spiele!D:D))","v":""},{"$f":"IF(B5118=\"\",\"\",LOOKUP(B5118,Spiele!B:B,Spiele!E:E))","v":""},{"$f":"IF(B5118=\"\",\"\",LOOKUP(B5118,Spiele!B:B,Spiele!F:F))","v":""},"","","",null,null,-1,-1,1,0]
[null,null,{"$f":"IF(B5122=\"\",\"\",LOOKUP(B5122,Spiele!B:B,Spiele!C:C))","v":""},{"$f":"IF(B5122=\"\",\"\",LOOKUP(B5122,Spiele!B:B,Spiele!D:D))","v":""},{"$f":"IF(B5122=\"\",\"\",LOOKUP(B5122,Spiele!B:B,Spiele!E:E))","v":""},{"$f":"IF(B5122=\"\",\"\",LOOKUP(B5122,Spiele!B:B,Spiele!F:F))","v":""},"","","",null,null,-1,-1,1,0]
[null,null,{"$f":"IF(B5127=\"\",\"\",LOOKUP(B5127,Spiele!B:B,Spiele!C:C))","v":""},{"$f":"IF(B5127=\"\",\"\",LOOKUP(B5127,Spiele!B:B,Spiele!D:D))","v":""},{"$f":"IF(B5127=\"\",\"\",LOOKUP(B5127,Spiele!B:B,Spiele!E:E))","v":""},{"$f":"IF(B5127=\"\",\"\",LOOKUP(B5127,Spiele!B:B,Spiele!F:F))","v":""},"","","",null,null,-1,-1,1,0]
[null,null,{"$f":"IF(B5132=\"\",\"\",LOOKUP(B5132,Spiele!B:B,Spiele!C:C))","v":""},{"$f":"IF(B5132=\"\",\"\",LOOKUP(B5132,Spiele!B:B,Spiele!D:D))","v":""},{"$f":"IF(B5132=\"\",\"\",LOOKUP(B5132,Spiele!B:B,Spiele!E:E))","v":""},{"$f":"IF(B5132=\"\",\"\",LOOKUP(B5132,Spiele!B:B,Spiele!F:F))","v":""},"","","",null,null,-1,-1,1,0]
[null,null,{"$f":"IF(B5134=\"\",\"\",LOOKUP(B5134,Spiele!B:B,Spiele!C:C))","v":""},{"$f":"IF(B5134=\"\",\"\",LOOKUP(B5134,Spiele!B:B,Spiele!D:D))","v":""},{"$f":"IF(B5134=\"\",\"\",LOOKUP(B5134,Spiele!B:B,Spiele!E:E))","v":""},{"$f":"IF(B5134=\"\",\"\",LOOKUP(B5134,Spiele!B:B,Spiele!F:F))","v":""},"","","",null,null,-1,-1,1,0]
[null,null,{"$f":"IF(B5137=\"\",\"\",LOOKUP(B5137,Spiele!B:B,Spiele!C:C))","v":""},{"$f":"IF(B5137=\"\",\"\",LOOKUP(B5137,Spiele!B:B,Spiele!D:D))","v":""},{"$f":"IF(B5137=\"\",\"\",LOOKUP(B5137,Spiele!B:B,Spiele!E:E))","v":""},{"$f":"IF(B5137=\"\",\"\",LOOKUP(B5137,Spiele!B:B,Spiele!F:F))","v":""},"","","",null,null,-1,-1,1,0]
[null,null,{"$f":"IF(B5142=\"\",\"\",LOOKUP(B5142,Spiele!B:B,Spiele!C:C))","v":""},{"$f":"IF(B5142=\"\",\"\",LOOKUP(B5142,Spiele!B:B,Spiele!D:D))","v":""},{"$f":"IF(B5142=\"\",\"\",LOOKUP(B5142,Spiele!B:B,Spiele!E:E))","v":""},{"$f":"IF(B5142=\"\",\"\",LOOKUP(B5142,Spiele!B:B,Spiele!F:F))","v":""},"","","",null,null,-1,-1,1,0]
[null,null,{"$f":"IF(B5147=\"\",\"\",LOOKUP(B5147,Spiele!B:B,Spiele!C:C))","v":""},{"$f":"IF(B5147=\"\",\"\",LOOKUP(B5147,Spiele!B:B,Spiele!D:D))","v":""},{"$f":"IF(B5147=\"\",\"\",LOOKUP(B5147,Spiele!B:B,Spiele!E:E))","v":""},{"$f":"IF(B5147=\"\",\"\",LOOKUP(B5147,Spiele!B:B,Spiele!F:F))","v":""},"","","",null,null,-1,-1,1,0]
[null,null,{"$f":"IF(B5148=\"\",\"\",LOOKUP(B5148,Spiele!B:B,Spiele!C:C))","v":""},{"$f":"IF(B5148=\"\",\"\",LOOKUP(B5148,Spiele!B:B,Spiele!D:D))","v":""},{"$f":"IF(B5148=\"\",\"\",LOOKUP(B5148,Spiele!B:B,Spiele!E:E))","v":""},{"$f":"IF(B5148=\"\",\"\",LOOKUP(B5148,Spiele!B:B,Spiele!F:F))","v":""},"","","",null,null,-1,-1,1,0]
[null,null,{"$f":"IF(B5152=\"\",\"\",LOOKUP(B5152,Spiele!B:B,Spiele!C:C))","v":""},{"$f":"IF(B5152=\"\",\"\",LOOKUP(B5152,Spiele!B:B,Spiele!D:D))","v":""},{"$f":"IF(B5152=\"\",\"\",LOOKUP(B5152,Spiele!B:B,Spiele!E:E))","v":""},{"$f":"IF(B5152=\"\",\"\",LOOKUP(B5152,Spiele!B:B,Spiele!F:F))","v":""},{"$f":"IF(E5152=\"\",\"\",IF(E5152>F5152,1,0))","v":""},{"$f":"IF(F5152=\"\",\"\",IF(E5152<F5152,1,0))","v":""},{"$f":"IF(E5152=\"\",\"\",IF(E5152=F5152,1,0))","v":""},null,null,{"$f":"IF(E5152=\"\",-1,IF(J5152>K5152,1,-1))","v":-1},{"$f":"IF(F5152=\"\",-1,IF(J5152<K5152,1,-1))","v":-1},{"$f":"IF(E5152=\"-\",-1,IF(J5152=K5152,1,-1))","v":1},{"$f":"IF(E5152=\"\",0,IF(E5152=J5152,1,0)+IF(F5152=K5152,1,0)+IF(G5152=L5152,1,0)+IF(H5152=M5152,1,0)+IF(I5152=N5152,1,0))","v":0}]
[null,null,{"$f":"IF(B5157=\"\",\"\",LOOKUP(B5157,Spiele!B:B,Spiele!C:C))","v":""},{"$f":"IF(B5157=\"\",\"\",LOOKUP(B5157,Spiele!B:B,Spiele!D:D))","v":""},{"$f":"IF(B5157=\"\",\"\",LOOKUP(B5157,Spiele!B:B,Spiele!E:E))","v":""},{"$f":"IF(B5157=\"\",\"\",LOOKUP(B5157,Spiele!B:B,Spiele!F:F))","v":""},"","","",null,null,-1,-1,1,0]
[null,null,{"$f":"IF(B5162=\"\",\"\",LOOKUP(B5162,Spiele!B:B,Spiele!C:C))","v":""},{"$f":"IF(B5162=\"\",\"\",LOOKUP(B5162,Spiele!B:B,Spiele!D:D))","v":""},{"$f":"IF(B5162=\"\",\"\",LOOKUP(B5162,Spiele!B:B,Spiele!E:E))","v":""},{"$f":"IF(B5162=\"\",\"\",LOOKUP(B5162,Spiele!B:B,Spiele!F:F))","v":""},"","","",null,null,-1,-1,1,0]
[null,null,{"$f":"IF(B5164=\"\",\"\",LOOKUP(B5164,Spiele!B:B,Spiele!C:C))","v":""},{"$f":"IF(B5164=\"\",\"\",LOOKUP(B5164,Spiele!B:B,Spiele!D:D))","v":""},{"$f":"IF(B5164=\"\",\"\",LOOKUP(B5164,Spiele!B:B,Spiele!E:E))","v":""},{"$f":"IF(B5164=\"\",\"\",LOOKUP(B5164,Spiele!B:B,Spiele!F:F))","v":""},"","","",null,null,-1,-1,1,0]
[null,null,{"$f":"IF(B5167=\"\",\"\",LOOKUP(B5167,Spiele!B:B,Spiele!C:C))","v":""},{"$f":"IF(B5167=\"\",\"\",LOOKUP(B5167,Spiele!B:B,Spiele!D:D))","v":""},{"$f":"IF(B5167=\"\",\"\",LOOKUP(B5167,Spiele!B:B,Spiele!E:E))","v":""},{"$f":"IF(B5167=\"\",\"\",LOOKUP(B5167,Spiele!B:B,Spiele!F:F))","v":""},"","","",null,null,-1,-1,1,0]
[null,null,{"$f":"IF(B5172=\"\",\"\",LOOKUP(B5172,Spiele!B:B,Spiele!C:C))","v":""},{"$f":"IF(B5172=\"\",\"\",LOOKUP(B5172,Spiele!B:B,Spiele!D:D))","v":""},{"$f":"IF(B5172=\"\",\"\",LOOKUP(B5172,Spiele!B:B,Spiele!E:E))","v":""},{"$f":"IF(B5172=\"\",\"\",LOOKUP(B5172,Spiele!B:B,Spiele!F:F))","v":""},"","","",null,null,-1,-1,1,0]
[null,null,{"$f":"IF(B5177=\"\",\"\",LOOKUP(B5177,Spiele!B:B,Spiele!C:C))","v":""},{"$f":"IF(B5177=\"\",\"\",LOOKUP(B5177,Spiele!B:B,Spiele!D:D))","v":""},{"$f":"IF(B5177=\"\",\"\",LOOKUP(B5177,Spiele!B:B,Spiele!E:E))","v":""},{"$f":"IF(B5177=\"\",\"\",LOOKUP(B5177,Spiele!B:B,Spiele!F:F))","v":""},"","","",null,null,-1,-1,1,0]
[null,null,{"$f":"IF(B5178=\"\",\"\",LOOKUP(B5178,Spiele!B:B,Spiele!C:C))","v":""},{"$f":"IF(B5178=\"\",\"\",LOOKUP(B5178,Spiele!B:B,Spiele!D:D))","v":""},{"$f":"IF(B5178=\"\",\"\",LOOKUP(B5178,Spiele!B:B,Spiele!E:E))","v":""},{"$f":"IF(B5178=\"\",\"\",LOOKUP(B5178,Spiele!B:B,Spiele!F:F))","v":""},"","","",null,null,-1,-1,1,0]
[null,null,{"$f":"IF(B5182=\"\",\"\",LOOKUP(B5182,Spiele!B:B,Spiele!C:C))","v":""},{"$f":"IF(B5182=\"\",\"\",LOOKUP(B5182,Spiele!B:B,Spiele!D:D))","v":""},{"$f":"IF(B5182=\"\",\"\",LOOKUP(B5182,Spiele!B:B,Spiele!E:E))","v":""},{"$f":"IF(B5182=\"\",\"\",LOOKUP(B5182,Spiele!B:B,Spiele!F:F))","v":""},"","","",null,null,-1,-1,1,0]
[null,null,{"$f":"IF(B5187=\"\",\"\",LOOKUP(B5187,Spiele!B:B,Spiele!C:C))","v":""},{"$f":"IF(B5187=\"\",\"\",LOOKUP(B5187,Spiele!B:B,Spiele!D:D))","v":""},{"$f":"IF(B5187=\"\",\"\",LOOKUP(B5187,Spiele!B:B,Spiele!E:E))","v":""},{"$f":"IF(B5187=\"\",\"\",LOOKUP(B5187,Spiele!B:B,Spiele!F:F))","v":""},"","","",null,null,-1,-1,1,0]
[null,null,{"$f":"IF(B5192=\"\",\"\",LOOKUP(B5192,Spiele!B:B,Spiele!C:C))","v":""},{"$f":"IF(B5192=\"\",\"\",LOOKUP(B5192,Spiele!B:B,Spiele!D:D))","v":""},{"$f":"IF(B5192=\"\",\"\",LOOKUP(B5192,Spiele!B:B,Spiele!E:E))","v":""},{"$f":"IF(B5192=\"\",\"\",LOOKUP(B5192,Spiele!B:B,Spiele!F:F))","v":""},"","","",null,null,-1,-1,1,0]
[null,null,{"$f":"IF(B5195=\"\",\"\",LOOKUP(B5195,Spiele!B:B,Spiele!C:C))","v":""},{"$f":"IF(B5195=\"\",\"\",LOOKUP(B5195,Spiele!B:B,Spiele!D:D))","v":""},{"$f":"IF(B5195=\"\",\"\",LOOKUP(B5195,Spiele!B:B,Spiele!E:E))","v":""},{"$f":"IF(B5195=\"\",\"\",LOOKUP(B5195,Spiele!B:B,Spiele!F:F))","v":""},"","","",null,null,-1,-1,1,0]
[null,null,{"$f":"IF(B5197=\"\",\"\",LOOKUP(B5197,Spiele!B:B,Spiele!C:C))","v":""},{"$f":"IF(B5197=\"\",\"\",LOOKUP(B5197,Spiele!B:B,Spiele!D:D))","v":""},{"$f":"IF(B5197=\"\",\"\",LOOKUP(B5197,Spiele!B:B,Spiele!E:E))","v":""},{"$f":"IF(B5197=\"\",\"\",LOOKUP(B5197,Spiele!B:B,Spiele!F:F))","v":""},"","","",null,null,-1,-1,1,0]
[null,null,{"$f":"IF(B5202=\"\",\"\",LOOKUP(B5202,Spiele!B:B,Spiele!C:C))","v":""},{"$f":"IF(B5202=\"\",\"\",LOOKUP(B5202,Spiele!B:B,Spiele!D:D))","v":""},{"$f":"IF(B5202=\"\",\"\",LOOKUP(B5202,Spiele!B:B,Spiele!E:E))","v":""},{"$f":"IF(B5202=\"\",\"\",LOOKUP(B5202,Spiele!B:B,Spiele!F:F))","v":""},"","","",null,null,-1,-1,1,0]
[null,null,{"$f":"IF(B5207=\"\",\"\",LOOKUP(B5207,Spiele!B:B,Spiele!C:C))","v":""},{"$f":"IF(B5207=\"\",\"\",LOOKUP(B5207,Spiele!B:B,Spiele!D:D))","v":""},{"$f":"IF(B5207=\"\",\"\",LOOKUP(B5207,Spiele!B:B,Spiele!E:E))","v":""},{"$f":"IF(B5207=\"\",\"\",LOOKUP(B5207,Spiele!B:B,Spiele!F:F))","v":""},"","","",null,null,-1,-1,1,0]
[null,null,{"$f":"IF(B5208=\"\",\"\",LOOKUP(B5208,Spiele!B:B,Spiele!C:C))","v":""},{"$f":"IF(B5208=\"\",\"\",LOOKUP(B5208,Spiele!B:B,Spiele!D:D))","v":""},{"$f":"IF(B5208=\"\",\"\",LOOKUP(B5208,Spiele!B:B,Spiele!E:E))","v":""},{"$f":"IF(B5208=\"\",\"\",LOOKUP(B5208,Spiele!B:B,Spiele!F:F))","v":""},"","","",null,null,-1,-1,1,0]
[null,null,{"$f":"IF(B5212=\"\",\"\",LOOKUP(B5212,Spiele!B:B,Spiele!C:C))","v":""},{"$f":"IF(B5212=\"\",\"\",LOOKUP(B5212,Spiele!B:B,Spiele!D:D))","v":""},{"$f":"IF(B5212=\"\",\"\",LOOKUP(B5212,Spiele!B:B,Spiele!E:E))","v":""},{"$f":"IF(B5212=\"\",\"\",LOOKUP(B5212,Spiele!B:B,Spiele!F:F))","v":""},"","","",null,null,-1,-1,1,0]
[null,null,{"$f":"IF(B5217=\"\",\"\",LOOKUP(B5217,Spiele!B:B,Spiele!C:C))","v":""},{"$f":"IF(B5217=\"\",\"\",LOOKUP(B5217,Spiele!B:B,Spiele!D:D))","v":""},{"$f":"IF(B5217=\"\",\"\",LOOKUP(B5217,Spiele!B:B,Spiele!E:E))","v":""},{"$f":"IF(B5217=\"\",\"\",LOOKUP(B5217,Spiele!B:B,Spiele!F:F))","v":""},"","","",null,null,-1,-1,1,0]
[null,null,{"$f":"IF(B5222=\"\",\"\",LOOKUP(B5222,Spiele!B:B,Spiele!C:C))","v":""},{"$f":"IF(B5222=\"\",\"\",LOOKUP(B5222,Spiele!B:B,Spiele!D:D))","v":""},{"$f":"IF(B5222=\"\",\"\",LOOKUP(B5222,Spiele!B:B,Spiele!E:E))","v":""},{"$f":"IF(B5222=\"\",\"\",LOOKUP(B5222,Spiele!B:B,Spiele!F:F))","v":""},"","","",null,null,-1,-1,1,0]
[null,null,{"$f":"IF(B5225=\"\",\"\",LOOKUP(B5225,Spiele!B:B,Spiele!C:C))","v":""},{"$f":"IF(B5225=\"\",\"\",LOOKUP(B5225,Spiele!B:B,Spiele!D:D))","v":""},{"$f":"IF(B5225=\"\",\"\",LOOKUP(B5225,Spiele!B:B,Spiele!E:E))","v":""},{"$f":"IF(B5225=\"\",\"\",LOOKUP(B5225,Spiele!B:B,Spiele!F:F))","v":""},"","","",null,null,-1,-1,1,0]
[null,null,{"$f":"IF(B5227=\"\",\"\",LOOKUP(B5227,Spiele!B:B,Spiele!C:C))","v":""},{"$f":"IF(B5227=\"\",\"\",LOOKUP(B5227,Spiele!B:B,Spiele!D:D))","v":""},{"$f":"IF(B5227=\"\",\"\",LOOKUP(B5227,Spiele!B:B,Spiele!E:E))","v":""},{"$f":"IF(B5227=\"\",\"\",LOOKUP(B5227,Spiele!B:B,Spiele!F:F))","v":""},"","","",null,null,-1,-1,1,0]
[null,null,{"$f":"IF(B5232=\"\",\"\",LOOKUP(B5232,Spiele!B:B,Spiele!C:C))","v":""},{"$f":"IF(B5232=\"\",\"\",LOOKUP(B5232,Spiele!B:B,Spiele!D:D))","v":""},{"$f":"IF(B5232=\"\",\"\",LOOKUP(B5232,Spiele!B:B,Spiele!E:E))","v":""},{"$f":"IF(B5232=\"\",\"\",LOOKUP(B5232,Spiele!B:B,Spiele!F:F))","v":""},"","","",null,null,-1,-1,1,0]
[null,null,{"$f":"IF(B5237=\"\",\"\",LOOKUP(B5237,Spiele!B:B,Spiele!C:C))","v":""},{"$f":"IF(B5237=\"\",\"\",LOOKUP(B5237,Spiele!B:B,Spiele!D:D))","v":""},{"$f":"IF(B5237=\"\",\"\",LOOKUP(B5237,Spiele!B:B,Spiele!E:E))","v":""},{"$f":"IF(B5237=\"\",\"\",LOOKUP(B5237,Spiele!B:B,Spiele!F:F))","v":""},"","","",null,null,-1,-1,1,0]
[null,null,{"$f":"IF(B5238=\"\",\"\",LOOKUP(B5238,Spiele!B:B,Spiele!C:C))","v":""},{"$f":"IF(B5238=\"\",\"\",LOOKUP(B5238,Spiele!B:B,Spiele!D:D))","v":""},{"$f":"IF(B5238=\"\",\"\",LOOKUP(B5238,Spiele!B:B,Spiele!E:E))","v":""},{"$f":"IF(B5238=\"\",\"\",LOOKUP(B5238,Spiele!B:B,Spiele!F:F))","v":""},"","","",null,null,-1,-1,1,0]
[null,null,{"$f":"IF(B5242=\"\",\"\",LOOKUP(B5242,Spiele!B:B,Spiele!C:C))","v":""},{"$f":"IF(B5242=\"\",\"\",LOOKUP(B5242,Spiele!B:B,Spiele!D:D))","v":""},{"$f":"IF(B5242=\"\",\"\",LOOKUP(B5242,Spiele!B:B,Spiele!E:E))","v":""},{"$f":"IF(B5242=\"\",\"\",LOOKUP(B5242,Spiele!B:B,Spiele!F:F))","v":""},"","","",null,null,-1,-1,1,0]
[null,null,{"$f":"IF(B5247=\"\",\"\",LOOKUP(B5247,Spiele!B:B,Spiele!C:C))","v":""},{"$f":"IF(B5247=\"\",\"\",LOOKUP(B5247,Spiele!B:B,Spiele!D:D))","v":""},{"$f":"IF(B5247=\"\",\"\",LOOKUP(B5247,Spiele!B:B,Spiele!E:E))","v":""},{"$f":"IF(B5247=\"\",\"\",LOOKUP(B5247,Spiele!B:B,Spiele!F:F))","v":""},"","","",null,null,-1,-1,1,0]
[null,null,{"$f":"IF(B5252=\"\",\"\",LOOKUP(B5252,Spiele!B:B,Spiele!C:C))","v":""},{"$f":"IF(B5252=\"\",\"\",LOOKUP(B5252,Spiele!B:B,Spiele!D:D))","v":""},{"$f":"IF(B5252=\"\",\"\",LOOKUP(B5252,Spiele!B:B,Spiele!E:E))","v":""},{"$f":"IF(B5252=\"\",\"\",LOOKUP(B5252,Spiele!B:B,Spiele!F:F))","v":""},"","","",null,null,-1,-1,1,0]
[null,null,{"$f":"IF(B5255=\"\",\"\",LOOKUP(B5255,Spiele!B:B,Spiele!C:C))","v":""},{"$f":"IF(B5255=\"\",\"\",LOOKUP(B5255,Spiele!B:B,Spiele!D:D))","v":""},{"$f":"IF(B5255=\"\",\"\",LOOKUP(B5255,Spiele!B:B,Spiele!E:E))","v":""},{"$f":"IF(B5255=\"\",\"\",LOOKUP(B5255,Spiele!B:B,Spiele!F:F))","v":""},"","","",null,null,-1,-1,1,0]
[null,null,{"$f":"IF(B5257=\"\",\"\",LOOKUP(B5257,Spiele!B:B,Spiele!C:C))","v":""},{"$f":"IF(B5257=\"\",\"\",LOOKUP(B5257,Spiele!B:B,Spiele!D:D))","v":""},{"$f":"IF(B5257=\"\",\"\",LOOKUP(B5257,Spiele!B:B,Spiele!E:E))","v":""},{"$f":"IF(B5257=\"\",\"\",LOOKUP(B5257,Spiele!B:B,Spiele!F:F))","v":""},"","","",null,null,-1,-1,1,0]
[null,null,{"$f":"IF(B5262=\"\",\"\",LOOKUP(B5262,Spiele!B:B,Spiele!C:C))","v":""},{"$f":"IF(B5262=\"\",\"\",LOOKUP(B5262,Spiele!B:B,Spiele!D:D))","v":""},{"$f":"IF(B5262=\"\",\"\",LOOKUP(B5262,Spiele!B:B,Spiele!E:E))","v":""},{"$f":"IF(B5262=\"\",\"\",LOOKUP(B5262,Spiele!B:B,Spiele!F:F))","v":""},"","","",null,null,-1,-1,1,0]
[null,null,{"$f":"IF(B5267=\"\",\"\",LOOKUP(B5267,Spiele!B:B,Spiele!C:C))","v":""},{"$f":"IF(B5267=\"\",\"\",LOOKUP(B5267,Spiele!B:B,Spiele!D:D))","v":""},{"$f":"IF(B5267=\"\",\"\",LOOKUP(B5267,Spiele!B:B,Spiele!E:E))","v":""},{"$f":"IF(B5267=\"\",\"\",LOOKUP(B5267,Spiele!B:B,Spiele!F:F))","v":""},"","","",null,null,-1,-1,1,0]
[null,null,{"$f":"IF(B5268=\"\",\"\",LOOKUP(B5268,Spiele!B:B,Spiele!C:C))","v":""},{"$f":"IF(B5268=\"\",\"\",LOOKUP(B5268,Spiele!B:B,Spiele!D:D))","v":""},{"$f":"IF(B5268=\"\",\"\",LOOKUP(B5268,Spiele!B:B,Spiele!E:E))","v":""},{"$f":"IF(B5268=\"\",\"\",LOOKUP(B5268,Spiele!B:B,Spiele!F:F))","v":""},"","","",null,null,-1,-1,1,0]
[null,null,{"$f":"IF(B5272=\"\",\"\",LOOKUP(B5272,Spiele!B:B,Spiele!C:C))","v":""},{"$f":"IF(B5272=\"\",\"\",LOOKUP(B5272,Spiele!B:B,Spiele!D:D))","v":""},{"$f":"IF(B5272=\"\",\"\",LOOKUP(B5272,Spiele!B:B,Spiele!E:E))","v":""},{"$f":"IF(B5272=\"\",\"\",LOOKUP(B5272,Spiele!B:B,Spiele!F:F))","v":""},"","","",null,null,-1,-1,1,0]
[null,null,{"$f":"IF(B5277=\"\",\"\",LOOKUP(B5277,Spiele!B:B,Spiele!C:C))","v":""},{"$f":"IF(B5277=\"\",\"\",LOOKUP(B5277,Spiele!B:B,Spiele!D:D))","v":""},{"$f":"IF(B5277=\"\",\"\",LOOKUP(B5277,Spiele!B:B,Spiele!E:E))","v":""},{"$f":"IF(B5277=\"\",\"\",LOOKUP(B5277,Spiele!B:B,Spiele!F:F))","v":""},"","","",null,null,-1,-1,1,0]
[null,null,{"$f":"IF(B5282=\"\",\"\",LOOKUP(B5282,Spiele!B:B,Spiele!C:C))","v":""},{"$f":"IF(B5282=\"\",\"\",LOOKUP(B5282,Spiele!B:B,Spiele!D:D))","v":""},{"$f":"IF(B5282=\"\",\"\",LOOKUP(B5282,Spiele!B:B,Spiele!E:E))","v":""},{"$f":"IF(B5282=\"\",\"\",LOOKUP(B5282,Spiele!B:B,Spiele!F:F))","v":""},"","","",null,null,-1,-1,1,0]
[null,null,{"$f":"IF(B5285=\"\",\"\",LOOKUP(B5285,Spiele!B:B,Spiele!C:C))","v":""},{"$f":"IF(B5285=\"\",\"\",LOOKUP(B5285,Spiele!B:B,Spiele!D:D))","v":""},{"$f":"IF(B5285=\"\",\"\",LOOKUP(B5285,Spiele!B:B,Spiele!E:E))","v":""},{"$f":"IF(B5285=\"\",\"\",LOOKUP(B5285,Spiele!B:B,Spiele!F:F))","v":""},"","","",null,null,-1,-1,1,0]
[null,null,{"$f":"IF(B5287=\"\",\"\",LOOKUP(B5287,Spiele!B:B,Spiele!C:C))","v":""},{"$f":"IF(B5287=\"\",\"\",LOOKUP(B5287,Spiele!B:B,Spiele!D:D))","v":""},{"$f":"IF(B5287=\"\",\"\",LOOKUP(B5287,Spiele!B:B,Spiele!E:E))","v":""},{"$f":"IF(B5287=\"\",\"\",LOOKUP(B5287,Spiele!B:B,Spiele!F:F))","v":""},"","","",null,null,-1,-1,1,0]
[null,null,{"$f":"IF(B5292=\"\",\"\",LOOKUP(B5292,Spiele!B:B,Spiele!C:C))","v":""},{"$f":"IF(B5292=\"\",\"\",LOOKUP(B5292,Spiele!B:B,Spiele!D:D))","v":""},{"$f":"IF(B5292=\"\",\"\",LOOKUP(B5292,Spiele!B:B,Spiele!E:E))","v":""},{"$f":"IF(B5292=\"\",\"\",LOOKUP(B5292,Spiele!B:B,Spiele!F:F))","v":""},"","","",null,null,-1,-1,1,0]
[null,null,{"$f":"IF(B5297=\"\",\"\",LOOKUP(B5297,Spiele!B:B,Spiele!C:C))","v":""},{"$f":"IF(B5297=\"\",\"\",LOOKUP(B5297,Spiele!B:B,Spiele!D:D))","v":""},{"$f":"IF(B5297=\"\",\"\",LOOKUP(B5297,Spiele!B:B,Spiele!E:E))","v":""},{"$f":"IF(B5297=\"\",\"\",LOOKUP(B5297,Spiele!B:B,Spiele!F:F))","v":""},"","","",null,null,-1,-1,1,0]
[null,null,{"$f":"IF(B5298=\"\",\"\",LOOKUP(B5298,Spiele!B:B,Spiele!C:C))","v":""},{"$f":"IF(B5298=\"\",\"\",LOOKUP(B5298,Spiele!B:B,Spiele!D:D))","v":""},{"$f":"IF(B5298=\"\",\"\",LOOKUP(B5298,Spiele!B:B,Spiele!E:E))","v":""},{"$f":"IF(B5298=\"\",\"\",LOOKUP(B5298,Spiele!B:B,Spiele!F:F))","v":""},"","","",null,null,-1,-1,1,0]
[null,null,{"$f":"IF(B5302=\"\",\"\",LOOKUP(B5302,Spiele!B:B,Spiele!C:C))","v":""},{"$f":"IF(B5302=\"\",\"\",LOOKUP(B5302,Spiele!B:B,Spiele!D:D))","v":""},{"$f":"IF(B5302=\"\",\"\",LOOKUP(B5302,Spiele!B:B,Spiele!E:E))","v":""},{"$f":"IF(B5302=\"\",\"\",LOOKUP(B5302,Spiele!B:B,Spiele!F:F))","v":""},"","","",null,null,-1,-1,1,0]
[null,null,{"$f":"IF(B5307=\"\",\"\",LOOKUP(B5307,Spiele!B:B,Spiele!C:C))","v":""},{"$f":"IF(B5307=\"\",\"\",LOOKUP(B5307,Spiele!B:B,Spiele!D:D))","v":""},{"$f":"IF(B5307=\"\",\"\",LOOKUP(B5307,Spiele!B:B,Spiele!E:E))","v":""},{"$f":"IF(B5307=\"\",\"\",LOOKUP(B5307,Spiele!B:B,Spiele!F:F))","v":""},"","","",null,null,-1,-1,1,0]
[null,null,{"$f":"IF(B5312=\"\",\"\",LOOKUP(B5312,Spiele!B:B,Spiele!C:C))","v":""},{"$f":"IF(B5312=\"\",\"\",LOOKUP(B5312,Spiele!B:B,Spiele!D:D))","v":""},{"$f":"IF(B5312=\"\",\"\",LOOKUP(B5312,Spiele!B:B,Spiele!E:E))","v":""},{"$f":"IF(B5312=\"\",\"\",LOOKUP(B5312,Spiele!B:B,Spiele!F:F))","v":""},"","","",null,null,-1,-1,1,0]
[null,null,{"$f":"IF(B5315=\"\",\"\",LOOKUP(B5315,Spiele!B:B,Spiele!C:C))","v":""},{"$f":"IF(B5315=\"\",\"\",LOOKUP(B5315,Spiele!B:B,Spiele!D:D))","v":""},{"$f":"IF(B5315=\"\",\"\",LOOKUP(B5315,Spiele!B:B,Spiele!E:E))","v":""},{"$f":"IF(B5315=\"\",\"\",LOOKUP(B5315,Spiele!B:B,Spiele!F:F))","v":""},"","","",null,null,-1,-1,1,0]
[null,null,{"$f":"IF(B5317=\"\",\"\",LOOKUP(B5317,Spiele!B:B,Spiele!C:C))","v":""},{"$f":"IF(B5317=\"\",\"\",LOOKUP(B5317,Spiele!B:B,Spiele!D:D))","v":""},{"$f":"IF(B5317=\"\",\"\",LOOKUP(B5317,Spiele!B:B,Spiele!E:E))","v":""},{"$f":"IF(B5317=\"\",\"\",LOOKUP(B5317,Spiele!B:B,Spiele!F:F))","v":""},"","","",null,null,-1,-1,1,0]
[null,null,{"$f":"IF(B5322=\"\",\"\",LOOKUP(B5322,Spiele!B:B,Spiele!C:C))","v":""},{"$f":"IF(B5322=\"\",\"\",LOOKUP(B5322,Spiele!B:B,Spiele!D:D))","v":""},{"$f":"IF(B5322=\"\",\"\",LOOKUP(B5322,Spiele!B:B,Spiele!E:E))","v":""},{"$f":"IF(B5322=\"\",\"\",LOOKUP(B5322,Spiele!B:B,Spiele!F:F))","v":""},"","","",null,null,-1,-1,1,0]
[null,null,{"$f":"IF(B5327=\"\",\"\",LOOKUP(B5327,Spiele!B:B,Spiele!C:C))","v":""},{"$f":"IF(B5327=\"\",\"\",LOOKUP(B5327,Spiele!B:B,Spiele!D:D))","v":""},{"$f":"IF(B5327=\"\",\"\",LOOKUP(B5327,Spiele!B:B,Spiele!E:E))","v":""},{"$f":"IF(B5327=\"\",\"\",LOOKUP(B5327,Spiele!B:B,Spiele!F:F))","v":""},"","","",null,null,-1,-1,1,0]
[null,null,{"$f":"IF(B5328=\"\",\"\",LOOKUP(B5328,Spiele!B:B,Spiele!C:C))","v":""},{"$f":"IF(B5328=\"\",\"\",LOOKUP(B5328,Spiele!B:B,Spiele!D:D))","v":""},{"$f":"IF(B5328=\"\",\"\",LOOKUP(B5328,Spiele!B:B,Spiele!E:E))","v":""},{"$f":"IF(B5328=\"\",\"\",LOOKUP(B5328,Spiele!B:B,Spiele!F:F))","v":""},"","","",null,null,-1,-1,1,0]
[null,null,{"$f":"IF(B5332=\"\",\"\",LOOKUP(B5332,Spiele!B:B,Spiele!C:C))","v":""},{"$f":"IF(B5332=\"\",\"\",LOOKUP(B5332,Spiele!B:B,Spiele!D:D))","v":""},{"$f":"IF(B5332=\"\",\"\",LOOKUP(B5332,Spiele!B:B,Spiele!E:E))","v":""},{"$f":"IF(B5332=\"\",\"\",LOOKUP(B5332,Spiele!B:B,Spiele!F:F))","v":""},"","","",null,null,-1,-1,1,0]
[null,null,{"$f":"IF(B5337=\"\",\"\",LOOKUP(B5337,Spiele!B:B,Spiele!C:C))","v":""},{"$f":"IF(B5337=\"\",\"\",LOOKUP(B5337,Spiele!B:B,Spiele!D:D))","v":""},{"$f":"IF(B5337=\"\",\"\",LOOKUP(B5337,Spiele!B:B,Spiele!E:E))","v":""},{"$f":"IF(B5337=\"\",\"\",LOOKUP(B5337,Spiele!B:B,Spiele!F:F))","v":""},"","","",null,null,-1,-1,1,0]
[null,null,{"$f":"IF(B5342=\"\",\"\",LOOKUP(B5342,Spiele!B:B,Spiele!C:C))","v":""},{"$f":"IF(B5342=\"\",\"\",LOOKUP(B5342,Spiele!B:B,Spiele!D:D))","v":""},{"$f":"IF(B5342=\"\",\"\",LOOKUP(B5342,Spiele!B:B,Spiele!E:E))","v":""},{"$f":"IF(B5342=\"\",\"\",LOOKUP(B5342,Spiele!B:B,Spiele!F:F))","v":""},"","","",null,null,-1,-1,1,0]
[null,null,{"$f":"IF(B5345=\"\",\"\",LOOKUP(B5345,Spiele!B:B,Spiele!C:C))","v":""},{"$f":"IF(B5345=\"\",\"\",LOOKUP(B5345,Spiele!B:B,Spiele!D:D))","v":""},{"$f":"IF(B5345=\"\",\"\",LOOKUP(B5345,Spiele!B:B,Spiele!E:E))","v":""},{"$f":"IF(B5345=\"\",\"\",LOOKUP(B5345,Spiele!B:B,Spiele!F:F))","v":""},"","","",null,null,-1,-1,1,0]
[null,null,{"$f":"IF(B5347=\"\",\"\",LOOKUP(B5347,Spiele!B:B,Spiele!C:C))","v":""},{"$f":"IF(B5347=\"\",\"\",LOOKUP(B5347,Spiele!B:B,Spiele!D:D))","v":""},{"$f":"IF(B5347=\"\",\"\",LOOKUP(B5347,Spiele!B:B,Spiele!E:E))","v":""},{"$f":"IF(B5347=\"\",\"\",LOOKUP(B5347,Spiele!B:B,Spiele!F:F))","v":""},"","","",null,null,-1,-1,1,0]
[null,null,{"$f":"IF(B5352=\"\",\"\",LOOKUP(B5352,Spiele!B:B,Spiele!C:C))","v":""},{"$f":"IF(B5352=\"\",\"\",LOOKUP(B5352,Spiele!B:B,Spiele!D:D))","v":""},{"$f":"IF(B5352=\"\",\"\",LOOKUP(B5352,Spiele!B:B,Spiele!E:E))","v":""},{"$f":"IF(B5352=\"\",\"\",LOOKUP(B5352,Spiele!B:B,Spiele!F:F))","v":""},"","","",null,null,-1,-1,1,0]
[null,null,{"$f":"IF(B5357=\"\",\"\",LOOKUP(B5357,Spiele!B:B,Spiele!C:C))","v":""},{"$f":"IF(B5357=\"\",\"\",LOOKUP(B5357,Spiele!B:B,Spiele!D:D))","v":""},{"$f":"IF(B5357=\"\",\"\",LOOKUP(B5357,Spiele!B:B,Spiele!E:E))","v":""},{"$f":"IF(B5357=\"\",\"\",LOOKUP(B5357,Spiele!B:B,Spiele!F:F))","v":""},"","","",null,null,-1,-1,1,0]
[null,null,{"$f":"IF(B5358=\"\",\"\",LOOKUP(B5358,Spiele!B:B,Spiele!C:C))","v":""},{"$f":"IF(B5358=\"\",\"\",LOOKUP(B5358,Spiele!B:B,Spiele!D:D))","v":""},{"$f":"IF(B5358=\"\",\"\",LOOKUP(B5358,Spiele!B:B,Spiele!E:E))","v":""},{"$f":"IF(B5358=\"\",\"\",LOOKUP(B5358,Spiele!B:B,Spiele!F:F))","v":""},"","","",null,null,-1,-1,1,0]
[null,null,{"$f":"IF(B5362=\"\",\"\",LOOKUP(B5362,Spiele!B:B,Spiele!C:C))","v":""},{"$f":"IF(B5362=\"\",\"\",LOOKUP(B5362,Spiele!B:B,Spiele!D:D))","v":""},{"$f":"IF(B5362=\"\",\"\",LOOKUP(B5362,Spiele!B:B,Spiele!E:E))","v":""},{"$f":"IF(B5362=\"\",\"\",LOOKUP(B5362,Spiele!B:B,Spiele!F:F))","v":""},"","","",null,null,-1,-1,1,0]
[null,null,{"$f":"IF(B5367=\"\",\"\",LOOKUP(B5367,Spiele!B:B,Spiele!C:C))","v":""},{"$f":"IF(B5367=\"\",\"\",LOOKUP(B5367,Spiele!B:B,Spiele!D:D))","v":""},{"$f":"IF(B5367=\"\",\"\",LOOKUP(B5367,Spiele!B:B,Spiele!E:E))","v":""},{"$f":"IF(B5367=\"\",\"\",LOOKUP(B5367,Spiele!B:B,Spiele!F:F))","v":""},"","","",null,null,-1,-1,1,0]
[null,null,{"$f":"IF(B5372=\"\",\"\",LOOKUP(B5372,Spiele!B:B,Spiele!C:C))","v":""},{"$f":"IF(B5372=\"\",\"\",LOOKUP(B5372,Spiele!B:B,Spiele!D:D))","v":""},{"$f":"IF(B5372=\"\",\"\",LOOKUP(B5372,Spiele!B:B,Spiele!E:E))","v":""},{"$f":"IF(B5372=\"\",\"\",LOOKUP(B5372,Spiele!B:B,Spiele!F:F))","v":""},"","","",null,null,-1,-1,1,0]
[null,null,{"$f":"IF(B5375=\"\",\"\",LOOKUP(B5375,Spiele!B:B,Spiele!C:C))","v":""},{"$f":"IF(B5375=\"\",\"\",LOOKUP(B5375,Spiele!B:B,Spiele!D:D))","v":""},{"$f":"IF(B5375=\"\",\"\",LOOKUP(B5375,Spiele!B:B,Spiele!E:E))","v":""},{"$f":"IF(B5375=\"\",\"\",LOOKUP(B5375,Spiele!B:B,Spiele!F:F))","v":""},"","","",null,null,-1,-1,1,0]
[null,null,{"$f":"IF(B5377=\"\",\"\",LOOKUP(B5377,Spiele!B:B,Spiele!C:C))","v":""},{"$f":"IF(B5377=\"\",\"\",LOOKUP(B5377,Spiele!B:B,Spiele!D:D))","v":""},{"$f":"IF(B5377=\"\",\"\",LOOKUP(B5377,Spiele!B:B,Spiele!E:E))","v":""},{"$f":"IF(B5377=\"\",\"\",LOOKUP(B5377,Spiele!B:B,Spiele!F:F))","v":""},"","","",null,null,-1,-1,1,0]
[null,null,{"$f":"IF(B5382=\"\",\"\",LOOKUP(B5382,Spiele!B:B,Spiele!C:C))","v":""},{"$f":"IF(B5382=\"\",\"\",LOOKUP(B5382,Spiele!B:B,Spiele!D:D))","v":""},{"$f":"IF(B5382=\"\",\"\",LOOKUP(B5382,Spiele!B:B,Spiele!E:E))","v":""},{"$f":"IF(B5382=\"\",\"\",LOOKUP(B5382,Spiele!B:B,Spiele!F:F))","v":""},"","","",null,null,-1,-1,1,0]
[null,null,{"$f":"IF(B5387=\"\",\"\",LOOKUP(B5387,Spiele!B:B,Spiele!C:C))","v":""},{"$f":"IF(B5387=\"\",\"\",LOOKUP(B5387,Spiele!B:B,Spiele!D:D))","v":""},{"$f":"IF(B5387=\"\",\"\",LOOKUP(B5387,Spiele!B:B,Spiele!E:E))","v":""},{"$f":"IF(B5387=\"\",\"\",LOOKUP(B5387,Spiele!B:B,Spiele!F:F))","v":""},"","","",null,null,-1,-1,1,0]
[null,null,{"$f":"IF(B5388=\"\",\"\",LOOKUP(B5388,Spiele!B:B,Spiele!C:C))","v":""},{"$f":"IF(B5388=\"\",\"\",LOOKUP(B5388,Spiele!B:B,Spiele!D:D))","v":""},{"$f":"IF(B5388=\"\",\"\",LOOKUP(B5388,Spiele!B:B,Spiele!E:E))","v":""},{"$f":"IF(B5388=\"\",\"\",LOOKUP(B5388,Spiele!B:B,Spiele!F:F))","v":""},"","","",null,null,-1,-1,1,0]
[null,null,{"$f":"IF(B5392=\"\",\"\",LOOKUP(B5392,Spiele!B:B,Spiele!C:C))","v":""},{"$f":"IF(B5392=\"\",\"\",LOOKUP(B5392,Spiele!B:B,Spiele!D:D))","v":""},{"$f":"IF(B5392=\"\",\"\",LOOKUP(B5392,Spiele!B:B,Spiele!E:E))","v":""},{"$f":"IF(B5392=\"\",\"\",LOOKUP(B5392,Spiele!B:B,Spiele!F:F))","v":""},"","","",null,null,-1,-1,1,0]
[null,null,{"$f":"IF(B5397=\"\",\"\",LOOKUP(B5397,Spiele!B:B,Spiele!C:C))","v":""},{"$f":"IF(B5397=\"\",\"\",LOOKUP(B5397,Spiele!B:B,Spiele!D:D))","v":""},{"$f":"IF(B5397=\"\",\"\",LOOKUP(B5397,Spiele!B:B,Spiele!E:E))","v":""},{"$f":"IF(B5397=\"\",\"\",LOOKUP(B5397,Spiele!B:B,Spiele!F:F))","v":""},"","","",null,null,-1,-1,1,0]
[null,null,{"$f":"IF(B5402=\"\",\"\",LOOKUP(B5402,Spiele!B:B,Spiele!C:C))","v":""},{"$f":"IF(B5402=\"\",\"\",LOOKUP(B5402,Spiele!B:B,Spiele!D:D))","v":""},{"$f":"IF(B5402=\"\",\"\",LOOKUP(B5402,Spiele!B:B,Spiele!E:E))","v":""},{"$f":"IF(B5402=\"\",\"\",LOOKUP(B5402,Spiele!B:B,Spiele!F:F))","v":""},"","","",null,null,-1,-1,1,0]
[null,null,{"$f":"IF(B5405=\"\",\"\",LOOKUP(B5405,Spiele!B:B,Spiele!C:C))","v":""},{"$f":"IF(B5405=\"\",\"\",LOOKUP(B5405,Spiele!B:B,Spiele!D:D))","v":""},{"$f":"IF(B5405=\"\",\"\",LOOKUP(B5405,Spiele!B:B,Spiele!E:E))","v":""},{"$f":"IF(B5405=\"\",\"\",LOOKUP(B5405,Spiele!B:B,Spiele!F:F))","v":""},"","","",null,null,-1,-1,1,0]
[null,null,{"$f":"IF(B5407=\"\",\"\",LOOKUP(B5407,Spiele!B:B,Spiele!C:C))","v":""},{"$f":"IF(B5407=\"\",\"\",LOOKUP(B5407,Spiele!B:B,Spiele!D:D))","v":""},{"$f":"IF(B5407=\"\",\"\",LOOKUP(B5407,Spiele!B:B,Spiele!E:E))","v":""},{"$f":"IF(B5407=\"\",\"\",LOOKUP(B5407,Spiele!B:B,Spiele!F:F))","v":""},"","","",null,null,-1,-1,1,0]
[null,null,{"$f":"IF(B5412=\"\",\"\",LOOKUP(B5412,Spiele!B:B,Spiele!C:C))","v":""},{"$f":"IF(B5412=\"\",\"\",LOOKUP(B5412,Spiele!B:B,Spiele!D:D))","v":""},{"$f":"IF(B5412=\"\",\"\",LOOKUP(B5412,Spiele!B:B,Spiele!E:E))","v":""},{"$f":"IF(B5412=\"\",\"\",LOOKUP(B5412,Spiele!B:B,Spiele!F:F))","v":""},"","","",null,null,-1,-1,1,0]
[null,null,{"$f":"IF(B5417=\"\",\"\",LOOKUP(B5417,Spiele!B:B,Spiele!C:C))","v":""},{"$f":"IF(B5417=\"\",\"\",LOOKUP(B5417,Spiele!B:B,Spiele!D:D))","v":""},{"$f":"IF(B5417=\"\",\"\",LOOKUP(B5417,Spiele!B:B,Spiele!E:E))","v":""},{"$f":"IF(B5417=\"\",\"\",LOOKUP(B5417,Spiele!B:B,Spiele!F:F))","v":""},"","","",null,null,-1,-1,1,0]
[null,null,{"$f":"IF(B5418=\"\",\"\",LOOKUP(B5418,Spiele!B:B,Spiele!C:C))","v":""},{"$f":"IF(B5418=\"\",\"\",LOOKUP(B5418,Spiele!B:B,Spiele!D:D))","v":""},{"$f":"IF(B5418=\"\",\"\",LOOKUP(B5418,Spiele!B:B,Spiele!E:E))","v":""},{"$f":"IF(B5418=\"\",\"\",LOOKUP(B5418,Spiele!B:B,Spiele!F:F))","v":""},"","","",null,null,-1,-1,1,0]
[null,null,{"$f":"IF(B5422=\"\",\"\",LOOKUP(B5422,Spiele!B:B,Spiele!C:C))","v":""},{"$f":"IF(B5422=\"\",\"\",LOOKUP(B5422,Spiele!B:B,Spiele!D:D))","v":""},{"$f":"IF(B5422=\"\",\"\",LOOKUP(B5422,Spiele!B:B,Spiele!E:E))","v":""},{"$f":"IF(B5422=\"\",\"\",LOOKUP(B5422,Spiele!B:B,Spiele!F:F))","v":""},"","","",null,null,-1,-1,1,0]
[null,null,{"$f":"IF(B5427=\"\",\"\",LOOKUP(B5427,Spiele!B:B,Spiele!C:C))","v":""},{"$f":"IF(B5427=\"\",\"\",LOOKUP(B5427,Spiele!B:B,Spiele!D:D))","v":""},{"$f":"IF(B5427=\"\",\"\",LOOKUP(B5427,Spiele!B:B,Spiele!E:E))","v":""},{"$f":"IF(B5427=\"\",\"\",LOOKUP(B5427,Spiele!B:B,Spiele!F:F))","v":""},"","","",null,null,-1,-1,1,0]
[null,null,{"$f":"IF(B5432=\"\",\"\",LOOKUP(B5432,Spiele!B:B,Spiele!C:C))","v":""},{"$f":"IF(B5432=\"\",\"\",LOOKUP(B5432,Spiele!B:B,Spiele!D:D))","v":""},{"$f":"IF(B5432=\"\",\"\",LOOKUP(B5432,Spiele!B:B,Spiele!E:E))","v":""},{"$f":"IF(B5432=\"\",\"\",LOOKUP(B5432,Spiele!B:B,Spiele!F:F))","v":""},"","","",null,null,-1,-1,1,0]
[null,null,{"$f":"IF(B5435=\"\",\"\",LOOKUP(B5435,Spiele!B:B,Spiele!C:C))","v":""},{"$f":"IF(B5435=\"\",\"\",LOOKUP(B5435,Spiele!B:B,Spiele!D:D))","v":""},{"$f":"IF(B5435=\"\",\"\",LOOKUP(B5435,Spiele!B:B,Spiele!E:E))","v":""},{"$f":"IF(B5435=\"\",\"\",LOOKUP(B5435,Spiele!B:B,Spiele!F:F))","v":""},"","","",null,null,-1,-1,1,0]
[null,null,{"$f":"IF(B5437=\"\",\"\",LOOKUP(B5437,Spiele!B:B,Spiele!C:C))","v":""},{"$f":"IF(B5437=\"\",\"\",LOOKUP(B5437,Spiele!B:B,Spiele!D:D))","v":""},{"$f":"IF(B5437=\"\",\"\",LOOKUP(B5437,Spiele!B:B,Spiele!E:E))","v":""},{"$f":"IF(B5437=\"\",\"\",LOOKUP(B5437,Spiele!B:B,Spiele!F:F))","v":""},"","","",null,null,-1,-1,1,0]
[null,null,{"$f":"IF(B5442=\"\",\"\",LOOKUP(B5442,Spiele!B:B,Spiele!C:C))","v":""},{"$f":"IF(B5442=\"\",\"\",LOOKUP(B5442,Spiele!B:B,Spiele!D:D))","v":""},{"$f":"IF(B5442=\"\",\"\",LOOKUP(B5442,Spiele!B:B,Spiele!E:E))","v":""},{"$f":"IF(B5442=\"\",\"\",LOOKUP(B5442,Spiele!B:B,Spiele!F:F))","v":""},"","","",null,null,-1,-1,1,0]
[null,null,{"$f":"IF(B5447=\"\",\"\",LOOKUP(B5447,Spiele!B:B,Spiele!C:C))","v":""},{"$f":"IF(B5447=\"\",\"\",LOOKUP(B5447,Spiele!B:B,Spiele!D:D))","v":""},{"$f":"IF(B5447=\"\",\"\",LOOKUP(B5447,Spiele!B:B,Spiele!E:E))","v":""},{"$f":"IF(B5447=\"\",\"\",LOOKUP(B5447,Spiele!B:B,Spiele!F:F))","v":""},"","","",null,null,-1,-1,1,0]
[null,null,{"$f":"IF(B5449=\"\",\"\",LOOKUP(B5449,Spiele!B:B,Spiele!C:C))","v":""},{"$f":"IF(B5449=\"\",\"\",LOOKUP(B5449,Spiele!B:B,Spiele!D:D))","v":""},{"$f":"IF(B5449=\"\",\"\",LOOKUP(B5449,Spiele!B:B,Spiele!E:E))","v":""},{"$f":"IF(B5449=\"\",\"\",LOOKUP(B5449,Spiele!B:B,Spiele!F:F))","v":""},"","","",null,null,-1,-1,1,0]
[null,null,{"$f":"IF(B5452=\"\",\"\",LOOKUP(B5452,Spiele!B:B,Spiele!C:C))","v":""},{"$f":"IF(B5452=\"\",\"\",LOOKUP(B5452,Spiele!B:B,Spiele!D:D))","v":""},{"$f":"IF(B5452=\"\",\"\",LOOKUP(B5452,Spiele!B:B,Spiele!E:E))","v":""},{"$f":"IF(B5452=\"\",\"\",LOOKUP(B5452,Spiele!B:B,Spiele!F:F))","v":""},"","","",null,null,-1,-1,1,0]
[null,null,{"$f":"IF(B5457=\"\",\"\",LOOKUP(B5457,Spiele!B:B,Spiele!C:C))","v":""},{"$f":"IF(B5457=\"\",\"\",LOOKUP(B5457,Spiele!B:B,Spiele!D:D))","v":""},{"$f":"IF(B5457=\"\",\"\",LOOKUP(B5457,Spiele!B:B,Spiele!E:E))","v":""},{"$f":"IF(B5457=\"\",\"\",LOOKUP(B5457,Spiele!B:B,Spiele!F:F))","v":""},"","","",null,null,-1,-1,1,0]
[null,null,{"$f":"IF(B5462=\"\",\"\",LOOKUP(B5462,Spiele!B:B,Spiele!C:C))","v":""},{"$f":"IF(B5462=\"\",\"\",LOOKUP(B5462,Spiele!B:B,Spiele!D:D))","v":""},{"$f":"IF(B5462=\"\",\"\",LOOKUP(B5462,Spiele!B:B,Spiele!E:E))","v":""},{"$f":"IF(B5462=\"\",\"\",LOOKUP(B5462,Spiele!B:B,Spiele!F:F))","v":""},"","","",null,null,-1,-1,1,0]
[null,null,{"$f":"IF(B5465=\"\",\"\",LOOKUP(B5465,Spiele!B:B,Spiele!C:C))","v":""},{"$f":"IF(B5465=\"\",\"\",LOOKUP(B5465,Spiele!B:B,Spiele!D:D))","v":""},{"$f":"IF(B5465=\"\",\"\",LOOKUP(B5465,Spiele!B:B,Spiele!E:E))","v":""},{"$f":"IF(B5465=\"\",\"\",LOOKUP(B5465,Spiele!B:B,Spiele!F:F))","v":""},"","","",null,null,-1,-1,1,0]
[null,null,{"$f":"IF(B5467=\"\",\"\",LOOKUP(B5467,Spiele!B:B,Spiele!C:C))","v":""},{"$f":"IF(B5467=\"\",\"\",LOOKUP(B5467,Spiele!B:B,Spiele!D:D))","v":""},{"$f":"IF(B5467=\"\",\"\",LOOKUP(B5467,Spiele!B:B,Spiele!E:E))","v":""},{"$f":"IF(B5467=\"\",\"\",LOOKUP(B5467,Spiele!B:B,Spiele!F:F))","v":""},"","","",null,null,-1,-1,1,0]
[null,null,{"$f":"IF(B5472=\"\",\"\",LOOKUP(B5472,Spiele!B:B,Spiele!C:C))","v":""},{"$f":"IF(B5472=\"\",\"\",LOOKUP(B5472,Spiele!B:B,Spiele!D:D))","v":""},{"$f":"IF(B5472=\"\",\"\",LOOKUP(B5472,Spiele!B:B,Spiele!E:E))","v":""},{"$f":"IF(B5472=\"\",\"\",LOOKUP(B5472,Spiele!B:B,Spiele!F:F))","v":""},{"$f":"IF(E5472=\"\",\"\",IF(E5472>F5472,1,0))","v":""},{"$f":"IF(F5472=\"\",\"\",IF(E5472<F5472,1,0))","v":""},{"$f":"IF(E5472=\"\",\"\",IF(E5472=F5472,1,0))","v":""},null,null,{"$f":"IF(E5472=\"\",-1,IF(J5472>K5472,1,-1))","v":-1},{"$f":"IF(F5472=\"\",-1,IF(J5472<K5472,1,-1))","v":-1},{"$f":"IF(E5472=\"-\",-1,IF(J5472=K5472,1,-1))","v":1},{"$f":"IF(E5472=\"\",0,IF(E5472=J5472,1,0)+IF(F5472=K5472,1,0)+IF(G5472=L5472,1,0)+IF(H5472=M5472,1,0)+IF(I5472=N5472,1,0))","v":0}]
[null,null,{"$f":"IF(B5477=\"\",\"\",LOOKUP(B5477,Spiele!B:B,Spiele!C:C))","v":""},{"$f":"IF(B5477=\"\",\"\",LOOKUP(B5477,Spiele!B:B,Spiele!D:D))","v":""},{"$f":"IF(B5477=\"\",\"\",LOOKUP(B5477,Spiele!B:B,Spiele!E:E))","v":""},{"$f":"IF(B5477=\"\",\"\",LOOKUP(B5477,Spiele!B:B,Spiele!F:F))","v":""},"","","",null,null,-1,-1,1,0]
[null,null,{"$f":"IF(B5479=\"\",\"\",LOOKUP(B5479,Spiele!B:B,Spiele!C:C))","v":""},{"$f":"IF(B5479=\"\",\"\",LOOKUP(B5479,Spiele!B:B,Spiele!D:D))","v":""},{"$f":"IF(B5479=\"\",\"\",LOOKUP(B5479,Spiele!B:B,Spiele!E:E))","v":""},{"$f":"IF(B5479=\"\",\"\",LOOKUP(B5479,Spiele!B:B,Spiele!F:F))","v":""},"","","",null,null,-1,-1,1,0]
[null,null,{"$f":"IF(B5482=\"\",\"\",LOOKUP(B5482,Spiele!B:B,Spiele!C:C))","v":""},{"$f":"IF(B5482=\"\",\"\",LOOKUP(B5482,Spiele!B:B,Spiele!D:D))","v":""},{"$f":"IF(B5482=\"\",\"\",LOOKUP(B5482,Spiele!B:B,Spiele!E:E))","v":""},{"$f":"IF(B5482=\"\",\"\",LOOKUP(B5482,Spiele!B:B,Spiele!F:F))","v":""},"","","",null,null,-1,-1,1,0]
[null,null,{"$f":"IF(B5487=\"\",\"\",LOOKUP(B5487,Spiele!B:B,Spiele!C:C))","v":""},{"$f":"IF(B5487=\"\",\"\",LOOKUP(B5487,Spiele!B:B,Spiele!D:D))","v":""},{"$f":"IF(B5487=\"\",\"\",LOOKUP(B5487,Spiele!B:B,Spiele!E:E))","v":""},{"$f":"IF(B5487=\"\",\"\",LOOKUP(B5487,Spiele!B:B,Spiele!F:F))","v":""},"","","",null,null,-1,-1,1,0]
[null,null,{"$f":"IF(B5492=\"\",\"\",LOOKUP(B5492,Spiele!B:B,Spiele!C:C))","v":""},{"$f":"IF(B5492=\"\",\"\",LOOKUP(B5492,Spiele!B:B,Spiele!D:D))","v":""},{"$f":"IF(B5492=\"\",\"\",LOOKUP(B5492,Spiele!B:B,Spiele!E:E))","v":""},{"$f":"IF(B5492=\"\",\"\",LOOKUP(B5492,Spiele!B:B,Spiele!F:F))","v":""},"","","",null,null,-1,-1,1,0]
[null,null,{"$f":"IF(B5495=\"\",\"\",LOOKUP(B5495,Spiele!B:B,Spiele!C:C))","v":""},{"$f":"IF(B5495=\"\",\"\",LOOKUP(B5495,Spiele!B:B,Spiele!D:D))","v":""},{"$f":"IF(B5495=\"\",\"\",LOOKUP(B5495,Spiele!B:B,Spiele!E:E))","v":""},{"$f":"IF(B5495=\"\",\"\",LOOKUP(B5495,Spiele!B:B,Spiele!F:F))","v":""},"","","",null,null,-1,-1,1,0]
[null,null,{"$f":"IF(B5497=\"\",\"\",LOOKUP(B5497,Spiele!B:B,Spiele!C:C))","v":""},{"$f":"IF(B5497=\"\",\"\",LOOKUP(B5497,Spiele!B:B,Spiele!D:D))","v":""},{"$f":"IF(B5497=\"\",\"\",LOOKUP(B5497,Spiele!B:B,Spiele!E:E))","v":""},{"$f":"IF(B5497=\"\",\"\",LOOKUP(B5497,Spiele!B:B,Spiele!F:F))","v":""},"","","",null,null,-1,-1,1,0]
[null,null,{"$f":"IF(B5502=\"\",\"\",LOOKUP(B5502,Spiele!B:B,Spiele!C:C))","v":""},{"$f":"IF(B5502=\"\",\"\",LOOKUP(B5502,Spiele!B:B,Spiele!D:D))","v":""},{"$f":"IF(B5502=\"\",\"\",LOOKUP(B5502,Spiele!B:B,Spiele!E:E))","v":""},{"$f":"IF(B5502=\"\",\"\",LOOKUP(B5502,Spiele!B:B,Spiele!F:F))","v":""},"","","",null,null,-1,-1,1,0]
[null,null,{"$f":"IF(B5507=\"\",\"\",LOOKUP(B5507,Spiele!B:B,Spiele!C:C))","v":""},{"$f":"IF(B5507=\"\",\"\",LOOKUP(B5507,Spiele!B:B,Spiele!D:D))","v":""},{"$f":"IF(B5507=\"\",\"\",LOOKUP(B5507,Spiele!B:B,Spiele!E:E))","v":""},{"$f":"IF(B5507=\"\",\"\",LOOKUP(B5507,Spiele!B:B,Spiele!F:F))","v":""},"","","",null,null,-1,-1,1,0]
[null,null,{"$f":"IF(B5509=\"\",\"\",LOOKUP(B5509,Spiele!B:B,Spiele!C:C))","v":""},{"$f":"IF(B5509=\"\",\"\",LOOKUP(B5509,Spiele!B:B,Spiele!D:D))","v":""},{"$f":"IF(B5509=\"\",\"\",LOOKUP(B5509,Spiele!B:B,Spiele!E:E))","v":""},{"$f":"IF(B5509=\"\",\"\",LOOKUP(B5509,Spiele!B:B,Spiele!F:F))","v":""},"","","",null,null,-1,-1,1,0]
[null,null,{"$f":"IF(B5512=\"\",\"\",LOOKUP(B5512,Spiele!B:B,Spiele!C:C))","v":""},{"$f":"IF(B5512=\"\",\"\",LOOKUP(B5512,Spiele!B:B,Spiele!D:D))","v":""},{"$f":"IF(B5512=\"\",\"\",LOOKUP(B5512,Spiele!B:B,Spiele!E:E))","v":""},{"$f":"IF(B5512=\"\",\"\",LOOKUP(B5512,Spiele!B:B,Spiele!F:F))","v":""},"","","",null,null,-1,-1,1,0]
[null,null,{"$f":"IF(B5517=\"\",\"\",LOOKUP(B5517,Spiele!B:B,Spiele!C:C))","v":""},{"$f":"IF(B5517=\"\",\"\",LOOKUP(B5517,Spiele!B:B,Spiele!D:D))","v":""},{"$f":"IF(B5517=\"\",\"\",LOOKUP(B5517,Spiele!B:B,Spiele!E:E))","v":""},{"$f":"IF(B5517=\"\",\"\",LOOKUP(B5517,Spiele!B:B,Spiele!F:F))","v":""},"","","",null,null,-1,-1,1,0]
[null,null,{"$f":"IF(B5522=\"\",\"\",LOOKUP(B5522,Spiele!B:B,Spiele!C:C))","v":""},{"$f":"IF(B5522=\"\",\"\",LOOKUP(B5522,Spiele!B:B,Spiele!D:D))","v":""},{"$f":"IF(B5522=\"\",\"\",LOOKUP(B5522,Spiele!B:B,Spiele!E:E))","v":""},{"$f":"IF(B5522=\"\",\"\",LOOKUP(B5522,Spiele!B:B,Spiele!F:F))","v":""},"","","",null,null,-1,-1,1,0]
[null,null,{"$f":"IF(B5525=\"\",\"\",LOOKUP(B5525,Spiele!B:B,Spiele!C:C))","v":""},{"$f":"IF(B5525=\"\",\"\",LOOKUP(B5525,Spiele!B:B,Spiele!D:D))","v":""},{"$f":"IF(B5525=\"\",\"\",LOOKUP(B5525,Spiele!B:B,Spiele!E:E))","v":""},{"$f":"IF(B5525=\"\",\"\",LOOKUP(B5525,Spiele!B:B,Spiele!F:F))","v":""},"","","",null,null,-1,-1,1,0]
[null,null,{"$f":"IF(B5527=\"\",\"\",LOOKUP(B5527,Spiele!B:B,Spiele!C:C))","v":""},{"$f":"IF(B5527=\"\",\"\",LOOKUP(B5527,Spiele!B:B,Spiele!D:D))","v":""},{"$f":"IF(B5527=\"\",\"\",LOOKUP(B5527,Spiele!B:B,Spiele!E:E))","v":""},{"$f":"IF(B5527=\"\",\"\",LOOKUP(B5527,Spiele!B:B,Spiele!F:F))","v":""},"","","",null,null,-1,-1,1,0]
[null,null,{"$f":"IF(B5532=\"\",\"\",LOOKUP(B5532,Spiele!B:B,Spiele!C:C))","v":""},{"$f":"IF(B5532=\"\",\"\",LOOKUP(B5532,Spiele!B:B,Spiele!D:D))","v":""},{"$f":"IF(B5532=\"\",\"\",LOOKUP(B5532,Spiele!B:B,Spiele!E:E))","v":""},{"$f":"IF(B5532=\"\",\"\",LOOKUP(B5532,Spiele!B:B,Spiele!F:F))","v":""},"","","",null,null,-1,-1,1,0]
[null,null,{"$f":"IF(B5537=\"\",\"\",LOOKUP(B5537,Spiele!B:B,Spiele!C:C))","v":""},{"$f":"IF(B5537=\"\",\"\",LOOKUP(B5537,Spiele!B:B,Spiele!D:D))","v":""},{"$f":"IF(B5537=\"\",\"\",LOOKUP(B5537,Spiele!B:B,Spiele!E:E))","v":""},{"$f":"IF(B5537=\"\",\"\",LOOKUP(B5537,Spiele!B:B,Spiele!F:F))","v":""},"","","",null,null,-1,-1,1,0]
[null,null,{"$f":"IF(B5539=\"\",\"\",LOOKUP(B5539,Spiele!B:B,Spiele!C:C))","v":""},{"$f":"IF(B5539=\"\",\"\",LOOKUP(B5539,Spiele!B:B,Spiele!D:D))","v":""},{"$f":"IF(B5539=\"\",\"\",LOOKUP(B5539,Spiele!B:B,Spiele!E:E))","v":""},{"$f":"IF(B5539=\"\",\"\",LOOKUP(B5539,Spiele!B:B,Spiele!F:F))","v":""},"","","",null,null,-1,-1,1,0]
[null,null,{"$f":"IF(B5542=\"\",\"\",LOOKUP(B5542,Spiele!B:B,Spiele!C:C))","v":""},{"$f":"IF(B5542=\"\",\"\",LOOKUP(B5542,Spiele!B:B,Spiele!D:D))","v":""},{"$f":"IF(B5542=\"\",\"\",LOOKUP(B5542,Spiele!B:B,Spiele!E:E))","v":""},{"$f":"IF(B5542=\"\",\"\",LOOKUP(B5542,Spiele!B:B,Spiele!F:F))","v":""},"","","",null,null,-1,-1,1,0]
[null,null,{"$f":"IF(B5547=\"\",\"\",LOOKUP(B5547,Spiele!B:B,Spiele!C:C))","v":""},{"$f":"IF(B5547=\"\",\"\",LOOKUP(B5547,Spiele!B:B,Spiele!D:D))","v":""},{"$f":"IF(B5547=\"\",\"\",LOOKUP(B5547,Spiele!B:B,Spiele!E:E))","v":""},{"$f":"IF(B5547=\"\",\"\",LOOKUP(B5547,Spiele!B:B,Spiele!F:F))","v":""},"","","",null,null,-1,-1,1,0]
[null,null,{"$f":"IF(B5552=\"\",\"\",LOOKUP(B5552,Spiele!B:B,Spiele!C:C))","v":""},{"$f":"IF(B5552=\"\",\"\",LOOKUP(B5552,Spiele!B:B,Spiele!D:D))","v":""},{"$f":"IF(B5552=\"\",\"\",LOOKUP(B5552,Spiele!B:B,Spiele!E:E))","v":""},{"$f":"IF(B5552=\"\",\"\",LOOKUP(B5552,Spiele!B:B,Spiele!F:F))","v":""},"","","",null,null,-1,-1,1,0]
[null,null,{"$f":"IF(B5555=\"\",\"\",LOOKUP(B5555,Spiele!B:B,Spiele!C:C))","v":""},{"$f":"IF(B5555=\"\",\"\",LOOKUP(B5555,Spiele!B:B,Spiele!D:D))","v":""},{"$f":"IF(B5555=\"\",\"\",LOOKUP(B5555,Spiele!B:B,Spiele!E:E))","v":""},{"$f":"IF(B5555=\"\",\"\",LOOKUP(B5555,Spiele!B:B,Spiele!F:F))","v":""},"","","",null,null,-1,-1,1,0]
[null,null,{"$f":"IF(B5557=\"\",\"\",LOOKUP(B5557,Spiele!B:B,Spiele!C:C))","v":""},{"$f":"IF(B5557=\"\",\"\",LOOKUP(B5557,Spiele!B:B,Spiele!D:D))","v":""},{"$f":"IF(B5557=\"\",\"\",LOOKUP(B5557,Spiele!B:B,Spiele!E:E))","v":""},{"$f":"IF(B5557=\"\",\"\",LOOKUP(B5557,Spiele!B:B,Spiele!F:F))","v":""},"","","",null,null,-1,-1,1,0]
[null,null,{"$f":"IF(B5562=\"\",\"\",LOOKUP(B5562,Spiele!B:B,Spiele!C:C))","v":""},{"$f":"IF(B5562=\"\",\"\",LOOKUP(B5562,Spiele!B:B,Spiele!D:D))","v":""},{"$f":"IF(B5562=\"\",\"\",LOOKUP(B5562,Spiele!B:B,Spiele!E:E))","v":""},{"$f":"IF(B5562=\"\",\"\",LOOKUP(B5562,Spiele!B:B,Spiele!F:F))","v":""},"","","",null,null,-1,-1,1,0]
[null,null,{"$f":"IF(B5567=\"\",\"\",LOOKUP(B5567,Spiele!B:B,Spiele!C:C))","v":""},{"$f":"IF(B5567=\"\",\"\",LOOKUP(B5567,Spiele!B:B,Spiele!D:D))","v":""},{"$f":"IF(B5567=\"\",\"\",LOOKUP(B5567,Spiele!B:B,Spiele!E:E))","v":""},{"$f":"IF(B5567=\"\",\"\",LOOKUP(B5567,Spiele!B:B,Spiele!F:F))","v":""},"","","",null,null,-1,-1,1,0]
[null,null,{"$f":"IF(B5569=\"\",\"\",LOOKUP(B5569,Spiele!B:B,Spiele!C:C))","v":""},{"$f":"IF(B5569=\"\",\"\",LOOKUP(B5569,Spiele!B:B,Spiele!D:D))","v":""},{"$f":"IF(B5569=\"\",\"\",LOOKUP(B5569,Spiele!B:B,Spiele!E:E))","v":""},{"$f":"IF(B5569=\"\",\"\",LOOKUP(B5569,Spiele!B:B,Spiele!F:F))","v":""},"","","",null,null,-1,-1,1,0]
[null,null,{"$f":"IF(B5572=\"\",\"\",LOOKUP(B5572,Spiele!B:B,Spiele!C:C))","v":""},{"$f":"IF(B5572=\"\",\"\",LOOKUP(B5572,Spiele!B:B,Spiele!D:D))","v":""},{"$f":"IF(B5572=\"\",\"\",LOOKUP(B5572,Spiele!B:B,Spiele!E:E))","v":""},{"$f":"IF(B5572=\"\",\"\",LOOKUP(B5572,Spiele!B:B,Spiele!F:F))","v":""},"","","",null,null,-1,-1,1,0]
[null,null,{"$f":"IF(B5577=\"\",\"\",LOOKUP(B5577,Spiele!B:B,Spiele!C:C))","v":""},{"$f":"IF(B5577=\"\",\"\",LOOKUP(B5577,Spiele!B:B,Spiele!D:D))","v":""},{"$f":"IF(B5577=\"\",\"\",LOOKUP(B5577,Spiele!B:B,Spiele!E:E))","v":""},{"$f":"IF(B5577=\"\",\"\",LOOKUP(B5577,Spiele!B:B,Spiele!F:F))","v":""},"","","",null,null,-1,-1,1,0]
[null,null,{"$f":"IF(B5582=\"\",\"\",LOOKUP(B5582,Spiele!B:B,Spiele!C:C))","v":""},{"$f":"IF(B5582=\"\",\"\",LOOKUP(B5582,Spiele!B:B,Spiele!D:D))","v":""},{"$f":"IF(B5582=\"\",\"\",LOOKUP(B5582,Spiele!B:B,Spiele!E:E))","v":""},{"$f":"IF(B5582=\"\",\"\",LOOKUP(B5582,Spiele!B:B,Spiele!F:F))","v":""},"","","",null,null,-1,-1,1,0]
[null,null,{"$f":"IF(B5585=\"\",\"\",LOOKUP(B5585,Spiele!B:B,Spiele!C:C))","v":""},{"$f":"IF(B5585=\"\",\"\",LOOKUP(B5585,Spiele!B:B,Spiele!D:D))","v":""},{"$f":"IF(B5585=\"\",\"\",LOOKUP(B5585,Spiele!B:B,Spiele!E:E))","v":""},{"$f":"IF(B5585=\"\",\"\",LOOKUP(B5585,Spiele!B:B,Spiele!F:F))","v":""},"","","",null,null,-1,-1,1,0]
[null,null,{"$f":"IF(B5587=\"\",\"\",LOOKUP(B5587,Spiele!B:B,Spiele!C:C))","v":""},{"$f":"IF(B5587=\"\",\"\",LOOKUP(B5587,Spiele!B:B,Spiele!D:D))","v":""},{"$f":"IF(B5587=\"\",\"\",LOOKUP(B5587,Spiele!B:B,Spiele!E:E))","v":""},{"$f":"IF(B5587=\"\",\"\",LOOKUP(B5587,Spiele!B:B,Spiele!F:F))","v":""},"","","",null,null,-1,-1,1,0]
[null,null,{"$f":"IF(B5592=\"\",\"\",LOOKUP(B5592,Spiele!B:B,Spiele!C:C))","v":""},{"$f":"IF(B5592=\"\",\"\",LOOKUP(B5592,Spiele!B:B,Spiele!D:D))","v":""},{"$f":"IF(B5592=\"\",\"\",LOOKUP(B5592,Spiele!B:B,Spiele!E:E))","v":""},{"$f":"IF(B5592=\"\",\"\",LOOKUP(B5592,Spiele!B:B,Spiele!F:F))","v":""},"","","",null,null,-1,-1,1,0]
[null,null,{"$f":"IF(B5597=\"\",\"\",LOOKUP(B5597,Spiele!B:B,Spiele!C:C))","v":""},{"$f":"IF(B5597=\"\",\"\",LOOKUP(B5597,Spiele!B:B,Spiele!D:D))","v":""},{"$f":"IF(B5597=\"\",\"\",LOOKUP(B5597,Spiele!B:B,Spiele!E:E))","v":""},{"$f":"IF(B5597=\"\",\"\",LOOKUP(B5597,Spiele!B:B,Spiele!F:F))","v":""},"","","",null,null,-1,-1,1,0]
[null,null,{"$f":"IF(B5599=\"\",\"\",LOOKUP(B5599,Spiele!B:B,Spiele!C:C))","v":""},{"$f":"IF(B5599=\"\",\"\",LOOKUP(B5599,Spiele!B:B,Spiele!D:D))","v":""},{"$f":"IF(B5599=\"\",\"\",LOOKUP(B5599,Spiele!B:B,Spiele!E:E))","v":""},{"$f":"IF(B5599=\"\",\"\",LOOKUP(B5599,Spiele!B:B,Spiele!F:F))","v":""},"","","",null,null,-1,-1,1,0]
[null,null,{"$f":"IF(B5602=\"\",\"\",LOOKUP(B5602,Spiele!B:B,Spiele!C:C))","v":""},{"$f":"IF(B5602=\"\",\"\",LOOKUP(B5602,Spiele!B:B,Spiele!D:D))","v":""},{"$f":"IF(B5602=\"\",\"\",LOOKUP(B5602,Spiele!B:B,Spiele!E:E))","v":""},{"$f":"IF(B5602=\"\",\"\",LOOKUP(B5602,Spiele!B:B,Spiele!F:F))","v":""},"","","",null,null,-1,-1,1,0]
[null,null,{"$f":"IF(B5607=\"\",\"\",LOOKUP(B5607,Spiele!B:B,Spiele!C:C))","v":""},{"$f":"IF(B5607=\"\",\"\",LOOKUP(B5607,Spiele!B:B,Spiele!D:D))","v":""},{"$f":"IF(B5607=\"\",\"\",LOOKUP(B5607,Spiele!B:B,Spiele!E:E))","v":""},{"$f":"IF(B5607=\"\",\"\",LOOKUP(B5607,Spiele!B:B,Spiele!F:F))","v":""},"","","",null,null,-1,-1,1,0]
[null,null,{"$f":"IF(B5612=\"\",\"\",LOOKUP(B5612,Spiele!B:B,Spiele!C:C))","v":""},{"$f":"IF(B5612=\"\",\"\",LOOKUP(B5612,Spiele!B:B,Spiele!D:D))","v":""},{"$f":"IF(B5612=\"\",\"\",LOOKUP(B5612,Spiele!B:B,Spiele!E:E))","v":""},{"$f":"IF(B5612=\"\",\"\",LOOKUP(B5612,Spiele!B:B,Spiele!F:F))","v":""},"","","",null,null,-1,-1,1,0]
[null,null,{"$f":"IF(B5615=\"\",\"\",LOOKUP(B5615,Spiele!B:B,Spiele!C:C))","v":""},{"$f":"IF(B5615=\"\",\"\",LOOKUP(B5615,Spiele!B:B,Spiele!D:D))","v":""},{"$f":"IF(B5615=\"\",\"\",LOOKUP(B5615,Spiele!B:B,Spiele!E:E))","v":""},{"$f":"IF(B5615=\"\",\"\",LOOKUP(B5615,Spiele!B:B,Spiele!F:F))","v":""},"","","",null,null,-1,-1,1,0]
[null,null,{"$f":"IF(B5617=\"\",\"\",LOOKUP(B5617,Spiele!B:B,Spiele!C:C))","v":""},{"$f":"IF(B5617=\"\",\"\",LOOKUP(B5617,Spiele!B:B,Spiele!D:D))","v":""},{"$f":"IF(B5617=\"\",\"\",LOOKUP(B5617,Spiele!B:B,Spiele!E:E))","v":""},{"$f":"IF(B5617=\"\",\"\",LOOKUP(B5617,Spiele!B:B,Spiele!F:F))","v":""},"","","",null,null,-1,-1,1,0]
[null,null,{"$f":"IF(B5622=\"\",\"\",LOOKUP(B5622,Spiele!B:B,Spiele!C:C))","v":""},{"$f":"IF(B5622=\"\",\"\",LOOKUP(B5622,Spiele!B:B,Spiele!D:D))","v":""},{"$f":"IF(B5622=\"\",\"\",LOOKUP(B5622,Spiele!B:B,Spiele!E:E))","v":""},{"$f":"IF(B5622=\"\",\"\",LOOKUP(B5622,Spiele!B:B,Spiele!F:F))","v":""},"","","",null,null,-1,-1,1,0]
[null,null,{"$f":"IF(B5627=\"\",\"\",LOOKUP(B5627,Spiele!B:B,Spiele!C:C))","v":""},{"$f":"IF(B5627=\"\",\"\",LOOKUP(B5627,Spiele!B:B,Spiele!D:D))","v":""},{"$f":"IF(B5627=\"\",\"\",LOOKUP(B5627,Spiele!B:B,Spiele!E:E))","v":""},{"$f":"IF(B5627=\"\",\"\",LOOKUP(B5627,Spiele!B:B,Spiele!F:F))","v":""},"","","",null,null,-1,-1,1,0]
[null,null,{"$f":"IF(B5629=\"\",\"\",LOOKUP(B5629,Spiele!B:B,Spiele!C:C))","v":""},{"$f":"IF(B5629=\"\",\"\",LOOKUP(B5629,Spiele!B:B,Spiele!D:D))","v":""},{"$f":"IF(B5629=\"\",\"\",LOOKUP(B5629,Spiele!B:B,Spiele!E:E))","v":""},{"$f":"IF(B5629=\"\",\"\",LOOKUP(B5629,Spiele!B:B,Spiele!F:F))","v":""},"","","",null,null,-1,-1,1,0]
[null,null,{"$f":"IF(B5632=\"\",\"\",LOOKUP(B5632,Spiele!B:B,Spiele!C:C))","v":""},{"$f":"IF(B5632=\"\",\"\",LOOKUP(B5632,Spiele!B:B,Spiele!D:D))","v":""},{"$f":"IF(B5632=\"\",\"\",LOOKUP(B5632,Spiele!B:B,Spiele!E:E))","v":""},{"$f":"IF(B5632=\"\",\"\",LOOKUP(B5632,Spiele!B:B,Spiele!F:F))","v":""},"","","",null,null,-1,-1,1,0]
[null,null,{"$f":"IF(B5637=\"\",\"\",LOOKUP(B5637,Spiele!B:B,Spiele!C:C))","v":""},{"$f":"IF(B5637=\"\",\"\",LOOKUP(B5637,Spiele!B:B,Spiele!D:D))","v":""},{"$f":"IF(B5637=\"\",\"\",LOOKUP(B5637,Spiele!B:B,Spiele!E:E))","v":""},{"$f":"IF(B5637=\"\",\"\",LOOKUP(B5637,Spiele!B:B,Spiele!F:F))","v":""},"","","",null,null,-1,-1,1,0]
[null,null,{"$f":"IF(B5642=\"\",\"\",LOOKUP(B5642,Spiele!B:B,Spiele!C:C))","v":""},{"$f":"IF(B5642=\"\",\"\",LOOKUP(B5642,Spiele!B:B,Spiele!D:D))","v":""},{"$f":"IF(B5642=\"\",\"\",LOOKUP(B5642,Spiele!B:B,Spiele!E:E))","v":""},{"$f":"IF(B5642=\"\",\"\",LOOKUP(B5642,Spiele!B:B,Spiele!F:F))","v":""},"","","",null,null,-1,-1,1,0]
[null,null,{"$f":"IF(B5645=\"\",\"\",LOOKUP(B5645,Spiele!B:B,Spiele!C:C))","v":""},{"$f":"IF(B5645=\"\",\"\",LOOKUP(B5645,Spiele!B:B,Spiele!D:D))","v":""},{"$f":"IF(B5645=\"\",\"\",LOOKUP(B5645,Spiele!B:B,Spiele!E:E))","v":""},{"$f":"IF(B5645=\"\",\"\",LOOKUP(B5645,Spiele!B:B,Spiele!F:F))","v":""},"","","",null,null,-1,-1,1,0]
[null,null,{"$f":"IF(B5647=\"\",\"\",LOOKUP(B5647,Spiele!B:B,Spiele!C:C))","v":""},{"$f":"IF(B5647=\"\",\"\",LOOKUP(B5647,Spiele!B:B,Spiele!D:D))","v":""},{"$f":"IF(B5647=\"\",\"\",LOOKUP(B5647,Spiele!B:B,Spiele!E:E))","v":""},{"$f":"IF(B5647=\"\",\"\",LOOKUP(B5647,Spiele!B:B,Spiele!F:F))","v":""},"","","",null,null,-1,-1,1,0]
[null,null,{"$f":"IF(B5652=\"\",\"\",LOOKUP(B5652,Spiele!B:B,Spiele!C:C))","v":""},{"$f":"IF(B5652=\"\",\"\",LOOKUP(B5652,Spiele!B:B,Spiele!D:D))","v":""},{"$f":"IF(B5652=\"\",\"\",LOOKUP(B5652,Spiele!B:B,Spiele!E:E))","v":""},{"$f":"IF(B5652=\"\",\"\",LOOKUP(B5652,Spiele!B:B,Spiele!F:F))","v":""},"","","",null,null,-1,-1,1,0]
[null,null,{"$f":"IF(B5657=\"\",\"\",LOOKUP(B5657,Spiele!B:B,Spiele!C:C))","v":""},{"$f":"IF(B5657=\"\",\"\",LOOKUP(B5657,Spiele!B:B,Spiele!D:D))","v":""},{"$f":"IF(B5657=\"\",\"\",LOOKUP(B5657,Spiele!B:B,Spiele!E:E))","v":""},{"$f":"IF(B5657=\"\",\"\",LOOKUP(B5657,Spiele!B:B,Spiele!F:F))","v":""},"","","",null,null,-1,-1,1,0]
[null,null,{"$f":"IF(B5659=\"\",\"\",LOOKUP(B5659,Spiele!B:B,Spiele!C:C))","v":""},{"$f":"IF(B5659=\"\",\"\",LOOKUP(B5659,Spiele!B:B,Spiele!D:D))","v":""},{"$f":"IF(B5659=\"\",\"\",LOOKUP(B5659,Spiele!B:B,Spiele!E:E))","v":""},{"$f":"IF(B5659=\"\",\"\",LOOKUP(B5659,Spiele!B:B,Spiele!F:F))","v":""},"","","",null,null,-1,-1,1,0]
[null,null,{"$f":"IF(B5662=\"\",\"\",LOOKUP(B5662,Spiele!B:B,Spiele!C:C))","v":""},{"$f":"IF(B5662=\"\",\"\",LOOKUP(B5662,Spiele!B:B,Spiele!D:D))","v":""},{"$f":"IF(B5662=\"\",\"\",LOOKUP(B5662,Spiele!B:B,Spiele!E:E))","v":""},{"$f":"IF(B5662=\"\",\"\",LOOKUP(B5662,Spiele!B:B,Spiele!F:F))","v":""},"","","",null,null,-1,-1,1,0]
[null,null,{"$f":"IF(B5667=\"\",\"\",LOOKUP(B5667,Spiele!B:B,Spiele!C:C))","v":""},{"$f":"IF(B5667=\"\",\"\",LOOKUP(B5667,Spiele!B:B,Spiele!D:D))","v":""},{"$f":"IF(B5667=\"\",\"\",LOOKUP(B5667,Spiele!B:B,Spiele!E:E))","v":""},{"$f":"IF(B5667=\"\",\"\",LOOKUP(B5667,Spiele!B:B,Spiele!F:F))","v":""},"","","",null,null,-1,-1,1,0]
[null,null,{"$f":"IF(B5672=\"\",\"\",LOOKUP(B5672,Spiele!B:B,Spiele!C:C))","v":""},{"$f":"IF(B5672=\"\",\"\",LOOKUP(B5672,Spiele!B:B,Spiele!D:D))","v":""},{"$f":"IF(B5672=\"\",\"\",LOOKUP(B5672,Spiele!B:B,Spiele!E:E))","v":""},{"$f":"IF(B5672=\"\",\"\",LOOKUP(B5672,Spiele!B:B,Spiele!F:F))","v":""},"","","",null,null,-1,-1,1,0]
[null,null,{"$f":"IF(B5675=\"\",\"\",LOOKUP(B5675,Spiele!B:B,Spiele!C:C))","v":""},{"$f":"IF(B5675=\"\",\"\",LOOKUP(B5675,Spiele!B:B,Spiele!D:D))","v":""},{"$f":"IF(B5675=\"\",\"\",LOOKUP(B5675,Spiele!B:B,Spiele!E:E))","v":""},{"$f":"IF(B5675=\"\",\"\",LOOKUP(B5675,Spiele!B:B,Spiele!F:F))","v":""},"","","",null,null,-1,-1,1,0]
[null,null,{"$f":"IF(B5677=\"\",\"\",LOOKUP(B5677,Spiele!B:B,Spiele!C:C))","v":""},{"$f":"IF(B5677=\"\",\"\",LOOKUP(B5677,Spiele!B:B,Spiele!D:D))","v":""},{"$f":"IF(B5677=\"\",\"\",LOOKUP(B5677,Spiele!B:B,Spiele!E:E))","v":""},{"$f":"IF(B5677=\"\",\"\",LOOKUP(B5677,Spiele!B:B,Spiele!F:F))","v":""},"","","",null,null,-1,-1,1,0]
[null,null,{"$f":"IF(B5682=\"\",\"\",LOOKUP(B5682,Spiele!B:B,Spiele!C:C))","v":""},{"$f":"IF(B5682=\"\",\"\",LOOKUP(B5682,Spiele!B:B,Spiele!D:D))","v":""},{"$f":"IF(B5682=\"\",\"\",LOOKUP(B5682,Spiele!B:B,Spiele!E:E))","v":""},{"$f":"IF(B5682=\"\",\"\",LOOKUP(B5682,Spiele!B:B,Spiele!F:F))","v":""},"","","",null,null,-1,-1,1,0]
[null,null,{"$f":"IF(B5687=\"\",\"\",LOOKUP(B5687,Spiele!B:B,Spiele!C:C))","v":""},{"$f":"IF(B5687=\"\",\"\",LOOKUP(B5687,Spiele!B:B,Spiele!D:D))","v":""},{"$f":"IF(B5687=\"\",\"\",LOOKUP(B5687,Spiele!B:B,Spiele!E:E))","v":""},{"$f":"IF(B5687=\"\",\"\",LOOKUP(B5687,Spiele!B:B,Spiele!F:F))","v":""},"","","",null,null,-1,-1,1,0]
[null,null,{"$f":"IF(B5689=\"\",\"\",LOOKUP(B5689,Spiele!B:B,Spiele!C:C))","v":""},{"$f":"IF(B5689=\"\",\"\",LOOKUP(B5689,Spiele!B:B,Spiele!D:D))","v":""},{"$f":"IF(B5689=\"\",\"\",LOOKUP(B5689,Spiele!B:B,Spiele!E:E))","v":""},{"$f":"IF(B5689=\"\",\"\",LOOKUP(B5689,Spiele!B:B,Spiele!F:F))","v":""},"","","",null,null,-1,-1,1,0]
[null,null,{"$f":"IF(B5692=\"\",\"\",LOOKUP(B5692,Spiele!B:B,Spiele!C:C))","v":""},{"$f":"IF(B5692=\"\",\"\",LOOKUP(B5692,Spiele!B:B,Spiele!D:D))","v":""},{"$f":"IF(B5692=\"\",\"\",LOOKUP(B5692,Spiele!B:B,Spiele!E:E))","v":""},{"$f":"IF(B5692=\"\",\"\",LOOKUP(B5692,Spiele!B:B,Spiele!F:F))","v":""},"","","",null,null,-1,-1,1,0]
[null,null,{"$f":"IF(B5697=\"\",\"\",LOOKUP(B5697,Spiele!B:B,Spiele!C:C))","v":""},{"$f":"IF(B5697=\"\",\"\",LOOKUP(B5697,Spiele!B:B,Spiele!D:D))","v":""},{"$f":"IF(B5697=\"\",\"\",LOOKUP(B5697,Spiele!B:B,Spiele!E:E))","v":""},{"$f":"IF(B5697=\"\",\"\",LOOKUP(B5697,Spiele!B:B,Spiele!F:F))","v":""},"","","",null,null,-1,-1,1,0]
[null,null,{"$f":"IF(B5702=\"\",\"\",LOOKUP(B5702,Spiele!B:B,Spiele!C:C))","v":""},{"$f":"IF(B5702=\"\",\"\",LOOKUP(B5702,Spiele!B:B,Spiele!D:D))","v":""},{"$f":"IF(B5702=\"\",\"\",LOOKUP(B5702,Spiele!B:B,Spiele!E:E))","v":""},{"$f":"IF(B5702=\"\",\"\",LOOKUP(B5702,Spiele!B:B,Spiele!F:F))","v":""},"","","",null,null,-1,-1,1,0]
[null,null,{"$f":"IF(B5703=\"\",\"\",LOOKUP(B5703,Spiele!B:B,Spiele!C:C))","v":""},{"$f":"IF(B5703=\"\",\"\",LOOKUP(B5703,Spiele!B:B,Spiele!D:D))","v":""},{"$f":"IF(B5703=\"\",\"\",LOOKUP(B5703,Spiele!B:B,Spiele!E:E))","v":""},{"$f":"IF(B5703=\"\",\"\",LOOKUP(B5703,Spiele!B:B,Spiele!F:F))","v":""},"","","",null,null,-1,-1,1,0]
[null,null,{"$f":"IF(B5707=\"\",\"\",LOOKUP(B5707,Spiele!B:B,Spiele!C:C))","v":""},{"$f":"IF(B5707=\"\",\"\",LOOKUP(B5707,Spiele!B:B,Spiele!D:D))","v":""},{"$f":"IF(B5707=\"\",\"\",LOOKUP(B5707,Spiele!B:B,Spiele!E:E))","v":""},{"$f":"IF(B5707=\"\",\"\",LOOKUP(B5707,Spiele!B:B,Spiele!F:F))","v":""},"","","",null,null,-1,-1,1,0]
[null,null,{"$f":"IF(B5712=\"\",\"\",LOOKUP(B5712,Spiele!B:B,Spiele!C:C))","v":""},{"$f":"IF(B5712=\"\",\"\",LOOKUP(B5712,Spiele!B:B,Spiele!D:D))","v":""},{"$f":"IF(B5712=\"\",\"\",LOOKUP(B5712,Spiele!B:B,Spiele!E:E))","v":""},{"$f":"IF(B5712=\"\",\"\",LOOKUP(B5712,Spiele!B:B,Spiele!F:F))","v":""},"","","",null,null,-1,-1,1,0]
[null,null,{"$f":"IF(B5717=\"\",\"\",LOOKUP(B5717,Spiele!B:B,Spiele!C:C))","v":""},{"$f":"IF(B5717=\"\",\"\",LOOKUP(B5717,Spiele!B:B,Spiele!D:D))","v":""},{"$f":"IF(B5717=\"\",\"\",LOOKUP(B5717,Spiele!B:B,Spiele!E:E))","v":""},{"$f":"IF(B5717=\"\",\"\",LOOKUP(B5717,Spiele!B:B,Spiele!F:F))","v":""},"","","",null,null,-1,-1,1,0]
[null,null,{"$f":"IF(B5719=\"\",\"\",LOOKUP(B5719,Spiele!B:B,Spiele!C:C))","v":""},{"$f":"IF(B5719=\"\",\"\",LOOKUP(B5719,Spiele!B:B,Spiele!D:D))","v":""},{"$f":"IF(B5719=\"\",\"\",LOOKUP(B5719,Spiele!B:B,Spiele!E:E))","v":""},{"$f":"IF(B5719=\"\",\"\",LOOKUP(B5719,Spiele!B:B,Spiele!F:F))","v":""},"","","",null,null,-1,-1,1,0]
[null,null,{"$f":"IF(B5722=\"\",\"\",LOOKUP(B5722,Spiele!B:B,Spiele!C:C))","v":""},{"$f":"IF(B5722=\"\",\"\",LOOKUP(B5722,Spiele!B:B,Spiele!D:D))","v":""},{"$f":"IF(B5722=\"\",\"\",LOOKUP(B5722,Spiele!B:B,Spiele!E:E))","v":""},{"$f":"IF(B5722=\"\",\"\",LOOKUP(B5722,Spiele!B:B,Spiele!F:F))","v":""},"","","",null,null,-1,-1,1,0]
[null,null,{"$f":"IF(B5727=\"\",\"\",LOOKUP(B5727,Spiele!B:B,Spiele!C:C))","v":""},{"$f":"IF(B5727=\"\",\"\",LOOKUP(B5727,Spiele!B:B,Spiele!D:D))","v":""},{"$f":"IF(B5727=\"\",\"\",LOOKUP(B5727,Spiele!B:B,Spiele!E:E))","v":""},{"$f":"IF(B5727=\"\",\"\",LOOKUP(B5727,Spiele!B:B,Spiele!F:F))","v":""},"","","",null,null,-1,-1,1,0]
[null,null,{"$f":"IF(B5732=\"\",\"\",LOOKUP(B5732,Spiele!B:B,Spiele!C:C))","v":""},{"$f":"IF(B5732=\"\",\"\",LOOKUP(B5732,Spiele!B:B,Spiele!D:D))","v":""},{"$f":"IF(B5732=\"\",\"\",LOOKUP(B5732,Spiele!B:B,Spiele!E:E))","v":""},{"$f":"IF(B5732=\"\",\"\",LOOKUP(B5732,Spiele!B:B,Spiele!F:F))","v":""},"","","",null,null,-1,-1,1,0]
[null,null,{"$f":"IF(B5733=\"\",\"\",LOOKUP(B5733,Spiele!B:B,Spiele!C:C))","v":""},{"$f":"IF(B5733=\"\",\"\",LOOKUP(B5733,Spiele!B:B,Spiele!D:D))","v":""},{"$f":"IF(B5733=\"\",\"\",LOOKUP(B5733,Spiele!B:B,Spiele!E:E))","v":""},{"$f":"IF(B5733=\"\",\"\",LOOKUP(B5733,Spiele!B:B,Spiele!F:F))","v":""},"","","",null,null,-1,-1,1,0]
[null,null,{"$f":"IF(B5737=\"\",\"\",LOOKUP(B5737,Spiele!B:B,Spiele!C:C))","v":""},{"$f":"IF(B5737=\"\",\"\",LOOKUP(B5737,Spiele!B:B,Spiele!D:D))","v":""},{"$f":"IF(B5737=\"\",\"\",LOOKUP(B5737,Spiele!B:B,Spiele!E:E))","v":""},{"$f":"IF(B5737=\"\",\"\",LOOKUP(B5737,Spiele!B:B,Spiele!F:F))","v":""},"","","",null,null,-1,-1,1,0]
[null,null,{"$f":"IF(B5742=\"\",\"\",LOOKUP(B5742,Spiele!B:B,Spiele!C:C))","v":""},{"$f":"IF(B5742=\"\",\"\",LOOKUP(B5742,Spiele!B:B,Spiele!D:D))","v":""},{"$f":"IF(B5742=\"\",\"\",LOOKUP(B5742,Spiele!B:B,Spiele!E:E))","v":""},{"$f":"IF(B5742=\"\",\"\",LOOKUP(B5742,Spiele!B:B,Spiele!F:F))","v":""},"","","",null,null,-1,-1,1,0]
[null,null,{"$f":"IF(B5747=\"\",\"\",LOOKUP(B5747,Spiele!B:B,Spiele!C:C))","v":""},{"$f":"IF(B5747=\"\",\"\",LOOKUP(B5747,Spiele!B:B,Spiele!D:D))","v":""},{"$f":"IF(B5747=\"\",\"\",LOOKUP(B5747,Spiele!B:B,Spiele!E:E))","v":""},{"$f":"IF(B5747=\"\",\"\",LOOKUP(B5747,Spiele!B:B,Spiele!F:F))","v":""},"","","",null,null,-1,-1,1,0]
[null,null,{"$f":"IF(B5748=\"\",\"\",LOOKUP(B5748,Spiele!B:B,Spiele!C:C))","v":""},{"$f":"IF(B5748=\"\",\"\",LOOKUP(B5748,Spiele!B:B,Spiele!D:D))","v":""},{"$f":"IF(B5748=\"\",\"\",LOOKUP(B5748,Spiele!B:B,Spiele!E:E))","v":""},{"$f":"IF(B5748=\"\",\"\",LOOKUP(B5748,Spiele!B:B,Spiele!F:F))","v":""},"","","",null,null,-1,-1,1,0]
[null,null,{"$f":"IF(B5753=\"\",\"\",LOOKUP(B5753,Spiele!B:B,Spiele!C:C))","v":""},{"$f":"IF(B5753=\"\",\"\",LOOKUP(B5753,Spiele!B:B,Spiele!D:D))","v":""},{"$f":"IF(B5753=\"\",\"\",LOOKUP(B5753,Spiele!B:B,Spiele!E:E))","v":""},{"$f":"IF(B5753=\"\",\"\",LOOKUP(B5753,Spiele!B:B,Spiele!F:F))","v":""},"","","",null,null,-1,-1,1,0]
[null,null,{"$f":"IF(B5757=\"\",\"\",LOOKUP(B5757,Spiele!B:B,Spiele!C:C))","v":""},{"$f":"IF(B5757=\"\",\"\",LOOKUP(B5757,Spiele!B:B,Spiele!D:D))","v":""},{"$f":"IF(B5757=\"\",\"\",LOOKUP(B5757,Spiele!B:B,Spiele!E:E))","v":""},{"$f":"IF(B5757=\"\",\"\",LOOKUP(B5757,Spiele!B:B,Spiele!F:F))","v":""},"","","",null,null,-1,-1,1,0]
[null,null,{"$f":"IF(B5762=\"\",\"\",LOOKUP(B5762,Spiele!B:B,Spiele!C:C))","v":""},{"$f":"IF(B5762=\"\",\"\",LOOKUP(B5762,Spiele!B:B,Spiele!D:D))","v":""},{"$f":"IF(B5762=\"\",\"\",LOOKUP(B5762,Spiele!B:B,Spiele!E:E))","v":""},{"$f":"IF(B5762=\"\",\"\",LOOKUP(B5762,Spiele!B:B,Spiele!F:F))","v":""},"","","",null,null,-1,-1,1,0]
[null,null,{"$f":"IF(B5763=\"\",\"\",LOOKUP(B5763,Spiele!B:B,Spiele!C:C))","v":""},{"$f":"IF(B5763=\"\",\"\",LOOKUP(B5763,Spiele!B:B,Spiele!D:D))","v":""},{"$f":"IF(B5763=\"\",\"\",LOOKUP(B5763,Spiele!B:B,Spiele!E:E))","v":""},{"$f":"IF(B5763=\"\",\"\",LOOKUP(B5763,Spiele!B:B,Spiele!F:F))","v":""},"","","",null,null,-1,-1,1,0]
[null,null,{"$f":"IF(B5767=\"\",\"\",LOOKUP(B5767,Spiele!B:B,Spiele!C:C))","v":""},{"$f":"IF(B5767=\"\",\"\",LOOKUP(B5767,Spiele!B:B,Spiele!D:D))","v":""},{"$f":"IF(B5767=\"\",\"\",LOOKUP(B5767,Spiele!B:B,Spiele!E:E))","v":""},{"$f":"IF(B5767=\"\",\"\",LOOKUP(B5767,Spiele!B:B,Spiele!F:F))","v":""},"","","",null,null,-1,-1,1,0]
[null,null,{"$f":"IF(B5772=\"\",\"\",LOOKUP(B5772,Spiele!B:B,Spiele!C:C))","v":""},{"$f":"IF(B5772=\"\",\"\",LOOKUP(B5772,Spiele!B:B,Spiele!D:D))","v":""},{"$f":"IF(B5772=\"\",\"\",LOOKUP(B5772,Spiele!B:B,Spiele!E:E))","v":""},{"$f":"IF(B5772=\"\",\"\",LOOKUP(B5772,Spiele!B:B,Spiele!F:F))","v":""},"","","",null,null,-1,-1,1,0]
[null,null,{"$f":"IF(B5777=\"\",\"\",LOOKUP(B5777,Spiele!B:B,Spiele!C:C))","v":""},{"$f":"IF(B5777=\"\",\"\",LOOKUP(B5777,Spiele!B:B,Spiele!D:D))","v":""},{"$f":"IF(B5777=\"\",\"\",LOOKUP(B5777,Spiele!B:B,Spiele!E:E))","v":""},{"$f":"IF(B5777=\"\",\"\",LOOKUP(B5777,Spiele!B:B,Spiele!F:F))","v":""},"","","",null,null,-1,-1,1,0]
[null,null,{"$f":"IF(B5778=\"\",\"\",LOOKUP(B5778,Spiele!B:B,Spiele!C:C))","v":""},{"$f":"IF(B5778=\"\",\"\",LOOKUP(B5778,Spiele!B:B,Spiele!D:D))","v":""},{"$f":"IF(B5778=\"\",\"\",LOOKUP(B5778,Spiele!B:B,Spiele!E:E))","v":""},{"$f":"IF(B5778=\"\",\"\",LOOKUP(B5778,Spiele!B:B,Spiele!F:F))","v":""},"","","",null,null,-1,-1,1,0]
[null,null,{"$f":"IF(B5784=\"\",\"\",LOOKUP(B5784,Spiele!B:B,Spiele!C:C))","v":""},{"$f":"IF(B5784=\"\",\"\",LOOKUP(B5784,Spiele!B:B,Spiele!D:D))","v":""},{"$f":"IF(B5784=\"\",\"\",LOOKUP(B5784,Spiele!B:B,Spiele!E:E))","v":""},{"$f":"IF(B5784=\"\",\"\",LOOKUP(B5784,Spiele!B:B,Spiele!F:F))","v":""},"","","",null,null,-1,-1,1,0]
[null,null,{"$f":"IF(B5787=\"\",\"\",LOOKUP(B5787,Spiele!B:B,Spiele!C:C))","v":""},{"$f":"IF(B5787=\"\",\"\",LOOKUP(B5787,Spiele!B:B,Spiele!D:D))","v":""},{"$f":"IF(B5787=\"\",\"\",LOOKUP(B5787,Spiele!B:B,Spiele!E:E))","v":""},{"$f":"IF(B5787=\"\",\"\",LOOKUP(B5787,Spiele!B:B,Spiele!F:F))","v":""},"","","",null,null,-1,-1,1,0]
[null,null,{"$f":"IF(B5792=\"\",\"\",LOOKUP(B5792,Spiele!B:B,Spiele!C:C))","v":""},{"$f":"IF(B5792=\"\",\"\",LOOKUP(B5792,Spiele!B:B,Spiele!D:D))","v":""},{"$f":"IF(B5792=\"\",\"\",LOOKUP(B5792,Spiele!B:B,Spiele!E:E))","v":""},{"$f":"IF(B5792=\"\",\"\",LOOKUP(B5792,Spiele!B:B,Spiele!F:F))","v":""},{"$f":"IF(E5792=\"\",\"\",IF(E5792>F5792,1,0))","v":""},{"$f":"IF(F5792=\"\",\"\",IF(E5792<F5792,1,0))","v":""},{"$f":"IF(E5792=\"\",\"\",IF(E5792=F5792,1,0))","v":""},null,null,{"$f":"IF(E5792=\"\",-1,IF(J5792>K5792,1,-1))","v":-1},{"$f":"IF(F5792=\"\",-1,IF(J5792<K5792,1,-1))","v":-1},{"$f":"IF(E5792=\"-\",-1,IF(J5792=K5792,1,-1))","v":1},{"$f":"IF(E5792=\"\",0,IF(E5792=J5792,1,0)+IF(F5792=K5792,1,0)+IF(G5792=L5792,1,0)+IF(H5792=M5792,1,0)+IF(I5792=N5792,1,0))","v":0}]
[null,null,{"$f":"IF(B5793=\"\",\"\",LOOKUP(B5793,Spiele!B:B,Spiele!C:C))","v":""},{"$f":"IF(B5793=\"\",\"\",LOOKUP(B5793,Spiele!B:B,Spiele!D:D))","v":""},{"$f":"IF(B5793=\"\",\"\",LOOKUP(B5793,Spiele!B:B,Spiele!E:E))","v":""},{"$f":"IF(B5793=\"\",\"\",LOOKUP(B5793,Spiele!B:B,Spiele!F:F))","v":""},"","","",null,null,-1,-1,1,0]
[null,null,{"$f":"IF(B5797=\"\",\"\",LOOKUP(B5797,Spiele!B:B,Spiele!C:C))","v":""},{"$f":"IF(B5797=\"\",\"\",LOOKUP(B5797,Spiele!B:B,Spiele!D:D))","v":""},{"$f":"IF(B5797=\"\",\"\",LOOKUP(B5797,Spiele!B:B,Spiele!E:E))","v":""},{"$f":"IF(B5797=\"\",\"\",LOOKUP(B5797,Spiele!B:B,Spiele!F:F))","v":""},"","","",null,null,-1,-1,1,0]
[null,null,{"$f":"IF(B5802=\"\",\"\",LOOKUP(B5802,Spiele!B:B,Spiele!C:C))","v":""},{"$f":"IF(B5802=\"\",\"\",LOOKUP(B5802,Spiele!B:B,Spiele!D:D))","v":""},{"$f":"IF(B5802=\"\",\"\",LOOKUP(B5802,Spiele!B:B,Spiele!E:E))","v":""},{"$f":"IF(B5802=\"\",\"\",LOOKUP(B5802,Spiele!B:B,Spiele!F:F))","v":""},"","","",null,null,-1,-1,1,0]
[null,null,{"$f":"IF(B5807=\"\",\"\",LOOKUP(B5807,Spiele!B:B,Spiele!C:C))","v":""},{"$f":"IF(B5807=\"\",\"\",LOOKUP(B5807,Spiele!B:B,Spiele!D:D))","v":""},{"$f":"IF(B5807=\"\",\"\",LOOKUP(B5807,Spiele!B:B,Spiele!E:E))","v":""},{"$f":"IF(B5807=\"\",\"\",LOOKUP(B5807,Spiele!B:B,Spiele!F:F))","v":""},"","","",null,null,-1,-1,1,0]
[null,null,{"$f":"IF(B5808=\"\",\"\",LOOKUP(B5808,Spiele!B:B,Spiele!C:C))","v":""},{"$f":"IF(B5808=\"\",\"\",LOOKUP(B5808,Spiele!B:B,Spiele!D:D))","v":""},{"$f":"IF(B5808=\"\",\"\",LOOKUP(B5808,Spiele!B:B,Spiele!E:E))","v":""},{"$f":"IF(B5808=\"\",\"\",LOOKUP(B5808,Spiele!B:B,Spiele!F:F))","v":""},"","","",null,null,-1,-1,1,0]
[null,null,{"$f":"IF(B5814=\"\",\"\",LOOKUP(B5814,Spiele!B:B,Spiele!C:C))","v":""},{"$f":"IF(B5814=\"\",\"\",LOOKUP(B5814,Spiele!B:B,Spiele!D:D))","v":""},{"$f":"IF(B5814=\"\",\"\",LOOKUP(B5814,Spiele!B:B,Spiele!E:E))","v":""},{"$f":"IF(B5814=\"\",\"\",LOOKUP(B5814,Spiele!B:B,Spiele!F:F))","v":""},"","","",null,null,-1,-1,1,0]
[null,null,{"$f":"IF(B5817=\"\",\"\",LOOKUP(B5817,Spiele!B:B,Spiele!C:C))","v":""},{"$f":"IF(B5817=\"\",\"\",LOOKUP(B5817,Spiele!B:B,Spiele!D:D))","v":""},{"$f":"IF(B5817=\"\",\"\",LOOKUP(B5817,Spiele!B:B,Spiele!E:E))","v":""},{"$f":"IF(B5817=\"\",\"\",LOOKUP(B5817,Spiele!B:B,Spiele!F:F))","v":""},"","","",null,null,-1,-1,1,0]
[null,null,{"$f":"IF(B5822=\"\",\"\",LOOKUP(B5822,Spiele!B:B,Spiele!C:C))","v":""},{"$f":"IF(B5822=\"\",\"\",LOOKUP(B5822,Spiele!B:B,Spiele!D:D))","v":""},{"$f":"IF(B5822=\"\",\"\",LOOKUP(B5822,Spiele!B:B,Spiele!E:E))","v":""},{"$f":"IF(B5822=\"\",\"\",LOOKUP(B5822,Spiele!B:B,Spiele!F:F))","v":""},"","","",null,null,-1,-1,1,0]
[null,null,{"$f":"IF(B5823=\"\",\"\",LOOKUP(B5823,Spiele!B:B,Spiele!C:C))","v":""},{"$f":"IF(B5823=\"\",\"\",LOOKUP(B5823,Spiele!B:B,Spiele!D:D))","v":""},{"$f":"IF(B5823=\"\",\"\",LOOKUP(B5823,Spiele!B:B,Spiele!E:E))","v":""},{"$f":"IF(B5823=\"\",\"\",LOOKUP(B5823,Spiele!B:B,Spiele!F:F))","v":""},"","","",null,null,-1,-1,1,0]
[null,null,{"$f":"IF(B5827=\"\",\"\",LOOKUP(B5827,Spiele!B:B,Spiele!C:C))","v":""},{"$f":"IF(B5827=\"\",\"\",LOOKUP(B5827,Spiele!B:B,Spiele!D:D))","v":""},{"$f":"IF(B5827=\"\",\"\",LOOKUP(B5827,Spiele!B:B,Spiele!E:E))","v":""},{"$f":"IF(B5827=\"\",\"\",LOOKUP(B5827,Spiele!B:B,Spiele!F:F))","v":""},"","","",null,null,-1,-1,1,0]
[null,null,{"$f":"IF(B5832=\"\",\"\",LOOKUP(B5832,Spiele!B:B,Spiele!C:C))","v":""},{"$f":"IF(B5832=\"\",\"\",LOOKUP(B5832,Spiele!B:B,Spiele!D:D))","v":""},{"$f":"IF(B5832=\"\",\"\",LOOKUP(B5832,Spiele!B:B,Spiele!E:E))","v":""},{"$f":"IF(B5832=\"\",\"\",LOOKUP(B5832,Spiele!B:B,Spiele!F:F))","v":""},"","","",null,null,-1,-1,1,0]
[null,null,{"$f":"IF(B5837=\"\",\"\",LOOKUP(B5837,Spiele!B:B,Spiele!C:C))","v":""},{"$f":"IF(B5837=\"\",\"\",LOOKUP(B5837,Spiele!B:B,Spiele!D:D))","v":""},{"$f":"IF(B5837=\"\",\"\",LOOKUP(B5837,Spiele!B:B,Spiele!E:E))","v":""},{"$f":"IF(B5837=\"\",\"\",LOOKUP(B5837,Spiele!B:B,Spiele!F:F))","v":""},"","","",null,null,-1,-1,1,0]
[null,null,{"$f":"IF(B5838=\"\",\"\",LOOKUP(B5838,Spiele!B:B,Spiele!C:C))","v":""},{"$f":"IF(B5838=\"\",\"\",LOOKUP(B5838,Spiele!B:B,Spiele!D:D))","v":""},{"$f":"IF(B5838=\"\",\"\",LOOKUP(B5838,Spiele!B:B,Spiele!E:E))","v":""},{"$f":"IF(B5838=\"\",\"\",LOOKUP(B5838,Spiele!B:B,Spiele!F:F))","v":""},"","","",null,null,-1,-1,1,0]
[null,null,{"$f":"IF(B5844=\"\",\"\",LOOKUP(B5844,Spiele!B:B,Spiele!C:C))","v":""},{"$f":"IF(B5844=\"\",\"\",LOOKUP(B5844,Spiele!B:B,Spiele!D:D))","v":""},{"$f":"IF(B5844=\"\",\"\",LOOKUP(B5844,Spiele!B:B,Spiele!E:E))","v":""},{"$f":"IF(B5844=\"\",\"\",LOOKUP(B5844,Spiele!B:B,Spiele!F:F))","v":""},"","","",null,null,-1,-1,1,0]
[null,null,{"$f":"IF(B5847=\"\",\"\",LOOKUP(B5847,Spiele!B:B,Spiele!C:C))","v":""},{"$f":"IF(B5847=\"\",\"\",LOOKUP(B5847,Spiele!B:B,Spiele!D:D))","v":""},{"$f":"IF(B5847=\"\",\"\",LOOKUP(B5847,Spiele!B:B,Spiele!E:E))","v":""},{"$f":"IF(B5847=\"\",\"\",LOOKUP(B5847,Spiele!B:B,Spiele!F:F))","v":""},"","","",null,null,-1,-1,1,0]
[null,null,{"$f":"IF(B5852=\"\",\"\",LOOKUP(B5852,Spiele!B:B,Spiele!C:C))","v":""},{"$f":"IF(B5852=\"\",\"\",LOOKUP(B5852,Spiele!B:B,Spiele!D:D))","v":""},{"$f":"IF(B5852=\"\",\"\",LOOKUP(B5852,Spiele!B:B,Spiele!E:E))","v":""},{"$f":"IF(B5852=\"\",\"\",LOOKUP(B5852,Spiele!B:B,Spiele!F:F))","v":""},"","","",null,null,-1,-1,1,0]
[null,null,{"$f":"IF(B5853=\"\",\"\",LOOKUP(B5853,Spiele!B:B,Spiele!C:C))","v":""},{"$f":"IF(B5853=\"\",\"\",LOOKUP(B5853,Spiele!B:B,Spiele!D:D))","v":""},{"$f":"IF(B5853=\"\",\"\",LOOKUP(B5853,Spiele!B:B,Spiele!E:E))","v":""},{"$f":"IF(B5853=\"\",\"\",LOOKUP(B5853,Spiele!B:B,Spiele!F:F))","v":""},"","","",null,null,-1,-1,1,0]
[null,null,{"$f":"IF(B5857=\"\",\"\",LOOKUP(B5857,Spiele!B:B,Spiele!C:C))","v":""},{"$f":"IF(B5857=\"\",\"\",LOOKUP(B5857,Spiele!B:B,Spiele!D:D))","v":""},{"$f":"IF(B5857=\"\",\"\",LOOKUP(B5857,Spiele!B:B,Spiele!E:E))","v":""},{"$f":"IF(B5857=\"\",\"\",LOOKUP(B5857,Spiele!B:B,Spiele!F:F))","v":""},"","","",null,null,-1,-1,1,0]
[null,null,{"$f":"IF(B5862=\"\",\"\",LOOKUP(B5862,Spiele!B:B,Spiele!C:C))","v":""},{"$f":"IF(B5862=\"\",\"\",LOOKUP(B5862,Spiele!B:B,Spiele!D:D))","v":""},{"$f":"IF(B5862=\"\",\"\",LOOKUP(B5862,Spiele!B:B,Spiele!E:E))","v":""},{"$f":"IF(B5862=\"\",\"\",LOOKUP(B5862,Spiele!B:B,Spiele!F:F))","v":""},"","","",null,null,-1,-1,1,0]
[null,null,{"$f":"IF(B5867=\"\",\"\",LOOKUP(B5867,Spiele!B:B,Spiele!C:C))","v":""},{"$f":"IF(B5867=\"\",\"\",LOOKUP(B5867,Spiele!B:B,Spiele!D:D))","v":""},{"$f":"IF(B5867=\"\",\"\",LOOKUP(B5867,Spiele!B:B,Spiele!E:E))","v":""},{"$f":"IF(B5867=\"\",\"\",LOOKUP(B5867,Spiele!B:B,Spiele!F:F))","v":""},"","","",null,null,-1,-1,1,0]
[null,null,{"$f":"IF(B5868=\"\",\"\",LOOKUP(B5868,Spiele!B:B,Spiele!C:C))","v":""},{"$f":"IF(B5868=\"\",\"\",LOOKUP(B5868,Spiele!B:B,Spiele!D:D))","v":""},{"$f":"IF(B5868=\"\",\"\",LOOKUP(B5868,Spiele!B:B,Spiele!E:E))","v":""},{"$f":"IF(B5868=\"\",\"\",LOOKUP(B5868,Spiele!B:B,Spiele!F:F))","v":""},"","","",null,null,-1,-1,1,0]
[null,null,{"$f":"IF(B5874=\"\",\"\",LOOKUP(B5874,Spiele!B:B,Spiele!C:C))","v":""},{"$f":"IF(B5874=\"\",\"\",LOOKUP(B5874,Spiele!B:B,Spiele!D:D))","v":""},{"$f":"IF(B5874=\"\",\"\",LOOKUP(B5874,Spiele!B:B,Spiele!E:E))","v":""},{"$f":"IF(B5874=\"\",\"\",LOOKUP(B5874,Spiele!B:B,Spiele!F:F))","v":""},"","","",null,null,-1,-1,1,0]
[null,null,{"$f":"IF(B5877=\"\",\"\",LOOKUP(B5877,Spiele!B:B,Spiele!C:C))","v":""},{"$f":"IF(B5877=\"\",\"\",LOOKUP(B5877,Spiele!B:B,Spiele!D:D))","v":""},{"$f":"IF(B5877=\"\",\"\",LOOKUP(B5877,Spiele!B:B,Spiele!E:E))","v":""},{"$f":"IF(B5877=\"\",\"\",LOOKUP(B5877,Spiele!B:B,Spiele!F:F))","v":""},"","","",null,null,-1,-1,1,0]
[null,null,{"$f":"IF(B5882=\"\",\"\",LOOKUP(B5882,Spiele!B:B,Spiele!C:C))","v":""},{"$f":"IF(B5882=\"\",\"\",LOOKUP(B5882,Spiele!B:B,Spiele!D:D))","v":""},{"$f":"IF(B5882=\"\",\"\",LOOKUP(B5882,Spiele!B:B,Spiele!E:E))","v":""},{"$f":"IF(B5882=\"\",\"\",LOOKUP(B5882,Spiele!B:B,Spiele!F:F))","v":""},"","","",null,null,-1,-1,1,0]
[null,null,{"$f":"IF(B5883=\"\",\"\",LOOKUP(B5883,Spiele!B:B,Spiele!C:C))","v":""},{"$f":"IF(B5883=\"\",\"\",LOOKUP(B5883,Spiele!B:B,Spiele!D:D))","v":""},{"$f":"IF(B5883=\"\",\"\",LOOKUP(B5883,Spiele!B:B,Spiele!E:E))","v":""},{"$f":"IF(B5883=\"\",\"\",LOOKUP(B5883,Spiele!B:B,Spiele!F:F))","v":""},"","","",null,null,-1,-1,1,0]
[null,null,{"$f":"IF(B5887=\"\",\"\",LOOKUP(B5887,Spiele!B:B,Spiele!C:C))","v":""},{"$f":"IF(B5887=\"\",\"\",LOOKUP(B5887,Spiele!B:B,Spiele!D:D))","v":""},{"$f":"IF(B5887=\"\",\"\",LOOKUP(B5887,Spiele!B:B,Spiele!E:E))","v":""},{"$f":"IF(B5887=\"\",\"\",LOOKUP(B5887,Spiele!B:B,Spiele!F:F))","v":""},"","","",null,null,-1,-1,1,0]
[null,null,{"$f":"IF(B5892=\"\",\"\",LOOKUP(B5892,Spiele!B:B,Spiele!C:C))","v":""},{"$f":"IF(B5892=\"\",\"\",LOOKUP(B5892,Spiele!B:B,Spiele!D:D))","v":""},{"$f":"IF(B5892=\"\",\"\",LOOKUP(B5892,Spiele!B:B,Spiele!E:E))","v":""},{"$f":"IF(B5892=\"\",\"\",LOOKUP(B5892,Spiele!B:B,Spiele!F:F))","v":""},"","","",null,null,-1,-1,1,0]
[null,null,{"$f":"IF(B5897=\"\",\"\",LOOKUP(B5897,Spiele!B:B,Spiele!C:C))","v":""},{"$f":"IF(B5897=\"\",\"\",LOOKUP(B5897,Spiele!B:B,Spiele!D:D))","v":""},{"$f":"IF(B5897=\"\",\"\",LOOKUP(B5897,Spiele!B:B,Spiele!E:E))","v":""},{"$f":"IF(B5897=\"\",\"\",LOOKUP(B5897,Spiele!B:B,Spiele!F:F))","v":""},"","","",null,null,-1,-1,1,0]
[null,null,{"$f":"IF(B5898=\"\",\"\",LOOKUP(B5898,Spiele!B:B,Spiele!C:C))","v":""},{"$f":"IF(B5898=\"\",\"\",LOOKUP(B5898,Spiele!B:B,Spiele!D:D))","v":""},{"$f":"IF(B5898=\"\",\"\",LOOKUP(B5898,Spiele!B:B,Spiele!E:E))","v":""},{"$f":"IF(B5898=\"\",\"\",LOOKUP(B5898,Spiele!B:B,Spiele!F:F))","v":""},"","","",null,null,-1,-1,1,0]
[null,null,{"$f":"IF(B5904=\"\",\"\",LOOKUP(B5904,Spiele!B:B,Spiele!C:C))","v":""},{"$f":"IF(B5904=\"\",\"\",LOOKUP(B5904,Spiele!B:B,Spiele!D:D))","v":""},{"$f":"IF(B5904=\"\",\"\",LOOKUP(B5904,Spiele!B:B,Spiele!E:E))","v":""},{"$f":"IF(B5904=\"\",\"\",LOOKUP(B5904,Spiele!B:B,Spiele!F:F))","v":""},"","","",null,null,-1,-1,1,0]
[null,null,{"$f":"IF(B5907=\"\",\"\",LOOKUP(B5907,Spiele!B:B,Spiele!C:C))","v":""},{"$f":"IF(B5907=\"\",\"\",LOOKUP(B5907,Spiele!B:B,Spiele!D:D))","v":""},{"$f":"IF(B5907=\"\",\"\",LOOKUP(B5907,Spiele!B:B,Spiele!E:E))","v":""},{"$f":"IF(B5907=\"\",\"\",LOOKUP(B5907,Spiele!B:B,Spiele!F:F))","v":""},"","","",null,null,-1,-1,1,0]
[null,null,{"$f":"IF(B5912=\"\",\"\",LOOKUP(B5912,Spiele!B:B,Spiele!C:C))","v":""},{"$f":"IF(B5912=\"\",\"\",LOOKUP(B5912,Spiele!B:B,Spiele!D:D))","v":""},{"$f":"IF(B5912=\"\",\"\",LOOKUP(B5912,Spiele!B:B,Spiele!E:E))","v":""},{"$f":"IF(B5912=\"\",\"\",LOOKUP(B5912,Spiele!B:B,Spiele!F:F))","v":""},"","","",null,null,-1,-1,1,0]
[null,null,{"$f":"IF(B5913=\"\",\"\",LOOKUP(B5913,Spiele!B:B,Spiele!C:C))","v":""},{"$f":"IF(B5913=\"\",\"\",LOOKUP(B5913,Spiele!B:B,Spiele!D:D))","v":""},{"$f":"IF(B5913=\"\",\"\",LOOKUP(B5913,Spiele!B:B,Spiele!E:E))","v":""},{"$f":"IF(B5913=\"\",\"\",LOOKUP(B5913,Spiele!B:B,Spiele!F:F))","v":""},"","","",null,null,-1,-1,1,0]
[null,null,{"$f":"IF(B5917=\"\",\"\",LOOKUP(B5917,Spiele!B:B,Spiele!C:C))","v":""},{"$f":"IF(B5917=\"\",\"\",LOOKUP(B5917,Spiele!B:B,Spiele!D:D))","v":""},{"$f":"IF(B5917=\"\",\"\",LOOKUP(B5917,Spiele!B:B,Spiele!E:E))","v":""},{"$f":"IF(B5917=\"\",\"\",LOOKUP(B5917,Spiele!B:B,Spiele!F:F))","v":""},"","","",null,null,-1,-1,1,0]
[null,null,{"$f":"IF(B5922=\"\",\"\",LOOKUP(B5922,Spiele!B:B,Spiele!C:C))","v":""},{"$f":"IF(B5922=\"\",\"\",LOOKUP(B5922,Spiele!B:B,Spiele!D:D))","v":""},{"$f":"IF(B5922=\"\",\"\",LOOKUP(B5922,Spiele!B:B,Spiele!E:E))","v":""},{"$f":"IF(B5922=\"\",\"\",LOOKUP(B5922,Spiele!B:B,Spiele!F:F))","v":""},"","","",null,null,-1,-1,1,0]
[null,null,{"$f":"IF(B5927=\"\",\"\",LOOKUP(B5927,Spiele!B:B,Spiele!C:C))","v":""},{"$f":"IF(B5927=\"\",\"\",LOOKUP(B5927,Spiele!B:B,Spiele!D:D))","v":""},{"$f":"IF(B5927=\"\",\"\",LOOKUP(B5927,Spiele!B:B,Spiele!E:E))","v":""},{"$f":"IF(B5927=\"\",\"\",LOOKUP(B5927,Spiele!B:B,Spiele!F:F))","v":""},"","","",null,null,-1,-1,1,0]
[null,null,{"$f":"IF(B5928=\"\",\"\",LOOKUP(B5928,Spiele!B:B,Spiele!C:C))","v":""},{"$f":"IF(B5928=\"\",\"\",LOOKUP(B5928,Spiele!B:B,Spiele!D:D))","v":""},{"$f":"IF(B5928=\"\",\"\",LOOKUP(B5928,Spiele!B:B,Spiele!E:E))","v":""},{"$f":"IF(B5928=\"\",\"\",LOOKUP(B5928,Spiele!B:B,Spiele!F:F))","v":""},"","","",null,null,-1,-1,1,0]
[null,null,{"$f":"IF(B5934=\"\",\"\",LOOKUP(B5934,Spiele!B:B,Spiele!C:C))","v":""},{"$f":"IF(B5934=\"\",\"\",LOOKUP(B5934,Spiele!B:B,Spiele!D:D))","v":""},{"$f":"IF(B5934=\"\",\"\",LOOKUP(B5934,Spiele!B:B,Spiele!E:E))","v":""},{"$f":"IF(B5934=\"\",\"\",LOOKUP(B5934,Spiele!B:B,Spiele!F:F))","v":""},"","","",null,null,-1,-1,1,0]
[null,null,{"$f":"IF(B5937=\"\",\"\",LOOKUP(B5937,Spiele!B:B,Spiele!C:C))","v":""},{"$f":"IF(B5937=\"\",\"\",LOOKUP(B5937,Spiele!B:B,Spiele!D:D))","v":""},{"$f":"IF(B5937=\"\",\"\",LOOKUP(B5937,Spiele!B:B,Spiele!E:E))","v":""},{"$f":"IF(B5937=\"\",\"\",LOOKUP(B5937,Spiele!B:B,Spiele!F:F))","v":""},"","","",null,null,-1,-1,1,0]
[null,null,{"$f":"IF(B5942=\"\",\"\",LOOKUP(B5942,Spiele!B:B,Spiele!C:C))","v":""},{"$f":"IF(B5942=\"\",\"\",LOOKUP(B5942,Spiele!B:B,Spiele!D:D))","v":""},{"$f":"IF(B5942=\"\",\"\",LOOKUP(B5942,Spiele!B:B,Spiele!E:E))","v":""},{"$f":"IF(B5942=\"\",\"\",LOOKUP(B5942,Spiele!B:B,Spiele!F:F))","v":""},"","","",null,null,-1,-1,1,0]
[null,null,{"$f":"IF(B5943=\"\",\"\",LOOKUP(B5943,Spiele!B:B,Spiele!C:C))","v":""},{"$f":"IF(B5943=\"\",\"\",LOOKUP(B5943,Spiele!B:B,Spiele!D:D))","v":""},{"$f":"IF(B5943=\"\",\"\",LOOKUP(B5943,Spiele!B:B,Spiele!E:E))","v":""},{"$f":"IF(B5943=\"\",\"\",LOOKUP(B5943,Spiele!B:B,Spiele!F:F))","v":""},"","","",null,null,-1,-1,1,0]
[null,null,{"$f":"IF(B5947=\"\",\"\",LOOKUP(B5947,Spiele!B:B,Spiele!C:C))","v":""},{"$f":"IF(B5947=\"\",\"\",LOOKUP(B5947,Spiele!B:B,Spiele!D:D))","v":""},{"$f":"IF(B5947=\"\",\"\",LOOKUP(B5947,Spiele!B:B,Spiele!E:E))","v":""},{"$f":"IF(B5947=\"\",\"\",LOOKUP(B5947,Spiele!B:B,Spiele!F:F))","v":""},"","","",null,null,-1,-1,1,0]
[null,null,{"$f":"IF(B5952=\"\",\"\",LOOKUP(B5952,Spiele!B:B,Spiele!C:C))","v":""},{"$f":"IF(B5952=\"\",\"\",LOOKUP(B5952,Spiele!B:B,Spiele!D:D))","v":""},{"$f":"IF(B5952=\"\",\"\",LOOKUP(B5952,Spiele!B:B,Spiele!E:E))","v":""},{"$f":"IF(B5952=\"\",\"\",LOOKUP(B5952,Spiele!B:B,Spiele!F:F))","v":""},"","","",null,null,-1,-1,1,0]
[null,null,{"$f":"IF(B5957=\"\",\"\",LOOKUP(B5957,Spiele!B:B,Spiele!C:C))","v":""},{"$f":"IF(B5957=\"\",\"\",LOOKUP(B5957,Spiele!B:B,Spiele!D:D))","v":""},{"$f":"IF(B5957=\"\",\"\",LOOKUP(B5957,Spiele!B:B,Spiele!E:E))","v":""},{"$f":"IF(B5957=\"\",\"\",LOOKUP(B5957,Spiele!B:B,Spiele!F:F))","v":""},"","","",null,null,-1,-1,1,0]
[null,null,{"$f":"IF(B5958=\"\",\"\",LOOKUP(B5958,Spiele!B:B,Spiele!C:C))","v":""},{"$f":"IF(B5958=\"\",\"\",LOOKUP(B5958,Spiele!B:B,Spiele!D:D))","v":""},{"$f":"IF(B5958=\"\",\"\",LOOKUP(B5958,Spiele!B:B,Spiele!E:E))","v":""},{"$f":"IF(B5958=\"\",\"\",LOOKUP(B5958,Spiele!B:B,Spiele!F:F))","v":""},"","","",null,null,-1,-1,1,0]
[null,null,{"$f":"IF(B5964=\"\",\"\",LOOKUP(B5964,Spiele!B:B,Spiele!C:C))","v":""},{"$f":"IF(B5964=\"\",\"\",LOOKUP(B5964,Spiele!B:B,Spiele!D:D))","v":""},{"$f":"IF(B5964=\"\",\"\",LOOKUP(B5964,Spiele!B:B,Spiele!E:E))","v":""},{"$f":"IF(B5964=\"\",\"\",LOOKUP(B5964,Spiele!B:B,Spiele!F:F))","v":""},"","","",null,null,-1,-1,1,0]
[null,null,{"$f":"IF(B5967=\"\",\"\",LOOKUP(B5967,Spiele!B:B,Spiele!C:C))","v":""},{"$f":"IF(B5967=\"\",\"\",LOOKUP(B5967,Spiele!B:B,Spiele!D:D))","v":""},{"$f":"IF(B5967=\"\",\"\",LOOKUP(B5967,Spiele!B:B,Spiele!E:E))","v":""},{"$f":"IF(B5967=\"\",\"\",LOOKUP(B5967,Spiele!B:B,Spiele!F:F))","v":""},"","","",null,null,-1,-1,1,0]
[null,null,{"$f":"IF(B5972=\"\",\"\",LOOKUP(B5972,Spiele!B:B,Spiele!C:C))","v":""},{"$f":"IF(B5972=\"\",\"\",LOOKUP(B5972,Spiele!B:B,Spiele!D:D))","v":""},{"$f":"IF(B5972=\"\",\"\",LOOKUP(B5972,Spiele!B:B,Spiele!E:E))","v":""},{"$f":"IF(B5972=\"\",\"\",LOOKUP(B5972,Spiele!B:B,Spiele!F:F))","v":""},"","","",null,null,-1,-1,1,0]
[null,null,{"$f":"IF(B5973=\"\",\"\",LOOKUP(B5973,Spiele!B:B,Spiele!C:C))","v":""},{"$f":"IF(B5973=\"\",\"\",LOOKUP(B5973,Spiele!B:B,Spiele!D:D))","v":""},{"$f":"IF(B5973=\"\",\"\",LOOKUP(B5973,Spiele!B:B,Spiele!E:E))","v":""},{"$f":"IF(B5973=\"\",\"\",LOOKUP(B5973,Spiele!B:B,Spiele!F:F))","v":""},"","","",null,null,-1,-1,1,0]
[null,null,{"$f":"IF(B5977=\"\",\"\",LOOKUP(B5977,Spiele!B:B,Spiele!C:C))","v":""},{"$f":"IF(B5977=\"\",\"\",LOOKUP(B5977,Spiele!B:B,Spiele!D:D))","v":""},{"$f":"IF(B5977=\"\",\"\",LOOKUP(B5977,Spiele!B:B,Spiele!E:E))","v":""},{"$f":"IF(B5977=\"\",\"\",LOOKUP(B5977,Spiele!B:B,Spiele!F:F))","v":""},"","","",null,null,-1,-1,1,0]
[null,null,{"$f":"IF(B5982=\"\",\"\",LOOKUP(B5982,Spiele!B:B,Spiele!C:C))","v":""},{"$f":"IF(B5982=\"\",\"\",LOOKUP(B5982,Spiele!B:B,Spiele!D:D))","v":""},{"$f":"IF(B5982=\"\",\"\",LOOKUP(B5982,Spiele!B:B,Spiele!E:E))","v":""},{"$f":"IF(B5982=\"\",\"\",LOOKUP(B5982,Spiele!B:B,Spiele!F:F))","v":""},"","","",null,null,-1,-1,1,0]
[null,null,{"$f":"IF(B5987=\"\",\"\",LOOKUP(B5987,Spiele!B:B,Spiele!C:C))","v":""},{"$f":"IF(B5987=\"\",\"\",LOOKUP(B5987,Spiele!B:B,Spiele!D:D))","v":""},{"$f":"IF(B5987=\"\",\"\",LOOKUP(B5987,Spiele!B:B,Spiele!E:E))","v":""},{"$f":"IF(B5987=\"\",\"\",LOOKUP(B5987,Spiele!B:B,Spiele!F:F))","v":""},"","","",null,null,-1,-1,1,0]
[null,null,{"$f":"IF(B5988=\"\",\"\",LOOKUP(B5988,Spiele!B:B,Spiele!C:C))","v":""},{"$f":"IF(B5988=\"\",\"\",LOOKUP(B5988,Spiele!B:B,Spiele!D:D))","v":""},{"$f":"IF(B5988=\"\",\"\",LOOKUP(B5988,Spiele!B:B,Spiele!E:E))","v":""},{"$f":"IF(B5988=\"\",\"\",LOOKUP(B5988,Spiele!B:B,Spiele!F:F))","v":""},"","","",null,null,-1,-1,1,0]
[null,null,{"$f":"IF(B5994=\"\",\"\",LOOKUP(B5994,Spiele!B:B,Spiele!C:C))","v":""},{"$f":"IF(B5994=\"\",\"\",LOOKUP(B5994,Spiele!B:B,Spiele!D:D))","v":""},{"$f":"IF(B5994=\"\",\"\",LOOKUP(B5994,Spiele!B:B,Spiele!E:E))","v":""},{"$f":"IF(B5994=\"\",\"\",LOOKUP(B5994,Spiele!B:B,Spiele!F:F))","v":""},"","","",null,null,-1,-1,1,0]
[null,null,{"$f":"IF(B5997=\"\",\"\",LOOKUP(B5997,Spiele!B:B,Spiele!C:C))","v":""},{"$f":"IF(B5997=\"\",\"\",LOOKUP(B5997,Spiele!B:B,Spiele!D:D))","v":""},{"$f":"IF(B5997=\"\",\"\",LOOKUP(B5997,Spiele!B:B,Spiele!E:E))","v":""},{"$f":"IF(B5997=\"\",\"\",LOOKUP(B5997,Spiele!B:B,Spiele!F:F))","v":""},"","","",null,null,-1,-1,1,0]
[null,null,{"$f":"IF(B6002=\"\",\"\",LOOKUP(B6002,Spiele!B:B,Spiele!C:C))","v":""},{"$f":"IF(B6002=\"\",\"\",LOOKUP(B6002,Spiele!B:B,Spiele!D:D))","v":""},{"$f":"IF(B6002=\"\",\"\",LOOKUP(B6002,Spiele!B:B,Spiele!E:E))","v":""},{"$f":"IF(B6002=\"\",\"\",LOOKUP(B6002,Spiele!B:B,Spiele!F:F))","v":""},"","","",null,null,-1,-1,1,0]
[null,null,{"$f":"IF(B6003=\"\",\"\",LOOKUP(B6003,Spiele!B:B,Spiele!C:C))","v":""},{"$f":"IF(B6003=\"\",\"\",LOOKUP(B6003,Spiele!B:B,Spiele!D:D))","v":""},{"$f":"IF(B6003=\"\",\"\",LOOKUP(B6003,Spiele!B:B,Spiele!E:E))","v":""},{"$f":"IF(B6003=\"\",\"\",LOOKUP(B6003,Spiele!B:B,Spiele!F:F))","v":""},"","","",null,null,-1,-1,1,0]
[null,null,{"$f":"IF(B6007=\"\",\"\",LOOKUP(B6007,Spiele!B:B,Spiele!C:C))","v":""},{"$f":"IF(B6007=\"\",\"\",LOOKUP(B6007,Spiele!B:B,Spiele!D:D))","v":""},{"$f":"IF(B6007=\"\",\"\",LOOKUP(B6007,Spiele!B:B,Spiele!E:E))","v":""},{"$f":"IF(B6007=\"\",\"\",LOOKUP(B6007,Spiele!B:B,Spiele!F:F))","v":""},"","","",null,null,-1,-1,1,0]
[null,null,{"$f":"IF(B6012=\"\",\"\",LOOKUP(B6012,Spiele!B:B,Spiele!C:C))","v":""},{"$f":"IF(B6012=\"\",\"\",LOOKUP(B6012,Spiele!B:B,Spiele!D:D))","v":""},{"$f":"IF(B6012=\"\",\"\",LOOKUP(B6012,Spiele!B:B,Spiele!E:E))","v":""},{"$f":"IF(B6012=\"\",\"\",LOOKUP(B6012,Spiele!B:B,Spiele!F:F))","v":""},"","","",null,null,-1,-1,1,0]
[null,null,{"$f":"IF(B6017=\"\",\"\",LOOKUP(B6017,Spiele!B:B,Spiele!C:C))","v":""},{"$f":"IF(B6017=\"\",\"\",LOOKUP(B6017,Spiele!B:B,Spiele!D:D))","v":""},{"$f":"IF(B6017=\"\",\"\",LOOKUP(B6017,Spiele!B:B,Spiele!E:E))","v":""},{"$f":"IF(B6017=\"\",\"\",LOOKUP(B6017,Spiele!B:B,Spiele!F:F))","v":""},"","","",null,null,-1,-1,1,0]
[null,null,{"$f":"IF(B6018=\"\",\"\",LOOKUP(B6018,Spiele!B:B,Spiele!C:C))","v":""},{"$f":"IF(B6018=\"\",\"\",LOOKUP(B6018,Spiele!B:B,Spiele!D:D))","v":""},{"$f":"IF(B6018=\"\",\"\",LOOKUP(B6018,Spiele!B:B,Spiele!E:E))","v":""},{"$f":"IF(B6018=\"\",\"\",LOOKUP(B6018,Spiele!B:B,Spiele!F:F))","v":""},"","","",null,null,-1,-1,1,0]
[null,null,{"$f":"IF(B6024=\"\",\"\",LOOKUP(B6024,Spiele!B:B,Spiele!C:C))","v":""},{"$f":"IF(B6024=\"\",\"\",LOOKUP(B6024,Spiele!B:B,Spiele!D:D))","v":""},{"$f":"IF(B6024=\"\",\"\",LOOKUP(B6024,Spiele!B:B,Spiele!E:E))","v":""},{"$f":"IF(B6024=\"\",\"\",LOOKUP(B6024,Spiele!B:B,Spiele!F:F))","v":""},"","","",null,null,-1,-1,1,0]
[null,null,{"$f":"IF(B6027=\"\",\"\",LOOKUP(B6027,Spiele!B:B,Spiele!C:C))","v":""},{"$f":"IF(B6027=\"\",\"\",LOOKUP(B6027,Spiele!B:B,Spiele!D:D))","v":""},{"$f":"IF(B6027=\"\",\"\",LOOKUP(B6027,Spiele!B:B,Spiele!E:E))","v":""},{"$f":"IF(B6027=\"\",\"\",LOOKUP(B6027,Spiele!B:B,Spiele!F:F))","v":""},"","","",null,null,-1,-1,1,0]
[null,null,{"$f":"IF(B6032=\"\",\"\",LOOKUP(B6032,Spiele!B:B,Spiele!C:C))","v":""},{"$f":"IF(B6032=\"\",\"\",LOOKUP(B6032,Spiele!B:B,Spiele!D:D))","v":""},{"$f":"IF(B6032=\"\",\"\",LOOKUP(B6032,Spiele!B:B,Spiele!E:E))","v":""},{"$f":"IF(B6032=\"\",\"\",LOOKUP(B6032,Spiele!B:B,Spiele!F:F))","v":""},"","","",null,null,-1,-1,1,0]
[null,null,{"$f":"IF(B6033=\"\",\"\",LOOKUP(B6033,Spiele!B:B,Spiele!C:C))","v":""},{"$f":"IF(B6033=\"\",\"\",LOOKUP(B6033,Spiele!B:B,Spiele!D:D))","v":""},{"$f":"IF(B6033=\"\",\"\",LOOKUP(B6033,Spiele!B:B,Spiele!E:E))","v":""},{"$f":"IF(B6033=\"\",\"\",LOOKUP(B6033,Spiele!B:B,Spiele!F:F))","v":""},"","","",null,null,-1,-1,1,0]
[null,null,{"$f":"IF(B6037=\"\",\"\",LOOKUP(B6037,Spiele!B:B,Spiele!C:C))","v":""},{"$f":"IF(B6037=\"\",\"\",LOOKUP(B6037,Spiele!B:B,Spiele!D:D))","v":""},{"$f":"IF(B6037=\"\",\"\",LOOKUP(B6037,Spiele!B:B,Spiele!E:E))","v":""},{"$f":"IF(B6037=\"\",\"\",LOOKUP(B6037,Spiele!B:B,Spiele!F:F))","v":""},"","","",null,null,-1,-1,1,0]
[null,null,{"$f":"IF(B6042=\"\",\"\",LOOKUP(B6042,Spiele!B:B,Spiele!C:C))","v":""},{"$f":"IF(B6042=\"\",\"\",LOOKUP(B6042,Spiele!B:B,Spiele!D:D))","v":""},{"$f":"IF(B6042=\"\",\"\",LOOKUP(B6042,Spiele!B:B,Spiele!E:E))","v":""},{"$f":"IF(B6042=\"\",\"\",LOOKUP(B6042,Spiele!B:B,Spiele!F:F))","v":""},"","","",null,null,-1,-1,1,0]
[null,null,{"$f":"IF(B6047=\"\",\"\",LOOKUP(B6047,Spiele!B:B,Spiele!C:C))","v":""},{"$f":"IF(B6047=\"\",\"\",LOOKUP(B6047,Spiele!B:B,Spiele!D:D))","v":""},{"$f":"IF(B6047=\"\",\"\",LOOKUP(B6047,Spiele!B:B,Spiele!E:E))","v":""},{"$f":"IF(B6047=\"\",\"\",LOOKUP(B6047,Spiele!B:B,Spiele!F:F))","v":""},"","","",null,null,-1,-1,1,0]
[null,null,{"$f":"IF(B6048=\"\",\"\",LOOKUP(B6048,Spiele!B:B,Spiele!C:C))","v":""},{"$f":"IF(B6048=\"\",\"\",LOOKUP(B6048,Spiele!B:B,Spiele!D:D))","v":""},{"$f":"IF(B6048=\"\",\"\",LOOKUP(B6048,Spiele!B:B,Spiele!E:E))","v":""},{"$f":"IF(B6048=\"\",\"\",LOOKUP(B6048,Spiele!B:B,Spiele!F:F))","v":""},{"$f":"IF(E6048=\"\",\"\",IF(E6048>F6048,1,0))","v":""},{"$f":"IF(F6048=\"\",\"\",IF(E6048<F6048,1,0))","v":""},{"$f":"IF(E6048=\"\",\"\",IF(E6048=F6048,1,0))","v":""},null,null,{"$f":"IF(E6048=\"\",-1,IF(J6048>K6048,1,-1))","v":-1},{"$f":"IF(F6048=\"\",-1,IF(J6048<K6048,1,-1))","v":-1},{"$f":"IF(E6048=\"-\",-1,IF(J6048=K6048,1,-1))","v":1},{"$f":"IF(E6048=\"\",0,IF(E6048=J6048,1,0)+IF(F6048=K6048,1,0)+IF(G6048=L6048,1,0)+IF(H6048=M6048,1,0)+IF(I6048=N6048,1,0))","v":0}]
[null,null,{"$f":"IF(B6054=\"\",\"\",LOOKUP(B6054,Spiele!B:B,Spiele!C:C))","v":""},{"$f":"IF(B6054=\"\",\"\",LOOKUP(B6054,Spiele!B:B,Spiele!D:D))","v":""},{"$f":"IF(B6054=\"\",\"\",LOOKUP(B6054,Spiele!B:B,Spiele!E:E))","v":""},{"$f":"IF(B6054=\"\",\"\",LOOKUP(B6054,Spiele!B:B,Spiele!F:F))","v":""},"","","",null,null,-1,-1,1,0]
[null,null,{"$f":"IF(B6057=\"\",\"\",LOOKUP(B6057,Spiele!B:B,Spiele!C:C))","v":""},{"$f":"IF(B6057=\"\",\"\",LOOKUP(B6057,Spiele!B:B,Spiele!D:D))","v":""},{"$f":"IF(B6057=\"\",\"\",LOOKUP(B6057,Spiele!B:B,Spiele!E:E))","v":""},{"$f":"IF(B6057=\"\",\"\",LOOKUP(B6057,Spiele!B:B,Spiele!F:F))","v":""},"","","",null,null,-1,-1,1,0]
[null,null,{"$f":"IF(B6062=\"\",\"\",LOOKUP(B6062,Spiele!B:B,Spiele!C:C))","v":""},{"$f":"IF(B6062=\"\",\"\",LOOKUP(B6062,Spiele!B:B,Spiele!D:D))","v":""},{"$f":"IF(B6062=\"\",\"\",LOOKUP(B6062,Spiele!B:B,Spiele!E:E))","v":""},{"$f":"IF(B6062=\"\",\"\",LOOKUP(B6062,Spiele!B:B,Spiele!F:F))","v":""},"","","",null,null,-1,-1,1,0]
[null,null,{"$f":"IF(B6063=\"\",\"\",LOOKUP(B6063,Spiele!B:B,Spiele!C:C))","v":""},{"$f":"IF(B6063=\"\",\"\",LOOKUP(B6063,Spiele!B:B,Spiele!D:D))","v":""},{"$f":"IF(B6063=\"\",\"\",LOOKUP(B6063,Spiele!B:B,Spiele!E:E))","v":""},{"$f":"IF(B6063=\"\",\"\",LOOKUP(B6063,Spiele!B:B,Spiele!F:F))","v":""},"","","",null,null,-1,-1,1,0]
[null,null,{"$f":"IF(B6068=\"\",\"\",LOOKUP(B6068,Spiele!B:B,Spiele!C:C))","v":""},{"$f":"IF(B6068=\"\",\"\",LOOKUP(B6068,Spiele!B:B,Spiele!D:D))","v":""},{"$f":"IF(B6068=\"\",\"\",LOOKUP(B6068,Spiele!B:B,Spiele!E:E))","v":""},{"$f":"IF(B6068=\"\",\"\",LOOKUP(B6068,Spiele!B:B,Spiele!F:F))","v":""},"","","",null,null,-1,-1,1,0]
[null,null,{"$f":"IF(B6072=\"\",\"\",LOOKUP(B6072,Spiele!B:B,Spiele!C:C))","v":""},{"$f":"IF(B6072=\"\",\"\",LOOKUP(B6072,Spiele!B:B,Spiele!D:D))","v":""},{"$f":"IF(B6072=\"\",\"\",LOOKUP(B6072,Spiele!B:B,Spiele!E:E))","v":""},{"$f":"IF(B6072=\"\",\"\",LOOKUP(B6072,Spiele!B:B,Spiele!F:F))","v":""},"","","",null,null,-1,-1,1,0]
[null,null,{"$f":"IF(B6077=\"\",\"\",LOOKUP(B6077,Spiele!B:B,Spiele!C:C))","v":""},{"$f":"IF(B6077=\"\",\"\",LOOKUP(B6077,Spiele!B:B,Spiele!D:D))","v":""},{"$f":"IF(B6077=\"\",\"\",LOOKUP(B6077,Spiele!B:B,Spiele!E:E))","v":""},{"$f":"IF(B6077=\"\",\"\",LOOKUP(B6077,Spiele!B:B,Spiele!F:F))","v":""},"","","",null,null,-1,-1,1,0]
[null,null,{"$f":"IF(B6078=\"\",\"\",LOOKUP(B6078,Spiele!B:B,Spiele!C:C))","v":""},{"$f":"IF(B6078=\"\",\"\",LOOKUP(B6078,Spiele!B:B,Spiele!D:D))","v":""},{"$f":"IF(B6078=\"\",\"\",LOOKUP(B6078,Spiele!B:B,Spiele!E:E))","v":""},{"$f":"IF(B6078=\"\",\"\",LOOKUP(B6078,Spiele!B:B,Spiele!F:F))","v":""},"","","",null,null,-1,-1,1,0]
[null,null,{"$f":"IF(B6084=\"\",\"\",LOOKUP(B6084,Spiele!B:B,Spiele!C:C))","v":""},{"$f":"IF(B6084=\"\",\"\",LOOKUP(B6084,Spiele!B:B,Spiele!D:D))","v":""},{"$f":"IF(B6084=\"\",\"\",LOOKUP(B6084,Spiele!B:B,Spiele!E:E))","v":""},{"$f":"IF(B6084=\"\",\"\",LOOKUP(B6084,Spiele!B:B,Spiele!F:F))","v":""},"","","",null,null,-1,-1,1,0]
[null,null,{"$f":"IF(B6087=\"\",\"\",LOOKUP(B6087,Spiele!B:B,Spiele!C:C))","v":""},{"$f":"IF(B6087=\"\",\"\",LOOKUP(B6087,Spiele!B:B,Spiele!D:D))","v":""},{"$f":"IF(B6087=\"\",\"\",LOOKUP(B6087,Spiele!B:B,Spiele!E:E))","v":""},{"$f":"IF(B6087=\"\",\"\",LOOKUP(B6087,Spiele!B:B,Spiele!F:F))","v":""},"","","",null,null,-1,-1,1,0]
[null,null,{"$f":"IF(B6092=\"\",\"\",LOOKUP(B6092,Spiele!B:B,Spiele!C:C))","v":""},{"$f":"IF(B6092=\"\",\"\",LOOKUP(B6092,Spiele!B:B,Spiele!D:D))","v":""},{"$f":"IF(B6092=\"\",\"\",LOOKUP(B6092,Spiele!B:B,Spiele!E:E))","v":""},{"$f":"IF(B6092=\"\",\"\",LOOKUP(B6092,Spiele!B:B,Spiele!F:F))","v":""},"","","",null,null,-1,-1,1,0]
[null,null,{"$f":"IF(B6093=\"\",\"\",LOOKUP(B6093,Spiele!B:B,Spiele!C:C))","v":""},{"$f":"IF(B6093=\"\",\"\",LOOKUP(B6093,Spiele!B:B,Spiele!D:D))","v":""},{"$f":"IF(B6093=\"\",\"\",LOOKUP(B6093,Spiele!B:B,Spiele!E:E))","v":""},{"$f":"IF(B6093=\"\",\"\",LOOKUP(B6093,Spiele!B:B,Spiele!F:F))","v":""},"","","",null,null,-1,-1,1,0]
[null,null,{"$f":"IF(B6098=\"\",\"\",LOOKUP(B6098,Spiele!B:B,Spiele!C:C))","v":""},{"$f":"IF(B6098=\"\",\"\",LOOKUP(B6098,Spiele!B:B,Spiele!D:D))","v":""},{"$f":"IF(B6098=\"\",\"\",LOOKUP(B6098,Spiele!B:B,Spiele!E:E))","v":""},{"$f":"IF(B6098=\"\",\"\",LOOKUP(B6098,Spiele!B:B,Spiele!F:F))","v":""},"","","",null,null,-1,-1,1,0]
[null,null,{"$f":"IF(B6102=\"\",\"\",LOOKUP(B6102,Spiele!B:B,Spiele!C:C))","v":""},{"$f":"IF(B6102=\"\",\"\",LOOKUP(B6102,Spiele!B:B,Spiele!D:D))","v":""},{"$f":"IF(B6102=\"\",\"\",LOOKUP(B6102,Spiele!B:B,Spiele!E:E))","v":""},{"$f":"IF(B6102=\"\",\"\",LOOKUP(B6102,Spiele!B:B,Spiele!F:F))","v":""},"","","",null,null,-1,-1,1,0]
[null,null,{"$f":"IF(B6107=\"\",\"\",LOOKUP(B6107,Spiele!B:B,Spiele!C:C))","v":""},{"$f":"IF(B6107=\"\",\"\",LOOKUP(B6107,Spiele!B:B,Spiele!D:D))","v":""},{"$f":"IF(B6107=\"\",\"\",LOOKUP(B6107,Spiele!B:B,Spiele!E:E))","v":""},{"$f":"IF(B6107=\"\",\"\",LOOKUP(B6107,Spiele!B:B,Spiele!F:F))","v":""},"","","",null,null,-1,-1,1,0]
[null,null,{"$f":"IF(B6108=\"\",\"\",LOOKUP(B6108,Spiele!B:B,Spiele!C:C))","v":""},{"$f":"IF(B6108=\"\",\"\",LOOKUP(B6108,Spiele!B:B,Spiele!D:D))","v":""},{"$f":"IF(B6108=\"\",\"\",LOOKUP(B6108,Spiele!B:B,Spiele!E:E))","v":""},{"$f":"IF(B6108=\"\",\"\",LOOKUP(B6108,Spiele!B:B,Spiele!F:F))","v":""},"","","",null,null,-1,-1,1,0]
[null,null,{"$f":"IF(B6114=\"\",\"\",LOOKUP(B6114,Spiele!B:B,Spiele!C:C))","v":""},{"$f":"IF(B6114=\"\",\"\",LOOKUP(B6114,Spiele!B:B,Spiele!D:D))","v":""},{"$f":"IF(B6114=\"\",\"\",LOOKUP(B6114,Spiele!B:B,Spiele!E:E))","v":""},{"$f":"IF(B6114=\"\",\"\",LOOKUP(B6114,Spiele!B:B,Spiele!F:F))","v":""},"","","",null,null,-1,-1,1,0]
[null,null,{"$f":"IF(B6117=\"\",\"\",LOOKUP(B6117,Spiele!B:B,Spiele!C:C))","v":""},{"$f":"IF(B6117=\"\",\"\",LOOKUP(B6117,Spiele!B:B,Spiele!D:D))","v":""},{"$f":"IF(B6117=\"\",\"\",LOOKUP(B6117,Spiele!B:B,Spiele!E:E))","v":""},{"$f":"IF(B6117=\"\",\"\",LOOKUP(B6117,Spiele!B:B,Spiele!F:F))","v":""},"","","",null,null,-1,-1,1,0]
[null,null,{"$f":"IF(B6122=\"\",\"\",LOOKUP(B6122,Spiele!B:B,Spiele!C:C))","v":""},{"$f":"IF(B6122=\"\",\"\",LOOKUP(B6122,Spiele!B:B,Spiele!D:D))","v":""},{"$f":"IF(B6122=\"\",\"\",LOOKUP(B6122,Spiele!B:B,Spiele!E:E))","v":""},{"$f":"IF(B6122=\"\",\"\",LOOKUP(B6122,Spiele!B:B,Spiele!F:F))","v":""},"","","",null,null,-1,-1,1,0]
[null,null,{"$f":"IF(B6123=\"\",\"\",LOOKUP(B6123,Spiele!B:B,Spiele!C:C))","v":""},{"$f":"IF(B6123=\"\",\"\",LOOKUP(B6123,Spiele!B:B,Spiele!D:D))","v":""},{"$f":"IF(B6123=\"\",\"\",LOOKUP(B6123,Spiele!B:B,Spiele!E:E))","v":""},{"$f":"IF(B6123=\"\",\"\",LOOKUP(B6123,Spiele!B:B,Spiele!F:F))","v":""},"","","",null,null,-1,-1,1,0]
[null,null,{"$f":"IF(B6128=\"\",\"\",LOOKUP(B6128,Spiele!B:B,Spiele!C:C))","v":""},{"$f":"IF(B6128=\"\",\"\",LOOKUP(B6128,Spiele!B:B,Spiele!D:D))","v":""},{"$f":"IF(B6128=\"\",\"\",LOOKUP(B6128,Spiele!B:B,Spiele!E:E))","v":""},{"$f":"IF(B6128=\"\",\"\",LOOKUP(B6128,Spiele!B:B,Spiele!F:F))","v":""},"","","",null,null,-1,-1,1,0]
[null,null,{"$f":"IF(B6132=\"\",\"\",LOOKUP(B6132,Spiele!B:B,Spiele!C:C))","v":""},{"$f":"IF(B6132=\"\",\"\",LOOKUP(B6132,Spiele!B:B,Spiele!D:D))","v":""},{"$f":"IF(B6132=\"\",\"\",LOOKUP(B6132,Spiele!B:B,Spiele!E:E))","v":""},{"$f":"IF(B6132=\"\",\"\",LOOKUP(B6132,Spiele!B:B,Spiele!F:F))","v":""},"","","",null,null,-1,-1,1,0]
[null,null,{"$f":"IF(B6137=\"\",\"\",LOOKUP(B6137,Spiele!B:B,Spiele!C:C))","v":""},{"$f":"IF(B6137=\"\",\"\",LOOKUP(B6137,Spiele!B:B,Spiele!D:D))","v":""},{"$f":"IF(B6137=\"\",\"\",LOOKUP(B6137,Spiele!B:B,Spiele!E:E))","v":""},{"$f":"IF(B6137=\"\",\"\",LOOKUP(B6137,Spiele!B:B,Spiele!F:F))","v":""},"","","",null,null,-1,-1,1,0]
[null,null,{"$f":"IF(B6138=\"\",\"\",LOOKUP(B6138,Spiele!B:B,Spiele!C:C))","v":""},{"$f":"IF(B6138=\"\",\"\",LOOKUP(B6138,Spiele!B:B,Spiele!D:D))","v":""},{"$f":"IF(B6138=\"\",\"\",LOOKUP(B6138,Spiele!B:B,Spiele!E:E))","v":""},{"$f":"IF(B6138=\"\",\"\",LOOKUP(B6138,Spiele!B:B,Spiele!F:F))","v":""},"","","",null,null,-1,-1,1,0]
[null,null,{"$f":"IF(B6144=\"\",\"\",LOOKUP(B6144,Spiele!B:B,Spiele!C:C))","v":""},{"$f":"IF(B6144=\"\",\"\",LOOKUP(B6144,Spiele!B:B,Spiele!D:D))","v":""},{"$f":"IF(B6144=\"\",\"\",LOOKUP(B6144,Spiele!B:B,Spiele!E:E))","v":""},{"$f":"IF(B6144=\"\",\"\",LOOKUP(B6144,Spiele!B:B,Spiele!F:F))","v":""},"","","",null,null,-1,-1,1,0]
[null,null,{"$f":"IF(B6147=\"\",\"\",LOOKUP(B6147,Spiele!B:B,Spiele!C:C))","v":""},{"$f":"IF(B6147=\"\",\"\",LOOKUP(B6147,Spiele!B:B,Spiele!D:D))","v":""},{"$f":"IF(B6147=\"\",\"\",LOOKUP(B6147,Spiele!B:B,Spiele!E:E))","v":""},{"$f":"IF(B6147=\"\",\"\",LOOKUP(B6147,Spiele!B:B,Spiele!F:F))","v":""},"","","",null,null,-1,-1,1,0]
[null,null,{"$f":"IF(B6152=\"\",\"\",LOOKUP(B6152,Spiele!B:B,Spiele!C:C))","v":""},{"$f":"IF(B6152=\"\",\"\",LOOKUP(B6152,Spiele!B:B,Spiele!D:D))","v":""},{"$f":"IF(B6152=\"\",\"\",LOOKUP(B6152,Spiele!B:B,Spiele!E:E))","v":""},{"$f":"IF(B6152=\"\",\"\",LOOKUP(B6152,Spiele!B:B,Spiele!F:F))","v":""},"","","",null,null,-1,-1,1,0]
[null,null,{"$f":"IF(B6153=\"\",\"\",LOOKUP(B6153,Spiele!B:B,Spiele!C:C))","v":""},{"$f":"IF(B6153=\"\",\"\",LOOKUP(B6153,Spiele!B:B,Spiele!D:D))","v":""},{"$f":"IF(B6153=\"\",\"\",LOOKUP(B6153,Spiele!B:B,Spiele!E:E))","v":""},{"$f":"IF(B6153=\"\",\"\",LOOKUP(B6153,Spiele!B:B,Spiele!F:F))","v":""},"","","",null,null,-1,-1,1,0]
[null,null,{"$f":"IF(B6158=\"\",\"\",LOOKUP(B6158,Spiele!B:B,Spiele!C:C))","v":""},{"$f":"IF(B6158=\"\",\"\",LOOKUP(B6158,Spiele!B:B,Spiele!D:D))","v":""},{"$f":"IF(B6158=\"\",\"\",LOOKUP(B6158,Spiele!B:B,Spiele!E:E))","v":""},{"$f":"IF(B6158=\"\",\"\",LOOKUP(B6158,Spiele!B:B,Spiele!F:F))","v":""},"","","",null,null,-1,-1,1,0]
[null,null,{"$f":"IF(B6162=\"\",\"\",LOOKUP(B6162,Spiele!B:B,Spiele!C:C))","v":""},{"$f":"IF(B6162=\"\",\"\",LOOKUP(B6162,Spiele!B:B,Spiele!D:D))","v":""},{"$f":"IF(B6162=\"\",\"\",LOOKUP(B6162,Spiele!B:B,Spiele!E:E))","v":""},{"$f":"IF(B6162=\"\",\"\",LOOKUP(B6162,Spiele!B:B,Spiele!F:F))","v":""},"","","",null,null,-1,-1,1,0]
[null,null,{"$f":"IF(B6167=\"\",\"\",LOOKUP(B6167,Spiele!B:B,Spiele!C:C))","v":""},{"$f":"IF(B6167=\"\",\"\",LOOKUP(B6167,Spiele!B:B,Spiele!D:D))","v":""},{"$f":"IF(B6167=\"\",\"\",LOOKUP(B6167,Spiele!B:B,Spiele!E:E))","v":""},{"$f":"IF(B6167=\"\",\"\",LOOKUP(B6167,Spiele!B:B,Spiele!F:F))","v":""},"","","",null,null,-1,-1,1,0]
[null,null,{"$f":"IF(B6168=\"\",\"\",LOOKUP(B6168,Spiele!B:B,Spiele!C:C))","v":""},{"$f":"IF(B6168=\"\",\"\",LOOKUP(B6168,Spiele!B:B,Spiele!D:D))","v":""},{"$f":"IF(B6168=\"\",\"\",LOOKUP(B6168,Spiele!B:B,Spiele!E:E))","v":""},{"$f":"IF(B6168=\"\",\"\",LOOKUP(B6168,Spiele!B:B,Spiele!F:F))","v":""},"","","",null,null,-1,-1,1,0]
[null,null,{"$f":"IF(B6174=\"\",\"\",LOOKUP(B6174,Spiele!B:B,Spiele!C:C))","v":""},{"$f":"IF(B6174=\"\",\"\",LOOKUP(B6174,Spiele!B:B,Spiele!D:D))","v":""},{"$f":"IF(B6174=\"\",\"\",LOOKUP(B6174,Spiele!B:B,Spiele!E:E))","v":""},{"$f":"IF(B6174=\"\",\"\",LOOKUP(B6174,Spiele!B:B,Spiele!F:F))","v":""},"","","",null,null,-1,-1,1,0]
[null,null,{"$f":"IF(B6177=\"\",\"\",LOOKUP(B6177,Spiele!B:B,Spiele!C:C))","v":""},{"$f":"IF(B6177=\"\",\"\",LOOKUP(B6177,Spiele!B:B,Spiele!D:D))","v":""},{"$f":"IF(B6177=\"\",\"\",LOOKUP(B6177,Spiele!B:B,Spiele!E:E))","v":""},{"$f":"IF(B6177=\"\",\"\",LOOKUP(B6177,Spiele!B:B,Spiele!F:F))","v":""},"","","",null,null,-1,-1,1,0]
[null,null,{"$f":"IF(B6182=\"\",\"\",LOOKUP(B6182,Spiele!B:B,Spiele!C:C))","v":""},{"$f":"IF(B6182=\"\",\"\",LOOKUP(B6182,Spiele!B:B,Spiele!D:D))","v":""},{"$f":"IF(B6182=\"\",\"\",LOOKUP(B6182,Spiele!B:B,Spiele!E:E))","v":""},{"$f":"IF(B6182=\"\",\"\",LOOKUP(B6182,Spiele!B:B,Spiele!F:F))","v":""},"","","",null,null,-1,-1,1,0]
[null,null,{"$f":"IF(B6183=\"\",\"\",LOOKUP(B6183,Spiele!B:B,Spiele!C:C))","v":""},{"$f":"IF(B6183=\"\",\"\",LOOKUP(B6183,Spiele!B:B,Spiele!D:D))","v":""},{"$f":"IF(B6183=\"\",\"\",LOOKUP(B6183,Spiele!B:B,Spiele!E:E))","v":""},{"$f":"IF(B6183=\"\",\"\",LOOKUP(B6183,Spiele!B:B,Spiele!F:F))","v":""},"","","",null,null,-1,-1,1,0]
[null,null,{"$f":"IF(B6188=\"\",\"\",LOOKUP(B6188,Spiele!B:B,Spiele!C:C))","v":""},{"$f":"IF(B6188=\"\",\"\",LOOKUP(B6188,Spiele!B:B,Spiele!D:D))","v":""},{"$f":"IF(B6188=\"\",\"\",LOOKUP(B6188,Spiele!B:B,Spiele!E:E))","v":""},{"$f":"IF(B6188=\"\",\"\",LOOKUP(B6188,Spiele!B:B,Spiele!F:F))","v":""},"","","",null,null,-1,-1,1,0]
[null,null,{"$f":"IF(B6192=\"\",\"\",LOOKUP(B6192,Spiele!B:B,Spiele!C:C))","v":""},{"$f":"IF(B6192=\"\",\"\",LOOKUP(B6192,Spiele!B:B,Spiele!D:D))","v":""},{"$f":"IF(B6192=\"\",\"\",LOOKUP(B6192,Spiele!B:B,Spiele!E:E))","v":""},{"$f":"IF(B6192=\"\",\"\",LOOKUP(B6192,Spiele!B:B,Spiele!F:F))","v":""},"","","",null,null,-1,-1,1,0]
[null,null,{"$f":"IF(B6197=\"\",\"\",LOOKUP(B6197,Spiele!B:B,Spiele!C:C))","v":""},{"$f":"IF(B6197=\"\",\"\",LOOKUP(B6197,Spiele!B:B,Spiele!D:D))","v":""},{"$f":"IF(B6197=\"\",\"\",LOOKUP(B6197,Spiele!B:B,Spiele!E:E))","v":""},{"$f":"IF(B6197=\"\",\"\",LOOKUP(B6197,Spiele!B:B,Spiele!F:F))","v":""},"","","",null,null,-1,-1,1,0]
[null,null,{"$f":"IF(B6198=\"\",\"\",LOOKUP(B6198,Spiele!B:B,Spiele!C:C))","v":""},{"$f":"IF(B6198=\"\",\"\",LOOKUP(B6198,Spiele!B:B,Spiele!D:D))","v":""},{"$f":"IF(B6198=\"\",\"\",LOOKUP(B6198,Spiele!B:B,Spiele!E:E))","v":""},{"$f":"IF(B6198=\"\",\"\",LOOKUP(B6198,Spiele!B:B,Spiele!F:F))","v":""},"","","",null,null,-1,-1,1,0]
[null,null,{"$f":"IF(B6204=\"\",\"\",LOOKUP(B6204,Spiele!B:B,Spiele!C:C))","v":""},{"$f":"IF(B6204=\"\",\"\",LOOKUP(B6204,Spiele!B:B,Spiele!D:D))","v":""},{"$f":"IF(B6204=\"\",\"\",LOOKUP(B6204,Spiele!B:B,Spiele!E:E))","v":""},{"$f":"IF(B6204=\"\",\"\",LOOKUP(B6204,Spiele!B:B,Spiele!F:F))","v":""},"","","",null,null,-1,-1,1,0]
[null,null,{"$f":"IF(B6207=\"\",\"\",LOOKUP(B6207,Spiele!B:B,Spiele!C:C))","v":""},{"$f":"IF(B6207=\"\",\"\",LOOKUP(B6207,Spiele!B:B,Spiele!D:D))","v":""},{"$f":"IF(B6207=\"\",\"\",LOOKUP(B6207,Spiele!B:B,Spiele!E:E))","v":""},{"$f":"IF(B6207=\"\",\"\",LOOKUP(B6207,Spiele!B:B,Spiele!F:F))","v":""},"","","",null,null,-1,-1,1,0]
[null,null,{"$f":"IF(B6212=\"\",\"\",LOOKUP(B6212,Spiele!B:B,Spiele!C:C))","v":""},{"$f":"IF(B6212=\"\",\"\",LOOKUP(B6212,Spiele!B:B,Spiele!D:D))","v":""},{"$f":"IF(B6212=\"\",\"\",LOOKUP(B6212,Spiele!B:B,Spiele!E:E))","v":""},{"$f":"IF(B6212=\"\",\"\",LOOKUP(B6212,Spiele!B:B,Spiele!F:F))","v":""},"","","",null,null,-1,-1,1,0]
[null,null,{"$f":"IF(B6213=\"\",\"\",LOOKUP(B6213,Spiele!B:B,Spiele!C:C))","v":""},{"$f":"IF(B6213=\"\",\"\",LOOKUP(B6213,Spiele!B:B,Spiele!D:D))","v":""},{"$f":"IF(B6213=\"\",\"\",LOOKUP(B6213,Spiele!B:B,Spiele!E:E))","v":""},{"$f":"IF(B6213=\"\",\"\",LOOKUP(B6213,Spiele!B:B,Spiele!F:F))","v":""},"","","",null,null,-1,-1,1,0]
[null,null,{"$f":"IF(B6218=\"\",\"\",LOOKUP(B6218,Spiele!B:B,Spiele!C:C))","v":""},{"$f":"IF(B6218=\"\",\"\",LOOKUP(B6218,Spiele!B:B,Spiele!D:D))","v":""},{"$f":"IF(B6218=\"\",\"\",LOOKUP(B6218,Spiele!B:B,Spiele!E:E))","v":""},{"$f":"IF(B6218=\"\",\"\",LOOKUP(B6218,Spiele!B:B,Spiele!F:F))","v":""},"","","",null,null,-1,-1,1,0]
[null,null,{"$f":"IF(B6222=\"\",\"\",LOOKUP(B6222,Spiele!B:B,Spiele!C:C))","v":""},{"$f":"IF(B6222=\"\",\"\",LOOKUP(B6222,Spiele!B:B,Spiele!D:D))","v":""},{"$f":"IF(B6222=\"\",\"\",LOOKUP(B6222,Spiele!B:B,Spiele!E:E))","v":""},{"$f":"IF(B6222=\"\",\"\",LOOKUP(B6222,Spiele!B:B,Spiele!F:F))","v":""},"","","",null,null,-1,-1,1,0]
[null,null,{"$f":"IF(B6227=\"\",\"\",LOOKUP(B6227,Spiele!B:B,Spiele!C:C))","v":""},{"$f":"IF(B6227=\"\",\"\",LOOKUP(B6227,Spiele!B:B,Spiele!D:D))","v":""},{"$f":"IF(B6227=\"\",\"\",LOOKUP(B6227,Spiele!B:B,Spiele!E:E))","v":""},{"$f":"IF(B6227=\"\",\"\",LOOKUP(B6227,Spiele!B:B,Spiele!F:F))","v":""},"","","",null,null,-1,-1,1,0]
[null,null,{"$f":"IF(B6228=\"\",\"\",LOOKUP(B6228,Spiele!B:B,Spiele!C:C))","v":""},{"$f":"IF(B6228=\"\",\"\",LOOKUP(B6228,Spiele!B:B,Spiele!D:D))","v":""},{"$f":"IF(B6228=\"\",\"\",LOOKUP(B6228,Spiele!B:B,Spiele!E:E))","v":""},{"$f":"IF(B6228=\"\",\"\",LOOKUP(B6228,Spiele!B:B,Spiele!F:F))","v":""},"","","",null,null,-1,-1,1,0]
[null,null,{"$f":"IF(B6234=\"\",\"\",LOOKUP(B6234,Spiele!B:B,Spiele!C:C))","v":""},{"$f":"IF(B6234=\"\",\"\",LOOKUP(B6234,Spiele!B:B,Spiele!D:D))","v":""},{"$f":"IF(B6234=\"\",\"\",LOOKUP(B6234,Spiele!B:B,Spiele!E:E))","v":""},{"$f":"IF(B6234=\"\",\"\",LOOKUP(B6234,Spiele!B:B,Spiele!F:F))","v":""},"","","",null,null,-1,-1,1,0]
[null,null,{"$f":"IF(B6237=\"\",\"\",LOOKUP(B6237,Spiele!B:B,Spiele!C:C))","v":""},{"$f":"IF(B6237=\"\",\"\",LOOKUP(B6237,Spiele!B:B,Spiele!D:D))","v":""},{"$f":"IF(B6237=\"\",\"\",LOOKUP(B6237,Spiele!B:B,Spiele!E:E))","v":""},{"$f":"IF(B6237=\"\",\"\",LOOKUP(B6237,Spiele!B:B,Spiele!F:F))","v":""},"","","",null,null,-1,-1,1,0]
[null,null,{"$f":"IF(B6242=\"\",\"\",LOOKUP(B6242,Spiele!B:B,Spiele!C:C))","v":""},{"$f":"IF(B6242=\"\",\"\",LOOKUP(B6242,Spiele!B:B,Spiele!D:D))","v":""},{"$f":"IF(B6242=\"\",\"\",LOOKUP(B6242,Spiele!B:B,Spiele!E:E))","v":""},{"$f":"IF(B6242=\"\",\"\",LOOKUP(B6242,Spiele!B:B,Spiele!F:F))","v":""},"","","",null,null,-1,-1,1,0]
[null,null,{"$f":"IF(B6243=\"\",\"\",LOOKUP(B6243,Spiele!B:B,Spiele!C:C))","v":""},{"$f":"IF(B6243=\"\",\"\",LOOKUP(B6243,Spiele!B:B,Spiele!D:D))","v":""},{"$f":"IF(B6243=\"\",\"\",LOOKUP(B6243,Spiele!B:B,Spiele!E:E))","v":""},{"$f":"IF(B6243=\"\",\"\",LOOKUP(B6243,Spiele!B:B,Spiele!F:F))","v":""},"","","",null,null,-1,-1,1,0]
[null,null,{"$f":"IF(B6248=\"\",\"\",LOOKUP(B6248,Spiele!B:B,Spiele!C:C))","v":""},{"$f":"IF(B6248=\"\",\"\",LOOKUP(B6248,Spiele!B:B,Spiele!D:D))","v":""},{"$f":"IF(B6248=\"\",\"\",LOOKUP(B6248,Spiele!B:B,Spiele!E:E))","v":""},{"$f":"IF(B6248=\"\",\"\",LOOKUP(B6248,Spiele!B:B,Spiele!F:F))","v":""},"","","",null,null,-1,-1,1,0]
[null,null,{"$f":"IF(B6252=\"\",\"\",LOOKUP(B6252,Spiele!B:B,Spiele!C:C))","v":""},{"$f":"IF(B6252=\"\",\"\",LOOKUP(B6252,Spiele!B:B,Spiele!D:D))","v":""},{"$f":"IF(B6252=\"\",\"\",LOOKUP(B6252,Spiele!B:B,Spiele!E:E))","v":""},{"$f":"IF(B6252=\"\",\"\",LOOKUP(B6252,Spiele!B:B,Spiele!F:F))","v":""},"","","",null,null,-1,-1,1,0]
[null,null,{"$f":"IF(B6257=\"\",\"\",LOOKUP(B6257,Spiele!B:B,Spiele!C:C))","v":""},{"$f":"IF(B6257=\"\",\"\",LOOKUP(B6257,Spiele!B:B,Spiele!D:D))","v":""},{"$f":"IF(B6257=\"\",\"\",LOOKUP(B6257,Spiele!B:B,Spiele!E:E))","v":""},{"$f":"IF(B6257=\"\",\"\",LOOKUP(B6257,Spiele!B:B,Spiele!F:F))","v":""},"","","",null,null,-1,-1,1,0]
[null,null,{"$f":"IF(B6258=\"\",\"\",LOOKUP(B6258,Spiele!B:B,Spiele!C:C))","v":""},{"$f":"IF(B6258=\"\",\"\",LOOKUP(B6258,Spiele!B:B,Spiele!D:D))","v":""},{"$f":"IF(B6258=\"\",\"\",LOOKUP(B6258,Spiele!B:B,Spiele!E:E))","v":""},{"$f":"IF(B6258=\"\",\"\",LOOKUP(B6258,Spiele!B:B,Spiele!F:F))","v":""},"","","",null,null,-1,-1,1,0]
[null,null,{"$f":"IF(B6264=\"\",\"\",LOOKUP(B6264,Spiele!B:B,Spiele!C:C))","v":""},{"$f":"IF(B6264=\"\",\"\",LOOKUP(B6264,Spiele!B:B,Spiele!D:D))","v":""},{"$f":"IF(B6264=\"\",\"\",LOOKUP(B6264,Spiele!B:B,Spiele!E:E))","v":""},{"$f":"IF(B6264=\"\",\"\",LOOKUP(B6264,Spiele!B:B,Spiele!F:F))","v":""},"","","",null,null,-1,-1,1,0]
[null,null,{"$f":"IF(B6267=\"\",\"\",LOOKUP(B6267,Spiele!B:B,Spiele!C:C))","v":""},{"$f":"IF(B6267=\"\",\"\",LOOKUP(B6267,Spiele!B:B,Spiele!D:D))","v":""},{"$f":"IF(B6267=\"\",\"\",LOOKUP(B6267,Spiele!B:B,Spiele!E:E))","v":""},{"$f":"IF(B6267=\"\",\"\",LOOKUP(B6267,Spiele!B:B,Spiele!F:F))","v":""},"","","",null,null,-1,-1,1,0]
[null,null,{"$f":"IF(B6272=\"\",\"\",LOOKUP(B6272,Spiele!B:B,Spiele!C:C))","v":""},{"$f":"IF(B6272=\"\",\"\",LOOKUP(B6272,Spiele!B:B,Spiele!D:D))","v":""},{"$f":"IF(B6272=\"\",\"\",LOOKUP(B6272,Spiele!B:B,Spiele!E:E))","v":""},{"$f":"IF(B6272=\"\",\"\",LOOKUP(B6272,Spiele!B:B,Spiele!F:F))","v":""},"","","",null,null,-1,-1,1,0]
[null,null,{"$f":"IF(B6273=\"\",\"\",LOOKUP(B6273,Spiele!B:B,Spiele!C:C))","v":""},{"$f":"IF(B6273=\"\",\"\",LOOKUP(B6273,Spiele!B:B,Spiele!D:D))","v":""},{"$f":"IF(B6273=\"\",\"\",LOOKUP(B6273,Spiele!B:B,Spiele!E:E))","v":""},{"$f":"IF(B6273=\"\",\"\",LOOKUP(B6273,Spiele!B:B,Spiele!F:F))","v":""},"","","",null,null,-1,-1,1,0]
[null,null,{"$f":"IF(B6278=\"\",\"\",LOOKUP(B6278,Spiele!B:B,Spiele!C:C))","v":""},{"$f":"IF(B6278=\"\",\"\",LOOKUP(B6278,Spiele!B:B,Spiele!D:D))","v":""},{"$f":"IF(B6278=\"\",\"\",LOOKUP(B6278,Spiele!B:B,Spiele!E:E))","v":""},{"$f":"IF(B6278=\"\",\"\",LOOKUP(B6278,Spiele!B:B,Spiele!F:F))","v":""},"","","",null,null,-1,-1,1,0]
[null,null,{"$f":"IF(B6282=\"\",\"\",LOOKUP(B6282,Spiele!B:B,Spiele!C:C))","v":""},{"$f":"IF(B6282=\"\",\"\",LOOKUP(B6282,Spiele!B:B,Spiele!D:D))","v":""},{"$f":"IF(B6282=\"\",\"\",LOOKUP(B6282,Spiele!B:B,Spiele!E:E))","v":""},{"$f":"IF(B6282=\"\",\"\",LOOKUP(B6282,Spiele!B:B,Spiele!F:F))","v":""},"","","",null,null,-1,-1,1,0]
[null,null,{"$f":"IF(B6287=\"\",\"\",LOOKUP(B6287,Spiele!B:B,Spiele!C:C))","v":""},{"$f":"IF(B6287=\"\",\"\",LOOKUP(B6287,Spiele!B:B,Spiele!D:D))","v":""},{"$f":"IF(B6287=\"\",\"\",LOOKUP(B6287,Spiele!B:B,Spiele!E:E))","v":""},{"$f":"IF(B6287=\"\",\"\",LOOKUP(B6287,Spiele!B:B,Spiele!F:F))","v":""},"","","",null,null,-1,-1,1,0]
[null,null,{"$f":"IF(B6288=\"\",\"\",LOOKUP(B6288,Spiele!B:B,Spiele!C:C))","v":""},{"$f":"IF(B6288=\"\",\"\",LOOKUP(B6288,Spiele!B:B,Spiele!D:D))","v":""},{"$f":"IF(B6288=\"\",\"\",LOOKUP(B6288,Spiele!B:B,Spiele!E:E))","v":""},{"$f":"IF(B6288=\"\",\"\",LOOKUP(B6288,Spiele!B:B,Spiele!F:F))","v":""},"","","",null,null,-1,-1,1,0]
[null,null,{"$f":"IF(B6294=\"\",\"\",LOOKUP(B6294,Spiele!B:B,Spiele!C:C))","v":""},{"$f":"IF(B6294=\"\",\"\",LOOKUP(B6294,Spiele!B:B,Spiele!D:D))","v":""},{"$f":"IF(B6294=\"\",\"\",LOOKUP(B6294,Spiele!B:B,Spiele!E:E))","v":""},{"$f":"IF(B6294=\"\",\"\",LOOKUP(B6294,Spiele!B:B,Spiele!F:F))","v":""},"","","",null,null,-1,-1,1,0]
[null,null,{"$f":"IF(B6297=\"\",\"\",LOOKUP(B6297,Spiele!B:B,Spiele!C:C))","v":""},{"$f":"IF(B6297=\"\",\"\",LOOKUP(B6297,Spiele!B:B,Spiele!D:D))","v":""},{"$f":"IF(B6297=\"\",\"\",LOOKUP(B6297,Spiele!B:B,Spiele!E:E))","v":""},{"$f":"IF(B6297=\"\",\"\",LOOKUP(B6297,Spiele!B:B,Spiele!F:F))","v":""},"","","",null,null,-1,-1,1,0]
[null,null,{"$f":"IF(B6302=\"\",\"\",LOOKUP(B6302,Spiele!B:B,Spiele!C:C))","v":""},{"$f":"IF(B6302=\"\",\"\",LOOKUP(B6302,Spiele!B:B,Spiele!D:D))","v":""},{"$f":"IF(B6302=\"\",\"\",LOOKUP(B6302,Spiele!B:B,Spiele!E:E))","v":""},{"$f":"IF(B6302=\"\",\"\",LOOKUP(B6302,Spiele!B:B,Spiele!F:F))","v":""},"","","",null,null,-1,-1,1,0]
[null,null,{"$f":"IF(B6303=\"\",\"\",LOOKUP(B6303,Spiele!B:B,Spiele!C:C))","v":""},{"$f":"IF(B6303=\"\",\"\",LOOKUP(B6303,Spiele!B:B,Spiele!D:D))","v":""},{"$f":"IF(B6303=\"\",\"\",LOOKUP(B6303,Spiele!B:B,Spiele!E:E))","v":""},{"$f":"IF(B6303=\"\",\"\",LOOKUP(B6303,Spiele!B:B,Spiele!F:F))","v":""},"","","",null,null,-1,-1,1,0]
[null,null,{"$f":"IF(B6308=\"\",\"\",LOOKUP(B6308,Spiele!B:B,Spiele!C:C))","v":""},{"$f":"IF(B6308=\"\",\"\",LOOKUP(B6308,Spiele!B:B,Spiele!D:D))","v":""},{"$f":"IF(B6308=\"\",\"\",LOOKUP(B6308,Spiele!B:B,Spiele!E:E))","v":""},{"$f":"IF(B6308=\"\",\"\",LOOKUP(B6308,Spiele!B:B,Spiele!F:F))","v":""},"","","",null,null,-1,-1,1,0]
[null,null,{"$f":"IF(B6312=\"\",\"\",LOOKUP(B6312,Spiele!B:B,Spiele!C:C))","v":""},{"$f":"IF(B6312=\"\",\"\",LOOKUP(B6312,Spiele!B:B,Spiele!D:D))","v":""},{"$f":"IF(B6312=\"\",\"\",LOOKUP(B6312,Spiele!B:B,Spiele!E:E))","v":""},{"$f":"IF(B6312=\"\",\"\",LOOKUP(B6312,Spiele!B:B,Spiele!F:F))","v":""},"","","",null,null,-1,-1,1,0]
[null,null,{"$f":"IF(B6317=\"\",\"\",LOOKUP(B6317,Spiele!B:B,Spiele!C:C))","v":""},{"$f":"IF(B6317=\"\",\"\",LOOKUP(B6317,Spiele!B:B,Spiele!D:D))","v":""},{"$f":"IF(B6317=\"\",\"\",LOOKUP(B6317,Spiele!B:B,Spiele!E:E))","v":""},{"$f":"IF(B6317=\"\",\"\",LOOKUP(B6317,Spiele!B:B,Spiele!F:F))","v":""},"","","",null,null,-1,-1,1,0]
[null,null,{"$f":"IF(B6318=\"\",\"\",LOOKUP(B6318,Spiele!B:B,Spiele!C:C))","v":""},{"$f":"IF(B6318=\"\",\"\",LOOKUP(B6318,Spiele!B:B,Spiele!D:D))","v":""},{"$f":"IF(B6318=\"\",\"\",LOOKUP(B6318,Spiele!B:B,Spiele!E:E))","v":""},{"$f":"IF(B6318=\"\",\"\",LOOKUP(B6318,Spiele!B:B,Spiele!F:F))","v":""},"","","",null,null,-1,-1,1,0]
[null,null,{"$f":"IF(B6322=\"\",\"\",LOOKUP(B6322,Spiele!B:B,Spiele!C:C))","v":""},{"$f":"IF(B6322=\"\",\"\",LOOKUP(B6322,Spiele!B:B,Spiele!D:D))","v":""},{"$f":"IF(B6322=\"\",\"\",LOOKUP(B6322,Spiele!B:B,Spiele!E:E))","v":""},{"$f":"IF(B6322=\"\",\"\",LOOKUP(B6322,Spiele!B:B,Spiele!F:F))","v":""},"","","",null,null,-1,-1,1,0]
[null,null,{"$f":"IF(B6327=\"\",\"\",LOOKUP(B6327,Spiele!B:B,Spiele!C:C))","v":""},{"$f":"IF(B6327=\"\",\"\",LOOKUP(B6327,Spiele!B:B,Spiele!D:D))","v":""},{"$f":"IF(B6327=\"\",\"\",LOOKUP(B6327,Spiele!B:B,Spiele!E:E))","v":""},{"$f":"IF(B6327=\"\",\"\",LOOKUP(B6327,Spiele!B:B,Spiele!F:F))","v":""},"","","",null,null,-1,-1,1,0]
[null,null,{"$f":"IF(B6332=\"\",\"\",LOOKUP(B6332,Spiele!B:B,Spiele!C:C))","v":""},{"$f":"IF(B6332=\"\",\"\",LOOKUP(B6332,Spiele!B:B,Spiele!D:D))","v":""},{"$f":"IF(B6332=\"\",\"\",LOOKUP(B6332,Spiele!B:B,Spiele!E:E))","v":""},{"$f":"IF(B6332=\"\",\"\",LOOKUP(B6332,Spiele!B:B,Spiele!F:F))","v":""},"","","",null,null,-1,-1,1,0]
[null,null,{"$f":"IF(B6333=\"\",\"\",LOOKUP(B6333,Spiele!B:B,Spiele!C:C))","v":""},{"$f":"IF(B6333=\"\",\"\",LOOKUP(B6333,Spiele!B:B,Spiele!D:D))","v":""},{"$f":"IF(B6333=\"\",\"\",LOOKUP(B6333,Spiele!B:B,Spiele!E:E))","v":""},{"$f":"IF(B6333=\"\",\"\",LOOKUP(B6333,Spiele!B:B,Spiele!F:F))","v":""},"","","",null,null,-1,-1,1,0]
[null,null,{"$f":"IF(B6338=\"\",\"\",LOOKUP(B6338,Spiele!B:B,Spiele!C:C))","v":""},{"$f":"IF(B6338=\"\",\"\",LOOKUP(B6338,Spiele!B:B,Spiele!D:D))","v":""},{"$f":"IF(B6338=\"\",\"\",LOOKUP(B6338,Spiele!B:B,Spiele!E:E))","v":""},{"$f":"IF(B6338=\"\",\"\",LOOKUP(B6338,Spiele!B:B,Spiele!F:F))","v":""},"","","",null,null,-1,-1,1,0]
[null,null,{"$f":"IF(B6342=\"\",\"\",LOOKUP(B6342,Spiele!B:B,Spiele!C:C))","v":""},{"$f":"IF(B6342=\"\",\"\",LOOKUP(B6342,Spiele!B:B,Spiele!D:D))","v":""},{"$f":"IF(B6342=\"\",\"\",LOOKUP(B6342,Spiele!B:B,Spiele!E:E))","v":""},{"$f":"IF(B6342=\"\",\"\",LOOKUP(B6342,Spiele!B:B,Spiele!F:F))","v":""},"","","",null,null,-1,-1,1,0]
[null,null,{"$f":"IF(B6347=\"\",\"\",LOOKUP(B6347,Spiele!B:B,Spiele!C:C))","v":""},{"$f":"IF(B6347=\"\",\"\",LOOKUP(B6347,Spiele!B:B,Spiele!D:D))","v":""},{"$f":"IF(B6347=\"\",\"\",LOOKUP(B6347,Spiele!B:B,Spiele!E:E))","v":""},{"$f":"IF(B6347=\"\",\"\",LOOKUP(B6347,Spiele!B:B,Spiele!F:F))","v":""},"","","",null,null,-1,-1,1,0]
[null,null,{"$f":"IF(B6348=\"\",\"\",LOOKUP(B6348,Spiele!B:B,Spiele!C:C))","v":""},{"$f":"IF(B6348=\"\",\"\",LOOKUP(B6348,Spiele!B:B,Spiele!D:D))","v":""},{"$f":"IF(B6348=\"\",\"\",LOOKUP(B6348,Spiele!B:B,Spiele!E:E))","v":""},{"$f":"IF(B6348=\"\",\"\",LOOKUP(B6348,Spiele!B:B,Spiele!F:F))","v":""},"","","",null,null,-1,-1,1,0]
[null,null,{"$f":"IF(B6352=\"\",\"\",LOOKUP(B6352,Spiele!B:B,Spiele!C:C))","v":""},{"$f":"IF(B6352=\"\",\"\",LOOKUP(B6352,Spiele!B:B,Spiele!D:D))","v":""},{"$f":"IF(B6352=\"\",\"\",LOOKUP(B6352,Spiele!B:B,Spiele!E:E))","v":""},{"$f":"IF(B6352=\"\",\"\",LOOKUP(B6352,Spiele!B:B,Spiele!F:F))","v":""},"","","",null,null,-1,-1,1,0]
[null,null,{"$f":"IF(B6357=\"\",\"\",LOOKUP(B6357,Spiele!B:B,Spiele!C:C))","v":""},{"$f":"IF(B6357=\"\",\"\",LOOKUP(B6357,Spiele!B:B,Spiele!D:D))","v":""},{"$f":"IF(B6357=\"\",\"\",LOOKUP(B6357,Spiele!B:B,Spiele!E:E))","v":""},{"$f":"IF(B6357=\"\",\"\",LOOKUP(B6357,Spiele!B:B,Spiele!F:F))","v":""},"","","",null,null,-1,-1,1,0]
[null,null,{"$f":"IF(B6362=\"\",\"\",LOOKUP(B6362,Spiele!B:B,Spiele!C:C))","v":""},{"$f":"IF(B6362=\"\",\"\",LOOKUP(B6362,Spiele!B:B,Spiele!D:D))","v":""},{"$f":"IF(B6362=\"\",\"\",LOOKUP(B6362,Spiele!B:B,Spiele!E:E))","v":""},{"$f":"IF(B6362=\"\",\"\",LOOKUP(B6362,Spiele!B:B,Spiele!F:F))","v":""},"","","",null,null,-1,-1,1,0]
[null,null,{"$f":"IF(B6363=\"\",\"\",LOOKUP(B6363,Spiele!B:B,Spiele!C:C))","v":""},{"$f":"IF(B6363=\"\",\"\",LOOKUP(B6363,Spiele!B:B,Spiele!D:D))","v":""},{"$f":"IF(B6363=\"\",\"\",LOOKUP(B6363,Spiele!B:B,Spiele!E:E))","v":""},{"$f":"IF(B6363=\"\",\"\",LOOKUP(B6363,Spiele!B:B,Spiele!F:F))","v":""},"","","",null,null,-1,-1,1,0]
[null,null,{"$f":"IF(B6368=\"\",\"\",LOOKUP(B6368,Spiele!B:B,Spiele!C:C))","v":""},{"$f":"IF(B6368=\"\",\"\",LOOKUP(B6368,Spiele!B:B,Spiele!D:D))","v":""},{"$f":"IF(B6368=\"\",\"\",LOOKUP(B6368,Spiele!B:B,Spiele!E:E))","v":""},{"$f":"IF(B6368=\"\",\"\",LOOKUP(B6368,Spiele!B:B,Spiele!F:F))","v":""},{"$f":"IF(E6368=\"\",\"\",IF(E6368>F6368,1,0))","v":""},{"$f":"IF(F6368=\"\",\"\",IF(E6368<F6368,1,0))","v":""},{"$f":"IF(E6368=\"\",\"\",IF(E6368=F6368,1,0))","v":""},null,null,{"$f":"IF(E6368=\"\",-1,IF(J6368>K6368,1,-1))","v":-1},{"$f":"IF(F6368=\"\",-1,IF(J6368<K6368,1,-1))","v":-1},{"$f":"IF(E6368=\"-\",-1,IF(J6368=K6368,1,-1))","v":1},{"$f":"IF(E6368=\"\",0,IF(E6368=J6368,1,0)+IF(F6368=K6368,1,0)+IF(G6368=L6368,1,0)+IF(H6368=M6368,1,0)+IF(I6368=N6368,1,0))","v":0}]
[null,null,{"$f":"IF(B6372=\"\",\"\",LOOKUP(B6372,Spiele!B:B,Spiele!C:C))","v":""},{"$f":"IF(B6372=\"\",\"\",LOOKUP(B6372,Spiele!B:B,Spiele!D:D))","v":""},{"$f":"IF(B6372=\"\",\"\",LOOKUP(B6372,Spiele!B:B,Spiele!E:E))","v":""},{"$f":"IF(B6372=\"\",\"\",LOOKUP(B6372,Spiele!B:B,Spiele!F:F))","v":""},"","","",null,null,-1,-1,1,0]
[null,null,{"$f":"IF(B6377=\"\",\"\",LOOKUP(B6377,Spiele!B:B,Spiele!C:C))","v":""},{"$f":"IF(B6377=\"\",\"\",LOOKUP(B6377,Spiele!B:B,Spiele!D:D))","v":""},{"$f":"IF(B6377=\"\",\"\",LOOKUP(B6377,Spiele!B:B,Spiele!E:E))","v":""},{"$f":"IF(B6377=\"\",\"\",LOOKUP(B6377,Spiele!B:B,Spiele!F:F))","v":""},"","","",null,null,-1,-1,1,0]
[null,null,{"$f":"IF(B6378=\"\",\"\",LOOKUP(B6378,Spiele!B:B,Spiele!C:C))","v":""},{"$f":"IF(B6378=\"\",\"\",LOOKUP(B6378,Spiele!B:B,Spiele!D:D))","v":""},{"$f":"IF(B6378=\"\",\"\",LOOKUP(B6378,Spiele!B:B,Spiele!E:E))","v":""},{"$f":"IF(B6378=\"\",\"\",LOOKUP(B6378,Spiele!B:B,Spiele!F:F))","v":""},"","","",null,null,-1,-1,1,0]
[null,null,{"$f":"IF(B6382=\"\",\"\",LOOKUP(B6382,Spiele!B:B,Spiele!C:C))","v":""},{"$f":"IF(B6382=\"\",\"\",LOOKUP(B6382,Spiele!B:B,Spiele!D:D))","v":""},{"$f":"IF(B6382=\"\",\"\",LOOKUP(B6382,Spiele!B:B,Spiele!E:E))","v":""},{"$f":"IF(B6382=\"\",\"\",LOOKUP(B6382,Spiele!B:B,Spiele!F:F))","v":""},"","","",null,null,-1,-1,1,0]
[null,null,{"$f":"IF(B6387=\"\",\"\",LOOKUP(B6387,Spiele!B:B,Spiele!C:C))","v":""},{"$f":"IF(B6387=\"\",\"\",LOOKUP(B6387,Spiele!B:B,Spiele!D:D))","v":""},{"$f":"IF(B6387=\"\",\"\",LOOKUP(B6387,Spiele!B:B,Spiele!E:E))","v":""},{"$f":"IF(B6387=\"\",\"\",LOOKUP(B6387,Spiele!B:B,Spiele!F:F))","v":""},"","","",null,null,-1,-1,1,0]
[null,null,{"$f":"IF(B6392=\"\",\"\",LOOKUP(B6392,Spiele!B:B,Spiele!C:C))","v":""},{"$f":"IF(B6392=\"\",\"\",LOOKUP(B6392,Spiele!B:B,Spiele!D:D))","v":""},{"$f":"IF(B6392=\"\",\"\",LOOKUP(B6392,Spiele!B:B,Spiele!E:E))","v":""},{"$f":"IF(B6392=\"\",\"\",LOOKUP(B6392,Spiele!B:B,Spiele!F:F))","v":""},"","","",null,null,-1,-1,1,0]
[null,null,{"$f":"IF(B6393=\"\",\"\",LOOKUP(B6393,Spiele!B:B,Spiele!C:C))","v":""},{"$f":"IF(B6393=\"\",\"\",LOOKUP(B6393,Spiele!B:B,Spiele!D:D))","v":""},{"$f":"IF(B6393=\"\",\"\",LOOKUP(B6393,Spiele!B:B,Spiele!E:E))","v":""},{"$f":"IF(B6393=\"\",\"\",LOOKUP(B6393,Spiele!B:B,Spiele!F:F))","v":""},"","","",null,null,-1,-1,1,0]
[null,null,{"$f":"IF(B6398=\"\",\"\",LOOKUP(B6398,Spiele!B:B,Spiele!C:C))","v":""},{"$f":"IF(B6398=\"\",\"\",LOOKUP(B6398,Spiele!B:B,Spiele!D:D))","v":""},{"$f":"IF(B6398=\"\",\"\",LOOKUP(B6398,Spiele!B:B,Spiele!E:E))","v":""},{"$f":"IF(B6398=\"\",\"\",LOOKUP(B6398,Spiele!B:B,Spiele!F:F))","v":""},"","","",null,null,-1,-1,1,0]
[null,null,{"$f":"IF(B6402=\"\",\"\",LOOKUP(B6402,Spiele!B:B,Spiele!C:C))","v":""},{"$f":"IF(B6402=\"\",\"\",LOOKUP(B6402,Spiele!B:B,Spiele!D:D))","v":""},{"$f":"IF(B6402=\"\",\"\",LOOKUP(B6402,Spiele!B:B,Spiele!E:E))","v":""},{"$f":"IF(B6402=\"\",\"\",LOOKUP(B6402,Spiele!B:B,Spiele!F:F))","v":""},"","","",null,null,-1,-1,1,0]
[null,null,{"$f":"IF(B6407=\"\",\"\",LOOKUP(B6407,Spiele!B:B,Spiele!C:C))","v":""},{"$f":"IF(B6407=\"\",\"\",LOOKUP(B6407,Spiele!B:B,Spiele!D:D))","v":""},{"$f":"IF(B6407=\"\",\"\",LOOKUP(B6407,Spiele!B:B,Spiele!E:E))","v":""},{"$f":"IF(B6407=\"\",\"\",LOOKUP(B6407,Spiele!B:B,Spiele!F:F))","v":""},"","","",null,null,-1,-1,1,0]
[null,null,{"$f":"IF(B6408=\"\",\"\",LOOKUP(B6408,Spiele!B:B,Spiele!C:C))","v":""},{"$f":"IF(B6408=\"\",\"\",LOOKUP(B6408,Spiele!B:B,Spiele!D:D))","v":""},{"$f":"IF(B6408=\"\",\"\",LOOKUP(B6408,Spiele!B:B,Spiele!E:E))","v":""},{"$f":"IF(B6408=\"\",\"\",LOOKUP(B6408,Spiele!B:B,Spiele!F:F))","v":""},"","","",null,null,-1,-1,1,0]
[null,null,{"$f":"IF(B6412=\"\",\"\",LOOKUP(B6412,Spiele!B:B,Spiele!C:C))","v":""},{"$f":"IF(B6412=\"\",\"\",LOOKUP(B6412,Spiele!B:B,Spiele!D:D))","v":""},{"$f":"IF(B6412=\"\",\"\",LOOKUP(B6412,Spiele!B:B,Spiele!E:E))","v":""},{"$f":"IF(B6412=\"\",\"\",LOOKUP(B6412,Spiele!B:B,Spiele!F:F))","v":""},"","","",null,null,-1,-1,1,0]
[null,null,{"$f":"IF(B6417=\"\",\"\",LOOKUP(B6417,Spiele!B:B,Spiele!C:C))","v":""},{"$f":"IF(B6417=\"\",\"\",LOOKUP(B6417,Spiele!B:B,Spiele!D:D))","v":""},{"$f":"IF(B6417=\"\",\"\",LOOKUP(B6417,Spiele!B:B,Spiele!E:E))","v":""},{"$f":"IF(B6417=\"\",\"\",LOOKUP(B6417,Spiele!B:B,Spiele!F:F))","v":""},"","","",null,null,-1,-1,1,0]
[null,null,{"$f":"IF(B6422=\"\",\"\",LOOKUP(B6422,Spiele!B:B,Spiele!C:C))","v":""},{"$f":"IF(B6422=\"\",\"\",LOOKUP(B6422,Spiele!B:B,Spiele!D:D))","v":""},{"$f":"IF(B6422=\"\",\"\",LOOKUP(B6422,Spiele!B:B,Spiele!E:E))","v":""},{"$f":"IF(B6422=\"\",\"\",LOOKUP(B6422,Spiele!B:B,Spiele!F:F))","v":""},"","","",null,null,-1,-1,1,0]
[null,null,{"$f":"IF(B6423=\"\",\"\",LOOKUP(B6423,Spiele!B:B,Spiele!C:C))","v":""},{"$f":"IF(B6423=\"\",\"\",LOOKUP(B6423,Spiele!B:B,Spiele!D:D))","v":""},{"$f":"IF(B6423=\"\",\"\",LOOKUP(B6423,Spiele!B:B,Spiele!E:E))","v":""},{"$f":"IF(B6423=\"\",\"\",LOOKUP(B6423,Spiele!B:B,Spiele!F:F))","v":""},"","","",null,null,-1,-1,1,0]
[null,null,{"$f":"IF(B6428=\"\",\"\",LOOKUP(B6428,Spiele!B:B,Spiele!C:C))","v":""},{"$f":"IF(B6428=\"\",\"\",LOOKUP(B6428,Spiele!B:B,Spiele!D:D))","v":""},{"$f":"IF(B6428=\"\",\"\",LOOKUP(B6428,Spiele!B:B,Spiele!E:E))","v":""},{"$f":"IF(B6428=\"\",\"\",LOOKUP(B6428,Spiele!B:B,Spiele!F:F))","v":""},"","","",null,null,-1,-1,1,0]
[null,null,{"$f":"IF(B6432=\"\",\"\",LOOKUP(B6432,Spiele!B:B,Spiele!C:C))","v":""},{"$f":"IF(B6432=\"\",\"\",LOOKUP(B6432,Spiele!B:B,Spiele!D:D))","v":""},{"$f":"IF(B6432=\"\",\"\",LOOKUP(B6432,Spiele!B:B,Spiele!E:E))","v":""},{"$f":"IF(B6432=\"\",\"\",LOOKUP(B6432,Spiele!B:B,Spiele!F:F))","v":""},{"$f":"IF(E6432=\"\",\"\",IF(E6432>F6432,1,0))","v":""},{"$f":"IF(F6432=\"\",\"\",IF(E6432<F6432,1,0))","v":""},{"$f":"IF(E6432=\"\",\"\",IF(E6432=F6432,1,0))","v":""},null,null,{"$f":"IF(E6432=\"\",-1,IF(J6432>K6432,1,-1))","v":-1},{"$f":"IF(F6432=\"\",-1,IF(J6432<K6432,1,-1))","v":-1},{"$f":"IF(E6432=\"-\",-1,IF(J6432=K6432,1,-1))","v":1},{"$f":"IF(E6432=\"\",0,IF(E6432=J6432,1,0)+IF(F6432=K6432,1,0)+IF(G6432=L6432,1,0)+IF(H6432=M6432,1,0)+IF(I6432=N6432,1,0))","v":0}]
[null,null,{"$f":"IF(B6437=\"\",\"\",LOOKUP(B6437,Spiele!B:B,Spiele!C:C))","v":""},{"$f":"IF(B6437=\"\",\"\",LOOKUP(B6437,Spiele!B:B,Spiele!D:D))","v":""},{"$f":"IF(B6437=\"\",\"\",LOOKUP(B6437,Spiele!B:B,Spiele!E:E))","v":""},{"$f":"IF(B6437=\"\",\"\",LOOKUP(B6437,Spiele!B:B,Spiele!F:F))","v":""},"","","",null,null,-1,-1,1,0]
[null,null,{"$f":"IF(B6438=\"\",\"\",LOOKUP(B6438,Spiele!B:B,Spiele!C:C))","v":""},{"$f":"IF(B6438=\"\",\"\",LOOKUP(B6438,Spiele!B:B,Spiele!D:D))","v":""},{"$f":"IF(B6438=\"\",\"\",LOOKUP(B6438,Spiele!B:B,Spiele!E:E))","v":""},{"$f":"IF(B6438=\"\",\"\",LOOKUP(B6438,Spiele!B:B,Spiele!F:F))","v":""},"","","",null,null,-1,-1,1,0]
[null,null,{"$f":"IF(B6442=\"\",\"\",LOOKUP(B6442,Spiele!B:B,Spiele!C:C))","v":""},{"$f":"IF(B6442=\"\",\"\",LOOKUP(B6442,Spiele!B:B,Spiele!D:D))","v":""},{"$f":"IF(B6442=\"\",\"\",LOOKUP(B6442,Spiele!B:B,Spiele!E:E))","v":""},{"$f":"IF(B6442=\"\",\"\",LOOKUP(B6442,Spiele!B:B,Spiele!F:F))","v":""},"","","",null,null,-1,-1,1,0]
[null,null,{"$f":"IF(B6447=\"\",\"\",LOOKUP(B6447,Spiele!B:B,Spiele!C:C))","v":""},{"$f":"IF(B6447=\"\",\"\",LOOKUP(B6447,Spiele!B:B,Spiele!D:D))","v":""},{"$f":"IF(B6447=\"\",\"\",LOOKUP(B6447,Spiele!B:B,Spiele!E:E))","v":""},{"$f":"IF(B6447=\"\",\"\",LOOKUP(B6447,Spiele!B:B,Spiele!F:F))","v":""},"","","",null,null,-1,-1,1,0]
[null,null,{"$f":"IF(B6452=\"\",\"\",LOOKUP(B6452,Spiele!B:B,Spiele!C:C))","v":""},{"$f":"IF(B6452=\"\",\"\",LOOKUP(B6452,Spiele!B:B,Spiele!D:D))","v":""},{"$f":"IF(B6452=\"\",\"\",LOOKUP(B6452,Spiele!B:B,Spiele!E:E))","v":""},{"$f":"IF(B6452=\"\",\"\",LOOKUP(B6452,Spiele!B:B,Spiele!F:F))","v":""},"","","",null,null,-1,-1,1,0]
[null,null,{"$f":"IF(B6453=\"\",\"\",LOOKUP(B6453,Spiele!B:B,Spiele!C:C))","v":""},{"$f":"IF(B6453=\"\",\"\",LOOKUP(B6453,Spiele!B:B,Spiele!D:D))","v":""},{"$f":"IF(B6453=\"\",\"\",LOOKUP(B6453,Spiele!B:B,Spiele!E:E))","v":""},{"$f":"IF(B6453=\"\",\"\",LOOKUP(B6453,Spiele!B:B,Spiele!F:F))","v":""},"","","",null,null,-1,-1,1,0]
[null,null,{"$f":"IF(B6458=\"\",\"\",LOOKUP(B6458,Spiele!B:B,Spiele!C:C))","v":""},{"$f":"IF(B6458=\"\",\"\",LOOKUP(B6458,Spiele!B:B,Spiele!D:D))","v":""},{"$f":"IF(B6458=\"\",\"\",LOOKUP(B6458,Spiele!B:B,Spiele!E:E))","v":""},{"$f":"IF(B6458=\"\",\"\",LOOKUP(B6458,Spiele!B:B,Spiele!F:F))","v":""},"","","",null,null,-1,-1,1,0]
[null,null,{"$f":"IF(B6462=\"\",\"\",LOOKUP(B6462,Spiele!B:B,Spiele!C:C))","v":""},{"$f":"IF(B6462=\"\",\"\",LOOKUP(B6462,Spiele!B:B,Spiele!D:D))","v":""},{"$f":"IF(B6462=\"\",\"\",LOOKUP(B6462,Spiele!B:B,Spiele!E:E))","v":""},{"$f":"IF(B6462=\"\",\"\",LOOKUP(B6462,Spiele!B:B,Spiele!F:F))","v":""},"","","",null,null,-1,-1,1,0]
[null,null,{"$f":"IF(B6467=\"\",\"\",LOOKUP(B6467,Spiele!B:B,Spiele!C:C))","v":""},{"$f":"IF(B6467=\"\",\"\",LOOKUP(B6467,Spiele!B:B,Spiele!D:D))","v":""},{"$f":"IF(B6467=\"\",\"\",LOOKUP(B6467,Spiele!B:B,Spiele!E:E))","v":""},{"$f":"IF(B6467=\"\",\"\",LOOKUP(B6467,Spiele!B:B,Spiele!F:F))","v":""},"","","",null,null,-1,-1,1,0]
[null,null,{"$f":"IF(B6468=\"\",\"\",LOOKUP(B6468,Spiele!B:B,Spiele!C:C))","v":""},{"$f":"IF(B6468=\"\",\"\",LOOKUP(B6468,Spiele!B:B,Spiele!D:D))","v":""},{"$f":"IF(B6468=\"\",\"\",LOOKUP(B6468,Spiele!B:B,Spiele!E:E))","v":""},{"$f":"IF(B6468=\"\",\"\",LOOKUP(B6468,Spiele!B:B,Spiele!F:F))","v":""},"","","",null,null,-1,-1,1,0]
[null,null,{"$f":"IF(B6472=\"\",\"\",LOOKUP(B6472,Spiele!B:B,Spiele!C:C))","v":""},{"$f":"IF(B6472=\"\",\"\",LOOKUP(B6472,Spiele!B:B,Spiele!D:D))","v":""},{"$f":"IF(B6472=\"\",\"\",LOOKUP(B6472,Spiele!B:B,Spiele!E:E))","v":""},{"$f":"IF(B6472=\"\",\"\",LOOKUP(B6472,Spiele!B:B,Spiele!F:F))","v":""},"","","",null,null,-1,-1,1,0]
[null,null,{"$f":"IF(B6477=\"\",\"\",LOOKUP(B6477,Spiele!B:B,Spiele!C:C))","v":""},{"$f":"IF(B6477=\"\",\"\",LOOKUP(B6477,Spiele!B:B,Spiele!D:D))","v":""},{"$f":"IF(B6477=\"\",\"\",LOOKUP(B6477,Spiele!B:B,Spiele!E:E))","v":""},{"$f":"IF(B6477=\"\",\"\",LOOKUP(B6477,Spiele!B:B,Spiele!F:F))","v":""},"","","",null,null,-1,-1,1,0]
[null,null,{"$f":"IF(B6482=\"\",\"\",LOOKUP(B6482,Spiele!B:B,Spiele!C:C))","v":""},{"$f":"IF(B6482=\"\",\"\",LOOKUP(B6482,Spiele!B:B,Spiele!D:D))","v":""},{"$f":"IF(B6482=\"\",\"\",LOOKUP(B6482,Spiele!B:B,Spiele!E:E))","v":""},{"$f":"IF(B6482=\"\",\"\",LOOKUP(B6482,Spiele!B:B,Spiele!F:F))","v":""},"","","",null,null,-1,-1,1,0]
[null,null,{"$f":"IF(B6483=\"\",\"\",LOOKUP(B6483,Spiele!B:B,Spiele!C:C))","v":""},{"$f":"IF(B6483=\"\",\"\",LOOKUP(B6483,Spiele!B:B,Spiele!D:D))","v":""},{"$f":"IF(B6483=\"\",\"\",LOOKUP(B6483,Spiele!B:B,Spiele!E:E))","v":""},{"$f":"IF(B6483=\"\",\"\",LOOKUP(B6483,Spiele!B:B,Spiele!F:F))","v":""},"","","",null,null,-1,-1,1,0]
[null,null,{"$f":"IF(B6488=\"\",\"\",LOOKUP(B6488,Spiele!B:B,Spiele!C:C))","v":""},{"$f":"IF(B6488=\"\",\"\",LOOKUP(B6488,Spiele!B:B,Spiele!D:D))","v":""},{"$f":"IF(B6488=\"\",\"\",LOOKUP(B6488,Spiele!B:B,Spiele!E:E))","v":""},{"$f":"IF(B6488=\"\",\"\",LOOKUP(B6488,Spiele!B:B,Spiele!F:F))","v":""},"","","",null,null,-1,-1,1,0]
[null,null,{"$f":"IF(B6492=\"\",\"\",LOOKUP(B6492,Spiele!B:B,Spiele!C:C))","v":""},{"$f":"IF(B6492=\"\",\"\",LOOKUP(B6492,Spiele!B:B,Spiele!D:D))","v":""},{"$f":"IF(B6492=\"\",\"\",LOOKUP(B6492,Spiele!B:B,Spiele!E:E))","v":""},{"$f":"IF(B6492=\"\",\"\",LOOKUP(B6492,Spiele!B:B,Spiele!F:F))","v":""},"","","",null,null,-1,-1,1,0]
[null,null,{"$f":"IF(B6497=\"\",\"\",LOOKUP(B6497,Spiele!B:B,Spiele!C:C))","v":""},{"$f":"IF(B6497=\"\",\"\",LOOKUP(B6497,Spiele!B:B,Spiele!D:D))","v":""},{"$f":"IF(B6497=\"\",\"\",LOOKUP(B6497,Spiele!B:B,Spiele!E:E))","v":""},{"$f":"IF(B6497=\"\",\"\",LOOKUP(B6497,Spiele!B:B,Spiele!F:F))","v":""},"","","",null,null,-1,-1,1,0]
[null,null,{"$f":"IF(B6498=\"\",\"\",LOOKUP(B6498,Spiele!B:B,Spiele!C:C))","v":""},{"$f":"IF(B6498=\"\",\"\",LOOKUP(B6498,Spiele!B:B,Spiele!D:D))","v":""},{"$f":"IF(B6498=\"\",\"\",LOOKUP(B6498,Spiele!B:B,Spiele!E:E))","v":""},{"$f":"IF(B6498=\"\",\"\",LOOKUP(B6498,Spiele!B:B,Spiele!F:F))","v":""},"","","",null,null,-1,-1,1,0]
[null,null,{"$f":"IF(B6502=\"\",\"\",LOOKUP(B6502,Spiele!B:B,Spiele!C:C))","v":""},{"$f":"IF(B6502=\"\",\"\",LOOKUP(B6502,Spiele!B:B,Spiele!D:D))","v":""},{"$f":"IF(B6502=\"\",\"\",LOOKUP(B6502,Spiele!B:B,Spiele!E:E))","v":""},{"$f":"IF(B6502=\"\",\"\",LOOKUP(B6502,Spiele!B:B,Spiele!F:F))","v":""},"","","",null,null,-1,-1,1,0]
[null,null,{"$f":"IF(B6507=\"\",\"\",LOOKUP(B6507,Spiele!B:B,Spiele!C:C))","v":""},{"$f":"IF(B6507=\"\",\"\",LOOKUP(B6507,Spiele!B:B,Spiele!D:D))","v":""},{"$f":"IF(B6507=\"\",\"\",LOOKUP(B6507,Spiele!B:B,Spiele!E:E))","v":""},{"$f":"IF(B6507=\"\",\"\",LOOKUP(B6507,Spiele!B:B,Spiele!F:F))","v":""},"","","",null,null,-1,-1,1,0]
[null,null,{"$f":"IF(B6512=\"\",\"\",LOOKUP(B6512,Spiele!B:B,Spiele!C:C))","v":""},{"$f":"IF(B6512=\"\",\"\",LOOKUP(B6512,Spiele!B:B,Spiele!D:D))","v":""},{"$f":"IF(B6512=\"\",\"\",LOOKUP(B6512,Spiele!B:B,Spiele!E:E))","v":""},{"$f":"IF(B6512=\"\",\"\",LOOKUP(B6512,Spiele!B:B,Spiele!F:F))","v":""},"","","",null,null,-1,-1,1,0]
[null,null,{"$f":"IF(B6513=\"\",\"\",LOOKUP(B6513,Spiele!B:B,Spiele!C:C))","v":""},{"$f":"IF(B6513=\"\",\"\",LOOKUP(B6513,Spiele!B:B,Spiele!D:D))","v":""},{"$f":"IF(B6513=\"\",\"\",LOOKUP(B6513,Spiele!B:B,Spiele!E:E))","v":""},{"$f":"IF(B6513=\"\",\"\",LOOKUP(B6513,Spiele!B:B,Spiele!F:F))","v":""},"","","",null,null,-1,-1,1,0]
[null,null,{"$f":"IF(B6518=\"\",\"\",LOOKUP(B6518,Spiele!B:B,Spiele!C:C))","v":""},{"$f":"IF(B6518=\"\",\"\",LOOKUP(B6518,Spiele!B:B,Spiele!D:D))","v":""},{"$f":"IF(B6518=\"\",\"\",LOOKUP(B6518,Spiele!B:B,Spiele!E:E))","v":""},{"$f":"IF(B6518=\"\",\"\",LOOKUP(B6518,Spiele!B:B,Spiele!F:F))","v":""},"","","",null,null,-1,-1,1,0]
[null,null,{"$f":"IF(B6522=\"\",\"\",LOOKUP(B6522,Spiele!B:B,Spiele!C:C))","v":""},{"$f":"IF(B6522=\"\",\"\",LOOKUP(B6522,Spiele!B:B,Spiele!D:D))","v":""},{"$f":"IF(B6522=\"\",\"\",LOOKUP(B6522,Spiele!B:B,Spiele!E:E))","v":""},{"$f":"IF(B6522=\"\",\"\",LOOKUP(B6522,Spiele!B:B,Spiele!F:F))","v":""},"","","",null,null,-1,-1,1,0]
[null,null,{"$f":"IF(B6527=\"\",\"\",LOOKUP(B6527,Spiele!B:B,Spiele!C:C))","v":""},{"$f":"IF(B6527=\"\",\"\",LOOKUP(B6527,Spiele!B:B,Spiele!D:D))","v":""},{"$f":"IF(B6527=\"\",\"\",LOOKUP(B6527,Spiele!B:B,Spiele!E:E))","v":""},{"$f":"IF(B6527=\"\",\"\",LOOKUP(B6527,Spiele!B:B,Spiele!F:F))","v":""},"","","",null,null,-1,-1,1,0]
[null,null,{"$f":"IF(B6528=\"\",\"\",LOOKUP(B6528,Spiele!B:B,Spiele!C:C))","v":""},{"$f":"IF(B6528=\"\",\"\",LOOKUP(B6528,Spiele!B:B,Spiele!D:D))","v":""},{"$f":"IF(B6528=\"\",\"\",LOOKUP(B6528,Spiele!B:B,Spiele!E:E))","v":""},{"$f":"IF(B6528=\"\",\"\",LOOKUP(B6528,Spiele!B:B,Spiele!F:F))","v":""},"","","",null,null,-1,-1,1,0]
[null,null,{"$f":"IF(B6532=\"\",\"\",LOOKUP(B6532,Spiele!B:B,Spiele!C:C))","v":""},{"$f":"IF(B6532=\"\",\"\",LOOKUP(B6532,Spiele!B:B,Spiele!D:D))","v":""},{"$f":"IF(B6532=\"\",\"\",LOOKUP(B6532,Spiele!B:B,Spiele!E:E))","v":""},{"$f":"IF(B6532=\"\",\"\",LOOKUP(B6532,Spiele!B:B,Spiele!F:F))","v":""},"","","",null,null,-1,-1,1,0]
[null,null,{"$f":"IF(B6537=\"\",\"\",LOOKUP(B6537,Spiele!B:B,Spiele!C:C))","v":""},{"$f":"IF(B6537=\"\",\"\",LOOKUP(B6537,Spiele!B:B,Spiele!D:D))","v":""},{"$f":"IF(B6537=\"\",\"\",LOOKUP(B6537,Spiele!B:B,Spiele!E:E))","v":""},{"$f":"IF(B6537=\"\",\"\",LOOKUP(B6537,Spiele!B:B,Spiele!F:F))","v":""},"","","",null,null,-1,-1,1,0]
[null,null,{"$f":"IF(B6542=\"\",\"\",LOOKUP(B6542,Spiele!B:B,Spiele!C:C))","v":""},{"$f":"IF(B6542=\"\",\"\",LOOKUP(B6542,Spiele!B:B,Spiele!D:D))","v":""},{"$f":"IF(B6542=\"\",\"\",LOOKUP(B6542,Spiele!B:B,Spiele!E:E))","v":""},{"$f":"IF(B6542=\"\",\"\",LOOKUP(B6542,Spiele!B:B,Spiele!F:F))","v":""},"","","",null,null,-1,-1,1,0]
[null,null,{"$f":"IF(B6543=\"\",\"\",LOOKUP(B6543,Spiele!B:B,Spiele!C:C))","v":""},{"$f":"IF(B6543=\"\",\"\",LOOKUP(B6543,Spiele!B:B,Spiele!D:D))","v":""},{"$f":"IF(B6543=\"\",\"\",LOOKUP(B6543,Spiele!B:B,Spiele!E:E))","v":""},{"$f":"IF(B6543=\"\",\"\",LOOKUP(B6543,Spiele!B:B,Spiele!F:F))","v":""},"","","",null,null,-1,-1,1,0]
[null,null,{"$f":"IF(B6548=\"\",\"\",LOOKUP(B6548,Spiele!B:B,Spiele!C:C))","v":""},{"$f":"IF(B6548=\"\",\"\",LOOKUP(B6548,Spiele!B:B,Spiele!D:D))","v":""},{"$f":"IF(B6548=\"\",\"\",LOOKUP(B6548,Spiele!B:B,Spiele!E:E))","v":""},{"$f":"IF(B6548=\"\",\"\",LOOKUP(B6548,Spiele!B:B,Spiele!F:F))","v":""},"","","",null,null,-1,-1,1,0]
[null,null,{"$f":"IF(B6552=\"\",\"\",LOOKUP(B6552,Spiele!B:B,Spiele!C:C))","v":""},{"$f":"IF(B6552=\"\",\"\",LOOKUP(B6552,Spiele!B:B,Spiele!D:D))","v":""},{"$f":"IF(B6552=\"\",\"\",LOOKUP(B6552,Spiele!B:B,Spiele!E:E))","v":""},{"$f":"IF(B6552=\"\",\"\",LOOKUP(B6552,Spiele!B:B,Spiele!F:F))","v":""},"","","",null,null,-1,-1,1,0]
[null,null,{"$f":"IF(B6557=\"\",\"\",LOOKUP(B6557,Spiele!B:B,Spiele!C:C))","v":""},{"$f":"IF(B6557=\"\",\"\",LOOKUP(B6557,Spiele!B:B,Spiele!D:D))","v":""},{"$f":"IF(B6557=\"\",\"\",LOOKUP(B6557,Spiele!B:B,Spiele!E:E))","v":""},{"$f":"IF(B6557=\"\",\"\",LOOKUP(B6557,Spiele!B:B,Spiele!F:F))","v":""},"","","",null,null,-1,-1,1,0]
[null,null,{"$f":"IF(B6558=\"\",\"\",LOOKUP(B6558,Spiele!B:B,Spiele!C:C))","v":""},{"$f":"IF(B6558=\"\",\"\",LOOKUP(B6558,Spiele!B:B,Spiele!D:D))","v":""},{"$f":"IF(B6558=\"\",\"\",LOOKUP(B6558,Spiele!B:B,Spiele!E:E))","v":""},{"$f":"IF(B6558=\"\",\"\",LOOKUP(B6558,Spiele!B:B,Spiele!F:F))","v":""},"","","",null,null,-1,-1,1,0]
[null,null,{"$f":"IF(B6562=\"\",\"\",LOOKUP(B6562,Spiele!B:B,Spiele!C:C))","v":""},{"$f":"IF(B6562=\"\",\"\",LOOKUP(B6562,Spiele!B:B,Spiele!D:D))","v":""},{"$f":"IF(B6562=\"\",\"\",LOOKUP(B6562,Spiele!B:B,Spiele!E:E))","v":""},{"$f":"IF(B6562=\"\",\"\",LOOKUP(B6562,Spiele!B:B,Spiele!F:F))","v":""},"","","",null,null,-1,-1,1,0]
[null,null,{"$f":"IF(B6567=\"\",\"\",LOOKUP(B6567,Spiele!B:B,Spiele!C:C))","v":""},{"$f":"IF(B6567=\"\",\"\",LOOKUP(B6567,Spiele!B:B,Spiele!D:D))","v":""},{"$f":"IF(B6567=\"\",\"\",LOOKUP(B6567,Spiele!B:B,Spiele!E:E))","v":""},{"$f":"IF(B6567=\"\",\"\",LOOKUP(B6567,Spiele!B:B,Spiele!F:F))","v":""},"","","",null,null,-1,-1,1,0]
[null,null,{"$f":"IF(B6572=\"\",\"\",LOOKUP(B6572,Spiele!B:B,Spiele!C:C))","v":""},{"$f":"IF(B6572=\"\",\"\",LOOKUP(B6572,Spiele!B:B,Spiele!D:D))","v":""},{"$f":"IF(B6572=\"\",\"\",LOOKUP(B6572,Spiele!B:B,Spiele!E:E))","v":""},{"$f":"IF(B6572=\"\",\"\",LOOKUP(B6572,Spiele!B:B,Spiele!F:F))","v":""},"","","",null,null,-1,-1,1,0]
[null,null,{"$f":"IF(B6573=\"\",\"\",LOOKUP(B6573,Spiele!B:B,Spiele!C:C))","v":""},{"$f":"IF(B6573=\"\",\"\",LOOKUP(B6573,Spiele!B:B,Spiele!D:D))","v":""},{"$f":"IF(B6573=\"\",\"\",LOOKUP(B6573,Spiele!B:B,Spiele!E:E))","v":""},{"$f":"IF(B6573=\"\",\"\",LOOKUP(B6573,Spiele!B:B,Spiele!F:F))","v":""},"","","",null,null,-1,-1,1,0]
[null,null,{"$f":"IF(B6578=\"\",\"\",LOOKUP(B6578,Spiele!B:B,Spiele!C:C))","v":""},{"$f":"IF(B6578=\"\",\"\",LOOKUP(B6578,Spiele!B:B,Spiele!D:D))","v":""},{"$f":"IF(B6578=\"\",\"\",LOOKUP(B6578,Spiele!B:B,Spiele!E:E))","v":""},{"$f":"IF(B6578=\"\",\"\",LOOKUP(B6578,Spiele!B:B,Spiele!F:F))","v":""},"","","",null,null,-1,-1,1,0]
[null,null,{"$f":"IF(B6582=\"\",\"\",LOOKUP(B6582,Spiele!B:B,Spiele!C:C))","v":""},{"$f":"IF(B6582=\"\",\"\",LOOKUP(B6582,Spiele!B:B,Spiele!D:D))","v":""},{"$f":"IF(B6582=\"\",\"\",LOOKUP(B6582,Spiele!B:B,Spiele!E:E))","v":""},{"$f":"IF(B6582=\"\",\"\",LOOKUP(B6582,Spiele!B:B,Spiele!F:F))","v":""},"","","",null,null,-1,-1,1,0]
[null,null,{"$f":"IF(B6587=\"\",\"\",LOOKUP(B6587,Spiele!B:B,Spiele!C:C))","v":""},{"$f":"IF(B6587=\"\",\"\",LOOKUP(B6587,Spiele!B:B,Spiele!D:D))","v":""},{"$f":"IF(B6587=\"\",\"\",LOOKUP(B6587,Spiele!B:B,Spiele!E:E))","v":""},{"$f":"IF(B6587=\"\",\"\",LOOKUP(B6587,Spiele!B:B,Spiele!F:F))","v":""},"","","",null,null,-1,-1,1,0]
[null,null,{"$f":"IF(B6588=\"\",\"\",LOOKUP(B6588,Spiele!B:B,Spiele!C:C))","v":""},{"$f":"IF(B6588=\"\",\"\",LOOKUP(B6588,Spiele!B:B,Spiele!D:D))","v":""},{"$f":"IF(B6588=\"\",\"\",LOOKUP(B6588,Spiele!B:B,Spiele!E:E))","v":""},{"$f":"IF(B6588=\"\",\"\",LOOKUP(B6588,Spiele!B:B,Spiele!F:F))","v":""},"","","",null,null,-1,-1,1,0]
[null,null,{"$f":"IF(B6592=\"\",\"\",LOOKUP(B6592,Spiele!B:B,Spiele!C:C))","v":""},{"$f":"IF(B6592=\"\",\"\",LOOKUP(B6592,Spiele!B:B,Spiele!D:D))","v":""},{"$f":"IF(B6592=\"\",\"\",LOOKUP(B6592,Spiele!B:B,Spiele!E:E))","v":""},{"$f":"IF(B6592=\"\",\"\",LOOKUP(B6592,Spiele!B:B,Spiele!F:F))","v":""},"","","",null,null,-1,-1,1,0]
[null,null,{"$f":"IF(B6597=\"\",\"\",LOOKUP(B6597,Spiele!B:B,Spiele!C:C))","v":""},{"$f":"IF(B6597=\"\",\"\",LOOKUP(B6597,Spiele!B:B,Spiele!D:D))","v":""},{"$f":"IF(B6597=\"\",\"\",LOOKUP(B6597,Spiele!B:B,Spiele!E:E))","v":""},{"$f":"IF(B6597=\"\",\"\",LOOKUP(B6597,Spiele!B:B,Spiele!F:F))","v":""},"","","",null,null,-1,-1,1,0]
[null,null,{"$f":"IF(B6602=\"\",\"\",LOOKUP(B6602,Spiele!B:B,Spiele!C:C))","v":""},{"$f":"IF(B6602=\"\",\"\",LOOKUP(B6602,Spiele!B:B,Spiele!D:D))","v":""},{"$f":"IF(B6602=\"\",\"\",LOOKUP(B6602,Spiele!B:B,Spiele!E:E))","v":""},{"$f":"IF(B6602=\"\",\"\",LOOKUP(B6602,Spiele!B:B,Spiele!F:F))","v":""},"","","",null,null,-1,-1,1,0]
[null,null,{"$f":"IF(B6603=\"\",\"\",LOOKUP(B6603,Spiele!B:B,Spiele!C:C))","v":""},{"$f":"IF(B6603=\"\",\"\",LOOKUP(B6603,Spiele!B:B,Spiele!D:D))","v":""},{"$f":"IF(B6603=\"\",\"\",LOOKUP(B6603,Spiele!B:B,Spiele!E:E))","v":""},{"$f":"IF(B6603=\"\",\"\",LOOKUP(B6603,Spiele!B:B,Spiele!F:F))","v":""},"","","",null,null,-1,-1,1,0]
[null,null,{"$f":"IF(B6609=\"\",\"\",LOOKUP(B6609,Spiele!B:B,Spiele!C:C))","v":""},{"$f":"IF(B6609=\"\",\"\",LOOKUP(B6609,Spiele!B:B,Spiele!D:D))","v":""},{"$f":"IF(B6609=\"\",\"\",LOOKUP(B6609,Spiele!B:B,Spiele!E:E))","v":""},{"$f":"IF(B6609=\"\",\"\",LOOKUP(B6609,Spiele!B:B,Spiele!F:F))","v":""},"","","",null,null,-1,-1,1,0]
[null,null,{"$f":"IF(B6612=\"\",\"\",LOOKUP(B6612,Spiele!B:B,Spiele!C:C))","v":""},{"$f":"IF(B6612=\"\",\"\",LOOKUP(B6612,Spiele!B:B,Spiele!D:D))","v":""},{"$f":"IF(B6612=\"\",\"\",LOOKUP(B6612,Spiele!B:B,Spiele!E:E))","v":""},{"$f":"IF(B6612=\"\",\"\",LOOKUP(B6612,Spiele!B:B,Spiele!F:F))","v":""},"","","",null,null,-1,-1,1,0]
[null,null,{"$f":"IF(B6617=\"\",\"\",LOOKUP(B6617,Spiele!B:B,Spiele!C:C))","v":""},{"$f":"IF(B6617=\"\",\"\",LOOKUP(B6617,Spiele!B:B,Spiele!D:D))","v":""},{"$f":"IF(B6617=\"\",\"\",LOOKUP(B6617,Spiele!B:B,Spiele!E:E))","v":""},{"$f":"IF(B6617=\"\",\"\",LOOKUP(B6617,Spiele!B:B,Spiele!F:F))","v":""},"","","",null,null,-1,-1,1,0]
[null,null,{"$f":"IF(B6618=\"\",\"\",LOOKUP(B6618,Spiele!B:B,Spiele!C:C))","v":""},{"$f":"IF(B6618=\"\",\"\",LOOKUP(B6618,Spiele!B:B,Spiele!D:D))","v":""},{"$f":"IF(B6618=\"\",\"\",LOOKUP(B6618,Spiele!B:B,Spiele!E:E))","v":""},{"$f":"IF(B6618=\"\",\"\",LOOKUP(B6618,Spiele!B:B,Spiele!F:F))","v":""},"","","",null,null,-1,-1,1,0]
[null,null,{"$f":"IF(B6622=\"\",\"\",LOOKUP(B6622,Spiele!B:B,Spiele!C:C))","v":""},{"$f":"IF(B6622=\"\",\"\",LOOKUP(B6622,Spiele!B:B,Spiele!D:D))","v":""},{"$f":"IF(B6622=\"\",\"\",LOOKUP(B6622,Spiele!B:B,Spiele!E:E))","v":""},{"$f":"IF(B6622=\"\",\"\",LOOKUP(B6622,Spiele!B:B,Spiele!F:F))","v":""},"","","",null,null,-1,-1,1,0]
[null,null,{"$f":"IF(B6627=\"\",\"\",LOOKUP(B6627,Spiele!B:B,Spiele!C:C))","v":""},{"$f":"IF(B6627=\"\",\"\",LOOKUP(B6627,Spiele!B:B,Spiele!D:D))","v":""},{"$f":"IF(B6627=\"\",\"\",LOOKUP(B6627,Spiele!B:B,Spiele!E:E))","v":""},{"$f":"IF(B6627=\"\",\"\",LOOKUP(B6627,Spiele!B:B,Spiele!F:F))","v":""},"","","",null,null,-1,-1,1,0]
[null,null,{"$f":"IF(B6632=\"\",\"\",LOOKUP(B6632,Spiele!B:B,Spiele!C:C))","v":""},{"$f":"IF(B6632=\"\",\"\",LOOKUP(B6632,Spiele!B:B,Spiele!D:D))","v":""},{"$f":"IF(B6632=\"\",\"\",LOOKUP(B6632,Spiele!B:B,Spiele!E:E))","v":""},{"$f":"IF(B6632=\"\",\"\",LOOKUP(B6632,Spiele!B:B,Spiele!F:F))","v":""},"","","",null,null,-1,-1,1,0]
[null,null,{"$f":"IF(B6633=\"\",\"\",LOOKUP(B6633,Spiele!B:B,Spiele!C:C))","v":""},{"$f":"IF(B6633=\"\",\"\",LOOKUP(B6633,Spiele!B:B,Spiele!D:D))","v":""},{"$f":"IF(B6633=\"\",\"\",LOOKUP(B6633,Spiele!B:B,Spiele!E:E))","v":""},{"$f":"IF(B6633=\"\",\"\",LOOKUP(B6633,Spiele!B:B,Spiele!F:F))","v":""},"","","",null,null,-1,-1,1,0]
[null,null,{"$f":"IF(B6639=\"\",\"\",LOOKUP(B6639,Spiele!B:B,Spiele!C:C))","v":""},{"$f":"IF(B6639=\"\",\"\",LOOKUP(B6639,Spiele!B:B,Spiele!D:D))","v":""},{"$f":"IF(B6639=\"\",\"\",LOOKUP(B6639,Spiele!B:B,Spiele!E:E))","v":""},{"$f":"IF(B6639=\"\",\"\",LOOKUP(B6639,Spiele!B:B,Spiele!F:F))","v":""},"","","",null,null,-1,-1,1,0]
[null,null,{"$f":"IF(B6642=\"\",\"\",LOOKUP(B6642,Spiele!B:B,Spiele!C:C))","v":""},{"$f":"IF(B6642=\"\",\"\",LOOKUP(B6642,Spiele!B:B,Spiele!D:D))","v":""},{"$f":"IF(B6642=\"\",\"\",LOOKUP(B6642,Spiele!B:B,Spiele!E:E))","v":""},{"$f":"IF(B6642=\"\",\"\",LOOKUP(B6642,Spiele!B:B,Spiele!F:F))","v":""},"","","",null,null,-1,-1,1,0]
[null,null,{"$f":"IF(B6647=\"\",\"\",LOOKUP(B6647,Spiele!B:B,Spiele!C:C))","v":""},{"$f":"IF(B6647=\"\",\"\",LOOKUP(B6647,Spiele!B:B,Spiele!D:D))","v":""},{"$f":"IF(B6647=\"\",\"\",LOOKUP(B6647,Spiele!B:B,Spiele!E:E))","v":""},{"$f":"IF(B6647=\"\",\"\",LOOKUP(B6647,Spiele!B:B,Spiele!F:F))","v":""},"","","",null,null,-1,-1,1,0]
[null,null,{"$f":"IF(B6648=\"\",\"\",LOOKUP(B6648,Spiele!B:B,Spiele!C:C))","v":""},{"$f":"IF(B6648=\"\",\"\",LOOKUP(B6648,Spiele!B:B,Spiele!D:D))","v":""},{"$f":"IF(B6648=\"\",\"\",LOOKUP(B6648,Spiele!B:B,Spiele!E:E))","v":""},{"$f":"IF(B6648=\"\",\"\",LOOKUP(B6648,Spiele!B:B,Spiele!F:F))","v":""},"","","",null,null,-1,-1,1,0]
[null,null,{"$f":"IF(B6652=\"\",\"\",LOOKUP(B6652,Spiele!B:B,Spiele!C:C))","v":""},{"$f":"IF(B6652=\"\",\"\",LOOKUP(B6652,Spiele!B:B,Spiele!D:D))","v":""},{"$f":"IF(B6652=\"\",\"\",LOOKUP(B6652,Spiele!B:B,Spiele!E:E))","v":""},{"$f":"IF(B6652=\"\",\"\",LOOKUP(B6652,Spiele!B:B,Spiele!F:F))","v":""},"","","",null,null,-1,-1,1,0]
[null,null,{"$f":"IF(B6657=\"\",\"\",LOOKUP(B6657,Spiele!B:B,Spiele!C:C))","v":""},{"$f":"IF(B6657=\"\",\"\",LOOKUP(B6657,Spiele!B:B,Spiele!D:D))","v":""},{"$f":"IF(B6657=\"\",\"\",LOOKUP(B6657,Spiele!B:B,Spiele!E:E))","v":""},{"$f":"IF(B6657=\"\",\"\",LOOKUP(B6657,Spiele!B:B,Spiele!F:F))","v":""},"","","",null,null,-1,-1,1,0]
[null,null,{"$f":"IF(B6662=\"\",\"\",LOOKUP(B6662,Spiele!B:B,Spiele!C:C))","v":""},{"$f":"IF(B6662=\"\",\"\",LOOKUP(B6662,Spiele!B:B,Spiele!D:D))","v":""},{"$f":"IF(B6662=\"\",\"\",LOOKUP(B6662,Spiele!B:B,Spiele!E:E))","v":""},{"$f":"IF(B6662=\"\",\"\",LOOKUP(B6662,Spiele!B:B,Spiele!F:F))","v":""},"","","",null,null,-1,-1,1,0]
[null,null,{"$f":"IF(B6663=\"\",\"\",LOOKUP(B6663,Spiele!B:B,Spiele!C:C))","v":""},{"$f":"IF(B6663=\"\",\"\",LOOKUP(B6663,Spiele!B:B,Spiele!D:D))","v":""},{"$f":"IF(B6663=\"\",\"\",LOOKUP(B6663,Spiele!B:B,Spiele!E:E))","v":""},{"$f":"IF(B6663=\"\",\"\",LOOKUP(B6663,Spiele!B:B,Spiele!F:F))","v":""},"","","",null,null,-1,-1,1,0]
[null,null,{"$f":"IF(B6669=\"\",\"\",LOOKUP(B6669,Spiele!B:B,Spiele!C:C))","v":""},{"$f":"IF(B6669=\"\",\"\",LOOKUP(B6669,Spiele!B:B,Spiele!D:D))","v":""},{"$f":"IF(B6669=\"\",\"\",LOOKUP(B6669,Spiele!B:B,Spiele!E:E))","v":""},{"$f":"IF(B6669=\"\",\"\",LOOKUP(B6669,Spiele!B:B,Spiele!F:F))","v":""},"","","",null,null,-1,-1,1,0]
[null,null,{"$f":"IF(B6672=\"\",\"\",LOOKUP(B6672,Spiele!B:B,Spiele!C:C))","v":""},{"$f":"IF(B6672=\"\",\"\",LOOKUP(B6672,Spiele!B:B,Spiele!D:D))","v":""},{"$f":"IF(B6672=\"\",\"\",LOOKUP(B6672,Spiele!B:B,Spiele!E:E))","v":""},{"$f":"IF(B6672=\"\",\"\",LOOKUP(B6672,Spiele!B:B,Spiele!F:F))","v":""},"","","",null,null,-1,-1,1,0]
[null,null,{"$f":"IF(B6677=\"\",\"\",LOOKUP(B6677,Spiele!B:B,Spiele!C:C))","v":""},{"$f":"IF(B6677=\"\",\"\",LOOKUP(B6677,Spiele!B:B,Spiele!D:D))","v":""},{"$f":"IF(B6677=\"\",\"\",LOOKUP(B6677,Spiele!B:B,Spiele!E:E))","v":""},{"$f":"IF(B6677=\"\",\"\",LOOKUP(B6677,Spiele!B:B,Spiele!F:F))","v":""},"","","",null,null,-1,-1,1,0]
[null,null,{"$f":"IF(B6678=\"\",\"\",LOOKUP(B6678,Spiele!B:B,Spiele!C:C))","v":""},{"$f":"IF(B6678=\"\",\"\",LOOKUP(B6678,Spiele!B:B,Spiele!D:D))","v":""},{"$f":"IF(B6678=\"\",\"\",LOOKUP(B6678,Spiele!B:B,Spiele!E:E))","v":""},{"$f":"IF(B6678=\"\",\"\",LOOKUP(B6678,Spiele!B:B,Spiele!F:F))","v":""},"","","",null,null,-1,-1,1,0]
[null,null,{"$f":"IF(B6682=\"\",\"\",LOOKUP(B6682,Spiele!B:B,Spiele!C:C))","v":""},{"$f":"IF(B6682=\"\",\"\",LOOKUP(B6682,Spiele!B:B,Spiele!D:D))","v":""},{"$f":"IF(B6682=\"\",\"\",LOOKUP(B6682,Spiele!B:B,Spiele!E:E))","v":""},{"$f":"IF(B6682=\"\",\"\",LOOKUP(B6682,Spiele!B:B,Spiele!F:F))","v":""},"","","",null,null,-1,-1,1,0]
[null,null,{"$f":"IF(B6687=\"\",\"\",LOOKUP(B6687,Spiele!B:B,Spiele!C:C))","v":""},{"$f":"IF(B6687=\"\",\"\",LOOKUP(B6687,Spiele!B:B,Spiele!D:D))","v":""},{"$f":"IF(B6687=\"\",\"\",LOOKUP(B6687,Spiele!B:B,Spiele!E:E))","v":""},{"$f":"IF(B6687=\"\",\"\",LOOKUP(B6687,Spiele!B:B,Spiele!F:F))","v":""},"","","",null,null,-1,-1,1,0]
[null,null,{"$f":"IF(B6692=\"\",\"\",LOOKUP(B6692,Spiele!B:B,Spiele!C:C))","v":""},{"$f":"IF(B6692=\"\",\"\",LOOKUP(B6692,Spiele!B:B,Spiele!D:D))","v":""},{"$f":"IF(B6692=\"\",\"\",LOOKUP(B6692,Spiele!B:B,Spiele!E:E))","v":""},{"$f":"IF(B6692=\"\",\"\",LOOKUP(B6692,Spiele!B:B,Spiele!F:F))","v":""},"","","",null,null,-1,-1,1,0]
[null,null,{"$f":"IF(B6693=\"\",\"\",LOOKUP(B6693,Spiele!B:B,Spiele!C:C))","v":""},{"$f":"IF(B6693=\"\",\"\",LOOKUP(B6693,Spiele!B:B,Spiele!D:D))","v":""},{"$f":"IF(B6693=\"\",\"\",LOOKUP(B6693,Spiele!B:B,Spiele!E:E))","v":""},{"$f":"IF(B6693=\"\",\"\",LOOKUP(B6693,Spiele!B:B,Spiele!F:F))","v":""},"","","",null,null,-1,-1,1,0]
[null,null,{"$f":"IF(B6698=\"\",\"\",LOOKUP(B6698,Spiele!B:B,Spiele!C:C))","v":""},{"$f":"IF(B6698=\"\",\"\",LOOKUP(B6698,Spiele!B:B,Spiele!D:D))","v":""},{"$f":"IF(B6698=\"\",\"\",LOOKUP(B6698,Spiele!B:B,Spiele!E:E))","v":""},{"$f":"IF(B6698=\"\",\"\",LOOKUP(B6698,Spiele!B:B,Spiele!F:F))","v":""},"","","",null,null,-1,-1,1,0]
[null,null,{"$f":"IF(B6703=\"\",\"\",LOOKUP(B6703,Spiele!B:B,Spiele!C:C))","v":""},{"$f":"IF(B6703=\"\",\"\",LOOKUP(B6703,Spiele!B:B,Spiele!D:D))","v":""},{"$f":"IF(B6703=\"\",\"\",LOOKUP(B6703,Spiele!B:B,Spiele!E:E))","v":""},{"$f":"IF(B6703=\"\",\"\",LOOKUP(B6703,Spiele!B:B,Spiele!F:F))","v":""},"","","",null,null,-1,-1,1,0]
[null,null,{"$f":"IF(B6707=\"\",\"\",LOOKUP(B6707,Spiele!B:B,Spiele!C:C))","v":""},{"$f":"IF(B6707=\"\",\"\",LOOKUP(B6707,Spiele!B:B,Spiele!D:D))","v":""},{"$f":"IF(B6707=\"\",\"\",LOOKUP(B6707,Spiele!B:B,Spiele!E:E))","v":""},{"$f":"IF(B6707=\"\",\"\",LOOKUP(B6707,Spiele!B:B,Spiele!F:F))","v":""},"","","",null,null,-1,-1,1,0]
[null,null,{"$f":"IF(B6708=\"\",\"\",LOOKUP(B6708,Spiele!B:B,Spiele!C:C))","v":""},{"$f":"IF(B6708=\"\",\"\",LOOKUP(B6708,Spiele!B:B,Spiele!D:D))","v":""},{"$f":"IF(B6708=\"\",\"\",LOOKUP(B6708,Spiele!B:B,Spiele!E:E))","v":""},{"$f":"IF(B6708=\"\",\"\",LOOKUP(B6708,Spiele!B:B,Spiele!F:F))","v":""},"","","",null,null,-1,-1,1,0]
[null,null,{"$f":"IF(B6713=\"\",\"\",LOOKUP(B6713,Spiele!B:B,Spiele!C:C))","v":""},{"$f":"IF(B6713=\"\",\"\",LOOKUP(B6713,Spiele!B:B,Spiele!D:D))","v":""},{"$f":"IF(B6713=\"\",\"\",LOOKUP(B6713,Spiele!B:B,Spiele!E:E))","v":""},{"$f":"IF(B6713=\"\",\"\",LOOKUP(B6713,Spiele!B:B,Spiele!F:F))","v":""},"","","",null,null,-1,-1,1,0]
[null,null,{"$f":"IF(B6717=\"\",\"\",LOOKUP(B6717,Spiele!B:B,Spiele!C:C))","v":""},{"$f":"IF(B6717=\"\",\"\",LOOKUP(B6717,Spiele!B:B,Spiele!D:D))","v":""},{"$f":"IF(B6717=\"\",\"\",LOOKUP(B6717,Spiele!B:B,Spiele!E:E))","v":""},{"$f":"IF(B6717=\"\",\"\",LOOKUP(B6717,Spiele!B:B,Spiele!F:F))","v":""},"","","",null,null,-1,-1,1,0]
[null,null,{"$f":"IF(B6722=\"\",\"\",LOOKUP(B6722,Spiele!B:B,Spiele!C:C))","v":""},{"$f":"IF(B6722=\"\",\"\",LOOKUP(B6722,Spiele!B:B,Spiele!D:D))","v":""},{"$f":"IF(B6722=\"\",\"\",LOOKUP(B6722,Spiele!B:B,Spiele!E:E))","v":""},{"$f":"IF(B6722=\"\",\"\",LOOKUP(B6722,Spiele!B:B,Spiele!F:F))","v":""},"","","",null,null,-1,-1,1,0]
[null,null,{"$f":"IF(B6723=\"\",\"\",LOOKUP(B6723,Spiele!B:B,Spiele!C:C))","v":""},{"$f":"IF(B6723=\"\",\"\",LOOKUP(B6723,Spiele!B:B,Spiele!D:D))","v":""},{"$f":"IF(B6723=\"\",\"\",LOOKUP(B6723,Spiele!B:B,Spiele!E:E))","v":""},{"$f":"IF(B6723=\"\",\"\",LOOKUP(B6723,Spiele!B:B,Spiele!F:F))","v":""},"","","",null,null,-1,-1,1,0]
[null,null,{"$f":"IF(B6728=\"\",\"\",LOOKUP(B6728,Spiele!B:B,Spiele!C:C))","v":""},{"$f":"IF(B6728=\"\",\"\",LOOKUP(B6728,Spiele!B:B,Spiele!D:D))","v":""},{"$f":"IF(B6728=\"\",\"\",LOOKUP(B6728,Spiele!B:B,Spiele!E:E))","v":""},{"$f":"IF(B6728=\"\",\"\",LOOKUP(B6728,Spiele!B:B,Spiele!F:F))","v":""},"","","",null,null,-1,-1,1,0]
[null,null,{"$f":"IF(B6733=\"\",\"\",LOOKUP(B6733,Spiele!B:B,Spiele!C:C))","v":""},{"$f":"IF(B6733=\"\",\"\",LOOKUP(B6733,Spiele!B:B,Spiele!D:D))","v":""},{"$f":"IF(B6733=\"\",\"\",LOOKUP(B6733,Spiele!B:B,Spiele!E:E))","v":""},{"$f":"IF(B6733=\"\",\"\",LOOKUP(B6733,Spiele!B:B,Spiele!F:F))","v":""},"","","",null,null,-1,-1,1,0]
[null,null,{"$f":"IF(B6737=\"\",\"\",LOOKUP(B6737,Spiele!B:B,Spiele!C:C))","v":""},{"$f":"IF(B6737=\"\",\"\",LOOKUP(B6737,Spiele!B:B,Spiele!D:D))","v":""},{"$f":"IF(B6737=\"\",\"\",LOOKUP(B6737,Spiele!B:B,Spiele!E:E))","v":""},{"$f":"IF(B6737=\"\",\"\",LOOKUP(B6737,Spiele!B:B,Spiele!F:F))","v":""},"","","",null,null,-1,-1,1,0]
[null,null,{"$f":"IF(B6738=\"\",\"\",LOOKUP(B6738,Spiele!B:B,Spiele!C:C))","v":""},{"$f":"IF(B6738=\"\",\"\",LOOKUP(B6738,Spiele!B:B,Spiele!D:D))","v":""},{"$f":"IF(B6738=\"\",\"\",LOOKUP(B6738,Spiele!B:B,Spiele!E:E))","v":""},{"$f":"IF(B6738=\"\",\"\",LOOKUP(B6738,Spiele!B:B,Spiele!F:F))","v":""},"","","",null,null,-1,-1,1,0]
[null,null,{"$f":"IF(B6743=\"\",\"\",LOOKUP(B6743,Spiele!B:B,Spiele!C:C))","v":""},{"$f":"IF(B6743=\"\",\"\",LOOKUP(B6743,Spiele!B:B,Spiele!D:D))","v":""},{"$f":"IF(B6743=\"\",\"\",LOOKUP(B6743,Spiele!B:B,Spiele!E:E))","v":""},{"$f":"IF(B6743=\"\",\"\",LOOKUP(B6743,Spiele!B:B,Spiele!F:F))","v":""},"","","",null,null,-1,-1,1,0]
[null,null,{"$f":"IF(B6747=\"\",\"\",LOOKUP(B6747,Spiele!B:B,Spiele!C:C))","v":""},{"$f":"IF(B6747=\"\",\"\",LOOKUP(B6747,Spiele!B:B,Spiele!D:D))","v":""},{"$f":"IF(B6747=\"\",\"\",LOOKUP(B6747,Spiele!B:B,Spiele!E:E))","v":""},{"$f":"IF(B6747=\"\",\"\",LOOKUP(B6747,Spiele!B:B,Spiele!F:F))","v":""},"","","",null,null,-1,-1,1,0]
[null,null,{"$f":"IF(B6752=\"\",\"\",LOOKUP(B6752,Spiele!B:B,Spiele!C:C))","v":""},{"$f":"IF(B6752=\"\",\"\",LOOKUP(B6752,Spiele!B:B,Spiele!D:D))","v":""},{"$f":"IF(B6752=\"\",\"\",LOOKUP(B6752,Spiele!B:B,Spiele!E:E))","v":""},{"$f":"IF(B6752=\"\",\"\",LOOKUP(B6752,Spiele!B:B,Spiele!F:F))","v":""},{"$f":"IF(E6752=\"\",\"\",IF(E6752>F6752,1,0))","v":""},{"$f":"IF(F6752=\"\",\"\",IF(E6752<F6752,1,0))","v":""},{"$f":"IF(E6752=\"\",\"\",IF(E6752=F6752,1,0))","v":""},null,null,{"$f":"IF(E6752=\"\",-1,IF(J6752>K6752,1,-1))","v":-1},{"$f":"IF(F6752=\"\",-1,IF(J6752<K6752,1,-1))","v":-1},{"$f":"IF(E6752=\"-\",-1,IF(J6752=K6752,1,-1))","v":1},{"$f":"IF(E6752=\"\",0,IF(E6752=J6752,1,0)+IF(F6752=K6752,1,0)+IF(G6752=L6752,1,0)+IF(H6752=M6752,1,0)+IF(I6752=N6752,1,0))","v":0}]
[null,null,{"$f":"IF(B6753=\"\",\"\",LOOKUP(B6753,Spiele!B:B,Spiele!C:C))","v":""},{"$f":"IF(B6753=\"\",\"\",LOOKUP(B6753,Spiele!B:B,Spiele!D:D))","v":""},{"$f":"IF(B6753=\"\",\"\",LOOKUP(B6753,Spiele!B:B,Spiele!E:E))","v":""},{"$f":"IF(B6753=\"\",\"\",LOOKUP(B6753,Spiele!B:B,Spiele!F:F))","v":""},"","","",null,null,-1,-1,1,0]
[null,null,{"$f":"IF(B6758=\"\",\"\",LOOKUP(B6758,Spiele!B:B,Spiele!C:C))","v":""},{"$f":"IF(B6758=\"\",\"\",LOOKUP(B6758,Spiele!B:B,Spiele!D:D))","v":""},{"$f":"IF(B6758=\"\",\"\",LOOKUP(B6758,Spiele!B:B,Spiele!E:E))","v":""},{"$f":"IF(B6758=\"\",\"\",LOOKUP(B6758,Spiele!B:B,Spiele!F:F))","v":""},"","","",null,null,-1,-1,1,0]
[null,null,{"$f":"IF(B6763=\"\",\"\",LOOKUP(B6763,Spiele!B:B,Spiele!C:C))","v":""},{"$f":"IF(B6763=\"\",\"\",LOOKUP(B6763,Spiele!B:B,Spiele!D:D))","v":""},{"$f":"IF(B6763=\"\",\"\",LOOKUP(B6763,Spiele!B:B,Spiele!E:E))","v":""},{"$f":"IF(B6763=\"\",\"\",LOOKUP(B6763,Spiele!B:B,Spiele!F:F))","v":""},"","","",null,null,-1,-1,1,0]
[null,null,{"$f":"IF(B6767=\"\",\"\",LOOKUP(B6767,Spiele!B:B,Spiele!C:C))","v":""},{"$f":"IF(B6767=\"\",\"\",LOOKUP(B6767,Spiele!B:B,Spiele!D:D))","v":""},{"$f":"IF(B6767=\"\",\"\",LOOKUP(B6767,Spiele!B:B,Spiele!E:E))","v":""},{"$f":"IF(B6767=\"\",\"\",LOOKUP(B6767,Spiele!B:B,Spiele!F:F))","v":""},"","","",null,null,-1,-1,1,0]
[null,null,{"$f":"IF(B6768=\"\",\"\",LOOKUP(B6768,Spiele!B:B,Spiele!C:C))","v":""},{"$f":"IF(B6768=\"\",\"\",LOOKUP(B6768,Spiele!B:B,Spiele!D:D))","v":""},{"$f":"IF(B6768=\"\",\"\",LOOKUP(B6768,Spiele!B:B,Spiele!E:E))","v":""},{"$f":"IF(B6768=\"\",\"\",LOOKUP(B6768,Spiele!B:B,Spiele!F:F))","v":""},"","","",null,null,-1,-1,1,0]
[null,null,{"$f":"IF(B6773=\"\",\"\",LOOKUP(B6773,Spiele!B:B,Spiele!C:C))","v":""},{"$f":"IF(B6773=\"\",\"\",LOOKUP(B6773,Spiele!B:B,Spiele!D:D))","v":""},{"$f":"IF(B6773=\"\",\"\",LOOKUP(B6773,Spiele!B:B,Spiele!E:E))","v":""},{"$f":"IF(B6773=\"\",\"\",LOOKUP(B6773,Spiele!B:B,Spiele!F:F))","v":""},"","","",null,null,-1,-1,1,0]
[null,null,{"$f":"IF(B6777=\"\",\"\",LOOKUP(B6777,Spiele!B:B,Spiele!C:C))","v":""},{"$f":"IF(B6777=\"\",\"\",LOOKUP(B6777,Spiele!B:B,Spiele!D:D))","v":""},{"$f":"IF(B6777=\"\",\"\",LOOKUP(B6777,Spiele!B:B,Spiele!E:E))","v":""},{"$f":"IF(B6777=\"\",\"\",LOOKUP(B6777,Spiele!B:B,Spiele!F:F))","v":""},"","","",null,null,-1,-1,1,0]
[null,null,{"$f":"IF(B6782=\"\",\"\",LOOKUP(B6782,Spiele!B:B,Spiele!C:C))","v":""},{"$f":"IF(B6782=\"\",\"\",LOOKUP(B6782,Spiele!B:B,Spiele!D:D))","v":""},{"$f":"IF(B6782=\"\",\"\",LOOKUP(B6782,Spiele!B:B,Spiele!E:E))","v":""},{"$f":"IF(B6782=\"\",\"\",LOOKUP(B6782,Spiele!B:B,Spiele!F:F))","v":""},"","","",null,null,-1,-1,1,0]
[null,null,{"$f":"IF(B6783=\"\",\"\",LOOKUP(B6783,Spiele!B:B,Spiele!C:C))","v":""},{"$f":"IF(B6783=\"\",\"\",LOOKUP(B6783,Spiele!B:B,Spiele!D:D))","v":""},{"$f":"IF(B6783=\"\",\"\",LOOKUP(B6783,Spiele!B:B,Spiele!E:E))","v":""},{"$f":"IF(B6783=\"\",\"\",LOOKUP(B6783,Spiele!B:B,Spiele!F:F))","v":""},"","","",null,null,-1,-1,1,0]
[null,null,{"$f":"IF(B6788=\"\",\"\",LOOKUP(B6788,Spiele!B:B,Spiele!C:C))","v":""},{"$f":"IF(B6788=\"\",\"\",LOOKUP(B6788,Spiele!B:B,Spiele!D:D))","v":""},{"$f":"IF(B6788=\"\",\"\",LOOKUP(B6788,Spiele!B:B,Spiele!E:E))","v":""},{"$f":"IF(B6788=\"\",\"\",LOOKUP(B6788,Spiele!B:B,Spiele!F:F))","v":""},"","","",null,null,-1,-1,1,0]
[null,null,{"$f":"IF(B6793=\"\",\"\",LOOKUP(B6793,Spiele!B:B,Spiele!C:C))","v":""},{"$f":"IF(B6793=\"\",\"\",LOOKUP(B6793,Spiele!B:B,Spiele!D:D))","v":""},{"$f":"IF(B6793=\"\",\"\",LOOKUP(B6793,Spiele!B:B,Spiele!E:E))","v":""},{"$f":"IF(B6793=\"\",\"\",LOOKUP(B6793,Spiele!B:B,Spiele!F:F))","v":""},"","","",null,null,-1,-1,1,0]
[null,null,{"$f":"IF(B6797=\"\",\"\",LOOKUP(B6797,Spiele!B:B,Spiele!C:C))","v":""},{"$f":"IF(B6797=\"\",\"\",LOOKUP(B6797,Spiele!B:B,Spiele!D:D))","v":""},{"$f":"IF(B6797=\"\",\"\",LOOKUP(B6797,Spiele!B:B,Spiele!E:E))","v":""},{"$f":"IF(B6797=\"\",\"\",LOOKUP(B6797,Spiele!B:B,Spiele!F:F))","v":""},"","","",null,null,-1,-1,1,0]
[null,null,{"$f":"IF(B6798=\"\",\"\",LOOKUP(B6798,Spiele!B:B,Spiele!C:C))","v":""},{"$f":"IF(B6798=\"\",\"\",LOOKUP(B6798,Spiele!B:B,Spiele!D:D))","v":""},{"$f":"IF(B6798=\"\",\"\",LOOKUP(B6798,Spiele!B:B,Spiele!E:E))","v":""},{"$f":"IF(B6798=\"\",\"\",LOOKUP(B6798,Spiele!B:B,Spiele!F:F))","v":""},"","","",null,null,-1,-1,1,0]
[null,null,{"$f":"IF(B6803=\"\",\"\",LOOKUP(B6803,Spiele!B:B,Spiele!C:C))","v":""},{"$f":"IF(B6803=\"\",\"\",LOOKUP(B6803,Spiele!B:B,Spiele!D:D))","v":""},{"$f":"IF(B6803=\"\",\"\",LOOKUP(B6803,Spiele!B:B,Spiele!E:E))","v":""},{"$f":"IF(B6803=\"\",\"\",LOOKUP(B6803,Spiele!B:B,Spiele!F:F))","v":""},"","","",null,null,-1,-1,1,0]
[null,null,{"$f":"IF(B6807=\"\",\"\",LOOKUP(B6807,Spiele!B:B,Spiele!C:C))","v":""},{"$f":"IF(B6807=\"\",\"\",LOOKUP(B6807,Spiele!B:B,Spiele!D:D))","v":""},{"$f":"IF(B6807=\"\",\"\",LOOKUP(B6807,Spiele!B:B,Spiele!E:E))","v":""},{"$f":"IF(B6807=\"\",\"\",LOOKUP(B6807,Spiele!B:B,Spiele!F:F))","v":""},"","","",null,null,-1,-1,1,0]
[null,null,{"$f":"IF(B6812=\"\",\"\",LOOKUP(B6812,Spiele!B:B,Spiele!C:C))","v":""},{"$f":"IF(B6812=\"\",\"\",LOOKUP(B6812,Spiele!B:B,Spiele!D:D))","v":""},{"$f":"IF(B6812=\"\",\"\",LOOKUP(B6812,Spiele!B:B,Spiele!E:E))","v":""},{"$f":"IF(B6812=\"\",\"\",LOOKUP(B6812,Spiele!B:B,Spiele!F:F))","v":""},"","","",null,null,-1,-1,1,0]
[null,null,{"$f":"IF(B6813=\"\",\"\",LOOKUP(B6813,Spiele!B:B,Spiele!C:C))","v":""},{"$f":"IF(B6813=\"\",\"\",LOOKUP(B6813,Spiele!B:B,Spiele!D:D))","v":""},{"$f":"IF(B6813=\"\",\"\",LOOKUP(B6813,Spiele!B:B,Spiele!E:E))","v":""},{"$f":"IF(B6813=\"\",\"\",LOOKUP(B6813,Spiele!B:B,Spiele!F:F))","v":""},"","","",null,null,-1,-1,1,0]
[null,null,{"$f":"IF(B6818=\"\",\"\",LOOKUP(B6818,Spiele!B:B,Spiele!C:C))","v":""},{"$f":"IF(B6818=\"\",\"\",LOOKUP(B6818,Spiele!B:B,Spiele!D:D))","v":""},{"$f":"IF(B6818=\"\",\"\",LOOKUP(B6818,Spiele!B:B,Spiele!E:E))","v":""},{"$f":"IF(B6818=\"\",\"\",LOOKUP(B6818,Spiele!B:B,Spiele!F:F))","v":""},"","","",null,null,-1,-1,1,0]
[null,null,{"$f":"IF(B6823=\"\",\"\",LOOKUP(B6823,Spiele!B:B,Spiele!C:C))","v":""},{"$f":"IF(B6823=\"\",\"\",LOOKUP(B6823,Spiele!B:B,Spiele!D:D))","v":""},{"$f":"IF(B6823=\"\",\"\",LOOKUP(B6823,Spiele!B:B,Spiele!E:E))","v":""},{"$f":"IF(B6823=\"\",\"\",LOOKUP(B6823,Spiele!B:B,Spiele!F:F))","v":""},"","","",null,null,-1,-1,1,0]
[null,null,{"$f":"IF(B6827=\"\",\"\",LOOKUP(B6827,Spiele!B:B,Spiele!C:C))","v":""},{"$f":"IF(B6827=\"\",\"\",LOOKUP(B6827,Spiele!B:B,Spiele!D:D))","v":""},{"$f":"IF(B6827=\"\",\"\",LOOKUP(B6827,Spiele!B:B,Spiele!E:E))","v":""},{"$f":"IF(B6827=\"\",\"\",LOOKUP(B6827,Spiele!B:B,Spiele!F:F))","v":""},"","","",null,null,-1,-1,1,0]
[null,null,{"$f":"IF(B6828=\"\",\"\",LOOKUP(B6828,Spiele!B:B,Spiele!C:C))","v":""},{"$f":"IF(B6828=\"\",\"\",LOOKUP(B6828,Spiele!B:B,Spiele!D:D))","v":""},{"$f":"IF(B6828=\"\",\"\",LOOKUP(B6828,Spiele!B:B,Spiele!E:E))","v":""},{"$f":"IF(B6828=\"\",\"\",LOOKUP(B6828,Spiele!B:B,Spiele!F:F))","v":""},"","","",null,null,-1,-1,1,0]
[null,null,{"$f":"IF(B6833=\"\",\"\",LOOKUP(B6833,Spiele!B:B,Spiele!C:C))","v":""},{"$f":"IF(B6833=\"\",\"\",LOOKUP(B6833,Spiele!B:B,Spiele!D:D))","v":""},{"$f":"IF(B6833=\"\",\"\",LOOKUP(B6833,Spiele!B:B,Spiele!E:E))","v":""},{"$f":"IF(B6833=\"\",\"\",LOOKUP(B6833,Spiele!B:B,Spiele!F:F))","v":""},"","","",null,null,-1,-1,1,0]
[null,null,{"$f":"IF(B6837=\"\",\"\",LOOKUP(B6837,Spiele!B:B,Spiele!C:C))","v":""},{"$f":"IF(B6837=\"\",\"\",LOOKUP(B6837,Spiele!B:B,Spiele!D:D))","v":""},{"$f":"IF(B6837=\"\",\"\",LOOKUP(B6837,Spiele!B:B,Spiele!E:E))","v":""},{"$f":"IF(B6837=\"\",\"\",LOOKUP(B6837,Spiele!B:B,Spiele!F:F))","v":""},"","","",null,null,-1,-1,1,0]
[null,null,{"$f":"IF(B6842=\"\",\"\",LOOKUP(B6842,Spiele!B:B,Spiele!C:C))","v":""},{"$f":"IF(B6842=\"\",\"\",LOOKUP(B6842,Spiele!B:B,Spiele!D:D))","v":""},{"$f":"IF(B6842=\"\",\"\",LOOKUP(B6842,Spiele!B:B,Spiele!E:E))","v":""},{"$f":"IF(B6842=\"\",\"\",LOOKUP(B6842,Spiele!B:B,Spiele!F:F))","v":""},"","","",null,null,-1,-1,1,0]
[null,null,{"$f":"IF(B6843=\"\",\"\",LOOKUP(B6843,Spiele!B:B,Spiele!C:C))","v":""},{"$f":"IF(B6843=\"\",\"\",LOOKUP(B6843,Spiele!B:B,Spiele!D:D))","v":""},{"$f":"IF(B6843=\"\",\"\",LOOKUP(B6843,Spiele!B:B,Spiele!E:E))","v":""},{"$f":"IF(B6843=\"\",\"\",LOOKUP(B6843,Spiele!B:B,Spiele!F:F))","v":""},"","","",null,null,-1,-1,1,0]
[null,null,{"$f":"IF(B6848=\"\",\"\",LOOKUP(B6848,Spiele!B:B,Spiele!C:C))","v":""},{"$f":"IF(B6848=\"\",\"\",LOOKUP(B6848,Spiele!B:B,Spiele!D:D))","v":""},{"$f":"IF(B6848=\"\",\"\",LOOKUP(B6848,Spiele!B:B,Spiele!E:E))","v":""},{"$f":"IF(B6848=\"\",\"\",LOOKUP(B6848,Spiele!B:B,Spiele!F:F))","v":""},"","","",null,null,-1,-1,1,0]
[null,null,{"$f":"IF(B6853=\"\",\"\",LOOKUP(B6853,Spiele!B:B,Spiele!C:C))","v":""},{"$f":"IF(B6853=\"\",\"\",LOOKUP(B6853,Spiele!B:B,Spiele!D:D))","v":""},{"$f":"IF(B6853=\"\",\"\",LOOKUP(B6853,Spiele!B:B,Spiele!E:E))","v":""},{"$f":"IF(B6853=\"\",\"\",LOOKUP(B6853,Spiele!B:B,Spiele!F:F))","v":""},"","","",null,null,-1,-1,1,0]
[null,null,{"$f":"IF(B6857=\"\",\"\",LOOKUP(B6857,Spiele!B:B,Spiele!C:C))","v":""},{"$f":"IF(B6857=\"\",\"\",LOOKUP(B6857,Spiele!B:B,Spiele!D:D))","v":""},{"$f":"IF(B6857=\"\",\"\",LOOKUP(B6857,Spiele!B:B,Spiele!E:E))","v":""},{"$f":"IF(B6857=\"\",\"\",LOOKUP(B6857,Spiele!B:B,Spiele!F:F))","v":""},"","","",null,null,-1,-1,1,0]
[null,null,{"$f":"IF(B6858=\"\",\"\",LOOKUP(B6858,Spiele!B:B,Spiele!C:C))","v":""},{"$f":"IF(B6858=\"\",\"\",LOOKUP(B6858,Spiele!B:B,Spiele!D:D))","v":""},{"$f":"IF(B6858=\"\",\"\",LOOKUP(B6858,Spiele!B:B,Spiele!E:E))","v":""},{"$f":"IF(B6858=\"\",\"\",LOOKUP(B6858,Spiele!B:B,Spiele!F:F))","v":""},"","","",null,null,-1,-1,1,0]
[null,null,{"$f":"IF(B6863=\"\",\"\",LOOKUP(B6863,Spiele!B:B,Spiele!C:C))","v":""},{"$f":"IF(B6863=\"\",\"\",LOOKUP(B6863,Spiele!B:B,Spiele!D:D))","v":""},{"$f":"IF(B6863=\"\",\"\",LOOKUP(B6863,Spiele!B:B,Spiele!E:E))","v":""},{"$f":"IF(B6863=\"\",\"\",LOOKUP(B6863,Spiele!B:B,Spiele!F:F))","v":""},"","","",null,null,-1,-1,1,0]
[null,null,{"$f":"IF(B6867=\"\",\"\",LOOKUP(B6867,Spiele!B:B,Spiele!C:C))","v":""},{"$f":"IF(B6867=\"\",\"\",LOOKUP(B6867,Spiele!B:B,Spiele!D:D))","v":""},{"$f":"IF(B6867=\"\",\"\",LOOKUP(B6867,Spiele!B:B,Spiele!E:E))","v":""},{"$f":"IF(B6867=\"\",\"\",LOOKUP(B6867,Spiele!B:B,Spiele!F:F))","v":""},"","","",null,null,-1,-1,1,0]
[null,null,{"$f":"IF(B6872=\"\",\"\",LOOKUP(B6872,Spiele!B:B,Spiele!C:C))","v":""},{"$f":"IF(B6872=\"\",\"\",LOOKUP(B6872,Spiele!B:B,Spiele!D:D))","v":""},{"$f":"IF(B6872=\"\",\"\",LOOKUP(B6872,Spiele!B:B,Spiele!E:E))","v":""},{"$f":"IF(B6872=\"\",\"\",LOOKUP(B6872,Spiele!B:B,Spiele!F:F))","v":""},"","","",null,null,-1,-1,1,0]
[null,null,{"$f":"IF(B6873=\"\",\"\",LOOKUP(B6873,Spiele!B:B,Spiele!C:C))","v":""},{"$f":"IF(B6873=\"\",\"\",LOOKUP(B6873,Spiele!B:B,Spiele!D:D))","v":""},{"$f":"IF(B6873=\"\",\"\",LOOKUP(B6873,Spiele!B:B,Spiele!E:E))","v":""},{"$f":"IF(B6873=\"\",\"\",LOOKUP(B6873,Spiele!B:B,Spiele!F:F))","v":""},"","","",null,null,-1,-1,1,0]
[null,null,{"$f":"IF(B6878=\"\",\"\",LOOKUP(B6878,Spiele!B:B,Spiele!C:C))","v":""},{"$f":"IF(B6878=\"\",\"\",LOOKUP(B6878,Spiele!B:B,Spiele!D:D))","v":""},{"$f":"IF(B6878=\"\",\"\",LOOKUP(B6878,Spiele!B:B,Spiele!E:E))","v":""},{"$f":"IF(B6878=\"\",\"\",LOOKUP(B6878,Spiele!B:B,Spiele!F:F))","v":""},"","","",null,null,-1,-1,1,0]
[null,null,{"$f":"IF(B6883=\"\",\"\",LOOKUP(B6883,Spiele!B:B,Spiele!C:C))","v":""},{"$f":"IF(B6883=\"\",\"\",LOOKUP(B6883,Spiele!B:B,Spiele!D:D))","v":""},{"$f":"IF(B6883=\"\",\"\",LOOKUP(B6883,Spiele!B:B,Spiele!E:E))","v":""},{"$f":"IF(B6883=\"\",\"\",LOOKUP(B6883,Spiele!B:B,Spiele!F:F))","v":""},"","","",null,null,-1,-1,1,0]
[null,null,{"$f":"IF(B6887=\"\",\"\",LOOKUP(B6887,Spiele!B:B,Spiele!C:C))","v":""},{"$f":"IF(B6887=\"\",\"\",LOOKUP(B6887,Spiele!B:B,Spiele!D:D))","v":""},{"$f":"IF(B6887=\"\",\"\",LOOKUP(B6887,Spiele!B:B,Spiele!E:E))","v":""},{"$f":"IF(B6887=\"\",\"\",LOOKUP(B6887,Spiele!B:B,Spiele!F:F))","v":""},"","","",null,null,-1,-1,1,0]
[null,null,{"$f":"IF(B6888=\"\",\"\",LOOKUP(B6888,Spiele!B:B,Spiele!C:C))","v":""},{"$f":"IF(B6888=\"\",\"\",LOOKUP(B6888,Spiele!B:B,Spiele!D:D))","v":""},{"$f":"IF(B6888=\"\",\"\",LOOKUP(B6888,Spiele!B:B,Spiele!E:E))","v":""},{"$f":"IF(B6888=\"\",\"\",LOOKUP(B6888,Spiele!B:B,Spiele!F:F))","v":""},"","","",null,null,-1,-1,1,0]
[null,null,{"$f":"IF(B6893=\"\",\"\",LOOKUP(B6893,Spiele!B:B,Spiele!C:C))","v":""},{"$f":"IF(B6893=\"\",\"\",LOOKUP(B6893,Spiele!B:B,Spiele!D:D))","v":""},{"$f":"IF(B6893=\"\",\"\",LOOKUP(B6893,Spiele!B:B,Spiele!E:E))","v":""},{"$f":"IF(B6893=\"\",\"\",LOOKUP(B6893,Spiele!B:B,Spiele!F:F))","v":""},"","","",null,null,-1,-1,1,0]
[null,null,{"$f":"IF(B6897=\"\",\"\",LOOKUP(B6897,Spiele!B:B,Spiele!C:C))","v":""},{"$f":"IF(B6897=\"\",\"\",LOOKUP(B6897,Spiele!B:B,Spiele!D:D))","v":""},{"$f":"IF(B6897=\"\",\"\",LOOKUP(B6897,Spiele!B:B,Spiele!E:E))","v":""},{"$f":"IF(B6897=\"\",\"\",LOOKUP(B6897,Spiele!B:B,Spiele!F:F))","v":""},"","","",null,null,-1,-1,1,0]
[null,null,{"$f":"IF(B6902=\"\",\"\",LOOKUP(B6902,Spiele!B:B,Spiele!C:C))","v":""},{"$f":"IF(B6902=\"\",\"\",LOOKUP(B6902,Spiele!B:B,Spiele!D:D))","v":""},{"$f":"IF(B6902=\"\",\"\",LOOKUP(B6902,Spiele!B:B,Spiele!E:E))","v":""},{"$f":"IF(B6902=\"\",\"\",LOOKUP(B6902,Spiele!B:B,Spiele!F:F))","v":""},"","","",null,null,-1,-1,1,0]
[null,null,{"$f":"IF(B6903=\"\",\"\",LOOKUP(B6903,Spiele!B:B,Spiele!C:C))","v":""},{"$f":"IF(B6903=\"\",\"\",LOOKUP(B6903,Spiele!B:B,Spiele!D:D))","v":""},{"$f":"IF(B6903=\"\",\"\",LOOKUP(B6903,Spiele!B:B,Spiele!E:E))","v":""},{"$f":"IF(B6903=\"\",\"\",LOOKUP(B6903,Spiele!B:B,Spiele!F:F))","v":""},"","","",null,null,-1,-1,1,0]
[null,null,{"$f":"IF(B6908=\"\",\"\",LOOKUP(B6908,Spiele!B:B,Spiele!C:C))","v":""},{"$f":"IF(B6908=\"\",\"\",LOOKUP(B6908,Spiele!B:B,Spiele!D:D))","v":""},{"$f":"IF(B6908=\"\",\"\",LOOKUP(B6908,Spiele!B:B,Spiele!E:E))","v":""},{"$f":"IF(B6908=\"\",\"\",LOOKUP(B6908,Spiele!B:B,Spiele!F:F))","v":""},"","","",null,null,-1,-1,1,0]
[null,null,{"$f":"IF(B6913=\"\",\"\",LOOKUP(B6913,Spiele!B:B,Spiele!C:C))","v":""},{"$f":"IF(B6913=\"\",\"\",LOOKUP(B6913,Spiele!B:B,Spiele!D:D))","v":""},{"$f":"IF(B6913=\"\",\"\",LOOKUP(B6913,Spiele!B:B,Spiele!E:E))","v":""},{"$f":"IF(B6913=\"\",\"\",LOOKUP(B6913,Spiele!B:B,Spiele!F:F))","v":""},"","","",null,null,-1,-1,1,0]
[null,null,{"$f":"IF(B6917=\"\",\"\",LOOKUP(B6917,Spiele!B:B,Spiele!C:C))","v":""},{"$f":"IF(B6917=\"\",\"\",LOOKUP(B6917,Spiele!B:B,Spiele!D:D))","v":""},{"$f":"IF(B6917=\"\",\"\",LOOKUP(B6917,Spiele!B:B,Spiele!E:E))","v":""},{"$f":"IF(B6917=\"\",\"\",LOOKUP(B6917,Spiele!B:B,Spiele!F:F))","v":""},"","","",null,null,-1,-1,1,0]
[null,null,{"$f":"IF(B6918=\"\",\"\",LOOKUP(B6918,Spiele!B:B,Spiele!C:C))","v":""},{"$f":"IF(B6918=\"\",\"\",LOOKUP(B6918,Spiele!B:B,Spiele!D:D))","v":""},{"$f":"IF(B6918=\"\",\"\",LOOKUP(B6918,Spiele!B:B,Spiele!E:E))","v":""},{"$f":"IF(B6918=\"\",\"\",LOOKUP(B6918,Spiele!B:B,Spiele!F:F))","v":""},"","","",null,null,-1,-1,1,0]
[null,null,{"$f":"IF(B6923=\"\",\"\",LOOKUP(B6923,Spiele!B:B,Spiele!C:C))","v":""},{"$f":"IF(B6923=\"\",\"\",LOOKUP(B6923,Spiele!B:B,Spiele!D:D))","v":""},{"$f":"IF(B6923=\"\",\"\",LOOKUP(B6923,Spiele!B:B,Spiele!E:E))","v":""},{"$f":"IF(B6923=\"\",\"\",LOOKUP(B6923,Spiele!B:B,Spiele!F:F))","v":""},"","","",null,null,-1,-1,1,0]
[null,null,{"$f":"IF(B6927=\"\",\"\",LOOKUP(B6927,Spiele!B:B,Spiele!C:C))","v":""},{"$f":"IF(B6927=\"\",\"\",LOOKUP(B6927,Spiele!B:B,Spiele!D:D))","v":""},{"$f":"IF(B6927=\"\",\"\",LOOKUP(B6927,Spiele!B:B,Spiele!E:E))","v":""},{"$f":"IF(B6927=\"\",\"\",LOOKUP(B6927,Spiele!B:B,Spiele!F:F))","v":""},"","","",null,null,-1,-1,1,0]
[null,null,{"$f":"IF(B6932=\"\",\"\",LOOKUP(B6932,Spiele!B:B,Spiele!C:C))","v":""},{"$f":"IF(B6932=\"\",\"\",LOOKUP(B6932,Spiele!B:B,Spiele!D:D))","v":""},{"$f":"IF(B6932=\"\",\"\",LOOKUP(B6932,Spiele!B:B,Spiele!E:E))","v":""},{"$f":"IF(B6932=\"\",\"\",LOOKUP(B6932,Spiele!B:B,Spiele!F:F))","v":""},"","","",null,null,-1,-1,1,0]
[null,null,{"$f":"IF(B6933=\"\",\"\",LOOKUP(B6933,Spiele!B:B,Spiele!C:C))","v":""},{"$f":"IF(B6933=\"\",\"\",LOOKUP(B6933,Spiele!B:B,Spiele!D:D))","v":""},{"$f":"IF(B6933=\"\",\"\",LOOKUP(B6933,Spiele!B:B,Spiele!E:E))","v":""},{"$f":"IF(B6933=\"\",\"\",LOOKUP(B6933,Spiele!B:B,Spiele!F:F))","v":""},"","","",null,null,-1,-1,1,0]
[null,null,{"$f":"IF(B6938=\"\",\"\",LOOKUP(B6938,Spiele!B:B,Spiele!C:C))","v":""},{"$f":"IF(B6938=\"\",\"\",LOOKUP(B6938,Spiele!B:B,Spiele!D:D))","v":""},{"$f":"IF(B6938=\"\",\"\",LOOKUP(B6938,Spiele!B:B,Spiele!E:E))","v":""},{"$f":"IF(B6938=\"\",\"\",LOOKUP(B6938,Spiele!B:B,Spiele!F:F))","v":""},"","","",null,null,-1,-1,1,0]
[null,null,{"$f":"IF(B6941=\"\",\"\",LOOKUP(B6941,Spiele!B:B,Spiele!C:C))","v":""},{"$f":"IF(B6941=\"\",\"\",LOOKUP(B6941,Spiele!B:B,Spiele!D:D))","v":""},{"$f":"IF(B6941=\"\",\"\",LOOKUP(B6941,Spiele!B:B,Spiele!E:E))","v":""},{"$f":"IF(B6941=\"\",\"\",LOOKUP(B6941,Spiele!B:B,Spiele!F:F))","v":""},"","","",null,null,-1,-1,1,0]
[null,null,{"$f":"IF(B6947=\"\",\"\",LOOKUP(B6947,Spiele!B:B,Spiele!C:C))","v":""},{"$f":"IF(B6947=\"\",\"\",LOOKUP(B6947,Spiele!B:B,Spiele!D:D))","v":""},{"$f":"IF(B6947=\"\",\"\",LOOKUP(B6947,Spiele!B:B,Spiele!E:E))","v":""},{"$f":"IF(B6947=\"\",\"\",LOOKUP(B6947,Spiele!B:B,Spiele!F:F))","v":""},"","","",null,null,-1,-1,1,0]
[null,null,{"$f":"IF(B6948=\"\",\"\",LOOKUP(B6948,Spiele!B:B,Spiele!C:C))","v":""},{"$f":"IF(B6948=\"\",\"\",LOOKUP(B6948,Spiele!B:B,Spiele!D:D))","v":""},{"$f":"IF(B6948=\"\",\"\",LOOKUP(B6948,Spiele!B:B,Spiele!E:E))","v":""},{"$f":"IF(B6948=\"\",\"\",LOOKUP(B6948,Spiele!B:B,Spiele!F:F))","v":""},"","","",null,null,-1,-1,1,0]
[null,null,{"$f":"IF(B6953=\"\",\"\",LOOKUP(B6953,Spiele!B:B,Spiele!C:C))","v":""},{"$f":"IF(B6953=\"\",\"\",LOOKUP(B6953,Spiele!B:B,Spiele!D:D))","v":""},{"$f":"IF(B6953=\"\",\"\",LOOKUP(B6953,Spiele!B:B,Spiele!E:E))","v":""},{"$f":"IF(B6953=\"\",\"\",LOOKUP(B6953,Spiele!B:B,Spiele!F:F))","v":""},"","","",null,null,-1,-1,1,0]
[null,null,{"$f":"IF(B6957=\"\",\"\",LOOKUP(B6957,Spiele!B:B,Spiele!C:C))","v":""},{"$f":"IF(B6957=\"\",\"\",LOOKUP(B6957,Spiele!B:B,Spiele!D:D))","v":""},{"$f":"IF(B6957=\"\",\"\",LOOKUP(B6957,Spiele!B:B,Spiele!E:E))","v":""},{"$f":"IF(B6957=\"\",\"\",LOOKUP(B6957,Spiele!B:B,Spiele!F:F))","v":""},"","","",null,null,-1,-1,1,0]
[null,null,{"$f":"IF(B6962=\"\",\"\",LOOKUP(B6962,Spiele!B:B,Spiele!C:C))","v":""},{"$f":"IF(B6962=\"\",\"\",LOOKUP(B6962,Spiele!B:B,Spiele!D:D))","v":""},{"$f":"IF(B6962=\"\",\"\",LOOKUP(B6962,Spiele!B:B,Spiele!E:E))","v":""},{"$f":"IF(B6962=\"\",\"\",LOOKUP(B6962,Spiele!B:B,Spiele!F:F))","v":""},"","","",null,null,-1,-1,1,0]
[null,null,{"$f":"IF(B6963=\"\",\"\",LOOKUP(B6963,Spiele!B:B,Spiele!C:C))","v":""},{"$f":"IF(B6963=\"\",\"\",LOOKUP(B6963,Spiele!B:B,Spiele!D:D))","v":""},{"$f":"IF(B6963=\"\",\"\",LOOKUP(B6963,Spiele!B:B,Spiele!E:E))","v":""},{"$f":"IF(B6963=\"\",\"\",LOOKUP(B6963,Spiele!B:B,Spiele!F:F))","v":""},"","","",null,null,-1,-1,1,0]
[null,null,{"$f":"IF(B6968=\"\",\"\",LOOKUP(B6968,Spiele!B:B,Spiele!C:C))","v":""},{"$f":"IF(B6968=\"\",\"\",LOOKUP(B6968,Spiele!B:B,Spiele!D:D))","v":""},{"$f":"IF(B6968=\"\",\"\",LOOKUP(B6968,Spiele!B:B,Spiele!E:E))","v":""},{"$f":"IF(B6968=\"\",\"\",LOOKUP(B6968,Spiele!B:B,Spiele!F:F))","v":""},"","","",null,null,-1,-1,1,0]
[null,null,{"$f":"IF(B6971=\"\",\"\",LOOKUP(B6971,Spiele!B:B,Spiele!C:C))","v":""},{"$f":"IF(B6971=\"\",\"\",LOOKUP(B6971,Spiele!B:B,Spiele!D:D))","v":""},{"$f":"IF(B6971=\"\",\"\",LOOKUP(B6971,Spiele!B:B,Spiele!E:E))","v":""},{"$f":"IF(B6971=\"\",\"\",LOOKUP(B6971,Spiele!B:B,Spiele!F:F))","v":""},"","","",null,null,-1,-1,1,0]
[null,null,{"$f":"IF(B6977=\"\",\"\",LOOKUP(B6977,Spiele!B:B,Spiele!C:C))","v":""},{"$f":"IF(B6977=\"\",\"\",LOOKUP(B6977,Spiele!B:B,Spiele!D:D))","v":""},{"$f":"IF(B6977=\"\",\"\",LOOKUP(B6977,Spiele!B:B,Spiele!E:E))","v":""},{"$f":"IF(B6977=\"\",\"\",LOOKUP(B6977,Spiele!B:B,Spiele!F:F))","v":""},"","","",null,null,-1,-1,1,0]
[null,null,{"$f":"IF(B6978=\"\",\"\",LOOKUP(B6978,Spiele!B:B,Spiele!C:C))","v":""},{"$f":"IF(B6978=\"\",\"\",LOOKUP(B6978,Spiele!B:B,Spiele!D:D))","v":""},{"$f":"IF(B6978=\"\",\"\",LOOKUP(B6978,Spiele!B:B,Spiele!E:E))","v":""},{"$f":"IF(B6978=\"\",\"\",LOOKUP(B6978,Spiele!B:B,Spiele!F:F))","v":""},"","","",null,null,-1,-1,1,0]
[null,null,{"$f":"IF(B6983=\"\",\"\",LOOKUP(B6983,Spiele!B:B,Spiele!C:C))","v":""},{"$f":"IF(B6983=\"\",\"\",LOOKUP(B6983,Spiele!B:B,Spiele!D:D))","v":""},{"$f":"IF(B6983=\"\",\"\",LOOKUP(B6983,Spiele!B:B,Spiele!E:E))","v":""},{"$f":"IF(B6983=\"\",\"\",LOOKUP(B6983,Spiele!B:B,Spiele!F:F))","v":""},"","","",null,null,-1,-1,1,0]
[null,null,{"$f":"IF(B6987=\"\",\"\",LOOKUP(B6987,Spiele!B:B,Spiele!C:C))","v":""},{"$f":"IF(B6987=\"\",\"\",LOOKUP(B6987,Spiele!B:B,Spiele!D:D))","v":""},{"$f":"IF(B6987=\"\",\"\",LOOKUP(B6987,Spiele!B:B,Spiele!E:E))","v":""},{"$f":"IF(B6987=\"\",\"\",LOOKUP(B6987,Spiele!B:B,Spiele!F:F))","v":""},"","","",null,null,-1,-1,1,0]
[null,null,{"$f":"IF(B6992=\"\",\"\",LOOKUP(B6992,Spiele!B:B,Spiele!C:C))","v":""},{"$f":"IF(B6992=\"\",\"\",LOOKUP(B6992,Spiele!B:B,Spiele!D:D))","v":""},{"$f":"IF(B6992=\"\",\"\",LOOKUP(B6992,Spiele!B:B,Spiele!E:E))","v":""},{"$f":"IF(B6992=\"\",\"\",LOOKUP(B6992,Spiele!B:B,Spiele!F:F))","v":""},"","","",null,null,-1,-1,1,0]
[null,null,{"$f":"IF(B6993=\"\",\"\",LOOKUP(B6993,Spiele!B:B,Spiele!C:C))","v":""},{"$f":"IF(B6993=\"\",\"\",LOOKUP(B6993,Spiele!B:B,Spiele!D:D))","v":""},{"$f":"IF(B6993=\"\",\"\",LOOKUP(B6993,Spiele!B:B,Spiele!E:E))","v":""},{"$f":"IF(B6993=\"\",\"\",LOOKUP(B6993,Spiele!B:B,Spiele!F:F))","v":""},"","","",null,null,-1,-1,1,0]
[null,null,{"$f":"IF(B6998=\"\",\"\",LOOKUP(B6998,Spiele!B:B,Spiele!C:C))","v":""},{"$f":"IF(B6998=\"\",\"\",LOOKUP(B6998,Spiele!B:B,Spiele!D:D))","v":""},{"$f":"IF(B6998=\"\",\"\",LOOKUP(B6998,Spiele!B:B,Spiele!E:E))","v":""},{"$f":"IF(B6998=\"\",\"\",LOOKUP(B6998,Spiele!B:B,Spiele!F:F))","v":""},"","","",null,null,-1,-1,1,0]
[null,null,{"$f":"IF(B7001=\"\",\"\",LOOKUP(B7001,Spiele!B:B,Spiele!C:C))","v":""},{"$f":"IF(B7001=\"\",\"\",LOOKUP(B7001,Spiele!B:B,Spiele!D:D))","v":""},{"$f":"IF(B7001=\"\",\"\",LOOKUP(B7001,Spiele!B:B,Spiele!E:E))","v":""},{"$f":"IF(B7001=\"\",\"\",LOOKUP(B7001,Spiele!B:B,Spiele!F:F))","v":""},"","","",null,null,-1,-1,1,0]
[null,null,{"$f":"IF(B7007=\"\",\"\",LOOKUP(B7007,Spiele!B:B,Spiele!C:C))","v":""},{"$f":"IF(B7007=\"\",\"\",LOOKUP(B7007,Spiele!B:B,Spiele!D:D))","v":""},{"$f":"IF(B7007=\"\",\"\",LOOKUP(B7007,Spiele!B:B,Spiele!E:E))","v":""},{"$f":"IF(B7007=\"\",\"\",LOOKUP(B7007,Spiele!B:B,Spiele!F:F))","v":""},"","","",null,null,-1,-1,1,0]
[null,null,{"$f":"IF(B7008=\"\",\"\",LOOKUP(B7008,Spiele!B:B,Spiele!C:C))","v":""},{"$f":"IF(B7008=\"\",\"\",LOOKUP(B7008,Spiele!B:B,Spiele!D:D))","v":""},{"$f":"IF(B7008=\"\",\"\",LOOKUP(B7008,Spiele!B:B,Spiele!E:E))","v":""},{"$f":"IF(B7008=\"\",\"\",LOOKUP(B7008,Spiele!B:B,Spiele!F:F))","v":""},{"$f":"IF(E7008=\"\",\"\",IF(E7008>F7008,1,0))","v":""},{"$f":"IF(F7008=\"\",\"\",IF(E7008<F7008,1,0))","v":""},{"$f":"IF(E7008=\"\",\"\",IF(E7008=F7008,1,0))","v":""},null,null,{"$f":"IF(E7008=\"\",-1,IF(J7008>K7008,1,-1))","v":-1},{"$f":"IF(F7008=\"\",-1,IF(J7008<K7008,1,-1))","v":-1},{"$f":"IF(E7008=\"-\",-1,IF(J7008=K7008,1,-1))","v":1},{"$f":"IF(E7008=\"\",0,IF(E7008=J7008,1,0)+IF(F7008=K7008,1,0)+IF(G7008=L7008,1,0)+IF(H7008=M7008,1,0)+IF(I7008=N7008,1,0))","v":0}]
[null,null,{"$f":"IF(B7013=\"\",\"\",LOOKUP(B7013,Spiele!B:B,Spiele!C:C))","v":""},{"$f":"IF(B7013=\"\",\"\",LOOKUP(B7013,Spiele!B:B,Spiele!D:D))","v":""},{"$f":"IF(B7013=\"\",\"\",LOOKUP(B7013,Spiele!B:B,Spiele!E:E))","v":""},{"$f":"IF(B7013=\"\",\"\",LOOKUP(B7013,Spiele!B:B,Spiele!F:F))","v":""},"","","",null,null,-1,-1,1,0]
[null,null,{"$f":"IF(B7017=\"\",\"\",LOOKUP(B7017,Spiele!B:B,Spiele!C:C))","v":""},{"$f":"IF(B7017=\"\",\"\",LOOKUP(B7017,Spiele!B:B,Spiele!D:D))","v":""},{"$f":"IF(B7017=\"\",\"\",LOOKUP(B7017,Spiele!B:B,Spiele!E:E))","v":""},{"$f":"IF(B7017=\"\",\"\",LOOKUP(B7017,Spiele!B:B,Spiele!F:F))","v":""},"","","",null,null,-1,-1,1,0]
[null,null,{"$f":"IF(B7022=\"\",\"\",LOOKUP(B7022,Spiele!B:B,Spiele!C:C))","v":""},{"$f":"IF(B7022=\"\",\"\",LOOKUP(B7022,Spiele!B:B,Spiele!D:D))","v":""},{"$f":"IF(B7022=\"\",\"\",LOOKUP(B7022,Spiele!B:B,Spiele!E:E))","v":""},{"$f":"IF(B7022=\"\",\"\",LOOKUP(B7022,Spiele!B:B,Spiele!F:F))","v":""},"","","",null,null,-1,-1,1,0]
[null,null,{"$f":"IF(B7023=\"\",\"\",LOOKUP(B7023,Spiele!B:B,Spiele!C:C))","v":""},{"$f":"IF(B7023=\"\",\"\",LOOKUP(B7023,Spiele!B:B,Spiele!D:D))","v":""},{"$f":"IF(B7023=\"\",\"\",LOOKUP(B7023,Spiele!B:B,Spiele!E:E))","v":""},{"$f":"IF(B7023=\"\",\"\",LOOKUP(B7023,Spiele!B:B,Spiele!F:F))","v":""},"","","",null,null,-1,-1,1,0]
[null,null,{"$f":"IF(B7028=\"\",\"\",LOOKUP(B7028,Spiele!B:B,Spiele!C:C))","v":""},{"$f":"IF(B7028=\"\",\"\",LOOKUP(B7028,Spiele!B:B,Spiele!D:D))","v":""},{"$f":"IF(B7028=\"\",\"\",LOOKUP(B7028,Spiele!B:B,Spiele!E:E))","v":""},{"$f":"IF(B7028=\"\",\"\",LOOKUP(B7028,Spiele!B:B,Spiele!F:F))","v":""},"","","",null,null,-1,-1,1,0]
[null,null,{"$f":"IF(B7031=\"\",\"\",LOOKUP(B7031,Spiele!B:B,Spiele!C:C))","v":""},{"$f":"IF(B7031=\"\",\"\",LOOKUP(B7031,Spiele!B:B,Spiele!D:D))","v":""},{"$f":"IF(B7031=\"\",\"\",LOOKUP(B7031,Spiele!B:B,Spiele!E:E))","v":""},{"$f":"IF(B7031=\"\",\"\",LOOKUP(B7031,Spiele!B:B,Spiele!F:F))","v":""},"","","",null,null,-1,-1,1,0]
[null,null,{"$f":"IF(B7037=\"\",\"\",LOOKUP(B7037,Spiele!B:B,Spiele!C:C))","v":""},{"$f":"IF(B7037=\"\",\"\",LOOKUP(B7037,Spiele!B:B,Spiele!D:D))","v":""},{"$f":"IF(B7037=\"\",\"\",LOOKUP(B7037,Spiele!B:B,Spiele!E:E))","v":""},{"$f":"IF(B7037=\"\",\"\",LOOKUP(B7037,Spiele!B:B,Spiele!F:F))","v":""},"","","",null,null,-1,-1,1,0]
[null,null,{"$f":"IF(B7038=\"\",\"\",LOOKUP(B7038,Spiele!B:B,Spiele!C:C))","v":""},{"$f":"IF(B7038=\"\",\"\",LOOKUP(B7038,Spiele!B:B,Spiele!D:D))","v":""},{"$f":"IF(B7038=\"\",\"\",LOOKUP(B7038,Spiele!B:B,Spiele!E:E))","v":""},{"$f":"IF(B7038=\"\",\"\",LOOKUP(B7038,Spiele!B:B,Spiele!F:F))","v":""},"","","",null,null,-1,-1,1,0]
[null,null,{"$f":"IF(B7043=\"\",\"\",LOOKUP(B7043,Spiele!B:B,Spiele!C:C))","v":""},{"$f":"IF(B7043=\"\",\"\",LOOKUP(B7043,Spiele!B:B,Spiele!D:D))","v":""},{"$f":"IF(B7043=\"\",\"\",LOOKUP(B7043,Spiele!B:B,Spiele!E:E))","v":""},{"$f":"IF(B7043=\"\",\"\",LOOKUP(B7043,Spiele!B:B,Spiele!F:F))","v":""},"","","",null,null,-1,-1,1,0]
[null,null,{"$f":"IF(B7047=\"\",\"\",LOOKUP(B7047,Spiele!B:B,Spiele!C:C))","v":""},{"$f":"IF(B7047=\"\",\"\",LOOKUP(B7047,Spiele!B:B,Spiele!D:D))","v":""},{"$f":"IF(B7047=\"\",\"\",LOOKUP(B7047,Spiele!B:B,Spiele!E:E))","v":""},{"$f":"IF(B7047=\"\",\"\",LOOKUP(B7047,Spiele!B:B,Spiele!F:F))","v":""},"","","",null,null,-1,-1,1,0]
[null,null,{"$f":"IF(B7052=\"\",\"\",LOOKUP(B7052,Spiele!B:B,Spiele!C:C))","v":""},{"$f":"IF(B7052=\"\",\"\",LOOKUP(B7052,Spiele!B:B,Spiele!D:D))","v":""},{"$f":"IF(B7052=\"\",\"\",LOOKUP(B7052,Spiele!B:B,Spiele!E:E))","v":""},{"$f":"IF(B7052=\"\",\"\",LOOKUP(B7052,Spiele!B:B,Spiele!F:F))","v":""},"","","",null,null,-1,-1,1,0]
[null,null,{"$f":"IF(B7053=\"\",\"\",LOOKUP(B7053,Spiele!B:B,Spiele!C:C))","v":""},{"$f":"IF(B7053=\"\",\"\",LOOKUP(B7053,Spiele!B:B,Spiele!D:D))","v":""},{"$f":"IF(B7053=\"\",\"\",LOOKUP(B7053,Spiele!B:B,Spiele!E:E))","v":""},{"$f":"IF(B7053=\"\",\"\",LOOKUP(B7053,Spiele!B:B,Spiele!F:F))","v":""},"","","",null,null,-1,-1,1,0]
[null,null,{"$f":"IF(B7058=\"\",\"\",LOOKUP(B7058,Spiele!B:B,Spiele!C:C))","v":""},{"$f":"IF(B7058=\"\",\"\",LOOKUP(B7058,Spiele!B:B,Spiele!D:D))","v":""},{"$f":"IF(B7058=\"\",\"\",LOOKUP(B7058,Spiele!B:B,Spiele!E:E))","v":""},{"$f":"IF(B7058=\"\",\"\",LOOKUP(B7058,Spiele!B:B,Spiele!F:F))","v":""},"","","",null,null,-1,-1,1,0]
[null,null,{"$f":"IF(B7061=\"\",\"\",LOOKUP(B7061,Spiele!B:B,Spiele!C:C))","v":""},{"$f":"IF(B7061=\"\",\"\",LOOKUP(B7061,Spiele!B:B,Spiele!D:D))","v":""},{"$f":"IF(B7061=\"\",\"\",LOOKUP(B7061,Spiele!B:B,Spiele!E:E))","v":""},{"$f":"IF(B7061=\"\",\"\",LOOKUP(B7061,Spiele!B:B,Spiele!F:F))","v":""},"","","",null,null,-1,-1,1,0]
[null,null,{"$f":"IF(B7067=\"\",\"\",LOOKUP(B7067,Spiele!B:B,Spiele!C:C))","v":""},{"$f":"IF(B7067=\"\",\"\",LOOKUP(B7067,Spiele!B:B,Spiele!D:D))","v":""},{"$f":"IF(B7067=\"\",\"\",LOOKUP(B7067,Spiele!B:B,Spiele!E:E))","v":""},{"$f":"IF(B7067=\"\",\"\",LOOKUP(B7067,Spiele!B:B,Spiele!F:F))","v":""},"","","",null,null,-1,-1,1,0]
[null,null,{"$f":"IF(B7068=\"\",\"\",LOOKUP(B7068,Spiele!B:B,Spiele!C:C))","v":""},{"$f":"IF(B7068=\"\",\"\",LOOKUP(B7068,Spiele!B:B,Spiele!D:D))","v":""},{"$f":"IF(B7068=\"\",\"\",LOOKUP(B7068,Spiele!B:B,Spiele!E:E))","v":""},{"$f":"IF(B7068=\"\",\"\",LOOKUP(B7068,Spiele!B:B,Spiele!F:F))","v":""},"","","",null,null,-1,-1,1,0]
[null,null,{"$f":"IF(B7073=\"\",\"\",LOOKUP(B7073,Spiele!B:B,Spiele!C:C))","v":""},{"$f":"IF(B7073=\"\",\"\",LOOKUP(B7073,Spiele!B:B,Spiele!D:D))","v":""},{"$f":"IF(B7073=\"\",\"\",LOOKUP(B7073,Spiele!B:B,Spiele!E:E))","v":""},{"$f":"IF(B7073=\"\",\"\",LOOKUP(B7073,Spiele!B:B,Spiele!F:F))","v":""},"","","",null,null,-1,-1,1,0]
[null,null,{"$f":"IF(B7077=\"\",\"\",LOOKUP(B7077,Spiele!B:B,Spiele!C:C))","v":""},{"$f":"IF(B7077=\"\",\"\",LOOKUP(B7077,Spiele!B:B,Spiele!D:D))","v":""},{"$f":"IF(B7077=\"\",\"\",LOOKUP(B7077,Spiele!B:B,Spiele!E:E))","v":""},{"$f":"IF(B7077=\"\",\"\",LOOKUP(B7077,Spiele!B:B,Spiele!F:F))","v":""},"","","",null,null,-1,-1,1,0]
[null,null,{"$f":"IF(B7082=\"\",\"\",LOOKUP(B7082,Spiele!B:B,Spiele!C:C))","v":""},{"$f":"IF(B7082=\"\",\"\",LOOKUP(B7082,Spiele!B:B,Spiele!D:D))","v":""},{"$f":"IF(B7082=\"\",\"\",LOOKUP(B7082,Spiele!B:B,Spiele!E:E))","v":""},{"$f":"IF(B7082=\"\",\"\",LOOKUP(B7082,Spiele!B:B,Spiele!F:F))","v":""},"","","",null,null,-1,-1,1,0]
[null,null,{"$f":"IF(B7083=\"\",\"\",LOOKUP(B7083,Spiele!B:B,Spiele!C:C))","v":""},{"$f":"IF(B7083=\"\",\"\",LOOKUP(B7083,Spiele!B:B,Spiele!D:D))","v":""},{"$f":"IF(B7083=\"\",\"\",LOOKUP(B7083,Spiele!B:B,Spiele!E:E))","v":""},{"$f":"IF(B7083=\"\",\"\",LOOKUP(B7083,Spiele!B:B,Spiele!F:F))","v":""},"","","",null,null,-1,-1,1,0]
[null,null,{"$f":"IF(B7088=\"\",\"\",LOOKUP(B7088,Spiele!B:B,Spiele!C:C))","v":""},{"$f":"IF(B7088=\"\",\"\",LOOKUP(B7088,Spiele!B:B,Spiele!D:D))","v":""},{"$f":"IF(B7088=\"\",\"\",LOOKUP(B7088,Spiele!B:B,Spiele!E:E))","v":""},{"$f":"IF(B7088=\"\",\"\",LOOKUP(B7088,Spiele!B:B,Spiele!F:F))","v":""},"","","",null,null,-1,-1,1,0]
[null,null,{"$f":"IF(B7091=\"\",\"\",LOOKUP(B7091,Spiele!B:B,Spiele!C:C))","v":""},{"$f":"IF(B7091=\"\",\"\",LOOKUP(B7091,Spiele!B:B,Spiele!D:D))","v":""},{"$f":"IF(B7091=\"\",\"\",LOOKUP(B7091,Spiele!B:B,Spiele!E:E))","v":""},{"$f":"IF(B7091=\"\",\"\",LOOKUP(B7091,Spiele!B:B,Spiele!F:F))","v":""},"","","",null,null,-1,-1,1,0]
[null,null,{"$f":"IF(B7097=\"\",\"\",LOOKUP(B7097,Spiele!B:B,Spiele!C:C))","v":""},{"$f":"IF(B7097=\"\",\"\",LOOKUP(B7097,Spiele!B:B,Spiele!D:D))","v":""},{"$f":"IF(B7097=\"\",\"\",LOOKUP(B7097,Spiele!B:B,Spiele!E:E))","v":""},{"$f":"IF(B7097=\"\",\"\",LOOKUP(B7097,Spiele!B:B,Spiele!F:F))","v":""},"","","",null,null,-1,-1,1,0]
[null,null,{"$f":"IF(B7098=\"\",\"\",LOOKUP(B7098,Spiele!B:B,Spiele!C:C))","v":""},{"$f":"IF(B7098=\"\",\"\",LOOKUP(B7098,Spiele!B:B,Spiele!D:D))","v":""},{"$f":"IF(B7098=\"\",\"\",LOOKUP(B7098,Spiele!B:B,Spiele!E:E))","v":""},{"$f":"IF(B7098=\"\",\"\",LOOKUP(B7098,Spiele!B:B,Spiele!F:F))","v":""},"","","",null,null,-1,-1,1,0]
[null,null,{"$f":"IF(B7103=\"\",\"\",LOOKUP(B7103,Spiele!B:B,Spiele!C:C))","v":""},{"$f":"IF(B7103=\"\",\"\",LOOKUP(B7103,Spiele!B:B,Spiele!D:D))","v":""},{"$f":"IF(B7103=\"\",\"\",LOOKUP(B7103,Spiele!B:B,Spiele!E:E))","v":""},{"$f":"IF(B7103=\"\",\"\",LOOKUP(B7103,Spiele!B:B,Spiele!F:F))","v":""},"","","",null,null,-1,-1,1,0]
[null,null,{"$f":"IF(B7107=\"\",\"\",LOOKUP(B7107,Spiele!B:B,Spiele!C:C))","v":""},{"$f":"IF(B7107=\"\",\"\",LOOKUP(B7107,Spiele!B:B,Spiele!D:D))","v":""},{"$f":"IF(B7107=\"\",\"\",LOOKUP(B7107,Spiele!B:B,Spiele!E:E))","v":""},{"$f":"IF(B7107=\"\",\"\",LOOKUP(B7107,Spiele!B:B,Spiele!F:F))","v":""},"","","",null,null,-1,-1,1,0]
[null,null,{"$f":"IF(B7112=\"\",\"\",LOOKUP(B7112,Spiele!B:B,Spiele!C:C))","v":""},{"$f":"IF(B7112=\"\",\"\",LOOKUP(B7112,Spiele!B:B,Spiele!D:D))","v":""},{"$f":"IF(B7112=\"\",\"\",LOOKUP(B7112,Spiele!B:B,Spiele!E:E))","v":""},{"$f":"IF(B7112=\"\",\"\",LOOKUP(B7112,Spiele!B:B,Spiele!F:F))","v":""},"","","",null,null,-1,-1,1,0]
[null,null,{"$f":"IF(B7113=\"\",\"\",LOOKUP(B7113,Spiele!B:B,Spiele!C:C))","v":""},{"$f":"IF(B7113=\"\",\"\",LOOKUP(B7113,Spiele!B:B,Spiele!D:D))","v":""},{"$f":"IF(B7113=\"\",\"\",LOOKUP(B7113,Spiele!B:B,Spiele!E:E))","v":""},{"$f":"IF(B7113=\"\",\"\",LOOKUP(B7113,Spiele!B:B,Spiele!F:F))","v":""},"","","",null,null,-1,-1,1,0]
[null,null,{"$f":"IF(B7118=\"\",\"\",LOOKUP(B7118,Spiele!B:B,Spiele!C:C))","v":""},{"$f":"IF(B7118=\"\",\"\",LOOKUP(B7118,Spiele!B:B,Spiele!D:D))","v":""},{"$f":"IF(B7118=\"\",\"\",LOOKUP(B7118,Spiele!B:B,Spiele!E:E))","v":""},{"$f":"IF(B7118=\"\",\"\",LOOKUP(B7118,Spiele!B:B,Spiele!F:F))","v":""},"","","",null,null,-1,-1,1,0]
[null,null,{"$f":"IF(B7121=\"\",\"\",LOOKUP(B7121,Spiele!B:B,Spiele!C:C))","v":""},{"$f":"IF(B7121=\"\",\"\",LOOKUP(B7121,Spiele!B:B,Spiele!D:D))","v":""},{"$f":"IF(B7121=\"\",\"\",LOOKUP(B7121,Spiele!B:B,Spiele!E:E))","v":""},{"$f":"IF(B7121=\"\",\"\",LOOKUP(B7121,Spiele!B:B,Spiele!F:F))","v":""},"","","",null,null,-1,-1,1,0]
[null,null,{"$f":"IF(B7127=\"\",\"\",LOOKUP(B7127,Spiele!B:B,Spiele!C:C))","v":""},{"$f":"IF(B7127=\"\",\"\",LOOKUP(B7127,Spiele!B:B,Spiele!D:D))","v":""},{"$f":"IF(B7127=\"\",\"\",LOOKUP(B7127,Spiele!B:B,Spiele!E:E))","v":""},{"$f":"IF(B7127=\"\",\"\",LOOKUP(B7127,Spiele!B:B,Spiele!F:F))","v":""},"","","",null,null,-1,-1,1,0]
[null,null,{"$f":"IF(B7128=\"\",\"\",LOOKUP(B7128,Spiele!B:B,Spiele!C:C))","v":""},{"$f":"IF(B7128=\"\",\"\",LOOKUP(B7128,Spiele!B:B,Spiele!D:D))","v":""},{"$f":"IF(B7128=\"\",\"\",LOOKUP(B7128,Spiele!B:B,Spiele!E:E))","v":""},{"$f":"IF(B7128=\"\",\"\",LOOKUP(B7128,Spiele!B:B,Spiele!F:F))","v":""},"","","",null,null,-1,-1,1,0]
[null,null,{"$f":"IF(B7133=\"\",\"\",LOOKUP(B7133,Spiele!B:B,Spiele!C:C))","v":""},{"$f":"IF(B7133=\"\",\"\",LOOKUP(B7133,Spiele!B:B,Spiele!D:D))","v":""},{"$f":"IF(B7133=\"\",\"\",LOOKUP(B7133,Spiele!B:B,Spiele!E:E))","v":""},{"$f":"IF(B7133=\"\",\"\",LOOKUP(B7133,Spiele!B:B,Spiele!F:F))","v":""},"","","",null,null,-1,-1,1,0]
[null,null,{"$f":"IF(B7137=\"\",\"\",LOOKUP(B7137,Spiele!B:B,Spiele!C:C))","v":""},{"$f":"IF(B7137=\"\",\"\",LOOKUP(B7137,Spiele!B:B,Spiele!D:D))","v":""},{"$f":"IF(B7137=\"\",\"\",LOOKUP(B7137,Spiele!B:B,Spiele!E:E))","v":""},{"$f":"IF(B7137=\"\",\"\",LOOKUP(B7137,Spiele!B:B,Spiele!F:F))","v":""},"","","",null,null,-1,-1,1,0]
[null,null,{"$f":"IF(B7142=\"\",\"\",LOOKUP(B7142,Spiele!B:B,Spiele!C:C))","v":""},{"$f":"IF(B7142=\"\",\"\",LOOKUP(B7142,Spiele!B:B,Spiele!D:D))","v":""},{"$f":"IF(B7142=\"\",\"\",LOOKUP(B7142,Spiele!B:B,Spiele!E:E))","v":""},{"$f":"IF(B7142=\"\",\"\",LOOKUP(B7142,Spiele!B:B,Spiele!F:F))","v":""},"","","",null,null,-1,-1,1,0]
[null,null,{"$f":"IF(B7143=\"\",\"\",LOOKUP(B7143,Spiele!B:B,Spiele!C:C))","v":""},{"$f":"IF(B7143=\"\",\"\",LOOKUP(B7143,Spiele!B:B,Spiele!D:D))","v":""},{"$f":"IF(B7143=\"\",\"\",LOOKUP(B7143,Spiele!B:B,Spiele!E:E))","v":""},{"$f":"IF(B7143=\"\",\"\",LOOKUP(B7143,Spiele!B:B,Spiele!F:F))","v":""},"","","",null,null,-1,-1,1,0]
[null,null,{"$f":"IF(B7148=\"\",\"\",LOOKUP(B7148,Spiele!B:B,Spiele!C:C))","v":""},{"$f":"IF(B7148=\"\",\"\",LOOKUP(B7148,Spiele!B:B,Spiele!D:D))","v":""},{"$f":"IF(B7148=\"\",\"\",LOOKUP(B7148,Spiele!B:B,Spiele!E:E))","v":""},{"$f":"IF(B7148=\"\",\"\",LOOKUP(B7148,Spiele!B:B,Spiele!F:F))","v":""},"","","",null,null,-1,-1,1,0]
[null,null,{"$f":"IF(B7151=\"\",\"\",LOOKUP(B7151,Spiele!B:B,Spiele!C:C))","v":""},{"$f":"IF(B7151=\"\",\"\",LOOKUP(B7151,Spiele!B:B,Spiele!D:D))","v":""},{"$f":"IF(B7151=\"\",\"\",LOOKUP(B7151,Spiele!B:B,Spiele!E:E))","v":""},{"$f":"IF(B7151=\"\",\"\",LOOKUP(B7151,Spiele!B:B,Spiele!F:F))","v":""},"","","",null,null,-1,-1,1,0]
[null,null,{"$f":"IF(B7157=\"\",\"\",LOOKUP(B7157,Spiele!B:B,Spiele!C:C))","v":""},{"$f":"IF(B7157=\"\",\"\",LOOKUP(B7157,Spiele!B:B,Spiele!D:D))","v":""},{"$f":"IF(B7157=\"\",\"\",LOOKUP(B7157,Spiele!B:B,Spiele!E:E))","v":""},{"$f":"IF(B7157=\"\",\"\",LOOKUP(B7157,Spiele!B:B,Spiele!F:F))","v":""},"","","",null,null,-1,-1,1,0]
[null,null,{"$f":"IF(B7158=\"\",\"\",LOOKUP(B7158,Spiele!B:B,Spiele!C:C))","v":""},{"$f":"IF(B7158=\"\",\"\",LOOKUP(B7158,Spiele!B:B,Spiele!D:D))","v":""},{"$f":"IF(B7158=\"\",\"\",LOOKUP(B7158,Spiele!B:B,Spiele!E:E))","v":""},{"$f":"IF(B7158=\"\",\"\",LOOKUP(B7158,Spiele!B:B,Spiele!F:F))","v":""},"","","",null,null,-1,-1,1,0]
[null,null,{"$f":"IF(B7163=\"\",\"\",LOOKUP(B7163,Spiele!B:B,Spiele!C:C))","v":""},{"$f":"IF(B7163=\"\",\"\",LOOKUP(B7163,Spiele!B:B,Spiele!D:D))","v":""},{"$f":"IF(B7163=\"\",\"\",LOOKUP(B7163,Spiele!B:B,Spiele!E:E))","v":""},{"$f":"IF(B7163=\"\",\"\",LOOKUP(B7163,Spiele!B:B,Spiele!F:F))","v":""},"","","",null,null,-1,-1,1,0]
[null,null,{"$f":"IF(B7167=\"\",\"\",LOOKUP(B7167,Spiele!B:B,Spiele!C:C))","v":""},{"$f":"IF(B7167=\"\",\"\",LOOKUP(B7167,Spiele!B:B,Spiele!D:D))","v":""},{"$f":"IF(B7167=\"\",\"\",LOOKUP(B7167,Spiele!B:B,Spiele!E:E))","v":""},{"$f":"IF(B7167=\"\",\"\",LOOKUP(B7167,Spiele!B:B,Spiele!F:F))","v":""},"","","",null,null,-1,-1,1,0]
[null,null,{"$f":"IF(B7172=\"\",\"\",LOOKUP(B7172,Spiele!B:B,Spiele!C:C))","v":""},{"$f":"IF(B7172=\"\",\"\",LOOKUP(B7172,Spiele!B:B,Spiele!D:D))","v":""},{"$f":"IF(B7172=\"\",\"\",LOOKUP(B7172,Spiele!B:B,Spiele!E:E))","v":""},{"$f":"IF(B7172=\"\",\"\",LOOKUP(B7172,Spiele!B:B,Spiele!F:F))","v":""},"","","",null,null,-1,-1,1,0]
[null,null,{"$f":"IF(B7173=\"\",\"\",LOOKUP(B7173,Spiele!B:B,Spiele!C:C))","v":""},{"$f":"IF(B7173=\"\",\"\",LOOKUP(B7173,Spiele!B:B,Spiele!D:D))","v":""},{"$f":"IF(B7173=\"\",\"\",LOOKUP(B7173,Spiele!B:B,Spiele!E:E))","v":""},{"$f":"IF(B7173=\"\",\"\",LOOKUP(B7173,Spiele!B:B,Spiele!F:F))","v":""},"","","",null,null,-1,-1,1,0]
[null,null,{"$f":"IF(B7178=\"\",\"\",LOOKUP(B7178,Spiele!B:B,Spiele!C:C))","v":""},{"$f":"IF(B7178=\"\",\"\",LOOKUP(B7178,Spiele!B:B,Spiele!D:D))","v":""},{"$f":"IF(B7178=\"\",\"\",LOOKUP(B7178,Spiele!B:B,Spiele!E:E))","v":""},{"$f":"IF(B7178=\"\",\"\",LOOKUP(B7178,Spiele!B:B,Spiele!F:F))","v":""},"","","",null,null,-1,-1,1,0]
[null,null,{"$f":"IF(B7181=\"\",\"\",LOOKUP(B7181,Spiele!B:B,Spiele!C:C))","v":""},{"$f":"IF(B7181=\"\",\"\",LOOKUP(B7181,Spiele!B:B,Spiele!D:D))","v":""},{"$f":"IF(B7181=\"\",\"\",LOOKUP(B7181,Spiele!B:B,Spiele!E:E))","v":""},{"$f":"IF(B7181=\"\",\"\",LOOKUP(B7181,Spiele!B:B,Spiele!F:F))","v":""},"","","",null,null,-1,-1,1,0]
[null,null,{"$f":"IF(B7187=\"\",\"\",LOOKUP(B7187,Spiele!B:B,Spiele!C:C))","v":""},{"$f":"IF(B7187=\"\",\"\",LOOKUP(B7187,Spiele!B:B,Spiele!D:D))","v":""},{"$f":"IF(B7187=\"\",\"\",LOOKUP(B7187,Spiele!B:B,Spiele!E:E))","v":""},{"$f":"IF(B7187=\"\",\"\",LOOKUP(B7187,Spiele!B:B,Spiele!F:F))","v":""},"","","",null,null,-1,-1,1,0]
[null,null,{"$f":"IF(B7188=\"\",\"\",LOOKUP(B7188,Spiele!B:B,Spiele!C:C))","v":""},{"$f":"IF(B7188=\"\",\"\",LOOKUP(B7188,Spiele!B:B,Spiele!D:D))","v":""},{"$f":"IF(B7188=\"\",\"\",LOOKUP(B7188,Spiele!B:B,Spiele!E:E))","v":""},{"$f":"IF(B7188=\"\",\"\",LOOKUP(B7188,Spiele!B:B,Spiele!F:F))","v":""},"","","",null,null,-1,-1,1,0]
[null,null,{"$f":"IF(B7193=\"\",\"\",LOOKUP(B7193,Spiele!B:B,Spiele!C:C))","v":""},{"$f":"IF(B7193=\"\",\"\",LOOKUP(B7193,Spiele!B:B,Spiele!D:D))","v":""},{"$f":"IF(B7193=\"\",\"\",LOOKUP(B7193,Spiele!B:B,Spiele!E:E))","v":""},{"$f":"IF(B7193=\"\",\"\",LOOKUP(B7193,Spiele!B:B,Spiele!F:F))","v":""},"","","",null,null,-1,-1,1,0]
[null,null,{"$f":"IF(B7198=\"\",\"\",LOOKUP(B7198,Spiele!B:B,Spiele!C:C))","v":""},{"$f":"IF(B7198=\"\",\"\",LOOKUP(B7198,Spiele!B:B,Spiele!D:D))","v":""},{"$f":"IF(B7198=\"\",\"\",LOOKUP(B7198,Spiele!B:B,Spiele!E:E))","v":""},{"$f":"IF(B7198=\"\",\"\",LOOKUP(B7198,Spiele!B:B,Spiele!F:F))","v":""},"","","",null,null,-1,-1,1,0]
[null,null,{"$f":"IF(B7202=\"\",\"\",LOOKUP(B7202,Spiele!B:B,Spiele!C:C))","v":""},{"$f":"IF(B7202=\"\",\"\",LOOKUP(B7202,Spiele!B:B,Spiele!D:D))","v":""},{"$f":"IF(B7202=\"\",\"\",LOOKUP(B7202,Spiele!B:B,Spiele!E:E))","v":""},{"$f":"IF(B7202=\"\",\"\",LOOKUP(B7202,Spiele!B:B,Spiele!F:F))","v":""},"","","",null,null,-1,-1,1,0]
[null,null,{"$f":"IF(B7203=\"\",\"\",LOOKUP(B7203,Spiele!B:B,Spiele!C:C))","v":""},{"$f":"IF(B7203=\"\",\"\",LOOKUP(B7203,Spiele!B:B,Spiele!D:D))","v":""},{"$f":"IF(B7203=\"\",\"\",LOOKUP(B7203,Spiele!B:B,Spiele!E:E))","v":""},{"$f":"IF(B7203=\"\",\"\",LOOKUP(B7203,Spiele!B:B,Spiele!F:F))","v":""},"","","",null,null,-1,-1,1,0]
[null,null,{"$f":"IF(B7208=\"\",\"\",LOOKUP(B7208,Spiele!B:B,Spiele!C:C))","v":""},{"$f":"IF(B7208=\"\",\"\",LOOKUP(B7208,Spiele!B:B,Spiele!D:D))","v":""},{"$f":"IF(B7208=\"\",\"\",LOOKUP(B7208,Spiele!B:B,Spiele!E:E))","v":""},{"$f":"IF(B7208=\"\",\"\",LOOKUP(B7208,Spiele!B:B,Spiele!F:F))","v":""},"","","",null,null,-1,-1,1,0]
[null,null,{"$f":"IF(B7211=\"\",\"\",LOOKUP(B7211,Spiele!B:B,Spiele!C:C))","v":""},{"$f":"IF(B7211=\"\",\"\",LOOKUP(B7211,Spiele!B:B,Spiele!D:D))","v":""},{"$f":"IF(B7211=\"\",\"\",LOOKUP(B7211,Spiele!B:B,Spiele!E:E))","v":""},{"$f":"IF(B7211=\"\",\"\",LOOKUP(B7211,Spiele!B:B,Spiele!F:F))","v":""},"","","",null,null,-1,-1,1,0]
[null,null,{"$f":"IF(B7217=\"\",\"\",LOOKUP(B7217,Spiele!B:B,Spiele!C:C))","v":""},{"$f":"IF(B7217=\"\",\"\",LOOKUP(B7217,Spiele!B:B,Spiele!D:D))","v":""},{"$f":"IF(B7217=\"\",\"\",LOOKUP(B7217,Spiele!B:B,Spiele!E:E))","v":""},{"$f":"IF(B7217=\"\",\"\",LOOKUP(B7217,Spiele!B:B,Spiele!F:F))","v":""},"","","",null,null,-1,-1,1,0]
[null,null,{"$f":"IF(B7218=\"\",\"\",LOOKUP(B7218,Spiele!B:B,Spiele!C:C))","v":""},{"$f":"IF(B7218=\"\",\"\",LOOKUP(B7218,Spiele!B:B,Spiele!D:D))","v":""},{"$f":"IF(B7218=\"\",\"\",LOOKUP(B7218,Spiele!B:B,Spiele!E:E))","v":""},{"$f":"IF(B7218=\"\",\"\",LOOKUP(B7218,Spiele!B:B,Spiele!F:F))","v":""},"","","",null,null,-1,-1,1,0]
[null,null,{"$f":"IF(B7223=\"\",\"\",LOOKUP(B7223,Spiele!B:B,Spiele!C:C))","v":""},{"$f":"IF(B7223=\"\",\"\",LOOKUP(B7223,Spiele!B:B,Spiele!D:D))","v":""},{"$f":"IF(B7223=\"\",\"\",LOOKUP(B7223,Spiele!B:B,Spiele!E:E))","v":""},{"$f":"IF(B7223=\"\",\"\",LOOKUP(B7223,Spiele!B:B,Spiele!F:F))","v":""},"","","",null,null,-1,-1,1,0]
[null,null,{"$f":"IF(B7228=\"\",\"\",LOOKUP(B7228,Spiele!B:B,Spiele!C:C))","v":""},{"$f":"IF(B7228=\"\",\"\",LOOKUP(B7228,Spiele!B:B,Spiele!D:D))","v":""},{"$f":"IF(B7228=\"\",\"\",LOOKUP(B7228,Spiele!B:B,Spiele!E:E))","v":""},{"$f":"IF(B7228=\"\",\"\",LOOKUP(B7228,Spiele!B:B,Spiele!F:F))","v":""},"","","",null,null,-1,-1,1,0]
[null,null,{"$f":"IF(B7232=\"\",\"\",LOOKUP(B7232,Spiele!B:B,Spiele!C:C))","v":""},{"$f":"IF(B7232=\"\",\"\",LOOKUP(B7232,Spiele!B:B,Spiele!D:D))","v":""},{"$f":"IF(B7232=\"\",\"\",LOOKUP(B7232,Spiele!B:B,Spiele!E:E))","v":""},{"$f":"IF(B7232=\"\",\"\",LOOKUP(B7232,Spiele!B:B,Spiele!F:F))","v":""},"","","",null,null,-1,-1,1,0]
[null,null,{"$f":"IF(B7233=\"\",\"\",LOOKUP(B7233,Spiele!B:B,Spiele!C:C))","v":""},{"$f":"IF(B7233=\"\",\"\",LOOKUP(B7233,Spiele!B:B,Spiele!D:D))","v":""},{"$f":"IF(B7233=\"\",\"\",LOOKUP(B7233,Spiele!B:B,Spiele!E:E))","v":""},{"$f":"IF(B7233=\"\",\"\",LOOKUP(B7233,Spiele!B:B,Spiele!F:F))","v":""},"","","",null,null,-1,-1,1,0]
[null,null,{"$f":"IF(B7238=\"\",\"\",LOOKUP(B7238,Spiele!B:B,Spiele!C:C))","v":""},{"$f":"IF(B7238=\"\",\"\",LOOKUP(B7238,Spiele!B:B,Spiele!D:D))","v":""},{"$f":"IF(B7238=\"\",\"\",LOOKUP(B7238,Spiele!B:B,Spiele!E:E))","v":""},{"$f":"IF(B7238=\"\",\"\",LOOKUP(B7238,Spiele!B:B,Spiele!F:F))","v":""},"","","",null,null,-1,-1,1,0]
[null,null,{"$f":"IF(B7241=\"\",\"\",LOOKUP(B7241,Spiele!B:B,Spiele!C:C))","v":""},{"$f":"IF(B7241=\"\",\"\",LOOKUP(B7241,Spiele!B:B,Spiele!D:D))","v":""},{"$f":"IF(B7241=\"\",\"\",LOOKUP(B7241,Spiele!B:B,Spiele!E:E))","v":""},{"$f":"IF(B7241=\"\",\"\",LOOKUP(B7241,Spiele!B:B,Spiele!F:F))","v":""},"","","",null,null,-1,-1,1,0]
[null,null,{"$f":"IF(B7247=\"\",\"\",LOOKUP(B7247,Spiele!B:B,Spiele!C:C))","v":""},{"$f":"IF(B7247=\"\",\"\",LOOKUP(B7247,Spiele!B:B,Spiele!D:D))","v":""},{"$f":"IF(B7247=\"\",\"\",LOOKUP(B7247,Spiele!B:B,Spiele!E:E))","v":""},{"$f":"IF(B7247=\"\",\"\",LOOKUP(B7247,Spiele!B:B,Spiele!F:F))","v":""},"","","",null,null,-1,-1,1,0]
[null,null,{"$f":"IF(B7248=\"\",\"\",LOOKUP(B7248,Spiele!B:B,Spiele!C:C))","v":""},{"$f":"IF(B7248=\"\",\"\",LOOKUP(B7248,Spiele!B:B,Spiele!D:D))","v":""},{"$f":"IF(B7248=\"\",\"\",LOOKUP(B7248,Spiele!B:B,Spiele!E:E))","v":""},{"$f":"IF(B7248=\"\",\"\",LOOKUP(B7248,Spiele!B:B,Spiele!F:F))","v":""},"","","",null,null,-1,-1,1,0]
[null,null,{"$f":"IF(B7253=\"\",\"\",LOOKUP(B7253,Spiele!B:B,Spiele!C:C))","v":""},{"$f":"IF(B7253=\"\",\"\",LOOKUP(B7253,Spiele!B:B,Spiele!D:D))","v":""},{"$f":"IF(B7253=\"\",\"\",LOOKUP(B7253,Spiele!B:B,Spiele!E:E))","v":""},{"$f":"IF(B7253=\"\",\"\",LOOKUP(B7253,Spiele!B:B,Spiele!F:F))","v":""},"","","",null,null,-1,-1,1,0]
[null,null,{"$f":"IF(B7258=\"\",\"\",LOOKUP(B7258,Spiele!B:B,Spiele!C:C))","v":""},{"$f":"IF(B7258=\"\",\"\",LOOKUP(B7258,Spiele!B:B,Spiele!D:D))","v":""},{"$f":"IF(B7258=\"\",\"\",LOOKUP(B7258,Spiele!B:B,Spiele!E:E))","v":""},{"$f":"IF(B7258=\"\",\"\",LOOKUP(B7258,Spiele!B:B,Spiele!F:F))","v":""},"","","",null,null,-1,-1,1,0]
[null,null,{"$f":"IF(B7262=\"\",\"\",LOOKUP(B7262,Spiele!B:B,Spiele!C:C))","v":""},{"$f":"IF(B7262=\"\",\"\",LOOKUP(B7262,Spiele!B:B,Spiele!D:D))","v":""},{"$f":"IF(B7262=\"\",\"\",LOOKUP(B7262,Spiele!B:B,Spiele!E:E))","v":""},{"$f":"IF(B7262=\"\",\"\",LOOKUP(B7262,Spiele!B:B,Spiele!F:F))","v":""},"","","",null,null,-1,-1,1,0]
[null,null,{"$f":"IF(B7263=\"\",\"\",LOOKUP(B7263,Spiele!B:B,Spiele!C:C))","v":""},{"$f":"IF(B7263=\"\",\"\",LOOKUP(B7263,Spiele!B:B,Spiele!D:D))","v":""},{"$f":"IF(B7263=\"\",\"\",LOOKUP(B7263,Spiele!B:B,Spiele!E:E))","v":""},{"$f":"IF(B7263=\"\",\"\",LOOKUP(B7263,Spiele!B:B,Spiele!F:F))","v":""},"","","",null,null,-1,-1,1,0]
[null,null,{"$f":"IF(B7268=\"\",\"\",LOOKUP(B7268,Spiele!B:B,Spiele!C:C))","v":""},{"$f":"IF(B7268=\"\",\"\",LOOKUP(B7268,Spiele!B:B,Spiele!D:D))","v":""},{"$f":"IF(B7268=\"\",\"\",LOOKUP(B7268,Spiele!B:B,Spiele!E:E))","v":""},{"$f":"IF(B7268=\"\",\"\",LOOKUP(B7268,Spiele!B:B,Spiele!F:F))","v":""},"","","",null,null,-1,-1,1,0]
[null,null,{"$f":"IF(B7271=\"\",\"\",LOOKUP(B7271,Spiele!B:B,Spiele!C:C))","v":""},{"$f":"IF(B7271=\"\",\"\",LOOKUP(B7271,Spiele!B:B,Spiele!D:D))","v":""},{"$f":"IF(B7271=\"\",\"\",LOOKUP(B7271,Spiele!B:B,Spiele!E:E))","v":""},{"$f":"IF(B7271=\"\",\"\",LOOKUP(B7271,Spiele!B:B,Spiele!F:F))","v":""},"","","",null,null,-1,-1,1,0]
[null,null,{"$f":"IF(B7277=\"\",\"\",LOOKUP(B7277,Spiele!B:B,Spiele!C:C))","v":""},{"$f":"IF(B7277=\"\",\"\",LOOKUP(B7277,Spiele!B:B,Spiele!D:D))","v":""},{"$f":"IF(B7277=\"\",\"\",LOOKUP(B7277,Spiele!B:B,Spiele!E:E))","v":""},{"$f":"IF(B7277=\"\",\"\",LOOKUP(B7277,Spiele!B:B,Spiele!F:F))","v":""},"","","",null,null,-1,-1,1,0]
[null,null,{"$f":"IF(B7278=\"\",\"\",LOOKUP(B7278,Spiele!B:B,Spiele!C:C))","v":""},{"$f":"IF(B7278=\"\",\"\",LOOKUP(B7278,Spiele!B:B,Spiele!D:D))","v":""},{"$f":"IF(B7278=\"\",\"\",LOOKUP(B7278,Spiele!B:B,Spiele!E:E))","v":""},{"$f":"IF(B7278=\"\",\"\",LOOKUP(B7278,Spiele!B:B,Spiele!F:F))","v":""},"","","",null,null,-1,-1,1,0]
[null,null,{"$f":"IF(B7283=\"\",\"\",LOOKUP(B7283,Spiele!B:B,Spiele!C:C))","v":""},{"$f":"IF(B7283=\"\",\"\",LOOKUP(B7283,Spiele!B:B,Spiele!D:D))","v":""},{"$f":"IF(B7283=\"\",\"\",LOOKUP(B7283,Spiele!B:B,Spiele!E:E))","v":""},{"$f":"IF(B7283=\"\",\"\",LOOKUP(B7283,Spiele!B:B,Spiele!F:F))","v":""},"","","",null,null,-1,-1,1,0]
[null,null,{"$f":"IF(B7288=\"\",\"\",LOOKUP(B7288,Spiele!B:B,Spiele!C:C))","v":""},{"$f":"IF(B7288=\"\",\"\",LOOKUP(B7288,Spiele!B:B,Spiele!D:D))","v":""},{"$f":"IF(B7288=\"\",\"\",LOOKUP(B7288,Spiele!B:B,Spiele!E:E))","v":""},{"$f":"IF(B7288=\"\",\"\",LOOKUP(B7288,Spiele!B:B,Spiele!F:F))","v":""},"","","",null,null,-1,-1,1,0]
[null,null,{"$f":"IF(B7292=\"\",\"\",LOOKUP(B7292,Spiele!B:B,Spiele!C:C))","v":""},{"$f":"IF(B7292=\"\",\"\",LOOKUP(B7292,Spiele!B:B,Spiele!D:D))","v":""},{"$f":"IF(B7292=\"\",\"\",LOOKUP(B7292,Spiele!B:B,Spiele!E:E))","v":""},{"$f":"IF(B7292=\"\",\"\",LOOKUP(B7292,Spiele!B:B,Spiele!F:F))","v":""},"","","",null,null,-1,-1,1,0]
[null,null,{"$f":"IF(B7293=\"\",\"\",LOOKUP(B7293,Spiele!B:B,Spiele!C:C))","v":""},{"$f":"IF(B7293=\"\",\"\",LOOKUP(B7293,Spiele!B:B,Spiele!D:D))","v":""},{"$f":"IF(B7293=\"\",\"\",LOOKUP(B7293,Spiele!B:B,Spiele!E:E))","v":""},{"$f":"IF(B7293=\"\",\"\",LOOKUP(B7293,Spiele!B:B,Spiele!F:F))","v":""},"","","",null,null,-1,-1,1,0]
[null,null,{"$f":"IF(B7298=\"\",\"\",LOOKUP(B7298,Spiele!B:B,Spiele!C:C))","v":""},{"$f":"IF(B7298=\"\",\"\",LOOKUP(B7298,Spiele!B:B,Spiele!D:D))","v":""},{"$f":"IF(B7298=\"\",\"\",LOOKUP(B7298,Spiele!B:B,Spiele!E:E))","v":""},{"$f":"IF(B7298=\"\",\"\",LOOKUP(B7298,Spiele!B:B,Spiele!F:F))","v":""},"","","",null,null,-1,-1,1,0]
[null,null,{"$f":"IF(B7301=\"\",\"\",LOOKUP(B7301,Spiele!B:B,Spiele!C:C))","v":""},{"$f":"IF(B7301=\"\",\"\",LOOKUP(B7301,Spiele!B:B,Spiele!D:D))","v":""},{"$f":"IF(B7301=\"\",\"\",LOOKUP(B7301,Spiele!B:B,Spiele!E:E))","v":""},{"$f":"IF(B7301=\"\",\"\",LOOKUP(B7301,Spiele!B:B,Spiele!F:F))","v":""},"","","",null,null,-1,-1,1,0]
[null,null,{"$f":"IF(B7307=\"\",\"\",LOOKUP(B7307,Spiele!B:B,Spiele!C:C))","v":""},{"$f":"IF(B7307=\"\",\"\",LOOKUP(B7307,Spiele!B:B,Spiele!D:D))","v":""},{"$f":"IF(B7307=\"\",\"\",LOOKUP(B7307,Spiele!B:B,Spiele!E:E))","v":""},{"$f":"IF(B7307=\"\",\"\",LOOKUP(B7307,Spiele!B:B,Spiele!F:F))","v":""},"","","",null,null,-1,-1,1,0]
[null,null,{"$f":"IF(B7308=\"\",\"\",LOOKUP(B7308,Spiele!B:B,Spiele!C:C))","v":""},{"$f":"IF(B7308=\"\",\"\",LOOKUP(B7308,Spiele!B:B,Spiele!D:D))","v":""},{"$f":"IF(B7308=\"\",\"\",LOOKUP(B7308,Spiele!B:B,Spiele!E:E))","v":""},{"$f":"IF(B7308=\"\",\"\",LOOKUP(B7308,Spiele!B:B,Spiele!F:F))","v":""},"","","",null,null,-1,-1,1,0]
[null,null,{"$f":"IF(B7313=\"\",\"\",LOOKUP(B7313,Spiele!B:B,Spiele!C:C))","v":""},{"$f":"IF(B7313=\"\",\"\",LOOKUP(B7313,Spiele!B:B,Spiele!D:D))","v":""},{"$f":"IF(B7313=\"\",\"\",LOOKUP(B7313,Spiele!B:B,Spiele!E:E))","v":""},{"$f":"IF(B7313=\"\",\"\",LOOKUP(B7313,Spiele!B:B,Spiele!F:F))","v":""},"","","",null,null,-1,-1,1,0]
[null,null,{"$f":"IF(B7318=\"\",\"\",LOOKUP(B7318,Spiele!B:B,Spiele!C:C))","v":""},{"$f":"IF(B7318=\"\",\"\",LOOKUP(B7318,Spiele!B:B,Spiele!D:D))","v":""},{"$f":"IF(B7318=\"\",\"\",LOOKUP(B7318,Spiele!B:B,Spiele!E:E))","v":""},{"$f":"IF(B7318=\"\",\"\",LOOKUP(B7318,Spiele!B:B,Spiele!F:F))","v":""},"","","",null,null,-1,-1,1,0]
[null,null,{"$f":"IF(B7322=\"\",\"\",LOOKUP(B7322,Spiele!B:B,Spiele!C:C))","v":""},{"$f":"IF(B7322=\"\",\"\",LOOKUP(B7322,Spiele!B:B,Spiele!D:D))","v":""},{"$f":"IF(B7322=\"\",\"\",LOOKUP(B7322,Spiele!B:B,Spiele!E:E))","v":""},{"$f":"IF(B7322=\"\",\"\",LOOKUP(B7322,Spiele!B:B,Spiele!F:F))","v":""},"","","",null,null,-1,-1,1,0]
[null,null,{"$f":"IF(B7323=\"\",\"\",LOOKUP(B7323,Spiele!B:B,Spiele!C:C))","v":""},{"$f":"IF(B7323=\"\",\"\",LOOKUP(B7323,Spiele!B:B,Spiele!D:D))","v":""},{"$f":"IF(B7323=\"\",\"\",LOOKUP(B7323,Spiele!B:B,Spiele!E:E))","v":""},{"$f":"IF(B7323=\"\",\"\",LOOKUP(B7323,Spiele!B:B,Spiele!F:F))","v":""},"","","",null,null,-1,-1,1,0]
[null,null,{"$f":"IF(B7328=\"\",\"\",LOOKUP(B7328,Spiele!B:B,Spiele!C:C))","v":""},{"$f":"IF(B7328=\"\",\"\",LOOKUP(B7328,Spiele!B:B,Spiele!D:D))","v":""},{"$f":"IF(B7328=\"\",\"\",LOOKUP(B7328,Spiele!B:B,Spiele!E:E))","v":""},{"$f":"IF(B7328=\"\",\"\",LOOKUP(B7328,Spiele!B:B,Spiele!F:F))","v":""},{"$f":"IF(E7328=\"\",\"\",IF(E7328>F7328,1,0))","v":""},{"$f":"IF(F7328=\"\",\"\",IF(E7328<F7328,1,0))","v":""},{"$f":"IF(E7328=\"\",\"\",IF(E7328=F7328,1,0))","v":""},null,null,{"$f":"IF(E7328=\"\",-1,IF(J7328>K7328,1,-1))","v":-1},{"$f":"IF(F7328=\"\",-1,IF(J7328<K7328,1,-1))","v":-1},{"$f":"IF(E7328=\"-\",-1,IF(J7328=K7328,1,-1))","v":1},{"$f":"IF(E7328=\"\",0,IF(E7328=J7328,1,0)+IF(F7328=K7328,1,0)+IF(G7328=L7328,1,0)+IF(H7328=M7328,1,0)+IF(I7328=N7328,1,0))","v":0}]
[null,null,{"$f":"IF(B7331=\"\",\"\",LOOKUP(B7331,Spiele!B:B,Spiele!C:C))","v":""},{"$f":"IF(B7331=\"\",\"\",LOOKUP(B7331,Spiele!B:B,Spiele!D:D))","v":""},{"$f":"IF(B7331=\"\",\"\",LOOKUP(B7331,Spiele!B:B,Spiele!E:E))","v":""},{"$f":"IF(B7331=\"\",\"\",LOOKUP(B7331,Spiele!B:B,Spiele!F:F))","v":""},"","","",null,null,-1,-1,1,0]
[null,null,{"$f":"IF(B7337=\"\",\"\",LOOKUP(B7337,Spiele!B:B,Spiele!C:C))","v":""},{"$f":"IF(B7337=\"\",\"\",LOOKUP(B7337,Spiele!B:B,Spiele!D:D))","v":""},{"$f":"IF(B7337=\"\",\"\",LOOKUP(B7337,Spiele!B:B,Spiele!E:E))","v":""},{"$f":"IF(B7337=\"\",\"\",LOOKUP(B7337,Spiele!B:B,Spiele!F:F))","v":""},"","","",null,null,-1,-1,1,0]
[null,null,{"$f":"IF(B7338=\"\",\"\",LOOKUP(B7338,Spiele!B:B,Spiele!C:C))","v":""},{"$f":"IF(B7338=\"\",\"\",LOOKUP(B7338,Spiele!B:B,Spiele!D:D))","v":""},{"$f":"IF(B7338=\"\",\"\",LOOKUP(B7338,Spiele!B:B,Spiele!E:E))","v":""},{"$f":"IF(B7338=\"\",\"\",LOOKUP(B7338,Spiele!B:B,Spiele!F:F))","v":""},"","","",null,null,-1,-1,1,0]
[null,null,{"$f":"IF(B7343=\"\",\"\",LOOKUP(B7343,Spiele!B:B,Spiele!C:C))","v":""},{"$f":"IF(B7343=\"\",\"\",LOOKUP(B7343,Spiele!B:B,Spiele!D:D))","v":""},{"$f":"IF(B7343=\"\",\"\",LOOKUP(B7343,Spiele!B:B,Spiele!E:E))","v":""},{"$f":"IF(B7343=\"\",\"\",LOOKUP(B7343,Spiele!B:B,Spiele!F:F))","v":""},"","","",null,null,-1,-1,1,0]
[null,null,{"$f":"IF(B7348=\"\",\"\",LOOKUP(B7348,Spiele!B:B,Spiele!C:C))","v":""},{"$f":"IF(B7348=\"\",\"\",LOOKUP(B7348,Spiele!B:B,Spiele!D:D))","v":""},{"$f":"IF(B7348=\"\",\"\",LOOKUP(B7348,Spiele!B:B,Spiele!E:E))","v":""},{"$f":"IF(B7348=\"\",\"\",LOOKUP(B7348,Spiele!B:B,Spiele!F:F))","v":""},"","","",null,null,-1,-1,1,0]
[null,null,{"$f":"IF(B7352=\"\",\"\",LOOKUP(B7352,Spiele!B:B,Spiele!C:C))","v":""},{"$f":"IF(B7352=\"\",\"\",LOOKUP(B7352,Spiele!B:B,Spiele!D:D))","v":""},{"$f":"IF(B7352=\"\",\"\",LOOKUP(B7352,Spiele!B:B,Spiele!E:E))","v":""},{"$f":"IF(B7352=\"\",\"\",LOOKUP(B7352,Spiele!B:B,Spiele!F:F))","v":""},"","","",null,null,-1,-1,1,0]
[null,null,{"$f":"IF(B7353=\"\",\"\",LOOKUP(B7353,Spiele!B:B,Spiele!C:C))","v":""},{"$f":"IF(B7353=\"\",\"\",LOOKUP(B7353,Spiele!B:B,Spiele!D:D))","v":""},{"$f":"IF(B7353=\"\",\"\",LOOKUP(B7353,Spiele!B:B,Spiele!E:E))","v":""},{"$f":"IF(B7353=\"\",\"\",LOOKUP(B7353,Spiele!B:B,Spiele!F:F))","v":""},"","","",null,null,-1,-1,1,0]
[null,null,{"$f":"IF(B7358=\"\",\"\",LOOKUP(B7358,Spiele!B:B,Spiele!C:C))","v":""},{"$f":"IF(B7358=\"\",\"\",LOOKUP(B7358,Spiele!B:B,Spiele!D:D))","v":""},{"$f":"IF(B7358=\"\",\"\",LOOKUP(B7358,Spiele!B:B,Spiele!E:E))","v":""},{"$f":"IF(B7358=\"\",\"\",LOOKUP(B7358,Spiele!B:B,Spiele!F:F))","v":""},"","","",null,null,-1,-1,1,0]
[null,null,{"$f":"IF(B7361=\"\",\"\",LOOKUP(B7361,Spiele!B:B,Spiele!C:C))","v":""},{"$f":"IF(B7361=\"\",\"\",LOOKUP(B7361,Spiele!B:B,Spiele!D:D))","v":""},{"$f":"IF(B7361=\"\",\"\",LOOKUP(B7361,Spiele!B:B,Spiele!E:E))","v":""},{"$f":"IF(B7361=\"\",\"\",LOOKUP(B7361,Spiele!B:B,Spiele!F:F))","v":""},"","","",null,null,-1,-1,1,0]
[null,null,{"$f":"IF(B7367=\"\",\"\",LOOKUP(B7367,Spiele!B:B,Spiele!C:C))","v":""},{"$f":"IF(B7367=\"\",\"\",LOOKUP(B7367,Spiele!B:B,Spiele!D:D))","v":""},{"$f":"IF(B7367=\"\",\"\",LOOKUP(B7367,Spiele!B:B,Spiele!E:E))","v":""},{"$f":"IF(B7367=\"\",\"\",LOOKUP(B7367,Spiele!B:B,Spiele!F:F))","v":""},"","","",null,null,-1,-1,1,0]
[null,null,{"$f":"IF(B7368=\"\",\"\",LOOKUP(B7368,Spiele!B:B,Spiele!C:C))","v":""},{"$f":"IF(B7368=\"\",\"\",LOOKUP(B7368,Spiele!B:B,Spiele!D:D))","v":""},{"$f":"IF(B7368=\"\",\"\",LOOKUP(B7368,Spiele!B:B,Spiele!E:E))","v":""},{"$f":"IF(B7368=\"\",\"\",LOOKUP(B7368,Spiele!B:B,Spiele!F:F))","v":""},"","","",null,null,-1,-1,1,0]
[null,null,{"$f":"IF(B7373=\"\",\"\",LOOKUP(B7373,Spiele!B:B,Spiele!C:C))","v":""},{"$f":"IF(B7373=\"\",\"\",LOOKUP(B7373,Spiele!B:B,Spiele!D:D))","v":""},{"$f":"IF(B7373=\"\",\"\",LOOKUP(B7373,Spiele!B:B,Spiele!E:E))","v":""},{"$f":"IF(B7373=\"\",\"\",LOOKUP(B7373,Spiele!B:B,Spiele!F:F))","v":""},"","","",null,null,-1,-1,1,0]
[null,null,{"$f":"IF(B7378=\"\",\"\",LOOKUP(B7378,Spiele!B:B,Spiele!C:C))","v":""},{"$f":"IF(B7378=\"\",\"\",LOOKUP(B7378,Spiele!B:B,Spiele!D:D))","v":""},{"$f":"IF(B7378=\"\",\"\",LOOKUP(B7378,Spiele!B:B,Spiele!E:E))","v":""},{"$f":"IF(B7378=\"\",\"\",LOOKUP(B7378,Spiele!B:B,Spiele!F:F))","v":""},"","","",null,null,-1,-1,1,0]
[null,null,{"$f":"IF(B7382=\"\",\"\",LOOKUP(B7382,Spiele!B:B,Spiele!C:C))","v":""},{"$f":"IF(B7382=\"\",\"\",LOOKUP(B7382,Spiele!B:B,Spiele!D:D))","v":""},{"$f":"IF(B7382=\"\",\"\",LOOKUP(B7382,Spiele!B:B,Spiele!E:E))","v":""},{"$f":"IF(B7382=\"\",\"\",LOOKUP(B7382,Spiele!B:B,Spiele!F:F))","v":""},"","","",null,null,-1,-1,1,0]
[null,null,{"$f":"IF(B7383=\"\",\"\",LOOKUP(B7383,Spiele!B:B,Spiele!C:C))","v":""},{"$f":"IF(B7383=\"\",\"\",LOOKUP(B7383,Spiele!B:B,Spiele!D:D))","v":""},{"$f":"IF(B7383=\"\",\"\",LOOKUP(B7383,Spiele!B:B,Spiele!E:E))","v":""},{"$f":"IF(B7383=\"\",\"\",LOOKUP(B7383,Spiele!B:B,Spiele!F:F))","v":""},"","","",null,null,-1,-1,1,0]
[null,null,{"$f":"IF(B7388=\"\",\"\",LOOKUP(B7388,Spiele!B:B,Spiele!C:C))","v":""},{"$f":"IF(B7388=\"\",\"\",LOOKUP(B7388,Spiele!B:B,Spiele!D:D))","v":""},{"$f":"IF(B7388=\"\",\"\",LOOKUP(B7388,Spiele!B:B,Spiele!E:E))","v":""},{"$f":"IF(B7388=\"\",\"\",LOOKUP(B7388,Spiele!B:B,Spiele!F:F))","v":""},"","","",null,null,-1,-1,1,0]
[null,null,{"$f":"IF(B7391=\"\",\"\",LOOKUP(B7391,Spiele!B:B,Spiele!C:C))","v":""},{"$f":"IF(B7391=\"\",\"\",LOOKUP(B7391,Spiele!B:B,Spiele!D:D))","v":""},{"$f":"IF(B7391=\"\",\"\",LOOKUP(B7391,Spiele!B:B,Spiele!E:E))","v":""},{"$f":"IF(B7391=\"\",\"\",LOOKUP(B7391,Spiele!B:B,Spiele!F:F))","v":""},"","","",null,null,-1,-1,1,0]
[null,null,{"$f":"IF(B7397=\"\",\"\",LOOKUP(B7397,Spiele!B:B,Spiele!C:C))","v":""},{"$f":"IF(B7397=\"\",\"\",LOOKUP(B7397,Spiele!B:B,Spiele!D:D))","v":""},{"$f":"IF(B7397=\"\",\"\",LOOKUP(B7397,Spiele!B:B,Spiele!E:E))","v":""},{"$f":"IF(B7397=\"\",\"\",LOOKUP(B7397,Spiele!B:B,Spiele!F:F))","v":""},"","","",null,null,-1,-1,1,0]
[null,null,{"$f":"IF(B7398=\"\",\"\",LOOKUP(B7398,Spiele!B:B,Spiele!C:C))","v":""},{"$f":"IF(B7398=\"\",\"\",LOOKUP(B7398,Spiele!B:B,Spiele!D:D))","v":""},{"$f":"IF(B7398=\"\",\"\",LOOKUP(B7398,Spiele!B:B,Spiele!E:E))","v":""},{"$f":"IF(B7398=\"\",\"\",LOOKUP(B7398,Spiele!B:B,Spiele!F:F))","v":""},"","","",null,null,-1,-1,1,0]
[null,null,{"$f":"IF(B7403=\"\",\"\",LOOKUP(B7403,Spiele!B:B,Spiele!C:C))","v":""},{"$f":"IF(B7403=\"\",\"\",LOOKUP(B7403,Spiele!B:B,Spiele!D:D))","v":""},{"$f":"IF(B7403=\"\",\"\",LOOKUP(B7403,Spiele!B:B,Spiele!E:E))","v":""},{"$f":"IF(B7403=\"\",\"\",LOOKUP(B7403,Spiele!B:B,Spiele!F:F))","v":""},"","","",null,null,-1,-1,1,0]
[null,null,{"$f":"IF(B7408=\"\",\"\",LOOKUP(B7408,Spiele!B:B,Spiele!C:C))","v":""},{"$f":"IF(B7408=\"\",\"\",LOOKUP(B7408,Spiele!B:B,Spiele!D:D))","v":""},{"$f":"IF(B7408=\"\",\"\",LOOKUP(B7408,Spiele!B:B,Spiele!E:E))","v":""},{"$f":"IF(B7408=\"\",\"\",LOOKUP(B7408,Spiele!B:B,Spiele!F:F))","v":""},"","","",null,null,-1,-1,1,0]
[null,null,{"$f":"IF(B7412=\"\",\"\",LOOKUP(B7412,Spiele!B:B,Spiele!C:C))","v":""},{"$f":"IF(B7412=\"\",\"\",LOOKUP(B7412,Spiele!B:B,Spiele!D:D))","v":""},{"$f":"IF(B7412=\"\",\"\",LOOKUP(B7412,Spiele!B:B,Spiele!E:E))","v":""},{"$f":"IF(B7412=\"\",\"\",LOOKUP(B7412,Spiele!B:B,Spiele!F:F))","v":""},"","","",null,null,-1,-1,1,0]
[null,null,{"$f":"IF(B7413=\"\",\"\",LOOKUP(B7413,Spiele!B:B,Spiele!C:C))","v":""},{"$f":"IF(B7413=\"\",\"\",LOOKUP(B7413,Spiele!B:B,Spiele!D:D))","v":""},{"$f":"IF(B7413=\"\",\"\",LOOKUP(B7413,Spiele!B:B,Spiele!E:E))","v":""},{"$f":"IF(B7413=\"\",\"\",LOOKUP(B7413,Spiele!B:B,Spiele!F:F))","v":""},"","","",null,null,-1,-1,1,0]
[null,null,{"$f":"IF(B7418=\"\",\"\",LOOKUP(B7418,Spiele!B:B,Spiele!C:C))","v":""},{"$f":"IF(B7418=\"\",\"\",LOOKUP(B7418,Spiele!B:B,Spiele!D:D))","v":""},{"$f":"IF(B7418=\"\",\"\",LOOKUP(B7418,Spiele!B:B,Spiele!E:E))","v":""},{"$f":"IF(B7418=\"\",\"\",LOOKUP(B7418,Spiele!B:B,Spiele!F:F))","v":""},"","","",null,null,-1,-1,1,0]
[null,null,{"$f":"IF(B7421=\"\",\"\",LOOKUP(B7421,Spiele!B:B,Spiele!C:C))","v":""},{"$f":"IF(B7421=\"\",\"\",LOOKUP(B7421,Spiele!B:B,Spiele!D:D))","v":""},{"$f":"IF(B7421=\"\",\"\",LOOKUP(B7421,Spiele!B:B,Spiele!E:E))","v":""},{"$f":"IF(B7421=\"\",\"\",LOOKUP(B7421,Spiele!B:B,Spiele!F:F))","v":""},"","","",null,null,-1,-1,1,0]
[null,null,{"$f":"IF(B7427=\"\",\"\",LOOKUP(B7427,Spiele!B:B,Spiele!C:C))","v":""},{"$f":"IF(B7427=\"\",\"\",LOOKUP(B7427,Spiele!B:B,Spiele!D:D))","v":""},{"$f":"IF(B7427=\"\",\"\",LOOKUP(B7427,Spiele!B:B,Spiele!E:E))","v":""},{"$f":"IF(B7427=\"\",\"\",LOOKUP(B7427,Spiele!B:B,Spiele!F:F))","v":""},"","","",null,null,-1,-1,1,0]
[null,null,{"$f":"IF(B7428=\"\",\"\",LOOKUP(B7428,Spiele!B:B,Spiele!C:C))","v":""},{"$f":"IF(B7428=\"\",\"\",LOOKUP(B7428,Spiele!B:B,Spiele!D:D))","v":""},{"$f":"IF(B7428=\"\",\"\",LOOKUP(B7428,Spiele!B:B,Spiele!E:E))","v":""},{"$f":"IF(B7428=\"\",\"\",LOOKUP(B7428,Spiele!B:B,Spiele!F:F))","v":""},"","","",null,null,-1,-1,1,0]
[null,null,{"$f":"IF(B7433=\"\",\"\",LOOKUP(B7433,Spiele!B:B,Spiele!C:C))","v":""},{"$f":"IF(B7433=\"\",\"\",LOOKUP(B7433,Spiele!B:B,Spiele!D:D))","v":""},{"$f":"IF(B7433=\"\",\"\",LOOKUP(B7433,Spiele!B:B,Spiele!E:E))","v":""},{"$f":"IF(B7433=\"\",\"\",LOOKUP(B7433,Spiele!B:B,Spiele!F:F))","v":""},"","","",null,null,-1,-1,1,0]
[null,null,{"$f":"IF(B7438=\"\",\"\",LOOKUP(B7438,Spiele!B:B,Spiele!C:C))","v":""},{"$f":"IF(B7438=\"\",\"\",LOOKUP(B7438,Spiele!B:B,Spiele!D:D))","v":""},{"$f":"IF(B7438=\"\",\"\",LOOKUP(B7438,Spiele!B:B,Spiele!E:E))","v":""},{"$f":"IF(B7438=\"\",\"\",LOOKUP(B7438,Spiele!B:B,Spiele!F:F))","v":""},"","","",null,null,-1,-1,1,0]
[null,null,{"$f":"IF(B7442=\"\",\"\",LOOKUP(B7442,Spiele!B:B,Spiele!C:C))","v":""},{"$f":"IF(B7442=\"\",\"\",LOOKUP(B7442,Spiele!B:B,Spiele!D:D))","v":""},{"$f":"IF(B7442=\"\",\"\",LOOKUP(B7442,Spiele!B:B,Spiele!E:E))","v":""},{"$f":"IF(B7442=\"\",\"\",LOOKUP(B7442,Spiele!B:B,Spiele!F:F))","v":""},"","","",null,null,-1,-1,1,0]
[null,null,{"$f":"IF(B7443=\"\",\"\",LOOKUP(B7443,Spiele!B:B,Spiele!C:C))","v":""},{"$f":"IF(B7443=\"\",\"\",LOOKUP(B7443,Spiele!B:B,Spiele!D:D))","v":""},{"$f":"IF(B7443=\"\",\"\",LOOKUP(B7443,Spiele!B:B,Spiele!E:E))","v":""},{"$f":"IF(B7443=\"\",\"\",LOOKUP(B7443,Spiele!B:B,Spiele!F:F))","v":""},"","","",null,null,-1,-1,1,0]
[null,null,{"$f":"IF(B7448=\"\",\"\",LOOKUP(B7448,Spiele!B:B,Spiele!C:C))","v":""},{"$f":"IF(B7448=\"\",\"\",LOOKUP(B7448,Spiele!B:B,Spiele!D:D))","v":""},{"$f":"IF(B7448=\"\",\"\",LOOKUP(B7448,Spiele!B:B,Spiele!E:E))","v":""},{"$f":"IF(B7448=\"\",\"\",LOOKUP(B7448,Spiele!B:B,Spiele!F:F))","v":""},"","","",null,null,-1,-1,1,0]
[null,null,{"$f":"IF(B7451=\"\",\"\",LOOKUP(B7451,Spiele!B:B,Spiele!C:C))","v":""},{"$f":"IF(B7451=\"\",\"\",LOOKUP(B7451,Spiele!B:B,Spiele!D:D))","v":""},{"$f":"IF(B7451=\"\",\"\",LOOKUP(B7451,Spiele!B:B,Spiele!E:E))","v":""},{"$f":"IF(B7451=\"\",\"\",LOOKUP(B7451,Spiele!B:B,Spiele!F:F))","v":""},"","","",null,null,-1,-1,1,0]
[null,null,{"$f":"IF(B7457=\"\",\"\",LOOKUP(B7457,Spiele!B:B,Spiele!C:C))","v":""},{"$f":"IF(B7457=\"\",\"\",LOOKUP(B7457,Spiele!B:B,Spiele!D:D))","v":""},{"$f":"IF(B7457=\"\",\"\",LOOKUP(B7457,Spiele!B:B,Spiele!E:E))","v":""},{"$f":"IF(B7457=\"\",\"\",LOOKUP(B7457,Spiele!B:B,Spiele!F:F))","v":""},"","","",null,null,-1,-1,1,0]
[null,null,{"$f":"IF(B7458=\"\",\"\",LOOKUP(B7458,Spiele!B:B,Spiele!C:C))","v":""},{"$f":"IF(B7458=\"\",\"\",LOOKUP(B7458,Spiele!B:B,Spiele!D:D))","v":""},{"$f":"IF(B7458=\"\",\"\",LOOKUP(B7458,Spiele!B:B,Spiele!E:E))","v":""},{"$f":"IF(B7458=\"\",\"\",LOOKUP(B7458,Spiele!B:B,Spiele!F:F))","v":""},"","","",null,null,-1,-1,1,0]
[null,null,{"$f":"IF(B7463=\"\",\"\",LOOKUP(B7463,Spiele!B:B,Spiele!C:C))","v":""},{"$f":"IF(B7463=\"\",\"\",LOOKUP(B7463,Spiele!B:B,Spiele!D:D))","v":""},{"$f":"IF(B7463=\"\",\"\",LOOKUP(B7463,Spiele!B:B,Spiele!E:E))","v":""},{"$f":"IF(B7463=\"\",\"\",LOOKUP(B7463,Spiele!B:B,Spiele!F:F))","v":""},"","","",null,null,-1,-1,1,0]
[null,null,{"$f":"IF(B7468=\"\",\"\",LOOKUP(B7468,Spiele!B:B,Spiele!C:C))","v":""},{"$f":"IF(B7468=\"\",\"\",LOOKUP(B7468,Spiele!B:B,Spiele!D:D))","v":""},{"$f":"IF(B7468=\"\",\"\",LOOKUP(B7468,Spiele!B:B,Spiele!E:E))","v":""},{"$f":"IF(B7468=\"\",\"\",LOOKUP(B7468,Spiele!B:B,Spiele!F:F))","v":""},"","","",null,null,-1,-1,1,0]
[null,null,{"$f":"IF(B7472=\"\",\"\",LOOKUP(B7472,Spiele!B:B,Spiele!C:C))","v":""},{"$f":"IF(B7472=\"\",\"\",LOOKUP(B7472,Spiele!B:B,Spiele!D:D))","v":""},{"$f":"IF(B7472=\"\",\"\",LOOKUP(B7472,Spiele!B:B,Spiele!E:E))","v":""},{"$f":"IF(B7472=\"\",\"\",LOOKUP(B7472,Spiele!B:B,Spiele!F:F))","v":""},"","","",null,null,-1,-1,1,0]
[null,null,{"$f":"IF(B7473=\"\",\"\",LOOKUP(B7473,Spiele!B:B,Spiele!C:C))","v":""},{"$f":"IF(B7473=\"\",\"\",LOOKUP(B7473,Spiele!B:B,Spiele!D:D))","v":""},{"$f":"IF(B7473=\"\",\"\",LOOKUP(B7473,Spiele!B:B,Spiele!E:E))","v":""},{"$f":"IF(B7473=\"\",\"\",LOOKUP(B7473,Spiele!B:B,Spiele!F:F))","v":""},"","","",null,null,-1,-1,1,0]
[null,null,{"$f":"IF(B7478=\"\",\"\",LOOKUP(B7478,Spiele!B:B,Spiele!C:C))","v":""},{"$f":"IF(B7478=\"\",\"\",LOOKUP(B7478,Spiele!B:B,Spiele!D:D))","v":""},{"$f":"IF(B7478=\"\",\"\",LOOKUP(B7478,Spiele!B:B,Spiele!E:E))","v":""},{"$f":"IF(B7478=\"\",\"\",LOOKUP(B7478,Spiele!B:B,Spiele!F:F))","v":""},"","","",null,null,-1,-1,1,0]
[null,null,{"$f":"IF(B7482=\"\",\"\",LOOKUP(B7482,Spiele!B:B,Spiele!C:C))","v":""},{"$f":"IF(B7482=\"\",\"\",LOOKUP(B7482,Spiele!B:B,Spiele!D:D))","v":""},{"$f":"IF(B7482=\"\",\"\",LOOKUP(B7482,Spiele!B:B,Spiele!E:E))","v":""},{"$f":"IF(B7482=\"\",\"\",LOOKUP(B7482,Spiele!B:B,Spiele!F:F))","v":""},"","","",null,null,-1,-1,1,0]
[null,null,{"$f":"IF(B7487=\"\",\"\",LOOKUP(B7487,Spiele!B:B,Spiele!C:C))","v":""},{"$f":"IF(B7487=\"\",\"\",LOOKUP(B7487,Spiele!B:B,Spiele!D:D))","v":""},{"$f":"IF(B7487=\"\",\"\",LOOKUP(B7487,Spiele!B:B,Spiele!E:E))","v":""},{"$f":"IF(B7487=\"\",\"\",LOOKUP(B7487,Spiele!B:B,Spiele!F:F))","v":""},"","","",null,null,-1,-1,1,0]
[null,null,{"$f":"IF(B7488=\"\",\"\",LOOKUP(B7488,Spiele!B:B,Spiele!C:C))","v":""},{"$f":"IF(B7488=\"\",\"\",LOOKUP(B7488,Spiele!B:B,Spiele!D:D))","v":""},{"$f":"IF(B7488=\"\",\"\",LOOKUP(B7488,Spiele!B:B,Spiele!E:E))","v":""},{"$f":"IF(B7488=\"\",\"\",LOOKUP(B7488,Spiele!B:B,Spiele!F:F))","v":""},"","","",null,null,-1,-1,1,0]
[null,null,{"$f":"IF(B7493=\"\",\"\",LOOKUP(B7493,Spiele!B:B,Spiele!C:C))","v":""},{"$f":"IF(B7493=\"\",\"\",LOOKUP(B7493,Spiele!B:B,Spiele!D:D))","v":""},{"$f":"IF(B7493=\"\",\"\",LOOKUP(B7493,Spiele!B:B,Spiele!E:E))","v":""},{"$f":"IF(B7493=\"\",\"\",LOOKUP(B7493,Spiele!B:B,Spiele!F:F))","v":""},"","","",null,null,-1,-1,1,0]
[null,null,{"$f":"IF(B7498=\"\",\"\",LOOKUP(B7498,Spiele!B:B,Spiele!C:C))","v":""},{"$f":"IF(B7498=\"\",\"\",LOOKUP(B7498,Spiele!B:B,Spiele!D:D))","v":""},{"$f":"IF(B7498=\"\",\"\",LOOKUP(B7498,Spiele!B:B,Spiele!E:E))","v":""},{"$f":"IF(B7498=\"\",\"\",LOOKUP(B7498,Spiele!B:B,Spiele!F:F))","v":""},"","","",null,null,-1,-1,1,0]
[null,null,{"$f":"IF(B7502=\"\",\"\",LOOKUP(B7502,Spiele!B:B,Spiele!C:C))","v":""},{"$f":"IF(B7502=\"\",\"\",LOOKUP(B7502,Spiele!B:B,Spiele!D:D))","v":""},{"$f":"IF(B7502=\"\",\"\",LOOKUP(B7502,Spiele!B:B,Spiele!E:E))","v":""},{"$f":"IF(B7502=\"\",\"\",LOOKUP(B7502,Spiele!B:B,Spiele!F:F))","v":""},"","","",null,null,-1,-1,1,0]
[null,null,{"$f":"IF(B7503=\"\",\"\",LOOKUP(B7503,Spiele!B:B,Spiele!C:C))","v":""},{"$f":"IF(B7503=\"\",\"\",LOOKUP(B7503,Spiele!B:B,Spiele!D:D))","v":""},{"$f":"IF(B7503=\"\",\"\",LOOKUP(B7503,Spiele!B:B,Spiele!E:E))","v":""},{"$f":"IF(B7503=\"\",\"\",LOOKUP(B7503,Spiele!B:B,Spiele!F:F))","v":""},"","","",null,null,-1,-1,1,0]
[null,null,{"$f":"IF(B7508=\"\",\"\",LOOKUP(B7508,Spiele!B:B,Spiele!C:C))","v":""},{"$f":"IF(B7508=\"\",\"\",LOOKUP(B7508,Spiele!B:B,Spiele!D:D))","v":""},{"$f":"IF(B7508=\"\",\"\",LOOKUP(B7508,Spiele!B:B,Spiele!E:E))","v":""},{"$f":"IF(B7508=\"\",\"\",LOOKUP(B7508,Spiele!B:B,Spiele!F:F))","v":""},"","","",null,null,-1,-1,1,0]
[null,null,{"$f":"IF(B7512=\"\",\"\",LOOKUP(B7512,Spiele!B:B,Spiele!C:C))","v":""},{"$f":"IF(B7512=\"\",\"\",LOOKUP(B7512,Spiele!B:B,Spiele!D:D))","v":""},{"$f":"IF(B7512=\"\",\"\",LOOKUP(B7512,Spiele!B:B,Spiele!E:E))","v":""},{"$f":"IF(B7512=\"\",\"\",LOOKUP(B7512,Spiele!B:B,Spiele!F:F))","v":""},"","","",null,null,-1,-1,1,0]
[null,null,{"$f":"IF(B7517=\"\",\"\",LOOKUP(B7517,Spiele!B:B,Spiele!C:C))","v":""},{"$f":"IF(B7517=\"\",\"\",LOOKUP(B7517,Spiele!B:B,Spiele!D:D))","v":""},{"$f":"IF(B7517=\"\",\"\",LOOKUP(B7517,Spiele!B:B,Spiele!E:E))","v":""},{"$f":"IF(B7517=\"\",\"\",LOOKUP(B7517,Spiele!B:B,Spiele!F:F))","v":""},"","","",null,null,-1,-1,1,0]
[null,null,{"$f":"IF(B7518=\"\",\"\",LOOKUP(B7518,Spiele!B:B,Spiele!C:C))","v":""},{"$f":"IF(B7518=\"\",\"\",LOOKUP(B7518,Spiele!B:B,Spiele!D:D))","v":""},{"$f":"IF(B7518=\"\",\"\",LOOKUP(B7518,Spiele!B:B,Spiele!E:E))","v":""},{"$f":"IF(B7518=\"\",\"\",LOOKUP(B7518,Spiele!B:B,Spiele!F:F))","v":""},"","","",null,null,-1,-1,1,0]
[null,null,{"$f":"IF(B7523=\"\",\"\",LOOKUP(B7523,Spiele!B:B,Spiele!C:C))","v":""},{"$f":"IF(B7523=\"\",\"\",LOOKUP(B7523,Spiele!B:B,Spiele!D:D))","v":""},{"$f":"IF(B7523=\"\",\"\",LOOKUP(B7523,Spiele!B:B,Spiele!E:E))","v":""},{"$f":"IF(B7523=\"\",\"\",LOOKUP(B7523,Spiele!B:B,Spiele!F:F))","v":""},"","","",null,null,-1,-1,1,0]
[null,null,{"$f":"IF(B7528=\"\",\"\",LOOKUP(B7528,Spiele!B:B,Spiele!C:C))","v":""},{"$f":"IF(B7528=\"\",\"\",LOOKUP(B7528,Spiele!B:B,Spiele!D:D))","v":""},{"$f":"IF(B7528=\"\",\"\",LOOKUP(B7528,Spiele!B:B,Spiele!E:E))","v":""},{"$f":"IF(B7528=\"\",\"\",LOOKUP(B7528,Spiele!B:B,Spiele!F:F))","v":""},"","","",null,null,-1,-1,1,0]
[null,null,{"$f":"IF(B7532=\"\",\"\",LOOKUP(B7532,Spiele!B:B,Spiele!C:C))","v":""},{"$f":"IF(B7532=\"\",\"\",LOOKUP(B7532,Spiele!B:B,Spiele!D:D))","v":""},{"$f":"IF(B7532=\"\",\"\",LOOKUP(B7532,Spiele!B:B,Spiele!E:E))","v":""},{"$f":"IF(B7532=\"\",\"\",LOOKUP(B7532,Spiele!B:B,Spiele!F:F))","v":""},"","","",null,null,-1,-1,1,0]
[null,null,{"$f":"IF(B7533=\"\",\"\",LOOKUP(B7533,Spiele!B:B,Spiele!C:C))","v":""},{"$f":"IF(B7533=\"\",\"\",LOOKUP(B7533,Spiele!B:B,Spiele!D:D))","v":""},{"$f":"IF(B7533=\"\",\"\",LOOKUP(B7533,Spiele!B:B,Spiele!E:E))","v":""},{"$f":"IF(B7533=\"\",\"\",LOOKUP(B7533,Spiele!B:B,Spiele!F:F))","v":""},"","","",null,null,-1,-1,1,0]
[null,null,{"$f":"IF(B7538=\"\",\"\",LOOKUP(B7538,Spiele!B:B,Spiele!C:C))","v":""},{"$f":"IF(B7538=\"\",\"\",LOOKUP(B7538,Spiele!B:B,Spiele!D:D))","v":""},{"$f":"IF(B7538=\"\",\"\",LOOKUP(B7538,Spiele!B:B,Spiele!E:E))","v":""},{"$f":"IF(B7538=\"\",\"\",LOOKUP(B7538,Spiele!B:B,Spiele!F:F))","v":""},"","","",null,null,-1,-1,1,0]
[null,null,{"$f":"IF(B7542=\"\",\"\",LOOKUP(B7542,Spiele!B:B,Spiele!C:C))","v":""},{"$f":"IF(B7542=\"\",\"\",LOOKUP(B7542,Spiele!B:B,Spiele!D:D))","v":""},{"$f":"IF(B7542=\"\",\"\",LOOKUP(B7542,Spiele!B:B,Spiele!E:E))","v":""},{"$f":"IF(B7542=\"\",\"\",LOOKUP(B7542,Spiele!B:B,Spiele!F:F))","v":""},"","","",null,null,-1,-1,1,0]
[null,null,{"$f":"IF(B7547=\"\",\"\",LOOKUP(B7547,Spiele!B:B,Spiele!C:C))","v":""},{"$f":"IF(B7547=\"\",\"\",LOOKUP(B7547,Spiele!B:B,Spiele!D:D))","v":""},{"$f":"IF(B7547=\"\",\"\",LOOKUP(B7547,Spiele!B:B,Spiele!E:E))","v":""},{"$f":"IF(B7547=\"\",\"\",LOOKUP(B7547,Spiele!B:B,Spiele!F:F))","v":""},"","","",null,null,-1,-1,1,0]
[null,null,{"$f":"IF(B7548=\"\",\"\",LOOKUP(B7548,Spiele!B:B,Spiele!C:C))","v":""},{"$f":"IF(B7548=\"\",\"\",LOOKUP(B7548,Spiele!B:B,Spiele!D:D))","v":""},{"$f":"IF(B7548=\"\",\"\",LOOKUP(B7548,Spiele!B:B,Spiele!E:E))","v":""},{"$f":"IF(B7548=\"\",\"\",LOOKUP(B7548,Spiele!B:B,Spiele!F:F))","v":""},"","","",null,null,-1,-1,1,0]
[null,null,{"$f":"IF(B7553=\"\",\"\",LOOKUP(B7553,Spiele!B:B,Spiele!C:C))","v":""},{"$f":"IF(B7553=\"\",\"\",LOOKUP(B7553,Spiele!B:B,Spiele!D:D))","v":""},{"$f":"IF(B7553=\"\",\"\",LOOKUP(B7553,Spiele!B:B,Spiele!E:E))","v":""},{"$f":"IF(B7553=\"\",\"\",LOOKUP(B7553,Spiele!B:B,Spiele!F:F))","v":""},"","","",null,null,-1,-1,1,0]
[null,null,{"$f":"IF(B7558=\"\",\"\",LOOKUP(B7558,Spiele!B:B,Spiele!C:C))","v":""},{"$f":"IF(B7558=\"\",\"\",LOOKUP(B7558,Spiele!B:B,Spiele!D:D))","v":""},{"$f":"IF(B7558=\"\",\"\",LOOKUP(B7558,Spiele!B:B,Spiele!E:E))","v":""},{"$f":"IF(B7558=\"\",\"\",LOOKUP(B7558,Spiele!B:B,Spiele!F:F))","v":""},"","","",null,null,-1,-1,1,0]
[null,null,{"$f":"IF(B7562=\"\",\"\",LOOKUP(B7562,Spiele!B:B,Spiele!C:C))","v":""},{"$f":"IF(B7562=\"\",\"\",LOOKUP(B7562,Spiele!B:B,Spiele!D:D))","v":""},{"$f":"IF(B7562=\"\",\"\",LOOKUP(B7562,Spiele!B:B,Spiele!E:E))","v":""},{"$f":"IF(B7562=\"\",\"\",LOOKUP(B7562,Spiele!B:B,Spiele!F:F))","v":""},"","","",null,null,-1,-1,1,0]
[null,null,{"$f":"IF(B7563=\"\",\"\",LOOKUP(B7563,Spiele!B:B,Spiele!C:C))","v":""},{"$f":"IF(B7563=\"\",\"\",LOOKUP(B7563,Spiele!B:B,Spiele!D:D))","v":""},{"$f":"IF(B7563=\"\",\"\",LOOKUP(B7563,Spiele!B:B,Spiele!E:E))","v":""},{"$f":"IF(B7563=\"\",\"\",LOOKUP(B7563,Spiele!B:B,Spiele!F:F))","v":""},"","","",null,null,-1,-1,1,0]
[null,null,{"$f":"IF(B7568=\"\",\"\",LOOKUP(B7568,Spiele!B:B,Spiele!C:C))","v":""},{"$f":"IF(B7568=\"\",\"\",LOOKUP(B7568,Spiele!B:B,Spiele!D:D))","v":""},{"$f":"IF(B7568=\"\",\"\",LOOKUP(B7568,Spiele!B:B,Spiele!E:E))","v":""},{"$f":"IF(B7568=\"\",\"\",LOOKUP(B7568,Spiele!B:B,Spiele!F:F))","v":""},"","","",null,null,-1,-1,1,0]
[null,null,{"$f":"IF(B7572=\"\",\"\",LOOKUP(B7572,Spiele!B:B,Spiele!C:C))","v":""},{"$f":"IF(B7572=\"\",\"\",LOOKUP(B7572,Spiele!B:B,Spiele!D:D))","v":""},{"$f":"IF(B7572=\"\",\"\",LOOKUP(B7572,Spiele!B:B,Spiele!E:E))","v":""},{"$f":"IF(B7572=\"\",\"\",LOOKUP(B7572,Spiele!B:B,Spiele!F:F))","v":""},"","","",null,null,-1,-1,1,0]
[null,null,{"$f":"IF(B7577=\"\",\"\",LOOKUP(B7577,Spiele!B:B,Spiele!C:C))","v":""},{"$f":"IF(B7577=\"\",\"\",LOOKUP(B7577,Spiele!B:B,Spiele!D:D))","v":""},{"$f":"IF(B7577=\"\",\"\",LOOKUP(B7577,Spiele!B:B,Spiele!E:E))","v":""},{"$f":"IF(B7577=\"\",\"\",LOOKUP(B7577,Spiele!B:B,Spiele!F:F))","v":""},"","","",null,null,-1,-1,1,0]
[null,null,{"$f":"IF(B7578=\"\",\"\",LOOKUP(B7578,Spiele!B:B,Spiele!C:C))","v":""},{"$f":"IF(B7578=\"\",\"\",LOOKUP(B7578,Spiele!B:B,Spiele!D:D))","v":""},{"$f":"IF(B7578=\"\",\"\",LOOKUP(B7578,Spiele!B:B,Spiele!E:E))","v":""},{"$f":"IF(B7578=\"\",\"\",LOOKUP(B7578,Spiele!B:B,Spiele!F:F))","v":""},"","","",null,null,-1,-1,1,0]
[null,null,{"$f":"IF(B7583=\"\",\"\",LOOKUP(B7583,Spiele!B:B,Spiele!C:C))","v":""},{"$f":"IF(B7583=\"\",\"\",LOOKUP(B7583,Spiele!B:B,Spiele!D:D))","v":""},{"$f":"IF(B7583=\"\",\"\",LOOKUP(B7583,Spiele!B:B,Spiele!E:E))","v":""},{"$f":"IF(B7583=\"\",\"\",LOOKUP(B7583,Spiele!B:B,Spiele!F:F))","v":""},"","","",null,null,-1,-1,1,0]
[null,null,{"$f":"IF(B7588=\"\",\"\",LOOKUP(B7588,Spiele!B:B,Spiele!C:C))","v":""},{"$f":"IF(B7588=\"\",\"\",LOOKUP(B7588,Spiele!B:B,Spiele!D:D))","v":""},{"$f":"IF(B7588=\"\",\"\",LOOKUP(B7588,Spiele!B:B,Spiele!E:E))","v":""},{"$f":"IF(B7588=\"\",\"\",LOOKUP(B7588,Spiele!B:B,Spiele!F:F))","v":""},"","","",null,null,-1,-1,1,0]
[null,null,{"$f":"IF(B7592=\"\",\"\",LOOKUP(B7592,Spiele!B:B,Spiele!C:C))","v":""},{"$f":"IF(B7592=\"\",\"\",LOOKUP(B7592,Spiele!B:B,Spiele!D:D))","v":""},{"$f":"IF(B7592=\"\",\"\",LOOKUP(B7592,Spiele!B:B,Spiele!E:E))","v":""},{"$f":"IF(B7592=\"\",\"\",LOOKUP(B7592,Spiele!B:B,Spiele!F:F))","v":""},"","","",null,null,-1,-1,1,0]
[null,null,{"$f":"IF(B7593=\"\",\"\",LOOKUP(B7593,Spiele!B:B,Spiele!C:C))","v":""},{"$f":"IF(B7593=\"\",\"\",LOOKUP(B7593,Spiele!B:B,Spiele!D:D))","v":""},{"$f":"IF(B7593=\"\",\"\",LOOKUP(B7593,Spiele!B:B,Spiele!E:E))","v":""},{"$f":"IF(B7593=\"\",\"\",LOOKUP(B7593,Spiele!B:B,Spiele!F:F))","v":""},"","","",null,null,-1,-1,1,0]
[null,null,{"$f":"IF(B7598=\"\",\"\",LOOKUP(B7598,Spiele!B:B,Spiele!C:C))","v":""},{"$f":"IF(B7598=\"\",\"\",LOOKUP(B7598,Spiele!B:B,Spiele!D:D))","v":""},{"$f":"IF(B7598=\"\",\"\",LOOKUP(B7598,Spiele!B:B,Spiele!E:E))","v":""},{"$f":"IF(B7598=\"\",\"\",LOOKUP(B7598,Spiele!B:B,Spiele!F:F))","v":""},"","","",null,null,-1,-1,1,0]
[null,null,{"$f":"IF(B7602=\"\",\"\",LOOKUP(B7602,Spiele!B:B,Spiele!C:C))","v":""},{"$f":"IF(B7602=\"\",\"\",LOOKUP(B7602,Spiele!B:B,Spiele!D:D))","v":""},{"$f":"IF(B7602=\"\",\"\",LOOKUP(B7602,Spiele!B:B,Spiele!E:E))","v":""},{"$f":"IF(B7602=\"\",\"\",LOOKUP(B7602,Spiele!B:B,Spiele!F:F))","v":""},"","","",null,null,-1,-1,1,0]
[null,null,{"$f":"IF(B7607=\"\",\"\",LOOKUP(B7607,Spiele!B:B,Spiele!C:C))","v":""},{"$f":"IF(B7607=\"\",\"\",LOOKUP(B7607,Spiele!B:B,Spiele!D:D))","v":""},{"$f":"IF(B7607=\"\",\"\",LOOKUP(B7607,Spiele!B:B,Spiele!E:E))","v":""},{"$f":"IF(B7607=\"\",\"\",LOOKUP(B7607,Spiele!B:B,Spiele!F:F))","v":""},"","","",null,null,-1,-1,1,0]
[null,null,{"$f":"IF(B7608=\"\",\"\",LOOKUP(B7608,Spiele!B:B,Spiele!C:C))","v":""},{"$f":"IF(B7608=\"\",\"\",LOOKUP(B7608,Spiele!B:B,Spiele!D:D))","v":""},{"$f":"IF(B7608=\"\",\"\",LOOKUP(B7608,Spiele!B:B,Spiele!E:E))","v":""},{"$f":"IF(B7608=\"\",\"\",LOOKUP(B7608,Spiele!B:B,Spiele!F:F))","v":""},"","","",null,null,-1,-1,1,0]
[null,null,{"$f":"IF(B7613=\"\",\"\",LOOKUP(B7613,Spiele!B:B,Spiele!C:C))","v":""},{"$f":"IF(B7613=\"\",\"\",LOOKUP(B7613,Spiele!B:B,Spiele!D:D))","v":""},{"$f":"IF(B7613=\"\",\"\",LOOKUP(B7613,Spiele!B:B,Spiele!E:E))","v":""},{"$f":"IF(B7613=\"\",\"\",LOOKUP(B7613,Spiele!B:B,Spiele!F:F))","v":""},"","","",null,null,-1,-1,1,0]
[null,null,{"$f":"IF(B7618=\"\",\"\",LOOKUP(B7618,Spiele!B:B,Spiele!C:C))","v":""},{"$f":"IF(B7618=\"\",\"\",LOOKUP(B7618,Spiele!B:B,Spiele!D:D))","v":""},{"$f":"IF(B7618=\"\",\"\",LOOKUP(B7618,Spiele!B:B,Spiele!E:E))","v":""},{"$f":"IF(B7618=\"\",\"\",LOOKUP(B7618,Spiele!B:B,Spiele!F:F))","v":""},"","","",null,null,-1,-1,1,0]
[null,null,{"$f":"IF(B7622=\"\",\"\",LOOKUP(B7622,Spiele!B:B,Spiele!C:C))","v":""},{"$f":"IF(B7622=\"\",\"\",LOOKUP(B7622,Spiele!B:B,Spiele!D:D))","v":""},{"$f":"IF(B7622=\"\",\"\",LOOKUP(B7622,Spiele!B:B,Spiele!E:E))","v":""},{"$f":"IF(B7622=\"\",\"\",LOOKUP(B7622,Spiele!B:B,Spiele!F:F))","v":""},"","","",null,null,-1,-1,1,0]
[null,null,{"$f":"IF(B7623=\"\",\"\",LOOKUP(B7623,Spiele!B:B,Spiele!C:C))","v":""},{"$f":"IF(B7623=\"\",\"\",LOOKUP(B7623,Spiele!B:B,Spiele!D:D))","v":""},{"$f":"IF(B7623=\"\",\"\",LOOKUP(B7623,Spiele!B:B,Spiele!E:E))","v":""},{"$f":"IF(B7623=\"\",\"\",LOOKUP(B7623,Spiele!B:B,Spiele!F:F))","v":""},"","","",null,null,-1,-1,1,0]
[null,null,{"$f":"IF(B7628=\"\",\"\",LOOKUP(B7628,Spiele!B:B,Spiele!C:C))","v":""},{"$f":"IF(B7628=\"\",\"\",LOOKUP(B7628,Spiele!B:B,Spiele!D:D))","v":""},{"$f":"IF(B7628=\"\",\"\",LOOKUP(B7628,Spiele!B:B,Spiele!E:E))","v":""},{"$f":"IF(B7628=\"\",\"\",LOOKUP(B7628,Spiele!B:B,Spiele!F:F))","v":""},"","","",null,null,-1,-1,1,0]
[null,null,{"$f":"IF(B7633=\"\",\"\",LOOKUP(B7633,Spiele!B:B,Spiele!C:C))","v":""},{"$f":"IF(B7633=\"\",\"\",LOOKUP(B7633,Spiele!B:B,Spiele!D:D))","v":""},{"$f":"IF(B7633=\"\",\"\",LOOKUP(B7633,Spiele!B:B,Spiele!E:E))","v":""},{"$f":"IF(B7633=\"\",\"\",LOOKUP(B7633,Spiele!B:B,Spiele!F:F))","v":""},"","","",null,null,-1,-1,1,0]
[null,null,{"$f":"IF(B7636=\"\",\"\",LOOKUP(B7636,Spiele!B:B,Spiele!C:C))","v":""},{"$f":"IF(B7636=\"\",\"\",LOOKUP(B7636,Spiele!B:B,Spiele!D:D))","v":""},{"$f":"IF(B7636=\"\",\"\",LOOKUP(B7636,Spiele!B:B,Spiele!E:E))","v":""},{"$f":"IF(B7636=\"\",\"\",LOOKUP(B7636,Spiele!B:B,Spiele!F:F))","v":""},"","","",null,null,-1,-1,1,0]
[null,null,{"$f":"IF(B7638=\"\",\"\",LOOKUP(B7638,Spiele!B:B,Spiele!C:C))","v":""},{"$f":"IF(B7638=\"\",\"\",LOOKUP(B7638,Spiele!B:B,Spiele!D:D))","v":""},{"$f":"IF(B7638=\"\",\"\",LOOKUP(B7638,Spiele!B:B,Spiele!E:E))","v":""},{"$f":"IF(B7638=\"\",\"\",LOOKUP(B7638,Spiele!B:B,Spiele!F:F))","v":""},"","","",null,null,-1,-1,1,0]
[null,null,{"$f":"IF(B7643=\"\",\"\",LOOKUP(B7643,Spiele!B:B,Spiele!C:C))","v":""},{"$f":"IF(B7643=\"\",\"\",LOOKUP(B7643,Spiele!B:B,Spiele!D:D))","v":""},{"$f":"IF(B7643=\"\",\"\",LOOKUP(B7643,Spiele!B:B,Spiele!E:E))","v":""},{"$f":"IF(B7643=\"\",\"\",LOOKUP(B7643,Spiele!B:B,Spiele!F:F))","v":""},"","","",null,null,-1,-1,1,0]
[null,null,{"$f":"IF(B7648=\"\",\"\",LOOKUP(B7648,Spiele!B:B,Spiele!C:C))","v":""},{"$f":"IF(B7648=\"\",\"\",LOOKUP(B7648,Spiele!B:B,Spiele!D:D))","v":""},{"$f":"IF(B7648=\"\",\"\",LOOKUP(B7648,Spiele!B:B,Spiele!E:E))","v":""},{"$f":"IF(B7648=\"\",\"\",LOOKUP(B7648,Spiele!B:B,Spiele!F:F))","v":""},{"$f":"IF(E7648=\"\",\"\",IF(E7648>F7648,1,0))","v":""},{"$f":"IF(F7648=\"\",\"\",IF(E7648<F7648,1,0))","v":""},{"$f":"IF(E7648=\"\",\"\",IF(E7648=F7648,1,0))","v":""},null,null,{"$f":"IF(E7648=\"\",-1,IF(J7648>K7648,1,-1))","v":-1},{"$f":"IF(F7648=\"\",-1,IF(J7648<K7648,1,-1))","v":-1},{"$f":"IF(E7648=\"-\",-1,IF(J7648=K7648,1,-1))","v":1},{"$f":"IF(E7648=\"\",0,IF(E7648=J7648,1,0)+IF(F7648=K7648,1,0)+IF(G7648=L7648,1,0)+IF(H7648=M7648,1,0)+IF(I7648=N7648,1,0))","v":0}]
[null,null,{"$f":"IF(B7650=\"\",\"\",LOOKUP(B7650,Spiele!B:B,Spiele!C:C))","v":""},{"$f":"IF(B7650=\"\",\"\",LOOKUP(B7650,Spiele!B:B,Spiele!D:D))","v":""},{"$f":"IF(B7650=\"\",\"\",LOOKUP(B7650,Spiele!B:B,Spiele!E:E))","v":""},{"$f":"IF(B7650=\"\",\"\",LOOKUP(B7650,Spiele!B:B,Spiele!F:F))","v":""},"","","",null,null,-1,-1,1,0]
[null,null,{"$f":"IF(B7653=\"\",\"\",LOOKUP(B7653,Spiele!B:B,Spiele!C:C))","v":""},{"$f":"IF(B7653=\"\",\"\",LOOKUP(B7653,Spiele!B:B,Spiele!D:D))","v":""},{"$f":"IF(B7653=\"\",\"\",LOOKUP(B7653,Spiele!B:B,Spiele!E:E))","v":""},{"$f":"IF(B7653=\"\",\"\",LOOKUP(B7653,Spiele!B:B,Spiele!F:F))","v":""},"","","",null,null,-1,-1,1,0]
[null,null,{"$f":"IF(B7658=\"\",\"\",LOOKUP(B7658,Spiele!B:B,Spiele!C:C))","v":""},{"$f":"IF(B7658=\"\",\"\",LOOKUP(B7658,Spiele!B:B,Spiele!D:D))","v":""},{"$f":"IF(B7658=\"\",\"\",LOOKUP(B7658,Spiele!B:B,Spiele!E:E))","v":""},{"$f":"IF(B7658=\"\",\"\",LOOKUP(B7658,Spiele!B:B,Spiele!F:F))","v":""},"","","",null,null,-1,-1,1,0]
[null,null,{"$f":"IF(B7663=\"\",\"\",LOOKUP(B7663,Spiele!B:B,Spiele!C:C))","v":""},{"$f":"IF(B7663=\"\",\"\",LOOKUP(B7663,Spiele!B:B,Spiele!D:D))","v":""},{"$f":"IF(B7663=\"\",\"\",LOOKUP(B7663,Spiele!B:B,Spiele!E:E))","v":""},{"$f":"IF(B7663=\"\",\"\",LOOKUP(B7663,Spiele!B:B,Spiele!F:F))","v":""},"","","",null,null,-1,-1,1,0]
[null,null,{"$f":"IF(B7666=\"\",\"\",LOOKUP(B7666,Spiele!B:B,Spiele!C:C))","v":""},{"$f":"IF(B7666=\"\",\"\",LOOKUP(B7666,Spiele!B:B,Spiele!D:D))","v":""},{"$f":"IF(B7666=\"\",\"\",LOOKUP(B7666,Spiele!B:B,Spiele!E:E))","v":""},{"$f":"IF(B7666=\"\",\"\",LOOKUP(B7666,Spiele!B:B,Spiele!F:F))","v":""},"","","",null,null,-1,-1,1,0]
[null,null,{"$f":"IF(B7668=\"\",\"\",LOOKUP(B7668,Spiele!B:B,Spiele!C:C))","v":""},{"$f":"IF(B7668=\"\",\"\",LOOKUP(B7668,Spiele!B:B,Spiele!D:D))","v":""},{"$f":"IF(B7668=\"\",\"\",LOOKUP(B7668,Spiele!B:B,Spiele!E:E))","v":""},{"$f":"IF(B7668=\"\",\"\",LOOKUP(B7668,Spiele!B:B,Spiele!F:F))","v":""},"","","",null,null,-1,-1,1,0]
[null,null,{"$f":"IF(B7673=\"\",\"\",LOOKUP(B7673,Spiele!B:B,Spiele!C:C))","v":""},{"$f":"IF(B7673=\"\",\"\",LOOKUP(B7673,Spiele!B:B,Spiele!D:D))","v":""},{"$f":"IF(B7673=\"\",\"\",LOOKUP(B7673,Spiele!B:B,Spiele!E:E))","v":""},{"$f":"IF(B7673=\"\",\"\",LOOKUP(B7673,Spiele!B:B,Spiele!F:F))","v":""},"","","",null,null,-1,-1,1,0]
[null,null,{"$f":"IF(B7678=\"\",\"\",LOOKUP(B7678,Spiele!B:B,Spiele!C:C))","v":""},{"$f":"IF(B7678=\"\",\"\",LOOKUP(B7678,Spiele!B:B,Spiele!D:D))","v":""},{"$f":"IF(B7678=\"\",\"\",LOOKUP(B7678,Spiele!B:B,Spiele!E:E))","v":""},{"$f":"IF(B7678=\"\",\"\",LOOKUP(B7678,Spiele!B:B,Spiele!F:F))","v":""},"","","",null,null,-1,-1,1,0]
[null,null,{"$f":"IF(B7680=\"\",\"\",LOOKUP(B7680,Spiele!B:B,Spiele!C:C))","v":""},{"$f":"IF(B7680=\"\",\"\",LOOKUP(B7680,Spiele!B:B,Spiele!D:D))","v":""},{"$f":"IF(B7680=\"\",\"\",LOOKUP(B7680,Spiele!B:B,Spiele!E:E))","v":""},{"$f":"IF(B7680=\"\",\"\",LOOKUP(B7680,Spiele!B:B,Spiele!F:F))","v":""},"","","",null,null,-1,-1,1,0]
[null,null,{"$f":"IF(B7683=\"\",\"\",LOOKUP(B7683,Spiele!B:B,Spiele!C:C))","v":""},{"$f":"IF(B7683=\"\",\"\",LOOKUP(B7683,Spiele!B:B,Spiele!D:D))","v":""},{"$f":"IF(B7683=\"\",\"\",LOOKUP(B7683,Spiele!B:B,Spiele!E:E))","v":""},{"$f":"IF(B7683=\"\",\"\",LOOKUP(B7683,Spiele!B:B,Spiele!F:F))","v":""},"","","",null,null,-1,-1,1,0]
[null,null,{"$f":"IF(B7688=\"\",\"\",LOOKUP(B7688,Spiele!B:B,Spiele!C:C))","v":""},{"$f":"IF(B7688=\"\",\"\",LOOKUP(B7688,Spiele!B:B,Spiele!D:D))","v":""},{"$f":"IF(B7688=\"\",\"\",LOOKUP(B7688,Spiele!B:B,Spiele!E:E))","v":""},{"$f":"IF(B7688=\"\",\"\",LOOKUP(B7688,Spiele!B:B,Spiele!F:F))","v":""},"","","",null,null,-1,-1,1,0]
[null,null,{"$f":"IF(B7693=\"\",\"\",LOOKUP(B7693,Spiele!B:B,Spiele!C:C))","v":""},{"$f":"IF(B7693=\"\",\"\",LOOKUP(B7693,Spiele!B:B,Spiele!D:D))","v":""},{"$f":"IF(B7693=\"\",\"\",LOOKUP(B7693,Spiele!B:B,Spiele!E:E))","v":""},{"$f":"IF(B7693=\"\",\"\",LOOKUP(B7693,Spiele!B:B,Spiele!F:F))","v":""},"","","",null,null,-1,-1,1,0]
[null,null,{"$f":"IF(B7696=\"\",\"\",LOOKUP(B7696,Spiele!B:B,Spiele!C:C))","v":""},{"$f":"IF(B7696=\"\",\"\",LOOKUP(B7696,Spiele!B:B,Spiele!D:D))","v":""},{"$f":"IF(B7696=\"\",\"\",LOOKUP(B7696,Spiele!B:B,Spiele!E:E))","v":""},{"$f":"IF(B7696=\"\",\"\",LOOKUP(B7696,Spiele!B:B,Spiele!F:F))","v":""},"","","",null,null,-1,-1,1,0]
[null,null,{"$f":"IF(B7698=\"\",\"\",LOOKUP(B7698,Spiele!B:B,Spiele!C:C))","v":""},{"$f":"IF(B7698=\"\",\"\",LOOKUP(B7698,Spiele!B:B,Spiele!D:D))","v":""},{"$f":"IF(B7698=\"\",\"\",LOOKUP(B7698,Spiele!B:B,Spiele!E:E))","v":""},{"$f":"IF(B7698=\"\",\"\",LOOKUP(B7698,Spiele!B:B,Spiele!F:F))","v":""},"","","",null,null,-1,-1,1,0]
[null,null,{"$f":"IF(B7703=\"\",\"\",LOOKUP(B7703,Spiele!B:B,Spiele!C:C))","v":""},{"$f":"IF(B7703=\"\",\"\",LOOKUP(B7703,Spiele!B:B,Spiele!D:D))","v":""},{"$f":"IF(B7703=\"\",\"\",LOOKUP(B7703,Spiele!B:B,Spiele!E:E))","v":""},{"$f":"IF(B7703=\"\",\"\",LOOKUP(B7703,Spiele!B:B,Spiele!F:F))","v":""},"","","",null,null,-1,-1,1,0]
[null,null,{"$f":"IF(B7708=\"\",\"\",LOOKUP(B7708,Spiele!B:B,Spiele!C:C))","v":""},{"$f":"IF(B7708=\"\",\"\",LOOKUP(B7708,Spiele!B:B,Spiele!D:D))","v":""},{"$f":"IF(B7708=\"\",\"\",LOOKUP(B7708,Spiele!B:B,Spiele!E:E))","v":""},{"$f":"IF(B7708=\"\",\"\",LOOKUP(B7708,Spiele!B:B,Spiele!F:F))","v":""},"","","",null,null,-1,-1,1,0]
[null,null,{"$f":"IF(B7710=\"\",\"\",LOOKUP(B7710,Spiele!B:B,Spiele!C:C))","v":""},{"$f":"IF(B7710=\"\",\"\",LOOKUP(B7710,Spiele!B:B,Spiele!D:D))","v":""},{"$f":"IF(B7710=\"\",\"\",LOOKUP(B7710,Spiele!B:B,Spiele!E:E))","v":""},{"$f":"IF(B7710=\"\",\"\",LOOKUP(B7710,Spiele!B:B,Spiele!F:F))","v":""},"","","",null,null,-1,-1,1,0]
[null,null,{"$f":"IF(B7713=\"\",\"\",LOOKUP(B7713,Spiele!B:B,Spiele!C:C))","v":""},{"$f":"IF(B7713=\"\",\"\",LOOKUP(B7713,Spiele!B:B,Spiele!D:D))","v":""},{"$f":"IF(B7713=\"\",\"\",LOOKUP(B7713,Spiele!B:B,Spiele!E:E))","v":""},{"$f":"IF(B7713=\"\",\"\",LOOKUP(B7713,Spiele!B:B,Spiele!F:F))","v":""},"","","",null,null,-1,-1,1,0]
[null,null,{"$f":"IF(B7718=\"\",\"\",LOOKUP(B7718,Spiele!B:B,Spiele!C:C))","v":""},{"$f":"IF(B7718=\"\",\"\",LOOKUP(B7718,Spiele!B:B,Spiele!D:D))","v":""},{"$f":"IF(B7718=\"\",\"\",LOOKUP(B7718,Spiele!B:B,Spiele!E:E))","v":""},{"$f":"IF(B7718=\"\",\"\",LOOKUP(B7718,Spiele!B:B,Spiele!F:F))","v":""},"","","",null,null,-1,-1,1,0]
[null,null,{"$f":"IF(B7723=\"\",\"\",LOOKUP(B7723,Spiele!B:B,Spiele!C:C))","v":""},{"$f":"IF(B7723=\"\",\"\",LOOKUP(B7723,Spiele!B:B,Spiele!D:D))","v":""},{"$f":"IF(B7723=\"\",\"\",LOOKUP(B7723,Spiele!B:B,Spiele!E:E))","v":""},{"$f":"IF(B7723=\"\",\"\",LOOKUP(B7723,Spiele!B:B,Spiele!F:F))","v":""},"","","",null,null,-1,-1,1,0]
[null,null,{"$f":"IF(B7726=\"\",\"\",LOOKUP(B7726,Spiele!B:B,Spiele!C:C))","v":""},{"$f":"IF(B7726=\"\",\"\",LOOKUP(B7726,Spiele!B:B,Spiele!D:D))","v":""},{"$f":"IF(B7726=\"\",\"\",LOOKUP(B7726,Spiele!B:B,Spiele!E:E))","v":""},{"$f":"IF(B7726=\"\",\"\",LOOKUP(B7726,Spiele!B:B,Spiele!F:F))","v":""},"","","",null,null,-1,-1,1,0]
[null,null,{"$f":"IF(B7728=\"\",\"\",LOOKUP(B7728,Spiele!B:B,Spiele!C:C))","v":""},{"$f":"IF(B7728=\"\",\"\",LOOKUP(B7728,Spiele!B:B,Spiele!D:D))","v":""},{"$f":"IF(B7728=\"\",\"\",LOOKUP(B7728,Spiele!B:B,Spiele!E:E))","v":""},{"$f":"IF(B7728=\"\",\"\",LOOKUP(B7728,Spiele!B:B,Spiele!F:F))","v":""},"","","",null,null,-1,-1,1,0]
[null,null,{"$f":"IF(B7733=\"\",\"\",LOOKUP(B7733,Spiele!B:B,Spiele!C:C))","v":""},{"$f":"IF(B7733=\"\",\"\",LOOKUP(B7733,Spiele!B:B,Spiele!D:D))","v":""},{"$f":"IF(B7733=\"\",\"\",LOOKUP(B7733,Spiele!B:B,Spiele!E:E))","v":""},{"$f":"IF(B7733=\"\",\"\",LOOKUP(B7733,Spiele!B:B,Spiele!F:F))","v":""},"","","",null,null,-1,-1,1,0]
[null,null,{"$f":"IF(B7738=\"\",\"\",LOOKUP(B7738,Spiele!B:B,Spiele!C:C))","v":""},{"$f":"IF(B7738=\"\",\"\",LOOKUP(B7738,Spiele!B:B,Spiele!D:D))","v":""},{"$f":"IF(B7738=\"\",\"\",LOOKUP(B7738,Spiele!B:B,Spiele!E:E))","v":""},{"$f":"IF(B7738=\"\",\"\",LOOKUP(B7738,Spiele!B:B,Spiele!F:F))","v":""},"","","",null,null,-1,-1,1,0]
[null,null,{"$f":"IF(B7740=\"\",\"\",LOOKUP(B7740,Spiele!B:B,Spiele!C:C))","v":""},{"$f":"IF(B7740=\"\",\"\",LOOKUP(B7740,Spiele!B:B,Spiele!D:D))","v":""},{"$f":"IF(B7740=\"\",\"\",LOOKUP(B7740,Spiele!B:B,Spiele!E:E))","v":""},{"$f":"IF(B7740=\"\",\"\",LOOKUP(B7740,Spiele!B:B,Spiele!F:F))","v":""},"","","",null,null,-1,-1,1,0]
[null,null,{"$f":"IF(B7743=\"\",\"\",LOOKUP(B7743,Spiele!B:B,Spiele!C:C))","v":""},{"$f":"IF(B7743=\"\",\"\",LOOKUP(B7743,Spiele!B:B,Spiele!D:D))","v":""},{"$f":"IF(B7743=\"\",\"\",LOOKUP(B7743,Spiele!B:B,Spiele!E:E))","v":""},{"$f":"IF(B7743=\"\",\"\",LOOKUP(B7743,Spiele!B:B,Spiele!F:F))","v":""},"","","",null,null,-1,-1,1,0]
[null,null,{"$f":"IF(B7748=\"\",\"\",LOOKUP(B7748,Spiele!B:B,Spiele!C:C))","v":""},{"$f":"IF(B7748=\"\",\"\",LOOKUP(B7748,Spiele!B:B,Spiele!D:D))","v":""},{"$f":"IF(B7748=\"\",\"\",LOOKUP(B7748,Spiele!B:B,Spiele!E:E))","v":""},{"$f":"IF(B7748=\"\",\"\",LOOKUP(B7748,Spiele!B:B,Spiele!F:F))","v":""},"","","",null,null,-1,-1,1,0]
[null,null,{"$f":"IF(B7753=\"\",\"\",LOOKUP(B7753,Spiele!B:B,Spiele!C:C))","v":""},{"$f":"IF(B7753=\"\",\"\",LOOKUP(B7753,Spiele!B:B,Spiele!D:D))","v":""},{"$f":"IF(B7753=\"\",\"\",LOOKUP(B7753,Spiele!B:B,Spiele!E:E))","v":""},{"$f":"IF(B7753=\"\",\"\",LOOKUP(B7753,Spiele!B:B,Spiele!F:F))","v":""},"","","",null,null,-1,-1,1,0]
[null,null,{"$f":"IF(B7756=\"\",\"\",LOOKUP(B7756,Spiele!B:B,Spiele!C:C))","v":""},{"$f":"IF(B7756=\"\",\"\",LOOKUP(B7756,Spiele!B:B,Spiele!D:D))","v":""},{"$f":"IF(B7756=\"\",\"\",LOOKUP(B7756,Spiele!B:B,Spiele!E:E))","v":""},{"$f":"IF(B7756=\"\",\"\",LOOKUP(B7756,Spiele!B:B,Spiele!F:F))","v":""},"","","",null,null,-1,-1,1,0]
[null,null,{"$f":"IF(B7758=\"\",\"\",LOOKUP(B7758,Spiele!B:B,Spiele!C:C))","v":""},{"$f":"IF(B7758=\"\",\"\",LOOKUP(B7758,Spiele!B:B,Spiele!D:D))","v":""},{"$f":"IF(B7758=\"\",\"\",LOOKUP(B7758,Spiele!B:B,Spiele!E:E))","v":""},{"$f":"IF(B7758=\"\",\"\",LOOKUP(B7758,Spiele!B:B,Spiele!F:F))","v":""},"","","",null,null,-1,-1,1,0]
[null,null,{"$f":"IF(B7763=\"\",\"\",LOOKUP(B7763,Spiele!B:B,Spiele!C:C))","v":""},{"$f":"IF(B7763=\"\",\"\",LOOKUP(B7763,Spiele!B:B,Spiele!D:D))","v":""},{"$f":"IF(B7763=\"\",\"\",LOOKUP(B7763,Spiele!B:B,Spiele!E:E))","v":""},{"$f":"IF(B7763=\"\",\"\",LOOKUP(B7763,Spiele!B:B,Spiele!F:F))","v":""},"","","",null,null,-1,-1,1,0]
[null,null,{"$f":"IF(B7768=\"\",\"\",LOOKUP(B7768,Spiele!B:B,Spiele!C:C))","v":""},{"$f":"IF(B7768=\"\",\"\",LOOKUP(B7768,Spiele!B:B,Spiele!D:D))","v":""},{"$f":"IF(B7768=\"\",\"\",LOOKUP(B7768,Spiele!B:B,Spiele!E:E))","v":""},{"$f":"IF(B7768=\"\",\"\",LOOKUP(B7768,Spiele!B:B,Spiele!F:F))","v":""},"","","",null,null,-1,-1,1,0]
[null,null,{"$f":"IF(B7770=\"\",\"\",LOOKUP(B7770,Spiele!B:B,Spiele!C:C))","v":""},{"$f":"IF(B7770=\"\",\"\",LOOKUP(B7770,Spiele!B:B,Spiele!D:D))","v":""},{"$f":"IF(B7770=\"\",\"\",LOOKUP(B7770,Spiele!B:B,Spiele!E:E))","v":""},{"$f":"IF(B7770=\"\",\"\",LOOKUP(B7770,Spiele!B:B,Spiele!F:F))","v":""},"","","",null,null,-1,-1,1,0]
[null,null,{"$f":"IF(B7773=\"\",\"\",LOOKUP(B7773,Spiele!B:B,Spiele!C:C))","v":""},{"$f":"IF(B7773=\"\",\"\",LOOKUP(B7773,Spiele!B:B,Spiele!D:D))","v":""},{"$f":"IF(B7773=\"\",\"\",LOOKUP(B7773,Spiele!B:B,Spiele!E:E))","v":""},{"$f":"IF(B7773=\"\",\"\",LOOKUP(B7773,Spiele!B:B,Spiele!F:F))","v":""},"","","",null,null,-1,-1,1,0]
[null,null,{"$f":"IF(B7778=\"\",\"\",LOOKUP(B7778,Spiele!B:B,Spiele!C:C))","v":""},{"$f":"IF(B7778=\"\",\"\",LOOKUP(B7778,Spiele!B:B,Spiele!D:D))","v":""},{"$f":"IF(B7778=\"\",\"\",LOOKUP(B7778,Spiele!B:B,Spiele!E:E))","v":""},{"$f":"IF(B7778=\"\",\"\",LOOKUP(B7778,Spiele!B:B,Spiele!F:F))","v":""},"","","",null,null,-1,-1,1,0]
[null,null,{"$f":"IF(B7783=\"\",\"\",LOOKUP(B7783,Spiele!B:B,Spiele!C:C))","v":""},{"$f":"IF(B7783=\"\",\"\",LOOKUP(B7783,Spiele!B:B,Spiele!D:D))","v":""},{"$f":"IF(B7783=\"\",\"\",LOOKUP(B7783,Spiele!B:B,Spiele!E:E))","v":""},{"$f":"IF(B7783=\"\",\"\",LOOKUP(B7783,Spiele!B:B,Spiele!F:F))","v":""},"","","",null,null,-1,-1,1,0]
[null,null,{"$f":"IF(B7786=\"\",\"\",LOOKUP(B7786,Spiele!B:B,Spiele!C:C))","v":""},{"$f":"IF(B7786=\"\",\"\",LOOKUP(B7786,Spiele!B:B,Spiele!D:D))","v":""},{"$f":"IF(B7786=\"\",\"\",LOOKUP(B7786,Spiele!B:B,Spiele!E:E))","v":""},{"$f":"IF(B7786=\"\",\"\",LOOKUP(B7786,Spiele!B:B,Spiele!F:F))","v":""},"","","",null,null,-1,-1,1,0]
[null,null,{"$f":"IF(B7788=\"\",\"\",LOOKUP(B7788,Spiele!B:B,Spiele!C:C))","v":""},{"$f":"IF(B7788=\"\",\"\",LOOKUP(B7788,Spiele!B:B,Spiele!D:D))","v":""},{"$f":"IF(B7788=\"\",\"\",LOOKUP(B7788,Spiele!B:B,Spiele!E:E))","v":""},{"$f":"IF(B7788=\"\",\"\",LOOKUP(B7788,Spiele!B:B,Spiele!F:F))","v":""},"","","",null,null,-1,-1,1,0]
[null,null,{"$f":"IF(B7793=\"\",\"\",LOOKUP(B7793,Spiele!B:B,Spiele!C:C))","v":""},{"$f":"IF(B7793=\"\",\"\",LOOKUP(B7793,Spiele!B:B,Spiele!D:D))","v":""},{"$f":"IF(B7793=\"\",\"\",LOOKUP(B7793,Spiele!B:B,Spiele!E:E))","v":""},{"$f":"IF(B7793=\"\",\"\",LOOKUP(B7793,Spiele!B:B,Spiele!F:F))","v":""},"","","",null,null,-1,-1,1,0]
[null,null,{"$f":"IF(B7798=\"\",\"\",LOOKUP(B7798,Spiele!B:B,Spiele!C:C))","v":""},{"$f":"IF(B7798=\"\",\"\",LOOKUP(B7798,Spiele!B:B,Spiele!D:D))","v":""},{"$f":"IF(B7798=\"\",\"\",LOOKUP(B7798,Spiele!B:B,Spiele!E:E))","v":""},{"$f":"IF(B7798=\"\",\"\",LOOKUP(B7798,Spiele!B:B,Spiele!F:F))","v":""},"","","",null,null,-1,-1,1,0]
[null,null,{"$f":"IF(B7800=\"\",\"\",LOOKUP(B7800,Spiele!B:B,Spiele!C:C))","v":""},{"$f":"IF(B7800=\"\",\"\",LOOKUP(B7800,Spiele!B:B,Spiele!D:D))","v":""},{"$f":"IF(B7800=\"\",\"\",LOOKUP(B7800,Spiele!B:B,Spiele!E:E))","v":""},{"$f":"IF(B7800=\"\",\"\",LOOKUP(B7800,Spiele!B:B,Spiele!F:F))","v":""},"","","",null,null,-1,-1,1,0]
[null,null,{"$f":"IF(B7803=\"\",\"\",LOOKUP(B7803,Spiele!B:B,Spiele!C:C))","v":""},{"$f":"IF(B7803=\"\",\"\",LOOKUP(B7803,Spiele!B:B,Spiele!D:D))","v":""},{"$f":"IF(B7803=\"\",\"\",LOOKUP(B7803,Spiele!B:B,Spiele!E:E))","v":""},{"$f":"IF(B7803=\"\",\"\",LOOKUP(B7803,Spiele!B:B,Spiele!F:F))","v":""},"","","",null,null,-1,-1,1,0]
[null,null,{"$f":"IF(B7808=\"\",\"\",LOOKUP(B7808,Spiele!B:B,Spiele!C:C))","v":""},{"$f":"IF(B7808=\"\",\"\",LOOKUP(B7808,Spiele!B:B,Spiele!D:D))","v":""},{"$f":"IF(B7808=\"\",\"\",LOOKUP(B7808,Spiele!B:B,Spiele!E:E))","v":""},{"$f":"IF(B7808=\"\",\"\",LOOKUP(B7808,Spiele!B:B,Spiele!F:F))","v":""},"","","",null,null,-1,-1,1,0]
[null,null,{"$f":"IF(B7813=\"\",\"\",LOOKUP(B7813,Spiele!B:B,Spiele!C:C))","v":""},{"$f":"IF(B7813=\"\",\"\",LOOKUP(B7813,Spiele!B:B,Spiele!D:D))","v":""},{"$f":"IF(B7813=\"\",\"\",LOOKUP(B7813,Spiele!B:B,Spiele!E:E))","v":""},{"$f":"IF(B7813=\"\",\"\",LOOKUP(B7813,Spiele!B:B,Spiele!F:F))","v":""},"","","",null,null,-1,-1,1,0]
[null,null,{"$f":"IF(B7817=\"\",\"\",LOOKUP(B7817,Spiele!B:B,Spiele!C:C))","v":""},{"$f":"IF(B7817=\"\",\"\",LOOKUP(B7817,Spiele!B:B,Spiele!D:D))","v":""},{"$f":"IF(B7817=\"\",\"\",LOOKUP(B7817,Spiele!B:B,Spiele!E:E))","v":""},{"$f":"IF(B7817=\"\",\"\",LOOKUP(B7817,Spiele!B:B,Spiele!F:F))","v":""},"","","",null,null,-1,-1,1,0]
[null,null,{"$f":"IF(B7818=\"\",\"\",LOOKUP(B7818,Spiele!B:B,Spiele!C:C))","v":""},{"$f":"IF(B7818=\"\",\"\",LOOKUP(B7818,Spiele!B:B,Spiele!D:D))","v":""},{"$f":"IF(B7818=\"\",\"\",LOOKUP(B7818,Spiele!B:B,Spiele!E:E))","v":""},{"$f":"IF(B7818=\"\",\"\",LOOKUP(B7818,Spiele!B:B,Spiele!F:F))","v":""},"","","",null,null,-1,-1,1,0]
[null,null,{"$f":"IF(B7823=\"\",\"\",LOOKUP(B7823,Spiele!B:B,Spiele!C:C))","v":""},{"$f":"IF(B7823=\"\",\"\",LOOKUP(B7823,Spiele!B:B,Spiele!D:D))","v":""},{"$f":"IF(B7823=\"\",\"\",LOOKUP(B7823,Spiele!B:B,Spiele!E:E))","v":""},{"$f":"IF(B7823=\"\",\"\",LOOKUP(B7823,Spiele!B:B,Spiele!F:F))","v":""},"","","",null,null,-1,-1,1,0]
[null,null,{"$f":"IF(B7828=\"\",\"\",LOOKUP(B7828,Spiele!B:B,Spiele!C:C))","v":""},{"$f":"IF(B7828=\"\",\"\",LOOKUP(B7828,Spiele!B:B,Spiele!D:D))","v":""},{"$f":"IF(B7828=\"\",\"\",LOOKUP(B7828,Spiele!B:B,Spiele!E:E))","v":""},{"$f":"IF(B7828=\"\",\"\",LOOKUP(B7828,Spiele!B:B,Spiele!F:F))","v":""},"","","",null,null,-1,-1,1,0]
[null,null,{"$f":"IF(B7830=\"\",\"\",LOOKUP(B7830,Spiele!B:B,Spiele!C:C))","v":""},{"$f":"IF(B7830=\"\",\"\",LOOKUP(B7830,Spiele!B:B,Spiele!D:D))","v":""},{"$f":"IF(B7830=\"\",\"\",LOOKUP(B7830,Spiele!B:B,Spiele!E:E))","v":""},{"$f":"IF(B7830=\"\",\"\",LOOKUP(B7830,Spiele!B:B,Spiele!F:F))","v":""},"","","",null,null,-1,-1,1,0]
[null,null,{"$f":"IF(B7833=\"\",\"\",LOOKUP(B7833,Spiele!B:B,Spiele!C:C))","v":""},{"$f":"IF(B7833=\"\",\"\",LOOKUP(B7833,Spiele!B:B,Spiele!D:D))","v":""},{"$f":"IF(B7833=\"\",\"\",LOOKUP(B7833,Spiele!B:B,Spiele!E:E))","v":""},{"$f":"IF(B7833=\"\",\"\",LOOKUP(B7833,Spiele!B:B,Spiele!F:F))","v":""},"","","",null,null,-1,-1,1,0]
[null,null,{"$f":"IF(B7838=\"\",\"\",LOOKUP(B7838,Spiele!B:B,Spiele!C:C))","v":""},{"$f":"IF(B7838=\"\",\"\",LOOKUP(B7838,Spiele!B:B,Spiele!D:D))","v":""},{"$f":"IF(B7838=\"\",\"\",LOOKUP(B7838,Spiele!B:B,Spiele!E:E))","v":""},{"$f":"IF(B7838=\"\",\"\",LOOKUP(B7838,Spiele!B:B,Spiele!F:F))","v":""},"","","",null,null,-1,-1,1,0]
[null,null,{"$f":"IF(B7843=\"\",\"\",LOOKUP(B7843,Spiele!B:B,Spiele!C:C))","v":""},{"$f":"IF(B7843=\"\",\"\",LOOKUP(B7843,Spiele!B:B,Spiele!D:D))","v":""},{"$f":"IF(B7843=\"\",\"\",LOOKUP(B7843,Spiele!B:B,Spiele!E:E))","v":""},{"$f":"IF(B7843=\"\",\"\",LOOKUP(B7843,Spiele!B:B,Spiele!F:F))","v":""},"","","",null,null,-1,-1,1,0]
[null,null,{"$f":"IF(B7847=\"\",\"\",LOOKUP(B7847,Spiele!B:B,Spiele!C:C))","v":""},{"$f":"IF(B7847=\"\",\"\",LOOKUP(B7847,Spiele!B:B,Spiele!D:D))","v":""},{"$f":"IF(B7847=\"\",\"\",LOOKUP(B7847,Spiele!B:B,Spiele!E:E))","v":""},{"$f":"IF(B7847=\"\",\"\",LOOKUP(B7847,Spiele!B:B,Spiele!F:F))","v":""},"","","",null,null,-1,-1,1,0]
[null,null,{"$f":"IF(B7848=\"\",\"\",LOOKUP(B7848,Spiele!B:B,Spiele!C:C))","v":""},{"$f":"IF(B7848=\"\",\"\",LOOKUP(B7848,Spiele!B:B,Spiele!D:D))","v":""},{"$f":"IF(B7848=\"\",\"\",LOOKUP(B7848,Spiele!B:B,Spiele!E:E))","v":""},{"$f":"IF(B7848=\"\",\"\",LOOKUP(B7848,Spiele!B:B,Spiele!F:F))","v":""},"","","",null,null,-1,-1,1,0]
[null,null,{"$f":"IF(B7853=\"\",\"\",LOOKUP(B7853,Spiele!B:B,Spiele!C:C))","v":""},{"$f":"IF(B7853=\"\",\"\",LOOKUP(B7853,Spiele!B:B,Spiele!D:D))","v":""},{"$f":"IF(B7853=\"\",\"\",LOOKUP(B7853,Spiele!B:B,Spiele!E:E))","v":""},{"$f":"IF(B7853=\"\",\"\",LOOKUP(B7853,Spiele!B:B,Spiele!F:F))","v":""},"","","",null,null,-1,-1,1,0]
[null,null,{"$f":"IF(B7858=\"\",\"\",LOOKUP(B7858,Spiele!B:B,Spiele!C:C))","v":""},{"$f":"IF(B7858=\"\",\"\",LOOKUP(B7858,Spiele!B:B,Spiele!D:D))","v":""},{"$f":"IF(B7858=\"\",\"\",LOOKUP(B7858,Spiele!B:B,Spiele!E:E))","v":""},{"$f":"IF(B7858=\"\",\"\",LOOKUP(B7858,Spiele!B:B,Spiele!F:F))","v":""},"","","",null,null,-1,-1,1,0]
[null,null,{"$f":"IF(B7860=\"\",\"\",LOOKUP(B7860,Spiele!B:B,Spiele!C:C))","v":""},{"$f":"IF(B7860=\"\",\"\",LOOKUP(B7860,Spiele!B:B,Spiele!D:D))","v":""},{"$f":"IF(B7860=\"\",\"\",LOOKUP(B7860,Spiele!B:B,Spiele!E:E))","v":""},{"$f":"IF(B7860=\"\",\"\",LOOKUP(B7860,Spiele!B:B,Spiele!F:F))","v":""},"","","",null,null,-1,-1,1,0]
[null,null,{"$f":"IF(B7863=\"\",\"\",LOOKUP(B7863,Spiele!B:B,Spiele!C:C))","v":""},{"$f":"IF(B7863=\"\",\"\",LOOKUP(B7863,Spiele!B:B,Spiele!D:D))","v":""},{"$f":"IF(B7863=\"\",\"\",LOOKUP(B7863,Spiele!B:B,Spiele!E:E))","v":""},{"$f":"IF(B7863=\"\",\"\",LOOKUP(B7863,Spiele!B:B,Spiele!F:F))","v":""},"","","",null,null,-1,-1,1,0]
[null,null,{"$f":"IF(B7868=\"\",\"\",LOOKUP(B7868,Spiele!B:B,Spiele!C:C))","v":""},{"$f":"IF(B7868=\"\",\"\",LOOKUP(B7868,Spiele!B:B,Spiele!D:D))","v":""},{"$f":"IF(B7868=\"\",\"\",LOOKUP(B7868,Spiele!B:B,Spiele!E:E))","v":""},{"$f":"IF(B7868=\"\",\"\",LOOKUP(B7868,Spiele!B:B,Spiele!F:F))","v":""},"","","",null,null,-1,-1,1,0]
[null,null,{"$f":"IF(B7873=\"\",\"\",LOOKUP(B7873,Spiele!B:B,Spiele!C:C))","v":""},{"$f":"IF(B7873=\"\",\"\",LOOKUP(B7873,Spiele!B:B,Spiele!D:D))","v":""},{"$f":"IF(B7873=\"\",\"\",LOOKUP(B7873,Spiele!B:B,Spiele!E:E))","v":""},{"$f":"IF(B7873=\"\",\"\",LOOKUP(B7873,Spiele!B:B,Spiele!F:F))","v":""},"","","",null,null,-1,-1,1,0]
[null,null,{"$f":"IF(B7877=\"\",\"\",LOOKUP(B7877,Spiele!B:B,Spiele!C:C))","v":""},{"$f":"IF(B7877=\"\",\"\",LOOKUP(B7877,Spiele!B:B,Spiele!D:D))","v":""},{"$f":"IF(B7877=\"\",\"\",LOOKUP(B7877,Spiele!B:B,Spiele!E:E))","v":""},{"$f":"IF(B7877=\"\",\"\",LOOKUP(B7877,Spiele!B:B,Spiele!F:F))","v":""},"","","",null,null,-1,-1,1,0]
[null,null,{"$f":"IF(B7878=\"\",\"\",LOOKUP(B7878,Spiele!B:B,Spiele!C:C))","v":""},{"$f":"IF(B7878=\"\",\"\",LOOKUP(B7878,Spiele!B:B,Spiele!D:D))","v":""},{"$f":"IF(B7878=\"\",\"\",LOOKUP(B7878,Spiele!B:B,Spiele!E:E))","v":""},{"$f":"IF(B7878=\"\",\"\",LOOKUP(B7878,Spiele!B:B,Spiele!F:F))","v":""},"","","",null,null,-1,-1,1,0]
[null,null,{"$f":"IF(B7883=\"\",\"\",LOOKUP(B7883,Spiele!B:B,Spiele!C:C))","v":""},{"$f":"IF(B7883=\"\",\"\",LOOKUP(B7883,Spiele!B:B,Spiele!D:D))","v":""},{"$f":"IF(B7883=\"\",\"\",LOOKUP(B7883,Spiele!B:B,Spiele!E:E))","v":""},{"$f":"IF(B7883=\"\",\"\",LOOKUP(B7883,Spiele!B:B,Spiele!F:F))","v":""},"","","",null,null,-1,-1,1,0]
[null,null,{"$f":"IF(B7888=\"\",\"\",LOOKUP(B7888,Spiele!B:B,Spiele!C:C))","v":""},{"$f":"IF(B7888=\"\",\"\",LOOKUP(B7888,Spiele!B:B,Spiele!D:D))","v":""},{"$f":"IF(B7888=\"\",\"\",LOOKUP(B7888,Spiele!B:B,Spiele!E:E))","v":""},{"$f":"IF(B7888=\"\",\"\",LOOKUP(B7888,Spiele!B:B,Spiele!F:F))","v":""},"","","",null,null,-1,-1,1,0]
[null,null,{"$f":"IF(B7890=\"\",\"\",LOOKUP(B7890,Spiele!B:B,Spiele!C:C))","v":""},{"$f":"IF(B7890=\"\",\"\",LOOKUP(B7890,Spiele!B:B,Spiele!D:D))","v":""},{"$f":"IF(B7890=\"\",\"\",LOOKUP(B7890,Spiele!B:B,Spiele!E:E))","v":""},{"$f":"IF(B7890=\"\",\"\",LOOKUP(B7890,Spiele!B:B,Spiele!F:F))","v":""},"","","",null,null,-1,-1,1,0]
[null,null,{"$f":"IF(B7893=\"\",\"\",LOOKUP(B7893,Spiele!B:B,Spiele!C:C))","v":""},{"$f":"IF(B7893=\"\",\"\",LOOKUP(B7893,Spiele!B:B,Spiele!D:D))","v":""},{"$f":"IF(B7893=\"\",\"\",LOOKUP(B7893,Spiele!B:B,Spiele!E:E))","v":""},{"$f":"IF(B7893=\"\",\"\",LOOKUP(B7893,Spiele!B:B,Spiele!F:F))","v":""},"","","",null,null,-1,-1,1,0]
[null,null,{"$f":"IF(B7898=\"\",\"\",LOOKUP(B7898,Spiele!B:B,Spiele!C:C))","v":""},{"$f":"IF(B7898=\"\",\"\",LOOKUP(B7898,Spiele!B:B,Spiele!D:D))","v":""},{"$f":"IF(B7898=\"\",\"\",LOOKUP(B7898,Spiele!B:B,Spiele!E:E))","v":""},{"$f":"IF(B7898=\"\",\"\",LOOKUP(B7898,Spiele!B:B,Spiele!F:F))","v":""},"","","",null,null,-1,-1,1,0]
[null,null,{"$f":"IF(B7903=\"\",\"\",LOOKUP(B7903,Spiele!B:B,Spiele!C:C))","v":""},{"$f":"IF(B7903=\"\",\"\",LOOKUP(B7903,Spiele!B:B,Spiele!D:D))","v":""},{"$f":"IF(B7903=\"\",\"\",LOOKUP(B7903,Spiele!B:B,Spiele!E:E))","v":""},{"$f":"IF(B7903=\"\",\"\",LOOKUP(B7903,Spiele!B:B,Spiele!F:F))","v":""},"","","",null,null,-1,-1,1,0]
[null,null,{"$f":"IF(B7907=\"\",\"\",LOOKUP(B7907,Spiele!B:B,Spiele!C:C))","v":""},{"$f":"IF(B7907=\"\",\"\",LOOKUP(B7907,Spiele!B:B,Spiele!D:D))","v":""},{"$f":"IF(B7907=\"\",\"\",LOOKUP(B7907,Spiele!B:B,Spiele!E:E))","v":""},{"$f":"IF(B7907=\"\",\"\",LOOKUP(B7907,Spiele!B:B,Spiele!F:F))","v":""},"","","",null,null,-1,-1,1,0]
[null,null,{"$f":"IF(B7908=\"\",\"\",LOOKUP(B7908,Spiele!B:B,Spiele!C:C))","v":""},{"$f":"IF(B7908=\"\",\"\",LOOKUP(B7908,Spiele!B:B,Spiele!D:D))","v":""},{"$f":"IF(B7908=\"\",\"\",LOOKUP(B7908,Spiele!B:B,Spiele!E:E))","v":""},{"$f":"IF(B7908=\"\",\"\",LOOKUP(B7908,Spiele!B:B,Spiele!F:F))","v":""},"","","",null,null,-1,-1,1,0]
[null,null,{"$f":"IF(B7913=\"\",\"\",LOOKUP(B7913,Spiele!B:B,Spiele!C:C))","v":""},{"$f":"IF(B7913=\"\",\"\",LOOKUP(B7913,Spiele!B:B,Spiele!D:D))","v":""},{"$f":"IF(B7913=\"\",\"\",LOOKUP(B7913,Spiele!B:B,Spiele!E:E))","v":""},{"$f":"IF(B7913=\"\",\"\",LOOKUP(B7913,Spiele!B:B,Spiele!F:F))","v":""},"","","",null,null,-1,-1,1,0]
[null,null,{"$f":"IF(B7918=\"\",\"\",LOOKUP(B7918,Spiele!B:B,Spiele!C:C))","v":""},{"$f":"IF(B7918=\"\",\"\",LOOKUP(B7918,Spiele!B:B,Spiele!D:D))","v":""},{"$f":"IF(B7918=\"\",\"\",LOOKUP(B7918,Spiele!B:B,Spiele!E:E))","v":""},{"$f":"IF(B7918=\"\",\"\",LOOKUP(B7918,Spiele!B:B,Spiele!F:F))","v":""},"","","",null,null,-1,-1,1,0]
[null,null,{"$f":"IF(B7920=\"\",\"\",LOOKUP(B7920,Spiele!B:B,Spiele!C:C))","v":""},{"$f":"IF(B7920=\"\",\"\",LOOKUP(B7920,Spiele!B:B,Spiele!D:D))","v":""},{"$f":"IF(B7920=\"\",\"\",LOOKUP(B7920,Spiele!B:B,Spiele!E:E))","v":""},{"$f":"IF(B7920=\"\",\"\",LOOKUP(B7920,Spiele!B:B,Spiele!F:F))","v":""},"","","",null,null,-1,-1,1,0]
[null,null,{"$f":"IF(B7923=\"\",\"\",LOOKUP(B7923,Spiele!B:B,Spiele!C:C))","v":""},{"$f":"IF(B7923=\"\",\"\",LOOKUP(B7923,Spiele!B:B,Spiele!D:D))","v":""},{"$f":"IF(B7923=\"\",\"\",LOOKUP(B7923,Spiele!B:B,Spiele!E:E))","v":""},{"$f":"IF(B7923=\"\",\"\",LOOKUP(B7923,Spiele!B:B,Spiele!F:F))","v":""},"","","",null,null,-1,-1,1,0]
[null,null,{"$f":"IF(B7928=\"\",\"\",LOOKUP(B7928,Spiele!B:B,Spiele!C:C))","v":""},{"$f":"IF(B7928=\"\",\"\",LOOKUP(B7928,Spiele!B:B,Spiele!D:D))","v":""},{"$f":"IF(B7928=\"\",\"\",LOOKUP(B7928,Spiele!B:B,Spiele!E:E))","v":""},{"$f":"IF(B7928=\"\",\"\",LOOKUP(B7928,Spiele!B:B,Spiele!F:F))","v":""},"","","",null,null,-1,-1,1,0]
[null,null,{"$f":"IF(B7933=\"\",\"\",LOOKUP(B7933,Spiele!B:B,Spiele!C:C))","v":""},{"$f":"IF(B7933=\"\",\"\",LOOKUP(B7933,Spiele!B:B,Spiele!D:D))","v":""},{"$f":"IF(B7933=\"\",\"\",LOOKUP(B7933,Spiele!B:B,Spiele!E:E))","v":""},{"$f":"IF(B7933=\"\",\"\",LOOKUP(B7933,Spiele!B:B,Spiele!F:F))","v":""},"","","",null,null,-1,-1,1,0]
[null,null,{"$f":"IF(B7937=\"\",\"\",LOOKUP(B7937,Spiele!B:B,Spiele!C:C))","v":""},{"$f":"IF(B7937=\"\",\"\",LOOKUP(B7937,Spiele!B:B,Spiele!D:D))","v":""},{"$f":"IF(B7937=\"\",\"\",LOOKUP(B7937,Spiele!B:B,Spiele!E:E))","v":""},{"$f":"IF(B7937=\"\",\"\",LOOKUP(B7937,Spiele!B:B,Spiele!F:F))","v":""},"","","",null,null,-1,-1,1,0]
[null,null,{"$f":"IF(B7938=\"\",\"\",LOOKUP(B7938,Spiele!B:B,Spiele!C:C))","v":""},{"$f":"IF(B7938=\"\",\"\",LOOKUP(B7938,Spiele!B:B,Spiele!D:D))","v":""},{"$f":"IF(B7938=\"\",\"\",LOOKUP(B7938,Spiele!B:B,Spiele!E:E))","v":""},{"$f":"IF(B7938=\"\",\"\",LOOKUP(B7938,Spiele!B:B,Spiele!F:F))","v":""},"","","",null,null,-1,-1,1,0]
[null,null,{"$f":"IF(B7943=\"\",\"\",LOOKUP(B7943,Spiele!B:B,Spiele!C:C))","v":""},{"$f":"IF(B7943=\"\",\"\",LOOKUP(B7943,Spiele!B:B,Spiele!D:D))","v":""},{"$f":"IF(B7943=\"\",\"\",LOOKUP(B7943,Spiele!B:B,Spiele!E:E))","v":""},{"$f":"IF(B7943=\"\",\"\",LOOKUP(B7943,Spiele!B:B,Spiele!F:F))","v":""},"","","",null,null,-1,-1,1,0]
[null,null,{"$f":"IF(B7948=\"\",\"\",LOOKUP(B7948,Spiele!B:B,Spiele!C:C))","v":""},{"$f":"IF(B7948=\"\",\"\",LOOKUP(B7948,Spiele!B:B,Spiele!D:D))","v":""},{"$f":"IF(B7948=\"\",\"\",LOOKUP(B7948,Spiele!B:B,Spiele!E:E))","v":""},{"$f":"IF(B7948=\"\",\"\",LOOKUP(B7948,Spiele!B:B,Spiele!F:F))","v":""},"","","",null,null,-1,-1,1,0]
[null,null,{"$f":"IF(B7950=\"\",\"\",LOOKUP(B7950,Spiele!B:B,Spiele!C:C))","v":""},{"$f":"IF(B7950=\"\",\"\",LOOKUP(B7950,Spiele!B:B,Spiele!D:D))","v":""},{"$f":"IF(B7950=\"\",\"\",LOOKUP(B7950,Spiele!B:B,Spiele!E:E))","v":""},{"$f":"IF(B7950=\"\",\"\",LOOKUP(B7950,Spiele!B:B,Spiele!F:F))","v":""},"","","",null,null,-1,-1,1,0]
[null,null,{"$f":"IF(B7953=\"\",\"\",LOOKUP(B7953,Spiele!B:B,Spiele!C:C))","v":""},{"$f":"IF(B7953=\"\",\"\",LOOKUP(B7953,Spiele!B:B,Spiele!D:D))","v":""},{"$f":"IF(B7953=\"\",\"\",LOOKUP(B7953,Spiele!B:B,Spiele!E:E))","v":""},{"$f":"IF(B7953=\"\",\"\",LOOKUP(B7953,Spiele!B:B,Spiele!F:F))","v":""},"","","",null,null,-1,-1,1,0]
[null,null,{"$f":"IF(B7958=\"\",\"\",LOOKUP(B7958,Spiele!B:B,Spiele!C:C))","v":""},{"$f":"IF(B7958=\"\",\"\",LOOKUP(B7958,Spiele!B:B,Spiele!D:D))","v":""},{"$f":"IF(B7958=\"\",\"\",LOOKUP(B7958,Spiele!B:B,Spiele!E:E))","v":""},{"$f":"IF(B7958=\"\",\"\",LOOKUP(B7958,Spiele!B:B,Spiele!F:F))","v":""},"","","",null,null,-1,-1,1,0]
[null,null,{"$f":"IF(B7963=\"\",\"\",LOOKUP(B7963,Spiele!B:B,Spiele!C:C))","v":""},{"$f":"IF(B7963=\"\",\"\",LOOKUP(B7963,Spiele!B:B,Spiele!D:D))","v":""},{"$f":"IF(B7963=\"\",\"\",LOOKUP(B7963,Spiele!B:B,Spiele!E:E))","v":""},{"$f":"IF(B7963=\"\",\"\",LOOKUP(B7963,Spiele!B:B,Spiele!F:F))","v":""},"","","",null,null,-1,-1,1,0]
[null,null,{"$f":"IF(B7967=\"\",\"\",LOOKUP(B7967,Spiele!B:B,Spiele!C:C))","v":""},{"$f":"IF(B7967=\"\",\"\",LOOKUP(B7967,Spiele!B:B,Spiele!D:D))","v":""},{"$f":"IF(B7967=\"\",\"\",LOOKUP(B7967,Spiele!B:B,Spiele!E:E))","v":""},{"$f":"IF(B7967=\"\",\"\",LOOKUP(B7967,Spiele!B:B,Spiele!F:F))","v":""},"","","",null,null,-1,-1,1,0]
[null,null,{"$f":"IF(B7968=\"\",\"\",LOOKUP(B7968,Spiele!B:B,Spiele!C:C))","v":""},{"$f":"IF(B7968=\"\",\"\",LOOKUP(B7968,Spiele!B:B,Spiele!D:D))","v":""},{"$f":"IF(B7968=\"\",\"\",LOOKUP(B7968,Spiele!B:B,Spiele!E:E))","v":""},{"$f":"IF(B7968=\"\",\"\",LOOKUP(B7968,Spiele!B:B,Spiele!F:F))","v":""},{"$f":"IF(E7968=\"\",\"\",IF(E7968>F7968,1,0))","v":""},{"$f":"IF(F7968=\"\",\"\",IF(E7968<F7968,1,0))","v":""},{"$f":"IF(E7968=\"\",\"\",IF(E7968=F7968,1,0))","v":""},null,null,{"$f":"IF(E7968=\"\",-1,IF(J7968>K7968,1,-1))","v":-1},{"$f":"IF(F7968=\"\",-1,IF(J7968<K7968,1,-1))","v":-1},{"$f":"IF(E7968=\"-\",-1,IF(J7968=K7968,1,-1))","v":1},{"$f":"IF(E7968=\"\",0,IF(E7968=J7968,1,0)+IF(F7968=K7968,1,0)+IF(G7968=L7968,1,0)+IF(H7968=M7968,1,0)+IF(I7968=N7968,1,0))","v":0}]
[null,null,{"$f":"IF(B7973=\"\",\"\",LOOKUP(B7973,Spiele!B:B,Spiele!C:C))","v":""},{"$f":"IF(B7973=\"\",\"\",LOOKUP(B7973,Spiele!B:B,Spiele!D:D))","v":""},{"$f":"IF(B7973=\"\",\"\",LOOKUP(B7973,Spiele!B:B,Spiele!E:E))","v":""},{"$f":"IF(B7973=\"\",\"\",LOOKUP(B7973,Spiele!B:B,Spiele!F:F))","v":""},"","","",null,null,-1,-1,1,0]
[null,null,{"$f":"IF(B7978=\"\",\"\",LOOKUP(B7978,Spiele!B:B,Spiele!C:C))","v":""},{"$f":"IF(B7978=\"\",\"\",LOOKUP(B7978,Spiele!B:B,Spiele!D:D))","v":""},{"$f":"IF(B7978=\"\",\"\",LOOKUP(B7978,Spiele!B:B,Spiele!E:E))","v":""},{"$f":"IF(B7978=\"\",\"\",LOOKUP(B7978,Spiele!B:B,Spiele!F:F))","v":""},"","","",null,null,-1,-1,1,0]
[null,null,{"$f":"IF(B7980=\"\",\"\",LOOKUP(B7980,Spiele!B:B,Spiele!C:C))","v":""},{"$f":"IF(B7980=\"\",\"\",LOOKUP(B7980,Spiele!B:B,Spiele!D:D))","v":""},{"$f":"IF(B7980=\"\",\"\",LOOKUP(B7980,Spiele!B:B,Spiele!E:E))","v":""},{"$f":"IF(B7980=\"\",\"\",LOOKUP(B7980,Spiele!B:B,Spiele!F:F))","v":""},"","","",null,null,-1,-1,1,0]
[null,null,{"$f":"IF(B7983=\"\",\"\",LOOKUP(B7983,Spiele!B:B,Spiele!C:C))","v":""},{"$f":"IF(B7983=\"\",\"\",LOOKUP(B7983,Spiele!B:B,Spiele!D:D))","v":""},{"$f":"IF(B7983=\"\",\"\",LOOKUP(B7983,Spiele!B:B,Spiele!E:E))","v":""},{"$f":"IF(B7983=\"\",\"\",LOOKUP(B7983,Spiele!B:B,Spiele!F:F))","v":""},"","","",null,null,-1,-1,1,0]
[null,null,{"$f":"IF(B7988=\"\",\"\",LOOKUP(B7988,Spiele!B:B,Spiele!C:C))","v":""},{"$f":"IF(B7988=\"\",\"\",LOOKUP(B7988,Spiele!B:B,Spiele!D:D))","v":""},{"$f":"IF(B7988=\"\",\"\",LOOKUP(B7988,Spiele!B:B,Spiele!E:E))","v":""},{"$f":"IF(B7988=\"\",\"\",LOOKUP(B7988,Spiele!B:B,Spiele!F:F))","v":""},"","","",null,null,-1,-1,1,0]
[null,null,{"$f":"IF(B7993=\"\",\"\",LOOKUP(B7993,Spiele!B:B,Spiele!C:C))","v":""},{"$f":"IF(B7993=\"\",\"\",LOOKUP(B7993,Spiele!B:B,Spiele!D:D))","v":""},{"$f":"IF(B7993=\"\",\"\",LOOKUP(B7993,Spiele!B:B,Spiele!E:E))","v":""},{"$f":"IF(B7993=\"\",\"\",LOOKUP(B7993,Spiele!B:B,Spiele!F:F))","v":""},"","","",null,null,-1,-1,1,0]
[null,null,{"$f":"IF(B7997=\"\",\"\",LOOKUP(B7997,Spiele!B:B,Spiele!C:C))","v":""},{"$f":"IF(B7997=\"\",\"\",LOOKUP(B7997,Spiele!B:B,Spiele!D:D))","v":""},{"$f":"IF(B7997=\"\",\"\",LOOKUP(B7997,Spiele!B:B,Spiele!E:E))","v":""},{"$f":"IF(B7997=\"\",\"\",LOOKUP(B7997,Spiele!B:B,Spiele!F:F))","v":""},"","","",null,null,-1,-1,1,0]
[null,null,{"$f":"IF(B7998=\"\",\"\",LOOKUP(B7998,Spiele!B:B,Spiele!C:C))","v":""},{"$f":"IF(B7998=\"\",\"\",LOOKUP(B7998,Spiele!B:B,Spiele!D:D))","v":""},{"$f":"IF(B7998=\"\",\"\",LOOKUP(B7998,Spiele!B:B,Spiele!E:E))","v":""},{"$f":"IF(B7998=\"\",\"\",LOOKUP(B7998,Spiele!B:B,Spiele!F:F))","v":""},"","","",null,null,-1,-1,1,0]
[null,null,{"$f":"IF(B8003=\"\",\"\",LOOKUP(B8003,Spiele!B:B,Spiele!C:C))","v":""},{"$f":"IF(B8003=\"\",\"\",LOOKUP(B8003,Spiele!B:B,Spiele!D:D))","v":""},{"$f":"IF(B8003=\"\",\"\",LOOKUP(B8003,Spiele!B:B,Spiele!E:E))","v":""},{"$f":"IF(B8003=\"\",\"\",LOOKUP(B8003,Spiele!B:B,Spiele!F:F))","v":""},"","","",null,null,-1,-1,1,0]
[null,null,{"$f":"IF(B8008=\"\",\"\",LOOKUP(B8008,Spiele!B:B,Spiele!C:C))","v":""},{"$f":"IF(B8008=\"\",\"\",LOOKUP(B8008,Spiele!B:B,Spiele!D:D))","v":""},{"$f":"IF(B8008=\"\",\"\",LOOKUP(B8008,Spiele!B:B,Spiele!E:E))","v":""},{"$f":"IF(B8008=\"\",\"\",LOOKUP(B8008,Spiele!B:B,Spiele!F:F))","v":""},"","","",null,null,-1,-1,1,0]
[null,null,{"$f":"IF(B8010=\"\",\"\",LOOKUP(B8010,Spiele!B:B,Spiele!C:C))","v":""},{"$f":"IF(B8010=\"\",\"\",LOOKUP(B8010,Spiele!B:B,Spiele!D:D))","v":""},{"$f":"IF(B8010=\"\",\"\",LOOKUP(B8010,Spiele!B:B,Spiele!E:E))","v":""},{"$f":"IF(B8010=\"\",\"\",LOOKUP(B8010,Spiele!B:B,Spiele!F:F))","v":""},"","","",null,null,-1,-1,1,0]
[null,null,{"$f":"IF(B8013=\"\",\"\",LOOKUP(B8013,Spiele!B:B,Spiele!C:C))","v":""},{"$f":"IF(B8013=\"\",\"\",LOOKUP(B8013,Spiele!B:B,Spiele!D:D))","v":""},{"$f":"IF(B8013=\"\",\"\",LOOKUP(B8013,Spiele!B:B,Spiele!E:E))","v":""},{"$f":"IF(B8013=\"\",\"\",LOOKUP(B8013,Spiele!B:B,Spiele!F:F))","v":""},"","","",null,null,-1,-1,1,0]
[null,null,{"$f":"IF(B8018=\"\",\"\",LOOKUP(B8018,Spiele!B:B,Spiele!C:C))","v":""},{"$f":"IF(B8018=\"\",\"\",LOOKUP(B8018,Spiele!B:B,Spiele!D:D))","v":""},{"$f":"IF(B8018=\"\",\"\",LOOKUP(B8018,Spiele!B:B,Spiele!E:E))","v":""},{"$f":"IF(B8018=\"\",\"\",LOOKUP(B8018,Spiele!B:B,Spiele!F:F))","v":""},"","","",null,null,-1,-1,1,0]
[null,null,{"$f":"IF(B8023=\"\",\"\",LOOKUP(B8023,Spiele!B:B,Spiele!C:C))","v":""},{"$f":"IF(B8023=\"\",\"\",LOOKUP(B8023,Spiele!B:B,Spiele!D:D))","v":""},{"$f":"IF(B8023=\"\",\"\",LOOKUP(B8023,Spiele!B:B,Spiele!E:E))","v":""},{"$f":"IF(B8023=\"\",\"\",LOOKUP(B8023,Spiele!B:B,Spiele!F:F))","v":""},"","","",null,null,-1,-1,1,0]
[null,null,{"$f":"IF(B8027=\"\",\"\",LOOKUP(B8027,Spiele!B:B,Spiele!C:C))","v":""},{"$f":"IF(B8027=\"\",\"\",LOOKUP(B8027,Spiele!B:B,Spiele!D:D))","v":""},{"$f":"IF(B8027=\"\",\"\",LOOKUP(B8027,Spiele!B:B,Spiele!E:E))","v":""},{"$f":"IF(B8027=\"\",\"\",LOOKUP(B8027,Spiele!B:B,Spiele!F:F))","v":""},"","","",null,null,-1,-1,1,0]
[null,null,{"$f":"IF(B8028=\"\",\"\",LOOKUP(B8028,Spiele!B:B,Spiele!C:C))","v":""},{"$f":"IF(B8028=\"\",\"\",LOOKUP(B8028,Spiele!B:B,Spiele!D:D))","v":""},{"$f":"IF(B8028=\"\",\"\",LOOKUP(B8028,Spiele!B:B,Spiele!E:E))","v":""},{"$f":"IF(B8028=\"\",\"\",LOOKUP(B8028,Spiele!B:B,Spiele!F:F))","v":""},"","","",null,null,-1,-1,1,0]
[null,null,{"$f":"IF(B8033=\"\",\"\",LOOKUP(B8033,Spiele!B:B,Spiele!C:C))","v":""},{"$f":"IF(B8033=\"\",\"\",LOOKUP(B8033,Spiele!B:B,Spiele!D:D))","v":""},{"$f":"IF(B8033=\"\",\"\",LOOKUP(B8033,Spiele!B:B,Spiele!E:E))","v":""},{"$f":"IF(B8033=\"\",\"\",LOOKUP(B8033,Spiele!B:B,Spiele!F:F))","v":""},"","","",null,null,-1,-1,1,0]
[null,null,{"$f":"IF(B8038=\"\",\"\",LOOKUP(B8038,Spiele!B:B,Spiele!C:C))","v":""},{"$f":"IF(B8038=\"\",\"\",LOOKUP(B8038,Spiele!B:B,Spiele!D:D))","v":""},{"$f":"IF(B8038=\"\",\"\",LOOKUP(B8038,Spiele!B:B,Spiele!E:E))","v":""},{"$f":"IF(B8038=\"\",\"\",LOOKUP(B8038,Spiele!B:B,Spiele!F:F))","v":""},"","","",null,null,-1,-1,1,0]
[null,null,{"$f":"IF(B8040=\"\",\"\",LOOKUP(B8040,Spiele!B:B,Spiele!C:C))","v":""},{"$f":"IF(B8040=\"\",\"\",LOOKUP(B8040,Spiele!B:B,Spiele!D:D))","v":""},{"$f":"IF(B8040=\"\",\"\",LOOKUP(B8040,Spiele!B:B,Spiele!E:E))","v":""},{"$f":"IF(B8040=\"\",\"\",LOOKUP(B8040,Spiele!B:B,Spiele!F:F))","v":""},"","","",null,null,-1,-1,1,0]
[null,null,{"$f":"IF(B8043=\"\",\"\",LOOKUP(B8043,Spiele!B:B,Spiele!C:C))","v":""},{"$f":"IF(B8043=\"\",\"\",LOOKUP(B8043,Spiele!B:B,Spiele!D:D))","v":""},{"$f":"IF(B8043=\"\",\"\",LOOKUP(B8043,Spiele!B:B,Spiele!E:E))","v":""},{"$f":"IF(B8043=\"\",\"\",LOOKUP(B8043,Spiele!B:B,Spiele!F:F))","v":""},"","","",null,null,-1,-1,1,0]
[null,null,{"$f":"IF(B8048=\"\",\"\",LOOKUP(B8048,Spiele!B:B,Spiele!C:C))","v":""},{"$f":"IF(B8048=\"\",\"\",LOOKUP(B8048,Spiele!B:B,Spiele!D:D))","v":""},{"$f":"IF(B8048=\"\",\"\",LOOKUP(B8048,Spiele!B:B,Spiele!E:E))","v":""},{"$f":"IF(B8048=\"\",\"\",LOOKUP(B8048,Spiele!B:B,Spiele!F:F))","v":""},"","","",null,null,-1,-1,1,0]
[null,null,{"$f":"IF(B8053=\"\",\"\",LOOKUP(B8053,Spiele!B:B,Spiele!C:C))","v":""},{"$f":"IF(B8053=\"\",\"\",LOOKUP(B8053,Spiele!B:B,Spiele!D:D))","v":""},{"$f":"IF(B8053=\"\",\"\",LOOKUP(B8053,Spiele!B:B,Spiele!E:E))","v":""},{"$f":"IF(B8053=\"\",\"\",LOOKUP(B8053,Spiele!B:B,Spiele!F:F))","v":""},"","","",null,null,-1,-1,1,0]
[null,null,{"$f":"IF(B8057=\"\",\"\",LOOKUP(B8057,Spiele!B:B,Spiele!C:C))","v":""},{"$f":"IF(B8057=\"\",\"\",LOOKUP(B8057,Spiele!B:B,Spiele!D:D))","v":""},{"$f":"IF(B8057=\"\",\"\",LOOKUP(B8057,Spiele!B:B,Spiele!E:E))","v":""},{"$f":"IF(B8057=\"\",\"\",LOOKUP(B8057,Spiele!B:B,Spiele!F:F))","v":""},"","","",null,null,-1,-1,1,0]
[null,null,{"$f":"IF(B8058=\"\",\"\",LOOKUP(B8058,Spiele!B:B,Spiele!C:C))","v":""},{"$f":"IF(B8058=\"\",\"\",LOOKUP(B8058,Spiele!B:B,Spiele!D:D))","v":""},{"$f":"IF(B8058=\"\",\"\",LOOKUP(B8058,Spiele!B:B,Spiele!E:E))","v":""},{"$f":"IF(B8058=\"\",\"\",LOOKUP(B8058,Spiele!B:B,Spiele!F:F))","v":""},"","","",null,null,-1,-1,1,0]
[null,null,{"$f":"IF(B8063=\"\",\"\",LOOKUP(B8063,Spiele!B:B,Spiele!C:C))","v":""},{"$f":"IF(B8063=\"\",\"\",LOOKUP(B8063,Spiele!B:B,Spiele!D:D))","v":""},{"$f":"IF(B8063=\"\",\"\",LOOKUP(B8063,Spiele!B:B,Spiele!E:E))","v":""},{"$f":"IF(B8063=\"\",\"\",LOOKUP(B8063,Spiele!B:B,Spiele!F:F))","v":""},"","","",null,null,-1,-1,1,0]
[null,null,{"$f":"IF(B8068=\"\",\"\",LOOKUP(B8068,Spiele!B:B,Spiele!C:C))","v":""},{"$f":"IF(B8068=\"\",\"\",LOOKUP(B8068,Spiele!B:B,Spiele!D:D))","v":""},{"$f":"IF(B8068=\"\",\"\",LOOKUP(B8068,Spiele!B:B,Spiele!E:E))","v":""},{"$f":"IF(B8068=\"\",\"\",LOOKUP(B8068,Spiele!B:B,Spiele!F:F))","v":""},"","","",null,null,-1,-1,1,0]
[null,null,{"$f":"IF(B8071=\"\",\"\",LOOKUP(B8071,Spiele!B:B,Spiele!C:C))","v":""},{"$f":"IF(B8071=\"\",\"\",LOOKUP(B8071,Spiele!B:B,Spiele!D:D))","v":""},{"$f":"IF(B8071=\"\",\"\",LOOKUP(B8071,Spiele!B:B,Spiele!E:E))","v":""},{"$f":"IF(B8071=\"\",\"\",LOOKUP(B8071,Spiele!B:B,Spiele!F:F))","v":""},"","","",null,null,-1,-1,1,0]
[null,null,{"$f":"IF(B8073=\"\",\"\",LOOKUP(B8073,Spiele!B:B,Spiele!C:C))","v":""},{"$f":"IF(B8073=\"\",\"\",LOOKUP(B8073,Spiele!B:B,Spiele!D:D))","v":""},{"$f":"IF(B8073=\"\",\"\",LOOKUP(B8073,Spiele!B:B,Spiele!E:E))","v":""},{"$f":"IF(B8073=\"\",\"\",LOOKUP(B8073,Spiele!B:B,Spiele!F:F))","v":""},"","","",null,null,-1,-1,1,0]
[null,null,{"$f":"IF(B8078=\"\",\"\",LOOKUP(B8078,Spiele!B:B,Spiele!C:C))","v":""},{"$f":"IF(B8078=\"\",\"\",LOOKUP(B8078,Spiele!B:B,Spiele!D:D))","v":""},{"$f":"IF(B8078=\"\",\"\",LOOKUP(B8078,Spiele!B:B,Spiele!E:E))","v":""},{"$f":"IF(B8078=\"\",\"\",LOOKUP(B8078,Spiele!B:B,Spiele!F:F))","v":""},"","","",null,null,-1,-1,1,0]
[null,null,{"$f":"IF(B8083=\"\",\"\",LOOKUP(B8083,Spiele!B:B,Spiele!C:C))","v":""},{"$f":"IF(B8083=\"\",\"\",LOOKUP(B8083,Spiele!B:B,Spiele!D:D))","v":""},{"$f":"IF(B8083=\"\",\"\",LOOKUP(B8083,Spiele!B:B,Spiele!E:E))","v":""},{"$f":"IF(B8083=\"\",\"\",LOOKUP(B8083,Spiele!B:B,Spiele!F:F))","v":""},"","","",null,null,-1,-1,1,0]
[null,null,{"$f":"IF(B8087=\"\",\"\",LOOKUP(B8087,Spiele!B:B,Spiele!C:C))","v":""},{"$f":"IF(B8087=\"\",\"\",LOOKUP(B8087,Spiele!B:B,Spiele!D:D))","v":""},{"$f":"IF(B8087=\"\",\"\",LOOKUP(B8087,Spiele!B:B,Spiele!E:E))","v":""},{"$f":"IF(B8087=\"\",\"\",LOOKUP(B8087,Spiele!B:B,Spiele!F:F))","v":""},"","","",null,null,-1,-1,1,0]
[null,null,{"$f":"IF(B8088=\"\",\"\",LOOKUP(B8088,Spiele!B:B,Spiele!C:C))","v":""},{"$f":"IF(B8088=\"\",\"\",LOOKUP(B8088,Spiele!B:B,Spiele!D:D))","v":""},{"$f":"IF(B8088=\"\",\"\",LOOKUP(B8088,Spiele!B:B,Spiele!E:E))","v":""},{"$f":"IF(B8088=\"\",\"\",LOOKUP(B8088,Spiele!B:B,Spiele!F:F))","v":""},"","","",null,null,-1,-1,1,0]
[null,null,{"$f":"IF(B8093=\"\",\"\",LOOKUP(B8093,Spiele!B:B,Spiele!C:C))","v":""},{"$f":"IF(B8093=\"\",\"\",LOOKUP(B8093,Spiele!B:B,Spiele!D:D))","v":""},{"$f":"IF(B8093=\"\",\"\",LOOKUP(B8093,Spiele!B:B,Spiele!E:E))","v":""},{"$f":"IF(B8093=\"\",\"\",LOOKUP(B8093,Spiele!B:B,Spiele!F:F))","v":""},"","","",null,null,-1,-1,1,0]
[null,null,{"$f":"IF(B8098=\"\",\"\",LOOKUP(B8098,Spiele!B:B,Spiele!C:C))","v":""},{"$f":"IF(B8098=\"\",\"\",LOOKUP(B8098,Spiele!B:B,Spiele!D:D))","v":""},{"$f":"IF(B8098=\"\",\"\",LOOKUP(B8098,Spiele!B:B,Spiele!E:E))","v":""},{"$f":"IF(B8098=\"\",\"\",LOOKUP(B8098,Spiele!B:B,Spiele!F:F))","v":""},"","","",null,null,-1,-1,1,0]
[null,null,{"$f":"IF(B8101=\"\",\"\",LOOKUP(B8101,Spiele!B:B,Spiele!C:C))","v":""},{"$f":"IF(B8101=\"\",\"\",LOOKUP(B8101,Spiele!B:B,Spiele!D:D))","v":""},{"$f":"IF(B8101=\"\",\"\",LOOKUP(B8101,Spiele!B:B,Spiele!E:E))","v":""},{"$f":"IF(B8101=\"\",\"\",LOOKUP(B8101,Spiele!B:B,Spiele!F:F))","v":""},"","","",null,null,-1,-1,1,0]
[null,null,{"$f":"IF(B8103=\"\",\"\",LOOKUP(B8103,Spiele!B:B,Spiele!C:C))","v":""},{"$f":"IF(B8103=\"\",\"\",LOOKUP(B8103,Spiele!B:B,Spiele!D:D))","v":""},{"$f":"IF(B8103=\"\",\"\",LOOKUP(B8103,Spiele!B:B,Spiele!E:E))","v":""},{"$f":"IF(B8103=\"\",\"\",LOOKUP(B8103,Spiele!B:B,Spiele!F:F))","v":""},"","","",null,null,-1,-1,1,0]
[null,null,{"$f":"IF(B8108=\"\",\"\",LOOKUP(B8108,Spiele!B:B,Spiele!C:C))","v":""},{"$f":"IF(B8108=\"\",\"\",LOOKUP(B8108,Spiele!B:B,Spiele!D:D))","v":""},{"$f":"IF(B8108=\"\",\"\",LOOKUP(B8108,Spiele!B:B,Spiele!E:E))","v":""},{"$f":"IF(B8108=\"\",\"\",LOOKUP(B8108,Spiele!B:B,Spiele!F:F))","v":""},"","","",null,null,-1,-1,1,0]
[null,null,{"$f":"IF(B8113=\"\",\"\",LOOKUP(B8113,Spiele!B:B,Spiele!C:C))","v":""},{"$f":"IF(B8113=\"\",\"\",LOOKUP(B8113,Spiele!B:B,Spiele!D:D))","v":""},{"$f":"IF(B8113=\"\",\"\",LOOKUP(B8113,Spiele!B:B,Spiele!E:E))","v":""},{"$f":"IF(B8113=\"\",\"\",LOOKUP(B8113,Spiele!B:B,Spiele!F:F))","v":""},"","","",null,null,-1,-1,1,0]
[null,null,{"$f":"IF(B8117=\"\",\"\",LOOKUP(B8117,Spiele!B:B,Spiele!C:C))","v":""},{"$f":"IF(B8117=\"\",\"\",LOOKUP(B8117,Spiele!B:B,Spiele!D:D))","v":""},{"$f":"IF(B8117=\"\",\"\",LOOKUP(B8117,Spiele!B:B,Spiele!E:E))","v":""},{"$f":"IF(B8117=\"\",\"\",LOOKUP(B8117,Spiele!B:B,Spiele!F:F))","v":""},"","","",null,null,-1,-1,1,0]
[null,null,{"$f":"IF(B8118=\"\",\"\",LOOKUP(B8118,Spiele!B:B,Spiele!C:C))","v":""},{"$f":"IF(B8118=\"\",\"\",LOOKUP(B8118,Spiele!B:B,Spiele!D:D))","v":""},{"$f":"IF(B8118=\"\",\"\",LOOKUP(B8118,Spiele!B:B,Spiele!E:E))","v":""},{"$f":"IF(B8118=\"\",\"\",LOOKUP(B8118,Spiele!B:B,Spiele!F:F))","v":""},"","","",null,null,-1,-1,1,0]
[null,null,{"$f":"IF(B8123=\"\",\"\",LOOKUP(B8123,Spiele!B:B,Spiele!C:C))","v":""},{"$f":"IF(B8123=\"\",\"\",LOOKUP(B8123,Spiele!B:B,Spiele!D:D))","v":""},{"$f":"IF(B8123=\"\",\"\",LOOKUP(B8123,Spiele!B:B,Spiele!E:E))","v":""},{"$f":"IF(B8123=\"\",\"\",LOOKUP(B8123,Spiele!B:B,Spiele!F:F))","v":""},"","","",null,null,-1,-1,1,0]
[null,null,{"$f":"IF(B8128=\"\",\"\",LOOKUP(B8128,Spiele!B:B,Spiele!C:C))","v":""},{"$f":"IF(B8128=\"\",\"\",LOOKUP(B8128,Spiele!B:B,Spiele!D:D))","v":""},{"$f":"IF(B8128=\"\",\"\",LOOKUP(B8128,Spiele!B:B,Spiele!E:E))","v":""},{"$f":"IF(B8128=\"\",\"\",LOOKUP(B8128,Spiele!B:B,Spiele!F:F))","v":""},"","","",null,null,-1,-1,1,0]
[null,null,{"$f":"IF(B8131=\"\",\"\",LOOKUP(B8131,Spiele!B:B,Spiele!C:C))","v":""},{"$f":"IF(B8131=\"\",\"\",LOOKUP(B8131,Spiele!B:B,Spiele!D:D))","v":""},{"$f":"IF(B8131=\"\",\"\",LOOKUP(B8131,Spiele!B:B,Spiele!E:E))","v":""},{"$f":"IF(B8131=\"\",\"\",LOOKUP(B8131,Spiele!B:B,Spiele!F:F))","v":""},"","","",null,null,-1,-1,1,0]
[null,null,{"$f":"IF(B8133=\"\",\"\",LOOKUP(B8133,Spiele!B:B,Spiele!C:C))","v":""},{"$f":"IF(B8133=\"\",\"\",LOOKUP(B8133,Spiele!B:B,Spiele!D:D))","v":""},{"$f":"IF(B8133=\"\",\"\",LOOKUP(B8133,Spiele!B:B,Spiele!E:E))","v":""},{"$f":"IF(B8133=\"\",\"\",LOOKUP(B8133,Spiele!B:B,Spiele!F:F))","v":""},"","","",null,null,-1,-1,1,0]
[null,null,{"$f":"IF(B8138=\"\",\"\",LOOKUP(B8138,Spiele!B:B,Spiele!C:C))","v":""},{"$f":"IF(B8138=\"\",\"\",LOOKUP(B8138,Spiele!B:B,Spiele!D:D))","v":""},{"$f":"IF(B8138=\"\",\"\",LOOKUP(B8138,Spiele!B:B,Spiele!E:E))","v":""},{"$f":"IF(B8138=\"\",\"\",LOOKUP(B8138,Spiele!B:B,Spiele!F:F))","v":""},"","","",null,null,-1,-1,1,0]
[null,null,{"$f":"IF(B8143=\"\",\"\",LOOKUP(B8143,Spiele!B:B,Spiele!C:C))","v":""},{"$f":"IF(B8143=\"\",\"\",LOOKUP(B8143,Spiele!B:B,Spiele!D:D))","v":""},{"$f":"IF(B8143=\"\",\"\",LOOKUP(B8143,Spiele!B:B,Spiele!E:E))","v":""},{"$f":"IF(B8143=\"\",\"\",LOOKUP(B8143,Spiele!B:B,Spiele!F:F))","v":""},"","","",null,null,-1,-1,1,0]
[null,null,{"$f":"IF(B8147=\"\",\"\",LOOKUP(B8147,Spiele!B:B,Spiele!C:C))","v":""},{"$f":"IF(B8147=\"\",\"\",LOOKUP(B8147,Spiele!B:B,Spiele!D:D))","v":""},{"$f":"IF(B8147=\"\",\"\",LOOKUP(B8147,Spiele!B:B,Spiele!E:E))","v":""},{"$f":"IF(B8147=\"\",\"\",LOOKUP(B8147,Spiele!B:B,Spiele!F:F))","v":""},"","","",null,null,-1,-1,1,0]
[null,null,{"$f":"IF(B8148=\"\",\"\",LOOKUP(B8148,Spiele!B:B,Spiele!C:C))","v":""},{"$f":"IF(B8148=\"\",\"\",LOOKUP(B8148,Spiele!B:B,Spiele!D:D))","v":""},{"$f":"IF(B8148=\"\",\"\",LOOKUP(B8148,Spiele!B:B,Spiele!E:E))","v":""},{"$f":"IF(B8148=\"\",\"\",LOOKUP(B8148,Spiele!B:B,Spiele!F:F))","v":""},"","","",null,null,-1,-1,1,0]
[null,null,{"$f":"IF(B8153=\"\",\"\",LOOKUP(B8153,Spiele!B:B,Spiele!C:C))","v":""},{"$f":"IF(B8153=\"\",\"\",LOOKUP(B8153,Spiele!B:B,Spiele!D:D))","v":""},{"$f":"IF(B8153=\"\",\"\",LOOKUP(B8153,Spiele!B:B,Spiele!E:E))","v":""},{"$f":"IF(B8153=\"\",\"\",LOOKUP(B8153,Spiele!B:B,Spiele!F:F))","v":""},"","","",null,null,-1,-1,1,0]
[null,null,{"$f":"IF(B8158=\"\",\"\",LOOKUP(B8158,Spiele!B:B,Spiele!C:C))","v":""},{"$f":"IF(B8158=\"\",\"\",LOOKUP(B8158,Spiele!B:B,Spiele!D:D))","v":""},{"$f":"IF(B8158=\"\",\"\",LOOKUP(B8158,Spiele!B:B,Spiele!E:E))","v":""},{"$f":"IF(B8158=\"\",\"\",LOOKUP(B8158,Spiele!B:B,Spiele!F:F))","v":""},"","","",null,null,-1,-1,1,0]
[null,null,{"$f":"IF(B8161=\"\",\"\",LOOKUP(B8161,Spiele!B:B,Spiele!C:C))","v":""},{"$f":"IF(B8161=\"\",\"\",LOOKUP(B8161,Spiele!B:B,Spiele!D:D))","v":""},{"$f":"IF(B8161=\"\",\"\",LOOKUP(B8161,Spiele!B:B,Spiele!E:E))","v":""},{"$f":"IF(B8161=\"\",\"\",LOOKUP(B8161,Spiele!B:B,Spiele!F:F))","v":""},"","","",null,null,-1,-1,1,0]
[null,null,{"$f":"IF(B8163=\"\",\"\",LOOKUP(B8163,Spiele!B:B,Spiele!C:C))","v":""},{"$f":"IF(B8163=\"\",\"\",LOOKUP(B8163,Spiele!B:B,Spiele!D:D))","v":""},{"$f":"IF(B8163=\"\",\"\",LOOKUP(B8163,Spiele!B:B,Spiele!E:E))","v":""},{"$f":"IF(B8163=\"\",\"\",LOOKUP(B8163,Spiele!B:B,Spiele!F:F))","v":""},"","","",null,null,-1,-1,1,0]
[null,null,{"$f":"IF(B8168=\"\",\"\",LOOKUP(B8168,Spiele!B:B,Spiele!C:C))","v":""},{"$f":"IF(B8168=\"\",\"\",LOOKUP(B8168,Spiele!B:B,Spiele!D:D))","v":""},{"$f":"IF(B8168=\"\",\"\",LOOKUP(B8168,Spiele!B:B,Spiele!E:E))","v":""},{"$f":"IF(B8168=\"\",\"\",LOOKUP(B8168,Spiele!B:B,Spiele!F:F))","v":""},"","","",null,null,-1,-1,1,0]
[null,null,{"$f":"IF(B8173=\"\",\"\",LOOKUP(B8173,Spiele!B:B,Spiele!C:C))","v":""},{"$f":"IF(B8173=\"\",\"\",LOOKUP(B8173,Spiele!B:B,Spiele!D:D))","v":""},{"$f":"IF(B8173=\"\",\"\",LOOKUP(B8173,Spiele!B:B,Spiele!E:E))","v":""},{"$f":"IF(B8173=\"\",\"\",LOOKUP(B8173,Spiele!B:B,Spiele!F:F))","v":""},"","","",null,null,-1,-1,1,0]
[null,null,{"$f":"IF(B8177=\"\",\"\",LOOKUP(B8177,Spiele!B:B,Spiele!C:C))","v":""},{"$f":"IF(B8177=\"\",\"\",LOOKUP(B8177,Spiele!B:B,Spiele!D:D))","v":""},{"$f":"IF(B8177=\"\",\"\",LOOKUP(B8177,Spiele!B:B,Spiele!E:E))","v":""},{"$f":"IF(B8177=\"\",\"\",LOOKUP(B8177,Spiele!B:B,Spiele!F:F))","v":""},"","","",null,null,-1,-1,1,0]
[null,null,{"$f":"IF(B8178=\"\",\"\",LOOKUP(B8178,Spiele!B:B,Spiele!C:C))","v":""},{"$f":"IF(B8178=\"\",\"\",LOOKUP(B8178,Spiele!B:B,Spiele!D:D))","v":""},{"$f":"IF(B8178=\"\",\"\",LOOKUP(B8178,Spiele!B:B,Spiele!E:E))","v":""},{"$f":"IF(B8178=\"\",\"\",LOOKUP(B8178,Spiele!B:B,Spiele!F:F))","v":""},"","","",null,null,-1,-1,1,0]
[null,null,{"$f":"IF(B8183=\"\",\"\",LOOKUP(B8183,Spiele!B:B,Spiele!C:C))","v":""},{"$f":"IF(B8183=\"\",\"\",LOOKUP(B8183,Spiele!B:B,Spiele!D:D))","v":""},{"$f":"IF(B8183=\"\",\"\",LOOKUP(B8183,Spiele!B:B,Spiele!E:E))","v":""},{"$f":"IF(B8183=\"\",\"\",LOOKUP(B8183,Spiele!B:B,Spiele!F:F))","v":""},"","","",null,null,-1,-1,1,0]
[null,null,{"$f":"IF(B8188=\"\",\"\",LOOKUP(B8188,Spiele!B:B,Spiele!C:C))","v":""},{"$f":"IF(B8188=\"\",\"\",LOOKUP(B8188,Spiele!B:B,Spiele!D:D))","v":""},{"$f":"IF(B8188=\"\",\"\",LOOKUP(B8188,Spiele!B:B,Spiele!E:E))","v":""},{"$f":"IF(B8188=\"\",\"\",LOOKUP(B8188,Spiele!B:B,Spiele!F:F))","v":""},"","","",null,null,-1,-1,1,0]
[null,null,{"$f":"IF(B8191=\"\",\"\",LOOKUP(B8191,Spiele!B:B,Spiele!C:C))","v":""},{"$f":"IF(B8191=\"\",\"\",LOOKUP(B8191,Spiele!B:B,Spiele!D:D))","v":""},{"$f":"IF(B8191=\"\",\"\",LOOKUP(B8191,Spiele!B:B,Spiele!E:E))","v":""},{"$f":"IF(B8191=\"\",\"\",LOOKUP(B8191,Spiele!B:B,Spiele!F:F))","v":""},"","","",null,null,-1,-1,1,0]
[null,null,{"$f":"IF(B8193=\"\",\"\",LOOKUP(B8193,Spiele!B:B,Spiele!C:C))","v":""},{"$f":"IF(B8193=\"\",\"\",LOOKUP(B8193,Spiele!B:B,Spiele!D:D))","v":""},{"$f":"IF(B8193=\"\",\"\",LOOKUP(B8193,Spiele!B:B,Spiele!E:E))","v":""},{"$f":"IF(B8193=\"\",\"\",LOOKUP(B8193,Spiele!B:B,Spiele!F:F))","v":""},"","","",null,null,-1,-1,1,0]
[null,null,{"$f":"IF(B8198=\"\",\"\",LOOKUP(B8198,Spiele!B:B,Spiele!C:C))","v":""},{"$f":"IF(B8198=\"\",\"\",LOOKUP(B8198,Spiele!B:B,Spiele!D:D))","v":""},{"$f":"IF(B8198=\"\",\"\",LOOKUP(B8198,Spiele!B:B,Spiele!E:E))","v":""},{"$f":"IF(B8198=\"\",\"\",LOOKUP(B8198,Spiele!B:B,Spiele!F:F))","v":""},"","","",null,null,-1,-1,1,0]
[null,null,{"$f":"IF(B8203=\"\",\"\",LOOKUP(B8203,Spiele!B:B,Spiele!C:C))","v":""},{"$f":"IF(B8203=\"\",\"\",LOOKUP(B8203,Spiele!B:B,Spiele!D:D))","v":""},{"$f":"IF(B8203=\"\",\"\",LOOKUP(B8203,Spiele!B:B,Spiele!E:E))","v":""},{"$f":"IF(B8203=\"\",\"\",LOOKUP(B8203,Spiele!B:B,Spiele!F:F))","v":""},"","","",null,null,-1,-1,1,0]
[null,null,{"$f":"IF(B8207=\"\",\"\",LOOKUP(B8207,Spiele!B:B,Spiele!C:C))","v":""},{"$f":"IF(B8207=\"\",\"\",LOOKUP(B8207,Spiele!B:B,Spiele!D:D))","v":""},{"$f":"IF(B8207=\"\",\"\",LOOKUP(B8207,Spiele!B:B,Spiele!E:E))","v":""},{"$f":"IF(B8207=\"\",\"\",LOOKUP(B8207,Spiele!B:B,Spiele!F:F))","v":""},"","","",null,null,-1,-1,1,0]
[null,null,{"$f":"IF(B8208=\"\",\"\",LOOKUP(B8208,Spiele!B:B,Spiele!C:C))","v":""},{"$f":"IF(B8208=\"\",\"\",LOOKUP(B8208,Spiele!B:B,Spiele!D:D))","v":""},{"$f":"IF(B8208=\"\",\"\",LOOKUP(B8208,Spiele!B:B,Spiele!E:E))","v":""},{"$f":"IF(B8208=\"\",\"\",LOOKUP(B8208,Spiele!B:B,Spiele!F:F))","v":""},"","","",null,null,-1,-1,1,0]
[null,null,{"$f":"IF(B8213=\"\",\"\",LOOKUP(B8213,Spiele!B:B,Spiele!C:C))","v":""},{"$f":"IF(B8213=\"\",\"\",LOOKUP(B8213,Spiele!B:B,Spiele!D:D))","v":""},{"$f":"IF(B8213=\"\",\"\",LOOKUP(B8213,Spiele!B:B,Spiele!E:E))","v":""},{"$f":"IF(B8213=\"\",\"\",LOOKUP(B8213,Spiele!B:B,Spiele!F:F))","v":""},"","","",null,null,-1,-1,1,0]
[null,null,{"$f":"IF(B8218=\"\",\"\",LOOKUP(B8218,Spiele!B:B,Spiele!C:C))","v":""},{"$f":"IF(B8218=\"\",\"\",LOOKUP(B8218,Spiele!B:B,Spiele!D:D))","v":""},{"$f":"IF(B8218=\"\",\"\",LOOKUP(B8218,Spiele!B:B,Spiele!E:E))","v":""},{"$f":"IF(B8218=\"\",\"\",LOOKUP(B8218,Spiele!B:B,Spiele!F:F))","v":""},"","","",null,null,-1,-1,1,0]
[null,null,{"$f":"IF(B8221=\"\",\"\",LOOKUP(B8221,Spiele!B:B,Spiele!C:C))","v":""},{"$f":"IF(B8221=\"\",\"\",LOOKUP(B8221,Spiele!B:B,Spiele!D:D))","v":""},{"$f":"IF(B8221=\"\",\"\",LOOKUP(B8221,Spiele!B:B,Spiele!E:E))","v":""},{"$f":"IF(B8221=\"\",\"\",LOOKUP(B8221,Spiele!B:B,Spiele!F:F))","v":""},"","","",null,null,-1,-1,1,0]
[null,null,{"$f":"IF(B8223=\"\",\"\",LOOKUP(B8223,Spiele!B:B,Spiele!C:C))","v":""},{"$f":"IF(B8223=\"\",\"\",LOOKUP(B8223,Spiele!B:B,Spiele!D:D))","v":""},{"$f":"IF(B8223=\"\",\"\",LOOKUP(B8223,Spiele!B:B,Spiele!E:E))","v":""},{"$f":"IF(B8223=\"\",\"\",LOOKUP(B8223,Spiele!B:B,Spiele!F:F))","v":""},"","","",null,null,-1,-1,1,0]
[null,null,{"$f":"IF(B8228=\"\",\"\",LOOKUP(B8228,Spiele!B:B,Spiele!C:C))","v":""},{"$f":"IF(B8228=\"\",\"\",LOOKUP(B8228,Spiele!B:B,Spiele!D:D))","v":""},{"$f":"IF(B8228=\"\",\"\",LOOKUP(B8228,Spiele!B:B,Spiele!E:E))","v":""},{"$f":"IF(B8228=\"\",\"\",LOOKUP(B8228,Spiele!B:B,Spiele!F:F))","v":""},"","","",null,null,-1,-1,1,0]
[null,null,{"$f":"IF(B8233=\"\",\"\",LOOKUP(B8233,Spiele!B:B,Spiele!C:C))","v":""},{"$f":"IF(B8233=\"\",\"\",LOOKUP(B8233,Spiele!B:B,Spiele!D:D))","v":""},{"$f":"IF(B8233=\"\",\"\",LOOKUP(B8233,Spiele!B:B,Spiele!E:E))","v":""},{"$f":"IF(B8233=\"\",\"\",LOOKUP(B8233,Spiele!B:B,Spiele!F:F))","v":""},"","","",null,null,-1,-1,1,0]
[null,null,{"$f":"IF(B8237=\"\",\"\",LOOKUP(B8237,Spiele!B:B,Spiele!C:C))","v":""},{"$f":"IF(B8237=\"\",\"\",LOOKUP(B8237,Spiele!B:B,Spiele!D:D))","v":""},{"$f":"IF(B8237=\"\",\"\",LOOKUP(B8237,Spiele!B:B,Spiele!E:E))","v":""},{"$f":"IF(B8237=\"\",\"\",LOOKUP(B8237,Spiele!B:B,Spiele!F:F))","v":""},"","","",null,null,-1,-1,1,0]
[null,null,{"$f":"IF(B8238=\"\",\"\",LOOKUP(B8238,Spiele!B:B,Spiele!C:C))","v":""},{"$f":"IF(B8238=\"\",\"\",LOOKUP(B8238,Spiele!B:B,Spiele!D:D))","v":""},{"$f":"IF(B8238=\"\",\"\",LOOKUP(B8238,Spiele!B:B,Spiele!E:E))","v":""},{"$f":"IF(B8238=\"\",\"\",LOOKUP(B8238,Spiele!B:B,Spiele!F:F))","v":""},"","","",null,null,-1,-1,1,0]
[null,null,{"$f":"IF(B8243=\"\",\"\",LOOKUP(B8243,Spiele!B:B,Spiele!C:C))","v":""},{"$f":"IF(B8243=\"\",\"\",LOOKUP(B8243,Spiele!B:B,Spiele!D:D))","v":""},{"$f":"IF(B8243=\"\",\"\",LOOKUP(B8243,Spiele!B:B,Spiele!E:E))","v":""},{"$f":"IF(B8243=\"\",\"\",LOOKUP(B8243,Spiele!B:B,Spiele!F:F))","v":""},"","","",null,null,-1,-1,1,0]
[null,null,{"$f":"IF(B8248=\"\",\"\",LOOKUP(B8248,Spiele!B:B,Spiele!C:C))","v":""},{"$f":"IF(B8248=\"\",\"\",LOOKUP(B8248,Spiele!B:B,Spiele!D:D))","v":""},{"$f":"IF(B8248=\"\",\"\",LOOKUP(B8248,Spiele!B:B,Spiele!E:E))","v":""},{"$f":"IF(B8248=\"\",\"\",LOOKUP(B8248,Spiele!B:B,Spiele!F:F))","v":""},"","","",null,null,-1,-1,1,0]
[null,null,{"$f":"IF(B8251=\"\",\"\",LOOKUP(B8251,Spiele!B:B,Spiele!C:C))","v":""},{"$f":"IF(B8251=\"\",\"\",LOOKUP(B8251,Spiele!B:B,Spiele!D:D))","v":""},{"$f":"IF(B8251=\"\",\"\",LOOKUP(B8251,Spiele!B:B,Spiele!E:E))","v":""},{"$f":"IF(B8251=\"\",\"\",LOOKUP(B8251,Spiele!B:B,Spiele!F:F))","v":""},"","","",null,null,-1,-1,1,0]
[null,null,{"$f":"IF(B8253=\"\",\"\",LOOKUP(B8253,Spiele!B:B,Spiele!C:C))","v":""},{"$f":"IF(B8253=\"\",\"\",LOOKUP(B8253,Spiele!B:B,Spiele!D:D))","v":""},{"$f":"IF(B8253=\"\",\"\",LOOKUP(B8253,Spiele!B:B,Spiele!E:E))","v":""},{"$f":"IF(B8253=\"\",\"\",LOOKUP(B8253,Spiele!B:B,Spiele!F:F))","v":""},"","","",null,null,-1,-1,1,0]
[null,null,{"$f":"IF(B8258=\"\",\"\",LOOKUP(B8258,Spiele!B:B,Spiele!C:C))","v":""},{"$f":"IF(B8258=\"\",\"\",LOOKUP(B8258,Spiele!B:B,Spiele!D:D))","v":""},{"$f":"IF(B8258=\"\",\"\",LOOKUP(B8258,Spiele!B:B,Spiele!E:E))","v":""},{"$f":"IF(B8258=\"\",\"\",LOOKUP(B8258,Spiele!B:B,Spiele!F:F))","v":""},"","","",null,null,-1,-1,1,0]
[null,null,{"$f":"IF(B8263=\"\",\"\",LOOKUP(B8263,Spiele!B:B,Spiele!C:C))","v":""},{"$f":"IF(B8263=\"\",\"\",LOOKUP(B8263,Spiele!B:B,Spiele!D:D))","v":""},{"$f":"IF(B8263=\"\",\"\",LOOKUP(B8263,Spiele!B:B,Spiele!E:E))","v":""},{"$f":"IF(B8263=\"\",\"\",LOOKUP(B8263,Spiele!B:B,Spiele!F:F))","v":""},"","","",null,null,-1,-1,1,0]
[null,null,{"$f":"IF(B8267=\"\",\"\",LOOKUP(B8267,Spiele!B:B,Spiele!C:C))","v":""},{"$f":"IF(B8267=\"\",\"\",LOOKUP(B8267,Spiele!B:B,Spiele!D:D))","v":""},{"$f":"IF(B8267=\"\",\"\",LOOKUP(B8267,Spiele!B:B,Spiele!E:E))","v":""},{"$f":"IF(B8267=\"\",\"\",LOOKUP(B8267,Spiele!B:B,Spiele!F:F))","v":""},"","","",null,null,-1,-1,1,0]
[null,null,{"$f":"IF(B8268=\"\",\"\",LOOKUP(B8268,Spiele!B:B,Spiele!C:C))","v":""},{"$f":"IF(B8268=\"\",\"\",LOOKUP(B8268,Spiele!B:B,Spiele!D:D))","v":""},{"$f":"IF(B8268=\"\",\"\",LOOKUP(B8268,Spiele!B:B,Spiele!E:E))","v":""},{"$f":"IF(B8268=\"\",\"\",LOOKUP(B8268,Spiele!B:B,Spiele!F:F))","v":""},"","","",null,null,-1,-1,1,0]
[null,null,{"$f":"IF(B8273=\"\",\"\",LOOKUP(B8273,Spiele!B:B,Spiele!C:C))","v":""},{"$f":"IF(B8273=\"\",\"\",LOOKUP(B8273,Spiele!B:B,Spiele!D:D))","v":""},{"$f":"IF(B8273=\"\",\"\",LOOKUP(B8273,Spiele!B:B,Spiele!E:E))","v":""},{"$f":"IF(B8273=\"\",\"\",LOOKUP(B8273,Spiele!B:B,Spiele!F:F))","v":""},"","","",null,null,-1,-1,1,0]
[null,null,{"$f":"IF(B8278=\"\",\"\",LOOKUP(B8278,Spiele!B:B,Spiele!C:C))","v":""},{"$f":"IF(B8278=\"\",\"\",LOOKUP(B8278,Spiele!B:B,Spiele!D:D))","v":""},{"$f":"IF(B8278=\"\",\"\",LOOKUP(B8278,Spiele!B:B,Spiele!E:E))","v":""},{"$f":"IF(B8278=\"\",\"\",LOOKUP(B8278,Spiele!B:B,Spiele!F:F))","v":""},"","","",null,null,-1,-1,1,0]
[null,null,{"$f":"IF(B8281=\"\",\"\",LOOKUP(B8281,Spiele!B:B,Spiele!C:C))","v":""},{"$f":"IF(B8281=\"\",\"\",LOOKUP(B8281,Spiele!B:B,Spiele!D:D))","v":""},{"$f":"IF(B8281=\"\",\"\",LOOKUP(B8281,Spiele!B:B,Spiele!E:E))","v":""},{"$f":"IF(B8281=\"\",\"\",LOOKUP(B8281,Spiele!B:B,Spiele!F:F))","v":""},"","","",null,null,-1,-1,1,0]
[null,null,{"$f":"IF(B8283=\"\",\"\",LOOKUP(B8283,Spiele!B:B,Spiele!C:C))","v":""},{"$f":"IF(B8283=\"\",\"\",LOOKUP(B8283,Spiele!B:B,Spiele!D:D))","v":""},{"$f":"IF(B8283=\"\",\"\",LOOKUP(B8283,Spiele!B:B,Spiele!E:E))","v":""},{"$f":"IF(B8283=\"\",\"\",LOOKUP(B8283,Spiele!B:B,Spiele!F:F))","v":""},"","","",null,null,-1,-1,1,0]
[null,null,{"$f":"IF(B8288=\"\",\"\",LOOKUP(B8288,Spiele!B:B,Spiele!C:C))","v":""},{"$f":"IF(B8288=\"\",\"\",LOOKUP(B8288,Spiele!B:B,Spiele!D:D))","v":""},{"$f":"IF(B8288=\"\",\"\",LOOKUP(B8288,Spiele!B:B,Spiele!E:E))","v":""},{"$f":"IF(B8288=\"\",\"\",LOOKUP(B8288,Spiele!B:B,Spiele!F:F))","v":""},{"$f":"IF(E8288=\"\",\"\",IF(E8288>F8288,1,0))","v":""},{"$f":"IF(F8288=\"\",\"\",IF(E8288<F8288,1,0))","v":""},{"$f":"IF(E8288=\"\",\"\",IF(E8288=F8288,1,0))","v":""},null,null,{"$f":"IF(E8288=\"\",-1,IF(J8288>K8288,1,-1))","v":-1},{"$f":"IF(F8288=\"\",-1,IF(J8288<K8288,1,-1))","v":-1},{"$f":"IF(E8288=\"-\",-1,IF(J8288=K8288,1,-1))","v":1},{"$f":"IF(E8288=\"\",0,IF(E8288=J8288,1,0)+IF(F8288=K8288,1,0)+IF(G8288=L8288,1,0)+IF(H8288=M8288,1,0)+IF(I8288=N8288,1,0))","v":0}]
[null,null,{"$f":"IF(B8293=\"\",\"\",LOOKUP(B8293,Spiele!B:B,Spiele!C:C))","v":""},{"$f":"IF(B8293=\"\",\"\",LOOKUP(B8293,Spiele!B:B,Spiele!D:D))","v":""},{"$f":"IF(B8293=\"\",\"\",LOOKUP(B8293,Spiele!B:B,Spiele!E:E))","v":""},{"$f":"IF(B8293=\"\",\"\",LOOKUP(B8293,Spiele!B:B,Spiele!F:F))","v":""},"","","",null,null,-1,-1,1,0]
[null,null,{"$f":"IF(B8297=\"\",\"\",LOOKUP(B8297,Spiele!B:B,Spiele!C:C))","v":""},{"$f":"IF(B8297=\"\",\"\",LOOKUP(B8297,Spiele!B:B,Spiele!D:D))","v":""},{"$f":"IF(B8297=\"\",\"\",LOOKUP(B8297,Spiele!B:B,Spiele!E:E))","v":""},{"$f":"IF(B8297=\"\",\"\",LOOKUP(B8297,Spiele!B:B,Spiele!F:F))","v":""},"","","",null,null,-1,-1,1,0]
[null,null,{"$f":"IF(B8298=\"\",\"\",LOOKUP(B8298,Spiele!B:B,Spiele!C:C))","v":""},{"$f":"IF(B8298=\"\",\"\",LOOKUP(B8298,Spiele!B:B,Spiele!D:D))","v":""},{"$f":"IF(B8298=\"\",\"\",LOOKUP(B8298,Spiele!B:B,Spiele!E:E))","v":""},{"$f":"IF(B8298=\"\",\"\",LOOKUP(B8298,Spiele!B:B,Spiele!F:F))","v":""},"","","",null,null,-1,-1,1,0]
[null,null,{"$f":"IF(B8303=\"\",\"\",LOOKUP(B8303,Spiele!B:B,Spiele!C:C))","v":""},{"$f":"IF(B8303=\"\",\"\",LOOKUP(B8303,Spiele!B:B,Spiele!D:D))","v":""},{"$f":"IF(B8303=\"\",\"\",LOOKUP(B8303,Spiele!B:B,Spiele!E:E))","v":""},{"$f":"IF(B8303=\"\",\"\",LOOKUP(B8303,Spiele!B:B,Spiele!F:F))","v":""},"","","",null,null,-1,-1,1,0]
[null,null,{"$f":"IF(B8308=\"\",\"\",LOOKUP(B8308,Spiele!B:B,Spiele!C:C))","v":""},{"$f":"IF(B8308=\"\",\"\",LOOKUP(B8308,Spiele!B:B,Spiele!D:D))","v":""},{"$f":"IF(B8308=\"\",\"\",LOOKUP(B8308,Spiele!B:B,Spiele!E:E))","v":""},{"$f":"IF(B8308=\"\",\"\",LOOKUP(B8308,Spiele!B:B,Spiele!F:F))","v":""},"","","",null,null,-1,-1,1,0]
[null,null,{"$f":"IF(B8311=\"\",\"\",LOOKUP(B8311,Spiele!B:B,Spiele!C:C))","v":""},{"$f":"IF(B8311=\"\",\"\",LOOKUP(B8311,Spiele!B:B,Spiele!D:D))","v":""},{"$f":"IF(B8311=\"\",\"\",LOOKUP(B8311,Spiele!B:B,Spiele!E:E))","v":""},{"$f":"IF(B8311=\"\",\"\",LOOKUP(B8311,Spiele!B:B,Spiele!F:F))","v":""},"","","",null,null,-1,-1,1,0]
[null,null,{"$f":"IF(B8313=\"\",\"\",LOOKUP(B8313,Spiele!B:B,Spiele!C:C))","v":""},{"$f":"IF(B8313=\"\",\"\",LOOKUP(B8313,Spiele!B:B,Spiele!D:D))","v":""},{"$f":"IF(B8313=\"\",\"\",LOOKUP(B8313,Spiele!B:B,Spiele!E:E))","v":""},{"$f":"IF(B8313=\"\",\"\",LOOKUP(B8313,Spiele!B:B,Spiele!F:F))","v":""},"","","",null,null,-1,-1,1,0]
[null,null,{"$f":"IF(B8318=\"\",\"\",LOOKUP(B8318,Spiele!B:B,Spiele!C:C))","v":""},{"$f":"IF(B8318=\"\",\"\",LOOKUP(B8318,Spiele!B:B,Spiele!D:D))","v":""},{"$f":"IF(B8318=\"\",\"\",LOOKUP(B8318,Spiele!B:B,Spiele!E:E))","v":""},{"$f":"IF(B8318=\"\",\"\",LOOKUP(B8318,Spiele!B:B,Spiele!F:F))","v":""},"","","",null,null,-1,-1,1,0]
[null,null,{"$f":"IF(B8323=\"\",\"\",LOOKUP(B8323,Spiele!B:B,Spiele!C:C))","v":""},{"$f":"IF(B8323=\"\",\"\",LOOKUP(B8323,Spiele!B:B,Spiele!D:D))","v":""},{"$f":"IF(B8323=\"\",\"\",LOOKUP(B8323,Spiele!B:B,Spiele!E:E))","v":""},{"$f":"IF(B8323=\"\",\"\",LOOKUP(B8323,Spiele!B:B,Spiele!F:F))","v":""},"","","",null,null,-1,-1,1,0]
[null,null,{"$f":"IF(B8327=\"\",\"\",LOOKUP(B8327,Spiele!B:B,Spiele!C:C))","v":""},{"$f":"IF(B8327=\"\",\"\",LOOKUP(B8327,Spiele!B:B,Spiele!D:D))","v":""},{"$f":"IF(B8327=\"\",\"\",LOOKUP(B8327,Spiele!B:B,Spiele!E:E))","v":""},{"$f":"IF(B8327=\"\",\"\",LOOKUP(B8327,Spiele!B:B,Spiele!F:F))","v":""},"","","",null,null,-1,-1,1,0]
[null,null,{"$f":"IF(B8328=\"\",\"\",LOOKUP(B8328,Spiele!B:B,Spiele!C:C))","v":""},{"$f":"IF(B8328=\"\",\"\",LOOKUP(B8328,Spiele!B:B,Spiele!D:D))","v":""},{"$f":"IF(B8328=\"\",\"\",LOOKUP(B8328,Spiele!B:B,Spiele!E:E))","v":""},{"$f":"IF(B8328=\"\",\"\",LOOKUP(B8328,Spiele!B:B,Spiele!F:F))","v":""},"","","",null,null,-1,-1,1,0]
[null,null,{"$f":"IF(B8333=\"\",\"\",LOOKUP(B8333,Spiele!B:B,Spiele!C:C))","v":""},{"$f":"IF(B8333=\"\",\"\",LOOKUP(B8333,Spiele!B:B,Spiele!D:D))","v":""},{"$f":"IF(B8333=\"\",\"\",LOOKUP(B8333,Spiele!B:B,Spiele!E:E))","v":""},{"$f":"IF(B8333=\"\",\"\",LOOKUP(B8333,Spiele!B:B,Spiele!F:F))","v":""},"","","",null,null,-1,-1,1,0]
[null,null,{"$f":"IF(B8338=\"\",\"\",LOOKUP(B8338,Spiele!B:B,Spiele!C:C))","v":""},{"$f":"IF(B8338=\"\",\"\",LOOKUP(B8338,Spiele!B:B,Spiele!D:D))","v":""},{"$f":"IF(B8338=\"\",\"\",LOOKUP(B8338,Spiele!B:B,Spiele!E:E))","v":""},{"$f":"IF(B8338=\"\",\"\",LOOKUP(B8338,Spiele!B:B,Spiele!F:F))","v":""},"","","",null,null,-1,-1,1,0]
[null,null,{"$f":"IF(B8341=\"\",\"\",LOOKUP(B8341,Spiele!B:B,Spiele!C:C))","v":""},{"$f":"IF(B8341=\"\",\"\",LOOKUP(B8341,Spiele!B:B,Spiele!D:D))","v":""},{"$f":"IF(B8341=\"\",\"\",LOOKUP(B8341,Spiele!B:B,Spiele!E:E))","v":""},{"$f":"IF(B8341=\"\",\"\",LOOKUP(B8341,Spiele!B:B,Spiele!F:F))","v":""},"","","",null,null,-1,-1,1,0]
[null,null,{"$f":"IF(B8343=\"\",\"\",LOOKUP(B8343,Spiele!B:B,Spiele!C:C))","v":""},{"$f":"IF(B8343=\"\",\"\",LOOKUP(B8343,Spiele!B:B,Spiele!D:D))","v":""},{"$f":"IF(B8343=\"\",\"\",LOOKUP(B8343,Spiele!B:B,Spiele!E:E))","v":""},{"$f":"IF(B8343=\"\",\"\",LOOKUP(B8343,Spiele!B:B,Spiele!F:F))","v":""},"","","",null,null,-1,-1,1,0]
[null,null,{"$f":"IF(B8348=\"\",\"\",LOOKUP(B8348,Spiele!B:B,Spiele!C:C))","v":""},{"$f":"IF(B8348=\"\",\"\",LOOKUP(B8348,Spiele!B:B,Spiele!D:D))","v":""},{"$f":"IF(B8348=\"\",\"\",LOOKUP(B8348,Spiele!B:B,Spiele!E:E))","v":""},{"$f":"IF(B8348=\"\",\"\",LOOKUP(B8348,Spiele!B:B,Spiele!F:F))","v":""},"","","",null,null,-1,-1,1,0]
[null,null,{"$f":"IF(B8353=\"\",\"\",LOOKUP(B8353,Spiele!B:B,Spiele!C:C))","v":""},{"$f":"IF(B8353=\"\",\"\",LOOKUP(B8353,Spiele!B:B,Spiele!D:D))","v":""},{"$f":"IF(B8353=\"\",\"\",LOOKUP(B8353,Spiele!B:B,Spiele!E:E))","v":""},{"$f":"IF(B8353=\"\",\"\",LOOKUP(B8353,Spiele!B:B,Spiele!F:F))","v":""},"","","",null,null,-1,-1,1,0]
[null,null,{"$f":"IF(B8355=\"\",\"\",LOOKUP(B8355,Spiele!B:B,Spiele!C:C))","v":""},{"$f":"IF(B8355=\"\",\"\",LOOKUP(B8355,Spiele!B:B,Spiele!D:D))","v":""},{"$f":"IF(B8355=\"\",\"\",LOOKUP(B8355,Spiele!B:B,Spiele!E:E))","v":""},{"$f":"IF(B8355=\"\",\"\",LOOKUP(B8355,Spiele!B:B,Spiele!F:F))","v":""},"","","",null,null,-1,-1,1,0]
[null,null,{"$f":"IF(B8358=\"\",\"\",LOOKUP(B8358,Spiele!B:B,Spiele!C:C))","v":""},{"$f":"IF(B8358=\"\",\"\",LOOKUP(B8358,Spiele!B:B,Spiele!D:D))","v":""},{"$f":"IF(B8358=\"\",\"\",LOOKUP(B8358,Spiele!B:B,Spiele!E:E))","v":""},{"$f":"IF(B8358=\"\",\"\",LOOKUP(B8358,Spiele!B:B,Spiele!F:F))","v":""},"","","",null,null,-1,-1,1,0]
[null,null,{"$f":"IF(B8363=\"\",\"\",LOOKUP(B8363,Spiele!B:B,Spiele!C:C))","v":""},{"$f":"IF(B8363=\"\",\"\",LOOKUP(B8363,Spiele!B:B,Spiele!D:D))","v":""},{"$f":"IF(B8363=\"\",\"\",LOOKUP(B8363,Spiele!B:B,Spiele!E:E))","v":""},{"$f":"IF(B8363=\"\",\"\",LOOKUP(B8363,Spiele!B:B,Spiele!F:F))","v":""},"","","",null,null,-1,-1,1,0]
[null,null,{"$f":"IF(B8368=\"\",\"\",LOOKUP(B8368,Spiele!B:B,Spiele!C:C))","v":""},{"$f":"IF(B8368=\"\",\"\",LOOKUP(B8368,Spiele!B:B,Spiele!D:D))","v":""},{"$f":"IF(B8368=\"\",\"\",LOOKUP(B8368,Spiele!B:B,Spiele!E:E))","v":""},{"$f":"IF(B8368=\"\",\"\",LOOKUP(B8368,Spiele!B:B,Spiele!F:F))","v":""},"","","",null,null,-1,-1,1,0]
[null,null,{"$f":"IF(B8371=\"\",\"\",LOOKUP(B8371,Spiele!B:B,Spiele!C:C))","v":""},{"$f":"IF(B8371=\"\",\"\",LOOKUP(B8371,Spiele!B:B,Spiele!D:D))","v":""},{"$f":"IF(B8371=\"\",\"\",LOOKUP(B8371,Spiele!B:B,Spiele!E:E))","v":""},{"$f":"IF(B8371=\"\",\"\",LOOKUP(B8371,Spiele!B:B,Spiele!F:F))","v":""},"","","",null,null,-1,-1,1,0]
[null,null,{"$f":"IF(B8373=\"\",\"\",LOOKUP(B8373,Spiele!B:B,Spiele!C:C))","v":""},{"$f":"IF(B8373=\"\",\"\",LOOKUP(B8373,Spiele!B:B,Spiele!D:D))","v":""},{"$f":"IF(B8373=\"\",\"\",LOOKUP(B8373,Spiele!B:B,Spiele!E:E))","v":""},{"$f":"IF(B8373=\"\",\"\",LOOKUP(B8373,Spiele!B:B,Spiele!F:F))","v":""},"","","",null,null,-1,-1,1,0]
[null,null,{"$f":"IF(B8378=\"\",\"\",LOOKUP(B8378,Spiele!B:B,Spiele!C:C))","v":""},{"$f":"IF(B8378=\"\",\"\",LOOKUP(B8378,Spiele!B:B,Spiele!D:D))","v":""},{"$f":"IF(B8378=\"\",\"\",LOOKUP(B8378,Spiele!B:B,Spiele!E:E))","v":""},{"$f":"IF(B8378=\"\",\"\",LOOKUP(B8378,Spiele!B:B,Spiele!F:F))","v":""},"","","",null,null,-1,-1,1,0]
[null,null,{"$f":"IF(B8383=\"\",\"\",LOOKUP(B8383,Spiele!B:B,Spiele!C:C))","v":""},{"$f":"IF(B8383=\"\",\"\",LOOKUP(B8383,Spiele!B:B,Spiele!D:D))","v":""},{"$f":"IF(B8383=\"\",\"\",LOOKUP(B8383,Spiele!B:B,Spiele!E:E))","v":""},{"$f":"IF(B8383=\"\",\"\",LOOKUP(B8383,Spiele!B:B,Spiele!F:F))","v":""},"","","",null,null,-1,-1,1,0]
[null,null,{"$f":"IF(B8385=\"\",\"\",LOOKUP(B8385,Spiele!B:B,Spiele!C:C))","v":""},{"$f":"IF(B8385=\"\",\"\",LOOKUP(B8385,Spiele!B:B,Spiele!D:D))","v":""},{"$f":"IF(B8385=\"\",\"\",LOOKUP(B8385,Spiele!B:B,Spiele!E:E))","v":""},{"$f":"IF(B8385=\"\",\"\",LOOKUP(B8385,Spiele!B:B,Spiele!F:F))","v":""},"","","",null,null,-1,-1,1,0]
[null,null,{"$f":"IF(B8388=\"\",\"\",LOOKUP(B8388,Spiele!B:B,Spiele!C:C))","v":""},{"$f":"IF(B8388=\"\",\"\",LOOKUP(B8388,Spiele!B:B,Spiele!D:D))","v":""},{"$f":"IF(B8388=\"\",\"\",LOOKUP(B8388,Spiele!B:B,Spiele!E:E))","v":""},{"$f":"IF(B8388=\"\",\"\",LOOKUP(B8388,Spiele!B:B,Spiele!F:F))","v":""},"","","",null,null,-1,-1,1,0]
[null,null,{"$f":"IF(B8393=\"\",\"\",LOOKUP(B8393,Spiele!B:B,Spiele!C:C))","v":""},{"$f":"IF(B8393=\"\",\"\",LOOKUP(B8393,Spiele!B:B,Spiele!D:D))","v":""},{"$f":"IF(B8393=\"\",\"\",LOOKUP(B8393,Spiele!B:B,Spiele!E:E))","v":""},{"$f":"IF(B8393=\"\",\"\",LOOKUP(B8393,Spiele!B:B,Spiele!F:F))","v":""},"","","",null,null,-1,-1,1,0]
[null,null,{"$f":"IF(B8398=\"\",\"\",LOOKUP(B8398,Spiele!B:B,Spiele!C:C))","v":""},{"$f":"IF(B8398=\"\",\"\",LOOKUP(B8398,Spiele!B:B,Spiele!D:D))","v":""},{"$f":"IF(B8398=\"\",\"\",LOOKUP(B8398,Spiele!B:B,Spiele!E:E))","v":""},{"$f":"IF(B8398=\"\",\"\",LOOKUP(B8398,Spiele!B:B,Spiele!F:F))","v":""},"","","",null,null,-1,-1,1,0]
[null,null,{"$f":"IF(B8401=\"\",\"\",LOOKUP(B8401,Spiele!B:B,Spiele!C:C))","v":""},{"$f":"IF(B8401=\"\",\"\",LOOKUP(B8401,Spiele!B:B,Spiele!D:D))","v":""},{"$f":"IF(B8401=\"\",\"\",LOOKUP(B8401,Spiele!B:B,Spiele!E:E))","v":""},{"$f":"IF(B8401=\"\",\"\",LOOKUP(B8401,Spiele!B:B,Spiele!F:F))","v":""},"","","",null,null,-1,-1,1,0]
[null,null,{"$f":"IF(B8403=\"\",\"\",LOOKUP(B8403,Spiele!B:B,Spiele!C:C))","v":""},{"$f":"IF(B8403=\"\",\"\",LOOKUP(B8403,Spiele!B:B,Spiele!D:D))","v":""},{"$f":"IF(B8403=\"\",\"\",LOOKUP(B8403,Spiele!B:B,Spiele!E:E))","v":""},{"$f":"IF(B8403=\"\",\"\",LOOKUP(B8403,Spiele!B:B,Spiele!F:F))","v":""},"","","",null,null,-1,-1,1,0]
[null,null,{"$f":"IF(B8408=\"\",\"\",LOOKUP(B8408,Spiele!B:B,Spiele!C:C))","v":""},{"$f":"IF(B8408=\"\",\"\",LOOKUP(B8408,Spiele!B:B,Spiele!D:D))","v":""},{"$f":"IF(B8408=\"\",\"\",LOOKUP(B8408,Spiele!B:B,Spiele!E:E))","v":""},{"$f":"IF(B8408=\"\",\"\",LOOKUP(B8408,Spiele!B:B,Spiele!F:F))","v":""},"","","",null,null,-1,-1,1,0]
[null,null,{"$f":"IF(B8413=\"\",\"\",LOOKUP(B8413,Spiele!B:B,Spiele!C:C))","v":""},{"$f":"IF(B8413=\"\",\"\",LOOKUP(B8413,Spiele!B:B,Spiele!D:D))","v":""},{"$f":"IF(B8413=\"\",\"\",LOOKUP(B8413,Spiele!B:B,Spiele!E:E))","v":""},{"$f":"IF(B8413=\"\",\"\",LOOKUP(B8413,Spiele!B:B,Spiele!F:F))","v":""},"","","",null,null,-1,-1,1,0]
[null,null,{"$f":"IF(B8415=\"\",\"\",LOOKUP(B8415,Spiele!B:B,Spiele!C:C))","v":""},{"$f":"IF(B8415=\"\",\"\",LOOKUP(B8415,Spiele!B:B,Spiele!D:D))","v":""},{"$f":"IF(B8415=\"\",\"\",LOOKUP(B8415,Spiele!B:B,Spiele!E:E))","v":""},{"$f":"IF(B8415=\"\",\"\",LOOKUP(B8415,Spiele!B:B,Spiele!F:F))","v":""},"","","",null,null,-1,-1,1,0]
[null,null,{"$f":"IF(B8418=\"\",\"\",LOOKUP(B8418,Spiele!B:B,Spiele!C:C))","v":""},{"$f":"IF(B8418=\"\",\"\",LOOKUP(B8418,Spiele!B:B,Spiele!D:D))","v":""},{"$f":"IF(B8418=\"\",\"\",LOOKUP(B8418,Spiele!B:B,Spiele!E:E))","v":""},{"$f":"IF(B8418=\"\",\"\",LOOKUP(B8418,Spiele!B:B,Spiele!F:F))","v":""},"","","",null,null,-1,-1,1,0]
[null,null,{"$f":"IF(B8423=\"\",\"\",LOOKUP(B8423,Spiele!B:B,Spiele!C:C))","v":""},{"$f":"IF(B8423=\"\",\"\",LOOKUP(B8423,Spiele!B:B,Spiele!D:D))","v":""},{"$f":"IF(B8423=\"\",\"\",LOOKUP(B8423,Spiele!B:B,Spiele!E:E))","v":""},{"$f":"IF(B8423=\"\",\"\",LOOKUP(B8423,Spiele!B:B,Spiele!F:F))","v":""},"","","",null,null,-1,-1,1,0]
[null,null,{"$f":"IF(B8428=\"\",\"\",LOOKUP(B8428,Spiele!B:B,Spiele!C:C))","v":""},{"$f":"IF(B8428=\"\",\"\",LOOKUP(B8428,Spiele!B:B,Spiele!D:D))","v":""},{"$f":"IF(B8428=\"\",\"\",LOOKUP(B8428,Spiele!B:B,Spiele!E:E))","v":""},{"$f":"IF(B8428=\"\",\"\",LOOKUP(B8428,Spiele!B:B,Spiele!F:F))","v":""},"","","",null,null,-1,-1,1,0]
[null,null,{"$f":"IF(B8431=\"\",\"\",LOOKUP(B8431,Spiele!B:B,Spiele!C:C))","v":""},{"$f":"IF(B8431=\"\",\"\",LOOKUP(B8431,Spiele!B:B,Spiele!D:D))","v":""},{"$f":"IF(B8431=\"\",\"\",LOOKUP(B8431,Spiele!B:B,Spiele!E:E))","v":""},{"$f":"IF(B8431=\"\",\"\",LOOKUP(B8431,Spiele!B:B,Spiele!F:F))","v":""},"","","",null,null,-1,-1,1,0]
[null,null,{"$f":"IF(B8433=\"\",\"\",LOOKUP(B8433,Spiele!B:B,Spiele!C:C))","v":""},{"$f":"IF(B8433=\"\",\"\",LOOKUP(B8433,Spiele!B:B,Spiele!D:D))","v":""},{"$f":"IF(B8433=\"\",\"\",LOOKUP(B8433,Spiele!B:B,Spiele!E:E))","v":""},{"$f":"IF(B8433=\"\",\"\",LOOKUP(B8433,Spiele!B:B,Spiele!F:F))","v":""},"","","",null,null,-1,-1,1,0]
[null,null,{"$f":"IF(B8438=\"\",\"\",LOOKUP(B8438,Spiele!B:B,Spiele!C:C))","v":""},{"$f":"IF(B8438=\"\",\"\",LOOKUP(B8438,Spiele!B:B,Spiele!D:D))","v":""},{"$f":"IF(B8438=\"\",\"\",LOOKUP(B8438,Spiele!B:B,Spiele!E:E))","v":""},{"$f":"IF(B8438=\"\",\"\",LOOKUP(B8438,Spiele!B:B,Spiele!F:F))","v":""},"","","",null,null,-1,-1,1,0]
[null,null,{"$f":"IF(B8443=\"\",\"\",LOOKUP(B8443,Spiele!B:B,Spiele!C:C))","v":""},{"$f":"IF(B8443=\"\",\"\",LOOKUP(B8443,Spiele!B:B,Spiele!D:D))","v":""},{"$f":"IF(B8443=\"\",\"\",LOOKUP(B8443,Spiele!B:B,Spiele!E:E))","v":""},{"$f":"IF(B8443=\"\",\"\",LOOKUP(B8443,Spiele!B:B,Spiele!F:F))","v":""},"","","",null,null,-1,-1,1,0]
[null,null,{"$f":"IF(B8445=\"\",\"\",LOOKUP(B8445,Spiele!B:B,Spiele!C:C))","v":""},{"$f":"IF(B8445=\"\",\"\",LOOKUP(B8445,Spiele!B:B,Spiele!D:D))","v":""},{"$f":"IF(B8445=\"\",\"\",LOOKUP(B8445,Spiele!B:B,Spiele!E:E))","v":""},{"$f":"IF(B8445=\"\",\"\",LOOKUP(B8445,Spiele!B:B,Spiele!F:F))","v":""},"","","",null,null,-1,-1,1,0]
[null,null,{"$f":"IF(B8448=\"\",\"\",LOOKUP(B8448,Spiele!B:B,Spiele!C:C))","v":""},{"$f":"IF(B8448=\"\",\"\",LOOKUP(B8448,Spiele!B:B,Spiele!D:D))","v":""},{"$f":"IF(B8448=\"\",\"\",LOOKUP(B8448,Spiele!B:B,Spiele!E:E))","v":""},{"$f":"IF(B8448=\"\",\"\",LOOKUP(B8448,Spiele!B:B,Spiele!F:F))","v":""},"","","",null,null,-1,-1,1,0]
[null,null,{"$f":"IF(B8453=\"\",\"\",LOOKUP(B8453,Spiele!B:B,Spiele!C:C))","v":""},{"$f":"IF(B8453=\"\",\"\",LOOKUP(B8453,Spiele!B:B,Spiele!D:D))","v":""},{"$f":"IF(B8453=\"\",\"\",LOOKUP(B8453,Spiele!B:B,Spiele!E:E))","v":""},{"$f":"IF(B8453=\"\",\"\",LOOKUP(B8453,Spiele!B:B,Spiele!F:F))","v":""},"","","",null,null,-1,-1,1,0]
[null,null,{"$f":"IF(B8458=\"\",\"\",LOOKUP(B8458,Spiele!B:B,Spiele!C:C))","v":""},{"$f":"IF(B8458=\"\",\"\",LOOKUP(B8458,Spiele!B:B,Spiele!D:D))","v":""},{"$f":"IF(B8458=\"\",\"\",LOOKUP(B8458,Spiele!B:B,Spiele!E:E))","v":""},{"$f":"IF(B8458=\"\",\"\",LOOKUP(B8458,Spiele!B:B,Spiele!F:F))","v":""},"","","",null,null,-1,-1,1,0]
[null,null,{"$f":"IF(B8461=\"\",\"\",LOOKUP(B8461,Spiele!B:B,Spiele!C:C))","v":""},{"$f":"IF(B8461=\"\",\"\",LOOKUP(B8461,Spiele!B:B,Spiele!D:D))","v":""},{"$f":"IF(B8461=\"\",\"\",LOOKUP(B8461,Spiele!B:B,Spiele!E:E))","v":""},{"$f":"IF(B8461=\"\",\"\",LOOKUP(B8461,Spiele!B:B,Spiele!F:F))","v":""},"","","",null,null,-1,-1,1,0]
[null,null,{"$f":"IF(B8463=\"\",\"\",LOOKUP(B8463,Spiele!B:B,Spiele!C:C))","v":""},{"$f":"IF(B8463=\"\",\"\",LOOKUP(B8463,Spiele!B:B,Spiele!D:D))","v":""},{"$f":"IF(B8463=\"\",\"\",LOOKUP(B8463,Spiele!B:B,Spiele!E:E))","v":""},{"$f":"IF(B8463=\"\",\"\",LOOKUP(B8463,Spiele!B:B,Spiele!F:F))","v":""},"","","",null,null,-1,-1,1,0]
[null,null,{"$f":"IF(B8468=\"\",\"\",LOOKUP(B8468,Spiele!B:B,Spiele!C:C))","v":""},{"$f":"IF(B8468=\"\",\"\",LOOKUP(B8468,Spiele!B:B,Spiele!D:D))","v":""},{"$f":"IF(B8468=\"\",\"\",LOOKUP(B8468,Spiele!B:B,Spiele!E:E))","v":""},{"$f":"IF(B8468=\"\",\"\",LOOKUP(B8468,Spiele!B:B,Spiele!F:F))","v":""},"","","",null,null,-1,-1,1,0]
[null,null,{"$f":"IF(B8473=\"\",\"\",LOOKUP(B8473,Spiele!B:B,Spiele!C:C))","v":""},{"$f":"IF(B8473=\"\",\"\",LOOKUP(B8473,Spiele!B:B,Spiele!D:D))","v":""},{"$f":"IF(B8473=\"\",\"\",LOOKUP(B8473,Spiele!B:B,Spiele!E:E))","v":""},{"$f":"IF(B8473=\"\",\"\",LOOKUP(B8473,Spiele!B:B,Spiele!F:F))","v":""},"","","",null,null,-1,-1,1,0]
[null,null,{"$f":"IF(B8475=\"\",\"\",LOOKUP(B8475,Spiele!B:B,Spiele!C:C))","v":""},{"$f":"IF(B8475=\"\",\"\",LOOKUP(B8475,Spiele!B:B,Spiele!D:D))","v":""},{"$f":"IF(B8475=\"\",\"\",LOOKUP(B8475,Spiele!B:B,Spiele!E:E))","v":""},{"$f":"IF(B8475=\"\",\"\",LOOKUP(B8475,Spiele!B:B,Spiele!F:F))","v":""},"","","",null,null,-1,-1,1,0]
[null,null,{"$f":"IF(B8478=\"\",\"\",LOOKUP(B8478,Spiele!B:B,Spiele!C:C))","v":""},{"$f":"IF(B8478=\"\",\"\",LOOKUP(B8478,Spiele!B:B,Spiele!D:D))","v":""},{"$f":"IF(B8478=\"\",\"\",LOOKUP(B8478,Spiele!B:B,Spiele!E:E))","v":""},{"$f":"IF(B8478=\"\",\"\",LOOKUP(B8478,Spiele!B:B,Spiele!F:F))","v":""},"","","",null,null,-1,-1,1,0]
[null,null,{"$f":"IF(B8483=\"\",\"\",LOOKUP(B8483,Spiele!B:B,Spiele!C:C))","v":""},{"$f":"IF(B8483=\"\",\"\",LOOKUP(B8483,Spiele!B:B,Spiele!D:D))","v":""},{"$f":"IF(B8483=\"\",\"\",LOOKUP(B8483,Spiele!B:B,Spiele!E:E))","v":""},{"$f":"IF(B8483=\"\",\"\",LOOKUP(B8483,Spiele!B:B,Spiele!F:F))","v":""},"","","",null,null,-1,-1,1,0]
[null,null,{"$f":"IF(B8488=\"\",\"\",LOOKUP(B8488,Spiele!B:B,Spiele!C:C))","v":""},{"$f":"IF(B8488=\"\",\"\",LOOKUP(B8488,Spiele!B:B,Spiele!D:D))","v":""},{"$f":"IF(B8488=\"\",\"\",LOOKUP(B8488,Spiele!B:B,Spiele!E:E))","v":""},{"$f":"IF(B8488=\"\",\"\",LOOKUP(B8488,Spiele!B:B,Spiele!F:F))","v":""},"","","",null,null,-1,-1,1,0]
[null,null,{"$f":"IF(B8491=\"\",\"\",LOOKUP(B8491,Spiele!B:B,Spiele!C:C))","v":""},{"$f":"IF(B8491=\"\",\"\",LOOKUP(B8491,Spiele!B:B,Spiele!D:D))","v":""},{"$f":"IF(B8491=\"\",\"\",LOOKUP(B8491,Spiele!B:B,Spiele!E:E))","v":""},{"$f":"IF(B8491=\"\",\"\",LOOKUP(B8491,Spiele!B:B,Spiele!F:F))","v":""},"","","",null,null,-1,-1,1,0]
[null,null,{"$f":"IF(B8493=\"\",\"\",LOOKUP(B8493,Spiele!B:B,Spiele!C:C))","v":""},{"$f":"IF(B8493=\"\",\"\",LOOKUP(B8493,Spiele!B:B,Spiele!D:D))","v":""},{"$f":"IF(B8493=\"\",\"\",LOOKUP(B8493,Spiele!B:B,Spiele!E:E))","v":""},{"$f":"IF(B8493=\"\",\"\",LOOKUP(B8493,Spiele!B:B,Spiele!F:F))","v":""},"","","",null,null,-1,-1,1,0]
[null,null,{"$f":"IF(B8498=\"\",\"\",LOOKUP(B8498,Spiele!B:B,Spiele!C:C))","v":""},{"$f":"IF(B8498=\"\",\"\",LOOKUP(B8498,Spiele!B:B,Spiele!D:D))","v":""},{"$f":"IF(B8498=\"\",\"\",LOOKUP(B8498,Spiele!B:B,Spiele!E:E))","v":""},{"$f":"IF(B8498=\"\",\"\",LOOKUP(B8498,Spiele!B:B,Spiele!F:F))","v":""},"","","",null,null,-1,-1,1,0]
[null,null,{"$f":"IF(B8503=\"\",\"\",LOOKUP(B8503,Spiele!B:B,Spiele!C:C))","v":""},{"$f":"IF(B8503=\"\",\"\",LOOKUP(B8503,Spiele!B:B,Spiele!D:D))","v":""},{"$f":"IF(B8503=\"\",\"\",LOOKUP(B8503,Spiele!B:B,Spiele!E:E))","v":""},{"$f":"IF(B8503=\"\",\"\",LOOKUP(B8503,Spiele!B:B,Spiele!F:F))","v":""},"","","",null,null,-1,-1,1,0]
[null,null,{"$f":"IF(B8505=\"\",\"\",LOOKUP(B8505,Spiele!B:B,Spiele!C:C))","v":""},{"$f":"IF(B8505=\"\",\"\",LOOKUP(B8505,Spiele!B:B,Spiele!D:D))","v":""},{"$f":"IF(B8505=\"\",\"\",LOOKUP(B8505,Spiele!B:B,Spiele!E:E))","v":""},{"$f":"IF(B8505=\"\",\"\",LOOKUP(B8505,Spiele!B:B,Spiele!F:F))","v":""},"","","",null,null,-1,-1,1,0]
[null,null,{"$f":"IF(B8508=\"\",\"\",LOOKUP(B8508,Spiele!B:B,Spiele!C:C))","v":""},{"$f":"IF(B8508=\"\",\"\",LOOKUP(B8508,Spiele!B:B,Spiele!D:D))","v":""},{"$f":"IF(B8508=\"\",\"\",LOOKUP(B8508,Spiele!B:B,Spiele!E:E))","v":""},{"$f":"IF(B8508=\"\",\"\",LOOKUP(B8508,Spiele!B:B,Spiele!F:F))","v":""},"","","",null,null,-1,-1,1,0]
[null,null,{"$f":"IF(B8513=\"\",\"\",LOOKUP(B8513,Spiele!B:B,Spiele!C:C))","v":""},{"$f":"IF(B8513=\"\",\"\",LOOKUP(B8513,Spiele!B:B,Spiele!D:D))","v":""},{"$f":"IF(B8513=\"\",\"\",LOOKUP(B8513,Spiele!B:B,Spiele!E:E))","v":""},{"$f":"IF(B8513=\"\",\"\",LOOKUP(B8513,Spiele!B:B,Spiele!F:F))","v":""},"","","",null,null,-1,-1,1,0]
[null,null,{"$f":"IF(B8518=\"\",\"\",LOOKUP(B8518,Spiele!B:B,Spiele!C:C))","v":""},{"$f":"IF(B8518=\"\",\"\",LOOKUP(B8518,Spiele!B:B,Spiele!D:D))","v":""},{"$f":"IF(B8518=\"\",\"\",LOOKUP(B8518,Spiele!B:B,Spiele!E:E))","v":""},{"$f":"IF(B8518=\"\",\"\",LOOKUP(B8518,Spiele!B:B,Spiele!F:F))","v":""},"","","",null,null,-1,-1,1,0]
[null,null,{"$f":"IF(B8521=\"\",\"\",LOOKUP(B8521,Spiele!B:B,Spiele!C:C))","v":""},{"$f":"IF(B8521=\"\",\"\",LOOKUP(B8521,Spiele!B:B,Spiele!D:D))","v":""},{"$f":"IF(B8521=\"\",\"\",LOOKUP(B8521,Spiele!B:B,Spiele!E:E))","v":""},{"$f":"IF(B8521=\"\",\"\",LOOKUP(B8521,Spiele!B:B,Spiele!F:F))","v":""},"","","",null,null,-1,-1,1,0]
[null,null,{"$f":"IF(B8523=\"\",\"\",LOOKUP(B8523,Spiele!B:B,Spiele!C:C))","v":""},{"$f":"IF(B8523=\"\",\"\",LOOKUP(B8523,Spiele!B:B,Spiele!D:D))","v":""},{"$f":"IF(B8523=\"\",\"\",LOOKUP(B8523,Spiele!B:B,Spiele!E:E))","v":""},{"$f":"IF(B8523=\"\",\"\",LOOKUP(B8523,Spiele!B:B,Spiele!F:F))","v":""},"","","",null,null,-1,-1,1,0]
[null,null,{"$f":"IF(B8528=\"\",\"\",LOOKUP(B8528,Spiele!B:B,Spiele!C:C))","v":""},{"$f":"IF(B8528=\"\",\"\",LOOKUP(B8528,Spiele!B:B,Spiele!D:D))","v":""},{"$f":"IF(B8528=\"\",\"\",LOOKUP(B8528,Spiele!B:B,Spiele!E:E))","v":""},{"$f":"IF(B8528=\"\",\"\",LOOKUP(B8528,Spiele!B:B,Spiele!F:F))","v":""},"","","",null,null,-1,-1,1,0]
[null,null,{"$f":"IF(B8533=\"\",\"\",LOOKUP(B8533,Spiele!B:B,Spiele!C:C))","v":""},{"$f":"IF(B8533=\"\",\"\",LOOKUP(B8533,Spiele!B:B,Spiele!D:D))","v":""},{"$f":"IF(B8533=\"\",\"\",LOOKUP(B8533,Spiele!B:B,Spiele!E:E))","v":""},{"$f":"IF(B8533=\"\",\"\",LOOKUP(B8533,Spiele!B:B,Spiele!F:F))","v":""},"","","",null,null,-1,-1,1,0]
[null,null,{"$f":"IF(B8535=\"\",\"\",LOOKUP(B8535,Spiele!B:B,Spiele!C:C))","v":""},{"$f":"IF(B8535=\"\",\"\",LOOKUP(B8535,Spiele!B:B,Spiele!D:D))","v":""},{"$f":"IF(B8535=\"\",\"\",LOOKUP(B8535,Spiele!B:B,Spiele!E:E))","v":""},{"$f":"IF(B8535=\"\",\"\",LOOKUP(B8535,Spiele!B:B,Spiele!F:F))","v":""},"","","",null,null,-1,-1,1,0]
[null,null,{"$f":"IF(B8538=\"\",\"\",LOOKUP(B8538,Spiele!B:B,Spiele!C:C))","v":""},{"$f":"IF(B8538=\"\",\"\",LOOKUP(B8538,Spiele!B:B,Spiele!D:D))","v":""},{"$f":"IF(B8538=\"\",\"\",LOOKUP(B8538,Spiele!B:B,Spiele!E:E))","v":""},{"$f":"IF(B8538=\"\",\"\",LOOKUP(B8538,Spiele!B:B,Spiele!F:F))","v":""},"","","",null,null,-1,-1,1,0]
[null,null,{"$f":"IF(B8543=\"\",\"\",LOOKUP(B8543,Spiele!B:B,Spiele!C:C))","v":""},{"$f":"IF(B8543=\"\",\"\",LOOKUP(B8543,Spiele!B:B,Spiele!D:D))","v":""},{"$f":"IF(B8543=\"\",\"\",LOOKUP(B8543,Spiele!B:B,Spiele!E:E))","v":""},{"$f":"IF(B8543=\"\",\"\",LOOKUP(B8543,Spiele!B:B,Spiele!F:F))","v":""},"","","",null,null,-1,-1,1,0]
[null,null,{"$f":"IF(B8548=\"\",\"\",LOOKUP(B8548,Spiele!B:B,Spiele!C:C))","v":""},{"$f":"IF(B8548=\"\",\"\",LOOKUP(B8548,Spiele!B:B,Spiele!D:D))","v":""},{"$f":"IF(B8548=\"\",\"\",LOOKUP(B8548,Spiele!B:B,Spiele!E:E))","v":""},{"$f":"IF(B8548=\"\",\"\",LOOKUP(B8548,Spiele!B:B,Spiele!F:F))","v":""},"","","",null,null,-1,-1,1,0]
[null,null,{"$f":"IF(B8551=\"\",\"\",LOOKUP(B8551,Spiele!B:B,Spiele!C:C))","v":""},{"$f":"IF(B8551=\"\",\"\",LOOKUP(B8551,Spiele!B:B,Spiele!D:D))","v":""},{"$f":"IF(B8551=\"\",\"\",LOOKUP(B8551,Spiele!B:B,Spiele!E:E))","v":""},{"$f":"IF(B8551=\"\",\"\",LOOKUP(B8551,Spiele!B:B,Spiele!F:F))","v":""},"","","",null,null,-1,-1,1,0]
[null,null,{"$f":"IF(B8553=\"\",\"\",LOOKUP(B8553,Spiele!B:B,Spiele!C:C))","v":""},{"$f":"IF(B8553=\"\",\"\",LOOKUP(B8553,Spiele!B:B,Spiele!D:D))","v":""},{"$f":"IF(B8553=\"\",\"\",LOOKUP(B8553,Spiele!B:B,Spiele!E:E))","v":""},{"$f":"IF(B8553=\"\",\"\",LOOKUP(B8553,Spiele!B:B,Spiele!F:F))","v":""},"","","",null,null,-1,-1,1,0]
[null,null,{"$f":"IF(B8558=\"\",\"\",LOOKUP(B8558,Spiele!B:B,Spiele!C:C))","v":""},{"$f":"IF(B8558=\"\",\"\",LOOKUP(B8558,Spiele!B:B,Spiele!D:D))","v":""},{"$f":"IF(B8558=\"\",\"\",LOOKUP(B8558,Spiele!B:B,Spiele!E:E))","v":""},{"$f":"IF(B8558=\"\",\"\",LOOKUP(B8558,Spiele!B:B,Spiele!F:F))","v":""},"","","",null,null,-1,-1,1,0]
[null,null,{"$f":"IF(B8563=\"\",\"\",LOOKUP(B8563,Spiele!B:B,Spiele!C:C))","v":""},{"$f":"IF(B8563=\"\",\"\",LOOKUP(B8563,Spiele!B:B,Spiele!D:D))","v":""},{"$f":"IF(B8563=\"\",\"\",LOOKUP(B8563,Spiele!B:B,Spiele!E:E))","v":""},{"$f":"IF(B8563=\"\",\"\",LOOKUP(B8563,Spiele!B:B,Spiele!F:F))","v":""},"","","",null,null,-1,-1,1,0]
[null,null,{"$f":"IF(B8568=\"\",\"\",LOOKUP(B8568,Spiele!B:B,Spiele!C:C))","v":""},{"$f":"IF(B8568=\"\",\"\",LOOKUP(B8568,Spiele!B:B,Spiele!D:D))","v":""},{"$f":"IF(B8568=\"\",\"\",LOOKUP(B8568,Spiele!B:B,Spiele!E:E))","v":""},{"$f":"IF(B8568=\"\",\"\",LOOKUP(B8568,Spiele!B:B,Spiele!F:F))","v":""},"","","",null,null,-1,-1,1,0]
[null,null,{"$f":"IF(B8569=\"\",\"\",LOOKUP(B8569,Spiele!B:B,Spiele!C:C))","v":""},{"$f":"IF(B8569=\"\",\"\",LOOKUP(B8569,Spiele!B:B,Spiele!D:D))","v":""},{"$f":"IF(B8569=\"\",\"\",LOOKUP(B8569,Spiele!B:B,Spiele!E:E))","v":""},{"$f":"IF(B8569=\"\",\"\",LOOKUP(B8569,Spiele!B:B,Spiele!F:F))","v":""},"","","",null,null,-1,-1,1,0]
[null,null,{"$f":"IF(B8573=\"\",\"\",LOOKUP(B8573,Spiele!B:B,Spiele!C:C))","v":""},{"$f":"IF(B8573=\"\",\"\",LOOKUP(B8573,Spiele!B:B,Spiele!D:D))","v":""},{"$f":"IF(B8573=\"\",\"\",LOOKUP(B8573,Spiele!B:B,Spiele!E:E))","v":""},{"$f":"IF(B8573=\"\",\"\",LOOKUP(B8573,Spiele!B:B,Spiele!F:F))","v":""},"","","",null,null,-1,-1,1,0]
[null,null,{"$f":"IF(B8578=\"\",\"\",LOOKUP(B8578,Spiele!B:B,Spiele!C:C))","v":""},{"$f":"IF(B8578=\"\",\"\",LOOKUP(B8578,Spiele!B:B,Spiele!D:D))","v":""},{"$f":"IF(B8578=\"\",\"\",LOOKUP(B8578,Spiele!B:B,Spiele!E:E))","v":""},{"$f":"IF(B8578=\"\",\"\",LOOKUP(B8578,Spiele!B:B,Spiele!F:F))","v":""},"","","",null,null,-1,-1,1,0]
[null,null,{"$f":"IF(B8583=\"\",\"\",LOOKUP(B8583,Spiele!B:B,Spiele!C:C))","v":""},{"$f":"IF(B8583=\"\",\"\",LOOKUP(B8583,Spiele!B:B,Spiele!D:D))","v":""},{"$f":"IF(B8583=\"\",\"\",LOOKUP(B8583,Spiele!B:B,Spiele!E:E))","v":""},{"$f":"IF(B8583=\"\",\"\",LOOKUP(B8583,Spiele!B:B,Spiele!F:F))","v":""},"","","",null,null,-1,-1,1,0]
[null,null,{"$f":"IF(B8586=\"\",\"\",LOOKUP(B8586,Spiele!B:B,Spiele!C:C))","v":""},{"$f":"IF(B8586=\"\",\"\",LOOKUP(B8586,Spiele!B:B,Spiele!D:D))","v":""},{"$f":"IF(B8586=\"\",\"\",LOOKUP(B8586,Spiele!B:B,Spiele!E:E))","v":""},{"$f":"IF(B8586=\"\",\"\",LOOKUP(B8586,Spiele!B:B,Spiele!F:F))","v":""},"","","",null,null,-1,-1,1,0]
[null,null,{"$f":"IF(B8588=\"\",\"\",LOOKUP(B8588,Spiele!B:B,Spiele!C:C))","v":""},{"$f":"IF(B8588=\"\",\"\",LOOKUP(B8588,Spiele!B:B,Spiele!D:D))","v":""},{"$f":"IF(B8588=\"\",\"\",LOOKUP(B8588,Spiele!B:B,Spiele!E:E))","v":""},{"$f":"IF(B8588=\"\",\"\",LOOKUP(B8588,Spiele!B:B,Spiele!F:F))","v":""},"","","",null,null,-1,-1,1,0]
[null,null,{"$f":"IF(B8593=\"\",\"\",LOOKUP(B8593,Spiele!B:B,Spiele!C:C))","v":""},{"$f":"IF(B8593=\"\",\"\",LOOKUP(B8593,Spiele!B:B,Spiele!D:D))","v":""},{"$f":"IF(B8593=\"\",\"\",LOOKUP(B8593,Spiele!B:B,Spiele!E:E))","v":""},{"$f":"IF(B8593=\"\",\"\",LOOKUP(B8593,Spiele!B:B,Spiele!F:F))","v":""},"","","",null,null,-1,-1,1,0]
[null,null,{"$f":"IF(B8598=\"\",\"\",LOOKUP(B8598,Spiele!B:B,Spiele!C:C))","v":""},{"$f":"IF(B8598=\"\",\"\",LOOKUP(B8598,Spiele!B:B,Spiele!D:D))","v":""},{"$f":"IF(B8598=\"\",\"\",LOOKUP(B8598,Spiele!B:B,Spiele!E:E))","v":""},{"$f":"IF(B8598=\"\",\"\",LOOKUP(B8598,Spiele!B:B,Spiele!F:F))","v":""},"","","",null,null,-1,-1,1,0]
[null,null,{"$f":"IF(B8599=\"\",\"\",LOOKUP(B8599,Spiele!B:B,Spiele!C:C))","v":""},{"$f":"IF(B8599=\"\",\"\",LOOKUP(B8599,Spiele!B:B,Spiele!D:D))","v":""},{"$f":"IF(B8599=\"\",\"\",LOOKUP(B8599,Spiele!B:B,Spiele!E:E))","v":""},{"$f":"IF(B8599=\"\",\"\",LOOKUP(B8599,Spiele!B:B,Spiele!F:F))","v":""},"","","",null,null,-1,-1,1,0]
[null,null,{"$f":"IF(B8603=\"\",\"\",LOOKUP(B8603,Spiele!B:B,Spiele!C:C))","v":""},{"$f":"IF(B8603=\"\",\"\",LOOKUP(B8603,Spiele!B:B,Spiele!D:D))","v":""},{"$f":"IF(B8603=\"\",\"\",LOOKUP(B8603,Spiele!B:B,Spiele!E:E))","v":""},{"$f":"IF(B8603=\"\",\"\",LOOKUP(B8603,Spiele!B:B,Spiele!F:F))","v":""},"","","",null,null,-1,-1,1,0]
[null,null,{"$f":"IF(B8608=\"\",\"\",LOOKUP(B8608,Spiele!B:B,Spiele!C:C))","v":""},{"$f":"IF(B8608=\"\",\"\",LOOKUP(B8608,Spiele!B:B,Spiele!D:D))","v":""},{"$f":"IF(B8608=\"\",\"\",LOOKUP(B8608,Spiele!B:B,Spiele!E:E))","v":""},{"$f":"IF(B8608=\"\",\"\",LOOKUP(B8608,Spiele!B:B,Spiele!F:F))","v":""},{"$f":"IF(E8608=\"\",\"\",IF(E8608>F8608,1,0))","v":""},{"$f":"IF(F8608=\"\",\"\",IF(E8608<F8608,1,0))","v":""},{"$f":"IF(E8608=\"\",\"\",IF(E8608=F8608,1,0))","v":""},null,null,{"$f":"IF(E8608=\"\",-1,IF(J8608>K8608,1,-1))","v":-1},{"$f":"IF(F8608=\"\",-1,IF(J8608<K8608,1,-1))","v":-1},{"$f":"IF(E8608=\"-\",-1,IF(J8608=K8608,1,-1))","v":1},{"$f":"IF(E8608=\"\",0,IF(E8608=J8608,1,0)+IF(F8608=K8608,1,0)+IF(G8608=L8608,1,0)+IF(H8608=M8608,1,0)+IF(I8608=N8608,1,0))","v":0}]
[null,null,{"$f":"IF(B8613=\"\",\"\",LOOKUP(B8613,Spiele!B:B,Spiele!C:C))","v":""},{"$f":"IF(B8613=\"\",\"\",LOOKUP(B8613,Spiele!B:B,Spiele!D:D))","v":""},{"$f":"IF(B8613=\"\",\"\",LOOKUP(B8613,Spiele!B:B,Spiele!E:E))","v":""},{"$f":"IF(B8613=\"\",\"\",LOOKUP(B8613,Spiele!B:B,Spiele!F:F))","v":""},"","","",null,null,-1,-1,1,0]
[null,null,{"$f":"IF(B8616=\"\",\"\",LOOKUP(B8616,Spiele!B:B,Spiele!C:C))","v":""},{"$f":"IF(B8616=\"\",\"\",LOOKUP(B8616,Spiele!B:B,Spiele!D:D))","v":""},{"$f":"IF(B8616=\"\",\"\",LOOKUP(B8616,Spiele!B:B,Spiele!E:E))","v":""},{"$f":"IF(B8616=\"\",\"\",LOOKUP(B8616,Spiele!B:B,Spiele!F:F))","v":""},"","","",null,null,-1,-1,1,0]
[null,null,{"$f":"IF(B8618=\"\",\"\",LOOKUP(B8618,Spiele!B:B,Spiele!C:C))","v":""},{"$f":"IF(B8618=\"\",\"\",LOOKUP(B8618,Spiele!B:B,Spiele!D:D))","v":""},{"$f":"IF(B8618=\"\",\"\",LOOKUP(B8618,Spiele!B:B,Spiele!E:E))","v":""},{"$f":"IF(B8618=\"\",\"\",LOOKUP(B8618,Spiele!B:B,Spiele!F:F))","v":""},"","","",null,null,-1,-1,1,0]
[null,null,{"$f":"IF(B8623=\"\",\"\",LOOKUP(B8623,Spiele!B:B,Spiele!C:C))","v":""},{"$f":"IF(B8623=\"\",\"\",LOOKUP(B8623,Spiele!B:B,Spiele!D:D))","v":""},{"$f":"IF(B8623=\"\",\"\",LOOKUP(B8623,Spiele!B:B,Spiele!E:E))","v":""},{"$f":"IF(B8623=\"\",\"\",LOOKUP(B8623,Spiele!B:B,Spiele!F:F))","v":""},"","","",null,null,-1,-1,1,0]
[null,null,{"$f":"IF(B8628=\"\",\"\",LOOKUP(B8628,Spiele!B:B,Spiele!C:C))","v":""},{"$f":"IF(B8628=\"\",\"\",LOOKUP(B8628,Spiele!B:B,Spiele!D:D))","v":""},{"$f":"IF(B8628=\"\",\"\",LOOKUP(B8628,Spiele!B:B,Spiele!E:E))","v":""},{"$f":"IF(B8628=\"\",\"\",LOOKUP(B8628,Spiele!B:B,Spiele!F:F))","v":""},"","","",null,null,-1,-1,1,0]
[null,null,{"$f":"IF(B8629=\"\",\"\",LOOKUP(B8629,Spiele!B:B,Spiele!C:C))","v":""},{"$f":"IF(B8629=\"\",\"\",LOOKUP(B8629,Spiele!B:B,Spiele!D:D))","v":""},{"$f":"IF(B8629=\"\",\"\",LOOKUP(B8629,Spiele!B:B,Spiele!E:E))","v":""},{"$f":"IF(B8629=\"\",\"\",LOOKUP(B8629,Spiele!B:B,Spiele!F:F))","v":""},"","","",null,null,-1,-1,1,0]
[null,null,{"$f":"IF(B8633=\"\",\"\",LOOKUP(B8633,Spiele!B:B,Spiele!C:C))","v":""},{"$f":"IF(B8633=\"\",\"\",LOOKUP(B8633,Spiele!B:B,Spiele!D:D))","v":""},{"$f":"IF(B8633=\"\",\"\",LOOKUP(B8633,Spiele!B:B,Spiele!E:E))","v":""},{"$f":"IF(B8633=\"\",\"\",LOOKUP(B8633,Spiele!B:B,Spiele!F:F))","v":""},"","","",null,null,-1,-1,1,0]
[null,null,{"$f":"IF(B8638=\"\",\"\",LOOKUP(B8638,Spiele!B:B,Spiele!C:C))","v":""},{"$f":"IF(B8638=\"\",\"\",LOOKUP(B8638,Spiele!B:B,Spiele!D:D))","v":""},{"$f":"IF(B8638=\"\",\"\",LOOKUP(B8638,Spiele!B:B,Spiele!E:E))","v":""},{"$f":"IF(B8638=\"\",\"\",LOOKUP(B8638,Spiele!B:B,Spiele!F:F))","v":""},"","","",null,null,-1,-1,1,0]
[null,null,{"$f":"IF(B8643=\"\",\"\",LOOKUP(B8643,Spiele!B:B,Spiele!C:C))","v":""},{"$f":"IF(B8643=\"\",\"\",LOOKUP(B8643,Spiele!B:B,Spiele!D:D))","v":""},{"$f":"IF(B8643=\"\",\"\",LOOKUP(B8643,Spiele!B:B,Spiele!E:E))","v":""},{"$f":"IF(B8643=\"\",\"\",LOOKUP(B8643,Spiele!B:B,Spiele!F:F))","v":""},"","","",null,null,-1,-1,1,0]
[null,null,{"$f":"IF(B8646=\"\",\"\",LOOKUP(B8646,Spiele!B:B,Spiele!C:C))","v":""},{"$f":"IF(B8646=\"\",\"\",LOOKUP(B8646,Spiele!B:B,Spiele!D:D))","v":""},{"$f":"IF(B8646=\"\",\"\",LOOKUP(B8646,Spiele!B:B,Spiele!E:E))","v":""},{"$f":"IF(B8646=\"\",\"\",LOOKUP(B8646,Spiele!B:B,Spiele!F:F))","v":""},"","","",null,null,-1,-1,1,0]
[null,null,{"$f":"IF(B8648=\"\",\"\",LOOKUP(B8648,Spiele!B:B,Spiele!C:C))","v":""},{"$f":"IF(B8648=\"\",\"\",LOOKUP(B8648,Spiele!B:B,Spiele!D:D))","v":""},{"$f":"IF(B8648=\"\",\"\",LOOKUP(B8648,Spiele!B:B,Spiele!E:E))","v":""},{"$f":"IF(B8648=\"\",\"\",LOOKUP(B8648,Spiele!B:B,Spiele!F:F))","v":""},"","","",null,null,-1,-1,1,0]
[null,null,{"$f":"IF(B8653=\"\",\"\",LOOKUP(B8653,Spiele!B:B,Spiele!C:C))","v":""},{"$f":"IF(B8653=\"\",\"\",LOOKUP(B8653,Spiele!B:B,Spiele!D:D))","v":""},{"$f":"IF(B8653=\"\",\"\",LOOKUP(B8653,Spiele!B:B,Spiele!E:E))","v":""},{"$f":"IF(B8653=\"\",\"\",LOOKUP(B8653,Spiele!B:B,Spiele!F:F))","v":""},"","","",null,null,-1,-1,1,0]
[null,null,{"$f":"IF(B8658=\"\",\"\",LOOKUP(B8658,Spiele!B:B,Spiele!C:C))","v":""},{"$f":"IF(B8658=\"\",\"\",LOOKUP(B8658,Spiele!B:B,Spiele!D:D))","v":""},{"$f":"IF(B8658=\"\",\"\",LOOKUP(B8658,Spiele!B:B,Spiele!E:E))","v":""},{"$f":"IF(B8658=\"\",\"\",LOOKUP(B8658,Spiele!B:B,Spiele!F:F))","v":""},"","","",null,null,-1,-1,1,0]
[null,null,{"$f":"IF(B8659=\"\",\"\",LOOKUP(B8659,Spiele!B:B,Spiele!C:C))","v":""},{"$f":"IF(B8659=\"\",\"\",LOOKUP(B8659,Spiele!B:B,Spiele!D:D))","v":""},{"$f":"IF(B8659=\"\",\"\",LOOKUP(B8659,Spiele!B:B,Spiele!E:E))","v":""},{"$f":"IF(B8659=\"\",\"\",LOOKUP(B8659,Spiele!B:B,Spiele!F:F))","v":""},"","","",null,null,-1,-1,1,0]
[null,null,{"$f":"IF(B8663=\"\",\"\",LOOKUP(B8663,Spiele!B:B,Spiele!C:C))","v":""},{"$f":"IF(B8663=\"\",\"\",LOOKUP(B8663,Spiele!B:B,Spiele!D:D))","v":""},{"$f":"IF(B8663=\"\",\"\",LOOKUP(B8663,Spiele!B:B,Spiele!E:E))","v":""},{"$f":"IF(B8663=\"\",\"\",LOOKUP(B8663,Spiele!B:B,Spiele!F:F))","v":""},"","","",null,null,-1,-1,1,0]
[null,null,{"$f":"IF(B8668=\"\",\"\",LOOKUP(B8668,Spiele!B:B,Spiele!C:C))","v":""},{"$f":"IF(B8668=\"\",\"\",LOOKUP(B8668,Spiele!B:B,Spiele!D:D))","v":""},{"$f":"IF(B8668=\"\",\"\",LOOKUP(B8668,Spiele!B:B,Spiele!E:E))","v":""},{"$f":"IF(B8668=\"\",\"\",LOOKUP(B8668,Spiele!B:B,Spiele!F:F))","v":""},"","","",null,null,-1,-1,1,0]
[null,null,{"$f":"IF(B8673=\"\",\"\",LOOKUP(B8673,Spiele!B:B,Spiele!C:C))","v":""},{"$f":"IF(B8673=\"\",\"\",LOOKUP(B8673,Spiele!B:B,Spiele!D:D))","v":""},{"$f":"IF(B8673=\"\",\"\",LOOKUP(B8673,Spiele!B:B,Spiele!E:E))","v":""},{"$f":"IF(B8673=\"\",\"\",LOOKUP(B8673,Spiele!B:B,Spiele!F:F))","v":""},"","","",null,null,-1,-1,1,0]
[null,null,{"$f":"IF(B8676=\"\",\"\",LOOKUP(B8676,Spiele!B:B,Spiele!C:C))","v":""},{"$f":"IF(B8676=\"\",\"\",LOOKUP(B8676,Spiele!B:B,Spiele!D:D))","v":""},{"$f":"IF(B8676=\"\",\"\",LOOKUP(B8676,Spiele!B:B,Spiele!E:E))","v":""},{"$f":"IF(B8676=\"\",\"\",LOOKUP(B8676,Spiele!B:B,Spiele!F:F))","v":""},"","","",null,null,-1,-1,1,0]
[null,null,{"$f":"IF(B8678=\"\",\"\",LOOKUP(B8678,Spiele!B:B,Spiele!C:C))","v":""},{"$f":"IF(B8678=\"\",\"\",LOOKUP(B8678,Spiele!B:B,Spiele!D:D))","v":""},{"$f":"IF(B8678=\"\",\"\",LOOKUP(B8678,Spiele!B:B,Spiele!E:E))","v":""},{"$f":"IF(B8678=\"\",\"\",LOOKUP(B8678,Spiele!B:B,Spiele!F:F))","v":""},"","","",null,null,-1,-1,1,0]
[null,null,{"$f":"IF(B8683=\"\",\"\",LOOKUP(B8683,Spiele!B:B,Spiele!C:C))","v":""},{"$f":"IF(B8683=\"\",\"\",LOOKUP(B8683,Spiele!B:B,Spiele!D:D))","v":""},{"$f":"IF(B8683=\"\",\"\",LOOKUP(B8683,Spiele!B:B,Spiele!E:E))","v":""},{"$f":"IF(B8683=\"\",\"\",LOOKUP(B8683,Spiele!B:B,Spiele!F:F))","v":""},"","","",null,null,-1,-1,1,0]
[null,null,{"$f":"IF(B8688=\"\",\"\",LOOKUP(B8688,Spiele!B:B,Spiele!C:C))","v":""},{"$f":"IF(B8688=\"\",\"\",LOOKUP(B8688,Spiele!B:B,Spiele!D:D))","v":""},{"$f":"IF(B8688=\"\",\"\",LOOKUP(B8688,Spiele!B:B,Spiele!E:E))","v":""},{"$f":"IF(B8688=\"\",\"\",LOOKUP(B8688,Spiele!B:B,Spiele!F:F))","v":""},"","","",null,null,-1,-1,1,0]
[null,null,{"$f":"IF(B8690=\"\",\"\",LOOKUP(B8690,Spiele!B:B,Spiele!C:C))","v":""},{"$f":"IF(B8690=\"\",\"\",LOOKUP(B8690,Spiele!B:B,Spiele!D:D))","v":""},{"$f":"IF(B8690=\"\",\"\",LOOKUP(B8690,Spiele!B:B,Spiele!E:E))","v":""},{"$f":"IF(B8690=\"\",\"\",LOOKUP(B8690,Spiele!B:B,Spiele!F:F))","v":""},"","","",null,null,-1,-1,1,0]
[null,null,{"$f":"IF(B8693=\"\",\"\",LOOKUP(B8693,Spiele!B:B,Spiele!C:C))","v":""},{"$f":"IF(B8693=\"\",\"\",LOOKUP(B8693,Spiele!B:B,Spiele!D:D))","v":""},{"$f":"IF(B8693=\"\",\"\",LOOKUP(B8693,Spiele!B:B,Spiele!E:E))","v":""},{"$f":"IF(B8693=\"\",\"\",LOOKUP(B8693,Spiele!B:B,Spiele!F:F))","v":""},"","","",null,null,-1,-1,1,0]
[null,null,{"$f":"IF(B8698=\"\",\"\",LOOKUP(B8698,Spiele!B:B,Spiele!C:C))","v":""},{"$f":"IF(B8698=\"\",\"\",LOOKUP(B8698,Spiele!B:B,Spiele!D:D))","v":""},{"$f":"IF(B8698=\"\",\"\",LOOKUP(B8698,Spiele!B:B,Spiele!E:E))","v":""},{"$f":"IF(B8698=\"\",\"\",LOOKUP(B8698,Spiele!B:B,Spiele!F:F))","v":""},"","","",null,null,-1,-1,1,0]
[null,null,{"$f":"IF(B8703=\"\",\"\",LOOKUP(B8703,Spiele!B:B,Spiele!C:C))","v":""},{"$f":"IF(B8703=\"\",\"\",LOOKUP(B8703,Spiele!B:B,Spiele!D:D))","v":""},{"$f":"IF(B8703=\"\",\"\",LOOKUP(B8703,Spiele!B:B,Spiele!E:E))","v":""},{"$f":"IF(B8703=\"\",\"\",LOOKUP(B8703,Spiele!B:B,Spiele!F:F))","v":""},"","","",null,null,-1,-1,1,0]
[null,null,{"$f":"IF(B8706=\"\",\"\",LOOKUP(B8706,Spiele!B:B,Spiele!C:C))","v":""},{"$f":"IF(B8706=\"\",\"\",LOOKUP(B8706,Spiele!B:B,Spiele!D:D))","v":""},{"$f":"IF(B8706=\"\",\"\",LOOKUP(B8706,Spiele!B:B,Spiele!E:E))","v":""},{"$f":"IF(B8706=\"\",\"\",LOOKUP(B8706,Spiele!B:B,Spiele!F:F))","v":""},"","","",null,null,-1,-1,1,0]
[null,null,{"$f":"IF(B8708=\"\",\"\",LOOKUP(B8708,Spiele!B:B,Spiele!C:C))","v":""},{"$f":"IF(B8708=\"\",\"\",LOOKUP(B8708,Spiele!B:B,Spiele!D:D))","v":""},{"$f":"IF(B8708=\"\",\"\",LOOKUP(B8708,Spiele!B:B,Spiele!E:E))","v":""},{"$f":"IF(B8708=\"\",\"\",LOOKUP(B8708,Spiele!B:B,Spiele!F:F))","v":""},"","","",null,null,-1,-1,1,0]
[null,null,{"$f":"IF(B8713=\"\",\"\",LOOKUP(B8713,Spiele!B:B,Spiele!C:C))","v":""},{"$f":"IF(B8713=\"\",\"\",LOOKUP(B8713,Spiele!B:B,Spiele!D:D))","v":""},{"$f":"IF(B8713=\"\",\"\",LOOKUP(B8713,Spiele!B:B,Spiele!E:E))","v":""},{"$f":"IF(B8713=\"\",\"\",LOOKUP(B8713,Spiele!B:B,Spiele!F:F))","v":""},"","","",null,null,-1,-1,1,0]
[null,null,{"$f":"IF(B8718=\"\",\"\",LOOKUP(B8718,Spiele!B:B,Spiele!C:C))","v":""},{"$f":"IF(B8718=\"\",\"\",LOOKUP(B8718,Spiele!B:B,Spiele!D:D))","v":""},{"$f":"IF(B8718=\"\",\"\",LOOKUP(B8718,Spiele!B:B,Spiele!E:E))","v":""},{"$f":"IF(B8718=\"\",\"\",LOOKUP(B8718,Spiele!B:B,Spiele!F:F))","v":""},"","","",null,null,-1,-1,1,0]
[null,null,{"$f":"IF(B8720=\"\",\"\",LOOKUP(B8720,Spiele!B:B,Spiele!C:C))","v":""},{"$f":"IF(B8720=\"\",\"\",LOOKUP(B8720,Spiele!B:B,Spiele!D:D))","v":""},{"$f":"IF(B8720=\"\",\"\",LOOKUP(B8720,Spiele!B:B,Spiele!E:E))","v":""},{"$f":"IF(B8720=\"\",\"\",LOOKUP(B8720,Spiele!B:B,Spiele!F:F))","v":""},"","","",null,null,-1,-1,1,0]
[null,null,{"$f":"IF(B8723=\"\",\"\",LOOKUP(B8723,Spiele!B:B,Spiele!C:C))","v":""},{"$f":"IF(B8723=\"\",\"\",LOOKUP(B8723,Spiele!B:B,Spiele!D:D))","v":""},{"$f":"IF(B8723=\"\",\"\",LOOKUP(B8723,Spiele!B:B,Spiele!E:E))","v":""},{"$f":"IF(B8723=\"\",\"\",LOOKUP(B8723,Spiele!B:B,Spiele!F:F))","v":""},"","","",null,null,-1,-1,1,0]
[null,null,{"$f":"IF(B8728=\"\",\"\",LOOKUP(B8728,Spiele!B:B,Spiele!C:C))","v":""},{"$f":"IF(B8728=\"\",\"\",LOOKUP(B8728,Spiele!B:B,Spiele!D:D))","v":""},{"$f":"IF(B8728=\"\",\"\",LOOKUP(B8728,Spiele!B:B,Spiele!E:E))","v":""},{"$f":"IF(B8728=\"\",\"\",LOOKUP(B8728,Spiele!B:B,Spiele!F:F))","v":""},"","","",null,null,-1,-1,1,0]
[null,null,{"$f":"IF(B8733=\"\",\"\",LOOKUP(B8733,Spiele!B:B,Spiele!C:C))","v":""},{"$f":"IF(B8733=\"\",\"\",LOOKUP(B8733,Spiele!B:B,Spiele!D:D))","v":""},{"$f":"IF(B8733=\"\",\"\",LOOKUP(B8733,Spiele!B:B,Spiele!E:E))","v":""},{"$f":"IF(B8733=\"\",\"\",LOOKUP(B8733,Spiele!B:B,Spiele!F:F))","v":""},"","","",null,null,-1,-1,1,0]
[null,null,{"$f":"IF(B8736=\"\",\"\",LOOKUP(B8736,Spiele!B:B,Spiele!C:C))","v":""},{"$f":"IF(B8736=\"\",\"\",LOOKUP(B8736,Spiele!B:B,Spiele!D:D))","v":""},{"$f":"IF(B8736=\"\",\"\",LOOKUP(B8736,Spiele!B:B,Spiele!E:E))","v":""},{"$f":"IF(B8736=\"\",\"\",LOOKUP(B8736,Spiele!B:B,Spiele!F:F))","v":""},{"$f":"IF(E8736=\"\",\"\",IF(E8736>F8736,1,0))","v":""},{"$f":"IF(F8736=\"\",\"\",IF(E8736<F8736,1,0))","v":""},{"$f":"IF(E8736=\"\",\"\",IF(E8736=F8736,1,0))","v":""},null,null,{"$f":"IF(E8736=\"\",-1,IF(J8736>K8736,1,-1))","v":-1},{"$f":"IF(F8736=\"\",-1,IF(J8736<K8736,1,-1))","v":-1},{"$f":"IF(E8736=\"-\",-1,IF(J8736=K8736,1,-1))","v":1},{"$f":"IF(E8736=\"\",0,IF(E8736=J8736,1,0)+IF(F8736=K8736,1,0)+IF(G8736=L8736,1,0)+IF(H8736=M8736,1,0)+IF(I8736=N8736,1,0))","v":0}]
[null,null,{"$f":"IF(B8738=\"\",\"\",LOOKUP(B8738,Spiele!B:B,Spiele!C:C))","v":""},{"$f":"IF(B8738=\"\",\"\",LOOKUP(B8738,Spiele!B:B,Spiele!D:D))","v":""},{"$f":"IF(B8738=\"\",\"\",LOOKUP(B8738,Spiele!B:B,Spiele!E:E))","v":""},{"$f":"IF(B8738=\"\",\"\",LOOKUP(B8738,Spiele!B:B,Spiele!F:F))","v":""},"","","",null,null,-1,-1,1,0]
[null,null,{"$f":"IF(B8743=\"\",\"\",LOOKUP(B8743,Spiele!B:B,Spiele!C:C))","v":""},{"$f":"IF(B8743=\"\",\"\",LOOKUP(B8743,Spiele!B:B,Spiele!D:D))","v":""},{"$f":"IF(B8743=\"\",\"\",LOOKUP(B8743,Spiele!B:B,Spiele!E:E))","v":""},{"$f":"IF(B8743=\"\",\"\",LOOKUP(B8743,Spiele!B:B,Spiele!F:F))","v":""},"","","",null,null,-1,-1,1,0]
[null,null,{"$f":"IF(B8748=\"\",\"\",LOOKUP(B8748,Spiele!B:B,Spiele!C:C))","v":""},{"$f":"IF(B8748=\"\",\"\",LOOKUP(B8748,Spiele!B:B,Spiele!D:D))","v":""},{"$f":"IF(B8748=\"\",\"\",LOOKUP(B8748,Spiele!B:B,Spiele!E:E))","v":""},{"$f":"IF(B8748=\"\",\"\",LOOKUP(B8748,Spiele!B:B,Spiele!F:F))","v":""},"","","",null,null,-1,-1,1,0]
[null,null,{"$f":"IF(B8750=\"\",\"\",LOOKUP(B8750,Spiele!B:B,Spiele!C:C))","v":""},{"$f":"IF(B8750=\"\",\"\",LOOKUP(B8750,Spiele!B:B,Spiele!D:D))","v":""},{"$f":"IF(B8750=\"\",\"\",LOOKUP(B8750,Spiele!B:B,Spiele!E:E))","v":""},{"$f":"IF(B8750=\"\",\"\",LOOKUP(B8750,Spiele!B:B,Spiele!F:F))","v":""},"","","",null,null,-1,-1,1,0]
[null,null,{"$f":"IF(B8753=\"\",\"\",LOOKUP(B8753,Spiele!B:B,Spiele!C:C))","v":""},{"$f":"IF(B8753=\"\",\"\",LOOKUP(B8753,Spiele!B:B,Spiele!D:D))","v":""},{"$f":"IF(B8753=\"\",\"\",LOOKUP(B8753,Spiele!B:B,Spiele!E:E))","v":""},{"$f":"IF(B8753=\"\",\"\",LOOKUP(B8753,Spiele!B:B,Spiele!F:F))","v":""},"","","",null,null,-1,-1,1,0]
[null,null,{"$f":"IF(B8758=\"\",\"\",LOOKUP(B8758,Spiele!B:B,Spiele!C:C))","v":""},{"$f":"IF(B8758=\"\",\"\",LOOKUP(B8758,Spiele!B:B,Spiele!D:D))","v":""},{"$f":"IF(B8758=\"\",\"\",LOOKUP(B8758,Spiele!B:B,Spiele!E:E))","v":""},{"$f":"IF(B8758=\"\",\"\",LOOKUP(B8758,Spiele!B:B,Spiele!F:F))","v":""},"","","",null,null,-1,-1,1,0]
[null,null,{"$f":"IF(B8763=\"\",\"\",LOOKUP(B8763,Spiele!B:B,Spiele!C:C))","v":""},{"$f":"IF(B8763=\"\",\"\",LOOKUP(B8763,Spiele!B:B,Spiele!D:D))","v":""},{"$f":"IF(B8763=\"\",\"\",LOOKUP(B8763,Spiele!B:B,Spiele!E:E))","v":""},{"$f":"IF(B8763=\"\",\"\",LOOKUP(B8763,Spiele!B:B,Spiele!F:F))","v":""},"","","",null,null,-1,-1,1,0]
[null,null,{"$f":"IF(B8766=\"\",\"\",LOOKUP(B8766,Spiele!B:B,Spiele!C:C))","v":""},{"$f":"IF(B8766=\"\",\"\",LOOKUP(B8766,Spiele!B:B,Spiele!D:D))","v":""},{"$f":"IF(B8766=\"\",\"\",LOOKUP(B8766,Spiele!B:B,Spiele!E:E))","v":""},{"$f":"IF(B8766=\"\",\"\",LOOKUP(B8766,Spiele!B:B,Spiele!F:F))","v":""},"","","",null,null,-1,-1,1,0]
[null,null,{"$f":"IF(B8768=\"\",\"\",LOOKUP(B8768,Spiele!B:B,Spiele!C:C))","v":""},{"$f":"IF(B8768=\"\",\"\",LOOKUP(B8768,Spiele!B:B,Spiele!D:D))","v":""},{"$f":"IF(B8768=\"\",\"\",LOOKUP(B8768,Spiele!B:B,Spiele!E:E))","v":""},{"$f":"IF(B8768=\"\",\"\",LOOKUP(B8768,Spiele!B:B,Spiele!F:F))","v":""},"","","",null,null,-1,-1,1,0]
[null,null,{"$f":"IF(B8773=\"\",\"\",LOOKUP(B8773,Spiele!B:B,Spiele!C:C))","v":""},{"$f":"IF(B8773=\"\",\"\",LOOKUP(B8773,Spiele!B:B,Spiele!D:D))","v":""},{"$f":"IF(B8773=\"\",\"\",LOOKUP(B8773,Spiele!B:B,Spiele!E:E))","v":""},{"$f":"IF(B8773=\"\",\"\",LOOKUP(B8773,Spiele!B:B,Spiele!F:F))","v":""},"","","",null,null,-1,-1,1,0]
[null,null,{"$f":"IF(B8778=\"\",\"\",LOOKUP(B8778,Spiele!B:B,Spiele!C:C))","v":""},{"$f":"IF(B8778=\"\",\"\",LOOKUP(B8778,Spiele!B:B,Spiele!D:D))","v":""},{"$f":"IF(B8778=\"\",\"\",LOOKUP(B8778,Spiele!B:B,Spiele!E:E))","v":""},{"$f":"IF(B8778=\"\",\"\",LOOKUP(B8778,Spiele!B:B,Spiele!F:F))","v":""},"","","",null,null,-1,-1,1,0]
[null,null,{"$f":"IF(B8780=\"\",\"\",LOOKUP(B8780,Spiele!B:B,Spiele!C:C))","v":""},{"$f":"IF(B8780=\"\",\"\",LOOKUP(B8780,Spiele!B:B,Spiele!D:D))","v":""},{"$f":"IF(B8780=\"\",\"\",LOOKUP(B8780,Spiele!B:B,Spiele!E:E))","v":""},{"$f":"IF(B8780=\"\",\"\",LOOKUP(B8780,Spiele!B:B,Spiele!F:F))","v":""},"","","",null,null,-1,-1,1,0]
[null,null,{"$f":"IF(B8783=\"\",\"\",LOOKUP(B8783,Spiele!B:B,Spiele!C:C))","v":""},{"$f":"IF(B8783=\"\",\"\",LOOKUP(B8783,Spiele!B:B,Spiele!D:D))","v":""},{"$f":"IF(B8783=\"\",\"\",LOOKUP(B8783,Spiele!B:B,Spiele!E:E))","v":""},{"$f":"IF(B8783=\"\",\"\",LOOKUP(B8783,Spiele!B:B,Spiele!F:F))","v":""},"","","",null,null,-1,-1,1,0]
[null,null,{"$f":"IF(B8788=\"\",\"\",LOOKUP(B8788,Spiele!B:B,Spiele!C:C))","v":""},{"$f":"IF(B8788=\"\",\"\",LOOKUP(B8788,Spiele!B:B,Spiele!D:D))","v":""},{"$f":"IF(B8788=\"\",\"\",LOOKUP(B8788,Spiele!B:B,Spiele!E:E))","v":""},{"$f":"IF(B8788=\"\",\"\",LOOKUP(B8788,Spiele!B:B,Spiele!F:F))","v":""},"","","",null,null,-1,-1,1,0]
[null,null,{"$f":"IF(B8793=\"\",\"\",LOOKUP(B8793,Spiele!B:B,Spiele!C:C))","v":""},{"$f":"IF(B8793=\"\",\"\",LOOKUP(B8793,Spiele!B:B,Spiele!D:D))","v":""},{"$f":"IF(B8793=\"\",\"\",LOOKUP(B8793,Spiele!B:B,Spiele!E:E))","v":""},{"$f":"IF(B8793=\"\",\"\",LOOKUP(B8793,Spiele!B:B,Spiele!F:F))","v":""},"","","",null,null,-1,-1,1,0]
[null,null,{"$f":"IF(B8796=\"\",\"\",LOOKUP(B8796,Spiele!B:B,Spiele!C:C))","v":""},{"$f":"IF(B8796=\"\",\"\",LOOKUP(B8796,Spiele!B:B,Spiele!D:D))","v":""},{"$f":"IF(B8796=\"\",\"\",LOOKUP(B8796,Spiele!B:B,Spiele!E:E))","v":""},{"$f":"IF(B8796=\"\",\"\",LOOKUP(B8796,Spiele!B:B,Spiele!F:F))","v":""},"","","",null,null,-1,-1,1,0]
[null,null,{"$f":"IF(B8798=\"\",\"\",LOOKUP(B8798,Spiele!B:B,Spiele!C:C))","v":""},{"$f":"IF(B8798=\"\",\"\",LOOKUP(B8798,Spiele!B:B,Spiele!D:D))","v":""},{"$f":"IF(B8798=\"\",\"\",LOOKUP(B8798,Spiele!B:B,Spiele!E:E))","v":""},{"$f":"IF(B8798=\"\",\"\",LOOKUP(B8798,Spiele!B:B,Spiele!F:F))","v":""},"","","",null,null,-1,-1,1,0]
[null,null,{"$f":"IF(B8803=\"\",\"\",LOOKUP(B8803,Spiele!B:B,Spiele!C:C))","v":""},{"$f":"IF(B8803=\"\",\"\",LOOKUP(B8803,Spiele!B:B,Spiele!D:D))","v":""},{"$f":"IF(B8803=\"\",\"\",LOOKUP(B8803,Spiele!B:B,Spiele!E:E))","v":""},{"$f":"IF(B8803=\"\",\"\",LOOKUP(B8803,Spiele!B:B,Spiele!F:F))","v":""},"","","",null,null,-1,-1,1,0]
[null,null,{"$f":"IF(B8808=\"\",\"\",LOOKUP(B8808,Spiele!B:B,Spiele!C:C))","v":""},{"$f":"IF(B8808=\"\",\"\",LOOKUP(B8808,Spiele!B:B,Spiele!D:D))","v":""},{"$f":"IF(B8808=\"\",\"\",LOOKUP(B8808,Spiele!B:B,Spiele!E:E))","v":""},{"$f":"IF(B8808=\"\",\"\",LOOKUP(B8808,Spiele!B:B,Spiele!F:F))","v":""},"","","",null,null,-1,-1,1,0]
[null,null,{"$f":"IF(B8810=\"\",\"\",LOOKUP(B8810,Spiele!B:B,Spiele!C:C))","v":""},{"$f":"IF(B8810=\"\",\"\",LOOKUP(B8810,Spiele!B:B,Spiele!D:D))","v":""},{"$f":"IF(B8810=\"\",\"\",LOOKUP(B8810,Spiele!B:B,Spiele!E:E))","v":""},{"$f":"IF(B8810=\"\",\"\",LOOKUP(B8810,Spiele!B:B,Spiele!F:F))","v":""},"","","",null,null,-1,-1,1,0]
[null,null,{"$f":"IF(B8813=\"\",\"\",LOOKUP(B8813,Spiele!B:B,Spiele!C:C))","v":""},{"$f":"IF(B8813=\"\",\"\",LOOKUP(B8813,Spiele!B:B,Spiele!D:D))","v":""},{"$f":"IF(B8813=\"\",\"\",LOOKUP(B8813,Spiele!B:B,Spiele!E:E))","v":""},{"$f":"IF(B8813=\"\",\"\",LOOKUP(B8813,Spiele!B:B,Spiele!F:F))","v":""},"","","",null,null,-1,-1,1,0]
[null,null,{"$f":"IF(B8818=\"\",\"\",LOOKUP(B8818,Spiele!B:B,Spiele!C:C))","v":""},{"$f":"IF(B8818=\"\",\"\",LOOKUP(B8818,Spiele!B:B,Spiele!D:D))","v":""},{"$f":"IF(B8818=\"\",\"\",LOOKUP(B8818,Spiele!B:B,Spiele!E:E))","v":""},{"$f":"IF(B8818=\"\",\"\",LOOKUP(B8818,Spiele!B:B,Spiele!F:F))","v":""},"","","",null,null,-1,-1,1,0]
[null,null,{"$f":"IF(B8823=\"\",\"\",LOOKUP(B8823,Spiele!B:B,Spiele!C:C))","v":""},{"$f":"IF(B8823=\"\",\"\",LOOKUP(B8823,Spiele!B:B,Spiele!D:D))","v":""},{"$f":"IF(B8823=\"\",\"\",LOOKUP(B8823,Spiele!B:B,Spiele!E:E))","v":""},{"$f":"IF(B8823=\"\",\"\",LOOKUP(B8823,Spiele!B:B,Spiele!F:F))","v":""},"","","",null,null,-1,-1,1,0]
[null,null,{"$f":"IF(B8826=\"\",\"\",LOOKUP(B8826,Spiele!B:B,Spiele!C:C))","v":""},{"$f":"IF(B8826=\"\",\"\",LOOKUP(B8826,Spiele!B:B,Spiele!D:D))","v":""},{"$f":"IF(B8826=\"\",\"\",LOOKUP(B8826,Spiele!B:B,Spiele!E:E))","v":""},{"$f":"IF(B8826=\"\",\"\",LOOKUP(B8826,Spiele!B:B,Spiele!F:F))","v":""},"","","",null,null,-1,-1,1,0]
[null,null,{"$f":"IF(B8828=\"\",\"\",LOOKUP(B8828,Spiele!B:B,Spiele!C:C))","v":""},{"$f":"IF(B8828=\"\",\"\",LOOKUP(B8828,Spiele!B:B,Spiele!D:D))","v":""},{"$f":"IF(B8828=\"\",\"\",LOOKUP(B8828,Spiele!B:B,Spiele!E:E))","v":""},{"$f":"IF(B8828=\"\",\"\",LOOKUP(B8828,Spiele!B:B,Spiele!F:F))","v":""},"","","",null,null,-1,-1,1,0]
[null,null,{"$f":"IF(B8833=\"\",\"\",LOOKUP(B8833,Spiele!B:B,Spiele!C:C))","v":""},{"$f":"IF(B8833=\"\",\"\",LOOKUP(B8833,Spiele!B:B,Spiele!D:D))","v":""},{"$f":"IF(B8833=\"\",\"\",LOOKUP(B8833,Spiele!B:B,Spiele!E:E))","v":""},{"$f":"IF(B8833=\"\",\"\",LOOKUP(B8833,Spiele!B:B,Spiele!F:F))","v":""},"","","",null,null,-1,-1,1,0]
[null,null,{"$f":"IF(B8838=\"\",\"\",LOOKUP(B8838,Spiele!B:B,Spiele!C:C))","v":""},{"$f":"IF(B8838=\"\",\"\",LOOKUP(B8838,Spiele!B:B,Spiele!D:D))","v":""},{"$f":"IF(B8838=\"\",\"\",LOOKUP(B8838,Spiele!B:B,Spiele!E:E))","v":""},{"$f":"IF(B8838=\"\",\"\",LOOKUP(B8838,Spiele!B:B,Spiele!F:F))","v":""},"","","",null,null,-1,-1,1,0]
[null,null,{"$f":"IF(B8840=\"\",\"\",LOOKUP(B8840,Spiele!B:B,Spiele!C:C))","v":""},{"$f":"IF(B8840=\"\",\"\",LOOKUP(B8840,Spiele!B:B,Spiele!D:D))","v":""},{"$f":"IF(B8840=\"\",\"\",LOOKUP(B8840,Spiele!B:B,Spiele!E:E))","v":""},{"$f":"IF(B8840=\"\",\"\",LOOKUP(B8840,Spiele!B:B,Spiele!F:F))","v":""},"","","",null,null,-1,-1,1,0]
[null,null,{"$f":"IF(B8843=\"\",\"\",LOOKUP(B8843,Spiele!B:B,Spiele!C:C))","v":""},{"$f":"IF(B8843=\"\",\"\",LOOKUP(B8843,Spiele!B:B,Spiele!D:D))","v":""},{"$f":"IF(B8843=\"\",\"\",LOOKUP(B8843,Spiele!B:B,Spiele!E:E))","v":""},{"$f":"IF(B8843=\"\",\"\",LOOKUP(B8843,Spiele!B:B,Spiele!F:F))","v":""},"","","",null,null,-1,-1,1,0]
[null,null,{"$f":"IF(B8848=\"\",\"\",LOOKUP(B8848,Spiele!B:B,Spiele!C:C))","v":""},{"$f":"IF(B8848=\"\",\"\",LOOKUP(B8848,Spiele!B:B,Spiele!D:D))","v":""},{"$f":"IF(B8848=\"\",\"\",LOOKUP(B8848,Spiele!B:B,Spiele!E:E))","v":""},{"$f":"IF(B8848=\"\",\"\",LOOKUP(B8848,Spiele!B:B,Spiele!F:F))","v":""},"","","",null,null,-1,-1,1,0]
[null,null,{"$f":"IF(B8853=\"\",\"\",LOOKUP(B8853,Spiele!B:B,Spiele!C:C))","v":""},{"$f":"IF(B8853=\"\",\"\",LOOKUP(B8853,Spiele!B:B,Spiele!D:D))","v":""},{"$f":"IF(B8853=\"\",\"\",LOOKUP(B8853,Spiele!B:B,Spiele!E:E))","v":""},{"$f":"IF(B8853=\"\",\"\",LOOKUP(B8853,Spiele!B:B,Spiele!F:F))","v":""},"","","",null,null,-1,-1,1,0]
[null,null,{"$f":"IF(B8856=\"\",\"\",LOOKUP(B8856,Spiele!B:B,Spiele!C:C))","v":""},{"$f":"IF(B8856=\"\",\"\",LOOKUP(B8856,Spiele!B:B,Spiele!D:D))","v":""},{"$f":"IF(B8856=\"\",\"\",LOOKUP(B8856,Spiele!B:B,Spiele!E:E))","v":""},{"$f":"IF(B8856=\"\",\"\",LOOKUP(B8856,Spiele!B:B,Spiele!F:F))","v":""},"","","",null,null,-1,-1,1,0]
[null,null,{"$f":"IF(B8858=\"\",\"\",LOOKUP(B8858,Spiele!B:B,Spiele!C:C))","v":""},{"$f":"IF(B8858=\"\",\"\",LOOKUP(B8858,Spiele!B:B,Spiele!D:D))","v":""},{"$f":"IF(B8858=\"\",\"\",LOOKUP(B8858,Spiele!B:B,Spiele!E:E))","v":""},{"$f":"IF(B8858=\"\",\"\",LOOKUP(B8858,Spiele!B:B,Spiele!F:F))","v":""},"","","",null,null,-1,-1,1,0]
[null,null,{"$f":"IF(B8863=\"\",\"\",LOOKUP(B8863,Spiele!B:B,Spiele!C:C))","v":""},{"$f":"IF(B8863=\"\",\"\",LOOKUP(B8863,Spiele!B:B,Spiele!D:D))","v":""},{"$f":"IF(B8863=\"\",\"\",LOOKUP(B8863,Spiele!B:B,Spiele!E:E))","v":""},{"$f":"IF(B8863=\"\",\"\",LOOKUP(B8863,Spiele!B:B,Spiele!F:F))","v":""},"","","",null,null,-1,-1,1,0]
[null,null,{"$f":"IF(B8868=\"\",\"\",LOOKUP(B8868,Spiele!B:B,Spiele!C:C))","v":""},{"$f":"IF(B8868=\"\",\"\",LOOKUP(B8868,Spiele!B:B,Spiele!D:D))","v":""},{"$f":"IF(B8868=\"\",\"\",LOOKUP(B8868,Spiele!B:B,Spiele!E:E))","v":""},{"$f":"IF(B8868=\"\",\"\",LOOKUP(B8868,Spiele!B:B,Spiele!F:F))","v":""},"","","",null,null,-1,-1,1,0]
[null,null,{"$f":"IF(B8870=\"\",\"\",LOOKUP(B8870,Spiele!B:B,Spiele!C:C))","v":""},{"$f":"IF(B8870=\"\",\"\",LOOKUP(B8870,Spiele!B:B,Spiele!D:D))","v":""},{"$f":"IF(B8870=\"\",\"\",LOOKUP(B8870,Spiele!B:B,Spiele!E:E))","v":""},{"$f":"IF(B8870=\"\",\"\",LOOKUP(B8870,Spiele!B:B,Spiele!F:F))","v":""},"","","",null,null,-1,-1,1,0]
[null,null,{"$f":"IF(B8873=\"\",\"\",LOOKUP(B8873,Spiele!B:B,Spiele!C:C))","v":""},{"$f":"IF(B8873=\"\",\"\",LOOKUP(B8873,Spiele!B:B,Spiele!D:D))","v":""},{"$f":"IF(B8873=\"\",\"\",LOOKUP(B8873,Spiele!B:B,Spiele!E:E))","v":""},{"$f":"IF(B8873=\"\",\"\",LOOKUP(B8873,Spiele!B:B,Spiele!F:F))","v":""},"","","",null,null,-1,-1,1,0]
[null,null,{"$f":"IF(B8878=\"\",\"\",LOOKUP(B8878,Spiele!B:B,Spiele!C:C))","v":""},{"$f":"IF(B8878=\"\",\"\",LOOKUP(B8878,Spiele!B:B,Spiele!D:D))","v":""},{"$f":"IF(B8878=\"\",\"\",LOOKUP(B8878,Spiele!B:B,Spiele!E:E))","v":""},{"$f":"IF(B8878=\"\",\"\",LOOKUP(B8878,Spiele!B:B,Spiele!F:F))","v":""},"","","",null,null,-1,-1,1,0]
[null,null,{"$f":"IF(B8883=\"\",\"\",LOOKUP(B8883,Spiele!B:B,Spiele!C:C))","v":""},{"$f":"IF(B8883=\"\",\"\",LOOKUP(B8883,Spiele!B:B,Spiele!D:D))","v":""},{"$f":"IF(B8883=\"\",\"\",LOOKUP(B8883,Spiele!B:B,Spiele!E:E))","v":""},{"$f":"IF(B8883=\"\",\"\",LOOKUP(B8883,Spiele!B:B,Spiele!F:F))","v":""},"","","",null,null,-1,-1,1,0]
[null,null,{"$f":"IF(B8886=\"\",\"\",LOOKUP(B8886,Spiele!B:B,Spiele!C:C))","v":""},{"$f":"IF(B8886=\"\",\"\",LOOKUP(B8886,Spiele!B:B,Spiele!D:D))","v":""},{"$f":"IF(B8886=\"\",\"\",LOOKUP(B8886,Spiele!B:B,Spiele!E:E))","v":""},{"$f":"IF(B8886=\"\",\"\",LOOKUP(B8886,Spiele!B:B,Spiele!F:F))","v":""},"","","",null,null,-1,-1,1,0]
[null,null,{"$f":"IF(B8888=\"\",\"\",LOOKUP(B8888,Spiele!B:B,Spiele!C:C))","v":""},{"$f":"IF(B8888=\"\",\"\",LOOKUP(B8888,Spiele!B:B,Spiele!D:D))","v":""},{"$f":"IF(B8888=\"\",\"\",LOOKUP(B8888,Spiele!B:B,Spiele!E:E))","v":""},{"$f":"IF(B8888=\"\",\"\",LOOKUP(B8888,Spiele!B:B,Spiele!F:F))","v":""},"","","",null,null,-1,-1,1,0]
[null,null,{"$f":"IF(B8893=\"\",\"\",LOOKUP(B8893,Spiele!B:B,Spiele!C:C))","v":""},{"$f":"IF(B8893=\"\",\"\",LOOKUP(B8893,Spiele!B:B,Spiele!D:D))","v":""},{"$f":"IF(B8893=\"\",\"\",LOOKUP(B8893,Spiele!B:B,Spiele!E:E))","v":""},{"$f":"IF(B8893=\"\",\"\",LOOKUP(B8893,Spiele!B:B,Spiele!F:F))","v":""},"","","",null,null,-1,-1,1,0]
[null,null,{"$f":"IF(B8898=\"\",\"\",LOOKUP(B8898,Spiele!B:B,Spiele!C:C))","v":""},{"$f":"IF(B8898=\"\",\"\",LOOKUP(B8898,Spiele!B:B,Spiele!D:D))","v":""},{"$f":"IF(B8898=\"\",\"\",LOOKUP(B8898,Spiele!B:B,Spiele!E:E))","v":""},{"$f":"IF(B8898=\"\",\"\",LOOKUP(B8898,Spiele!B:B,Spiele!F:F))","v":""},"","","",null,null,-1,-1,1,0]
[null,null,{"$f":"IF(B8900=\"\",\"\",LOOKUP(B8900,Spiele!B:B,Spiele!C:C))","v":""},{"$f":"IF(B8900=\"\",\"\",LOOKUP(B8900,Spiele!B:B,Spiele!D:D))","v":""},{"$f":"IF(B8900=\"\",\"\",LOOKUP(B8900,Spiele!B:B,Spiele!E:E))","v":""},{"$f":"IF(B8900=\"\",\"\",LOOKUP(B8900,Spiele!B:B,Spiele!F:F))","v":""},"","","",null,null,-1,-1,1,0]
[null,null,{"$f":"IF(B8903=\"\",\"\",LOOKUP(B8903,Spiele!B:B,Spiele!C:C))","v":""},{"$f":"IF(B8903=\"\",\"\",LOOKUP(B8903,Spiele!B:B,Spiele!D:D))","v":""},{"$f":"IF(B8903=\"\",\"\",LOOKUP(B8903,Spiele!B:B,Spiele!E:E))","v":""},{"$f":"IF(B8903=\"\",\"\",LOOKUP(B8903,Spiele!B:B,Spiele!F:F))","v":""},"","","",null,null,-1,-1,1,0]
[null,null,{"$f":"IF(B8908=\"\",\"\",LOOKUP(B8908,Spiele!B:B,Spiele!C:C))","v":""},{"$f":"IF(B8908=\"\",\"\",LOOKUP(B8908,Spiele!B:B,Spiele!D:D))","v":""},{"$f":"IF(B8908=\"\",\"\",LOOKUP(B8908,Spiele!B:B,Spiele!E:E))","v":""},{"$f":"IF(B8908=\"\",\"\",LOOKUP(B8908,Spiele!B:B,Spiele!F:F))","v":""},"","","",null,null,-1,-1,1,0]
[null,null,{"$f":"IF(B8913=\"\",\"\",LOOKUP(B8913,Spiele!B:B,Spiele!C:C))","v":""},{"$f":"IF(B8913=\"\",\"\",LOOKUP(B8913,Spiele!B:B,Spiele!D:D))","v":""},{"$f":"IF(B8913=\"\",\"\",LOOKUP(B8913,Spiele!B:B,Spiele!E:E))","v":""},{"$f":"IF(B8913=\"\",\"\",LOOKUP(B8913,Spiele!B:B,Spiele!F:F))","v":""},"","","",null,null,-1,-1,1,0]
[null,null,{"$f":"IF(B8916=\"\",\"\",LOOKUP(B8916,Spiele!B:B,Spiele!C:C))","v":""},{"$f":"IF(B8916=\"\",\"\",LOOKUP(B8916,Spiele!B:B,Spiele!D:D))","v":""},{"$f":"IF(B8916=\"\",\"\",LOOKUP(B8916,Spiele!B:B,Spiele!E:E))","v":""},{"$f":"IF(B8916=\"\",\"\",LOOKUP(B8916,Spiele!B:B,Spiele!F:F))","v":""},"","","",null,null,-1,-1,1,0]
[null,null,{"$f":"IF(B8918=\"\",\"\",LOOKUP(B8918,Spiele!B:B,Spiele!C:C))","v":""},{"$f":"IF(B8918=\"\",\"\",LOOKUP(B8918,Spiele!B:B,Spiele!D:D))","v":""},{"$f":"IF(B8918=\"\",\"\",LOOKUP(B8918,Spiele!B:B,Spiele!E:E))","v":""},{"$f":"IF(B8918=\"\",\"\",LOOKUP(B8918,Spiele!B:B,Spiele!F:F))","v":""},"","","",null,null,-1,-1,1,0]
[null,null,{"$f":"IF(B8923=\"\",\"\",LOOKUP(B8923,Spiele!B:B,Spiele!C:C))","v":""},{"$f":"IF(B8923=\"\",\"\",LOOKUP(B8923,Spiele!B:B,Spiele!D:D))","v":""},{"$f":"IF(B8923=\"\",\"\",LOOKUP(B8923,Spiele!B:B,Spiele!E:E))","v":""},{"$f":"IF(B8923=\"\",\"\",LOOKUP(B8923,Spiele!B:B,Spiele!F:F))","v":""},"","","",null,null,-1,-1,1,0]
[null,null,{"$f":"IF(B8928=\"\",\"\",LOOKUP(B8928,Spiele!B:B,Spiele!C:C))","v":""},{"$f":"IF(B8928=\"\",\"\",LOOKUP(B8928,Spiele!B:B,Spiele!D:D))","v":""},{"$f":"IF(B8928=\"\",\"\",LOOKUP(B8928,Spiele!B:B,Spiele!E:E))","v":""},{"$f":"IF(B8928=\"\",\"\",LOOKUP(B8928,Spiele!B:B,Spiele!F:F))","v":""},{"$f":"IF(E8928=\"\",\"\",IF(E8928>F8928,1,0))","v":""},{"$f":"IF(F8928=\"\",\"\",IF(E8928<F8928,1,0))","v":""},{"$f":"IF(E8928=\"\",\"\",IF(E8928=F8928,1,0))","v":""},null,null,{"$f":"IF(E8928=\"\",-1,IF(J8928>K8928,1,-1))","v":-1},{"$f":"IF(F8928=\"\",-1,IF(J8928<K8928,1,-1))","v":-1},{"$f":"IF(E8928=\"-\",-1,IF(J8928=K8928,1,-1))","v":1},{"$f":"IF(E8928=\"\",0,IF(E8928=J8928,1,0)+IF(F8928=K8928,1,0)+IF(G8928=L8928,1,0)+IF(H8928=M8928,1,0)+IF(I8928=N8928,1,0))","v":0}]
[null,null,{"$f":"IF(B8930=\"\",\"\",LOOKUP(B8930,Spiele!B:B,Spiele!C:C))","v":""},{"$f":"IF(B8930=\"\",\"\",LOOKUP(B8930,Spiele!B:B,Spiele!D:D))","v":""},{"$f":"IF(B8930=\"\",\"\",LOOKUP(B8930,Spiele!B:B,Spiele!E:E))","v":""},{"$f":"IF(B8930=\"\",\"\",LOOKUP(B8930,Spiele!B:B,Spiele!F:F))","v":""},"","","",null,null,-1,-1,1,0]
[null,null,{"$f":"IF(B8933=\"\",\"\",LOOKUP(B8933,Spiele!B:B,Spiele!C:C))","v":""},{"$f":"IF(B8933=\"\",\"\",LOOKUP(B8933,Spiele!B:B,Spiele!D:D))","v":""},{"$f":"IF(B8933=\"\",\"\",LOOKUP(B8933,Spiele!B:B,Spiele!E:E))","v":""},{"$f":"IF(B8933=\"\",\"\",LOOKUP(B8933,Spiele!B:B,Spiele!F:F))","v":""},"","","",null,null,-1,-1,1,0]
[null,null,{"$f":"IF(B8938=\"\",\"\",LOOKUP(B8938,Spiele!B:B,Spiele!C:C))","v":""},{"$f":"IF(B8938=\"\",\"\",LOOKUP(B8938,Spiele!B:B,Spiele!D:D))","v":""},{"$f":"IF(B8938=\"\",\"\",LOOKUP(B8938,Spiele!B:B,Spiele!E:E))","v":""},{"$f":"IF(B8938=\"\",\"\",LOOKUP(B8938,Spiele!B:B,Spiele!F:F))","v":""},"","","",null,null,-1,-1,1,0]
[null,null,{"$f":"IF(B8943=\"\",\"\",LOOKUP(B8943,Spiele!B:B,Spiele!C:C))","v":""},{"$f":"IF(B8943=\"\",\"\",LOOKUP(B8943,Spiele!B:B,Spiele!D:D))","v":""},{"$f":"IF(B8943=\"\",\"\",LOOKUP(B8943,Spiele!B:B,Spiele!E:E))","v":""},{"$f":"IF(B8943=\"\",\"\",LOOKUP(B8943,Spiele!B:B,Spiele!F:F))","v":""},"","","",null,null,-1,-1,1,0]
[null,null,{"$f":"IF(B8944=\"\",\"\",LOOKUP(B8944,Spiele!B:B,Spiele!C:C))","v":""},{"$f":"IF(B8944=\"\",\"\",LOOKUP(B8944,Spiele!B:B,Spiele!D:D))","v":""},{"$f":"IF(B8944=\"\",\"\",LOOKUP(B8944,Spiele!B:B,Spiele!E:E))","v":""},{"$f":"IF(B8944=\"\",\"\",LOOKUP(B8944,Spiele!B:B,Spiele!F:F))","v":""},"","","",null,null,-1,-1,1,0]
[null,null,{"$f":"IF(B8948=\"\",\"\",LOOKUP(B8948,Spiele!B:B,Spiele!C:C))","v":""},{"$f":"IF(B8948=\"\",\"\",LOOKUP(B8948,Spiele!B:B,Spiele!D:D))","v":""},{"$f":"IF(B8948=\"\",\"\",LOOKUP(B8948,Spiele!B:B,Spiele!E:E))","v":""},{"$f":"IF(B8948=\"\",\"\",LOOKUP(B8948,Spiele!B:B,Spiele!F:F))","v":""},"","","",null,null,-1,-1,1,0]
[null,null,{"$f":"IF(B8953=\"\",\"\",LOOKUP(B8953,Spiele!B:B,Spiele!C:C))","v":""},{"$f":"IF(B8953=\"\",\"\",LOOKUP(B8953,Spiele!B:B,Spiele!D:D))","v":""},{"$f":"IF(B8953=\"\",\"\",LOOKUP(B8953,Spiele!B:B,Spiele!E:E))","v":""},{"$f":"IF(B8953=\"\",\"\",LOOKUP(B8953,Spiele!B:B,Spiele!F:F))","v":""},"","","",null,null,-1,-1,1,0]
[null,null,{"$f":"IF(B8958=\"\",\"\",LOOKUP(B8958,Spiele!B:B,Spiele!C:C))","v":""},{"$f":"IF(B8958=\"\",\"\",LOOKUP(B8958,Spiele!B:B,Spiele!D:D))","v":""},{"$f":"IF(B8958=\"\",\"\",LOOKUP(B8958,Spiele!B:B,Spiele!E:E))","v":""},{"$f":"IF(B8958=\"\",\"\",LOOKUP(B8958,Spiele!B:B,Spiele!F:F))","v":""},"","","",null,null,-1,-1,1,0]
[null,null,{"$f":"IF(B8960=\"\",\"\",LOOKUP(B8960,Spiele!B:B,Spiele!C:C))","v":""},{"$f":"IF(B8960=\"\",\"\",LOOKUP(B8960,Spiele!B:B,Spiele!D:D))","v":""},{"$f":"IF(B8960=\"\",\"\",LOOKUP(B8960,Spiele!B:B,Spiele!E:E))","v":""},{"$f":"IF(B8960=\"\",\"\",LOOKUP(B8960,Spiele!B:B,Spiele!F:F))","v":""},"","","",null,null,-1,-1,1,0]
[null,null,{"$f":"IF(B8963=\"\",\"\",LOOKUP(B8963,Spiele!B:B,Spiele!C:C))","v":""},{"$f":"IF(B8963=\"\",\"\",LOOKUP(B8963,Spiele!B:B,Spiele!D:D))","v":""},{"$f":"IF(B8963=\"\",\"\",LOOKUP(B8963,Spiele!B:B,Spiele!E:E))","v":""},{"$f":"IF(B8963=\"\",\"\",LOOKUP(B8963,Spiele!B:B,Spiele!F:F))","v":""},"","","",null,null,-1,-1,1,0]
[null,null,{"$f":"IF(B8968=\"\",\"\",LOOKUP(B8968,Spiele!B:B,Spiele!C:C))","v":""},{"$f":"IF(B8968=\"\",\"\",LOOKUP(B8968,Spiele!B:B,Spiele!D:D))","v":""},{"$f":"IF(B8968=\"\",\"\",LOOKUP(B8968,Spiele!B:B,Spiele!E:E))","v":""},{"$f":"IF(B8968=\"\",\"\",LOOKUP(B8968,Spiele!B:B,Spiele!F:F))","v":""},"","","",null,null,-1,-1,1,0]
[null,null,{"$f":"IF(B8973=\"\",\"\",LOOKUP(B8973,Spiele!B:B,Spiele!C:C))","v":""},{"$f":"IF(B8973=\"\",\"\",LOOKUP(B8973,Spiele!B:B,Spiele!D:D))","v":""},{"$f":"IF(B8973=\"\",\"\",LOOKUP(B8973,Spiele!B:B,Spiele!E:E))","v":""},{"$f":"IF(B8973=\"\",\"\",LOOKUP(B8973,Spiele!B:B,Spiele!F:F))","v":""},"","","",null,null,-1,-1,1,0]
[null,null,{"$f":"IF(B8974=\"\",\"\",LOOKUP(B8974,Spiele!B:B,Spiele!C:C))","v":""},{"$f":"IF(B8974=\"\",\"\",LOOKUP(B8974,Spiele!B:B,Spiele!D:D))","v":""},{"$f":"IF(B8974=\"\",\"\",LOOKUP(B8974,Spiele!B:B,Spiele!E:E))","v":""},{"$f":"IF(B8974=\"\",\"\",LOOKUP(B8974,Spiele!B:B,Spiele!F:F))","v":""},"","","",null,null,-1,-1,1,0]
[null,null,{"$f":"IF(B8978=\"\",\"\",LOOKUP(B8978,Spiele!B:B,Spiele!C:C))","v":""},{"$f":"IF(B8978=\"\",\"\",LOOKUP(B8978,Spiele!B:B,Spiele!D:D))","v":""},{"$f":"IF(B8978=\"\",\"\",LOOKUP(B8978,Spiele!B:B,Spiele!E:E))","v":""},{"$f":"IF(B8978=\"\",\"\",LOOKUP(B8978,Spiele!B:B,Spiele!F:F))","v":""},"","","",null,null,-1,-1,1,0]
[null,null,{"$f":"IF(B8983=\"\",\"\",LOOKUP(B8983,Spiele!B:B,Spiele!C:C))","v":""},{"$f":"IF(B8983=\"\",\"\",LOOKUP(B8983,Spiele!B:B,Spiele!D:D))","v":""},{"$f":"IF(B8983=\"\",\"\",LOOKUP(B8983,Spiele!B:B,Spiele!E:E))","v":""},{"$f":"IF(B8983=\"\",\"\",LOOKUP(B8983,Spiele!B:B,Spiele!F:F))","v":""},"","","",null,null,-1,-1,1,0]
[null,null,{"$f":"IF(B8988=\"\",\"\",LOOKUP(B8988,Spiele!B:B,Spiele!C:C))","v":""},{"$f":"IF(B8988=\"\",\"\",LOOKUP(B8988,Spiele!B:B,Spiele!D:D))","v":""},{"$f":"IF(B8988=\"\",\"\",LOOKUP(B8988,Spiele!B:B,Spiele!E:E))","v":""},{"$f":"IF(B8988=\"\",\"\",LOOKUP(B8988,Spiele!B:B,Spiele!F:F))","v":""},"","","",null,null,-1,-1,1,0]
[null,null,{"$f":"IF(B8990=\"\",\"\",LOOKUP(B8990,Spiele!B:B,Spiele!C:C))","v":""},{"$f":"IF(B8990=\"\",\"\",LOOKUP(B8990,Spiele!B:B,Spiele!D:D))","v":""},{"$f":"IF(B8990=\"\",\"\",LOOKUP(B8990,Spiele!B:B,Spiele!E:E))","v":""},{"$f":"IF(B8990=\"\",\"\",LOOKUP(B8990,Spiele!B:B,Spiele!F:F))","v":""},"","","",null,null,-1,-1,1,0]
[null,null,{"$f":"IF(B8993=\"\",\"\",LOOKUP(B8993,Spiele!B:B,Spiele!C:C))","v":""},{"$f":"IF(B8993=\"\",\"\",LOOKUP(B8993,Spiele!B:B,Spiele!D:D))","v":""},{"$f":"IF(B8993=\"\",\"\",LOOKUP(B8993,Spiele!B:B,Spiele!E:E))","v":""},{"$f":"IF(B8993=\"\",\"\",LOOKUP(B8993,Spiele!B:B,Spiele!F:F))","v":""},"","","",null,null,-1,-1,1,0]
[null,null,{"$f":"IF(B8998=\"\",\"\",LOOKUP(B8998,Spiele!B:B,Spiele!C:C))","v":""},{"$f":"IF(B8998=\"\",\"\",LOOKUP(B8998,Spiele!B:B,Spiele!D:D))","v":""},{"$f":"IF(B8998=\"\",\"\",LOOKUP(B8998,Spiele!B:B,Spiele!E:E))","v":""},{"$f":"IF(B8998=\"\",\"\",LOOKUP(B8998,Spiele!B:B,Spiele!F:F))","v":""},"","","",null,null,-1,-1,1,0]
[null,null,{"$f":"IF(B9003=\"\",\"\",LOOKUP(B9003,Spiele!B:B,Spiele!C:C))","v":""},{"$f":"IF(B9003=\"\",\"\",LOOKUP(B9003,Spiele!B:B,Spiele!D:D))","v":""},{"$f":"IF(B9003=\"\",\"\",LOOKUP(B9003,Spiele!B:B,Spiele!E:E))","v":""},{"$f":"IF(B9003=\"\",\"\",LOOKUP(B9003,Spiele!B:B,Spiele!F:F))","v":""},"","","",null,null,-1,-1,1,0]
[null,null,{"$f":"IF(B9004=\"\",\"\",LOOKUP(B9004,Spiele!B:B,Spiele!C:C))","v":""},{"$f":"IF(B9004=\"\",\"\",LOOKUP(B9004,Spiele!B:B,Spiele!D:D))","v":""},{"$f":"IF(B9004=\"\",\"\",LOOKUP(B9004,Spiele!B:B,Spiele!E:E))","v":""},{"$f":"IF(B9004=\"\",\"\",LOOKUP(B9004,Spiele!B:B,Spiele!F:F))","v":""},"","","",null,null,-1,-1,1,0]
[null,null,{"$f":"IF(B9008=\"\",\"\",LOOKUP(B9008,Spiele!B:B,Spiele!C:C))","v":""},{"$f":"IF(B9008=\"\",\"\",LOOKUP(B9008,Spiele!B:B,Spiele!D:D))","v":""},{"$f":"IF(B9008=\"\",\"\",LOOKUP(B9008,Spiele!B:B,Spiele!E:E))","v":""},{"$f":"IF(B9008=\"\",\"\",LOOKUP(B9008,Spiele!B:B,Spiele!F:F))","v":""},"","","",null,null,-1,-1,1,0]
[null,null,{"$f":"IF(B9013=\"\",\"\",LOOKUP(B9013,Spiele!B:B,Spiele!C:C))","v":""},{"$f":"IF(B9013=\"\",\"\",LOOKUP(B9013,Spiele!B:B,Spiele!D:D))","v":""},{"$f":"IF(B9013=\"\",\"\",LOOKUP(B9013,Spiele!B:B,Spiele!E:E))","v":""},{"$f":"IF(B9013=\"\",\"\",LOOKUP(B9013,Spiele!B:B,Spiele!F:F))","v":""},"","","",null,null,-1,-1,1,0]
[null,null,{"$f":"IF(B9018=\"\",\"\",LOOKUP(B9018,Spiele!B:B,Spiele!C:C))","v":""},{"$f":"IF(B9018=\"\",\"\",LOOKUP(B9018,Spiele!B:B,Spiele!D:D))","v":""},{"$f":"IF(B9018=\"\",\"\",LOOKUP(B9018,Spiele!B:B,Spiele!E:E))","v":""},{"$f":"IF(B9018=\"\",\"\",LOOKUP(B9018,Spiele!B:B,Spiele!F:F))","v":""},"","","",null,null,-1,-1,1,0]
[null,null,{"$f":"IF(B9020=\"\",\"\",LOOKUP(B9020,Spiele!B:B,Spiele!C:C))","v":""},{"$f":"IF(B9020=\"\",\"\",LOOKUP(B9020,Spiele!B:B,Spiele!D:D))","v":""},{"$f":"IF(B9020=\"\",\"\",LOOKUP(B9020,Spiele!B:B,Spiele!E:E))","v":""},{"$f":"IF(B9020=\"\",\"\",LOOKUP(B9020,Spiele!B:B,Spiele!F:F))","v":""},"","","",null,null,-1,-1,1,0]
[null,null,{"$f":"IF(B9023=\"\",\"\",LOOKUP(B9023,Spiele!B:B,Spiele!C:C))","v":""},{"$f":"IF(B9023=\"\",\"\",LOOKUP(B9023,Spiele!B:B,Spiele!D:D))","v":""},{"$f":"IF(B9023=\"\",\"\",LOOKUP(B9023,Spiele!B:B,Spiele!E:E))","v":""},{"$f":"IF(B9023=\"\",\"\",LOOKUP(B9023,Spiele!B:B,Spiele!F:F))","v":""},"","","",null,null,-1,-1,1,0]
[null,null,{"$f":"IF(B9028=\"\",\"\",LOOKUP(B9028,Spiele!B:B,Spiele!C:C))","v":""},{"$f":"IF(B9028=\"\",\"\",LOOKUP(B9028,Spiele!B:B,Spiele!D:D))","v":""},{"$f":"IF(B9028=\"\",\"\",LOOKUP(B9028,Spiele!B:B,Spiele!E:E))","v":""},{"$f":"IF(B9028=\"\",\"\",LOOKUP(B9028,Spiele!B:B,Spiele!F:F))","v":""},"","","",null,null,-1,-1,1,0]
[null,null,{"$f":"IF(B9033=\"\",\"\",LOOKUP(B9033,Spiele!B:B,Spiele!C:C))","v":""},{"$f":"IF(B9033=\"\",\"\",LOOKUP(B9033,Spiele!B:B,Spiele!D:D))","v":""},{"$f":"IF(B9033=\"\",\"\",LOOKUP(B9033,Spiele!B:B,Spiele!E:E))","v":""},{"$f":"IF(B9033=\"\",\"\",LOOKUP(B9033,Spiele!B:B,Spiele!F:F))","v":""},"","","",null,null,-1,-1,1,0]
[null,null,{"$f":"IF(B9034=\"\",\"\",LOOKUP(B9034,Spiele!B:B,Spiele!C:C))","v":""},{"$f":"IF(B9034=\"\",\"\",LOOKUP(B9034,Spiele!B:B,Spiele!D:D))","v":""},{"$f":"IF(B9034=\"\",\"\",LOOKUP(B9034,Spiele!B:B,Spiele!E:E))","v":""},{"$f":"IF(B9034=\"\",\"\",LOOKUP(B9034,Spiele!B:B,Spiele!F:F))","v":""},"","","",null,null,-1,-1,1,0]
[null,null,{"$f":"IF(B9038=\"\",\"\",LOOKUP(B9038,Spiele!B:B,Spiele!C:C))","v":""},{"$f":"IF(B9038=\"\",\"\",LOOKUP(B9038,Spiele!B:B,Spiele!D:D))","v":""},{"$f":"IF(B9038=\"\",\"\",LOOKUP(B9038,Spiele!B:B,Spiele!E:E))","v":""},{"$f":"IF(B9038=\"\",\"\",LOOKUP(B9038,Spiele!B:B,Spiele!F:F))","v":""},"","","",null,null,-1,-1,1,0]
[null,null,{"$f":"IF(B9043=\"\",\"\",LOOKUP(B9043,Spiele!B:B,Spiele!C:C))","v":""},{"$f":"IF(B9043=\"\",\"\",LOOKUP(B9043,Spiele!B:B,Spiele!D:D))","v":""},{"$f":"IF(B9043=\"\",\"\",LOOKUP(B9043,Spiele!B:B,Spiele!E:E))","v":""},{"$f":"IF(B9043=\"\",\"\",LOOKUP(B9043,Spiele!B:B,Spiele!F:F))","v":""},"","","",null,null,-1,-1,1,0]
[null,null,{"$f":"IF(B9048=\"\",\"\",LOOKUP(B9048,Spiele!B:B,Spiele!C:C))","v":""},{"$f":"IF(B9048=\"\",\"\",LOOKUP(B9048,Spiele!B:B,Spiele!D:D))","v":""},{"$f":"IF(B9048=\"\",\"\",LOOKUP(B9048,Spiele!B:B,Spiele!E:E))","v":""},{"$f":"IF(B9048=\"\",\"\",LOOKUP(B9048,Spiele!B:B,Spiele!F:F))","v":""},"","","",null,null,-1,-1,1,0]
[null,null,{"$f":"IF(B9050=\"\",\"\",LOOKUP(B9050,Spiele!B:B,Spiele!C:C))","v":""},{"$f":"IF(B9050=\"\",\"\",LOOKUP(B9050,Spiele!B:B,Spiele!D:D))","v":""},{"$f":"IF(B9050=\"\",\"\",LOOKUP(B9050,Spiele!B:B,Spiele!E:E))","v":""},{"$f":"IF(B9050=\"\",\"\",LOOKUP(B9050,Spiele!B:B,Spiele!F:F))","v":""},"","","",null,null,-1,-1,1,0]
[null,null,{"$f":"IF(B9053=\"\",\"\",LOOKUP(B9053,Spiele!B:B,Spiele!C:C))","v":""},{"$f":"IF(B9053=\"\",\"\",LOOKUP(B9053,Spiele!B:B,Spiele!D:D))","v":""},{"$f":"IF(B9053=\"\",\"\",LOOKUP(B9053,Spiele!B:B,Spiele!E:E))","v":""},{"$f":"IF(B9053=\"\",\"\",LOOKUP(B9053,Spiele!B:B,Spiele!F:F))","v":""},"","","",null,null,-1,-1,1,0]
[null,null,{"$f":"IF(B9058=\"\",\"\",LOOKUP(B9058,Spiele!B:B,Spiele!C:C))","v":""},{"$f":"IF(B9058=\"\",\"\",LOOKUP(B9058,Spiele!B:B,Spiele!D:D))","v":""},{"$f":"IF(B9058=\"\",\"\",LOOKUP(B9058,Spiele!B:B,Spiele!E:E))","v":""},{"$f":"IF(B9058=\"\",\"\",LOOKUP(B9058,Spiele!B:B,Spiele!F:F))","v":""},"","","",null,null,-1,-1,1,0]
[null,null,{"$f":"IF(B9063=\"\",\"\",LOOKUP(B9063,Spiele!B:B,Spiele!C:C))","v":""},{"$f":"IF(B9063=\"\",\"\",LOOKUP(B9063,Spiele!B:B,Spiele!D:D))","v":""},{"$f":"IF(B9063=\"\",\"\",LOOKUP(B9063,Spiele!B:B,Spiele!E:E))","v":""},{"$f":"IF(B9063=\"\",\"\",LOOKUP(B9063,Spiele!B:B,Spiele!F:F))","v":""},"","","",null,null,-1,-1,1,0]
[null,null,{"$f":"IF(B9064=\"\",\"\",LOOKUP(B9064,Spiele!B:B,Spiele!C:C))","v":""},{"$f":"IF(B9064=\"\",\"\",LOOKUP(B9064,Spiele!B:B,Spiele!D:D))","v":""},{"$f":"IF(B9064=\"\",\"\",LOOKUP(B9064,Spiele!B:B,Spiele!E:E))","v":""},{"$f":"IF(B9064=\"\",\"\",LOOKUP(B9064,Spiele!B:B,Spiele!F:F))","v":""},"","","",null,null,-1,-1,1,0]
[null,null,{"$f":"IF(B9068=\"\",\"\",LOOKUP(B9068,Spiele!B:B,Spiele!C:C))","v":""},{"$f":"IF(B9068=\"\",\"\",LOOKUP(B9068,Spiele!B:B,Spiele!D:D))","v":""},{"$f":"IF(B9068=\"\",\"\",LOOKUP(B9068,Spiele!B:B,Spiele!E:E))","v":""},{"$f":"IF(B9068=\"\",\"\",LOOKUP(B9068,Spiele!B:B,Spiele!F:F))","v":""},"","","",null,null,-1,-1,1,0]
[null,null,{"$f":"IF(B9073=\"\",\"\",LOOKUP(B9073,Spiele!B:B,Spiele!C:C))","v":""},{"$f":"IF(B9073=\"\",\"\",LOOKUP(B9073,Spiele!B:B,Spiele!D:D))","v":""},{"$f":"IF(B9073=\"\",\"\",LOOKUP(B9073,Spiele!B:B,Spiele!E:E))","v":""},{"$f":"IF(B9073=\"\",\"\",LOOKUP(B9073,Spiele!B:B,Spiele!F:F))","v":""},"","","",null,null,-1,-1,1,0]
[null,null,{"$f":"IF(B9078=\"\",\"\",LOOKUP(B9078,Spiele!B:B,Spiele!C:C))","v":""},{"$f":"IF(B9078=\"\",\"\",LOOKUP(B9078,Spiele!B:B,Spiele!D:D))","v":""},{"$f":"IF(B9078=\"\",\"\",LOOKUP(B9078,Spiele!B:B,Spiele!E:E))","v":""},{"$f":"IF(B9078=\"\",\"\",LOOKUP(B9078,Spiele!B:B,Spiele!F:F))","v":""},"","","",null,null,-1,-1,1,0]
[null,null,{"$f":"IF(B9080=\"\",\"\",LOOKUP(B9080,Spiele!B:B,Spiele!C:C))","v":""},{"$f":"IF(B9080=\"\",\"\",LOOKUP(B9080,Spiele!B:B,Spiele!D:D))","v":""},{"$f":"IF(B9080=\"\",\"\",LOOKUP(B9080,Spiele!B:B,Spiele!E:E))","v":""},{"$f":"IF(B9080=\"\",\"\",LOOKUP(B9080,Spiele!B:B,Spiele!F:F))","v":""},"","","",null,null,-1,-1,1,0]
[null,null,{"$f":"IF(B9083=\"\",\"\",LOOKUP(B9083,Spiele!B:B,Spiele!C:C))","v":""},{"$f":"IF(B9083=\"\",\"\",LOOKUP(B9083,Spiele!B:B,Spiele!D:D))","v":""},{"$f":"IF(B9083=\"\",\"\",LOOKUP(B9083,Spiele!B:B,Spiele!E:E))","v":""},{"$f":"IF(B9083=\"\",\"\",LOOKUP(B9083,Spiele!B:B,Spiele!F:F))","v":""},"","","",null,null,-1,-1,1,0]
[null,null,{"$f":"IF(B9088=\"\",\"\",LOOKUP(B9088,Spiele!B:B,Spiele!C:C))","v":""},{"$f":"IF(B9088=\"\",\"\",LOOKUP(B9088,Spiele!B:B,Spiele!D:D))","v":""},{"$f":"IF(B9088=\"\",\"\",LOOKUP(B9088,Spiele!B:B,Spiele!E:E))","v":""},{"$f":"IF(B9088=\"\",\"\",LOOKUP(B9088,Spiele!B:B,Spiele!F:F))","v":""},"","","",null,null,-1,-1,1,0]
[null,null,{"$f":"IF(B9093=\"\",\"\",LOOKUP(B9093,Spiele!B:B,Spiele!C:C))","v":""},{"$f":"IF(B9093=\"\",\"\",LOOKUP(B9093,Spiele!B:B,Spiele!D:D))","v":""},{"$f":"IF(B9093=\"\",\"\",LOOKUP(B9093,Spiele!B:B,Spiele!E:E))","v":""},{"$f":"IF(B9093=\"\",\"\",LOOKUP(B9093,Spiele!B:B,Spiele!F:F))","v":""},"","","",null,null,-1,-1,1,0]
[null,null,{"$f":"IF(B9094=\"\",\"\",LOOKUP(B9094,Spiele!B:B,Spiele!C:C))","v":""},{"$f":"IF(B9094=\"\",\"\",LOOKUP(B9094,Spiele!B:B,Spiele!D:D))","v":""},{"$f":"IF(B9094=\"\",\"\",LOOKUP(B9094,Spiele!B:B,Spiele!E:E))","v":""},{"$f":"IF(B9094=\"\",\"\",LOOKUP(B9094,Spiele!B:B,Spiele!F:F))","v":""},"","","",null,null,-1,-1,1,0]
[null,null,{"$f":"IF(B9098=\"\",\"\",LOOKUP(B9098,Spiele!B:B,Spiele!C:C))","v":""},{"$f":"IF(B9098=\"\",\"\",LOOKUP(B9098,Spiele!B:B,Spiele!D:D))","v":""},{"$f":"IF(B9098=\"\",\"\",LOOKUP(B9098,Spiele!B:B,Spiele!E:E))","v":""},{"$f":"IF(B9098=\"\",\"\",LOOKUP(B9098,Spiele!B:B,Spiele!F:F))","v":""},"","","",null,null,-1,-1,1,0]
[null,null,{"$f":"IF(B9103=\"\",\"\",LOOKUP(B9103,Spiele!B:B,Spiele!C:C))","v":""},{"$f":"IF(B9103=\"\",\"\",LOOKUP(B9103,Spiele!B:B,Spiele!D:D))","v":""},{"$f":"IF(B9103=\"\",\"\",LOOKUP(B9103,Spiele!B:B,Spiele!E:E))","v":""},{"$f":"IF(B9103=\"\",\"\",LOOKUP(B9103,Spiele!B:B,Spiele!F:F))","v":""},"","","",null,null,-1,-1,1,0]
[null,null,{"$f":"IF(B9108=\"\",\"\",LOOKUP(B9108,Spiele!B:B,Spiele!C:C))","v":""},{"$f":"IF(B9108=\"\",\"\",LOOKUP(B9108,Spiele!B:B,Spiele!D:D))","v":""},{"$f":"IF(B9108=\"\",\"\",LOOKUP(B9108,Spiele!B:B,Spiele!E:E))","v":""},{"$f":"IF(B9108=\"\",\"\",LOOKUP(B9108,Spiele!B:B,Spiele!F:F))","v":""},"","","",null,null,-1,-1,1,0]
[null,null,{"$f":"IF(B9110=\"\",\"\",LOOKUP(B9110,Spiele!B:B,Spiele!C:C))","v":""},{"$f":"IF(B9110=\"\",\"\",LOOKUP(B9110,Spiele!B:B,Spiele!D:D))","v":""},{"$f":"IF(B9110=\"\",\"\",LOOKUP(B9110,Spiele!B:B,Spiele!E:E))","v":""},{"$f":"IF(B9110=\"\",\"\",LOOKUP(B9110,Spiele!B:B,Spiele!F:F))","v":""},"","","",null,null,-1,-1,1,0]
[null,null,{"$f":"IF(B9113=\"\",\"\",LOOKUP(B9113,Spiele!B:B,Spiele!C:C))","v":""},{"$f":"IF(B9113=\"\",\"\",LOOKUP(B9113,Spiele!B:B,Spiele!D:D))","v":""},{"$f":"IF(B9113=\"\",\"\",LOOKUP(B9113,Spiele!B:B,Spiele!E:E))","v":""},{"$f":"IF(B9113=\"\",\"\",LOOKUP(B9113,Spiele!B:B,Spiele!F:F))","v":""},"","","",null,null,-1,-1,1,0]
[null,null,{"$f":"IF(B9118=\"\",\"\",LOOKUP(B9118,Spiele!B:B,Spiele!C:C))","v":""},{"$f":"IF(B9118=\"\",\"\",LOOKUP(B9118,Spiele!B:B,Spiele!D:D))","v":""},{"$f":"IF(B9118=\"\",\"\",LOOKUP(B9118,Spiele!B:B,Spiele!E:E))","v":""},{"$f":"IF(B9118=\"\",\"\",LOOKUP(B9118,Spiele!B:B,Spiele!F:F))","v":""},"","","",null,null,-1,-1,1,0]
[null,null,{"$f":"IF(B9123=\"\",\"\",LOOKUP(B9123,Spiele!B:B,Spiele!C:C))","v":""},{"$f":"IF(B9123=\"\",\"\",LOOKUP(B9123,Spiele!B:B,Spiele!D:D))","v":""},{"$f":"IF(B9123=\"\",\"\",LOOKUP(B9123,Spiele!B:B,Spiele!E:E))","v":""},{"$f":"IF(B9123=\"\",\"\",LOOKUP(B9123,Spiele!B:B,Spiele!F:F))","v":""},"","","",null,null,-1,-1,1,0]
[null,null,{"$f":"IF(B9124=\"\",\"\",LOOKUP(B9124,Spiele!B:B,Spiele!C:C))","v":""},{"$f":"IF(B9124=\"\",\"\",LOOKUP(B9124,Spiele!B:B,Spiele!D:D))","v":""},{"$f":"IF(B9124=\"\",\"\",LOOKUP(B9124,Spiele!B:B,Spiele!E:E))","v":""},{"$f":"IF(B9124=\"\",\"\",LOOKUP(B9124,Spiele!B:B,Spiele!F:F))","v":""},"","","",null,null,-1,-1,1,0]
[null,null,{"$f":"IF(B9128=\"\",\"\",LOOKUP(B9128,Spiele!B:B,Spiele!C:C))","v":""},{"$f":"IF(B9128=\"\",\"\",LOOKUP(B9128,Spiele!B:B,Spiele!D:D))","v":""},{"$f":"IF(B9128=\"\",\"\",LOOKUP(B9128,Spiele!B:B,Spiele!E:E))","v":""},{"$f":"IF(B9128=\"\",\"\",LOOKUP(B9128,Spiele!B:B,Spiele!F:F))","v":""},"","","",null,null,-1,-1,1,0]
[null,null,{"$f":"IF(B9133=\"\",\"\",LOOKUP(B9133,Spiele!B:B,Spiele!C:C))","v":""},{"$f":"IF(B9133=\"\",\"\",LOOKUP(B9133,Spiele!B:B,Spiele!D:D))","v":""},{"$f":"IF(B9133=\"\",\"\",LOOKUP(B9133,Spiele!B:B,Spiele!E:E))","v":""},{"$f":"IF(B9133=\"\",\"\",LOOKUP(B9133,Spiele!B:B,Spiele!F:F))","v":""},"","","",null,null,-1,-1,1,0]
[null,null,{"$f":"IF(B9138=\"\",\"\",LOOKUP(B9138,Spiele!B:B,Spiele!C:C))","v":""},{"$f":"IF(B9138=\"\",\"\",LOOKUP(B9138,Spiele!B:B,Spiele!D:D))","v":""},{"$f":"IF(B9138=\"\",\"\",LOOKUP(B9138,Spiele!B:B,Spiele!E:E))","v":""},{"$f":"IF(B9138=\"\",\"\",LOOKUP(B9138,Spiele!B:B,Spiele!F:F))","v":""},"","","",null,null,-1,-1,1,0]
[null,null,{"$f":"IF(B9140=\"\",\"\",LOOKUP(B9140,Spiele!B:B,Spiele!C:C))","v":""},{"$f":"IF(B9140=\"\",\"\",LOOKUP(B9140,Spiele!B:B,Spiele!D:D))","v":""},{"$f":"IF(B9140=\"\",\"\",LOOKUP(B9140,Spiele!B:B,Spiele!E:E))","v":""},{"$f":"IF(B9140=\"\",\"\",LOOKUP(B9140,Spiele!B:B,Spiele!F:F))","v":""},"","","",null,null,-1,-1,1,0]
[null,null,{"$f":"IF(B9143=\"\",\"\",LOOKUP(B9143,Spiele!B:B,Spiele!C:C))","v":""},{"$f":"IF(B9143=\"\",\"\",LOOKUP(B9143,Spiele!B:B,Spiele!D:D))","v":""},{"$f":"IF(B9143=\"\",\"\",LOOKUP(B9143,Spiele!B:B,Spiele!E:E))","v":""},{"$f":"IF(B9143=\"\",\"\",LOOKUP(B9143,Spiele!B:B,Spiele!F:F))","v":""},"","","",null,null,-1,-1,1,0]
[null,null,{"$f":"IF(B9148=\"\",\"\",LOOKUP(B9148,Spiele!B:B,Spiele!C:C))","v":""},{"$f":"IF(B9148=\"\",\"\",LOOKUP(B9148,Spiele!B:B,Spiele!D:D))","v":""},{"$f":"IF(B9148=\"\",\"\",LOOKUP(B9148,Spiele!B:B,Spiele!E:E))","v":""},{"$f":"IF(B9148=\"\",\"\",LOOKUP(B9148,Spiele!B:B,Spiele!F:F))","v":""},"","","",null,null,-1,-1,1,0]
[null,null,{"$f":"IF(B9153=\"\",\"\",LOOKUP(B9153,Spiele!B:B,Spiele!C:C))","v":""},{"$f":"IF(B9153=\"\",\"\",LOOKUP(B9153,Spiele!B:B,Spiele!D:D))","v":""},{"$f":"IF(B9153=\"\",\"\",LOOKUP(B9153,Spiele!B:B,Spiele!E:E))","v":""},{"$f":"IF(B9153=\"\",\"\",LOOKUP(B9153,Spiele!B:B,Spiele!F:F))","v":""},"","","",null,null,-1,-1,1,0]
[null,null,{"$f":"IF(B9154=\"\",\"\",LOOKUP(B9154,Spiele!B:B,Spiele!C:C))","v":""},{"$f":"IF(B9154=\"\",\"\",LOOKUP(B9154,Spiele!B:B,Spiele!D:D))","v":""},{"$f":"IF(B9154=\"\",\"\",LOOKUP(B9154,Spiele!B:B,Spiele!E:E))","v":""},{"$f":"IF(B9154=\"\",\"\",LOOKUP(B9154,Spiele!B:B,Spiele!F:F))","v":""},"","","",null,null,-1,-1,1,0]
[null,null,{"$f":"IF(B9158=\"\",\"\",LOOKUP(B9158,Spiele!B:B,Spiele!C:C))","v":""},{"$f":"IF(B9158=\"\",\"\",LOOKUP(B9158,Spiele!B:B,Spiele!D:D))","v":""},{"$f":"IF(B9158=\"\",\"\",LOOKUP(B9158,Spiele!B:B,Spiele!E:E))","v":""},{"$f":"IF(B9158=\"\",\"\",LOOKUP(B9158,Spiele!B:B,Spiele!F:F))","v":""},"","","",null,null,-1,-1,1,0]
[null,null,{"$f":"IF(B9163=\"\",\"\",LOOKUP(B9163,Spiele!B:B,Spiele!C:C))","v":""},{"$f":"IF(B9163=\"\",\"\",LOOKUP(B9163,Spiele!B:B,Spiele!D:D))","v":""},{"$f":"IF(B9163=\"\",\"\",LOOKUP(B9163,Spiele!B:B,Spiele!E:E))","v":""},{"$f":"IF(B9163=\"\",\"\",LOOKUP(B9163,Spiele!B:B,Spiele!F:F))","v":""},"","","",null,null,-1,-1,1,0]
[null,null,{"$f":"IF(B9168=\"\",\"\",LOOKUP(B9168,Spiele!B:B,Spiele!C:C))","v":""},{"$f":"IF(B9168=\"\",\"\",LOOKUP(B9168,Spiele!B:B,Spiele!D:D))","v":""},{"$f":"IF(B9168=\"\",\"\",LOOKUP(B9168,Spiele!B:B,Spiele!E:E))","v":""},{"$f":"IF(B9168=\"\",\"\",LOOKUP(B9168,Spiele!B:B,Spiele!F:F))","v":""},"","","",null,null,-1,-1,1,0]
[null,null,{"$f":"IF(B9170=\"\",\"\",LOOKUP(B9170,Spiele!B:B,Spiele!C:C))","v":""},{"$f":"IF(B9170=\"\",\"\",LOOKUP(B9170,Spiele!B:B,Spiele!D:D))","v":""},{"$f":"IF(B9170=\"\",\"\",LOOKUP(B9170,Spiele!B:B,Spiele!E:E))","v":""},{"$f":"IF(B9170=\"\",\"\",LOOKUP(B9170,Spiele!B:B,Spiele!F:F))","v":""},"","","",null,null,-1,-1,1,0]
[null,null,{"$f":"IF(B9173=\"\",\"\",LOOKUP(B9173,Spiele!B:B,Spiele!C:C))","v":""},{"$f":"IF(B9173=\"\",\"\",LOOKUP(B9173,Spiele!B:B,Spiele!D:D))","v":""},{"$f":"IF(B9173=\"\",\"\",LOOKUP(B9173,Spiele!B:B,Spiele!E:E))","v":""},{"$f":"IF(B9173=\"\",\"\",LOOKUP(B9173,Spiele!B:B,Spiele!F:F))","v":""},"","","",null,null,-1,-1,1,0]
[null,null,{"$f":"IF(B9178=\"\",\"\",LOOKUP(B9178,Spiele!B:B,Spiele!C:C))","v":""},{"$f":"IF(B9178=\"\",\"\",LOOKUP(B9178,Spiele!B:B,Spiele!D:D))","v":""},{"$f":"IF(B9178=\"\",\"\",LOOKUP(B9178,Spiele!B:B,Spiele!E:E))","v":""},{"$f":"IF(B9178=\"\",\"\",LOOKUP(B9178,Spiele!B:B,Spiele!F:F))","v":""},"","","",null,null,-1,-1,1,0]
[null,null,{"$f":"IF(B9183=\"\",\"\",LOOKUP(B9183,Spiele!B:B,Spiele!C:C))","v":""},{"$f":"IF(B9183=\"\",\"\",LOOKUP(B9183,Spiele!B:B,Spiele!D:D))","v":""},{"$f":"IF(B9183=\"\",\"\",LOOKUP(B9183,Spiele!B:B,Spiele!E:E))","v":""},{"$f":"IF(B9183=\"\",\"\",LOOKUP(B9183,Spiele!B:B,Spiele!F:F))","v":""},"","","",null,null,-1,-1,1,0]
[null,null,{"$f":"IF(B9184=\"\",\"\",LOOKUP(B9184,Spiele!B:B,Spiele!C:C))","v":""},{"$f":"IF(B9184=\"\",\"\",LOOKUP(B9184,Spiele!B:B,Spiele!D:D))","v":""},{"$f":"IF(B9184=\"\",\"\",LOOKUP(B9184,Spiele!B:B,Spiele!E:E))","v":""},{"$f":"IF(B9184=\"\",\"\",LOOKUP(B9184,Spiele!B:B,Spiele!F:F))","v":""},{"$f":"IF(E9184=\"\",\"\",IF(E9184>F9184,1,0))","v":""},{"$f":"IF(F9184=\"\",\"\",IF(E9184<F9184,1,0))","v":""},{"$f":"IF(E9184=\"\",\"\",IF(E9184=F9184,1,0))","v":""},null,null,{"$f":"IF(E9184=\"\",-1,IF(J9184>K9184,1,-1))","v":-1},{"$f":"IF(F9184=\"\",-1,IF(J9184<K9184,1,-1))","v":-1},{"$f":"IF(E9184=\"-\",-1,IF(J9184=K9184,1,-1))","v":1},{"$f":"IF(E9184=\"\",0,IF(E9184=J9184,1,0)+IF(F9184=K9184,1,0)+IF(G9184=L9184,1,0)+IF(H9184=M9184,1,0)+IF(I9184=N9184,1,0))","v":0}]
[null,null,{"$f":"IF(B9188=\"\",\"\",LOOKUP(B9188,Spiele!B:B,Spiele!C:C))","v":""},{"$f":"IF(B9188=\"\",\"\",LOOKUP(B9188,Spiele!B:B,Spiele!D:D))","v":""},{"$f":"IF(B9188=\"\",\"\",LOOKUP(B9188,Spiele!B:B,Spiele!E:E))","v":""},{"$f":"IF(B9188=\"\",\"\",LOOKUP(B9188,Spiele!B:B,Spiele!F:F))","v":""},"","","",null,null,-1,-1,1,0]
[null,null,{"$f":"IF(B9193=\"\",\"\",LOOKUP(B9193,Spiele!B:B,Spiele!C:C))","v":""},{"$f":"IF(B9193=\"\",\"\",LOOKUP(B9193,Spiele!B:B,Spiele!D:D))","v":""},{"$f":"IF(B9193=\"\",\"\",LOOKUP(B9193,Spiele!B:B,Spiele!E:E))","v":""},{"$f":"IF(B9193=\"\",\"\",LOOKUP(B9193,Spiele!B:B,Spiele!F:F))","v":""},"","","",null,null,-1,-1,1,0]
[null,null,{"$f":"IF(B9198=\"\",\"\",LOOKUP(B9198,Spiele!B:B,Spiele!C:C))","v":""},{"$f":"IF(B9198=\"\",\"\",LOOKUP(B9198,Spiele!B:B,Spiele!D:D))","v":""},{"$f":"IF(B9198=\"\",\"\",LOOKUP(B9198,Spiele!B:B,Spiele!E:E))","v":""},{"$f":"IF(B9198=\"\",\"\",LOOKUP(B9198,Spiele!B:B,Spiele!F:F))","v":""},"","","",null,null,-1,-1,1,0]
[null,null,{"$f":"IF(B9200=\"\",\"\",LOOKUP(B9200,Spiele!B:B,Spiele!C:C))","v":""},{"$f":"IF(B9200=\"\",\"\",LOOKUP(B9200,Spiele!B:B,Spiele!D:D))","v":""},{"$f":"IF(B9200=\"\",\"\",LOOKUP(B9200,Spiele!B:B,Spiele!E:E))","v":""},{"$f":"IF(B9200=\"\",\"\",LOOKUP(B9200,Spiele!B:B,Spiele!F:F))","v":""},"","","",null,null,-1,-1,1,0]
[null,null,{"$f":"IF(B9203=\"\",\"\",LOOKUP(B9203,Spiele!B:B,Spiele!C:C))","v":""},{"$f":"IF(B9203=\"\",\"\",LOOKUP(B9203,Spiele!B:B,Spiele!D:D))","v":""},{"$f":"IF(B9203=\"\",\"\",LOOKUP(B9203,Spiele!B:B,Spiele!E:E))","v":""},{"$f":"IF(B9203=\"\",\"\",LOOKUP(B9203,Spiele!B:B,Spiele!F:F))","v":""},"","","",null,null,-1,-1,1,0]
[null,null,{"$f":"IF(B9208=\"\",\"\",LOOKUP(B9208,Spiele!B:B,Spiele!C:C))","v":""},{"$f":"IF(B9208=\"\",\"\",LOOKUP(B9208,Spiele!B:B,Spiele!D:D))","v":""},{"$f":"IF(B9208=\"\",\"\",LOOKUP(B9208,Spiele!B:B,Spiele!E:E))","v":""},{"$f":"IF(B9208=\"\",\"\",LOOKUP(B9208,Spiele!B:B,Spiele!F:F))","v":""},"","","",null,null,-1,-1,1,0]
[null,null,{"$f":"IF(B9213=\"\",\"\",LOOKUP(B9213,Spiele!B:B,Spiele!C:C))","v":""},{"$f":"IF(B9213=\"\",\"\",LOOKUP(B9213,Spiele!B:B,Spiele!D:D))","v":""},{"$f":"IF(B9213=\"\",\"\",LOOKUP(B9213,Spiele!B:B,Spiele!E:E))","v":""},{"$f":"IF(B9213=\"\",\"\",LOOKUP(B9213,Spiele!B:B,Spiele!F:F))","v":""},"","","",null,null,-1,-1,1,0]
[null,null,{"$f":"IF(B9214=\"\",\"\",LOOKUP(B9214,Spiele!B:B,Spiele!C:C))","v":""},{"$f":"IF(B9214=\"\",\"\",LOOKUP(B9214,Spiele!B:B,Spiele!D:D))","v":""},{"$f":"IF(B9214=\"\",\"\",LOOKUP(B9214,Spiele!B:B,Spiele!E:E))","v":""},{"$f":"IF(B9214=\"\",\"\",LOOKUP(B9214,Spiele!B:B,Spiele!F:F))","v":""},"","","",null,null,-1,-1,1,0]
[null,null,{"$f":"IF(B9218=\"\",\"\",LOOKUP(B9218,Spiele!B:B,Spiele!C:C))","v":""},{"$f":"IF(B9218=\"\",\"\",LOOKUP(B9218,Spiele!B:B,Spiele!D:D))","v":""},{"$f":"IF(B9218=\"\",\"\",LOOKUP(B9218,Spiele!B:B,Spiele!E:E))","v":""},{"$f":"IF(B9218=\"\",\"\",LOOKUP(B9218,Spiele!B:B,Spiele!F:F))","v":""},"","","",null,null,-1,-1,1,0]
[null,null,{"$f":"IF(B9223=\"\",\"\",LOOKUP(B9223,Spiele!B:B,Spiele!C:C))","v":""},{"$f":"IF(B9223=\"\",\"\",LOOKUP(B9223,Spiele!B:B,Spiele!D:D))","v":""},{"$f":"IF(B9223=\"\",\"\",LOOKUP(B9223,Spiele!B:B,Spiele!E:E))","v":""},{"$f":"IF(B9223=\"\",\"\",LOOKUP(B9223,Spiele!B:B,Spiele!F:F))","v":""},"","","",null,null,-1,-1,1,0]
[null,null,{"$f":"IF(B9228=\"\",\"\",LOOKUP(B9228,Spiele!B:B,Spiele!C:C))","v":""},{"$f":"IF(B9228=\"\",\"\",LOOKUP(B9228,Spiele!B:B,Spiele!D:D))","v":""},{"$f":"IF(B9228=\"\",\"\",LOOKUP(B9228,Spiele!B:B,Spiele!E:E))","v":""},{"$f":"IF(B9228=\"\",\"\",LOOKUP(B9228,Spiele!B:B,Spiele!F:F))","v":""},"","","",null,null,-1,-1,1,0]
[null,null,{"$f":"IF(B9231=\"\",\"\",LOOKUP(B9231,Spiele!B:B,Spiele!C:C))","v":""},{"$f":"IF(B9231=\"\",\"\",LOOKUP(B9231,Spiele!B:B,Spiele!D:D))","v":""},{"$f":"IF(B9231=\"\",\"\",LOOKUP(B9231,Spiele!B:B,Spiele!E:E))","v":""},{"$f":"IF(B9231=\"\",\"\",LOOKUP(B9231,Spiele!B:B,Spiele!F:F))","v":""},"","","",null,null,-1,-1,1,0]
[null,null,{"$f":"IF(B9233=\"\",\"\",LOOKUP(B9233,Spiele!B:B,Spiele!C:C))","v":""},{"$f":"IF(B9233=\"\",\"\",LOOKUP(B9233,Spiele!B:B,Spiele!D:D))","v":""},{"$f":"IF(B9233=\"\",\"\",LOOKUP(B9233,Spiele!B:B,Spiele!E:E))","v":""},{"$f":"IF(B9233=\"\",\"\",LOOKUP(B9233,Spiele!B:B,Spiele!F:F))","v":""},"","","",null,null,-1,-1,1,0]
[null,null,{"$f":"IF(B9238=\"\",\"\",LOOKUP(B9238,Spiele!B:B,Spiele!C:C))","v":""},{"$f":"IF(B9238=\"\",\"\",LOOKUP(B9238,Spiele!B:B,Spiele!D:D))","v":""},{"$f":"IF(B9238=\"\",\"\",LOOKUP(B9238,Spiele!B:B,Spiele!E:E))","v":""},{"$f":"IF(B9238=\"\",\"\",LOOKUP(B9238,Spiele!B:B,Spiele!F:F))","v":""},"","","",null,null,-1,-1,1,0]
[null,null,{"$f":"IF(B9243=\"\",\"\",LOOKUP(B9243,Spiele!B:B,Spiele!C:C))","v":""},{"$f":"IF(B9243=\"\",\"\",LOOKUP(B9243,Spiele!B:B,Spiele!D:D))","v":""},{"$f":"IF(B9243=\"\",\"\",LOOKUP(B9243,Spiele!B:B,Spiele!E:E))","v":""},{"$f":"IF(B9243=\"\",\"\",LOOKUP(B9243,Spiele!B:B,Spiele!F:F))","v":""},"","","",null,null,-1,-1,1,0]
[null,null,{"$f":"IF(B9244=\"\",\"\",LOOKUP(B9244,Spiele!B:B,Spiele!C:C))","v":""},{"$f":"IF(B9244=\"\",\"\",LOOKUP(B9244,Spiele!B:B,Spiele!D:D))","v":""},{"$f":"IF(B9244=\"\",\"\",LOOKUP(B9244,Spiele!B:B,Spiele!E:E))","v":""},{"$f":"IF(B9244=\"\",\"\",LOOKUP(B9244,Spiele!B:B,Spiele!F:F))","v":""},"","","",null,null,-1,-1,1,0]
[null,null,{"$f":"IF(B9248=\"\",\"\",LOOKUP(B9248,Spiele!B:B,Spiele!C:C))","v":""},{"$f":"IF(B9248=\"\",\"\",LOOKUP(B9248,Spiele!B:B,Spiele!D:D))","v":""},{"$f":"IF(B9248=\"\",\"\",LOOKUP(B9248,Spiele!B:B,Spiele!E:E))","v":""},{"$f":"IF(B9248=\"\",\"\",LOOKUP(B9248,Spiele!B:B,Spiele!F:F))","v":""},{"$f":"IF(E9248=\"\",\"\",IF(E9248>F9248,1,0))","v":""},{"$f":"IF(F9248=\"\",\"\",IF(E9248<F9248,1,0))","v":""},{"$f":"IF(E9248=\"\",\"\",IF(E9248=F9248,1,0))","v":""},null,null,{"$f":"IF(E9248=\"\",-1,IF(J9248>K9248,1,-1))","v":-1},{"$f":"IF(F9248=\"\",-1,IF(J9248<K9248,1,-1))","v":-1},{"$f":"IF(E9248=\"-\",-1,IF(J9248=K9248,1,-1))","v":1},{"$f":"IF(E9248=\"\",0,IF(E9248=J9248,1,0)+IF(F9248=K9248,1,0)+IF(G9248=L9248,1,0)+IF(H9248=M9248,1,0)+IF(I9248=N9248,1,0))","v":0}]
[null,null,{"$f":"IF(B9253=\"\",\"\",LOOKUP(B9253,Spiele!B:B,Spiele!C:C))","v":""},{"$f":"IF(B9253=\"\",\"\",LOOKUP(B9253,Spiele!B:B,Spiele!D:D))","v":""},{"$f":"IF(B9253=\"\",\"\",LOOKUP(B9253,Spiele!B:B,Spiele!E:E))","v":""},{"$f":"IF(B9253=\"\",\"\",LOOKUP(B9253,Spiele!B:B,Spiele!F:F))","v":""},"","","",null,null,-1,-1,1,0]
[null,null,{"$f":"IF(B9258=\"\",\"\",LOOKUP(B9258,Spiele!B:B,Spiele!C:C))","v":""},{"$f":"IF(B9258=\"\",\"\",LOOKUP(B9258,Spiele!B:B,Spiele!D:D))","v":""},{"$f":"IF(B9258=\"\",\"\",LOOKUP(B9258,Spiele!B:B,Spiele!E:E))","v":""},{"$f":"IF(B9258=\"\",\"\",LOOKUP(B9258,Spiele!B:B,Spiele!F:F))","v":""},"","","",null,null,-1,-1,1,0]
[null,null,{"$f":"IF(B9261=\"\",\"\",LOOKUP(B9261,Spiele!B:B,Spiele!C:C))","v":""},{"$f":"IF(B9261=\"\",\"\",LOOKUP(B9261,Spiele!B:B,Spiele!D:D))","v":""},{"$f":"IF(B9261=\"\",\"\",LOOKUP(B9261,Spiele!B:B,Spiele!E:E))","v":""},{"$f":"IF(B9261=\"\",\"\",LOOKUP(B9261,Spiele!B:B,Spiele!F:F))","v":""},"","","",null,null,-1,-1,1,0]
[null,null,{"$f":"IF(B9263=\"\",\"\",LOOKUP(B9263,Spiele!B:B,Spiele!C:C))","v":""},{"$f":"IF(B9263=\"\",\"\",LOOKUP(B9263,Spiele!B:B,Spiele!D:D))","v":""},{"$f":"IF(B9263=\"\",\"\",LOOKUP(B9263,Spiele!B:B,Spiele!E:E))","v":""},{"$f":"IF(B9263=\"\",\"\",LOOKUP(B9263,Spiele!B:B,Spiele!F:F))","v":""},"","","",null,null,-1,-1,1,0]
[null,null,{"$f":"IF(B9268=\"\",\"\",LOOKUP(B9268,Spiele!B:B,Spiele!C:C))","v":""},{"$f":"IF(B9268=\"\",\"\",LOOKUP(B9268,Spiele!B:B,Spiele!D:D))","v":""},{"$f":"IF(B9268=\"\",\"\",LOOKUP(B9268,Spiele!B:B,Spiele!E:E))","v":""},{"$f":"IF(B9268=\"\",\"\",LOOKUP(B9268,Spiele!B:B,Spiele!F:F))","v":""},"","","",null,null,-1,-1,1,0]
[null,null,{"$f":"IF(B9273=\"\",\"\",LOOKUP(B9273,Spiele!B:B,Spiele!C:C))","v":""},{"$f":"IF(B9273=\"\",\"\",LOOKUP(B9273,Spiele!B:B,Spiele!D:D))","v":""},{"$f":"IF(B9273=\"\",\"\",LOOKUP(B9273,Spiele!B:B,Spiele!E:E))","v":""},{"$f":"IF(B9273=\"\",\"\",LOOKUP(B9273,Spiele!B:B,Spiele!F:F))","v":""},"","","",null,null,-1,-1,1,0]
[null,null,{"$f":"IF(B9274=\"\",\"\",LOOKUP(B9274,Spiele!B:B,Spiele!C:C))","v":""},{"$f":"IF(B9274=\"\",\"\",LOOKUP(B9274,Spiele!B:B,Spiele!D:D))","v":""},{"$f":"IF(B9274=\"\",\"\",LOOKUP(B9274,Spiele!B:B,Spiele!E:E))","v":""},{"$f":"IF(B9274=\"\",\"\",LOOKUP(B9274,Spiele!B:B,Spiele!F:F))","v":""},"","","",null,null,-1,-1,1,0]
[null,null,{"$f":"IF(B9278=\"\",\"\",LOOKUP(B9278,Spiele!B:B,Spiele!C:C))","v":""},{"$f":"IF(B9278=\"\",\"\",LOOKUP(B9278,Spiele!B:B,Spiele!D:D))","v":""},{"$f":"IF(B9278=\"\",\"\",LOOKUP(B9278,Spiele!B:B,Spiele!E:E))","v":""},{"$f":"IF(B9278=\"\",\"\",LOOKUP(B9278,Spiele!B:B,Spiele!F:F))","v":""},"","","",null,null,-1,-1,1,0]
[null,null,{"$f":"IF(B9283=\"\",\"\",LOOKUP(B9283,Spiele!B:B,Spiele!C:C))","v":""},{"$f":"IF(B9283=\"\",\"\",LOOKUP(B9283,Spiele!B:B,Spiele!D:D))","v":""},{"$f":"IF(B9283=\"\",\"\",LOOKUP(B9283,Spiele!B:B,Spiele!E:E))","v":""},{"$f":"IF(B9283=\"\",\"\",LOOKUP(B9283,Spiele!B:B,Spiele!F:F))","v":""},"","","",null,null,-1,-1,1,0]
[null,null,{"$f":"IF(B9288=\"\",\"\",LOOKUP(B9288,Spiele!B:B,Spiele!C:C))","v":""},{"$f":"IF(B9288=\"\",\"\",LOOKUP(B9288,Spiele!B:B,Spiele!D:D))","v":""},{"$f":"IF(B9288=\"\",\"\",LOOKUP(B9288,Spiele!B:B,Spiele!E:E))","v":""},{"$f":"IF(B9288=\"\",\"\",LOOKUP(B9288,Spiele!B:B,Spiele!F:F))","v":""},"","","",null,null,-1,-1,1,0]
[null,null,{"$f":"IF(B9291=\"\",\"\",LOOKUP(B9291,Spiele!B:B,Spiele!C:C))","v":""},{"$f":"IF(B9291=\"\",\"\",LOOKUP(B9291,Spiele!B:B,Spiele!D:D))","v":""},{"$f":"IF(B9291=\"\",\"\",LOOKUP(B9291,Spiele!B:B,Spiele!E:E))","v":""},{"$f":"IF(B9291=\"\",\"\",LOOKUP(B9291,Spiele!B:B,Spiele!F:F))","v":""},"","","",null,null,-1,-1,1,0]
[null,null,{"$f":"IF(B9293=\"\",\"\",LOOKUP(B9293,Spiele!B:B,Spiele!C:C))","v":""},{"$f":"IF(B9293=\"\",\"\",LOOKUP(B9293,Spiele!B:B,Spiele!D:D))","v":""},{"$f":"IF(B9293=\"\",\"\",LOOKUP(B9293,Spiele!B:B,Spiele!E:E))","v":""},{"$f":"IF(B9293=\"\",\"\",LOOKUP(B9293,Spiele!B:B,Spiele!F:F))","v":""},"","","",null,null,-1,-1,1,0]
[null,null,{"$f":"IF(B9298=\"\",\"\",LOOKUP(B9298,Spiele!B:B,Spiele!C:C))","v":""},{"$f":"IF(B9298=\"\",\"\",LOOKUP(B9298,Spiele!B:B,Spiele!D:D))","v":""},{"$f":"IF(B9298=\"\",\"\",LOOKUP(B9298,Spiele!B:B,Spiele!E:E))","v":""},{"$f":"IF(B9298=\"\",\"\",LOOKUP(B9298,Spiele!B:B,Spiele!F:F))","v":""},"","","",null,null,-1,-1,1,0]
[null,null,{"$f":"IF(B9303=\"\",\"\",LOOKUP(B9303,Spiele!B:B,Spiele!C:C))","v":""},{"$f":"IF(B9303=\"\",\"\",LOOKUP(B9303,Spiele!B:B,Spiele!D:D))","v":""},{"$f":"IF(B9303=\"\",\"\",LOOKUP(B9303,Spiele!B:B,Spiele!E:E))","v":""},{"$f":"IF(B9303=\"\",\"\",LOOKUP(B9303,Spiele!B:B,Spiele!F:F))","v":""},"","","",null,null,-1,-1,1,0]
[null,null,{"$f":"IF(B9304=\"\",\"\",LOOKUP(B9304,Spiele!B:B,Spiele!C:C))","v":""},{"$f":"IF(B9304=\"\",\"\",LOOKUP(B9304,Spiele!B:B,Spiele!D:D))","v":""},{"$f":"IF(B9304=\"\",\"\",LOOKUP(B9304,Spiele!B:B,Spiele!E:E))","v":""},{"$f":"IF(B9304=\"\",\"\",LOOKUP(B9304,Spiele!B:B,Spiele!F:F))","v":""},"","","",null,null,-1,-1,1,0]
[null,null,{"$f":"IF(B9308=\"\",\"\",LOOKUP(B9308,Spiele!B:B,Spiele!C:C))","v":""},{"$f":"IF(B9308=\"\",\"\",LOOKUP(B9308,Spiele!B:B,Spiele!D:D))","v":""},{"$f":"IF(B9308=\"\",\"\",LOOKUP(B9308,Spiele!B:B,Spiele!E:E))","v":""},{"$f":"IF(B9308=\"\",\"\",LOOKUP(B9308,Spiele!B:B,Spiele!F:F))","v":""},"","","",null,null,-1,-1,1,0]
[null,null,{"$f":"IF(B9313=\"\",\"\",LOOKUP(B9313,Spiele!B:B,Spiele!C:C))","v":""},{"$f":"IF(B9313=\"\",\"\",LOOKUP(B9313,Spiele!B:B,Spiele!D:D))","v":""},{"$f":"IF(B9313=\"\",\"\",LOOKUP(B9313,Spiele!B:B,Spiele!E:E))","v":""},{"$f":"IF(B9313=\"\",\"\",LOOKUP(B9313,Spiele!B:B,Spiele!F:F))","v":""},"","","",null,null,-1,-1,1,0]
[null,null,{"$f":"IF(B9318=\"\",\"\",LOOKUP(B9318,Spiele!B:B,Spiele!C:C))","v":""},{"$f":"IF(B9318=\"\",\"\",LOOKUP(B9318,Spiele!B:B,Spiele!D:D))","v":""},{"$f":"IF(B9318=\"\",\"\",LOOKUP(B9318,Spiele!B:B,Spiele!E:E))","v":""},{"$f":"IF(B9318=\"\",\"\",LOOKUP(B9318,Spiele!B:B,Spiele!F:F))","v":""},"","","",null,null,-1,-1,1,0]
[null,null,{"$f":"IF(B9321=\"\",\"\",LOOKUP(B9321,Spiele!B:B,Spiele!C:C))","v":""},{"$f":"IF(B9321=\"\",\"\",LOOKUP(B9321,Spiele!B:B,Spiele!D:D))","v":""},{"$f":"IF(B9321=\"\",\"\",LOOKUP(B9321,Spiele!B:B,Spiele!E:E))","v":""},{"$f":"IF(B9321=\"\",\"\",LOOKUP(B9321,Spiele!B:B,Spiele!F:F))","v":""},"","","",null,null,-1,-1,1,0]
[null,null,{"$f":"IF(B9323=\"\",\"\",LOOKUP(B9323,Spiele!B:B,Spiele!C:C))","v":""},{"$f":"IF(B9323=\"\",\"\",LOOKUP(B9323,Spiele!B:B,Spiele!D:D))","v":""},{"$f":"IF(B9323=\"\",\"\",LOOKUP(B9323,Spiele!B:B,Spiele!E:E))","v":""},{"$f":"IF(B9323=\"\",\"\",LOOKUP(B9323,Spiele!B:B,Spiele!F:F))","v":""},"","","",null,null,-1,-1,1,0]
[null,null,{"$f":"IF(B9328=\"\",\"\",LOOKUP(B9328,Spiele!B:B,Spiele!C:C))","v":""},{"$f":"IF(B9328=\"\",\"\",LOOKUP(B9328,Spiele!B:B,Spiele!D:D))","v":""},{"$f":"IF(B9328=\"\",\"\",LOOKUP(B9328,Spiele!B:B,Spiele!E:E))","v":""},{"$f":"IF(B9328=\"\",\"\",LOOKUP(B9328,Spiele!B:B,Spiele!F:F))","v":""},"","","",null,null,-1,-1,1,0]
[null,null,{"$f":"IF(B9333=\"\",\"\",LOOKUP(B9333,Spiele!B:B,Spiele!C:C))","v":""},{"$f":"IF(B9333=\"\",\"\",LOOKUP(B9333,Spiele!B:B,Spiele!D:D))","v":""},{"$f":"IF(B9333=\"\",\"\",LOOKUP(B9333,Spiele!B:B,Spiele!E:E))","v":""},{"$f":"IF(B9333=\"\",\"\",LOOKUP(B9333,Spiele!B:B,Spiele!F:F))","v":""},"","","",null,null,-1,-1,1,0]
[null,null,{"$f":"IF(B9334=\"\",\"\",LOOKUP(B9334,Spiele!B:B,Spiele!C:C))","v":""},{"$f":"IF(B9334=\"\",\"\",LOOKUP(B9334,Spiele!B:B,Spiele!D:D))","v":""},{"$f":"IF(B9334=\"\",\"\",LOOKUP(B9334,Spiele!B:B,Spiele!E:E))","v":""},{"$f":"IF(B9334=\"\",\"\",LOOKUP(B9334,Spiele!B:B,Spiele!F:F))","v":""},"","","",null,null,-1,-1,1,0]
[null,null,{"$f":"IF(B9338=\"\",\"\",LOOKUP(B9338,Spiele!B:B,Spiele!C:C))","v":""},{"$f":"IF(B9338=\"\",\"\",LOOKUP(B9338,Spiele!B:B,Spiele!D:D))","v":""},{"$f":"IF(B9338=\"\",\"\",LOOKUP(B9338,Spiele!B:B,Spiele!E:E))","v":""},{"$f":"IF(B9338=\"\",\"\",LOOKUP(B9338,Spiele!B:B,Spiele!F:F))","v":""},"","","",null,null,-1,-1,1,0]
[null,null,{"$f":"IF(B9343=\"\",\"\",LOOKUP(B9343,Spiele!B:B,Spiele!C:C))","v":""},{"$f":"IF(B9343=\"\",\"\",LOOKUP(B9343,Spiele!B:B,Spiele!D:D))","v":""},{"$f":"IF(B9343=\"\",\"\",LOOKUP(B9343,Spiele!B:B,Spiele!E:E))","v":""},{"$f":"IF(B9343=\"\",\"\",LOOKUP(B9343,Spiele!B:B,Spiele!F:F))","v":""},"","","",null,null,-1,-1,1,0]
[null,null,{"$f":"IF(B9348=\"\",\"\",LOOKUP(B9348,Spiele!B:B,Spiele!C:C))","v":""},{"$f":"IF(B9348=\"\",\"\",LOOKUP(B9348,Spiele!B:B,Spiele!D:D))","v":""},{"$f":"IF(B9348=\"\",\"\",LOOKUP(B9348,Spiele!B:B,Spiele!E:E))","v":""},{"$f":"IF(B9348=\"\",\"\",LOOKUP(B9348,Spiele!B:B,Spiele!F:F))","v":""},"","","",null,null,-1,-1,1,0]
[null,null,{"$f":"IF(B9351=\"\",\"\",LOOKUP(B9351,Spiele!B:B,Spiele!C:C))","v":""},{"$f":"IF(B9351=\"\",\"\",LOOKUP(B9351,Spiele!B:B,Spiele!D:D))","v":""},{"$f":"IF(B9351=\"\",\"\",LOOKUP(B9351,Spiele!B:B,Spiele!E:E))","v":""},{"$f":"IF(B9351=\"\",\"\",LOOKUP(B9351,Spiele!B:B,Spiele!F:F))","v":""},"","","",null,null,-1,-1,1,0]
[null,null,{"$f":"IF(B9353=\"\",\"\",LOOKUP(B9353,Spiele!B:B,Spiele!C:C))","v":""},{"$f":"IF(B9353=\"\",\"\",LOOKUP(B9353,Spiele!B:B,Spiele!D:D))","v":""},{"$f":"IF(B9353=\"\",\"\",LOOKUP(B9353,Spiele!B:B,Spiele!E:E))","v":""},{"$f":"IF(B9353=\"\",\"\",LOOKUP(B9353,Spiele!B:B,Spiele!F:F))","v":""},"","","",null,null,-1,-1,1,0]
[null,null,{"$f":"IF(B9358=\"\",\"\",LOOKUP(B9358,Spiele!B:B,Spiele!C:C))","v":""},{"$f":"IF(B9358=\"\",\"\",LOOKUP(B9358,Spiele!B:B,Spiele!D:D))","v":""},{"$f":"IF(B9358=\"\",\"\",LOOKUP(B9358,Spiele!B:B,Spiele!E:E))","v":""},{"$f":"IF(B9358=\"\",\"\",LOOKUP(B9358,Spiele!B:B,Spiele!F:F))","v":""},"","","",null,null,-1,-1,1,0]
[null,null,{"$f":"IF(B9363=\"\",\"\",LOOKUP(B9363,Spiele!B:B,Spiele!C:C))","v":""},{"$f":"IF(B9363=\"\",\"\",LOOKUP(B9363,Spiele!B:B,Spiele!D:D))","v":""},{"$f":"IF(B9363=\"\",\"\",LOOKUP(B9363,Spiele!B:B,Spiele!E:E))","v":""},{"$f":"IF(B9363=\"\",\"\",LOOKUP(B9363,Spiele!B:B,Spiele!F:F))","v":""},"","","",null,null,-1,-1,1,0]
[null,null,{"$f":"IF(B9364=\"\",\"\",LOOKUP(B9364,Spiele!B:B,Spiele!C:C))","v":""},{"$f":"IF(B9364=\"\",\"\",LOOKUP(B9364,Spiele!B:B,Spiele!D:D))","v":""},{"$f":"IF(B9364=\"\",\"\",LOOKUP(B9364,Spiele!B:B,Spiele!E:E))","v":""},{"$f":"IF(B9364=\"\",\"\",LOOKUP(B9364,Spiele!B:B,Spiele!F:F))","v":""},"","","",null,null,-1,-1,1,0]
[null,null,{"$f":"IF(B9368=\"\",\"\",LOOKUP(B9368,Spiele!B:B,Spiele!C:C))","v":""},{"$f":"IF(B9368=\"\",\"\",LOOKUP(B9368,Spiele!B:B,Spiele!D:D))","v":""},{"$f":"IF(B9368=\"\",\"\",LOOKUP(B9368,Spiele!B:B,Spiele!E:E))","v":""},{"$f":"IF(B9368=\"\",\"\",LOOKUP(B9368,Spiele!B:B,Spiele!F:F))","v":""},"","","",null,null,-1,-1,1,0]
[null,null,{"$f":"IF(B9373=\"\",\"\",LOOKUP(B9373,Spiele!B:B,Spiele!C:C))","v":""},{"$f":"IF(B9373=\"\",\"\",LOOKUP(B9373,Spiele!B:B,Spiele!D:D))","v":""},{"$f":"IF(B9373=\"\",\"\",LOOKUP(B9373,Spiele!B:B,Spiele!E:E))","v":""},{"$f":"IF(B9373=\"\",\"\",LOOKUP(B9373,Spiele!B:B,Spiele!F:F))","v":""},"","","",null,null,-1,-1,1,0]
[null,null,{"$f":"IF(B9378=\"\",\"\",LOOKUP(B9378,Spiele!B:B,Spiele!C:C))","v":""},{"$f":"IF(B9378=\"\",\"\",LOOKUP(B9378,Spiele!B:B,Spiele!D:D))","v":""},{"$f":"IF(B9378=\"\",\"\",LOOKUP(B9378,Spiele!B:B,Spiele!E:E))","v":""},{"$f":"IF(B9378=\"\",\"\",LOOKUP(B9378,Spiele!B:B,Spiele!F:F))","v":""},"","","",null,null,-1,-1,1,0]
[null,null,{"$f":"IF(B9381=\"\",\"\",LOOKUP(B9381,Spiele!B:B,Spiele!C:C))","v":""},{"$f":"IF(B9381=\"\",\"\",LOOKUP(B9381,Spiele!B:B,Spiele!D:D))","v":""},{"$f":"IF(B9381=\"\",\"\",LOOKUP(B9381,Spiele!B:B,Spiele!E:E))","v":""},{"$f":"IF(B9381=\"\",\"\",LOOKUP(B9381,Spiele!B:B,Spiele!F:F))","v":""},"","","",null,null,-1,-1,1,0]
[null,null,{"$f":"IF(B9383=\"\",\"\",LOOKUP(B9383,Spiele!B:B,Spiele!C:C))","v":""},{"$f":"IF(B9383=\"\",\"\",LOOKUP(B9383,Spiele!B:B,Spiele!D:D))","v":""},{"$f":"IF(B9383=\"\",\"\",LOOKUP(B9383,Spiele!B:B,Spiele!E:E))","v":""},{"$f":"IF(B9383=\"\",\"\",LOOKUP(B9383,Spiele!B:B,Spiele!F:F))","v":""},"","","",null,null,-1,-1,1,0]
[null,null,{"$f":"IF(B9388=\"\",\"\",LOOKUP(B9388,Spiele!B:B,Spiele!C:C))","v":""},{"$f":"IF(B9388=\"\",\"\",LOOKUP(B9388,Spiele!B:B,Spiele!D:D))","v":""},{"$f":"IF(B9388=\"\",\"\",LOOKUP(B9388,Spiele!B:B,Spiele!E:E))","v":""},{"$f":"IF(B9388=\"\",\"\",LOOKUP(B9388,Spiele!B:B,Spiele!F:F))","v":""},"","","",null,null,-1,-1,1,0]
[null,null,{"$f":"IF(B9393=\"\",\"\",LOOKUP(B9393,Spiele!B:B,Spiele!C:C))","v":""},{"$f":"IF(B9393=\"\",\"\",LOOKUP(B9393,Spiele!B:B,Spiele!D:D))","v":""},{"$f":"IF(B9393=\"\",\"\",LOOKUP(B9393,Spiele!B:B,Spiele!E:E))","v":""},{"$f":"IF(B9393=\"\",\"\",LOOKUP(B9393,Spiele!B:B,Spiele!F:F))","v":""},"","","",null,null,-1,-1,1,0]
[null,null,{"$f":"IF(B9394=\"\",\"\",LOOKUP(B9394,Spiele!B:B,Spiele!C:C))","v":""},{"$f":"IF(B9394=\"\",\"\",LOOKUP(B9394,Spiele!B:B,Spiele!D:D))","v":""},{"$f":"IF(B9394=\"\",\"\",LOOKUP(B9394,Spiele!B:B,Spiele!E:E))","v":""},{"$f":"IF(B9394=\"\",\"\",LOOKUP(B9394,Spiele!B:B,Spiele!F:F))","v":""},"","","",null,null,-1,-1,1,0]
[null,null,{"$f":"IF(B9398=\"\",\"\",LOOKUP(B9398,Spiele!B:B,Spiele!C:C))","v":""},{"$f":"IF(B9398=\"\",\"\",LOOKUP(B9398,Spiele!B:B,Spiele!D:D))","v":""},{"$f":"IF(B9398=\"\",\"\",LOOKUP(B9398,Spiele!B:B,Spiele!E:E))","v":""},{"$f":"IF(B9398=\"\",\"\",LOOKUP(B9398,Spiele!B:B,Spiele!F:F))","v":""},"","","",null,null,-1,-1,1,0]
[null,null,{"$f":"IF(B9403=\"\",\"\",LOOKUP(B9403,Spiele!B:B,Spiele!C:C))","v":""},{"$f":"IF(B9403=\"\",\"\",LOOKUP(B9403,Spiele!B:B,Spiele!D:D))","v":""},{"$f":"IF(B9403=\"\",\"\",LOOKUP(B9403,Spiele!B:B,Spiele!E:E))","v":""},{"$f":"IF(B9403=\"\",\"\",LOOKUP(B9403,Spiele!B:B,Spiele!F:F))","v":""},"","","",null,null,-1,-1,1,0]
[null,null,{"$f":"IF(B9408=\"\",\"\",LOOKUP(B9408,Spiele!B:B,Spiele!C:C))","v":""},{"$f":"IF(B9408=\"\",\"\",LOOKUP(B9408,Spiele!B:B,Spiele!D:D))","v":""},{"$f":"IF(B9408=\"\",\"\",LOOKUP(B9408,Spiele!B:B,Spiele!E:E))","v":""},{"$f":"IF(B9408=\"\",\"\",LOOKUP(B9408,Spiele!B:B,Spiele!F:F))","v":""},"","","",null,null,-1,-1,1,0]
[null,null,{"$f":"IF(B9411=\"\",\"\",LOOKUP(B9411,Spiele!B:B,Spiele!C:C))","v":""},{"$f":"IF(B9411=\"\",\"\",LOOKUP(B9411,Spiele!B:B,Spiele!D:D))","v":""},{"$f":"IF(B9411=\"\",\"\",LOOKUP(B9411,Spiele!B:B,Spiele!E:E))","v":""},{"$f":"IF(B9411=\"\",\"\",LOOKUP(B9411,Spiele!B:B,Spiele!F:F))","v":""},"","","",null,null,-1,-1,1,0]
[null,null,{"$f":"IF(B9413=\"\",\"\",LOOKUP(B9413,Spiele!B:B,Spiele!C:C))","v":""},{"$f":"IF(B9413=\"\",\"\",LOOKUP(B9413,Spiele!B:B,Spiele!D:D))","v":""},{"$f":"IF(B9413=\"\",\"\",LOOKUP(B9413,Spiele!B:B,Spiele!E:E))","v":""},{"$f":"IF(B9413=\"\",\"\",LOOKUP(B9413,Spiele!B:B,Spiele!F:F))","v":""},"","","",null,null,-1,-1,1,0]
[null,null,{"$f":"IF(B9418=\"\",\"\",LOOKUP(B9418,Spiele!B:B,Spiele!C:C))","v":""},{"$f":"IF(B9418=\"\",\"\",LOOKUP(B9418,Spiele!B:B,Spiele!D:D))","v":""},{"$f":"IF(B9418=\"\",\"\",LOOKUP(B9418,Spiele!B:B,Spiele!E:E))","v":""},{"$f":"IF(B9418=\"\",\"\",LOOKUP(B9418,Spiele!B:B,Spiele!F:F))","v":""},"","","",null,null,-1,-1,1,0]
[null,null,{"$f":"IF(B9423=\"\",\"\",LOOKUP(B9423,Spiele!B:B,Spiele!C:C))","v":""},{"$f":"IF(B9423=\"\",\"\",LOOKUP(B9423,Spiele!B:B,Spiele!D:D))","v":""},{"$f":"IF(B9423=\"\",\"\",LOOKUP(B9423,Spiele!B:B,Spiele!E:E))","v":""},{"$f":"IF(B9423=\"\",\"\",LOOKUP(B9423,Spiele!B:B,Spiele!F:F))","v":""},"","","",null,null,-1,-1,1,0]
[null,null,{"$f":"IF(B9424=\"\",\"\",LOOKUP(B9424,Spiele!B:B,Spiele!C:C))","v":""},{"$f":"IF(B9424=\"\",\"\",LOOKUP(B9424,Spiele!B:B,Spiele!D:D))","v":""},{"$f":"IF(B9424=\"\",\"\",LOOKUP(B9424,Spiele!B:B,Spiele!E:E))","v":""},{"$f":"IF(B9424=\"\",\"\",LOOKUP(B9424,Spiele!B:B,Spiele!F:F))","v":""},"","","",null,null,-1,-1,1,0]
[null,null,{"$f":"IF(B9428=\"\",\"\",LOOKUP(B9428,Spiele!B:B,Spiele!C:C))","v":""},{"$f":"IF(B9428=\"\",\"\",LOOKUP(B9428,Spiele!B:B,Spiele!D:D))","v":""},{"$f":"IF(B9428=\"\",\"\",LOOKUP(B9428,Spiele!B:B,Spiele!E:E))","v":""},{"$f":"IF(B9428=\"\",\"\",LOOKUP(B9428,Spiele!B:B,Spiele!F:F))","v":""},"","","",null,null,-1,-1,1,0]
[null,null,{"$f":"IF(B9433=\"\",\"\",LOOKUP(B9433,Spiele!B:B,Spiele!C:C))","v":""},{"$f":"IF(B9433=\"\",\"\",LOOKUP(B9433,Spiele!B:B,Spiele!D:D))","v":""},{"$f":"IF(B9433=\"\",\"\",LOOKUP(B9433,Spiele!B:B,Spiele!E:E))","v":""},{"$f":"IF(B9433=\"\",\"\",LOOKUP(B9433,Spiele!B:B,Spiele!F:F))","v":""},"","","",null,null,-1,-1,1,0]
[null,null,{"$f":"IF(B9438=\"\",\"\",LOOKUP(B9438,Spiele!B:B,Spiele!C:C))","v":""},{"$f":"IF(B9438=\"\",\"\",LOOKUP(B9438,Spiele!B:B,Spiele!D:D))","v":""},{"$f":"IF(B9438=\"\",\"\",LOOKUP(B9438,Spiele!B:B,Spiele!E:E))","v":""},{"$f":"IF(B9438=\"\",\"\",LOOKUP(B9438,Spiele!B:B,Spiele!F:F))","v":""},"","","",null,null,-1,-1,1,0]
[null,null,{"$f":"IF(B9441=\"\",\"\",LOOKUP(B9441,Spiele!B:B,Spiele!C:C))","v":""},{"$f":"IF(B9441=\"\",\"\",LOOKUP(B9441,Spiele!B:B,Spiele!D:D))","v":""},{"$f":"IF(B9441=\"\",\"\",LOOKUP(B9441,Spiele!B:B,Spiele!E:E))","v":""},{"$f":"IF(B9441=\"\",\"\",LOOKUP(B9441,Spiele!B:B,Spiele!F:F))","v":""},"","","",null,null,-1,-1,1,0]
[null,null,{"$f":"IF(B9443=\"\",\"\",LOOKUP(B9443,Spiele!B:B,Spiele!C:C))","v":""},{"$f":"IF(B9443=\"\",\"\",LOOKUP(B9443,Spiele!B:B,Spiele!D:D))","v":""},{"$f":"IF(B9443=\"\",\"\",LOOKUP(B9443,Spiele!B:B,Spiele!E:E))","v":""},{"$f":"IF(B9443=\"\",\"\",LOOKUP(B9443,Spiele!B:B,Spiele!F:F))","v":""},"","","",null,null,-1,-1,1,0]
[null,null,{"$f":"IF(B9448=\"\",\"\",LOOKUP(B9448,Spiele!B:B,Spiele!C:C))","v":""},{"$f":"IF(B9448=\"\",\"\",LOOKUP(B9448,Spiele!B:B,Spiele!D:D))","v":""},{"$f":"IF(B9448=\"\",\"\",LOOKUP(B9448,Spiele!B:B,Spiele!E:E))","v":""},{"$f":"IF(B9448=\"\",\"\",LOOKUP(B9448,Spiele!B:B,Spiele!F:F))","v":""},"","","",null,null,-1,-1,1,0]
[null,null,{"$f":"IF(B9453=\"\",\"\",LOOKUP(B9453,Spiele!B:B,Spiele!C:C))","v":""},{"$f":"IF(B9453=\"\",\"\",LOOKUP(B9453,Spiele!B:B,Spiele!D:D))","v":""},{"$f":"IF(B9453=\"\",\"\",LOOKUP(B9453,Spiele!B:B,Spiele!E:E))","v":""},{"$f":"IF(B9453=\"\",\"\",LOOKUP(B9453,Spiele!B:B,Spiele!F:F))","v":""},"","","",null,null,-1,-1,1,0]
[null,null,{"$f":"IF(B9454=\"\",\"\",LOOKUP(B9454,Spiele!B:B,Spiele!C:C))","v":""},{"$f":"IF(B9454=\"\",\"\",LOOKUP(B9454,Spiele!B:B,Spiele!D:D))","v":""},{"$f":"IF(B9454=\"\",\"\",LOOKUP(B9454,Spiele!B:B,Spiele!E:E))","v":""},{"$f":"IF(B9454=\"\",\"\",LOOKUP(B9454,Spiele!B:B,Spiele!F:F))","v":""},"","","",null,null,-1,-1,1,0]
[null,null,{"$f":"IF(B9458=\"\",\"\",LOOKUP(B9458,Spiele!B:B,Spiele!C:C))","v":""},{"$f":"IF(B9458=\"\",\"\",LOOKUP(B9458,Spiele!B:B,Spiele!D:D))","v":""},{"$f":"IF(B9458=\"\",\"\",LOOKUP(B9458,Spiele!B:B,Spiele!E:E))","v":""},{"$f":"IF(B9458=\"\",\"\",LOOKUP(B9458,Spiele!B:B,Spiele!F:F))","v":""},"","","",null,null,-1,-1,1,0]
[null,null,{"$f":"IF(B9463=\"\",\"\",LOOKUP(B9463,Spiele!B:B,Spiele!C:C))","v":""},{"$f":"IF(B9463=\"\",\"\",LOOKUP(B9463,Spiele!B:B,Spiele!D:D))","v":""},{"$f":"IF(B9463=\"\",\"\",LOOKUP(B9463,Spiele!B:B,Spiele!E:E))","v":""},{"$f":"IF(B9463=\"\",\"\",LOOKUP(B9463,Spiele!B:B,Spiele!F:F))","v":""},"","","",null,null,-1,-1,1,0]
[null,null,{"$f":"IF(B9468=\"\",\"\",LOOKUP(B9468,Spiele!B:B,Spiele!C:C))","v":""},{"$f":"IF(B9468=\"\",\"\",LOOKUP(B9468,Spiele!B:B,Spiele!D:D))","v":""},{"$f":"IF(B9468=\"\",\"\",LOOKUP(B9468,Spiele!B:B,Spiele!E:E))","v":""},{"$f":"IF(B9468=\"\",\"\",LOOKUP(B9468,Spiele!B:B,Spiele!F:F))","v":""},"","","",null,null,-1,-1,1,0]
[null,null,{"$f":"IF(B9471=\"\",\"\",LOOKUP(B9471,Spiele!B:B,Spiele!C:C))","v":""},{"$f":"IF(B9471=\"\",\"\",LOOKUP(B9471,Spiele!B:B,Spiele!D:D))","v":""},{"$f":"IF(B9471=\"\",\"\",LOOKUP(B9471,Spiele!B:B,Spiele!E:E))","v":""},{"$f":"IF(B9471=\"\",\"\",LOOKUP(B9471,Spiele!B:B,Spiele!F:F))","v":""},"","","",null,null,-1,-1,1,0]
[null,null,{"$f":"IF(B9473=\"\",\"\",LOOKUP(B9473,Spiele!B:B,Spiele!C:C))","v":""},{"$f":"IF(B9473=\"\",\"\",LOOKUP(B9473,Spiele!B:B,Spiele!D:D))","v":""},{"$f":"IF(B9473=\"\",\"\",LOOKUP(B9473,Spiele!B:B,Spiele!E:E))","v":""},{"$f":"IF(B9473=\"\",\"\",LOOKUP(B9473,Spiele!B:B,Spiele!F:F))","v":""},"","","",null,null,-1,-1,1,0]
[null,null,{"$f":"IF(B9478=\"\",\"\",LOOKUP(B9478,Spiele!B:B,Spiele!C:C))","v":""},{"$f":"IF(B9478=\"\",\"\",LOOKUP(B9478,Spiele!B:B,Spiele!D:D))","v":""},{"$f":"IF(B9478=\"\",\"\",LOOKUP(B9478,Spiele!B:B,Spiele!E:E))","v":""},{"$f":"IF(B9478=\"\",\"\",LOOKUP(B9478,Spiele!B:B,Spiele!F:F))","v":""},"","","",null,null,-1,-1,1,0]
[null,null,{"$f":"IF(B9483=\"\",\"\",LOOKUP(B9483,Spiele!B:B,Spiele!C:C))","v":""},{"$f":"IF(B9483=\"\",\"\",LOOKUP(B9483,Spiele!B:B,Spiele!D:D))","v":""},{"$f":"IF(B9483=\"\",\"\",LOOKUP(B9483,Spiele!B:B,Spiele!E:E))","v":""},{"$f":"IF(B9483=\"\",\"\",LOOKUP(B9483,Spiele!B:B,Spiele!F:F))","v":""},"","","",null,null,-1,-1,1,0]
[null,null,{"$f":"IF(B9485=\"\",\"\",LOOKUP(B9485,Spiele!B:B,Spiele!C:C))","v":""},{"$f":"IF(B9485=\"\",\"\",LOOKUP(B9485,Spiele!B:B,Spiele!D:D))","v":""},{"$f":"IF(B9485=\"\",\"\",LOOKUP(B9485,Spiele!B:B,Spiele!E:E))","v":""},{"$f":"IF(B9485=\"\",\"\",LOOKUP(B9485,Spiele!B:B,Spiele!F:F))","v":""},"","","",null,null,-1,-1,1,0]
[null,null,{"$f":"IF(B9488=\"\",\"\",LOOKUP(B9488,Spiele!B:B,Spiele!C:C))","v":""},{"$f":"IF(B9488=\"\",\"\",LOOKUP(B9488,Spiele!B:B,Spiele!D:D))","v":""},{"$f":"IF(B9488=\"\",\"\",LOOKUP(B9488,Spiele!B:B,Spiele!E:E))","v":""},{"$f":"IF(B9488=\"\",\"\",LOOKUP(B9488,Spiele!B:B,Spiele!F:F))","v":""},"","","",null,null,-1,-1,1,0]
[null,null,{"$f":"IF(B9493=\"\",\"\",LOOKUP(B9493,Spiele!B:B,Spiele!C:C))","v":""},{"$f":"IF(B9493=\"\",\"\",LOOKUP(B9493,Spiele!B:B,Spiele!D:D))","v":""},{"$f":"IF(B9493=\"\",\"\",LOOKUP(B9493,Spiele!B:B,Spiele!E:E))","v":""},{"$f":"IF(B9493=\"\",\"\",LOOKUP(B9493,Spiele!B:B,Spiele!F:F))","v":""},"","","",null,null,-1,-1,1,0]
[null,null,{"$f":"IF(B9498=\"\",\"\",LOOKUP(B9498,Spiele!B:B,Spiele!C:C))","v":""},{"$f":"IF(B9498=\"\",\"\",LOOKUP(B9498,Spiele!B:B,Spiele!D:D))","v":""},{"$f":"IF(B9498=\"\",\"\",LOOKUP(B9498,Spiele!B:B,Spiele!E:E))","v":""},{"$f":"IF(B9498=\"\",\"\",LOOKUP(B9498,Spiele!B:B,Spiele!F:F))","v":""},"","","",null,null,-1,-1,1,0]
[null,null,{"$f":"IF(B9499=\"\",\"\",LOOKUP(B9499,Spiele!B:B,Spiele!C:C))","v":""},{"$f":"IF(B9499=\"\",\"\",LOOKUP(B9499,Spiele!B:B,Spiele!D:D))","v":""},{"$f":"IF(B9499=\"\",\"\",LOOKUP(B9499,Spiele!B:B,Spiele!E:E))","v":""},{"$f":"IF(B9499=\"\",\"\",LOOKUP(B9499,Spiele!B:B,Spiele!F:F))","v":""},"","","",null,null,-1,-1,1,0]
[null,null,{"$f":"IF(B9503=\"\",\"\",LOOKUP(B9503,Spiele!B:B,Spiele!C:C))","v":""},{"$f":"IF(B9503=\"\",\"\",LOOKUP(B9503,Spiele!B:B,Spiele!D:D))","v":""},{"$f":"IF(B9503=\"\",\"\",LOOKUP(B9503,Spiele!B:B,Spiele!E:E))","v":""},{"$f":"IF(B9503=\"\",\"\",LOOKUP(B9503,Spiele!B:B,Spiele!F:F))","v":""},"","","",null,null,-1,-1,1,0]
[null,null,{"$f":"IF(B9504=\"\",\"\",LOOKUP(B9504,Spiele!B:B,Spiele!C:C))","v":""},{"$f":"IF(B9504=\"\",\"\",LOOKUP(B9504,Spiele!B:B,Spiele!D:D))","v":""},{"$f":"IF(B9504=\"\",\"\",LOOKUP(B9504,Spiele!B:B,Spiele!E:E))","v":""},{"$f":"IF(B9504=\"\",\"\",LOOKUP(B9504,Spiele!B:B,Spiele!F:F))","v":""},{"$f":"IF(E9504=\"\",\"\",IF(E9504>F9504,1,0))","v":""},{"$f":"IF(F9504=\"\",\"\",IF(E9504<F9504,1,0))","v":""},{"$f":"IF(E9504=\"\",\"\",IF(E9504=F9504,1,0))","v":""},null,null,{"$f":"IF(E9504=\"\",-1,IF(J9504>K9504,1,-1))","v":-1},{"$f":"IF(F9504=\"\",-1,IF(J9504<K9504,1,-1))","v":-1},{"$f":"IF(E9504=\"-\",-1,IF(J9504=K9504,1,-1))","v":1},{"$f":"IF(E9504=\"\",0,IF(E9504=J9504,1,0)+IF(F9504=K9504,1,0)+IF(G9504=L9504,1,0)+IF(H9504=M9504,1,0)+IF(I9504=N9504,1,0))","v":0}]
[null,null,{"$f":"IF(B9505=\"\",\"\",LOOKUP(B9505,Spiele!B:B,Spiele!C:C))","v":""},{"$f":"IF(B9505=\"\",\"\",LOOKUP(B9505,Spiele!B:B,Spiele!D:D))","v":""},{"$f":"IF(B9505=\"\",\"\",LOOKUP(B9505,Spiele!B:B,Spiele!E:E))","v":""},{"$f":"IF(B9505=\"\",\"\",LOOKUP(B9505,Spiele!B:B,Spiele!F:F))","v":""},"","","",null,null,-1,-1,1,0]
[null,null,{"$f":"IF(B9506=\"\",\"\",LOOKUP(B9506,Spiele!B:B,Spiele!C:C))","v":""},{"$f":"IF(B9506=\"\",\"\",LOOKUP(B9506,Spiele!B:B,Spiele!D:D))","v":""},{"$f":"IF(B9506=\"\",\"\",LOOKUP(B9506,Spiele!B:B,Spiele!E:E))","v":""},{"$f":"IF(B9506=\"\",\"\",LOOKUP(B9506,Spiele!B:B,Spiele!F:F))","v":""},"","","",null,null,-1,-1,1,0]
[null,null,{"$f":"IF(B9507=\"\",\"\",LOOKUP(B9507,Spiele!B:B,Spiele!C:C))","v":""},{"$f":"IF(B9507=\"\",\"\",LOOKUP(B9507,Spiele!B:B,Spiele!D:D))","v":""},{"$f":"IF(B9507=\"\",\"\",LOOKUP(B9507,Spiele!B:B,Spiele!E:E))","v":""},{"$f":"IF(B9507=\"\",\"\",LOOKUP(B9507,Spiele!B:B,Spiele!F:F))","v":""},"","","",null,null,-1,-1,1,0]
[null,null,{"$f":"IF(B9508=\"\",\"\",LOOKUP(B9508,Spiele!B:B,Spiele!C:C))","v":""},{"$f":"IF(B9508=\"\",\"\",LOOKUP(B9508,Spiele!B:B,Spiele!D:D))","v":""},{"$f":"IF(B9508=\"\",\"\",LOOKUP(B9508,Spiele!B:B,Spiele!E:E))","v":""},{"$f":"IF(B9508=\"\",\"\",LOOKUP(B9508,Spiele!B:B,Spiele!F:F))","v":""},"","","",null,null,-1,-1,1,0]
[null,null,{"$f":"IF(B9509=\"\",\"\",LOOKUP(B9509,Spiele!B:B,Spiele!C:C))","v":""},{"$f":"IF(B9509=\"\",\"\",LOOKUP(B9509,Spiele!B:B,Spiele!D:D))","v":""},{"$f":"IF(B9509=\"\",\"\",LOOKUP(B9509,Spiele!B:B,Spiele!E:E))","v":""},{"$f":"IF(B9509=\"\",\"\",LOOKUP(B9509,Spiele!B:B,Spiele!F:F))","v":""},"","","",null,null,-1,-1,1,0]
[null,null,{"$f":"IF(B9510=\"\",\"\",LOOKUP(B9510,Spiele!B:B,Spiele!C:C))","v":""},{"$f":"IF(B9510=\"\",\"\",LOOKUP(B9510,Spiele!B:B,Spiele!D:D))","v":""},{"$f":"IF(B9510=\"\",\"\",LOOKUP(B9510,Spiele!B:B,Spiele!E:E))","v":""},{"$f":"IF(B9510=\"\",\"\",LOOKUP(B9510,Spiele!B:B,Spiele!F:F))","v":""},"","","",null,null,-1,-1,1,0]
[null,null,{"$f":"IF(B9511=\"\",\"\",LOOKUP(B9511,Spiele!B:B,Spiele!C:C))","v":""},{"$f":"IF(B9511=\"\",\"\",LOOKUP(B9511,Spiele!B:B,Spiele!D:D))","v":""},{"$f":"IF(B9511=\"\",\"\",LOOKUP(B9511,Spiele!B:B,Spiele!E:E))","v":""},{"$f":"IF(B9511=\"\",\"\",LOOKUP(B9511,Spiele!B:B,Spiele!F:F))","v":""},"","","",null,null,-1,-1,1,0]
[null,null,{"$f":"IF(B9512=\"\",\"\",LOOKUP(B9512,Spiele!B:B,Spiele!C:C))","v":""},{"$f":"IF(B9512=\"\",\"\",LOOKUP(B9512,Spiele!B:B,Spiele!D:D))","v":""},{"$f":"IF(B9512=\"\",\"\",LOOKUP(B9512,Spiele!B:B,Spiele!E:E))","v":""},{"$f":"IF(B9512=\"\",\"\",LOOKUP(B9512,Spiele!B:B,Spiele!F:F))","v":""},"","","",null,null,-1,-1,1,0]
[null,null,{"$f":"IF(B9513=\"\",\"\",LOOKUP(B9513,Spiele!B:B,Spiele!C:C))","v":""},{"$f":"IF(B9513=\"\",\"\",LOOKUP(B9513,Spiele!B:B,Spiele!D:D))","v":""},{"$f":"IF(B9513=\"\",\"\",LOOKUP(B9513,Spiele!B:B,Spiele!E:E))","v":""},{"$f":"IF(B9513=\"\",\"\",LOOKUP(B9513,Spiele!B:B,Spiele!F:F))","v":""},"","","",null,null,-1,-1,1,0]
[null,null,{"$f":"IF(B9514=\"\",\"\",LOOKUP(B9514,Spiele!B:B,Spiele!C:C))","v":""},{"$f":"IF(B9514=\"\",\"\",LOOKUP(B9514,Spiele!B:B,Spiele!D:D))","v":""},{"$f":"IF(B9514=\"\",\"\",LOOKUP(B9514,Spiele!B:B,Spiele!E:E))","v":""},{"$f":"IF(B9514=\"\",\"\",LOOKUP(B9514,Spiele!B:B,Spiele!F:F))","v":""},"","","",null,null,-1,-1,1,0]
[null,null,{"$f":"IF(B9515=\"\",\"\",LOOKUP(B9515,Spiele!B:B,Spiele!C:C))","v":""},{"$f":"IF(B9515=\"\",\"\",LOOKUP(B9515,Spiele!B:B,Spiele!D:D))","v":""},{"$f":"IF(B9515=\"\",\"\",LOOKUP(B9515,Spiele!B:B,Spiele!E:E))","v":""},{"$f":"IF(B9515=\"\",\"\",LOOKUP(B9515,Spiele!B:B,Spiele!F:F))","v":""},"","","",null,null,-1,-1,1,0]
[null,null,{"$f":"IF(B9516=\"\",\"\",LOOKUP(B9516,Spiele!B:B,Spiele!C:C))","v":""},{"$f":"IF(B9516=\"\",\"\",LOOKUP(B9516,Spiele!B:B,Spiele!D:D))","v":""},{"$f":"IF(B9516=\"\",\"\",LOOKUP(B9516,Spiele!B:B,Spiele!E:E))","v":""},{"$f":"IF(B9516=\"\",\"\",LOOKUP(B9516,Spiele!B:B,Spiele!F:F))","v":""},"","","",null,null,-1,-1,1,0]
[null,null,{"$f":"IF(B9517=\"\",\"\",LOOKUP(B9517,Spiele!B:B,Spiele!C:C))","v":""},{"$f":"IF(B9517=\"\",\"\",LOOKUP(B9517,Spiele!B:B,Spiele!D:D))","v":""},{"$f":"IF(B9517=\"\",\"\",LOOKUP(B9517,Spiele!B:B,Spiele!E:E))","v":""},{"$f":"IF(B9517=\"\",\"\",LOOKUP(B9517,Spiele!B:B,Spiele!F:F))","v":""},"","","",null,null,-1,-1,1,0]
[null,null,{"$f":"IF(B9518=\"\",\"\",LOOKUP(B9518,Spiele!B:B,Spiele!C:C))","v":""},{"$f":"IF(B9518=\"\",\"\",LOOKUP(B9518,Spiele!B:B,Spiele!D:D))","v":""},{"$f":"IF(B9518=\"\",\"\",LOOKUP(B9518,Spiele!B:B,Spiele!E:E))","v":""},{"$f":"IF(B9518=\"\",\"\",LOOKUP(B9518,Spiele!B:B,Spiele!F:F))","v":""},"","","",null,null,-1,-1,1,0]
[null,null,{"$f":"IF(B9519=\"\",\"\",LOOKUP(B9519,Spiele!B:B,Spiele!C:C))","v":""},{"$f":"IF(B9519=\"\",\"\",LOOKUP(B9519,Spiele!B:B,Spiele!D:D))","v":""},{"$f":"IF(B9519=\"\",\"\",LOOKUP(B9519,Spiele!B:B,Spiele!E:E))","v":""},{"$f":"IF(B9519=\"\",\"\",LOOKUP(B9519,Spiele!B:B,Spiele!F:F))","v":""},"","","",null,null,-1,-1,1,0]
[null,null,{"$f":"IF(B9520=\"\",\"\",LOOKUP(B9520,Spiele!B:B,Spiele!C:C))","v":""},{"$f":"IF(B9520=\"\",\"\",LOOKUP(B9520,Spiele!B:B,Spiele!D:D))","v":""},{"$f":"IF(B9520=\"\",\"\",LOOKUP(B9520,Spiele!B:B,Spiele!E:E))","v":""},{"$f":"IF(B9520=\"\",\"\",LOOKUP(B9520,Spiele!B:B,Spiele!F:F))","v":""},"","","",null,null,-1,-1,1,0]
[null,null,{"$f":"IF(B9521=\"\",\"\",LOOKUP(B9521,Spiele!B:B,Spiele!C:C))","v":""},{"$f":"IF(B9521=\"\",\"\",LOOKUP(B9521,Spiele!B:B,Spiele!D:D))","v":""},{"$f":"IF(B9521=\"\",\"\",LOOKUP(B9521,Spiele!B:B,Spiele!E:E))","v":""},{"$f":"IF(B9521=\"\",\"\",LOOKUP(B9521,Spiele!B:B,Spiele!F:F))","v":""},"","","",null,null,-1,-1,1,0]
[null,null,{"$f":"IF(B9522=\"\",\"\",LOOKUP(B9522,Spiele!B:B,Spiele!C:C))","v":""},{"$f":"IF(B9522=\"\",\"\",LOOKUP(B9522,Spiele!B:B,Spiele!D:D))","v":""},{"$f":"IF(B9522=\"\",\"\",LOOKUP(B9522,Spiele!B:B,Spiele!E:E))","v":""},{"$f":"IF(B9522=\"\",\"\",LOOKUP(B9522,Spiele!B:B,Spiele!F:F))","v":""},"","","",null,null,-1,-1,1,0]
[null,null,{"$f":"IF(B9523=\"\",\"\",LOOKUP(B9523,Spiele!B:B,Spiele!C:C))","v":""},{"$f":"IF(B9523=\"\",\"\",LOOKUP(B9523,Spiele!B:B,Spiele!D:D))","v":""},{"$f":"IF(B9523=\"\",\"\",LOOKUP(B9523,Spiele!B:B,Spiele!E:E))","v":""},{"$f":"IF(B9523=\"\",\"\",LOOKUP(B9523,Spiele!B:B,Spiele!F:F))","v":""},"","","",null,null,-1,-1,1,0]
[null,null,{"$f":"IF(B9524=\"\",\"\",LOOKUP(B9524,Spiele!B:B,Spiele!C:C))","v":""},{"$f":"IF(B9524=\"\",\"\",LOOKUP(B9524,Spiele!B:B,Spiele!D:D))","v":""},{"$f":"IF(B9524=\"\",\"\",LOOKUP(B9524,Spiele!B:B,Spiele!E:E))","v":""},{"$f":"IF(B9524=\"\",\"\",LOOKUP(B9524,Spiele!B:B,Spiele!F:F))","v":""},"","","",null,null,-1,-1,1,0]
[null,null,{"$f":"IF(B9525=\"\",\"\",LOOKUP(B9525,Spiele!B:B,Spiele!C:C))","v":""},{"$f":"IF(B9525=\"\",\"\",LOOKUP(B9525,Spiele!B:B,Spiele!D:D))","v":""},{"$f":"IF(B9525=\"\",\"\",LOOKUP(B9525,Spiele!B:B,Spiele!E:E))","v":""},{"$f":"IF(B9525=\"\",\"\",LOOKUP(B9525,Spiele!B:B,Spiele!F:F))","v":""},"","","",null,null,-1,-1,1,0]
[null,null,{"$f":"IF(B9526=\"\",\"\",LOOKUP(B9526,Spiele!B:B,Spiele!C:C))","v":""},{"$f":"IF(B9526=\"\",\"\",LOOKUP(B9526,Spiele!B:B,Spiele!D:D))","v":""},{"$f":"IF(B9526=\"\",\"\",LOOKUP(B9526,Spiele!B:B,Spiele!E:E))","v":""},{"$f":"IF(B9526=\"\",\"\",LOOKUP(B9526,Spiele!B:B,Spiele!F:F))","v":""},"","","",null,null,-1,-1,1,0]
[null,null,{"$f":"IF(B9527=\"\",\"\",LOOKUP(B9527,Spiele!B:B,Spiele!C:C))","v":""},{"$f":"IF(B9527=\"\",\"\",LOOKUP(B9527,Spiele!B:B,Spiele!D:D))","v":""},{"$f":"IF(B9527=\"\",\"\",LOOKUP(B9527,Spiele!B:B,Spiele!E:E))","v":""},{"$f":"IF(B9527=\"\",\"\",LOOKUP(B9527,Spiele!B:B,Spiele!F:F))","v":""},"","","",null,null,-1,-1,1,0]
[null,null,{"$f":"IF(B9528=\"\",\"\",LOOKUP(B9528,Spiele!B:B,Spiele!C:C))","v":""},{"$f":"IF(B9528=\"\",\"\",LOOKUP(B9528,Spiele!B:B,Spiele!D:D))","v":""},{"$f":"IF(B9528=\"\",\"\",LOOKUP(B9528,Spiele!B:B,Spiele!E:E))","v":""},{"$f":"IF(B9528=\"\",\"\",LOOKUP(B9528,Spiele!B:B,Spiele!F:F))","v":""},"","","",null,null,-1,-1,1,0]
[null,null,{"$f":"IF(B9529=\"\",\"\",LOOKUP(B9529,Spiele!B:B,Spiele!C:C))","v":""},{"$f":"IF(B9529=\"\",\"\",LOOKUP(B9529,Spiele!B:B,Spiele!D:D))","v":""},{"$f":"IF(B9529=\"\",\"\",LOOKUP(B9529,Spiele!B:B,Spiele!E:E))","v":""},{"$f":"IF(B9529=\"\",\"\",LOOKUP(B9529,Spiele!B:B,Spiele!F:F))","v":""},"","","",null,null,-1,-1,1,0]
[null,null,{"$f":"IF(B9530=\"\",\"\",LOOKUP(B9530,Spiele!B:B,Spiele!C:C))","v":""},{"$f":"IF(B9530=\"\",\"\",LOOKUP(B9530,Spiele!B:B,Spiele!D:D))","v":""},{"$f":"IF(B9530=\"\",\"\",LOOKUP(B9530,Spiele!B:B,Spiele!E:E))","v":""},{"$f":"IF(B9530=\"\",\"\",LOOKUP(B9530,Spiele!B:B,Spiele!F:F))","v":""},"","","",null,null,-1,-1,1,0]
[null,null,{"$f":"IF(B9531=\"\",\"\",LOOKUP(B9531,Spiele!B:B,Spiele!C:C))","v":""},{"$f":"IF(B9531=\"\",\"\",LOOKUP(B9531,Spiele!B:B,Spiele!D:D))","v":""},{"$f":"IF(B9531=\"\",\"\",LOOKUP(B9531,Spiele!B:B,Spiele!E:E))","v":""},{"$f":"IF(B9531=\"\",\"\",LOOKUP(B9531,Spiele!B:B,Spiele!F:F))","v":""},"","","",null,null,-1,-1,1,0]
[null,null,{"$f":"IF(B9532=\"\",\"\",LOOKUP(B9532,Spiele!B:B,Spiele!C:C))","v":""},{"$f":"IF(B9532=\"\",\"\",LOOKUP(B9532,Spiele!B:B,Spiele!D:D))","v":""},{"$f":"IF(B9532=\"\",\"\",LOOKUP(B9532,Spiele!B:B,Spiele!E:E))","v":""},{"$f":"IF(B9532=\"\",\"\",LOOKUP(B9532,Spiele!B:B,Spiele!F:F))","v":""},"","","",null,null,-1,-1,1,0]
[null,null,{"$f":"IF(B9533=\"\",\"\",LOOKUP(B9533,Spiele!B:B,Spiele!C:C))","v":""},{"$f":"IF(B9533=\"\",\"\",LOOKUP(B9533,Spiele!B:B,Spiele!D:D))","v":""},{"$f":"IF(B9533=\"\",\"\",LOOKUP(B9533,Spiele!B:B,Spiele!E:E))","v":""},{"$f":"IF(B9533=\"\",\"\",LOOKUP(B9533,Spiele!B:B,Spiele!F:F))","v":""},"","","",null,null,-1,-1,1,0]
[null,null,{"$f":"IF(B9534=\"\",\"\",LOOKUP(B9534,Spiele!B:B,Spiele!C:C))","v":""},{"$f":"IF(B9534=\"\",\"\",LOOKUP(B9534,Spiele!B:B,Spiele!D:D))","v":""},{"$f":"IF(B9534=\"\",\"\",LOOKUP(B9534,Spiele!B:B,Spiele!E:E))","v":""},{"$f":"IF(B9534=\"\",\"\",LOOKUP(B9534,Spiele!B:B,Spiele!F:F))","v":""},"","","",null,null,-1,-1,1,0]
[null,null,{"$f":"IF(B9535=\"\",\"\",LOOKUP(B9535,Spiele!B:B,Spiele!C:C))","v":""},{"$f":"IF(B9535=\"\",\"\",LOOKUP(B9535,Spiele!B:B,Spiele!D:D))","v":""},{"$f":"IF(B9535=\"\",\"\",LOOKUP(B9535,Spiele!B:B,Spiele!E:E))","v":""},{"$f":"IF(B9535=\"\",\"\",LOOKUP(B9535,Spiele!B:B,Spiele!F:F))","v":""},"","","",null,null,-1,-1,1,0]
[null,null,{"$f":"IF(B9536=\"\",\"\",LOOKUP(B9536,Spiele!B:B,Spiele!C:C))","v":""},{"$f":"IF(B9536=\"\",\"\",LOOKUP(B9536,Spiele!B:B,Spiele!D:D))","v":""},{"$f":"IF(B9536=\"\",\"\",LOOKUP(B9536,Spiele!B:B,Spiele!E:E))","v":""},{"$f":"IF(B9536=\"\",\"\",LOOKUP(B9536,Spiele!B:B,Spiele!F:F))","v":""},"","","",null,null,-1,-1,1,0]
[null,null,{"$f":"IF(B9537=\"\",\"\",LOOKUP(B9537,Spiele!B:B,Spiele!C:C))","v":""},{"$f":"IF(B9537=\"\",\"\",LOOKUP(B9537,Spiele!B:B,Spiele!D:D))","v":""},{"$f":"IF(B9537=\"\",\"\",LOOKUP(B9537,Spiele!B:B,Spiele!E:E))","v":""},{"$f":"IF(B9537=\"\",\"\",LOOKUP(B9537,Spiele!B:B,Spiele!F:F))","v":""},"","","",null,null,-1,-1,1,0]
[null,null,{"$f":"IF(B9538=\"\",\"\",LOOKUP(B9538,Spiele!B:B,Spiele!C:C))","v":""},{"$f":"IF(B9538=\"\",\"\",LOOKUP(B9538,Spiele!B:B,Spiele!D:D))","v":""},{"$f":"IF(B9538=\"\",\"\",LOOKUP(B9538,Spiele!B:B,Spiele!E:E))","v":""},{"$f":"IF(B9538=\"\",\"\",LOOKUP(B9538,Spiele!B:B,Spiele!F:F))","v":""},"","","",null,null,-1,-1,1,0]
[null,null,{"$f":"IF(B9539=\"\",\"\",LOOKUP(B9539,Spiele!B:B,Spiele!C:C))","v":""},{"$f":"IF(B9539=\"\",\"\",LOOKUP(B9539,Spiele!B:B,Spiele!D:D))","v":""},{"$f":"IF(B9539=\"\",\"\",LOOKUP(B9539,Spiele!B:B,Spiele!E:E))","v":""},{"$f":"IF(B9539=\"\",\"\",LOOKUP(B9539,Spiele!B:B,Spiele!F:F))","v":""},"","","",null,null,-1,-1,1,0]
[null,null,{"$f":"IF(B9540=\"\",\"\",LOOKUP(B9540,Spiele!B:B,Spiele!C:C))","v":""},{"$f":"IF(B9540=\"\",\"\",LOOKUP(B9540,Spiele!B:B,Spiele!D:D))","v":""},{"$f":"IF(B9540=\"\",\"\",LOOKUP(B9540,Spiele!B:B,Spiele!E:E))","v":""},{"$f":"IF(B9540=\"\",\"\",LOOKUP(B9540,Spiele!B:B,Spiele!F:F))","v":""},"","","",null,null,-1,-1,1,0]
[null,null,{"$f":"IF(B9541=\"\",\"\",LOOKUP(B9541,Spiele!B:B,Spiele!C:C))","v":""},{"$f":"IF(B9541=\"\",\"\",LOOKUP(B9541,Spiele!B:B,Spiele!D:D))","v":""},{"$f":"IF(B9541=\"\",\"\",LOOKUP(B9541,Spiele!B:B,Spiele!E:E))","v":""},{"$f":"IF(B9541=\"\",\"\",LOOKUP(B9541,Spiele!B:B,Spiele!F:F))","v":""},"","","",null,null,-1,-1,1,0]
[null,null,{"$f":"IF(B9542=\"\",\"\",LOOKUP(B9542,Spiele!B:B,Spiele!C:C))","v":""},{"$f":"IF(B9542=\"\",\"\",LOOKUP(B9542,Spiele!B:B,Spiele!D:D))","v":""},{"$f":"IF(B9542=\"\",\"\",LOOKUP(B9542,Spiele!B:B,Spiele!E:E))","v":""},{"$f":"IF(B9542=\"\",\"\",LOOKUP(B9542,Spiele!B:B,Spiele!F:F))","v":""},"","","",null,null,-1,-1,1,0]
[null,null,{"$f":"IF(B9543=\"\",\"\",LOOKUP(B9543,Spiele!B:B,Spiele!C:C))","v":""},{"$f":"IF(B9543=\"\",\"\",LOOKUP(B9543,Spiele!B:B,Spiele!D:D))","v":""},{"$f":"IF(B9543=\"\",\"\",LOOKUP(B9543,Spiele!B:B,Spiele!E:E))","v":""},{"$f":"IF(B9543=\"\",\"\",LOOKUP(B9543,Spiele!B:B,Spiele!F:F))","v":""},"","","",null,null,-1,-1,1,0]
[null,null,{"$f":"IF(B9544=\"\",\"\",LOOKUP(B9544,Spiele!B:B,Spiele!C:C))","v":""},{"$f":"IF(B9544=\"\",\"\",LOOKUP(B9544,Spiele!B:B,Spiele!D:D))","v":""},{"$f":"IF(B9544=\"\",\"\",LOOKUP(B9544,Spiele!B:B,Spiele!E:E))","v":""},{"$f":"IF(B9544=\"\",\"\",LOOKUP(B9544,Spiele!B:B,Spiele!F:F))","v":""},"","","",null,null,-1,-1,1,0]
[null,null,{"$f":"IF(B9545=\"\",\"\",LOOKUP(B9545,Spiele!B:B,Spiele!C:C))","v":""},{"$f":"IF(B9545=\"\",\"\",LOOKUP(B9545,Spiele!B:B,Spiele!D:D))","v":""},{"$f":"IF(B9545=\"\",\"\",LOOKUP(B9545,Spiele!B:B,Spiele!E:E))","v":""},{"$f":"IF(B9545=\"\",\"\",LOOKUP(B9545,Spiele!B:B,Spiele!F:F))","v":""},"","","",null,null,-1,-1,1,0]
[null,null,{"$f":"IF(B9546=\"\",\"\",LOOKUP(B9546,Spiele!B:B,Spiele!C:C))","v":""},{"$f":"IF(B9546=\"\",\"\",LOOKUP(B9546,Spiele!B:B,Spiele!D:D))","v":""},{"$f":"IF(B9546=\"\",\"\",LOOKUP(B9546,Spiele!B:B,Spiele!E:E))","v":""},{"$f":"IF(B9546=\"\",\"\",LOOKUP(B9546,Spiele!B:B,Spiele!F:F))","v":""},"","","",null,null,-1,-1,1,0]
[null,null,{"$f":"IF(B9547=\"\",\"\",LOOKUP(B9547,Spiele!B:B,Spiele!C:C))","v":""},{"$f":"IF(B9547=\"\",\"\",LOOKUP(B9547,Spiele!B:B,Spiele!D:D))","v":""},{"$f":"IF(B9547=\"\",\"\",LOOKUP(B9547,Spiele!B:B,Spiele!E:E))","v":""},{"$f":"IF(B9547=\"\",\"\",LOOKUP(B9547,Spiele!B:B,Spiele!F:F))","v":""},"","","",null,null,-1,-1,1,0]
[null,null,{"$f":"IF(B9548=\"\",\"\",LOOKUP(B9548,Spiele!B:B,Spiele!C:C))","v":""},{"$f":"IF(B9548=\"\",\"\",LOOKUP(B9548,Spiele!B:B,Spiele!D:D))","v":""},{"$f":"IF(B9548=\"\",\"\",LOOKUP(B9548,Spiele!B:B,Spiele!E:E))","v":""},{"$f":"IF(B9548=\"\",\"\",LOOKUP(B9548,Spiele!B:B,Spiele!F:F))","v":""},"","","",null,null,-1,-1,1,0]
[null,null,{"$f":"IF(B9549=\"\",\"\",LOOKUP(B9549,Spiele!B:B,Spiele!C:C))","v":""},{"$f":"IF(B9549=\"\",\"\",LOOKUP(B9549,Spiele!B:B,Spiele!D:D))","v":""},{"$f":"IF(B9549=\"\",\"\",LOOKUP(B9549,Spiele!B:B,Spiele!E:E))","v":""},{"$f":"IF(B9549=\"\",\"\",LOOKUP(B9549,Spiele!B:B,Spiele!F:F))","v":""},"","","",null,null,-1,-1,1,0]
[null,null,{"$f":"IF(B9550=\"\",\"\",LOOKUP(B9550,Spiele!B:B,Spiele!C:C))","v":""},{"$f":"IF(B9550=\"\",\"\",LOOKUP(B9550,Spiele!B:B,Spiele!D:D))","v":""},{"$f":"IF(B9550=\"\",\"\",LOOKUP(B9550,Spiele!B:B,Spiele!E:E))","v":""},{"$f":"IF(B9550=\"\",\"\",LOOKUP(B9550,Spiele!B:B,Spiele!F:F))","v":""},"","","",null,null,-1,-1,1,0]
[null,null,{"$f":"IF(B9551=\"\",\"\",LOOKUP(B9551,Spiele!B:B,Spiele!C:C))","v":""},{"$f":"IF(B9551=\"\",\"\",LOOKUP(B9551,Spiele!B:B,Spiele!D:D))","v":""},{"$f":"IF(B9551=\"\",\"\",LOOKUP(B9551,Spiele!B:B,Spiele!E:E))","v":""},{"$f":"IF(B9551=\"\",\"\",LOOKUP(B9551,Spiele!B:B,Spiele!F:F))","v":""},"","","",null,null,-1,-1,1,0]
[null,null,{"$f":"IF(B9552=\"\",\"\",LOOKUP(B9552,Spiele!B:B,Spiele!C:C))","v":""},{"$f":"IF(B9552=\"\",\"\",LOOKUP(B9552,Spiele!B:B,Spiele!D:D))","v":""},{"$f":"IF(B9552=\"\",\"\",LOOKUP(B9552,Spiele!B:B,Spiele!E:E))","v":""},{"$f":"IF(B9552=\"\",\"\",LOOKUP(B9552,Spiele!B:B,Spiele!F:F))","v":""},"","","",null,null,-1,-1,1,0]
[null,null,{"$f":"IF(B9553=\"\",\"\",LOOKUP(B9553,Spiele!B:B,Spiele!C:C))","v":""},{"$f":"IF(B9553=\"\",\"\",LOOKUP(B9553,Spiele!B:B,Spiele!D:D))","v":""},{"$f":"IF(B9553=\"\",\"\",LOOKUP(B9553,Spiele!B:B,Spiele!E:E))","v":""},{"$f":"IF(B9553=\"\",\"\",LOOKUP(B9553,Spiele!B:B,Spiele!F:F))","v":""},"","","",null,null,-1,-1,1,0]
[null,null,{"$f":"IF(B9554=\"\",\"\",LOOKUP(B9554,Spiele!B:B,Spiele!C:C))","v":""},{"$f":"IF(B9554=\"\",\"\",LOOKUP(B9554,Spiele!B:B,Spiele!D:D))","v":""},{"$f":"IF(B9554=\"\",\"\",LOOKUP(B9554,Spiele!B:B,Spiele!E:E))","v":""},{"$f":"IF(B9554=\"\",\"\",LOOKUP(B9554,Spiele!B:B,Spiele!F:F))","v":""},"","","",null,null,-1,-1,1,0]
[null,null,{"$f":"IF(B9555=\"\",\"\",LOOKUP(B9555,Spiele!B:B,Spiele!C:C))","v":""},{"$f":"IF(B9555=\"\",\"\",LOOKUP(B9555,Spiele!B:B,Spiele!D:D))","v":""},{"$f":"IF(B9555=\"\",\"\",LOOKUP(B9555,Spiele!B:B,Spiele!E:E))","v":""},{"$f":"IF(B9555=\"\",\"\",LOOKUP(B9555,Spiele!B:B,Spiele!F:F))","v":""},"","","",null,null,-1,-1,1,0]
[null,null,{"$f":"IF(B9556=\"\",\"\",LOOKUP(B9556,Spiele!B:B,Spiele!C:C))","v":""},{"$f":"IF(B9556=\"\",\"\",LOOKUP(B9556,Spiele!B:B,Spiele!D:D))","v":""},{"$f":"IF(B9556=\"\",\"\",LOOKUP(B9556,Spiele!B:B,Spiele!E:E))","v":""},{"$f":"IF(B9556=\"\",\"\",LOOKUP(B9556,Spiele!B:B,Spiele!F:F))","v":""},"","","",null,null,-1,-1,1,0]
[null,null,{"$f":"IF(B9557=\"\",\"\",LOOKUP(B9557,Spiele!B:B,Spiele!C:C))","v":""},{"$f":"IF(B9557=\"\",\"\",LOOKUP(B9557,Spiele!B:B,Spiele!D:D))","v":""},{"$f":"IF(B9557=\"\",\"\",LOOKUP(B9557,Spiele!B:B,Spiele!E:E))","v":""},{"$f":"IF(B9557=\"\",\"\",LOOKUP(B9557,Spiele!B:B,Spiele!F:F))","v":""},"","","",null,null,-1,-1,1,0]
[null,null,{"$f":"IF(B9558=\"\",\"\",LOOKUP(B9558,Spiele!B:B,Spiele!C:C))","v":""},{"$f":"IF(B9558=\"\",\"\",LOOKUP(B9558,Spiele!B:B,Spiele!D:D))","v":""},{"$f":"IF(B9558=\"\",\"\",LOOKUP(B9558,Spiele!B:B,Spiele!E:E))","v":""},{"$f":"IF(B9558=\"\",\"\",LOOKUP(B9558,Spiele!B:B,Spiele!F:F))","v":""},"","","",null,null,-1,-1,1,0]
[null,null,{"$f":"IF(B9559=\"\",\"\",LOOKUP(B9559,Spiele!B:B,Spiele!C:C))","v":""},{"$f":"IF(B9559=\"\",\"\",LOOKUP(B9559,Spiele!B:B,Spiele!D:D))","v":""},{"$f":"IF(B9559=\"\",\"\",LOOKUP(B9559,Spiele!B:B,Spiele!E:E))","v":""},{"$f":"IF(B9559=\"\",\"\",LOOKUP(B9559,Spiele!B:B,Spiele!F:F))","v":""},"","","",null,null,-1,-1,1,0]
[null,null,{"$f":"IF(B9560=\"\",\"\",LOOKUP(B9560,Spiele!B:B,Spiele!C:C))","v":""},{"$f":"IF(B9560=\"\",\"\",LOOKUP(B9560,Spiele!B:B,Spiele!D:D))","v":""},{"$f":"IF(B9560=\"\",\"\",LOOKUP(B9560,Spiele!B:B,Spiele!E:E))","v":""},{"$f":"IF(B9560=\"\",\"\",LOOKUP(B9560,Spiele!B:B,Spiele!F:F))","v":""},"","","",null,null,-1,-1,1,0]
[null,null,{"$f":"IF(B9561=\"\",\"\",LOOKUP(B9561,Spiele!B:B,Spiele!C:C))","v":""},{"$f":"IF(B9561=\"\",\"\",LOOKUP(B9561,Spiele!B:B,Spiele!D:D))","v":""},{"$f":"IF(B9561=\"\",\"\",LOOKUP(B9561,Spiele!B:B,Spiele!E:E))","v":""},{"$f":"IF(B9561=\"\",\"\",LOOKUP(B9561,Spiele!B:B,Spiele!F:F))","v":""},"","","",null,null,-1,-1,1,0]
[null,null,{"$f":"IF(B9562=\"\",\"\",LOOKUP(B9562,Spiele!B:B,Spiele!C:C))","v":""},{"$f":"IF(B9562=\"\",\"\",LOOKUP(B9562,Spiele!B:B,Spiele!D:D))","v":""},{"$f":"IF(B9562=\"\",\"\",LOOKUP(B9562,Spiele!B:B,Spiele!E:E))","v":""},{"$f":"IF(B9562=\"\",\"\",LOOKUP(B9562,Spiele!B:B,Spiele!F:F))","v":""},"","","",null,null,-1,-1,1,0]
[null,null,{"$f":"IF(B9563=\"\",\"\",LOOKUP(B9563,Spiele!B:B,Spiele!C:C))","v":""},{"$f":"IF(B9563=\"\",\"\",LOOKUP(B9563,Spiele!B:B,Spiele!D:D))","v":""},{"$f":"IF(B9563=\"\",\"\",LOOKUP(B9563,Spiele!B:B,Spiele!E:E))","v":""},{"$f":"IF(B9563=\"\",\"\",LOOKUP(B9563,Spiele!B:B,Spiele!F:F))","v":""},"","","",null,null,-1,-1,1,0]
[null,null,{"$f":"IF(B9564=\"\",\"\",LOOKUP(B9564,Spiele!B:B,Spiele!C:C))","v":""},{"$f":"IF(B9564=\"\",\"\",LOOKUP(B9564,Spiele!B:B,Spiele!D:D))","v":""},{"$f":"IF(B9564=\"\",\"\",LOOKUP(B9564,Spiele!B:B,Spiele!E:E))","v":""},{"$f":"IF(B9564=\"\",\"\",LOOKUP(B9564,Spiele!B:B,Spiele!F:F))","v":""},"","","",null,null,-1,-1,1,0]
[null,null,{"$f":"IF(B9565=\"\",\"\",LOOKUP(B9565,Spiele!B:B,Spiele!C:C))","v":""},{"$f":"IF(B9565=\"\",\"\",LOOKUP(B9565,Spiele!B:B,Spiele!D:D))","v":""},{"$f":"IF(B9565=\"\",\"\",LOOKUP(B9565,Spiele!B:B,Spiele!E:E))","v":""},{"$f":"IF(B9565=\"\",\"\",LOOKUP(B9565,Spiele!B:B,Spiele!F:F))","v":""},"","","",null,null,-1,-1,1,0]
[null,null,{"$f":"IF(B9566=\"\",\"\",LOOKUP(B9566,Spiele!B:B,Spiele!C:C))","v":""},{"$f":"IF(B9566=\"\",\"\",LOOKUP(B9566,Spiele!B:B,Spiele!D:D))","v":""},{"$f":"IF(B9566=\"\",\"\",LOOKUP(B9566,Spiele!B:B,Spiele!E:E))","v":""},{"$f":"IF(B9566=\"\",\"\",LOOKUP(B9566,Spiele!B:B,Spiele!F:F))","v":""},"","","",null,null,-1,-1,1,0]
[null,null,{"$f":"IF(B9567=\"\",\"\",LOOKUP(B9567,Spiele!B:B,Spiele!C:C))","v":""},{"$f":"IF(B9567=\"\",\"\",LOOKUP(B9567,Spiele!B:B,Spiele!D:D))","v":""},{"$f":"IF(B9567=\"\",\"\",LOOKUP(B9567,Spiele!B:B,Spiele!E:E))","v":""},{"$f":"IF(B9567=\"\",\"\",LOOKUP(B9567,Spiele!B:B,Spiele!F:F))","v":""},"","","",null,null,-1,-1,1,0]
[null,null,{"$f":"IF(B9568=\"\",\"\",LOOKUP(B9568,Spiele!B:B,Spiele!C:C))","v":""},{"$f":"IF(B9568=\"\",\"\",LOOKUP(B9568,Spiele!B:B,Spiele!D:D))","v":""},{"$f":"IF(B9568=\"\",\"\",LOOKUP(B9568,Spiele!B:B,Spiele!E:E))","v":""},{"$f":"IF(B9568=\"\",\"\",LOOKUP(B9568,Spiele!B:B,Spiele!F:F))","v":""},{"$f":"IF(E9568=\"\",\"\",IF(E9568>F9568,1,0))","v":""},{"$f":"IF(F9568=\"\",\"\",IF(E9568<F9568,1,0))","v":""},{"$f":"IF(E9568=\"\",\"\",IF(E9568=F9568,1,0))","v":""},null,null,{"$f":"IF(E9568=\"\",-1,IF(J9568>K9568,1,-1))","v":-1},{"$f":"IF(F9568=\"\",-1,IF(J9568<K9568,1,-1))","v":-1},{"$f":"IF(E9568=\"-\",-1,IF(J9568=K9568,1,-1))","v":1},{"$f":"IF(E9568=\"\",0,IF(E9568=J9568,1,0)+IF(F9568=K9568,1,0)+IF(G9568=L9568,1,0)+IF(H9568=M9568,1,0)+IF(I9568=N9568,1,0))","v":0}]
[null,null,{"$f":"IF(B9569=\"\",\"\",LOOKUP(B9569,Spiele!B:B,Spiele!C:C))","v":""},{"$f":"IF(B9569=\"\",\"\",LOOKUP(B9569,Spiele!B:B,Spiele!D:D))","v":""},{"$f":"IF(B9569=\"\",\"\",LOOKUP(B9569,Spiele!B:B,Spiele!E:E))","v":""},{"$f":"IF(B9569=\"\",\"\",LOOKUP(B9569,Spiele!B:B,Spiele!F:F))","v":""},"","","",null,null,-1,-1,1,0]
[null,null,{"$f":"IF(B9570=\"\",\"\",LOOKUP(B9570,Spiele!B:B,Spiele!C:C))","v":""},{"$f":"IF(B9570=\"\",\"\",LOOKUP(B9570,Spiele!B:B,Spiele!D:D))","v":""},{"$f":"IF(B9570=\"\",\"\",LOOKUP(B9570,Spiele!B:B,Spiele!E:E))","v":""},{"$f":"IF(B9570=\"\",\"\",LOOKUP(B9570,Spiele!B:B,Spiele!F:F))","v":""},"","","",null,null,-1,-1,1,0]
[null,null,{"$f":"IF(B9571=\"\",\"\",LOOKUP(B9571,Spiele!B:B,Spiele!C:C))","v":""},{"$f":"IF(B9571=\"\",\"\",LOOKUP(B9571,Spiele!B:B,Spiele!D:D))","v":""},{"$f":"IF(B9571=\"\",\"\",LOOKUP(B9571,Spiele!B:B,Spiele!E:E))","v":""},{"$f":"IF(B9571=\"\",\"\",LOOKUP(B9571,Spiele!B:B,Spiele!F:F))","v":""},"","","",null,null,-1,-1,1,0]
[null,null,{"$f":"IF(B9572=\"\",\"\",LOOKUP(B9572,Spiele!B:B,Spiele!C:C))","v":""},{"$f":"IF(B9572=\"\",\"\",LOOKUP(B9572,Spiele!B:B,Spiele!D:D))","v":""},{"$f":"IF(B9572=\"\",\"\",LOOKUP(B9572,Spiele!B:B,Spiele!E:E))","v":""},{"$f":"IF(B9572=\"\",\"\",LOOKUP(B9572,Spiele!B:B,Spiele!F:F))","v":""},"","","",null,null,-1,-1,1,0]
[null,null,{"$f":"IF(B9573=\"\",\"\",LOOKUP(B9573,Spiele!B:B,Spiele!C:C))","v":""},{"$f":"IF(B9573=\"\",\"\",LOOKUP(B9573,Spiele!B:B,Spiele!D:D))","v":""},{"$f":"IF(B9573=\"\",\"\",LOOKUP(B9573,Spiele!B:B,Spiele!E:E))","v":""},{"$f":"IF(B9573=\"\",\"\",LOOKUP(B9573,Spiele!B:B,Spiele!F:F))","v":""},"","","",null,null,-1,-1,1,0]
[null,null,{"$f":"IF(B9574=\"\",\"\",LOOKUP(B9574,Spiele!B:B,Spiele!C:C))","v":""},{"$f":"IF(B9574=\"\",\"\",LOOKUP(B9574,Spiele!B:B,Spiele!D:D))","v":""},{"$f":"IF(B9574=\"\",\"\",LOOKUP(B9574,Spiele!B:B,Spiele!E:E))","v":""},{"$f":"IF(B9574=\"\",\"\",LOOKUP(B9574,Spiele!B:B,Spiele!F:F))","v":""},"","","",null,null,-1,-1,1,0]
[null,null,{"$f":"IF(B9575=\"\",\"\",LOOKUP(B9575,Spiele!B:B,Spiele!C:C))","v":""},{"$f":"IF(B9575=\"\",\"\",LOOKUP(B9575,Spiele!B:B,Spiele!D:D))","v":""},{"$f":"IF(B9575=\"\",\"\",LOOKUP(B9575,Spiele!B:B,Spiele!E:E))","v":""},{"$f":"IF(B9575=\"\",\"\",LOOKUP(B9575,Spiele!B:B,Spiele!F:F))","v":""},"","","",null,null,-1,-1,1,0]
[null,null,{"$f":"IF(B9576=\"\",\"\",LOOKUP(B9576,Spiele!B:B,Spiele!C:C))","v":""},{"$f":"IF(B9576=\"\",\"\",LOOKUP(B9576,Spiele!B:B,Spiele!D:D))","v":""},{"$f":"IF(B9576=\"\",\"\",LOOKUP(B9576,Spiele!B:B,Spiele!E:E))","v":""},{"$f":"IF(B9576=\"\",\"\",LOOKUP(B9576,Spiele!B:B,Spiele!F:F))","v":""},"","","",null,null,-1,-1,1,0]
[null,null,{"$f":"IF(B9577=\"\",\"\",LOOKUP(B9577,Spiele!B:B,Spiele!C:C))","v":""},{"$f":"IF(B9577=\"\",\"\",LOOKUP(B9577,Spiele!B:B,Spiele!D:D))","v":""},{"$f":"IF(B9577=\"\",\"\",LOOKUP(B9577,Spiele!B:B,Spiele!E:E))","v":""},{"$f":"IF(B9577=\"\",\"\",LOOKUP(B9577,Spiele!B:B,Spiele!F:F))","v":""},"","","",null,null,-1,-1,1,0]
[null,null,{"$f":"IF(B9578=\"\",\"\",LOOKUP(B9578,Spiele!B:B,Spiele!C:C))","v":""},{"$f":"IF(B9578=\"\",\"\",LOOKUP(B9578,Spiele!B:B,Spiele!D:D))","v":""},{"$f":"IF(B9578=\"\",\"\",LOOKUP(B9578,Spiele!B:B,Spiele!E:E))","v":""},{"$f":"IF(B9578=\"\",\"\",LOOKUP(B9578,Spiele!B:B,Spiele!F:F))","v":""},"","","",null,null,-1,-1,1,0]
[null,null,{"$f":"IF(B9579=\"\",\"\",LOOKUP(B9579,Spiele!B:B,Spiele!C:C))","v":""},{"$f":"IF(B9579=\"\",\"\",LOOKUP(B9579,Spiele!B:B,Spiele!D:D))","v":""},{"$f":"IF(B9579=\"\",\"\",LOOKUP(B9579,Spiele!B:B,Spiele!E:E))","v":""},{"$f":"IF(B9579=\"\",\"\",LOOKUP(B9579,Spiele!B:B,Spiele!F:F))","v":""},"","","",null,null,-1,-1,1,0]
[null,null,{"$f":"IF(B9580=\"\",\"\",LOOKUP(B9580,Spiele!B:B,Spiele!C:C))","v":""},{"$f":"IF(B9580=\"\",\"\",LOOKUP(B9580,Spiele!B:B,Spiele!D:D))","v":""},{"$f":"IF(B9580=\"\",\"\",LOOKUP(B9580,Spiele!B:B,Spiele!E:E))","v":""},{"$f":"IF(B9580=\"\",\"\",LOOKUP(B9580,Spiele!B:B,Spiele!F:F))","v":""},"","","",null,null,-1,-1,1,0]
[null,null,{"$f":"IF(B9581=\"\",\"\",LOOKUP(B9581,Spiele!B:B,Spiele!C:C))","v":""},{"$f":"IF(B9581=\"\",\"\",LOOKUP(B9581,Spiele!B:B,Spiele!D:D))","v":""},{"$f":"IF(B9581=\"\",\"\",LOOKUP(B9581,Spiele!B:B,Spiele!E:E))","v":""},{"$f":"IF(B9581=\"\",\"\",LOOKUP(B9581,Spiele!B:B,Spiele!F:F))","v":""},"","","",null,null,-1,-1,1,0]
[null,null,{"$f":"IF(B9582=\"\",\"\",LOOKUP(B9582,Spiele!B:B,Spiele!C:C))","v":""},{"$f":"IF(B9582=\"\",\"\",LOOKUP(B9582,Spiele!B:B,Spiele!D:D))","v":""},{"$f":"IF(B9582=\"\",\"\",LOOKUP(B9582,Spiele!B:B,Spiele!E:E))","v":""},{"$f":"IF(B9582=\"\",\"\",LOOKUP(B9582,Spiele!B:B,Spiele!F:F))","v":""},"","","",null,null,-1,-1,1,0]
[null,null,{"$f":"IF(B9583=\"\",\"\",LOOKUP(B9583,Spiele!B:B,Spiele!C:C))","v":""},{"$f":"IF(B9583=\"\",\"\",LOOKUP(B9583,Spiele!B:B,Spiele!D:D))","v":""},{"$f":"IF(B9583=\"\",\"\",LOOKUP(B9583,Spiele!B:B,Spiele!E:E))","v":""},{"$f":"IF(B9583=\"\",\"\",LOOKUP(B9583,Spiele!B:B,Spiele!F:F))","v":""},"","","",null,null,-1,-1,1,0]
[null,null,{"$f":"IF(B9584=\"\",\"\",LOOKUP(B9584,Spiele!B:B,Spiele!C:C))","v":""},{"$f":"IF(B9584=\"\",\"\",LOOKUP(B9584,Spiele!B:B,Spiele!D:D))","v":""},{"$f":"IF(B9584=\"\",\"\",LOOKUP(B9584,Spiele!B:B,Spiele!E:E))","v":""},{"$f":"IF(B9584=\"\",\"\",LOOKUP(B9584,Spiele!B:B,Spiele!F:F))","v":""},"","","",null,null,-1,-1,1,0]
[null,null,{"$f":"IF(B9585=\"\",\"\",LOOKUP(B9585,Spiele!B:B,Spiele!C:C))","v":""},{"$f":"IF(B9585=\"\",\"\",LOOKUP(B9585,Spiele!B:B,Spiele!D:D))","v":""},{"$f":"IF(B9585=\"\",\"\",LOOKUP(B9585,Spiele!B:B,Spiele!E:E))","v":""},{"$f":"IF(B9585=\"\",\"\",LOOKUP(B9585,Spiele!B:B,Spiele!F:F))","v":""},"","","",null,null,-1,-1,1,0]
[null,null,{"$f":"IF(B9586=\"\",\"\",LOOKUP(B9586,Spiele!B:B,Spiele!C:C))","v":""},{"$f":"IF(B9586=\"\",\"\",LOOKUP(B9586,Spiele!B:B,Spiele!D:D))","v":""},{"$f":"IF(B9586=\"\",\"\",LOOKUP(B9586,Spiele!B:B,Spiele!E:E))","v":""},{"$f":"IF(B9586=\"\",\"\",LOOKUP(B9586,Spiele!B:B,Spiele!F:F))","v":""},"","","",null,null,-1,-1,1,0]
[null,null,{"$f":"IF(B9587=\"\",\"\",LOOKUP(B9587,Spiele!B:B,Spiele!C:C))","v":""},{"$f":"IF(B9587=\"\",\"\",LOOKUP(B9587,Spiele!B:B,Spiele!D:D))","v":""},{"$f":"IF(B9587=\"\",\"\",LOOKUP(B9587,Spiele!B:B,Spiele!E:E))","v":""},{"$f":"IF(B9587=\"\",\"\",LOOKUP(B9587,Spiele!B:B,Spiele!F:F))","v":""},"","","",null,null,-1,-1,1,0]
[null,null,{"$f":"IF(B9588=\"\",\"\",LOOKUP(B9588,Spiele!B:B,Spiele!C:C))","v":""},{"$f":"IF(B9588=\"\",\"\",LOOKUP(B9588,Spiele!B:B,Spiele!D:D))","v":""},{"$f":"IF(B9588=\"\",\"\",LOOKUP(B9588,Spiele!B:B,Spiele!E:E))","v":""},{"$f":"IF(B9588=\"\",\"\",LOOKUP(B9588,Spiele!B:B,Spiele!F:F))","v":""},"","","",null,null,-1,-1,1,0]
[null,null,{"$f":"IF(B9589=\"\",\"\",LOOKUP(B9589,Spiele!B:B,Spiele!C:C))","v":""},{"$f":"IF(B9589=\"\",\"\",LOOKUP(B9589,Spiele!B:B,Spiele!D:D))","v":""},{"$f":"IF(B9589=\"\",\"\",LOOKUP(B9589,Spiele!B:B,Spiele!E:E))","v":""},{"$f":"IF(B9589=\"\",\"\",LOOKUP(B9589,Spiele!B:B,Spiele!F:F))","v":""},"","","",null,null,-1,-1,1,0]
[null,null,{"$f":"IF(B9590=\"\",\"\",LOOKUP(B9590,Spiele!B:B,Spiele!C:C))","v":""},{"$f":"IF(B9590=\"\",\"\",LOOKUP(B9590,Spiele!B:B,Spiele!D:D))","v":""},{"$f":"IF(B9590=\"\",\"\",LOOKUP(B9590,Spiele!B:B,Spiele!E:E))","v":""},{"$f":"IF(B9590=\"\",\"\",LOOKUP(B9590,Spiele!B:B,Spiele!F:F))","v":""},"","","",null,null,-1,-1,1,0]
[null,null,{"$f":"IF(B9591=\"\",\"\",LOOKUP(B9591,Spiele!B:B,Spiele!C:C))","v":""},{"$f":"IF(B9591=\"\",\"\",LOOKUP(B9591,Spiele!B:B,Spiele!D:D))","v":""},{"$f":"IF(B9591=\"\",\"\",LOOKUP(B9591,Spiele!B:B,Spiele!E:E))","v":""},{"$f":"IF(B9591=\"\",\"\",LOOKUP(B9591,Spiele!B:B,Spiele!F:F))","v":""},"","","",null,null,-1,-1,1,0]
[null,null,{"$f":"IF(B9592=\"\",\"\",LOOKUP(B9592,Spiele!B:B,Spiele!C:C))","v":""},{"$f":"IF(B9592=\"\",\"\",LOOKUP(B9592,Spiele!B:B,Spiele!D:D))","v":""},{"$f":"IF(B9592=\"\",\"\",LOOKUP(B9592,Spiele!B:B,Spiele!E:E))","v":""},{"$f":"IF(B9592=\"\",\"\",LOOKUP(B9592,Spiele!B:B,Spiele!F:F))","v":""},"","","",null,null,-1,-1,1,0]
[null,null,{"$f":"IF(B9593=\"\",\"\",LOOKUP(B9593,Spiele!B:B,Spiele!C:C))","v":""},{"$f":"IF(B9593=\"\",\"\",LOOKUP(B9593,Spiele!B:B,Spiele!D:D))","v":""},{"$f":"IF(B9593=\"\",\"\",LOOKUP(B9593,Spiele!B:B,Spiele!E:E))","v":""},{"$f":"IF(B9593=\"\",\"\",LOOKUP(B9593,Spiele!B:B,Spiele!F:F))","v":""},"","","",null,null,-1,-1,1,0]
[null,null,{"$f":"IF(B9594=\"\",\"\",LOOKUP(B9594,Spiele!B:B,Spiele!C:C))","v":""},{"$f":"IF(B9594=\"\",\"\",LOOKUP(B9594,Spiele!B:B,Spiele!D:D))","v":""},{"$f":"IF(B9594=\"\",\"\",LOOKUP(B9594,Spiele!B:B,Spiele!E:E))","v":""},{"$f":"IF(B9594=\"\",\"\",LOOKUP(B9594,Spiele!B:B,Spiele!F:F))","v":""},"","","",null,null,-1,-1,1,0]
[null,null,{"$f":"IF(B9595=\"\",\"\",LOOKUP(B9595,Spiele!B:B,Spiele!C:C))","v":""},{"$f":"IF(B9595=\"\",\"\",LOOKUP(B9595,Spiele!B:B,Spiele!D:D))","v":""},{"$f":"IF(B9595=\"\",\"\",LOOKUP(B9595,Spiele!B:B,Spiele!E:E))","v":""},{"$f":"IF(B9595=\"\",\"\",LOOKUP(B9595,Spiele!B:B,Spiele!F:F))","v":""},"","","",null,null,-1,-1,1,0]
[null,null,{"$f":"IF(B9596=\"\",\"\",LOOKUP(B9596,Spiele!B:B,Spiele!C:C))","v":""},{"$f":"IF(B9596=\"\",\"\",LOOKUP(B9596,Spiele!B:B,Spiele!D:D))","v":""},{"$f":"IF(B9596=\"\",\"\",LOOKUP(B9596,Spiele!B:B,Spiele!E:E))","v":""},{"$f":"IF(B9596=\"\",\"\",LOOKUP(B9596,Spiele!B:B,Spiele!F:F))","v":""},"","","",null,null,-1,-1,1,0]
[null,null,{"$f":"IF(B9597=\"\",\"\",LOOKUP(B9597,Spiele!B:B,Spiele!C:C))","v":""},{"$f":"IF(B9597=\"\",\"\",LOOKUP(B9597,Spiele!B:B,Spiele!D:D))","v":""},{"$f":"IF(B9597=\"\",\"\",LOOKUP(B9597,Spiele!B:B,Spiele!E:E))","v":""},{"$f":"IF(B9597=\"\",\"\",LOOKUP(B9597,Spiele!B:B,Spiele!F:F))","v":""},"","","",null,null,-1,-1,1,0]
[null,null,{"$f":"IF(B9598=\"\",\"\",LOOKUP(B9598,Spiele!B:B,Spiele!C:C))","v":""},{"$f":"IF(B9598=\"\",\"\",LOOKUP(B9598,Spiele!B:B,Spiele!D:D))","v":""},{"$f":"IF(B9598=\"\",\"\",LOOKUP(B9598,Spiele!B:B,Spiele!E:E))","v":""},{"$f":"IF(B9598=\"\",\"\",LOOKUP(B9598,Spiele!B:B,Spiele!F:F))","v":""},"","","",null,null,-1,-1,1,0]
[null,null,{"$f":"IF(B9599=\"\",\"\",LOOKUP(B9599,Spiele!B:B,Spiele!C:C))","v":""},{"$f":"IF(B9599=\"\",\"\",LOOKUP(B9599,Spiele!B:B,Spiele!D:D))","v":""},{"$f":"IF(B9599=\"\",\"\",LOOKUP(B9599,Spiele!B:B,Spiele!E:E))","v":""},{"$f":"IF(B9599=\"\",\"\",LOOKUP(B9599,Spiele!B:B,Spiele!F:F))","v":""},"","","",null,null,-1,-1,1,0]
[null,null,{"$f":"IF(B9600=\"\",\"\",LOOKUP(B9600,Spiele!B:B,Spiele!C:C))","v":""},{"$f":"IF(B9600=\"\",\"\",LOOKUP(B9600,Spiele!B:B,Spiele!D:D))","v":""},{"$f":"IF(B9600=\"\",\"\",LOOKUP(B9600,Spiele!B:B,Spiele!E:E))","v":""},{"$f":"IF(B9600=\"\",\"\",LOOKUP(B9600,Spiele!B:B,Spiele!F:F))","v":""},"","","",null,null,-1,-1,1,0]
[null,null,{"$f":"IF(B9601=\"\",\"\",LOOKUP(B9601,Spiele!B:B,Spiele!C:C))","v":""},{"$f":"IF(B9601=\"\",\"\",LOOKUP(B9601,Spiele!B:B,Spiele!D:D))","v":""},{"$f":"IF(B9601=\"\",\"\",LOOKUP(B9601,Spiele!B:B,Spiele!E:E))","v":""},{"$f":"IF(B9601=\"\",\"\",LOOKUP(B9601,Spiele!B:B,Spiele!F:F))","v":""},"","","",null,null,-1,-1,1,0]
[null,null,{"$f":"IF(B9602=\"\",\"\",LOOKUP(B9602,Spiele!B:B,Spiele!C:C))","v":""},{"$f":"IF(B9602=\"\",\"\",LOOKUP(B9602,Spiele!B:B,Spiele!D:D))","v":""},{"$f":"IF(B9602=\"\",\"\",LOOKUP(B9602,Spiele!B:B,Spiele!E:E))","v":""},{"$f":"IF(B9602=\"\",\"\",LOOKUP(B9602,Spiele!B:B,Spiele!F:F))","v":""},"","","",null,null,-1,-1,1,0]
[null,null,{"$f":"IF(B9603=\"\",\"\",LOOKUP(B9603,Spiele!B:B,Spiele!C:C))","v":""},{"$f":"IF(B9603=\"\",\"\",LOOKUP(B9603,Spiele!B:B,Spiele!D:D))","v":""},{"$f":"IF(B9603=\"\",\"\",LOOKUP(B9603,Spiele!B:B,Spiele!E:E))","v":""},{"$f":"IF(B9603=\"\",\"\",LOOKUP(B9603,Spiele!B:B,Spiele!F:F))","v":""},"","","",null,null,-1,-1,1,0]
[null,null,{"$f":"IF(B9604=\"\",\"\",LOOKUP(B9604,Spiele!B:B,Spiele!C:C))","v":""},{"$f":"IF(B9604=\"\",\"\",LOOKUP(B9604,Spiele!B:B,Spiele!D:D))","v":""},{"$f":"IF(B9604=\"\",\"\",LOOKUP(B9604,Spiele!B:B,Spiele!E:E))","v":""},{"$f":"IF(B9604=\"\",\"\",LOOKUP(B9604,Spiele!B:B,Spiele!F:F))","v":""},"","","",null,null,-1,-1,1,0]
[null,null,{"$f":"IF(B9605=\"\",\"\",LOOKUP(B9605,Spiele!B:B,Spiele!C:C))","v":""},{"$f":"IF(B9605=\"\",\"\",LOOKUP(B9605,Spiele!B:B,Spiele!D:D))","v":""},{"$f":"IF(B9605=\"\",\"\",LOOKUP(B9605,Spiele!B:B,Spiele!E:E))","v":""},{"$f":"IF(B9605=\"\",\"\",LOOKUP(B9605,Spiele!B:B,Spiele!F:F))","v":""},"","","",null,null,-1,-1,1,0]
[null,null,{"$f":"IF(B9606=\"\",\"\",LOOKUP(B9606,Spiele!B:B,Spiele!C:C))","v":""},{"$f":"IF(B9606=\"\",\"\",LOOKUP(B9606,Spiele!B:B,Spiele!D:D))","v":""},{"$f":"IF(B9606=\"\",\"\",LOOKUP(B9606,Spiele!B:B,Spiele!E:E))","v":""},{"$f":"IF(B9606=\"\",\"\",LOOKUP(B9606,Spiele!B:B,Spiele!F:F))","v":""},"","","",null,null,-1,-1,1,0]
[null,null,{"$f":"IF(B9607=\"\",\"\",LOOKUP(B9607,Spiele!B:B,Spiele!C:C))","v":""},{"$f":"IF(B9607=\"\",\"\",LOOKUP(B9607,Spiele!B:B,Spiele!D:D))","v":""},{"$f":"IF(B9607=\"\",\"\",LOOKUP(B9607,Spiele!B:B,Spiele!E:E))","v":""},{"$f":"IF(B9607=\"\",\"\",LOOKUP(B9607,Spiele!B:B,Spiele!F:F))","v":""},"","","",null,null,-1,-1,1,0]
[null,null,{"$f":"IF(B9608=\"\",\"\",LOOKUP(B9608,Spiele!B:B,Spiele!C:C))","v":""},{"$f":"IF(B9608=\"\",\"\",LOOKUP(B9608,Spiele!B:B,Spiele!D:D))","v":""},{"$f":"IF(B9608=\"\",\"\",LOOKUP(B9608,Spiele!B:B,Spiele!E:E))","v":""},{"$f":"IF(B9608=\"\",\"\",LOOKUP(B9608,Spiele!B:B,Spiele!F:F))","v":""},"","","",null,null,-1,-1,1,0]
[null,null,{"$f":"IF(B9609=\"\",\"\",LOOKUP(B9609,Spiele!B:B,Spiele!C:C))","v":""},{"$f":"IF(B9609=\"\",\"\",LOOKUP(B9609,Spiele!B:B,Spiele!D:D))","v":""},{"$f":"IF(B9609=\"\",\"\",LOOKUP(B9609,Spiele!B:B,Spiele!E:E))","v":""},{"$f":"IF(B9609=\"\",\"\",LOOKUP(B9609,Spiele!B:B,Spiele!F:F))","v":""},"","","",null,null,-1,-1,1,0]
[null,null,{"$f":"IF(B9610=\"\",\"\",LOOKUP(B9610,Spiele!B:B,Spiele!C:C))","v":""},{"$f":"IF(B9610=\"\",\"\",LOOKUP(B9610,Spiele!B:B,Spiele!D:D))","v":""},{"$f":"IF(B9610=\"\",\"\",LOOKUP(B9610,Spiele!B:B,Spiele!E:E))","v":""},{"$f":"IF(B9610=\"\",\"\",LOOKUP(B9610,Spiele!B:B,Spiele!F:F))","v":""},"","","",null,null,-1,-1,1,0]
[null,null,{"$f":"IF(B9611=\"\",\"\",LOOKUP(B9611,Spiele!B:B,Spiele!C:C))","v":""},{"$f":"IF(B9611=\"\",\"\",LOOKUP(B9611,Spiele!B:B,Spiele!D:D))","v":""},{"$f":"IF(B9611=\"\",\"\",LOOKUP(B9611,Spiele!B:B,Spiele!E:E))","v":""},{"$f":"IF(B9611=\"\",\"\",LOOKUP(B9611,Spiele!B:B,Spiele!F:F))","v":""},"","","",null,null,-1,-1,1,0]
[null,null,{"$f":"IF(B9612=\"\",\"\",LOOKUP(B9612,Spiele!B:B,Spiele!C:C))","v":""},{"$f":"IF(B9612=\"\",\"\",LOOKUP(B9612,Spiele!B:B,Spiele!D:D))","v":""},{"$f":"IF(B9612=\"\",\"\",LOOKUP(B9612,Spiele!B:B,Spiele!E:E))","v":""},{"$f":"IF(B9612=\"\",\"\",LOOKUP(B9612,Spiele!B:B,Spiele!F:F))","v":""},"","","",null,null,-1,-1,1,0]
[null,null,{"$f":"IF(B9613=\"\",\"\",LOOKUP(B9613,Spiele!B:B,Spiele!C:C))","v":""},{"$f":"IF(B9613=\"\",\"\",LOOKUP(B9613,Spiele!B:B,Spiele!D:D))","v":""},{"$f":"IF(B9613=\"\",\"\",LOOKUP(B9613,Spiele!B:B,Spiele!E:E))","v":""},{"$f":"IF(B9613=\"\",\"\",LOOKUP(B9613,Spiele!B:B,Spiele!F:F))","v":""},"","","",null,null,-1,-1,1,0]
[null,null,{"$f":"IF(B9614=\"\",\"\",LOOKUP(B9614,Spiele!B:B,Spiele!C:C))","v":""},{"$f":"IF(B9614=\"\",\"\",LOOKUP(B9614,Spiele!B:B,Spiele!D:D))","v":""},{"$f":"IF(B9614=\"\",\"\",LOOKUP(B9614,Spiele!B:B,Spiele!E:E))","v":""},{"$f":"IF(B9614=\"\",\"\",LOOKUP(B9614,Spiele!B:B,Spiele!F:F))","v":""},"","","",null,null,-1,-1,1,0]
[null,null,{"$f":"IF(B9615=\"\",\"\",LOOKUP(B9615,Spiele!B:B,Spiele!C:C))","v":""},{"$f":"IF(B9615=\"\",\"\",LOOKUP(B9615,Spiele!B:B,Spiele!D:D))","v":""},{"$f":"IF(B9615=\"\",\"\",LOOKUP(B9615,Spiele!B:B,Spiele!E:E))","v":""},{"$f":"IF(B9615=\"\",\"\",LOOKUP(B9615,Spiele!B:B,Spiele!F:F))","v":""},"","","",null,null,-1,-1,1,0]
[null,null,{"$f":"IF(B9616=\"\",\"\",LOOKUP(B9616,Spiele!B:B,Spiele!C:C))","v":""},{"$f":"IF(B9616=\"\",\"\",LOOKUP(B9616,Spiele!B:B,Spiele!D:D))","v":""},{"$f":"IF(B9616=\"\",\"\",LOOKUP(B9616,Spiele!B:B,Spiele!E:E))","v":""},{"$f":"IF(B9616=\"\",\"\",LOOKUP(B9616,Spiele!B:B,Spiele!F:F))","v":""},"","","",null,null,-1,-1,1,0]
[null,null,{"$f":"IF(B9617=\"\",\"\",LOOKUP(B9617,Spiele!B:B,Spiele!C:C))","v":""},{"$f":"IF(B9617=\"\",\"\",LOOKUP(B9617,Spiele!B:B,Spiele!D:D))","v":""},{"$f":"IF(B9617=\"\",\"\",LOOKUP(B9617,Spiele!B:B,Spiele!E:E))","v":""},{"$f":"IF(B9617=\"\",\"\",LOOKUP(B9617,Spiele!B:B,Spiele!F:F))","v":""},"","","",null,null,-1,-1,1,0]
[null,null,{"$f":"IF(B9618=\"\",\"\",LOOKUP(B9618,Spiele!B:B,Spiele!C:C))","v":""},{"$f":"IF(B9618=\"\",\"\",LOOKUP(B9618,Spiele!B:B,Spiele!D:D))","v":""},{"$f":"IF(B9618=\"\",\"\",LOOKUP(B9618,Spiele!B:B,Spiele!E:E))","v":""},{"$f":"IF(B9618=\"\",\"\",LOOKUP(B9618,Spiele!B:B,Spiele!F:F))","v":""},"","","",null,null,-1,-1,1,0]
[null,null,{"$f":"IF(B9619=\"\",\"\",LOOKUP(B9619,Spiele!B:B,Spiele!C:C))","v":""},{"$f":"IF(B9619=\"\",\"\",LOOKUP(B9619,Spiele!B:B,Spiele!D:D))","v":""},{"$f":"IF(B9619=\"\",\"\",LOOKUP(B9619,Spiele!B:B,Spiele!E:E))","v":""},{"$f":"IF(B9619=\"\",\"\",LOOKUP(B9619,Spiele!B:B,Spiele!F:F))","v":""},"","","",null,null,-1,-1,1,0]
[null,null,{"$f":"IF(B9620=\"\",\"\",LOOKUP(B9620,Spiele!B:B,Spiele!C:C))","v":""},{"$f":"IF(B9620=\"\",\"\",LOOKUP(B9620,Spiele!B:B,Spiele!D:D))","v":""},{"$f":"IF(B9620=\"\",\"\",LOOKUP(B9620,Spiele!B:B,Spiele!E:E))","v":""},{"$f":"IF(B9620=\"\",\"\",LOOKUP(B9620,Spiele!B:B,Spiele!F:F))","v":""},"","","",null,null,-1,-1,1,0]
[null,null,{"$f":"IF(B9621=\"\",\"\",LOOKUP(B9621,Spiele!B:B,Spiele!C:C))","v":""},{"$f":"IF(B9621=\"\",\"\",LOOKUP(B9621,Spiele!B:B,Spiele!D:D))","v":""},{"$f":"IF(B9621=\"\",\"\",LOOKUP(B9621,Spiele!B:B,Spiele!E:E))","v":""},{"$f":"IF(B9621=\"\",\"\",LOOKUP(B9621,Spiele!B:B,Spiele!F:F))","v":""},"","","",null,null,-1,-1,1,0]
[null,null,{"$f":"IF(B9622=\"\",\"\",LOOKUP(B9622,Spiele!B:B,Spiele!C:C))","v":""},{"$f":"IF(B9622=\"\",\"\",LOOKUP(B9622,Spiele!B:B,Spiele!D:D))","v":""},{"$f":"IF(B9622=\"\",\"\",LOOKUP(B9622,Spiele!B:B,Spiele!E:E))","v":""},{"$f":"IF(B9622=\"\",\"\",LOOKUP(B9622,Spiele!B:B,Spiele!F:F))","v":""},"","","",null,null,-1,-1,1,0]
[null,null,{"$f":"IF(B9623=\"\",\"\",LOOKUP(B9623,Spiele!B:B,Spiele!C:C))","v":""},{"$f":"IF(B9623=\"\",\"\",LOOKUP(B9623,Spiele!B:B,Spiele!D:D))","v":""},{"$f":"IF(B9623=\"\",\"\",LOOKUP(B9623,Spiele!B:B,Spiele!E:E))","v":""},{"$f":"IF(B9623=\"\",\"\",LOOKUP(B9623,Spiele!B:B,Spiele!F:F))","v":""},"","","",null,null,-1,-1,1,0]
[null,null,{"$f":"IF(B9624=\"\",\"\",LOOKUP(B9624,Spiele!B:B,Spiele!C:C))","v":""},{"$f":"IF(B9624=\"\",\"\",LOOKUP(B9624,Spiele!B:B,Spiele!D:D))","v":""},{"$f":"IF(B9624=\"\",\"\",LOOKUP(B9624,Spiele!B:B,Spiele!E:E))","v":""},{"$f":"IF(B9624=\"\",\"\",LOOKUP(B9624,Spiele!B:B,Spiele!F:F))","v":""},"","","",null,null,-1,-1,1,0]
[null,null,{"$f":"IF(B9625=\"\",\"\",LOOKUP(B9625,Spiele!B:B,Spiele!C:C))","v":""},{"$f":"IF(B9625=\"\",\"\",LOOKUP(B9625,Spiele!B:B,Spiele!D:D))","v":""},{"$f":"IF(B9625=\"\",\"\",LOOKUP(B9625,Spiele!B:B,Spiele!E:E))","v":""},{"$f":"IF(B9625=\"\",\"\",LOOKUP(B9625,Spiele!B:B,Spiele!F:F))","v":""},"","","",null,null,-1,-1,1,0]
[null,null,{"$f":"IF(B9626=\"\",\"\",LOOKUP(B9626,Spiele!B:B,Spiele!C:C))","v":""},{"$f":"IF(B9626=\"\",\"\",LOOKUP(B9626,Spiele!B:B,Spiele!D:D))","v":""},{"$f":"IF(B9626=\"\",\"\",LOOKUP(B9626,Spiele!B:B,Spiele!E:E))","v":""},{"$f":"IF(B9626=\"\",\"\",LOOKUP(B9626,Spiele!B:B,Spiele!F:F))","v":""},"","","",null,null,-1,-1,1,0]
[null,null,{"$f":"IF(B9627=\"\",\"\",LOOKUP(B9627,Spiele!B:B,Spiele!C:C))","v":""},{"$f":"IF(B9627=\"\",\"\",LOOKUP(B9627,Spiele!B:B,Spiele!D:D))","v":""},{"$f":"IF(B9627=\"\",\"\",LOOKUP(B9627,Spiele!B:B,Spiele!E:E))","v":""},{"$f":"IF(B9627=\"\",\"\",LOOKUP(B9627,Spiele!B:B,Spiele!F:F))","v":""},"","","",null,null,-1,-1,1,0]
[null,null,{"$f":"IF(B9628=\"\",\"\",LOOKUP(B9628,Spiele!B:B,Spiele!C:C))","v":""},{"$f":"IF(B9628=\"\",\"\",LOOKUP(B9628,Spiele!B:B,Spiele!D:D))","v":""},{"$f":"IF(B9628=\"\",\"\",LOOKUP(B9628,Spiele!B:B,Spiele!E:E))","v":""},{"$f":"IF(B9628=\"\",\"\",LOOKUP(B9628,Spiele!B:B,Spiele!F:F))","v":""},"","","",null,null,-1,-1,1,0]
[null,null,{"$f":"IF(B9629=\"\",\"\",LOOKUP(B9629,Spiele!B:B,Spiele!C:C))","v":""},{"$f":"IF(B9629=\"\",\"\",LOOKUP(B9629,Spiele!B:B,Spiele!D:D))","v":""},{"$f":"IF(B9629=\"\",\"\",LOOKUP(B9629,Spiele!B:B,Spiele!E:E))","v":""},{"$f":"IF(B9629=\"\",\"\",LOOKUP(B9629,Spiele!B:B,Spiele!F:F))","v":""},"","","",null,null,-1,-1,1,0]
[null,null,{"$f":"IF(B9630=\"\",\"\",LOOKUP(B9630,Spiele!B:B,Spiele!C:C))","v":""},{"$f":"IF(B9630=\"\",\"\",LOOKUP(B9630,Spiele!B:B,Spiele!D:D))","v":""},{"$f":"IF(B9630=\"\",\"\",LOOKUP(B9630,Spiele!B:B,Spiele!E:E))","v":""},{"$f":"IF(B9630=\"\",\"\",LOOKUP(B9630,Spiele!B:B,Spiele!F:F))","v":""},"","","",null,null,-1,-1,1,0]
[null,null,{"$f":"IF(B9631=\"\",\"\",LOOKUP(B9631,Spiele!B:B,Spiele!C:C))","v":""},{"$f":"IF(B9631=\"\",\"\",LOOKUP(B9631,Spiele!B:B,Spiele!D:D))","v":""},{"$f":"IF(B9631=\"\",\"\",LOOKUP(B9631,Spiele!B:B,Spiele!E:E))","v":""},{"$f":"IF(B9631=\"\",\"\",LOOKUP(B9631,Spiele!B:B,Spiele!F:F))","v":""},"","","",null,null,-1,-1,1,0]
[null,null,{"$f":"IF(B9632=\"\",\"\",LOOKUP(B9632,Spiele!B:B,Spiele!C:C))","v":""},{"$f":"IF(B9632=\"\",\"\",LOOKUP(B9632,Spiele!B:B,Spiele!D:D))","v":""},{"$f":"IF(B9632=\"\",\"\",LOOKUP(B9632,Spiele!B:B,Spiele!E:E))","v":""},{"$f":"IF(B9632=\"\",\"\",LOOKUP(B9632,Spiele!B:B,Spiele!F:F))","v":""},{"$f":"IF(E9632=\"\",\"\",IF(E9632>F9632,1,0))","v":""},{"$f":"IF(F9632=\"\",\"\",IF(E9632<F9632,1,0))","v":""},{"$f":"IF(E9632=\"\",\"\",IF(E9632=F9632,1,0))","v":""},null,null,{"$f":"IF(E9632=\"\",-1,IF(J9632>K9632,1,-1))","v":-1},{"$f":"IF(F9632=\"\",-1,IF(J9632<K9632,1,-1))","v":-1},{"$f":"IF(E9632=\"-\",-1,IF(J9632=K9632,1,-1))","v":1},{"$f":"IF(E9632=\"\",0,IF(E9632=J9632,1,0)+IF(F9632=K9632,1,0)+IF(G9632=L9632,1,0)+IF(H9632=M9632,1,0)+IF(I9632=N9632,1,0))","v":0}]
[null,null,{"$f":"IF(B9633=\"\",\"\",LOOKUP(B9633,Spiele!B:B,Spiele!C:C))","v":""},{"$f":"IF(B9633=\"\",\"\",LOOKUP(B9633,Spiele!B:B,Spiele!D:D))","v":""},{"$f":"IF(B9633=\"\",\"\",LOOKUP(B9633,Spiele!B:B,Spiele!E:E))","v":""},{"$f":"IF(B9633=\"\",\"\",LOOKUP(B9633,Spiele!B:B,Spiele!F:F))","v":""},"","","",null,null,-1,-1,1,0]
[null,null,{"$f":"IF(B9634=\"\",\"\",LOOKUP(B9634,Spiele!B:B,Spiele!C:C))","v":""},{"$f":"IF(B9634=\"\",\"\",LOOKUP(B9634,Spiele!B:B,Spiele!D:D))","v":""},{"$f":"IF(B9634=\"\",\"\",LOOKUP(B9634,Spiele!B:B,Spiele!E:E))","v":""},{"$f":"IF(B9634=\"\",\"\",LOOKUP(B9634,Spiele!B:B,Spiele!F:F))","v":""},"","","",null,null,-1,-1,1,0]
[null,null,{"$f":"IF(B9635=\"\",\"\",LOOKUP(B9635,Spiele!B:B,Spiele!C:C))","v":""},{"$f":"IF(B9635=\"\",\"\",LOOKUP(B9635,Spiele!B:B,Spiele!D:D))","v":""},{"$f":"IF(B9635=\"\",\"\",LOOKUP(B9635,Spiele!B:B,Spiele!E:E))","v":""},{"$f":"IF(B9635=\"\",\"\",LOOKUP(B9635,Spiele!B:B,Spiele!F:F))","v":""},"","","",null,null,-1,-1,1,0]
[null,null,{"$f":"IF(B9636=\"\",\"\",LOOKUP(B9636,Spiele!B:B,Spiele!C:C))","v":""},{"$f":"IF(B9636=\"\",\"\",LOOKUP(B9636,Spiele!B:B,Spiele!D:D))","v":""},{"$f":"IF(B9636=\"\",\"\",LOOKUP(B9636,Spiele!B:B,Spiele!E:E))","v":""},{"$f":"IF(B9636=\"\",\"\",LOOKUP(B9636,Spiele!B:B,Spiele!F:F))","v":""},"","","",null,null,-1,-1,1,0]
[null,null,{"$f":"IF(B9637=\"\",\"\",LOOKUP(B9637,Spiele!B:B,Spiele!C:C))","v":""},{"$f":"IF(B9637=\"\",\"\",LOOKUP(B9637,Spiele!B:B,Spiele!D:D))","v":""},{"$f":"IF(B9637=\"\",\"\",LOOKUP(B9637,Spiele!B:B,Spiele!E:E))","v":""},{"$f":"IF(B9637=\"\",\"\",LOOKUP(B9637,Spiele!B:B,Spiele!F:F))","v":""},"","","",null,null,-1,-1,1,0]
[null,null,{"$f":"IF(B9638=\"\",\"\",LOOKUP(B9638,Spiele!B:B,Spiele!C:C))","v":""},{"$f":"IF(B9638=\"\",\"\",LOOKUP(B9638,Spiele!B:B,Spiele!D:D))","v":""},{"$f":"IF(B9638=\"\",\"\",LOOKUP(B9638,Spiele!B:B,Spiele!E:E))","v":""},{"$f":"IF(B9638=\"\",\"\",LOOKUP(B9638,Spiele!B:B,Spiele!F:F))","v":""},"","","",null,null,-1,-1,1,0]
[null,null,{"$f":"IF(B9639=\"\",\"\",LOOKUP(B9639,Spiele!B:B,Spiele!C:C))","v":""},{"$f":"IF(B9639=\"\",\"\",LOOKUP(B9639,Spiele!B:B,Spiele!D:D))","v":""},{"$f":"IF(B9639=\"\",\"\",LOOKUP(B9639,Spiele!B:B,Spiele!E:E))","v":""},{"$f":"IF(B9639=\"\",\"\",LOOKUP(B9639,Spiele!B:B,Spiele!F:F))","v":""},"","","",null,null,-1,-1,1,0]
[null,null,{"$f":"IF(B9640=\"\",\"\",LOOKUP(B9640,Spiele!B:B,Spiele!C:C))","v":""},{"$f":"IF(B9640=\"\",\"\",LOOKUP(B9640,Spiele!B:B,Spiele!D:D))","v":""},{"$f":"IF(B9640=\"\",\"\",LOOKUP(B9640,Spiele!B:B,Spiele!E:E))","v":""},{"$f":"IF(B9640=\"\",\"\",LOOKUP(B9640,Spiele!B:B,Spiele!F:F))","v":""},"","","",null,null,-1,-1,1,0]
[null,null,{"$f":"IF(B9641=\"\",\"\",LOOKUP(B9641,Spiele!B:B,Spiele!C:C))","v":""},{"$f":"IF(B9641=\"\",\"\",LOOKUP(B9641,Spiele!B:B,Spiele!D:D))","v":""},{"$f":"IF(B9641=\"\",\"\",LOOKUP(B9641,Spiele!B:B,Spiele!E:E))","v":""},{"$f":"IF(B9641=\"\",\"\",LOOKUP(B9641,Spiele!B:B,Spiele!F:F))","v":""},"","","",null,null,-1,-1,1,0]
[null,null,{"$f":"IF(B9642=\"\",\"\",LOOKUP(B9642,Spiele!B:B,Spiele!C:C))","v":""},{"$f":"IF(B9642=\"\",\"\",LOOKUP(B9642,Spiele!B:B,Spiele!D:D))","v":""},{"$f":"IF(B9642=\"\",\"\",LOOKUP(B9642,Spiele!B:B,Spiele!E:E))","v":""},{"$f":"IF(B9642=\"\",\"\",LOOKUP(B9642,Spiele!B:B,Spiele!F:F))","v":""},"","","",null,null,-1,-1,1,0]
[null,null,{"$f":"IF(B9643=\"\",\"\",LOOKUP(B9643,Spiele!B:B,Spiele!C:C))","v":""},{"$f":"IF(B9643=\"\",\"\",LOOKUP(B9643,Spiele!B:B,Spiele!D:D))","v":""},{"$f":"IF(B9643=\"\",\"\",LOOKUP(B9643,Spiele!B:B,Spiele!E:E))","v":""},{"$f":"IF(B9643=\"\",\"\",LOOKUP(B9643,Spiele!B:B,Spiele!F:F))","v":""},"","","",null,null,-1,-1,1,0]
[null,null,{"$f":"IF(B9644=\"\",\"\",LOOKUP(B9644,Spiele!B:B,Spiele!C:C))","v":""},{"$f":"IF(B9644=\"\",\"\",LOOKUP(B9644,Spiele!B:B,Spiele!D:D))","v":""},{"$f":"IF(B9644=\"\",\"\",LOOKUP(B9644,Spiele!B:B,Spiele!E:E))","v":""},{"$f":"IF(B9644=\"\",\"\",LOOKUP(B9644,Spiele!B:B,Spiele!F:F))","v":""},"","","",null,null,-1,-1,1,0]
[null,null,{"$f":"IF(B9645=\"\",\"\",LOOKUP(B9645,Spiele!B:B,Spiele!C:C))","v":""},{"$f":"IF(B9645=\"\",\"\",LOOKUP(B9645,Spiele!B:B,Spiele!D:D))","v":""},{"$f":"IF(B9645=\"\",\"\",LOOKUP(B9645,Spiele!B:B,Spiele!E:E))","v":""},{"$f":"IF(B9645=\"\",\"\",LOOKUP(B9645,Spiele!B:B,Spiele!F:F))","v":""},"","","",null,null,-1,-1,1,0]
[null,null,{"$f":"IF(B9646=\"\",\"\",LOOKUP(B9646,Spiele!B:B,Spiele!C:C))","v":""},{"$f":"IF(B9646=\"\",\"\",LOOKUP(B9646,Spiele!B:B,Spiele!D:D))","v":""},{"$f":"IF(B9646=\"\",\"\",LOOKUP(B9646,Spiele!B:B,Spiele!E:E))","v":""},{"$f":"IF(B9646=\"\",\"\",LOOKUP(B9646,Spiele!B:B,Spiele!F:F))","v":""},"","","",null,null,-1,-1,1,0]
[null,null,{"$f":"IF(B9647=\"\",\"\",LOOKUP(B9647,Spiele!B:B,Spiele!C:C))","v":""},{"$f":"IF(B9647=\"\",\"\",LOOKUP(B9647,Spiele!B:B,Spiele!D:D))","v":""},{"$f":"IF(B9647=\"\",\"\",LOOKUP(B9647,Spiele!B:B,Spiele!E:E))","v":""},{"$f":"IF(B9647=\"\",\"\",LOOKUP(B9647,Spiele!B:B,Spiele!F:F))","v":""},"","","",null,null,-1,-1,1,0]
[null,null,{"$f":"IF(B9648=\"\",\"\",LOOKUP(B9648,Spiele!B:B,Spiele!C:C))","v":""},{"$f":"IF(B9648=\"\",\"\",LOOKUP(B9648,Spiele!B:B,Spiele!D:D))","v":""},{"$f":"IF(B9648=\"\",\"\",LOOKUP(B9648,Spiele!B:B,Spiele!E:E))","v":""},{"$f":"IF(B9648=\"\",\"\",LOOKUP(B9648,Spiele!B:B,Spiele!F:F))","v":""},"","","",null,null,-1,-1,1,0]
[null,null,{"$f":"IF(B9649=\"\",\"\",LOOKUP(B9649,Spiele!B:B,Spiele!C:C))","v":""},{"$f":"IF(B9649=\"\",\"\",LOOKUP(B9649,Spiele!B:B,Spiele!D:D))","v":""},{"$f":"IF(B9649=\"\",\"\",LOOKUP(B9649,Spiele!B:B,Spiele!E:E))","v":""},{"$f":"IF(B9649=\"\",\"\",LOOKUP(B9649,Spiele!B:B,Spiele!F:F))","v":""},"","","",null,null,-1,-1,1,0]
[null,null,{"$f":"IF(B9650=\"\",\"\",LOOKUP(B9650,Spiele!B:B,Spiele!C:C))","v":""},{"$f":"IF(B9650=\"\",\"\",LOOKUP(B9650,Spiele!B:B,Spiele!D:D))","v":""},{"$f":"IF(B9650=\"\",\"\",LOOKUP(B9650,Spiele!B:B,Spiele!E:E))","v":""},{"$f":"IF(B9650=\"\",\"\",LOOKUP(B9650,Spiele!B:B,Spiele!F:F))","v":""},"","","",null,null,-1,-1,1,0]
[null,null,{"$f":"IF(B9651=\"\",\"\",LOOKUP(B9651,Spiele!B:B,Spiele!C:C))","v":""},{"$f":"IF(B9651=\"\",\"\",LOOKUP(B9651,Spiele!B:B,Spiele!D:D))","v":""},{"$f":"IF(B9651=\"\",\"\",LOOKUP(B9651,Spiele!B:B,Spiele!E:E))","v":""},{"$f":"IF(B9651=\"\",\"\",LOOKUP(B9651,Spiele!B:B,Spiele!F:F))","v":""},"","","",null,null,-1,-1,1,0]
[null,null,{"$f":"IF(B9652=\"\",\"\",LOOKUP(B9652,Spiele!B:B,Spiele!C:C))","v":""},{"$f":"IF(B9652=\"\",\"\",LOOKUP(B9652,Spiele!B:B,Spiele!D:D))","v":""},{"$f":"IF(B9652=\"\",\"\",LOOKUP(B9652,Spiele!B:B,Spiele!E:E))","v":""},{"$f":"IF(B9652=\"\",\"\",LOOKUP(B9652,Spiele!B:B,Spiele!F:F))","v":""},"","","",null,null,-1,-1,1,0]
[null,null,{"$f":"IF(B9653=\"\",\"\",LOOKUP(B9653,Spiele!B:B,Spiele!C:C))","v":""},{"$f":"IF(B9653=\"\",\"\",LOOKUP(B9653,Spiele!B:B,Spiele!D:D))","v":""},{"$f":"IF(B9653=\"\",\"\",LOOKUP(B9653,Spiele!B:B,Spiele!E:E))","v":""},{"$f":"IF(B9653=\"\",\"\",LOOKUP(B9653,Spiele!B:B,Spiele!F:F))","v":""},"","","",null,null,-1,-1,1,0]
[null,null,{"$f":"IF(B9654=\"\",\"\",LOOKUP(B9654,Spiele!B:B,Spiele!C:C))","v":""},{"$f":"IF(B9654=\"\",\"\",LOOKUP(B9654,Spiele!B:B,Spiele!D:D))","v":""},{"$f":"IF(B9654=\"\",\"\",LOOKUP(B9654,Spiele!B:B,Spiele!E:E))","v":""},{"$f":"IF(B9654=\"\",\"\",LOOKUP(B9654,Spiele!B:B,Spiele!F:F))","v":""},"","","",null,null,-1,-1,1,0]
[null,null,{"$f":"IF(B9655=\"\",\"\",LOOKUP(B9655,Spiele!B:B,Spiele!C:C))","v":""},{"$f":"IF(B9655=\"\",\"\",LOOKUP(B9655,Spiele!B:B,Spiele!D:D))","v":""},{"$f":"IF(B9655=\"\",\"\",LOOKUP(B9655,Spiele!B:B,Spiele!E:E))","v":""},{"$f":"IF(B9655=\"\",\"\",LOOKUP(B9655,Spiele!B:B,Spiele!F:F))","v":""},"","","",null,null,-1,-1,1,0]
[null,null,{"$f":"IF(B9656=\"\",\"\",LOOKUP(B9656,Spiele!B:B,Spiele!C:C))","v":""},{"$f":"IF(B9656=\"\",\"\",LOOKUP(B9656,Spiele!B:B,Spiele!D:D))","v":""},{"$f":"IF(B9656=\"\",\"\",LOOKUP(B9656,Spiele!B:B,Spiele!E:E))","v":""},{"$f":"IF(B9656=\"\",\"\",LOOKUP(B9656,Spiele!B:B,Spiele!F:F))","v":""},"","","",null,null,-1,-1,1,0]
[null,null,{"$f":"IF(B9657=\"\",\"\",LOOKUP(B9657,Spiele!B:B,Spiele!C:C))","v":""},{"$f":"IF(B9657=\"\",\"\",LOOKUP(B9657,Spiele!B:B,Spiele!D:D))","v":""},{"$f":"IF(B9657=\"\",\"\",LOOKUP(B9657,Spiele!B:B,Spiele!E:E))","v":""},{"$f":"IF(B9657=\"\",\"\",LOOKUP(B9657,Spiele!B:B,Spiele!F:F))","v":""},"","","",null,null,-1,-1,1,0]
[null,null,{"$f":"IF(B9658=\"\",\"\",LOOKUP(B9658,Spiele!B:B,Spiele!C:C))","v":""},{"$f":"IF(B9658=\"\",\"\",LOOKUP(B9658,Spiele!B:B,Spiele!D:D))","v":""},{"$f":"IF(B9658=\"\",\"\",LOOKUP(B9658,Spiele!B:B,Spiele!E:E))","v":""},{"$f":"IF(B9658=\"\",\"\",LOOKUP(B9658,Spiele!B:B,Spiele!F:F))","v":""},"","","",null,null,-1,-1,1,0]
[null,null,{"$f":"IF(B9659=\"\",\"\",LOOKUP(B9659,Spiele!B:B,Spiele!C:C))","v":""},{"$f":"IF(B9659=\"\",\"\",LOOKUP(B9659,Spiele!B:B,Spiele!D:D))","v":""},{"$f":"IF(B9659=\"\",\"\",LOOKUP(B9659,Spiele!B:B,Spiele!E:E))","v":""},{"$f":"IF(B9659=\"\",\"\",LOOKUP(B9659,Spiele!B:B,Spiele!F:F))","v":""},"","","",null,null,-1,-1,1,0]
[null,null,{"$f":"IF(B9660=\"\",\"\",LOOKUP(B9660,Spiele!B:B,Spiele!C:C))","v":""},{"$f":"IF(B9660=\"\",\"\",LOOKUP(B9660,Spiele!B:B,Spiele!D:D))","v":""},{"$f":"IF(B9660=\"\",\"\",LOOKUP(B9660,Spiele!B:B,Spiele!E:E))","v":""},{"$f":"IF(B9660=\"\",\"\",LOOKUP(B9660,Spiele!B:B,Spiele!F:F))","v":""},"","","",null,null,-1,-1,1,0]
[null,null,{"$f":"IF(B9661=\"\",\"\",LOOKUP(B9661,Spiele!B:B,Spiele!C:C))","v":""},{"$f":"IF(B9661=\"\",\"\",LOOKUP(B9661,Spiele!B:B,Spiele!D:D))","v":""},{"$f":"IF(B9661=\"\",\"\",LOOKUP(B9661,Spiele!B:B,Spiele!E:E))","v":""},{"$f":"IF(B9661=\"\",\"\",LOOKUP(B9661,Spiele!B:B,Spiele!F:F))","v":""},"","","",null,null,-1,-1,1,0]
[null,null,{"$f":"IF(B9662=\"\",\"\",LOOKUP(B9662,Spiele!B:B,Spiele!C:C))","v":""},{"$f":"IF(B9662=\"\",\"\",LOOKUP(B9662,Spiele!B:B,Spiele!D:D))","v":""},{"$f":"IF(B9662=\"\",\"\",LOOKUP(B9662,Spiele!B:B,Spiele!E:E))","v":""},{"$f":"IF(B9662=\"\",\"\",LOOKUP(B9662,Spiele!B:B,Spiele!F:F))","v":""},"","","",null,null,-1,-1,1,0]
[null,null,{"$f":"IF(B9663=\"\",\"\",LOOKUP(B9663,Spiele!B:B,Spiele!C:C))","v":""},{"$f":"IF(B9663=\"\",\"\",LOOKUP(B9663,Spiele!B:B,Spiele!D:D))","v":""},{"$f":"IF(B9663=\"\",\"\",LOOKUP(B9663,Spiele!B:B,Spiele!E:E))","v":""},{"$f":"IF(B9663=\"\",\"\",LOOKUP(B9663,Spiele!B:B,Spiele!F:F))","v":""},"","","",null,null,-1,-1,1,0]
[null,null,{"$f":"IF(B9664=\"\",\"\",LOOKUP(B9664,Spiele!B:B,Spiele!C:C))","v":""},{"$f":"IF(B9664=\"\",\"\",LOOKUP(B9664,Spiele!B:B,Spiele!D:D))","v":""},{"$f":"IF(B9664=\"\",\"\",LOOKUP(B9664,Spiele!B:B,Spiele!E:E))","v":""},{"$f":"IF(B9664=\"\",\"\",LOOKUP(B9664,Spiele!B:B,Spiele!F:F))","v":""},"","","",null,null,-1,-1,1,0]
[null,null,{"$f":"IF(B9665=\"\",\"\",LOOKUP(B9665,Spiele!B:B,Spiele!C:C))","v":""},{"$f":"IF(B9665=\"\",\"\",LOOKUP(B9665,Spiele!B:B,Spiele!D:D))","v":""},{"$f":"IF(B9665=\"\",\"\",LOOKUP(B9665,Spiele!B:B,Spiele!E:E))","v":""},{"$f":"IF(B9665=\"\",\"\",LOOKUP(B9665,Spiele!B:B,Spiele!F:F))","v":""},"","","",null,null,-1,-1,1,0]
[null,null,{"$f":"IF(B9666=\"\",\"\",LOOKUP(B9666,Spiele!B:B,Spiele!C:C))","v":""},{"$f":"IF(B9666=\"\",\"\",LOOKUP(B9666,Spiele!B:B,Spiele!D:D))","v":""},{"$f":"IF(B9666=\"\",\"\",LOOKUP(B9666,Spiele!B:B,Spiele!E:E))","v":""},{"$f":"IF(B9666=\"\",\"\",LOOKUP(B9666,Spiele!B:B,Spiele!F:F))","v":""},"","","",null,null,-1,-1,1,0]
[null,null,{"$f":"IF(B9667=\"\",\"\",LOOKUP(B9667,Spiele!B:B,Spiele!C:C))","v":""},{"$f":"IF(B9667=\"\",\"\",LOOKUP(B9667,Spiele!B:B,Spiele!D:D))","v":""},{"$f":"IF(B9667=\"\",\"\",LOOKUP(B9667,Spiele!B:B,Spiele!E:E))","v":""},{"$f":"IF(B9667=\"\",\"\",LOOKUP(B9667,Spiele!B:B,Spiele!F:F))","v":""},"","","",null,null,-1,-1,1,0]
[null,null,{"$f":"IF(B9668=\"\",\"\",LOOKUP(B9668,Spiele!B:B,Spiele!C:C))","v":""},{"$f":"IF(B9668=\"\",\"\",LOOKUP(B9668,Spiele!B:B,Spiele!D:D))","v":""},{"$f":"IF(B9668=\"\",\"\",LOOKUP(B9668,Spiele!B:B,Spiele!E:E))","v":""},{"$f":"IF(B9668=\"\",\"\",LOOKUP(B9668,Spiele!B:B,Spiele!F:F))","v":""},"","","",null,null,-1,-1,1,0]
[null,null,{"$f":"IF(B9669=\"\",\"\",LOOKUP(B9669,Spiele!B:B,Spiele!C:C))","v":""},{"$f":"IF(B9669=\"\",\"\",LOOKUP(B9669,Spiele!B:B,Spiele!D:D))","v":""},{"$f":"IF(B9669=\"\",\"\",LOOKUP(B9669,Spiele!B:B,Spiele!E:E))","v":""},{"$f":"IF(B9669=\"\",\"\",LOOKUP(B9669,Spiele!B:B,Spiele!F:F))","v":""},"","","",null,null,-1,-1,1,0]
[null,null,{"$f":"IF(B9670=\"\",\"\",LOOKUP(B9670,Spiele!B:B,Spiele!C:C))","v":""},{"$f":"IF(B9670=\"\",\"\",LOOKUP(B9670,Spiele!B:B,Spiele!D:D))","v":""},{"$f":"IF(B9670=\"\",\"\",LOOKUP(B9670,Spiele!B:B,Spiele!E:E))","v":""},{"$f":"IF(B9670=\"\",\"\",LOOKUP(B9670,Spiele!B:B,Spiele!F:F))","v":""},"","","",null,null,-1,-1,1,0]
[null,null,{"$f":"IF(B9671=\"\",\"\",LOOKUP(B9671,Spiele!B:B,Spiele!C:C))","v":""},{"$f":"IF(B9671=\"\",\"\",LOOKUP(B9671,Spiele!B:B,Spiele!D:D))","v":""},{"$f":"IF(B9671=\"\",\"\",LOOKUP(B9671,Spiele!B:B,Spiele!E:E))","v":""},{"$f":"IF(B9671=\"\",\"\",LOOKUP(B9671,Spiele!B:B,Spiele!F:F))","v":""},"","","",null,null,-1,-1,1,0]
[null,null,{"$f":"IF(B9672=\"\",\"\",LOOKUP(B9672,Spiele!B:B,Spiele!C:C))","v":""},{"$f":"IF(B9672=\"\",\"\",LOOKUP(B9672,Spiele!B:B,Spiele!D:D))","v":""},{"$f":"IF(B9672=\"\",\"\",LOOKUP(B9672,Spiele!B:B,Spiele!E:E))","v":""},{"$f":"IF(B9672=\"\",\"\",LOOKUP(B9672,Spiele!B:B,Spiele!F:F))","v":""},"","","",null,null,-1,-1,1,0]
[null,null,{"$f":"IF(B9673=\"\",\"\",LOOKUP(B9673,Spiele!B:B,Spiele!C:C))","v":""},{"$f":"IF(B9673=\"\",\"\",LOOKUP(B9673,Spiele!B:B,Spiele!D:D))","v":""},{"$f":"IF(B9673=\"\",\"\",LOOKUP(B9673,Spiele!B:B,Spiele!E:E))","v":""},{"$f":"IF(B9673=\"\",\"\",LOOKUP(B9673,Spiele!B:B,Spiele!F:F))","v":""},"","","",null,null,-1,-1,1,0]
[null,null,{"$f":"IF(B9674=\"\",\"\",LOOKUP(B9674,Spiele!B:B,Spiele!C:C))","v":""},{"$f":"IF(B9674=\"\",\"\",LOOKUP(B9674,Spiele!B:B,Spiele!D:D))","v":""},{"$f":"IF(B9674=\"\",\"\",LOOKUP(B9674,Spiele!B:B,Spiele!E:E))","v":""},{"$f":"IF(B9674=\"\",\"\",LOOKUP(B9674,Spiele!B:B,Spiele!F:F))","v":""},"","","",null,null,-1,-1,1,0]
[null,null,{"$f":"IF(B9675=\"\",\"\",LOOKUP(B9675,Spiele!B:B,Spiele!C:C))","v":""},{"$f":"IF(B9675=\"\",\"\",LOOKUP(B9675,Spiele!B:B,Spiele!D:D))","v":""},{"$f":"IF(B9675=\"\",\"\",LOOKUP(B9675,Spiele!B:B,Spiele!E:E))","v":""},{"$f":"IF(B9675=\"\",\"\",LOOKUP(B9675,Spiele!B:B,Spiele!F:F))","v":""},"","","",null,null,-1,-1,1,0]
[null,null,{"$f":"IF(B9676=\"\",\"\",LOOKUP(B9676,Spiele!B:B,Spiele!C:C))","v":""},{"$f":"IF(B9676=\"\",\"\",LOOKUP(B9676,Spiele!B:B,Spiele!D:D))","v":""},{"$f":"IF(B9676=\"\",\"\",LOOKUP(B9676,Spiele!B:B,Spiele!E:E))","v":""},{"$f":"IF(B9676=\"\",\"\",LOOKUP(B9676,Spiele!B:B,Spiele!F:F))","v":""},"","","",null,null,-1,-1,1,0]
[null,null,{"$f":"IF(B9677=\"\",\"\",LOOKUP(B9677,Spiele!B:B,Spiele!C:C))","v":""},{"$f":"IF(B9677=\"\",\"\",LOOKUP(B9677,Spiele!B:B,Spiele!D:D))","v":""},{"$f":"IF(B9677=\"\",\"\",LOOKUP(B9677,Spiele!B:B,Spiele!E:E))","v":""},{"$f":"IF(B9677=\"\",\"\",LOOKUP(B9677,Spiele!B:B,Spiele!F:F))","v":""},"","","",null,null,-1,-1,1,0]
[null,null,{"$f":"IF(B9678=\"\",\"\",LOOKUP(B9678,Spiele!B:B,Spiele!C:C))","v":""},{"$f":"IF(B9678=\"\",\"\",LOOKUP(B9678,Spiele!B:B,Spiele!D:D))","v":""},{"$f":"IF(B9678=\"\",\"\",LOOKUP(B9678,Spiele!B:B,Spiele!E:E))","v":""},{"$f":"IF(B9678=\"\",\"\",LOOKUP(B9678,Spiele!B:B,Spiele!F:F))","v":""},"","","",null,null,-1,-1,1,0]
[null,null,{"$f":"IF(B9679=\"\",\"\",LOOKUP(B9679,Spiele!B:B,Spiele!C:C))","v":""},{"$f":"IF(B9679=\"\",\"\",LOOKUP(B9679,Spiele!B:B,Spiele!D:D))","v":""},{"$f":"IF(B9679=\"\",\"\",LOOKUP(B9679,Spiele!B:B,Spiele!E:E))","v":""},{"$f":"IF(B9679=\"\",\"\",LOOKUP(B9679,Spiele!B:B,Spiele!F:F))","v":""},"","","",null,null,-1,-1,1,0]
[null,null,{"$f":"IF(B9680=\"\",\"\",LOOKUP(B9680,Spiele!B:B,Spiele!C:C))","v":""},{"$f":"IF(B9680=\"\",\"\",LOOKUP(B9680,Spiele!B:B,Spiele!D:D))","v":""},{"$f":"IF(B9680=\"\",\"\",LOOKUP(B9680,Spiele!B:B,Spiele!E:E))","v":""},{"$f":"IF(B9680=\"\",\"\",LOOKUP(B9680,Spiele!B:B,Spiele!F:F))","v":""},"","","",null,null,-1,-1,1,0]
[null,null,{"$f":"IF(B9681=\"\",\"\",LOOKUP(B9681,Spiele!B:B,Spiele!C:C))","v":""},{"$f":"IF(B9681=\"\",\"\",LOOKUP(B9681,Spiele!B:B,Spiele!D:D))","v":""},{"$f":"IF(B9681=\"\",\"\",LOOKUP(B9681,Spiele!B:B,Spiele!E:E))","v":""},{"$f":"IF(B9681=\"\",\"\",LOOKUP(B9681,Spiele!B:B,Spiele!F:F))","v":""},"","","",null,null,-1,-1,1,0]
[null,null,{"$f":"IF(B9682=\"\",\"\",LOOKUP(B9682,Spiele!B:B,Spiele!C:C))","v":""},{"$f":"IF(B9682=\"\",\"\",LOOKUP(B9682,Spiele!B:B,Spiele!D:D))","v":""},{"$f":"IF(B9682=\"\",\"\",LOOKUP(B9682,Spiele!B:B,Spiele!E:E))","v":""},{"$f":"IF(B9682=\"\",\"\",LOOKUP(B9682,Spiele!B:B,Spiele!F:F))","v":""},"","","",null,null,-1,-1,1,0]
[null,null,{"$f":"IF(B9683=\"\",\"\",LOOKUP(B9683,Spiele!B:B,Spiele!C:C))","v":""},{"$f":"IF(B9683=\"\",\"\",LOOKUP(B9683,Spiele!B:B,Spiele!D:D))","v":""},{"$f":"IF(B9683=\"\",\"\",LOOKUP(B9683,Spiele!B:B,Spiele!E:E))","v":""},{"$f":"IF(B9683=\"\",\"\",LOOKUP(B9683,Spiele!B:B,Spiele!F:F))","v":""},"","","",null,null,-1,-1,1,0]
[null,null,{"$f":"IF(B9684=\"\",\"\",LOOKUP(B9684,Spiele!B:B,Spiele!C:C))","v":""},{"$f":"IF(B9684=\"\",\"\",LOOKUP(B9684,Spiele!B:B,Spiele!D:D))","v":""},{"$f":"IF(B9684=\"\",\"\",LOOKUP(B9684,Spiele!B:B,Spiele!E:E))","v":""},{"$f":"IF(B9684=\"\",\"\",LOOKUP(B9684,Spiele!B:B,Spiele!F:F))","v":""},"","","",null,null,-1,-1,1,0]
[null,null,{"$f":"IF(B9685=\"\",\"\",LOOKUP(B9685,Spiele!B:B,Spiele!C:C))","v":""},{"$f":"IF(B9685=\"\",\"\",LOOKUP(B9685,Spiele!B:B,Spiele!D:D))","v":""},{"$f":"IF(B9685=\"\",\"\",LOOKUP(B9685,Spiele!B:B,Spiele!E:E))","v":""},{"$f":"IF(B9685=\"\",\"\",LOOKUP(B9685,Spiele!B:B,Spiele!F:F))","v":""},"","","",null,null,-1,-1,1,0]
[null,null,{"$f":"IF(B9686=\"\",\"\",LOOKUP(B9686,Spiele!B:B,Spiele!C:C))","v":""},{"$f":"IF(B9686=\"\",\"\",LOOKUP(B9686,Spiele!B:B,Spiele!D:D))","v":""},{"$f":"IF(B9686=\"\",\"\",LOOKUP(B9686,Spiele!B:B,Spiele!E:E))","v":""},{"$f":"IF(B9686=\"\",\"\",LOOKUP(B9686,Spiele!B:B,Spiele!F:F))","v":""},"","","",null,null,-1,-1,1,0]
[null,null,{"$f":"IF(B9687=\"\",\"\",LOOKUP(B9687,Spiele!B:B,Spiele!C:C))","v":""},{"$f":"IF(B9687=\"\",\"\",LOOKUP(B9687,Spiele!B:B,Spiele!D:D))","v":""},{"$f":"IF(B9687=\"\",\"\",LOOKUP(B9687,Spiele!B:B,Spiele!E:E))","v":""},{"$f":"IF(B9687=\"\",\"\",LOOKUP(B9687,Spiele!B:B,Spiele!F:F))","v":""},"","","",null,null,-1,-1,1,0]
[null,null,{"$f":"IF(B9688=\"\",\"\",LOOKUP(B9688,Spiele!B:B,Spiele!C:C))","v":""},{"$f":"IF(B9688=\"\",\"\",LOOKUP(B9688,Spiele!B:B,Spiele!D:D))","v":""},{"$f":"IF(B9688=\"\",\"\",LOOKUP(B9688,Spiele!B:B,Spiele!E:E))","v":""},{"$f":"IF(B9688=\"\",\"\",LOOKUP(B9688,Spiele!B:B,Spiele!F:F))","v":""},"","","",null,null,-1,-1,1,0]
[null,null,{"$f":"IF(B9689=\"\",\"\",LOOKUP(B9689,Spiele!B:B,Spiele!C:C))","v":""},{"$f":"IF(B9689=\"\",\"\",LOOKUP(B9689,Spiele!B:B,Spiele!D:D))","v":""},{"$f":"IF(B9689=\"\",\"\",LOOKUP(B9689,Spiele!B:B,Spiele!E:E))","v":""},{"$f":"IF(B9689=\"\",\"\",LOOKUP(B9689,Spiele!B:B,Spiele!F:F))","v":""},"","","",null,null,-1,-1,1,0]
[null,null,{"$f":"IF(B9690=\"\",\"\",LOOKUP(B9690,Spiele!B:B,Spiele!C:C))","v":""},{"$f":"IF(B9690=\"\",\"\",LOOKUP(B9690,Spiele!B:B,Spiele!D:D))","v":""},{"$f":"IF(B9690=\"\",\"\",LOOKUP(B9690,Spiele!B:B,Spiele!E:E))","v":""},{"$f":"IF(B9690=\"\",\"\",LOOKUP(B9690,Spiele!B:B,Spiele!F:F))","v":""},"","","",null,null,-1,-1,1,0]
[null,null,{"$f":"IF(B9691=\"\",\"\",LOOKUP(B9691,Spiele!B:B,Spiele!C:C))","v":""},{"$f":"IF(B9691=\"\",\"\",LOOKUP(B9691,Spiele!B:B,Spiele!D:D))","v":""},{"$f":"IF(B9691=\"\",\"\",LOOKUP(B9691,Spiele!B:B,Spiele!E:E))","v":""},{"$f":"IF(B9691=\"\",\"\",LOOKUP(B9691,Spiele!B:B,Spiele!F:F))","v":""},"","","",null,null,-1,-1,1,0]
[null,null,{"$f":"IF(B9692=\"\",\"\",LOOKUP(B9692,Spiele!B:B,Spiele!C:C))","v":""},{"$f":"IF(B9692=\"\",\"\",LOOKUP(B9692,Spiele!B:B,Spiele!D:D))","v":""},{"$f":"IF(B9692=\"\",\"\",LOOKUP(B9692,Spiele!B:B,Spiele!E:E))","v":""},{"$f":"IF(B9692=\"\",\"\",LOOKUP(B9692,Spiele!B:B,Spiele!F:F))","v":""},"","","",null,null,-1,-1,1,0]
[null,null,{"$f":"IF(B9693=\"\",\"\",LOOKUP(B9693,Spiele!B:B,Spiele!C:C))","v":""},{"$f":"IF(B9693=\"\",\"\",LOOKUP(B9693,Spiele!B:B,Spiele!D:D))","v":""},{"$f":"IF(B9693=\"\",\"\",LOOKUP(B9693,Spiele!B:B,Spiele!E:E))","v":""},{"$f":"IF(B9693=\"\",\"\",LOOKUP(B9693,Spiele!B:B,Spiele!F:F))","v":""},"","","",null,null,-1,-1,1,0]
[null,null,{"$f":"IF(B9694=\"\",\"\",LOOKUP(B9694,Spiele!B:B,Spiele!C:C))","v":""},{"$f":"IF(B9694=\"\",\"\",LOOKUP(B9694,Spiele!B:B,Spiele!D:D))","v":""},{"$f":"IF(B9694=\"\",\"\",LOOKUP(B9694,Spiele!B:B,Spiele!E:E))","v":""},{"$f":"IF(B9694=\"\",\"\",LOOKUP(B9694,Spiele!B:B,Spiele!F:F))","v":""},"","","",null,null,-1,-1,1,0]
[null,null,{"$f":"IF(B9695=\"\",\"\",LOOKUP(B9695,Spiele!B:B,Spiele!C:C))","v":""},{"$f":"IF(B9695=\"\",\"\",LOOKUP(B9695,Spiele!B:B,Spiele!D:D))","v":""},{"$f":"IF(B9695=\"\",\"\",LOOKUP(B9695,Spiele!B:B,Spiele!E:E))","v":""},{"$f":"IF(B9695=\"\",\"\",LOOKUP(B9695,Spiele!B:B,Spiele!F:F))","v":""},"","","",null,null,-1,-1,1,0]
[null,null,{"$f":"IF(B9696=\"\",\"\",LOOKUP(B9696,Spiele!B:B,Spiele!C:C))","v":""},{"$f":"IF(B9696=\"\",\"\",LOOKUP(B9696,Spiele!B:B,Spiele!D:D))","v":""},{"$f":"IF(B9696=\"\",\"\",LOOKUP(B9696,Spiele!B:B,Spiele!E:E))","v":""},{"$f":"IF(B9696=\"\",\"\",LOOKUP(B9696,Spiele!B:B,Spiele!F:F))","v":""},{"$f":"IF(E9696=\"\",\"\",IF(E9696>F9696,1,0))","v":""},{"$f":"IF(F9696=\"\",\"\",IF(E9696<F9696,1,0))","v":""},{"$f":"IF(E9696=\"\",\"\",IF(E9696=F9696,1,0))","v":""},null,null,{"$f":"IF(E9696=\"\",-1,IF(J9696>K9696,1,-1))","v":-1},{"$f":"IF(F9696=\"\",-1,IF(J9696<K9696,1,-1))","v":-1},{"$f":"IF(E9696=\"-\",-1,IF(J9696=K9696,1,-1))","v":1},{"$f":"IF(E9696=\"\",0,IF(E9696=J9696,1,0)+IF(F9696=K9696,1,0)+IF(G9696=L9696,1,0)+IF(H9696=M9696,1,0)+IF(I9696=N9696,1,0))","v":0}]
[null,null,{"$f":"IF(B9697=\"\",\"\",LOOKUP(B9697,Spiele!B:B,Spiele!C:C))","v":""},{"$f":"IF(B9697=\"\",\"\",LOOKUP(B9697,Spiele!B:B,Spiele!D:D))","v":""},{"$f":"IF(B9697=\"\",\"\",LOOKUP(B9697,Spiele!B:B,Spiele!E:E))","v":""},{"$f":"IF(B9697=\"\",\"\",LOOKUP(B9697,Spiele!B:B,Spiele!F:F))","v":""},"","","",null,null,-1,-1,1,0]
[null,null,{"$f":"IF(B9698=\"\",\"\",LOOKUP(B9698,Spiele!B:B,Spiele!C:C))","v":""},{"$f":"IF(B9698=\"\",\"\",LOOKUP(B9698,Spiele!B:B,Spiele!D:D))","v":""},{"$f":"IF(B9698=\"\",\"\",LOOKUP(B9698,Spiele!B:B,Spiele!E:E))","v":""},{"$f":"IF(B9698=\"\",\"\",LOOKUP(B9698,Spiele!B:B,Spiele!F:F))","v":""},"","","",null,null,-1,-1,1,0]
[null,null,{"$f":"IF(B9699=\"\",\"\",LOOKUP(B9699,Spiele!B:B,Spiele!C:C))","v":""},{"$f":"IF(B9699=\"\",\"\",LOOKUP(B9699,Spiele!B:B,Spiele!D:D))","v":""},{"$f":"IF(B9699=\"\",\"\",LOOKUP(B9699,Spiele!B:B,Spiele!E:E))","v":""},{"$f":"IF(B9699=\"\",\"\",LOOKUP(B9699,Spiele!B:B,Spiele!F:F))","v":""},"","","",null,null,-1,-1,1,0]
[null,null,{"$f":"IF(B9700=\"\",\"\",LOOKUP(B9700,Spiele!B:B,Spiele!C:C))","v":""},{"$f":"IF(B9700=\"\",\"\",LOOKUP(B9700,Spiele!B:B,Spiele!D:D))","v":""},{"$f":"IF(B9700=\"\",\"\",LOOKUP(B9700,Spiele!B:B,Spiele!E:E))","v":""},{"$f":"IF(B9700=\"\",\"\",LOOKUP(B9700,Spiele!B:B,Spiele!F:F))","v":""},"","","",null,null,-1,-1,1,0]
[null,null,{"$f":"IF(B9701=\"\",\"\",LOOKUP(B9701,Spiele!B:B,Spiele!C:C))","v":""},{"$f":"IF(B9701=\"\",\"\",LOOKUP(B9701,Spiele!B:B,Spiele!D:D))","v":""},{"$f":"IF(B9701=\"\",\"\",LOOKUP(B9701,Spiele!B:B,Spiele!E:E))","v":""},{"$f":"IF(B9701=\"\",\"\",LOOKUP(B9701,Spiele!B:B,Spiele!F:F))","v":""},"","","",null,null,-1,-1,1,0]
[null,null,{"$f":"IF(B9702=\"\",\"\",LOOKUP(B9702,Spiele!B:B,Spiele!C:C))","v":""},{"$f":"IF(B9702=\"\",\"\",LOOKUP(B9702,Spiele!B:B,Spiele!D:D))","v":""},{"$f":"IF(B9702=\"\",\"\",LOOKUP(B9702,Spiele!B:B,Spiele!E:E))","v":""},{"$f":"IF(B9702=\"\",\"\",LOOKUP(B9702,Spiele!B:B,Spiele!F:F))","v":""},"","","",null,null,-1,-1,1,0]
[null,null,{"$f":"IF(B9703=\"\",\"\",LOOKUP(B9703,Spiele!B:B,Spiele!C:C))","v":""},{"$f":"IF(B9703=\"\",\"\",LOOKUP(B9703,Spiele!B:B,Spiele!D:D))","v":""},{"$f":"IF(B9703=\"\",\"\",LOOKUP(B9703,Spiele!B:B,Spiele!E:E))","v":""},{"$f":"IF(B9703=\"\",\"\",LOOKUP(B9703,Spiele!B:B,Spiele!F:F))","v":""},"","","",null,null,-1,-1,1,0]
[null,null,{"$f":"IF(B9704=\"\",\"\",LOOKUP(B9704,Spiele!B:B,Spiele!C:C))","v":""},{"$f":"IF(B9704=\"\",\"\",LOOKUP(B9704,Spiele!B:B,Spiele!D:D))","v":""},{"$f":"IF(B9704=\"\",\"\",LOOKUP(B9704,Spiele!B:B,Spiele!E:E))","v":""},{"$f":"IF(B9704=\"\",\"\",LOOKUP(B9704,Spiele!B:B,Spiele!F:F))","v":""},"","","",null,null,-1,-1,1,0]
[null,null,{"$f":"IF(B9705=\"\",\"\",LOOKUP(B9705,Spiele!B:B,Spiele!C:C))","v":""},{"$f":"IF(B9705=\"\",\"\",LOOKUP(B9705,Spiele!B:B,Spiele!D:D))","v":""},{"$f":"IF(B9705=\"\",\"\",LOOKUP(B9705,Spiele!B:B,Spiele!E:E))","v":""},{"$f":"IF(B9705=\"\",\"\",LOOKUP(B9705,Spiele!B:B,Spiele!F:F))","v":""},"","","",null,null,-1,-1,1,0]
[null,null,{"$f":"IF(B9706=\"\",\"\",LOOKUP(B9706,Spiele!B:B,Spiele!C:C))","v":""},{"$f":"IF(B9706=\"\",\"\",LOOKUP(B9706,Spiele!B:B,Spiele!D:D))","v":""},{"$f":"IF(B9706=\"\",\"\",LOOKUP(B9706,Spiele!B:B,Spiele!E:E))","v":""},{"$f":"IF(B9706=\"\",\"\",LOOKUP(B9706,Spiele!B:B,Spiele!F:F))","v":""},"","","",null,null,-1,-1,1,0]
[null,null,{"$f":"IF(B9707=\"\",\"\",LOOKUP(B9707,Spiele!B:B,Spiele!C:C))","v":""},{"$f":"IF(B9707=\"\",\"\",LOOKUP(B9707,Spiele!B:B,Spiele!D:D))","v":""},{"$f":"IF(B9707=\"\",\"\",LOOKUP(B9707,Spiele!B:B,Spiele!E:E))","v":""},{"$f":"IF(B9707=\"\",\"\",LOOKUP(B9707,Spiele!B:B,Spiele!F:F))","v":""},"","","",null,null,-1,-1,1,0]
[null,null,{"$f":"IF(B9708=\"\",\"\",LOOKUP(B9708,Spiele!B:B,Spiele!C:C))","v":""},{"$f":"IF(B9708=\"\",\"\",LOOKUP(B9708,Spiele!B:B,Spiele!D:D))","v":""},{"$f":"IF(B9708=\"\",\"\",LOOKUP(B9708,Spiele!B:B,Spiele!E:E))","v":""},{"$f":"IF(B9708=\"\",\"\",LOOKUP(B9708,Spiele!B:B,Spiele!F:F))","v":""},"","","",null,null,-1,-1,1,0]
[null,null,{"$f":"IF(B9709=\"\",\"\",LOOKUP(B9709,Spiele!B:B,Spiele!C:C))","v":""},{"$f":"IF(B9709=\"\",\"\",LOOKUP(B9709,Spiele!B:B,Spiele!D:D))","v":""},{"$f":"IF(B9709=\"\",\"\",LOOKUP(B9709,Spiele!B:B,Spiele!E:E))","v":""},{"$f":"IF(B9709=\"\",\"\",LOOKUP(B9709,Spiele!B:B,Spiele!F:F))","v":""},"","","",null,null,-1,-1,1,0]
[null,null,{"$f":"IF(B9710=\"\",\"\",LOOKUP(B9710,Spiele!B:B,Spiele!C:C))","v":""},{"$f":"IF(B9710=\"\",\"\",LOOKUP(B9710,Spiele!B:B,Spiele!D:D))","v":""},{"$f":"IF(B9710=\"\",\"\",LOOKUP(B9710,Spiele!B:B,Spiele!E:E))","v":""},{"$f":"IF(B9710=\"\",\"\",LOOKUP(B9710,Spiele!B:B,Spiele!F:F))","v":""},"","","",null,null,-1,-1,1,0]
[null,null,{"$f":"IF(B9711=\"\",\"\",LOOKUP(B9711,Spiele!B:B,Spiele!C:C))","v":""},{"$f":"IF(B9711=\"\",\"\",LOOKUP(B9711,Spiele!B:B,Spiele!D:D))","v":""},{"$f":"IF(B9711=\"\",\"\",LOOKUP(B9711,Spiele!B:B,Spiele!E:E))","v":""},{"$f":"IF(B9711=\"\",\"\",LOOKUP(B9711,Spiele!B:B,Spiele!F:F))","v":""},"","","",null,null,-1,-1,1,0]
[null,null,{"$f":"IF(B9712=\"\",\"\",LOOKUP(B9712,Spiele!B:B,Spiele!C:C))","v":""},{"$f":"IF(B9712=\"\",\"\",LOOKUP(B9712,Spiele!B:B,Spiele!D:D))","v":""},{"$f":"IF(B9712=\"\",\"\",LOOKUP(B9712,Spiele!B:B,Spiele!E:E))","v":""},{"$f":"IF(B9712=\"\",\"\",LOOKUP(B9712,Spiele!B:B,Spiele!F:F))","v":""},"","","",null,null,-1,-1,1,0]
[null,null,{"$f":"IF(B9713=\"\",\"\",LOOKUP(B9713,Spiele!B:B,Spiele!C:C))","v":""},{"$f":"IF(B9713=\"\",\"\",LOOKUP(B9713,Spiele!B:B,Spiele!D:D))","v":""},{"$f":"IF(B9713=\"\",\"\",LOOKUP(B9713,Spiele!B:B,Spiele!E:E))","v":""},{"$f":"IF(B9713=\"\",\"\",LOOKUP(B9713,Spiele!B:B,Spiele!F:F))","v":""},"","","",null,null,-1,-1,1,0]
[null,null,{"$f":"IF(B9714=\"\",\"\",LOOKUP(B9714,Spiele!B:B,Spiele!C:C))","v":""},{"$f":"IF(B9714=\"\",\"\",LOOKUP(B9714,Spiele!B:B,Spiele!D:D))","v":""},{"$f":"IF(B9714=\"\",\"\",LOOKUP(B9714,Spiele!B:B,Spiele!E:E))","v":""},{"$f":"IF(B9714=\"\",\"\",LOOKUP(B9714,Spiele!B:B,Spiele!F:F))","v":""},"","","",null,null,-1,-1,1,0]
[null,null,{"$f":"IF(B9715=\"\",\"\",LOOKUP(B9715,Spiele!B:B,Spiele!C:C))","v":""},{"$f":"IF(B9715=\"\",\"\",LOOKUP(B9715,Spiele!B:B,Spiele!D:D))","v":""},{"$f":"IF(B9715=\"\",\"\",LOOKUP(B9715,Spiele!B:B,Spiele!E:E))","v":""},{"$f":"IF(B9715=\"\",\"\",LOOKUP(B9715,Spiele!B:B,Spiele!F:F))","v":""},"","","",null,null,-1,-1,1,0]
[null,null,{"$f":"IF(B9716=\"\",\"\",LOOKUP(B9716,Spiele!B:B,Spiele!C:C))","v":""},{"$f":"IF(B9716=\"\",\"\",LOOKUP(B9716,Spiele!B:B,Spiele!D:D))","v":""},{"$f":"IF(B9716=\"\",\"\",LOOKUP(B9716,Spiele!B:B,Spiele!E:E))","v":""},{"$f":"IF(B9716=\"\",\"\",LOOKUP(B9716,Spiele!B:B,Spiele!F:F))","v":""},"","","",null,null,-1,-1,1,0]
[null,null,{"$f":"IF(B9717=\"\",\"\",LOOKUP(B9717,Spiele!B:B,Spiele!C:C))","v":""},{"$f":"IF(B9717=\"\",\"\",LOOKUP(B9717,Spiele!B:B,Spiele!D:D))","v":""},{"$f":"IF(B9717=\"\",\"\",LOOKUP(B9717,Spiele!B:B,Spiele!E:E))","v":""},{"$f":"IF(B9717=\"\",\"\",LOOKUP(B9717,Spiele!B:B,Spiele!F:F))","v":""},"","","",null,null,-1,-1,1,0]
[null,null,{"$f":"IF(B9718=\"\",\"\",LOOKUP(B9718,Spiele!B:B,Spiele!C:C))","v":""},{"$f":"IF(B9718=\"\",\"\",LOOKUP(B9718,Spiele!B:B,Spiele!D:D))","v":""},{"$f":"IF(B9718=\"\",\"\",LOOKUP(B9718,Spiele!B:B,Spiele!E:E))","v":""},{"$f":"IF(B9718=\"\",\"\",LOOKUP(B9718,Spiele!B:B,Spiele!F:F))","v":""},"","","",null,null,-1,-1,1,0]
[null,null,{"$f":"IF(B9719=\"\",\"\",LOOKUP(B9719,Spiele!B:B,Spiele!C:C))","v":""},{"$f":"IF(B9719=\"\",\"\",LOOKUP(B9719,Spiele!B:B,Spiele!D:D))","v":""},{"$f":"IF(B9719=\"\",\"\",LOOKUP(B9719,Spiele!B:B,Spiele!E:E))","v":""},{"$f":"IF(B9719=\"\",\"\",LOOKUP(B9719,Spiele!B:B,Spiele!F:F))","v":""},"","","",null,null,-1,-1,1,0]
[null,null,{"$f":"IF(B9720=\"\",\"\",LOOKUP(B9720,Spiele!B:B,Spiele!C:C))","v":""},{"$f":"IF(B9720=\"\",\"\",LOOKUP(B9720,Spiele!B:B,Spiele!D:D))","v":""},{"$f":"IF(B9720=\"\",\"\",LOOKUP(B9720,Spiele!B:B,Spiele!E:E))","v":""},{"$f":"IF(B9720=\"\",\"\",LOOKUP(B9720,Spiele!B:B,Spiele!F:F))","v":""},"","","",null,null,-1,-1,1,0]
[null,null,{"$f":"IF(B9721=\"\",\"\",LOOKUP(B9721,Spiele!B:B,Spiele!C:C))","v":""},{"$f":"IF(B9721=\"\",\"\",LOOKUP(B9721,Spiele!B:B,Spiele!D:D))","v":""},{"$f":"IF(B9721=\"\",\"\",LOOKUP(B9721,Spiele!B:B,Spiele!E:E))","v":""},{"$f":"IF(B9721=\"\",\"\",LOOKUP(B9721,Spiele!B:B,Spiele!F:F))","v":""},"","","",null,null,-1,-1,1,0]
[null,null,{"$f":"IF(B9722=\"\",\"\",LOOKUP(B9722,Spiele!B:B,Spiele!C:C))","v":""},{"$f":"IF(B9722=\"\",\"\",LOOKUP(B9722,Spiele!B:B,Spiele!D:D))","v":""},{"$f":"IF(B9722=\"\",\"\",LOOKUP(B9722,Spiele!B:B,Spiele!E:E))","v":""},{"$f":"IF(B9722=\"\",\"\",LOOKUP(B9722,Spiele!B:B,Spiele!F:F))","v":""},"","","",null,null,-1,-1,1,0]
[null,null,{"$f":"IF(B9723=\"\",\"\",LOOKUP(B9723,Spiele!B:B,Spiele!C:C))","v":""},{"$f":"IF(B9723=\"\",\"\",LOOKUP(B9723,Spiele!B:B,Spiele!D:D))","v":""},{"$f":"IF(B9723=\"\",\"\",LOOKUP(B9723,Spiele!B:B,Spiele!E:E))","v":""},{"$f":"IF(B9723=\"\",\"\",LOOKUP(B9723,Spiele!B:B,Spiele!F:F))","v":""},"","","",null,null,-1,-1,1,0]
[null,null,{"$f":"IF(B9724=\"\",\"\",LOOKUP(B9724,Spiele!B:B,Spiele!C:C))","v":""},{"$f":"IF(B9724=\"\",\"\",LOOKUP(B9724,Spiele!B:B,Spiele!D:D))","v":""},{"$f":"IF(B9724=\"\",\"\",LOOKUP(B9724,Spiele!B:B,Spiele!E:E))","v":""},{"$f":"IF(B9724=\"\",\"\",LOOKUP(B9724,Spiele!B:B,Spiele!F:F))","v":""},"","","",null,null,-1,-1,1,0]
[null,null,{"$f":"IF(B9725=\"\",\"\",LOOKUP(B9725,Spiele!B:B,Spiele!C:C))","v":""},{"$f":"IF(B9725=\"\",\"\",LOOKUP(B9725,Spiele!B:B,Spiele!D:D))","v":""},{"$f":"IF(B9725=\"\",\"\",LOOKUP(B9725,Spiele!B:B,Spiele!E:E))","v":""},{"$f":"IF(B9725=\"\",\"\",LOOKUP(B9725,Spiele!B:B,Spiele!F:F))","v":""},"","","",null,null,-1,-1,1,0]
[null,null,{"$f":"IF(B9726=\"\",\"\",LOOKUP(B9726,Spiele!B:B,Spiele!C:C))","v":""},{"$f":"IF(B9726=\"\",\"\",LOOKUP(B9726,Spiele!B:B,Spiele!D:D))","v":""},{"$f":"IF(B9726=\"\",\"\",LOOKUP(B9726,Spiele!B:B,Spiele!E:E))","v":""},{"$f":"IF(B9726=\"\",\"\",LOOKUP(B9726,Spiele!B:B,Spiele!F:F))","v":""},"","","",null,null,-1,-1,1,0]
[null,null,{"$f":"IF(B9727=\"\",\"\",LOOKUP(B9727,Spiele!B:B,Spiele!C:C))","v":""},{"$f":"IF(B9727=\"\",\"\",LOOKUP(B9727,Spiele!B:B,Spiele!D:D))","v":""},{"$f":"IF(B9727=\"\",\"\",LOOKUP(B9727,Spiele!B:B,Spiele!E:E))","v":""},{"$f":"IF(B9727=\"\",\"\",LOOKUP(B9727,Spiele!B:B,Spiele!F:F))","v":""},"","","",null,null,-1,-1,1,0]
[null,null,{"$f":"IF(B9728=\"\",\"\",LOOKUP(B9728,Spiele!B:B,Spiele!C:C))","v":""},{"$f":"IF(B9728=\"\",\"\",LOOKUP(B9728,Spiele!B:B,Spiele!D:D))","v":""},{"$f":"IF(B9728=\"\",\"\",LOOKUP(B9728,Spiele!B:B,Spiele!E:E))","v":""},{"$f":"IF(B9728=\"\",\"\",LOOKUP(B9728,Spiele!B:B,Spiele!F:F))","v":""},"","","",null,null,-1,-1,1,0]
[null,null,{"$f":"IF(B9729=\"\",\"\",LOOKUP(B9729,Spiele!B:B,Spiele!C:C))","v":""},{"$f":"IF(B9729=\"\",\"\",LOOKUP(B9729,Spiele!B:B,Spiele!D:D))","v":""},{"$f":"IF(B9729=\"\",\"\",LOOKUP(B9729,Spiele!B:B,Spiele!E:E))","v":""},{"$f":"IF(B9729=\"\",\"\",LOOKUP(B9729,Spiele!B:B,Spiele!F:F))","v":""},"","","",null,null,-1,-1,1,0]
[null,null,{"$f":"IF(B9730=\"\",\"\",LOOKUP(B9730,Spiele!B:B,Spiele!C:C))","v":""},{"$f":"IF(B9730=\"\",\"\",LOOKUP(B9730,Spiele!B:B,Spiele!D:D))","v":""},{"$f":"IF(B9730=\"\",\"\",LOOKUP(B9730,Spiele!B:B,Spiele!E:E))","v":""},{"$f":"IF(B9730=\"\",\"\",LOOKUP(B9730,Spiele!B:B,Spiele!F:F))","v":""},"","","",null,null,-1,-1,1,0]
[null,null,{"$f":"IF(B9731=\"\",\"\",LOOKUP(B9731,Spiele!B:B,Spiele!C:C))","v":""},{"$f":"IF(B9731=\"\",\"\",LOOKUP(B9731,Spiele!B:B,Spiele!D:D))","v":""},{"$f":"IF(B9731=\"\",\"\",LOOKUP(B9731,Spiele!B:B,Spiele!E:E))","v":""},{"$f":"IF(B9731=\"\",\"\",LOOKUP(B9731,Spiele!B:B,Spiele!F:F))","v":""},"","","",null,null,-1,-1,1,0]
[null,null,{"$f":"IF(B9732=\"\",\"\",LOOKUP(B9732,Spiele!B:B,Spiele!C:C))","v":""},{"$f":"IF(B9732=\"\",\"\",LOOKUP(B9732,Spiele!B:B,Spiele!D:D))","v":""},{"$f":"IF(B9732=\"\",\"\",LOOKUP(B9732,Spiele!B:B,Spiele!E:E))","v":""},{"$f":"IF(B9732=\"\",\"\",LOOKUP(B9732,Spiele!B:B,Spiele!F:F))","v":""},"","","",null,null,-1,-1,1,0]
[null,null,{"$f":"IF(B9733=\"\",\"\",LOOKUP(B9733,Spiele!B:B,Spiele!C:C))","v":""},{"$f":"IF(B9733=\"\",\"\",LOOKUP(B9733,Spiele!B:B,Spiele!D:D))","v":""},{"$f":"IF(B9733=\"\",\"\",LOOKUP(B9733,Spiele!B:B,Spiele!E:E))","v":""},{"$f":"IF(B9733=\"\",\"\",LOOKUP(B9733,Spiele!B:B,Spiele!F:F))","v":""},"","","",null,null,-1,-1,1,0]
[null,null,{"$f":"IF(B9734=\"\",\"\",LOOKUP(B9734,Spiele!B:B,Spiele!C:C))","v":""},{"$f":"IF(B9734=\"\",\"\",LOOKUP(B9734,Spiele!B:B,Spiele!D:D))","v":""},{"$f":"IF(B9734=\"\",\"\",LOOKUP(B9734,Spiele!B:B,Spiele!E:E))","v":""},{"$f":"IF(B9734=\"\",\"\",LOOKUP(B9734,Spiele!B:B,Spiele!F:F))","v":""},"","","",null,null,-1,-1,1,0]
[null,null,{"$f":"IF(B9735=\"\",\"\",LOOKUP(B9735,Spiele!B:B,Spiele!C:C))","v":""},{"$f":"IF(B9735=\"\",\"\",LOOKUP(B9735,Spiele!B:B,Spiele!D:D))","v":""},{"$f":"IF(B9735=\"\",\"\",LOOKUP(B9735,Spiele!B:B,Spiele!E:E))","v":""},{"$f":"IF(B9735=\"\",\"\",LOOKUP(B9735,Spiele!B:B,Spiele!F:F))","v":""},"","","",null,null,-1,-1,1,0]
[null,null,{"$f":"IF(B9736=\"\",\"\",LOOKUP(B9736,Spiele!B:B,Spiele!C:C))","v":""},{"$f":"IF(B9736=\"\",\"\",LOOKUP(B9736,Spiele!B:B,Spiele!D:D))","v":""},{"$f":"IF(B9736=\"\",\"\",LOOKUP(B9736,Spiele!B:B,Spiele!E:E))","v":""},{"$f":"IF(B9736=\"\",\"\",LOOKUP(B9736,Spiele!B:B,Spiele!F:F))","v":""},"","","",null,null,-1,-1,1,0]
[null,null,{"$f":"IF(B9737=\"\",\"\",LOOKUP(B9737,Spiele!B:B,Spiele!C:C))","v":""},{"$f":"IF(B9737=\"\",\"\",LOOKUP(B9737,Spiele!B:B,Spiele!D:D))","v":""},{"$f":"IF(B9737=\"\",\"\",LOOKUP(B9737,Spiele!B:B,Spiele!E:E))","v":""},{"$f":"IF(B9737=\"\",\"\",LOOKUP(B9737,Spiele!B:B,Spiele!F:F))","v":""},"","","",null,null,-1,-1,1,0]
[null,null,{"$f":"IF(B9738=\"\",\"\",LOOKUP(B9738,Spiele!B:B,Spiele!C:C))","v":""},{"$f":"IF(B9738=\"\",\"\",LOOKUP(B9738,Spiele!B:B,Spiele!D:D))","v":""},{"$f":"IF(B9738=\"\",\"\",LOOKUP(B9738,Spiele!B:B,Spiele!E:E))","v":""},{"$f":"IF(B9738=\"\",\"\",LOOKUP(B9738,Spiele!B:B,Spiele!F:F))","v":""},"","","",null,null,-1,-1,1,0]
[null,null,{"$f":"IF(B9739=\"\",\"\",LOOKUP(B9739,Spiele!B:B,Spiele!C:C))","v":""},{"$f":"IF(B9739=\"\",\"\",LOOKUP(B9739,Spiele!B:B,Spiele!D:D))","v":""},{"$f":"IF(B9739=\"\",\"\",LOOKUP(B9739,Spiele!B:B,Spiele!E:E))","v":""},{"$f":"IF(B9739=\"\",\"\",LOOKUP(B9739,Spiele!B:B,Spiele!F:F))","v":""},"","","",null,null,-1,-1,1,0]
[null,null,{"$f":"IF(B9740=\"\",\"\",LOOKUP(B9740,Spiele!B:B,Spiele!C:C))","v":""},{"$f":"IF(B9740=\"\",\"\",LOOKUP(B9740,Spiele!B:B,Spiele!D:D))","v":""},{"$f":"IF(B9740=\"\",\"\",LOOKUP(B9740,Spiele!B:B,Spiele!E:E))","v":""},{"$f":"IF(B9740=\"\",\"\",LOOKUP(B9740,Spiele!B:B,Spiele!F:F))","v":""},"","","",null,null,-1,-1,1,0]
[null,null,{"$f":"IF(B9741=\"\",\"\",LOOKUP(B9741,Spiele!B:B,Spiele!C:C))","v":""},{"$f":"IF(B9741=\"\",\"\",LOOKUP(B9741,Spiele!B:B,Spiele!D:D))","v":""},{"$f":"IF(B9741=\"\",\"\",LOOKUP(B9741,Spiele!B:B,Spiele!E:E))","v":""},{"$f":"IF(B9741=\"\",\"\",LOOKUP(B9741,Spiele!B:B,Spiele!F:F))","v":""},"","","",null,null,-1,-1,1,0]
[null,null,{"$f":"IF(B9742=\"\",\"\",LOOKUP(B9742,Spiele!B:B,Spiele!C:C))","v":""},{"$f":"IF(B9742=\"\",\"\",LOOKUP(B9742,Spiele!B:B,Spiele!D:D))","v":""},{"$f":"IF(B9742=\"\",\"\",LOOKUP(B9742,Spiele!B:B,Spiele!E:E))","v":""},{"$f":"IF(B9742=\"\",\"\",LOOKUP(B9742,Spiele!B:B,Spiele!F:F))","v":""},"","","",null,null,-1,-1,1,0]
[null,null,{"$f":"IF(B9743=\"\",\"\",LOOKUP(B9743,Spiele!B:B,Spiele!C:C))","v":""},{"$f":"IF(B9743=\"\",\"\",LOOKUP(B9743,Spiele!B:B,Spiele!D:D))","v":""},{"$f":"IF(B9743=\"\",\"\",LOOKUP(B9743,Spiele!B:B,Spiele!E:E))","v":""},{"$f":"IF(B9743=\"\",\"\",LOOKUP(B9743,Spiele!B:B,Spiele!F:F))","v":""},"","","",null,null,-1,-1,1,0]
[null,null,{"$f":"IF(B9744=\"\",\"\",LOOKUP(B9744,Spiele!B:B,Spiele!C:C))","v":""},{"$f":"IF(B9744=\"\",\"\",LOOKUP(B9744,Spiele!B:B,Spiele!D:D))","v":""},{"$f":"IF(B9744=\"\",\"\",LOOKUP(B9744,Spiele!B:B,Spiele!E:E))","v":""},{"$f":"IF(B9744=\"\",\"\",LOOKUP(B9744,Spiele!B:B,Spiele!F:F))","v":""},"","","",null,null,-1,-1,1,0]
[null,null,{"$f":"IF(B9745=\"\",\"\",LOOKUP(B9745,Spiele!B:B,Spiele!C:C))","v":""},{"$f":"IF(B9745=\"\",\"\",LOOKUP(B9745,Spiele!B:B,Spiele!D:D))","v":""},{"$f":"IF(B9745=\"\",\"\",LOOKUP(B9745,Spiele!B:B,Spiele!E:E))","v":""},{"$f":"IF(B9745=\"\",\"\",LOOKUP(B9745,Spiele!B:B,Spiele!F:F))","v":""},"","","",null,null,-1,-1,1,0]
[null,null,{"$f":"IF(B9746=\"\",\"\",LOOKUP(B9746,Spiele!B:B,Spiele!C:C))","v":""},{"$f":"IF(B9746=\"\",\"\",LOOKUP(B9746,Spiele!B:B,Spiele!D:D))","v":""},{"$f":"IF(B9746=\"\",\"\",LOOKUP(B9746,Spiele!B:B,Spiele!E:E))","v":""},{"$f":"IF(B9746=\"\",\"\",LOOKUP(B9746,Spiele!B:B,Spiele!F:F))","v":""},"","","",null,null,-1,-1,1,0]
[null,null,{"$f":"IF(B9747=\"\",\"\",LOOKUP(B9747,Spiele!B:B,Spiele!C:C))","v":""},{"$f":"IF(B9747=\"\",\"\",LOOKUP(B9747,Spiele!B:B,Spiele!D:D))","v":""},{"$f":"IF(B9747=\"\",\"\",LOOKUP(B9747,Spiele!B:B,Spiele!E:E))","v":""},{"$f":"IF(B9747=\"\",\"\",LOOKUP(B9747,Spiele!B:B,Spiele!F:F))","v":""},"","","",null,null,-1,-1,1,0]
[null,null,{"$f":"IF(B9748=\"\",\"\",LOOKUP(B9748,Spiele!B:B,Spiele!C:C))","v":""},{"$f":"IF(B9748=\"\",\"\",LOOKUP(B9748,Spiele!B:B,Spiele!D:D))","v":""},{"$f":"IF(B9748=\"\",\"\",LOOKUP(B9748,Spiele!B:B,Spiele!E:E))","v":""},{"$f":"IF(B9748=\"\",\"\",LOOKUP(B9748,Spiele!B:B,Spiele!F:F))","v":""},"","","",null,null,-1,-1,1,0]
[null,null,{"$f":"IF(B9749=\"\",\"\",LOOKUP(B9749,Spiele!B:B,Spiele!C:C))","v":""},{"$f":"IF(B9749=\"\",\"\",LOOKUP(B9749,Spiele!B:B,Spiele!D:D))","v":""},{"$f":"IF(B9749=\"\",\"\",LOOKUP(B9749,Spiele!B:B,Spiele!E:E))","v":""},{"$f":"IF(B9749=\"\",\"\",LOOKUP(B9749,Spiele!B:B,Spiele!F:F))","v":""},"","","",null,null,-1,-1,1,0]
[null,null,{"$f":"IF(B9750=\"\",\"\",LOOKUP(B9750,Spiele!B:B,Spiele!C:C))","v":""},{"$f":"IF(B9750=\"\",\"\",LOOKUP(B9750,Spiele!B:B,Spiele!D:D))","v":""},{"$f":"IF(B9750=\"\",\"\",LOOKUP(B9750,Spiele!B:B,Spiele!E:E))","v":""},{"$f":"IF(B9750=\"\",\"\",LOOKUP(B9750,Spiele!B:B,Spiele!F:F))","v":""},"","","",null,null,-1,-1,1,0]
[null,null,{"$f":"IF(B9751=\"\",\"\",LOOKUP(B9751,Spiele!B:B,Spiele!C:C))","v":""},{"$f":"IF(B9751=\"\",\"\",LOOKUP(B9751,Spiele!B:B,Spiele!D:D))","v":""},{"$f":"IF(B9751=\"\",\"\",LOOKUP(B9751,Spiele!B:B,Spiele!E:E))","v":""},{"$f":"IF(B9751=\"\",\"\",LOOKUP(B9751,Spiele!B:B,Spiele!F:F))","v":""},"","","",null,null,-1,-1,1,0]
[null,null,{"$f":"IF(B9752=\"\",\"\",LOOKUP(B9752,Spiele!B:B,Spiele!C:C))","v":""},{"$f":"IF(B9752=\"\",\"\",LOOKUP(B9752,Spiele!B:B,Spiele!D:D))","v":""},{"$f":"IF(B9752=\"\",\"\",LOOKUP(B9752,Spiele!B:B,Spiele!E:E))","v":""},{"$f":"IF(B9752=\"\",\"\",LOOKUP(B9752,Spiele!B:B,Spiele!F:F))","v":""},"","","",null,null,-1,-1,1,0]
[null,null,{"$f":"IF(B9753=\"\",\"\",LOOKUP(B9753,Spiele!B:B,Spiele!C:C))","v":""},{"$f":"IF(B9753=\"\",\"\",LOOKUP(B9753,Spiele!B:B,Spiele!D:D))","v":""},{"$f":"IF(B9753=\"\",\"\",LOOKUP(B9753,Spiele!B:B,Spiele!E:E))","v":""},{"$f":"IF(B9753=\"\",\"\",LOOKUP(B9753,Spiele!B:B,Spiele!F:F))","v":""},"","","",null,null,-1,-1,1,0]
[null,null,{"$f":"IF(B9754=\"\",\"\",LOOKUP(B9754,Spiele!B:B,Spiele!C:C))","v":""},{"$f":"IF(B9754=\"\",\"\",LOOKUP(B9754,Spiele!B:B,Spiele!D:D))","v":""},{"$f":"IF(B9754=\"\",\"\",LOOKUP(B9754,Spiele!B:B,Spiele!E:E))","v":""},{"$f":"IF(B9754=\"\",\"\",LOOKUP(B9754,Spiele!B:B,Spiele!F:F))","v":""},"","","",null,null,-1,-1,1,0]
[null,null,{"$f":"IF(B9755=\"\",\"\",LOOKUP(B9755,Spiele!B:B,Spiele!C:C))","v":""},{"$f":"IF(B9755=\"\",\"\",LOOKUP(B9755,Spiele!B:B,Spiele!D:D))","v":""},{"$f":"IF(B9755=\"\",\"\",LOOKUP(B9755,Spiele!B:B,Spiele!E:E))","v":""},{"$f":"IF(B9755=\"\",\"\",LOOKUP(B9755,Spiele!B:B,Spiele!F:F))","v":""},"","","",null,null,-1,-1,1,0]
[null,null,{"$f":"IF(B9756=\"\",\"\",LOOKUP(B9756,Spiele!B:B,Spiele!C:C))","v":""},{"$f":"IF(B9756=\"\",\"\",LOOKUP(B9756,Spiele!B:B,Spiele!D:D))","v":""},{"$f":"IF(B9756=\"\",\"\",LOOKUP(B9756,Spiele!B:B,Spiele!E:E))","v":""},{"$f":"IF(B9756=\"\",\"\",LOOKUP(B9756,Spiele!B:B,Spiele!F:F))","v":""},"","","",null,null,-1,-1,1,0]
[null,null,{"$f":"IF(B9757=\"\",\"\",LOOKUP(B9757,Spiele!B:B,Spiele!C:C))","v":""},{"$f":"IF(B9757=\"\",\"\",LOOKUP(B9757,Spiele!B:B,Spiele!D:D))","v":""},{"$f":"IF(B9757=\"\",\"\",LOOKUP(B9757,Spiele!B:B,Spiele!E:E))","v":""},{"$f":"IF(B9757=\"\",\"\",LOOKUP(B9757,Spiele!B:B,Spiele!F:F))","v":""},"","","",null,null,-1,-1,1,0]
[null,null,{"$f":"IF(B9758=\"\",\"\",LOOKUP(B9758,Spiele!B:B,Spiele!C:C))","v":""},{"$f":"IF(B9758=\"\",\"\",LOOKUP(B9758,Spiele!B:B,Spiele!D:D))","v":""},{"$f":"IF(B9758=\"\",\"\",LOOKUP(B9758,Spiele!B:B,Spiele!E:E))","v":""},{"$f":"IF(B9758=\"\",\"\",LOOKUP(B9758,Spiele!B:B,Spiele!F:F))","v":""},"","","",null,null,-1,-1,1,0]
[null,null,{"$f":"IF(B9759=\"\",\"\",LOOKUP(B9759,Spiele!B:B,Spiele!C:C))","v":""},{"$f":"IF(B9759=\"\",\"\",LOOKUP(B9759,Spiele!B:B,Spiele!D:D))","v":""},{"$f":"IF(B9759=\"\",\"\",LOOKUP(B9759,Spiele!B:B,Spiele!E:E))","v":""},{"$f":"IF(B9759=\"\",\"\",LOOKUP(B9759,Spiele!B:B,Spiele!F:F))","v":""},"","","",null,null,-1,-1,1,0]
[null,null,{"$f":"IF(B9760=\"\",\"\",LOOKUP(B9760,Spiele!B:B,Spiele!C:C))","v":""},{"$f":"IF(B9760=\"\",\"\",LOOKUP(B9760,Spiele!B:B,Spiele!D:D))","v":""},{"$f":"IF(B9760=\"\",\"\",LOOKUP(B9760,Spiele!B:B,Spiele!E:E))","v":""},{"$f":"IF(B9760=\"\",\"\",LOOKUP(B9760,Spiele!B:B,Spiele!F:F))","v":""},{"$f":"IF(E9760=\"\",\"\",IF(E9760>F9760,1,0))","v":""},{"$f":"IF(F9760=\"\",\"\",IF(E9760<F9760,1,0))","v":""},{"$f":"IF(E9760=\"\",\"\",IF(E9760=F9760,1,0))","v":""},null,null,{"$f":"IF(E9760=\"\",-1,IF(J9760>K9760,1,-1))","v":-1},{"$f":"IF(F9760=\"\",-1,IF(J9760<K9760,1,-1))","v":-1},{"$f":"IF(E9760=\"-\",-1,IF(J9760=K9760,1,-1))","v":1},{"$f":"IF(E9760=\"\",0,IF(E9760=J9760,1,0)+IF(F9760=K9760,1,0)+IF(G9760=L9760,1,0)+IF(H9760=M9760,1,0)+IF(I9760=N9760,1,0))","v":0}]
[null,null,{"$f":"IF(B9761=\"\",\"\",LOOKUP(B9761,Spiele!B:B,Spiele!C:C))","v":""},{"$f":"IF(B9761=\"\",\"\",LOOKUP(B9761,Spiele!B:B,Spiele!D:D))","v":""},{"$f":"IF(B9761=\"\",\"\",LOOKUP(B9761,Spiele!B:B,Spiele!E:E))","v":""},{"$f":"IF(B9761=\"\",\"\",LOOKUP(B9761,Spiele!B:B,Spiele!F:F))","v":""},"","","",null,null,-1,-1,1,0]
[null,null,{"$f":"IF(B9762=\"\",\"\",LOOKUP(B9762,Spiele!B:B,Spiele!C:C))","v":""},{"$f":"IF(B9762=\"\",\"\",LOOKUP(B9762,Spiele!B:B,Spiele!D:D))","v":""},{"$f":"IF(B9762=\"\",\"\",LOOKUP(B9762,Spiele!B:B,Spiele!E:E))","v":""},{"$f":"IF(B9762=\"\",\"\",LOOKUP(B9762,Spiele!B:B,Spiele!F:F))","v":""},"","","",null,null,-1,-1,1,0]
[null,null,{"$f":"IF(B9763=\"\",\"\",LOOKUP(B9763,Spiele!B:B,Spiele!C:C))","v":""},{"$f":"IF(B9763=\"\",\"\",LOOKUP(B9763,Spiele!B:B,Spiele!D:D))","v":""},{"$f":"IF(B9763=\"\",\"\",LOOKUP(B9763,Spiele!B:B,Spiele!E:E))","v":""},{"$f":"IF(B9763=\"\",\"\",LOOKUP(B9763,Spiele!B:B,Spiele!F:F))","v":""},"","","",null,null,-1,-1,1,0]
[null,null,{"$f":"IF(B9764=\"\",\"\",LOOKUP(B9764,Spiele!B:B,Spiele!C:C))","v":""},{"$f":"IF(B9764=\"\",\"\",LOOKUP(B9764,Spiele!B:B,Spiele!D:D))","v":""},{"$f":"IF(B9764=\"\",\"\",LOOKUP(B9764,Spiele!B:B,Spiele!E:E))","v":""},{"$f":"IF(B9764=\"\",\"\",LOOKUP(B9764,Spiele!B:B,Spiele!F:F))","v":""},"","","",null,null,-1,-1,1,0]
[null,null,{"$f":"IF(B9765=\"\",\"\",LOOKUP(B9765,Spiele!B:B,Spiele!C:C))","v":""},{"$f":"IF(B9765=\"\",\"\",LOOKUP(B9765,Spiele!B:B,Spiele!D:D))","v":""},{"$f":"IF(B9765=\"\",\"\",LOOKUP(B9765,Spiele!B:B,Spiele!E:E))","v":""},{"$f":"IF(B9765=\"\",\"\",LOOKUP(B9765,Spiele!B:B,Spiele!F:F))","v":""},"","","",null,null,-1,-1,1,0]
[null,null,{"$f":"IF(B9766=\"\",\"\",LOOKUP(B9766,Spiele!B:B,Spiele!C:C))","v":""},{"$f":"IF(B9766=\"\",\"\",LOOKUP(B9766,Spiele!B:B,Spiele!D:D))","v":""},{"$f":"IF(B9766=\"\",\"\",LOOKUP(B9766,Spiele!B:B,Spiele!E:E))","v":""},{"$f":"IF(B9766=\"\",\"\",LOOKUP(B9766,Spiele!B:B,Spiele!F:F))","v":""},"","","",null,null,-1,-1,1,0]
[null,null,{"$f":"IF(B9767=\"\",\"\",LOOKUP(B9767,Spiele!B:B,Spiele!C:C))","v":""},{"$f":"IF(B9767=\"\",\"\",LOOKUP(B9767,Spiele!B:B,Spiele!D:D))","v":""},{"$f":"IF(B9767=\"\",\"\",LOOKUP(B9767,Spiele!B:B,Spiele!E:E))","v":""},{"$f":"IF(B9767=\"\",\"\",LOOKUP(B9767,Spiele!B:B,Spiele!F:F))","v":""},"","","",null,null,-1,-1,1,0]
[null,null,{"$f":"IF(B9768=\"\",\"\",LOOKUP(B9768,Spiele!B:B,Spiele!C:C))","v":""},{"$f":"IF(B9768=\"\",\"\",LOOKUP(B9768,Spiele!B:B,Spiele!D:D))","v":""},{"$f":"IF(B9768=\"\",\"\",LOOKUP(B9768,Spiele!B:B,Spiele!E:E))","v":""},{"$f":"IF(B9768=\"\",\"\",LOOKUP(B9768,Spiele!B:B,Spiele!F:F))","v":""},"","","",null,null,-1,-1,1,0]
[null,null,{"$f":"IF(B9769=\"\",\"\",LOOKUP(B9769,Spiele!B:B,Spiele!C:C))","v":""},{"$f":"IF(B9769=\"\",\"\",LOOKUP(B9769,Spiele!B:B,Spiele!D:D))","v":""},{"$f":"IF(B9769=\"\",\"\",LOOKUP(B9769,Spiele!B:B,Spiele!E:E))","v":""},{"$f":"IF(B9769=\"\",\"\",LOOKUP(B9769,Spiele!B:B,Spiele!F:F))","v":""},"","","",null,null,-1,-1,1,0]
[null,null,{"$f":"IF(B9770=\"\",\"\",LOOKUP(B9770,Spiele!B:B,Spiele!C:C))","v":""},{"$f":"IF(B9770=\"\",\"\",LOOKUP(B9770,Spiele!B:B,Spiele!D:D))","v":""},{"$f":"IF(B9770=\"\",\"\",LOOKUP(B9770,Spiele!B:B,Spiele!E:E))","v":""},{"$f":"IF(B9770=\"\",\"\",LOOKUP(B9770,Spiele!B:B,Spiele!F:F))","v":""},"","","",null,null,-1,-1,1,0]
[null,null,{"$f":"IF(B9771=\"\",\"\",LOOKUP(B9771,Spiele!B:B,Spiele!C:C))","v":""},{"$f":"IF(B9771=\"\",\"\",LOOKUP(B9771,Spiele!B:B,Spiele!D:D))","v":""},{"$f":"IF(B9771=\"\",\"\",LOOKUP(B9771,Spiele!B:B,Spiele!E:E))","v":""},{"$f":"IF(B9771=\"\",\"\",LOOKUP(B9771,Spiele!B:B,Spiele!F:F))","v":""},"","","",null,null,-1,-1,1,0]
[null,null,{"$f":"IF(B9772=\"\",\"\",LOOKUP(B9772,Spiele!B:B,Spiele!C:C))","v":""},{"$f":"IF(B9772=\"\",\"\",LOOKUP(B9772,Spiele!B:B,Spiele!D:D))","v":""},{"$f":"IF(B9772=\"\",\"\",LOOKUP(B9772,Spiele!B:B,Spiele!E:E))","v":""},{"$f":"IF(B9772=\"\",\"\",LOOKUP(B9772,Spiele!B:B,Spiele!F:F))","v":""},"","","",null,null,-1,-1,1,0]
[null,null,{"$f":"IF(B9773=\"\",\"\",LOOKUP(B9773,Spiele!B:B,Spiele!C:C))","v":""},{"$f":"IF(B9773=\"\",\"\",LOOKUP(B9773,Spiele!B:B,Spiele!D:D))","v":""},{"$f":"IF(B9773=\"\",\"\",LOOKUP(B9773,Spiele!B:B,Spiele!E:E))","v":""},{"$f":"IF(B9773=\"\",\"\",LOOKUP(B9773,Spiele!B:B,Spiele!F:F))","v":""},"","","",null,null,-1,-1,1,0]
[null,null,{"$f":"IF(B9774=\"\",\"\",LOOKUP(B9774,Spiele!B:B,Spiele!C:C))","v":""},{"$f":"IF(B9774=\"\",\"\",LOOKUP(B9774,Spiele!B:B,Spiele!D:D))","v":""},{"$f":"IF(B9774=\"\",\"\",LOOKUP(B9774,Spiele!B:B,Spiele!E:E))","v":""},{"$f":"IF(B9774=\"\",\"\",LOOKUP(B9774,Spiele!B:B,Spiele!F:F))","v":""},"","","",null,null,-1,-1,1,0]
[null,null,{"$f":"IF(B9775=\"\",\"\",LOOKUP(B9775,Spiele!B:B,Spiele!C:C))","v":""},{"$f":"IF(B9775=\"\",\"\",LOOKUP(B9775,Spiele!B:B,Spiele!D:D))","v":""},{"$f":"IF(B9775=\"\",\"\",LOOKUP(B9775,Spiele!B:B,Spiele!E:E))","v":""},{"$f":"IF(B9775=\"\",\"\",LOOKUP(B9775,Spiele!B:B,Spiele!F:F))","v":""},"","","",null,null,-1,-1,1,0]
[null,null,{"$f":"IF(B9776=\"\",\"\",LOOKUP(B9776,Spiele!B:B,Spiele!C:C))","v":""},{"$f":"IF(B9776=\"\",\"\",LOOKUP(B9776,Spiele!B:B,Spiele!D:D))","v":""},{"$f":"IF(B9776=\"\",\"\",LOOKUP(B9776,Spiele!B:B,Spiele!E:E))","v":""},{"$f":"IF(B9776=\"\",\"\",LOOKUP(B9776,Spiele!B:B,Spiele!F:F))","v":""},"","","",null,null,-1,-1,1,0]
[null,null,{"$f":"IF(B9777=\"\",\"\",LOOKUP(B9777,Spiele!B:B,Spiele!C:C))","v":""},{"$f":"IF(B9777=\"\",\"\",LOOKUP(B9777,Spiele!B:B,Spiele!D:D))","v":""},{"$f":"IF(B9777=\"\",\"\",LOOKUP(B9777,Spiele!B:B,Spiele!E:E))","v":""},{"$f":"IF(B9777=\"\",\"\",LOOKUP(B9777,Spiele!B:B,Spiele!F:F))","v":""},"","","",null,null,-1,-1,1,0]
[null,null,{"$f":"IF(B9778=\"\",\"\",LOOKUP(B9778,Spiele!B:B,Spiele!C:C))","v":""},{"$f":"IF(B9778=\"\",\"\",LOOKUP(B9778,Spiele!B:B,Spiele!D:D))","v":""},{"$f":"IF(B9778=\"\",\"\",LOOKUP(B9778,Spiele!B:B,Spiele!E:E))","v":""},{"$f":"IF(B9778=\"\",\"\",LOOKUP(B9778,Spiele!B:B,Spiele!F:F))","v":""},"","","",null,null,-1,-1,1,0]
[null,null,{"$f":"IF(B9779=\"\",\"\",LOOKUP(B9779,Spiele!B:B,Spiele!C:C))","v":""},{"$f":"IF(B9779=\"\",\"\",LOOKUP(B9779,Spiele!B:B,Spiele!D:D))","v":""},{"$f":"IF(B9779=\"\",\"\",LOOKUP(B9779,Spiele!B:B,Spiele!E:E))","v":""},{"$f":"IF(B9779=\"\",\"\",LOOKUP(B9779,Spiele!B:B,Spiele!F:F))","v":""},"","","",null,null,-1,-1,1,0]
[null,null,{"$f":"IF(B9780=\"\",\"\",LOOKUP(B9780,Spiele!B:B,Spiele!C:C))","v":""},{"$f":"IF(B9780=\"\",\"\",LOOKUP(B9780,Spiele!B:B,Spiele!D:D))","v":""},{"$f":"IF(B9780=\"\",\"\",LOOKUP(B9780,Spiele!B:B,Spiele!E:E))","v":""},{"$f":"IF(B9780=\"\",\"\",LOOKUP(B9780,Spiele!B:B,Spiele!F:F))","v":""},"","","",null,null,-1,-1,1,0]
[null,null,{"$f":"IF(B9781=\"\",\"\",LOOKUP(B9781,Spiele!B:B,Spiele!C:C))","v":""},{"$f":"IF(B9781=\"\",\"\",LOOKUP(B9781,Spiele!B:B,Spiele!D:D))","v":""},{"$f":"IF(B9781=\"\",\"\",LOOKUP(B9781,Spiele!B:B,Spiele!E:E))","v":""},{"$f":"IF(B9781=\"\",\"\",LOOKUP(B9781,Spiele!B:B,Spiele!F:F))","v":""},"","","",null,null,-1,-1,1,0]
[null,null,{"$f":"IF(B9782=\"\",\"\",LOOKUP(B9782,Spiele!B:B,Spiele!C:C))","v":""},{"$f":"IF(B9782=\"\",\"\",LOOKUP(B9782,Spiele!B:B,Spiele!D:D))","v":""},{"$f":"IF(B9782=\"\",\"\",LOOKUP(B9782,Spiele!B:B,Spiele!E:E))","v":""},{"$f":"IF(B9782=\"\",\"\",LOOKUP(B9782,Spiele!B:B,Spiele!F:F))","v":""},"","","",null,null,-1,-1,1,0]
[null,null,{"$f":"IF(B9783=\"\",\"\",LOOKUP(B9783,Spiele!B:B,Spiele!C:C))","v":""},{"$f":"IF(B9783=\"\",\"\",LOOKUP(B9783,Spiele!B:B,Spiele!D:D))","v":""},{"$f":"IF(B9783=\"\",\"\",LOOKUP(B9783,Spiele!B:B,Spiele!E:E))","v":""},{"$f":"IF(B9783=\"\",\"\",LOOKUP(B9783,Spiele!B:B,Spiele!F:F))","v":""},"","","",null,null,-1,-1,1,0]
[null,null,{"$f":"IF(B9784=\"\",\"\",LOOKUP(B9784,Spiele!B:B,Spiele!C:C))","v":""},{"$f":"IF(B9784=\"\",\"\",LOOKUP(B9784,Spiele!B:B,Spiele!D:D))","v":""},{"$f":"IF(B9784=\"\",\"\",LOOKUP(B9784,Spiele!B:B,Spiele!E:E))","v":""},{"$f":"IF(B9784=\"\",\"\",LOOKUP(B9784,Spiele!B:B,Spiele!F:F))","v":""},"","","",null,null,-1,-1,1,0]
[null,null,{"$f":"IF(B9785=\"\",\"\",LOOKUP(B9785,Spiele!B:B,Spiele!C:C))","v":""},{"$f":"IF(B9785=\"\",\"\",LOOKUP(B9785,Spiele!B:B,Spiele!D:D))","v":""},{"$f":"IF(B9785=\"\",\"\",LOOKUP(B9785,Spiele!B:B,Spiele!E:E))","v":""},{"$f":"IF(B9785=\"\",\"\",LOOKUP(B9785,Spiele!B:B,Spiele!F:F))","v":""},"","","",null,null,-1,-1,1,0]
[null,null,{"$f":"IF(B9786=\"\",\"\",LOOKUP(B9786,Spiele!B:B,Spiele!C:C))","v":""},{"$f":"IF(B9786=\"\",\"\",LOOKUP(B9786,Spiele!B:B,Spiele!D:D))","v":""},{"$f":"IF(B9786=\"\",\"\",LOOKUP(B9786,Spiele!B:B,Spiele!E:E))","v":""},{"$f":"IF(B9786=\"\",\"\",LOOKUP(B9786,Spiele!B:B,Spiele!F:F))","v":""},"","","",null,null,-1,-1,1,0]
[null,null,{"$f":"IF(B9787=\"\",\"\",LOOKUP(B9787,Spiele!B:B,Spiele!C:C))","v":""},{"$f":"IF(B9787=\"\",\"\",LOOKUP(B9787,Spiele!B:B,Spiele!D:D))","v":""},{"$f":"IF(B9787=\"\",\"\",LOOKUP(B9787,Spiele!B:B,Spiele!E:E))","v":""},{"$f":"IF(B9787=\"\",\"\",LOOKUP(B9787,Spiele!B:B,Spiele!F:F))","v":""},"","","",null,null,-1,-1,1,0]
[null,null,{"$f":"IF(B9788=\"\",\"\",LOOKUP(B9788,Spiele!B:B,Spiele!C:C))","v":""},{"$f":"IF(B9788=\"\",\"\",LOOKUP(B9788,Spiele!B:B,Spiele!D:D))","v":""},{"$f":"IF(B9788=\"\",\"\",LOOKUP(B9788,Spiele!B:B,Spiele!E:E))","v":""},{"$f":"IF(B9788=\"\",\"\",LOOKUP(B9788,Spiele!B:B,Spiele!F:F))","v":""},"","","",null,null,-1,-1,1,0]
[null,null,{"$f":"IF(B9789=\"\",\"\",LOOKUP(B9789,Spiele!B:B,Spiele!C:C))","v":""},{"$f":"IF(B9789=\"\",\"\",LOOKUP(B9789,Spiele!B:B,Spiele!D:D))","v":""},{"$f":"IF(B9789=\"\",\"\",LOOKUP(B9789,Spiele!B:B,Spiele!E:E))","v":""},{"$f":"IF(B9789=\"\",\"\",LOOKUP(B9789,Spiele!B:B,Spiele!F:F))","v":""},"","","",null,null,-1,-1,1,0]
[null,null,{"$f":"IF(B9790=\"\",\"\",LOOKUP(B9790,Spiele!B:B,Spiele!C:C))","v":""},{"$f":"IF(B9790=\"\",\"\",LOOKUP(B9790,Spiele!B:B,Spiele!D:D))","v":""},{"$f":"IF(B9790=\"\",\"\",LOOKUP(B9790,Spiele!B:B,Spiele!E:E))","v":""},{"$f":"IF(B9790=\"\",\"\",LOOKUP(B9790,Spiele!B:B,Spiele!F:F))","v":""},"","","",null,null,-1,-1,1,0]
[null,null,{"$f":"IF(B9791=\"\",\"\",LOOKUP(B9791,Spiele!B:B,Spiele!C:C))","v":""},{"$f":"IF(B9791=\"\",\"\",LOOKUP(B9791,Spiele!B:B,Spiele!D:D))","v":""},{"$f":"IF(B9791=\"\",\"\",LOOKUP(B9791,Spiele!B:B,Spiele!E:E))","v":""},{"$f":"IF(B9791=\"\",\"\",LOOKUP(B9791,Spiele!B:B,Spiele!F:F))","v":""},"","","",null,null,-1,-1,1,0]
[null,null,{"$f":"IF(B9792=\"\",\"\",LOOKUP(B9792,Spiele!B:B,Spiele!C:C))","v":""},{"$f":"IF(B9792=\"\",\"\",LOOKUP(B9792,Spiele!B:B,Spiele!D:D))","v":""},{"$f":"IF(B9792=\"\",\"\",LOOKUP(B9792,Spiele!B:B,Spiele!E:E))","v":""},{"$f":"IF(B9792=\"\",\"\",LOOKUP(B9792,Spiele!B:B,Spiele!F:F))","v":""},"","","",null,null,-1,-1,1,0]
[null,null,{"$f":"IF(B9793=\"\",\"\",LOOKUP(B9793,Spiele!B:B,Spiele!C:C))","v":""},{"$f":"IF(B9793=\"\",\"\",LOOKUP(B9793,Spiele!B:B,Spiele!D:D))","v":""},{"$f":"IF(B9793=\"\",\"\",LOOKUP(B9793,Spiele!B:B,Spiele!E:E))","v":""},{"$f":"IF(B9793=\"\",\"\",LOOKUP(B9793,Spiele!B:B,Spiele!F:F))","v":""},"","","",null,null,-1,-1,1,0]
[null,null,{"$f":"IF(B9794=\"\",\"\",LOOKUP(B9794,Spiele!B:B,Spiele!C:C))","v":""},{"$f":"IF(B9794=\"\",\"\",LOOKUP(B9794,Spiele!B:B,Spiele!D:D))","v":""},{"$f":"IF(B9794=\"\",\"\",LOOKUP(B9794,Spiele!B:B,Spiele!E:E))","v":""},{"$f":"IF(B9794=\"\",\"\",LOOKUP(B9794,Spiele!B:B,Spiele!F:F))","v":""},"","","",null,null,-1,-1,1,0]
[null,null,{"$f":"IF(B9795=\"\",\"\",LOOKUP(B9795,Spiele!B:B,Spiele!C:C))","v":""},{"$f":"IF(B9795=\"\",\"\",LOOKUP(B9795,Spiele!B:B,Spiele!D:D))","v":""},{"$f":"IF(B9795=\"\",\"\",LOOKUP(B9795,Spiele!B:B,Spiele!E:E))","v":""},{"$f":"IF(B9795=\"\",\"\",LOOKUP(B9795,Spiele!B:B,Spiele!F:F))","v":""},"","","",null,null,-1,-1,1,0]
[null,null,{"$f":"IF(B9796=\"\",\"\",LOOKUP(B9796,Spiele!B:B,Spiele!C:C))","v":""},{"$f":"IF(B9796=\"\",\"\",LOOKUP(B9796,Spiele!B:B,Spiele!D:D))","v":""},{"$f":"IF(B9796=\"\",\"\",LOOKUP(B9796,Spiele!B:B,Spiele!E:E))","v":""},{"$f":"IF(B9796=\"\",\"\",LOOKUP(B9796,Spiele!B:B,Spiele!F:F))","v":""},"","","",null,null,-1,-1,1,0]
[null,null,{"$f":"IF(B9797=\"\",\"\",LOOKUP(B9797,Spiele!B:B,Spiele!C:C))","v":""},{"$f":"IF(B9797=\"\",\"\",LOOKUP(B9797,Spiele!B:B,Spiele!D:D))","v":""},{"$f":"IF(B9797=\"\",\"\",LOOKUP(B9797,Spiele!B:B,Spiele!E:E))","v":""},{"$f":"IF(B9797=\"\",\"\",LOOKUP(B9797,Spiele!B:B,Spiele!F:F))","v":""},"","","",null,null,-1,-1,1,0]
[null,null,{"$f":"IF(B9798=\"\",\"\",LOOKUP(B9798,Spiele!B:B,Spiele!C:C))","v":""},{"$f":"IF(B9798=\"\",\"\",LOOKUP(B9798,Spiele!B:B,Spiele!D:D))","v":""},{"$f":"IF(B9798=\"\",\"\",LOOKUP(B9798,Spiele!B:B,Spiele!E:E))","v":""},{"$f":"IF(B9798=\"\",\"\",LOOKUP(B9798,Spiele!B:B,Spiele!F:F))","v":""},"","","",null,null,-1,-1,1,0]
[null,null,{"$f":"IF(B9799=\"\",\"\",LOOKUP(B9799,Spiele!B:B,Spiele!C:C))","v":""},{"$f":"IF(B9799=\"\",\"\",LOOKUP(B9799,Spiele!B:B,Spiele!D:D))","v":""},{"$f":"IF(B9799=\"\",\"\",LOOKUP(B9799,Spiele!B:B,Spiele!E:E))","v":""},{"$f":"IF(B9799=\"\",\"\",LOOKUP(B9799,Spiele!B:B,Spiele!F:F))","v":""},"","","",null,null,-1,-1,1,0]
[null,null,{"$f":"IF(B9800=\"\",\"\",LOOKUP(B9800,Spiele!B:B,Spiele!C:C))","v":""},{"$f":"IF(B9800=\"\",\"\",LOOKUP(B9800,Spiele!B:B,Spiele!D:D))","v":""},{"$f":"IF(B9800=\"\",\"\",LOOKUP(B9800,Spiele!B:B,Spiele!E:E))","v":""},{"$f":"IF(B9800=\"\",\"\",LOOKUP(B9800,Spiele!B:B,Spiele!F:F))","v":""},"","","",null,null,-1,-1,1,0]
[null,null,{"$f":"IF(B9801=\"\",\"\",LOOKUP(B9801,Spiele!B:B,Spiele!C:C))","v":""},{"$f":"IF(B9801=\"\",\"\",LOOKUP(B9801,Spiele!B:B,Spiele!D:D))","v":""},{"$f":"IF(B9801=\"\",\"\",LOOKUP(B9801,Spiele!B:B,Spiele!E:E))","v":""},{"$f":"IF(B9801=\"\",\"\",LOOKUP(B9801,Spiele!B:B,Spiele!F:F))","v":""},"","","",null,null,-1,-1,1,0]
[null,null,{"$f":"IF(B9802=\"\",\"\",LOOKUP(B9802,Spiele!B:B,Spiele!C:C))","v":""},{"$f":"IF(B9802=\"\",\"\",LOOKUP(B9802,Spiele!B:B,Spiele!D:D))","v":""},{"$f":"IF(B9802=\"\",\"\",LOOKUP(B9802,Spiele!B:B,Spiele!E:E))","v":""},{"$f":"IF(B9802=\"\",\"\",LOOKUP(B9802,Spiele!B:B,Spiele!F:F))","v":""},"","","",null,null,-1,-1,1,0]
[null,null,{"$f":"IF(B9803=\"\",\"\",LOOKUP(B9803,Spiele!B:B,Spiele!C:C))","v":""},{"$f":"IF(B9803=\"\",\"\",LOOKUP(B9803,Spiele!B:B,Spiele!D:D))","v":""},{"$f":"IF(B9803=\"\",\"\",LOOKUP(B9803,Spiele!B:B,Spiele!E:E))","v":""},{"$f":"IF(B9803=\"\",\"\",LOOKUP(B9803,Spiele!B:B,Spiele!F:F))","v":""},"","","",null,null,-1,-1,1,0]
[null,null,{"$f":"IF(B9804=\"\",\"\",LOOKUP(B9804,Spiele!B:B,Spiele!C:C))","v":""},{"$f":"IF(B9804=\"\",\"\",LOOKUP(B9804,Spiele!B:B,Spiele!D:D))","v":""},{"$f":"IF(B9804=\"\",\"\",LOOKUP(B9804,Spiele!B:B,Spiele!E:E))","v":""},{"$f":"IF(B9804=\"\",\"\",LOOKUP(B9804,Spiele!B:B,Spiele!F:F))","v":""},"","","",null,null,-1,-1,1,0]
[null,null,{"$f":"IF(B9805=\"\",\"\",LOOKUP(B9805,Spiele!B:B,Spiele!C:C))","v":""},{"$f":"IF(B9805=\"\",\"\",LOOKUP(B9805,Spiele!B:B,Spiele!D:D))","v":""},{"$f":"IF(B9805=\"\",\"\",LOOKUP(B9805,Spiele!B:B,Spiele!E:E))","v":""},{"$f":"IF(B9805=\"\",\"\",LOOKUP(B9805,Spiele!B:B,Spiele!F:F))","v":""},"","","",null,null,-1,-1,1,0]
[null,null,{"$f":"IF(B9806=\"\",\"\",LOOKUP(B9806,Spiele!B:B,Spiele!C:C))","v":""},{"$f":"IF(B9806=\"\",\"\",LOOKUP(B9806,Spiele!B:B,Spiele!D:D))","v":""},{"$f":"IF(B9806=\"\",\"\",LOOKUP(B9806,Spiele!B:B,Spiele!E:E))","v":""},{"$f":"IF(B9806=\"\",\"\",LOOKUP(B9806,Spiele!B:B,Spiele!F:F))","v":""},"","","",null,null,-1,-1,1,0]
[null,null,{"$f":"IF(B9807=\"\",\"\",LOOKUP(B9807,Spiele!B:B,Spiele!C:C))","v":""},{"$f":"IF(B9807=\"\",\"\",LOOKUP(B9807,Spiele!B:B,Spiele!D:D))","v":""},{"$f":"IF(B9807=\"\",\"\",LOOKUP(B9807,Spiele!B:B,Spiele!E:E))","v":""},{"$f":"IF(B9807=\"\",\"\",LOOKUP(B9807,Spiele!B:B,Spiele!F:F))","v":""},"","","",null,null,-1,-1,1,0]
[null,null,{"$f":"IF(B9808=\"\",\"\",LOOKUP(B9808,Spiele!B:B,Spiele!C:C))","v":""},{"$f":"IF(B9808=\"\",\"\",LOOKUP(B9808,Spiele!B:B,Spiele!D:D))","v":""},{"$f":"IF(B9808=\"\",\"\",LOOKUP(B9808,Spiele!B:B,Spiele!E:E))","v":""},{"$f":"IF(B9808=\"\",\"\",LOOKUP(B9808,Spiele!B:B,Spiele!F:F))","v":""},"","","",null,null,-1,-1,1,0]
[null,null,{"$f":"IF(B9809=\"\",\"\",LOOKUP(B9809,Spiele!B:B,Spiele!C:C))","v":""},{"$f":"IF(B9809=\"\",\"\",LOOKUP(B9809,Spiele!B:B,Spiele!D:D))","v":""},{"$f":"IF(B9809=\"\",\"\",LOOKUP(B9809,Spiele!B:B,Spiele!E:E))","v":""},{"$f":"IF(B9809=\"\",\"\",LOOKUP(B9809,Spiele!B:B,Spiele!F:F))","v":""},"","","",null,null,-1,-1,1,0]
[null,null,{"$f":"IF(B9810=\"\",\"\",LOOKUP(B9810,Spiele!B:B,Spiele!C:C))","v":""},{"$f":"IF(B9810=\"\",\"\",LOOKUP(B9810,Spiele!B:B,Spiele!D:D))","v":""},{"$f":"IF(B9810=\"\",\"\",LOOKUP(B9810,Spiele!B:B,Spiele!E:E))","v":""},{"$f":"IF(B9810=\"\",\"\",LOOKUP(B9810,Spiele!B:B,Spiele!F:F))","v":""},"","","",null,null,-1,-1,1,0]
[null,null,{"$f":"IF(B9811=\"\",\"\",LOOKUP(B9811,Spiele!B:B,Spiele!C:C))","v":""},{"$f":"IF(B9811=\"\",\"\",LOOKUP(B9811,Spiele!B:B,Spiele!D:D))","v":""},{"$f":"IF(B9811=\"\",\"\",LOOKUP(B9811,Spiele!B:B,Spiele!E:E))","v":""},{"$f":"IF(B9811=\"\",\"\",LOOKUP(B9811,Spiele!B:B,Spiele!F:F))","v":""},"","","",null,null,-1,-1,1,0]
[null,null,{"$f":"IF(B9812=\"\",\"\",LOOKUP(B9812,Spiele!B:B,Spiele!C:C))","v":""},{"$f":"IF(B9812=\"\",\"\",LOOKUP(B9812,Spiele!B:B,Spiele!D:D))","v":""},{"$f":"IF(B9812=\"\",\"\",LOOKUP(B9812,Spiele!B:B,Spiele!E:E))","v":""},{"$f":"IF(B9812=\"\",\"\",LOOKUP(B9812,Spiele!B:B,Spiele!F:F))","v":""},"","","",null,null,-1,-1,1,0]
[null,null,{"$f":"IF(B9813=\"\",\"\",LOOKUP(B9813,Spiele!B:B,Spiele!C:C))","v":""},{"$f":"IF(B9813=\"\",\"\",LOOKUP(B9813,Spiele!B:B,Spiele!D:D))","v":""},{"$f":"IF(B9813=\"\",\"\",LOOKUP(B9813,Spiele!B:B,Spiele!E:E))","v":""},{"$f":"IF(B9813=\"\",\"\",LOOKUP(B9813,Spiele!B:B,Spiele!F:F))","v":""},"","","",null,null,-1,-1,1,0]
[null,null,{"$f":"IF(B9814=\"\",\"\",LOOKUP(B9814,Spiele!B:B,Spiele!C:C))","v":""},{"$f":"IF(B9814=\"\",\"\",LOOKUP(B9814,Spiele!B:B,Spiele!D:D))","v":""},{"$f":"IF(B9814=\"\",\"\",LOOKUP(B9814,Spiele!B:B,Spiele!E:E))","v":""},{"$f":"IF(B9814=\"\",\"\",LOOKUP(B9814,Spiele!B:B,Spiele!F:F))","v":""},"","","",null,null,-1,-1,1,0]
[null,null,{"$f":"IF(B9815=\"\",\"\",LOOKUP(B9815,Spiele!B:B,Spiele!C:C))","v":""},{"$f":"IF(B9815=\"\",\"\",LOOKUP(B9815,Spiele!B:B,Spiele!D:D))","v":""},{"$f":"IF(B9815=\"\",\"\",LOOKUP(B9815,Spiele!B:B,Spiele!E:E))","v":""},{"$f":"IF(B9815=\"\",\"\",LOOKUP(B9815,Spiele!B:B,Spiele!F:F))","v":""},"","","",null,null,-1,-1,1,0]
[null,null,{"$f":"IF(B9816=\"\",\"\",LOOKUP(B9816,Spiele!B:B,Spiele!C:C))","v":""},{"$f":"IF(B9816=\"\",\"\",LOOKUP(B9816,Spiele!B:B,Spiele!D:D))","v":""},{"$f":"IF(B9816=\"\",\"\",LOOKUP(B9816,Spiele!B:B,Spiele!E:E))","v":""},{"$f":"IF(B9816=\"\",\"\",LOOKUP(B9816,Spiele!B:B,Spiele!F:F))","v":""},"","","",null,null,-1,-1,1,0]
[null,null,{"$f":"IF(B9817=\"\",\"\",LOOKUP(B9817,Spiele!B:B,Spiele!C:C))","v":""},{"$f":"IF(B9817=\"\",\"\",LOOKUP(B9817,Spiele!B:B,Spiele!D:D))","v":""},{"$f":"IF(B9817=\"\",\"\",LOOKUP(B9817,Spiele!B:B,Spiele!E:E))","v":""},{"$f":"IF(B9817=\"\",\"\",LOOKUP(B9817,Spiele!B:B,Spiele!F:F))","v":""},"","","",null,null,-1,-1,1,0]
[null,null,{"$f":"IF(B9818=\"\",\"\",LOOKUP(B9818,Spiele!B:B,Spiele!C:C))","v":""},{"$f":"IF(B9818=\"\",\"\",LOOKUP(B9818,Spiele!B:B,Spiele!D:D))","v":""},{"$f":"IF(B9818=\"\",\"\",LOOKUP(B9818,Spiele!B:B,Spiele!E:E))","v":""},{"$f":"IF(B9818=\"\",\"\",LOOKUP(B9818,Spiele!B:B,Spiele!F:F))","v":""},"","","",null,null,-1,-1,1,0]
[null,null,{"$f":"IF(B9819=\"\",\"\",LOOKUP(B9819,Spiele!B:B,Spiele!C:C))","v":""},{"$f":"IF(B9819=\"\",\"\",LOOKUP(B9819,Spiele!B:B,Spiele!D:D))","v":""},{"$f":"IF(B9819=\"\",\"\",LOOKUP(B9819,Spiele!B:B,Spiele!E:E))","v":""},{"$f":"IF(B9819=\"\",\"\",LOOKUP(B9819,Spiele!B:B,Spiele!F:F))","v":""},"","","",null,null,-1,-1,1,0]
[null,null,{"$f":"IF(B9820=\"\",\"\",LOOKUP(B9820,Spiele!B:B,Spiele!C:C))","v":""},{"$f":"IF(B9820=\"\",\"\",LOOKUP(B9820,Spiele!B:B,Spiele!D:D))","v":""},{"$f":"IF(B9820=\"\",\"\",LOOKUP(B9820,Spiele!B:B,Spiele!E:E))","v":""},{"$f":"IF(B9820=\"\",\"\",LOOKUP(B9820,Spiele!B:B,Spiele!F:F))","v":""},"","","",null,null,-1,-1,1,0]
[null,null,{"$f":"IF(B9821=\"\",\"\",LOOKUP(B9821,Spiele!B:B,Spiele!C:C))","v":""},{"$f":"IF(B9821=\"\",\"\",LOOKUP(B9821,Spiele!B:B,Spiele!D:D))","v":""},{"$f":"IF(B9821=\"\",\"\",LOOKUP(B9821,Spiele!B:B,Spiele!E:E))","v":""},{"$f":"IF(B9821=\"\",\"\",LOOKUP(B9821,Spiele!B:B,Spiele!F:F))","v":""},"","","",null,null,-1,-1,1,0]
[null,null,{"$f":"IF(B9822=\"\",\"\",LOOKUP(B9822,Spiele!B:B,Spiele!C:C))","v":""},{"$f":"IF(B9822=\"\",\"\",LOOKUP(B9822,Spiele!B:B,Spiele!D:D))","v":""},{"$f":"IF(B9822=\"\",\"\",LOOKUP(B9822,Spiele!B:B,Spiele!E:E))","v":""},{"$f":"IF(B9822=\"\",\"\",LOOKUP(B9822,Spiele!B:B,Spiele!F:F))","v":""},"","","",null,null,-1,-1,1,0]
[null,null,{"$f":"IF(B9823=\"\",\"\",LOOKUP(B9823,Spiele!B:B,Spiele!C:C))","v":""},{"$f":"IF(B9823=\"\",\"\",LOOKUP(B9823,Spiele!B:B,Spiele!D:D))","v":""},{"$f":"IF(B9823=\"\",\"\",LOOKUP(B9823,Spiele!B:B,Spiele!E:E))","v":""},{"$f":"IF(B9823=\"\",\"\",LOOKUP(B9823,Spiele!B:B,Spiele!F:F))","v":""},"","","",null,null,-1,-1,1,0]
[null,null,{"$f":"IF(B9824=\"\",\"\",LOOKUP(B9824,Spiele!B:B,Spiele!C:C))","v":""},{"$f":"IF(B9824=\"\",\"\",LOOKUP(B9824,Spiele!B:B,Spiele!D:D))","v":""},{"$f":"IF(B9824=\"\",\"\",LOOKUP(B9824,Spiele!B:B,Spiele!E:E))","v":""},{"$f":"IF(B9824=\"\",\"\",LOOKUP(B9824,Spiele!B:B,Spiele!F:F))","v":""},{"$f":"IF(E9824=\"\",\"\",IF(E9824>F9824,1,0))","v":""},{"$f":"IF(F9824=\"\",\"\",IF(E9824<F9824,1,0))","v":""},{"$f":"IF(E9824=\"\",\"\",IF(E9824=F9824,1,0))","v":""},null,null,{"$f":"IF(E9824=\"\",-1,IF(J9824>K9824,1,-1))","v":-1},{"$f":"IF(F9824=\"\",-1,IF(J9824<K9824,1,-1))","v":-1},{"$f":"IF(E9824=\"-\",-1,IF(J9824=K9824,1,-1))","v":1},{"$f":"IF(E9824=\"\",0,IF(E9824=J9824,1,0)+IF(F9824=K9824,1,0)+IF(G9824=L9824,1,0)+IF(H9824=M9824,1,0)+IF(I9824=N9824,1,0))","v":0}]
[null,null,{"$f":"IF(B9825=\"\",\"\",LOOKUP(B9825,Spiele!B:B,Spiele!C:C))","v":""},{"$f":"IF(B9825=\"\",\"\",LOOKUP(B9825,Spiele!B:B,Spiele!D:D))","v":""},{"$f":"IF(B9825=\"\",\"\",LOOKUP(B9825,Spiele!B:B,Spiele!E:E))","v":""},{"$f":"IF(B9825=\"\",\"\",LOOKUP(B9825,Spiele!B:B,Spiele!F:F))","v":""},"","","",null,null,-1,-1,1,0]
[null,null,{"$f":"IF(B9826=\"\",\"\",LOOKUP(B9826,Spiele!B:B,Spiele!C:C))","v":""},{"$f":"IF(B9826=\"\",\"\",LOOKUP(B9826,Spiele!B:B,Spiele!D:D))","v":""},{"$f":"IF(B9826=\"\",\"\",LOOKUP(B9826,Spiele!B:B,Spiele!E:E))","v":""},{"$f":"IF(B9826=\"\",\"\",LOOKUP(B9826,Spiele!B:B,Spiele!F:F))","v":""},"","","",null,null,-1,-1,1,0]
[null,null,{"$f":"IF(B9827=\"\",\"\",LOOKUP(B9827,Spiele!B:B,Spiele!C:C))","v":""},{"$f":"IF(B9827=\"\",\"\",LOOKUP(B9827,Spiele!B:B,Spiele!D:D))","v":""},{"$f":"IF(B9827=\"\",\"\",LOOKUP(B9827,Spiele!B:B,Spiele!E:E))","v":""},{"$f":"IF(B9827=\"\",\"\",LOOKUP(B9827,Spiele!B:B,Spiele!F:F))","v":""},"","","",null,null,-1,-1,1,0]
[null,null,{"$f":"IF(B9828=\"\",\"\",LOOKUP(B9828,Spiele!B:B,Spiele!C:C))","v":""},{"$f":"IF(B9828=\"\",\"\",LOOKUP(B9828,Spiele!B:B,Spiele!D:D))","v":""},{"$f":"IF(B9828=\"\",\"\",LOOKUP(B9828,Spiele!B:B,Spiele!E:E))","v":""},{"$f":"IF(B9828=\"\",\"\",LOOKUP(B9828,Spiele!B:B,Spiele!F:F))","v":""},"","","",null,null,-1,-1,1,0]
[null,null,{"$f":"IF(B9829=\"\",\"\",LOOKUP(B9829,Spiele!B:B,Spiele!C:C))","v":""},{"$f":"IF(B9829=\"\",\"\",LOOKUP(B9829,Spiele!B:B,Spiele!D:D))","v":""},{"$f":"IF(B9829=\"\",\"\",LOOKUP(B9829,Spiele!B:B,Spiele!E:E))","v":""},{"$f":"IF(B9829=\"\",\"\",LOOKUP(B9829,Spiele!B:B,Spiele!F:F))","v":""},"","","",null,null,-1,-1,1,0]
[null,null,{"$f":"IF(B9830=\"\",\"\",LOOKUP(B9830,Spiele!B:B,Spiele!C:C))","v":""},{"$f":"IF(B9830=\"\",\"\",LOOKUP(B9830,Spiele!B:B,Spiele!D:D))","v":""},{"$f":"IF(B9830=\"\",\"\",LOOKUP(B9830,Spiele!B:B,Spiele!E:E))","v":""},{"$f":"IF(B9830=\"\",\"\",LOOKUP(B9830,Spiele!B:B,Spiele!F:F))","v":""},"","","",null,null,-1,-1,1,0]
[null,null,{"$f":"IF(B9831=\"\",\"\",LOOKUP(B9831,Spiele!B:B,Spiele!C:C))","v":""},{"$f":"IF(B9831=\"\",\"\",LOOKUP(B9831,Spiele!B:B,Spiele!D:D))","v":""},{"$f":"IF(B9831=\"\",\"\",LOOKUP(B9831,Spiele!B:B,Spiele!E:E))","v":""},{"$f":"IF(B9831=\"\",\"\",LOOKUP(B9831,Spiele!B:B,Spiele!F:F))","v":""},"","","",null,null,-1,-1,1,0]
[null,null,{"$f":"IF(B9832=\"\",\"\",LOOKUP(B9832,Spiele!B:B,Spiele!C:C))","v":""},{"$f":"IF(B9832=\"\",\"\",LOOKUP(B9832,Spiele!B:B,Spiele!D:D))","v":""},{"$f":"IF(B9832=\"\",\"\",LOOKUP(B9832,Spiele!B:B,Spiele!E:E))","v":""},{"$f":"IF(B9832=\"\",\"\",LOOKUP(B9832,Spiele!B:B,Spiele!F:F))","v":""},"","","",null,null,-1,-1,1,0]
[null,null,{"$f":"IF(B9833=\"\",\"\",LOOKUP(B9833,Spiele!B:B,Spiele!C:C))","v":""},{"$f":"IF(B9833=\"\",\"\",LOOKUP(B9833,Spiele!B:B,Spiele!D:D))","v":""},{"$f":"IF(B9833=\"\",\"\",LOOKUP(B9833,Spiele!B:B,Spiele!E:E))","v":""},{"$f":"IF(B9833=\"\",\"\",LOOKUP(B9833,Spiele!B:B,Spiele!F:F))","v":""},"","","",null,null,-1,-1,1,0]
[null,null,{"$f":"IF(B9834=\"\",\"\",LOOKUP(B9834,Spiele!B:B,Spiele!C:C))","v":""},{"$f":"IF(B9834=\"\",\"\",LOOKUP(B9834,Spiele!B:B,Spiele!D:D))","v":""},{"$f":"IF(B9834=\"\",\"\",LOOKUP(B9834,Spiele!B:B,Spiele!E:E))","v":""},{"$f":"IF(B9834=\"\",\"\",LOOKUP(B9834,Spiele!B:B,Spiele!F:F))","v":""},"","","",null,null,-1,-1,1,0]
[null,null,{"$f":"IF(B9835=\"\",\"\",LOOKUP(B9835,Spiele!B:B,Spiele!C:C))","v":""},{"$f":"IF(B9835=\"\",\"\",LOOKUP(B9835,Spiele!B:B,Spiele!D:D))","v":""},{"$f":"IF(B9835=\"\",\"\",LOOKUP(B9835,Spiele!B:B,Spiele!E:E))","v":""},{"$f":"IF(B9835=\"\",\"\",LOOKUP(B9835,Spiele!B:B,Spiele!F:F))","v":""},"","","",null,null,-1,-1,1,0]
[null,null,{"$f":"IF(B9836=\"\",\"\",LOOKUP(B9836,Spiele!B:B,Spiele!C:C))","v":""},{"$f":"IF(B9836=\"\",\"\",LOOKUP(B9836,Spiele!B:B,Spiele!D:D))","v":""},{"$f":"IF(B9836=\"\",\"\",LOOKUP(B9836,Spiele!B:B,Spiele!E:E))","v":""},{"$f":"IF(B9836=\"\",\"\",LOOKUP(B9836,Spiele!B:B,Spiele!F:F))","v":""},"","","",null,null,-1,-1,1,0]
[null,null,{"$f":"IF(B9837=\"\",\"\",LOOKUP(B9837,Spiele!B:B,Spiele!C:C))","v":""},{"$f":"IF(B9837=\"\",\"\",LOOKUP(B9837,Spiele!B:B,Spiele!D:D))","v":""},{"$f":"IF(B9837=\"\",\"\",LOOKUP(B9837,Spiele!B:B,Spiele!E:E))","v":""},{"$f":"IF(B9837=\"\",\"\",LOOKUP(B9837,Spiele!B:B,Spiele!F:F))","v":""},"","","",null,null,-1,-1,1,0]
[null,null,{"$f":"IF(B9838=\"\",\"\",LOOKUP(B9838,Spiele!B:B,Spiele!C:C))","v":""},{"$f":"IF(B9838=\"\",\"\",LOOKUP(B9838,Spiele!B:B,Spiele!D:D))","v":""},{"$f":"IF(B9838=\"\",\"\",LOOKUP(B9838,Spiele!B:B,Spiele!E:E))","v":""},{"$f":"IF(B9838=\"\",\"\",LOOKUP(B9838,Spiele!B:B,Spiele!F:F))","v":""},"","","",null,null,-1,-1,1,0]
[null,null,{"$f":"IF(B9839=\"\",\"\",LOOKUP(B9839,Spiele!B:B,Spiele!C:C))","v":""},{"$f":"IF(B9839=\"\",\"\",LOOKUP(B9839,Spiele!B:B,Spiele!D:D))","v":""},{"$f":"IF(B9839=\"\",\"\",LOOKUP(B9839,Spiele!B:B,Spiele!E:E))","v":""},{"$f":"IF(B9839=\"\",\"\",LOOKUP(B9839,Spiele!B:B,Spiele!F:F))","v":""},"","","",null,null,-1,-1,1,0]
[null,null,{"$f":"IF(B9840=\"\",\"\",LOOKUP(B9840,Spiele!B:B,Spiele!C:C))","v":""},{"$f":"IF(B9840=\"\",\"\",LOOKUP(B9840,Spiele!B:B,Spiele!D:D))","v":""},{"$f":"IF(B9840=\"\",\"\",LOOKUP(B9840,Spiele!B:B,Spiele!E:E))","v":""},{"$f":"IF(B9840=\"\",\"\",LOOKUP(B9840,Spiele!B:B,Spiele!F:F))","v":""},"","","",null,null,-1,-1,1,0]
[null,null,{"$f":"IF(B9841=\"\",\"\",LOOKUP(B9841,Spiele!B:B,Spiele!C:C))","v":""},{"$f":"IF(B9841=\"\",\"\",LOOKUP(B9841,Spiele!B:B,Spiele!D:D))","v":""},{"$f":"IF(B9841=\"\",\"\",LOOKUP(B9841,Spiele!B:B,Spiele!E:E))","v":""},{"$f":"IF(B9841=\"\",\"\",LOOKUP(B9841,Spiele!B:B,Spiele!F:F))","v":""},"","","",null,null,-1,-1,1,0]
[null,null,{"$f":"IF(B9842=\"\",\"\",LOOKUP(B9842,Spiele!B:B,Spiele!C:C))","v":""},{"$f":"IF(B9842=\"\",\"\",LOOKUP(B9842,Spiele!B:B,Spiele!D:D))","v":""},{"$f":"IF(B9842=\"\",\"\",LOOKUP(B9842,Spiele!B:B,Spiele!E:E))","v":""},{"$f":"IF(B9842=\"\",\"\",LOOKUP(B9842,Spiele!B:B,Spiele!F:F))","v":""},"","","",null,null,-1,-1,1,0]
[null,null,{"$f":"IF(B9843=\"\",\"\",LOOKUP(B9843,Spiele!B:B,Spiele!C:C))","v":""},{"$f":"IF(B9843=\"\",\"\",LOOKUP(B9843,Spiele!B:B,Spiele!D:D))","v":""},{"$f":"IF(B9843=\"\",\"\",LOOKUP(B9843,Spiele!B:B,Spiele!E:E))","v":""},{"$f":"IF(B9843=\"\",\"\",LOOKUP(B9843,Spiele!B:B,Spiele!F:F))","v":""},"","","",null,null,-1,-1,1,0]
[null,null,{"$f":"IF(B9844=\"\",\"\",LOOKUP(B9844,Spiele!B:B,Spiele!C:C))","v":""},{"$f":"IF(B9844=\"\",\"\",LOOKUP(B9844,Spiele!B:B,Spiele!D:D))","v":""},{"$f":"IF(B9844=\"\",\"\",LOOKUP(B9844,Spiele!B:B,Spiele!E:E))","v":""},{"$f":"IF(B9844=\"\",\"\",LOOKUP(B9844,Spiele!B:B,Spiele!F:F))","v":""},"","","",null,null,-1,-1,1,0]
[null,null,{"$f":"IF(B9845=\"\",\"\",LOOKUP(B9845,Spiele!B:B,Spiele!C:C))","v":""},{"$f":"IF(B9845=\"\",\"\",LOOKUP(B9845,Spiele!B:B,Spiele!D:D))","v":""},{"$f":"IF(B9845=\"\",\"\",LOOKUP(B9845,Spiele!B:B,Spiele!E:E))","v":""},{"$f":"IF(B9845=\"\",\"\",LOOKUP(B9845,Spiele!B:B,Spiele!F:F))","v":""},"","","",null,null,-1,-1,1,0]
[null,null,{"$f":"IF(B9846=\"\",\"\",LOOKUP(B9846,Spiele!B:B,Spiele!C:C))","v":""},{"$f":"IF(B9846=\"\",\"\",LOOKUP(B9846,Spiele!B:B,Spiele!D:D))","v":""},{"$f":"IF(B9846=\"\",\"\",LOOKUP(B9846,Spiele!B:B,Spiele!E:E))","v":""},{"$f":"IF(B9846=\"\",\"\",LOOKUP(B9846,Spiele!B:B,Spiele!F:F))","v":""},"","","",null,null,-1,-1,1,0]
[null,null,{"$f":"IF(B9847=\"\",\"\",LOOKUP(B9847,Spiele!B:B,Spiele!C:C))","v":""},{"$f":"IF(B9847=\"\",\"\",LOOKUP(B9847,Spiele!B:B,Spiele!D:D))","v":""},{"$f":"IF(B9847=\"\",\"\",LOOKUP(B9847,Spiele!B:B,Spiele!E:E))","v":""},{"$f":"IF(B9847=\"\",\"\",LOOKUP(B9847,Spiele!B:B,Spiele!F:F))","v":""},"","","",null,null,-1,-1,1,0]
[null,null,{"$f":"IF(B9848=\"\",\"\",LOOKUP(B9848,Spiele!B:B,Spiele!C:C))","v":""},{"$f":"IF(B9848=\"\",\"\",LOOKUP(B9848,Spiele!B:B,Spiele!D:D))","v":""},{"$f":"IF(B9848=\"\",\"\",LOOKUP(B9848,Spiele!B:B,Spiele!E:E))","v":""},{"$f":"IF(B9848=\"\",\"\",LOOKUP(B9848,Spiele!B:B,Spiele!F:F))","v":""},"","","",null,null,-1,-1,1,0]
[null,null,{"$f":"IF(B9849=\"\",\"\",LOOKUP(B9849,Spiele!B:B,Spiele!C:C))","v":""},{"$f":"IF(B9849=\"\",\"\",LOOKUP(B9849,Spiele!B:B,Spiele!D:D))","v":""},{"$f":"IF(B9849=\"\",\"\",LOOKUP(B9849,Spiele!B:B,Spiele!E:E))","v":""},{"$f":"IF(B9849=\"\",\"\",LOOKUP(B9849,Spiele!B:B,Spiele!F:F))","v":""},"","","",null,null,-1,-1,1,0]
[null,null,{"$f":"IF(B9850=\"\",\"\",LOOKUP(B9850,Spiele!B:B,Spiele!C:C))","v":""},{"$f":"IF(B9850=\"\",\"\",LOOKUP(B9850,Spiele!B:B,Spiele!D:D))","v":""},{"$f":"IF(B9850=\"\",\"\",LOOKUP(B9850,Spiele!B:B,Spiele!E:E))","v":""},{"$f":"IF(B9850=\"\",\"\",LOOKUP(B9850,Spiele!B:B,Spiele!F:F))","v":""},"","","",null,null,-1,-1,1,0]
[null,null,{"$f":"IF(B9851=\"\",\"\",LOOKUP(B9851,Spiele!B:B,Spiele!C:C))","v":""},{"$f":"IF(B9851=\"\",\"\",LOOKUP(B9851,Spiele!B:B,Spiele!D:D))","v":""},{"$f":"IF(B9851=\"\",\"\",LOOKUP(B9851,Spiele!B:B,Spiele!E:E))","v":""},{"$f":"IF(B9851=\"\",\"\",LOOKUP(B9851,Spiele!B:B,Spiele!F:F))","v":""},"","","",null,null,-1,-1,1,0]
[null,null,{"$f":"IF(B9852=\"\",\"\",LOOKUP(B9852,Spiele!B:B,Spiele!C:C))","v":""},{"$f":"IF(B9852=\"\",\"\",LOOKUP(B9852,Spiele!B:B,Spiele!D:D))","v":""},{"$f":"IF(B9852=\"\",\"\",LOOKUP(B9852,Spiele!B:B,Spiele!E:E))","v":""},{"$f":"IF(B9852=\"\",\"\",LOOKUP(B9852,Spiele!B:B,Spiele!F:F))","v":""},"","","",null,null,-1,-1,1,0]
[null,null,{"$f":"IF(B9853=\"\",\"\",LOOKUP(B9853,Spiele!B:B,Spiele!C:C))","v":""},{"$f":"IF(B9853=\"\",\"\",LOOKUP(B9853,Spiele!B:B,Spiele!D:D))","v":""},{"$f":"IF(B9853=\"\",\"\",LOOKUP(B9853,Spiele!B:B,Spiele!E:E))","v":""},{"$f":"IF(B9853=\"\",\"\",LOOKUP(B9853,Spiele!B:B,Spiele!F:F))","v":""},"","","",null,null,-1,-1,1,0]
[null,null,{"$f":"IF(B9854=\"\",\"\",LOOKUP(B9854,Spiele!B:B,Spiele!C:C))","v":""},{"$f":"IF(B9854=\"\",\"\",LOOKUP(B9854,Spiele!B:B,Spiele!D:D))","v":""},{"$f":"IF(B9854=\"\",\"\",LOOKUP(B9854,Spiele!B:B,Spiele!E:E))","v":""},{"$f":"IF(B9854=\"\",\"\",LOOKUP(B9854,Spiele!B:B,Spiele!F:F))","v":""},"","","",null,null,-1,-1,1,0]
[null,null,{"$f":"IF(B9855=\"\",\"\",LOOKUP(B9855,Spiele!B:B,Spiele!C:C))","v":""},{"$f":"IF(B9855=\"\",\"\",LOOKUP(B9855,Spiele!B:B,Spiele!D:D))","v":""},{"$f":"IF(B9855=\"\",\"\",LOOKUP(B9855,Spiele!B:B,Spiele!E:E))","v":""},{"$f":"IF(B9855=\"\",\"\",LOOKUP(B9855,Spiele!B:B,Spiele!F:F))","v":""},"","","",null,null,-1,-1,1,0]
[null,null,{"$f":"IF(B9856=\"\",\"\",LOOKUP(B9856,Spiele!B:B,Spiele!C:C))","v":""},{"$f":"IF(B9856=\"\",\"\",LOOKUP(B9856,Spiele!B:B,Spiele!D:D))","v":""},{"$f":"IF(B9856=\"\",\"\",LOOKUP(B9856,Spiele!B:B,Spiele!E:E))","v":""},{"$f":"IF(B9856=\"\",\"\",LOOKUP(B9856,Spiele!B:B,Spiele!F:F))","v":""},"","","",null,null,-1,-1,1,0]
[null,null,{"$f":"IF(B9857=\"\",\"\",LOOKUP(B9857,Spiele!B:B,Spiele!C:C))","v":""},{"$f":"IF(B9857=\"\",\"\",LOOKUP(B9857,Spiele!B:B,Spiele!D:D))","v":""},{"$f":"IF(B9857=\"\",\"\",LOOKUP(B9857,Spiele!B:B,Spiele!E:E))","v":""},{"$f":"IF(B9857=\"\",\"\",LOOKUP(B9857,Spiele!B:B,Spiele!F:F))","v":""},"","","",null,null,-1,-1,1,0]
[null,null,{"$f":"IF(B9858=\"\",\"\",LOOKUP(B9858,Spiele!B:B,Spiele!C:C))","v":""},{"$f":"IF(B9858=\"\",\"\",LOOKUP(B9858,Spiele!B:B,Spiele!D:D))","v":""},{"$f":"IF(B9858=\"\",\"\",LOOKUP(B9858,Spiele!B:B,Spiele!E:E))","v":""},{"$f":"IF(B9858=\"\",\"\",LOOKUP(B9858,Spiele!B:B,Spiele!F:F))","v":""},"","","",null,null,-1,-1,1,0]
[null,null,{"$f":"IF(B9859=\"\",\"\",LOOKUP(B9859,Spiele!B:B,Spiele!C:C))","v":""},{"$f":"IF(B9859=\"\",\"\",LOOKUP(B9859,Spiele!B:B,Spiele!D:D))","v":""},{"$f":"IF(B9859=\"\",\"\",LOOKUP(B9859,Spiele!B:B,Spiele!E:E))","v":""},{"$f":"IF(B9859=\"\",\"\",LOOKUP(B9859,Spiele!B:B,Spiele!F:F))","v":""},"","","",null,null,-1,-1,1,0]
[null,null,{"$f":"IF(B9860=\"\",\"\",LOOKUP(B9860,Spiele!B:B,Spiele!C:C))","v":""},{"$f":"IF(B9860=\"\",\"\",LOOKUP(B9860,Spiele!B:B,Spiele!D:D))","v":""},{"$f":"IF(B9860=\"\",\"\",LOOKUP(B9860,Spiele!B:B,Spiele!E:E))","v":""},{"$f":"IF(B9860=\"\",\"\",LOOKUP(B9860,Spiele!B:B,Spiele!F:F))","v":""},"","","",null,null,-1,-1,1,0]
[null,null,{"$f":"IF(B9861=\"\",\"\",LOOKUP(B9861,Spiele!B:B,Spiele!C:C))","v":""},{"$f":"IF(B9861=\"\",\"\",LOOKUP(B9861,Spiele!B:B,Spiele!D:D))","v":""},{"$f":"IF(B9861=\"\",\"\",LOOKUP(B9861,Spiele!B:B,Spiele!E:E))","v":""},{"$f":"IF(B9861=\"\",\"\",LOOKUP(B9861,Spiele!B:B,Spiele!F:F))","v":""},"","","",null,null,-1,-1,1,0]
[null,null,{"$f":"IF(B9862=\"\",\"\",LOOKUP(B9862,Spiele!B:B,Spiele!C:C))","v":""},{"$f":"IF(B9862=\"\",\"\",LOOKUP(B9862,Spiele!B:B,Spiele!D:D))","v":""},{"$f":"IF(B9862=\"\",\"\",LOOKUP(B9862,Spiele!B:B,Spiele!E:E))","v":""},{"$f":"IF(B9862=\"\",\"\",LOOKUP(B9862,Spiele!B:B,Spiele!F:F))","v":""},"","","",null,null,-1,-1,1,0]
[null,null,{"$f":"IF(B9863=\"\",\"\",LOOKUP(B9863,Spiele!B:B,Spiele!C:C))","v":""},{"$f":"IF(B9863=\"\",\"\",LOOKUP(B9863,Spiele!B:B,Spiele!D:D))","v":""},{"$f":"IF(B9863=\"\",\"\",LOOKUP(B9863,Spiele!B:B,Spiele!E:E))","v":""},{"$f":"IF(B9863=\"\",\"\",LOOKUP(B9863,Spiele!B:B,Spiele!F:F))","v":""},"","","",null,null,-1,-1,1,0]
[null,null,{"$f":"IF(B9864=\"\",\"\",LOOKUP(B9864,Spiele!B:B,Spiele!C:C))","v":""},{"$f":"IF(B9864=\"\",\"\",LOOKUP(B9864,Spiele!B:B,Spiele!D:D))","v":""},{"$f":"IF(B9864=\"\",\"\",LOOKUP(B9864,Spiele!B:B,Spiele!E:E))","v":""},{"$f":"IF(B9864=\"\",\"\",LOOKUP(B9864,Spiele!B:B,Spiele!F:F))","v":""},"","","",null,null,-1,-1,1,0]
[null,null,{"$f":"IF(B9865=\"\",\"\",LOOKUP(B9865,Spiele!B:B,Spiele!C:C))","v":""},{"$f":"IF(B9865=\"\",\"\",LOOKUP(B9865,Spiele!B:B,Spiele!D:D))","v":""},{"$f":"IF(B9865=\"\",\"\",LOOKUP(B9865,Spiele!B:B,Spiele!E:E))","v":""},{"$f":"IF(B9865=\"\",\"\",LOOKUP(B9865,Spiele!B:B,Spiele!F:F))","v":""},"","","",null,null,-1,-1,1,0]
[null,null,{"$f":"IF(B9866=\"\",\"\",LOOKUP(B9866,Spiele!B:B,Spiele!C:C))","v":""},{"$f":"IF(B9866=\"\",\"\",LOOKUP(B9866,Spiele!B:B,Spiele!D:D))","v":""},{"$f":"IF(B9866=\"\",\"\",LOOKUP(B9866,Spiele!B:B,Spiele!E:E))","v":""},{"$f":"IF(B9866=\"\",\"\",LOOKUP(B9866,Spiele!B:B,Spiele!F:F))","v":""},"","","",null,null,-1,-1,1,0]
[null,null,{"$f":"IF(B9867=\"\",\"\",LOOKUP(B9867,Spiele!B:B,Spiele!C:C))","v":""},{"$f":"IF(B9867=\"\",\"\",LOOKUP(B9867,Spiele!B:B,Spiele!D:D))","v":""},{"$f":"IF(B9867=\"\",\"\",LOOKUP(B9867,Spiele!B:B,Spiele!E:E))","v":""},{"$f":"IF(B9867=\"\",\"\",LOOKUP(B9867,Spiele!B:B,Spiele!F:F))","v":""},"","","",null,null,-1,-1,1,0]
[null,null,{"$f":"IF(B9868=\"\",\"\",LOOKUP(B9868,Spiele!B:B,Spiele!C:C))","v":""},{"$f":"IF(B9868=\"\",\"\",LOOKUP(B9868,Spiele!B:B,Spiele!D:D))","v":""},{"$f":"IF(B9868=\"\",\"\",LOOKUP(B9868,Spiele!B:B,Spiele!E:E))","v":""},{"$f":"IF(B9868=\"\",\"\",LOOKUP(B9868,Spiele!B:B,Spiele!F:F))","v":""},"","","",null,null,-1,-1,1,0]
[null,null,{"$f":"IF(B9869=\"\",\"\",LOOKUP(B9869,Spiele!B:B,Spiele!C:C))","v":""},{"$f":"IF(B9869=\"\",\"\",LOOKUP(B9869,Spiele!B:B,Spiele!D:D))","v":""},{"$f":"IF(B9869=\"\",\"\",LOOKUP(B9869,Spiele!B:B,Spiele!E:E))","v":""},{"$f":"IF(B9869=\"\",\"\",LOOKUP(B9869,Spiele!B:B,Spiele!F:F))","v":""},"","","",null,null,-1,-1,1,0]
[null,null,{"$f":"IF(B9870=\"\",\"\",LOOKUP(B9870,Spiele!B:B,Spiele!C:C))","v":""},{"$f":"IF(B9870=\"\",\"\",LOOKUP(B9870,Spiele!B:B,Spiele!D:D))","v":""},{"$f":"IF(B9870=\"\",\"\",LOOKUP(B9870,Spiele!B:B,Spiele!E:E))","v":""},{"$f":"IF(B9870=\"\",\"\",LOOKUP(B9870,Spiele!B:B,Spiele!F:F))","v":""},"","","",null,null,-1,-1,1,0]
[null,null,{"$f":"IF(B9871=\"\",\"\",LOOKUP(B9871,Spiele!B:B,Spiele!C:C))","v":""},{"$f":"IF(B9871=\"\",\"\",LOOKUP(B9871,Spiele!B:B,Spiele!D:D))","v":""},{"$f":"IF(B9871=\"\",\"\",LOOKUP(B9871,Spiele!B:B,Spiele!E:E))","v":""},{"$f":"IF(B9871=\"\",\"\",LOOKUP(B9871,Spiele!B:B,Spiele!F:F))","v":""},"","","",null,null,-1,-1,1,0]
[null,null,{"$f":"IF(B9872=\"\",\"\",LOOKUP(B9872,Spiele!B:B,Spiele!C:C))","v":""},{"$f":"IF(B9872=\"\",\"\",LOOKUP(B9872,Spiele!B:B,Spiele!D:D))","v":""},{"$f":"IF(B9872=\"\",\"\",LOOKUP(B9872,Spiele!B:B,Spiele!E:E))","v":""},{"$f":"IF(B9872=\"\",\"\",LOOKUP(B9872,Spiele!B:B,Spiele!F:F))","v":""},"","","",null,null,-1,-1,1,0]
[null,null,{"$f":"IF(B9873=\"\",\"\",LOOKUP(B9873,Spiele!B:B,Spiele!C:C))","v":""},{"$f":"IF(B9873=\"\",\"\",LOOKUP(B9873,Spiele!B:B,Spiele!D:D))","v":""},{"$f":"IF(B9873=\"\",\"\",LOOKUP(B9873,Spiele!B:B,Spiele!E:E))","v":""},{"$f":"IF(B9873=\"\",\"\",LOOKUP(B9873,Spiele!B:B,Spiele!F:F))","v":""},"","","",null,null,-1,-1,1,0]
[null,null,{"$f":"IF(B9874=\"\",\"\",LOOKUP(B9874,Spiele!B:B,Spiele!C:C))","v":""},{"$f":"IF(B9874=\"\",\"\",LOOKUP(B9874,Spiele!B:B,Spiele!D:D))","v":""},{"$f":"IF(B9874=\"\",\"\",LOOKUP(B9874,Spiele!B:B,Spiele!E:E))","v":""},{"$f":"IF(B9874=\"\",\"\",LOOKUP(B9874,Spiele!B:B,Spiele!F:F))","v":""},"","","",null,null,-1,-1,1,0]
[null,null,{"$f":"IF(B9875=\"\",\"\",LOOKUP(B9875,Spiele!B:B,Spiele!C:C))","v":""},{"$f":"IF(B9875=\"\",\"\",LOOKUP(B9875,Spiele!B:B,Spiele!D:D))","v":""},{"$f":"IF(B9875=\"\",\"\",LOOKUP(B9875,Spiele!B:B,Spiele!E:E))","v":""},{"$f":"IF(B9875=\"\",\"\",LOOKUP(B9875,Spiele!B:B,Spiele!F:F))","v":""},"","","",null,null,-1,-1,1,0]
[null,null,{"$f":"IF(B9876=\"\",\"\",LOOKUP(B9876,Spiele!B:B,Spiele!C:C))","v":""},{"$f":"IF(B9876=\"\",\"\",LOOKUP(B9876,Spiele!B:B,Spiele!D:D))","v":""},{"$f":"IF(B9876=\"\",\"\",LOOKUP(B9876,Spiele!B:B,Spiele!E:E))","v":""},{"$f":"IF(B9876=\"\",\"\",LOOKUP(B9876,Spiele!B:B,Spiele!F:F))","v":""},"","","",null,null,-1,-1,1,0]
[null,null,{"$f":"IF(B9877=\"\",\"\",LOOKUP(B9877,Spiele!B:B,Spiele!C:C))","v":""},{"$f":"IF(B9877=\"\",\"\",LOOKUP(B9877,Spiele!B:B,Spiele!D:D))","v":""},{"$f":"IF(B9877=\"\",\"\",LOOKUP(B9877,Spiele!B:B,Spiele!E:E))","v":""},{"$f":"IF(B9877=\"\",\"\",LOOKUP(B9877,Spiele!B:B,Spiele!F:F))","v":""},"","","",null,null,-1,-1,1,0]
[null,null,{"$f":"IF(B9878=\"\",\"\",LOOKUP(B9878,Spiele!B:B,Spiele!C:C))","v":""},{"$f":"IF(B9878=\"\",\"\",LOOKUP(B9878,Spiele!B:B,Spiele!D:D))","v":""},{"$f":"IF(B9878=\"\",\"\",LOOKUP(B9878,Spiele!B:B,Spiele!E:E))","v":""},{"$f":"IF(B9878=\"\",\"\",LOOKUP(B9878,Spiele!B:B,Spiele!F:F))","v":""},"","","",null,null,-1,-1,1,0]
[null,null,{"$f":"IF(B9879=\"\",\"\",LOOKUP(B9879,Spiele!B:B,Spiele!C:C))","v":""},{"$f":"IF(B9879=\"\",\"\",LOOKUP(B9879,Spiele!B:B,Spiele!D:D))","v":""},{"$f":"IF(B9879=\"\",\"\",LOOKUP(B9879,Spiele!B:B,Spiele!E:E))","v":""},{"$f":"IF(B9879=\"\",\"\",LOOKUP(B9879,Spiele!B:B,Spiele!F:F))","v":""},"","","",null,null,-1,-1,1,0]
[null,null,{"$f":"IF(B9880=\"\",\"\",LOOKUP(B9880,Spiele!B:B,Spiele!C:C))","v":""},{"$f":"IF(B9880=\"\",\"\",LOOKUP(B9880,Spiele!B:B,Spiele!D:D))","v":""},{"$f":"IF(B9880=\"\",\"\",LOOKUP(B9880,Spiele!B:B,Spiele!E:E))","v":""},{"$f":"IF(B9880=\"\",\"\",LOOKUP(B9880,Spiele!B:B,Spiele!F:F))","v":""},"","","",null,null,-1,-1,1,0]
[null,null,{"$f":"IF(B9881=\"\",\"\",LOOKUP(B9881,Spiele!B:B,Spiele!C:C))","v":""},{"$f":"IF(B9881=\"\",\"\",LOOKUP(B9881,Spiele!B:B,Spiele!D:D))","v":""},{"$f":"IF(B9881=\"\",\"\",LOOKUP(B9881,Spiele!B:B,Spiele!E:E))","v":""},{"$f":"IF(B9881=\"\",\"\",LOOKUP(B9881,Spiele!B:B,Spiele!F:F))","v":""},"","","",null,null,-1,-1,1,0]
[null,null,{"$f":"IF(B9882=\"\",\"\",LOOKUP(B9882,Spiele!B:B,Spiele!C:C))","v":""},{"$f":"IF(B9882=\"\",\"\",LOOKUP(B9882,Spiele!B:B,Spiele!D:D))","v":""},{"$f":"IF(B9882=\"\",\"\",LOOKUP(B9882,Spiele!B:B,Spiele!E:E))","v":""},{"$f":"IF(B9882=\"\",\"\",LOOKUP(B9882,Spiele!B:B,Spiele!F:F))","v":""},"","","",null,null,-1,-1,1,0]
[null,null,{"$f":"IF(B9883=\"\",\"\",LOOKUP(B9883,Spiele!B:B,Spiele!C:C))","v":""},{"$f":"IF(B9883=\"\",\"\",LOOKUP(B9883,Spiele!B:B,Spiele!D:D))","v":""},{"$f":"IF(B9883=\"\",\"\",LOOKUP(B9883,Spiele!B:B,Spiele!E:E))","v":""},{"$f":"IF(B9883=\"\",\"\",LOOKUP(B9883,Spiele!B:B,Spiele!F:F))","v":""},"","","",null,null,-1,-1,1,0]
[null,null,{"$f":"IF(B9884=\"\",\"\",LOOKUP(B9884,Spiele!B:B,Spiele!C:C))","v":""},{"$f":"IF(B9884=\"\",\"\",LOOKUP(B9884,Spiele!B:B,Spiele!D:D))","v":""},{"$f":"IF(B9884=\"\",\"\",LOOKUP(B9884,Spiele!B:B,Spiele!E:E))","v":""},{"$f":"IF(B9884=\"\",\"\",LOOKUP(B9884,Spiele!B:B,Spiele!F:F))","v":""},"","","",null,null,-1,-1,1,0]
[null,null,{"$f":"IF(B9885=\"\",\"\",LOOKUP(B9885,Spiele!B:B,Spiele!C:C))","v":""},{"$f":"IF(B9885=\"\",\"\",LOOKUP(B9885,Spiele!B:B,Spiele!D:D))","v":""},{"$f":"IF(B9885=\"\",\"\",LOOKUP(B9885,Spiele!B:B,Spiele!E:E))","v":""},{"$f":"IF(B9885=\"\",\"\",LOOKUP(B9885,Spiele!B:B,Spiele!F:F))","v":""},"","","",null,null,-1,-1,1,0]
[null,null,{"$f":"IF(B9886=\"\",\"\",LOOKUP(B9886,Spiele!B:B,Spiele!C:C))","v":""},{"$f":"IF(B9886=\"\",\"\",LOOKUP(B9886,Spiele!B:B,Spiele!D:D))","v":""},{"$f":"IF(B9886=\"\",\"\",LOOKUP(B9886,Spiele!B:B,Spiele!E:E))","v":""},{"$f":"IF(B9886=\"\",\"\",LOOKUP(B9886,Spiele!B:B,Spiele!F:F))","v":""},"","","",null,null,-1,-1,1,0]
[null,null,{"$f":"IF(B9887=\"\",\"\",LOOKUP(B9887,Spiele!B:B,Spiele!C:C))","v":""},{"$f":"IF(B9887=\"\",\"\",LOOKUP(B9887,Spiele!B:B,Spiele!D:D))","v":""},{"$f":"IF(B9887=\"\",\"\",LOOKUP(B9887,Spiele!B:B,Spiele!E:E))","v":""},{"$f":"IF(B9887=\"\",\"\",LOOKUP(B9887,Spiele!B:B,Spiele!F:F))","v":""},"","","",null,null,-1,-1,1,0]
[null,null,{"$f":"IF(B9888=\"\",\"\",LOOKUP(B9888,Spiele!B:B,Spiele!C:C))","v":""},{"$f":"IF(B9888=\"\",\"\",LOOKUP(B9888,Spiele!B:B,Spiele!D:D))","v":""},{"$f":"IF(B9888=\"\",\"\",LOOKUP(B9888,Spiele!B:B,Spiele!E:E))","v":""},{"$f":"IF(B9888=\"\",\"\",LOOKUP(B9888,Spiele!B:B,Spiele!F:F))","v":""},{"$f":"IF(E9888=\"\",\"\",IF(E9888>F9888,1,0))","v":""},{"$f":"IF(F9888=\"\",\"\",IF(E9888<F9888,1,0))","v":""},{"$f":"IF(E9888=\"\",\"\",IF(E9888=F9888,1,0))","v":""},null,null,{"$f":"IF(E9888=\"\",-1,IF(J9888>K9888,1,-1))","v":-1},{"$f":"IF(F9888=\"\",-1,IF(J9888<K9888,1,-1))","v":-1},{"$f":"IF(E9888=\"-\",-1,IF(J9888=K9888,1,-1))","v":1},{"$f":"IF(E9888=\"\",0,IF(E9888=J9888,1,0)+IF(F9888=K9888,1,0)+IF(G9888=L9888,1,0)+IF(H9888=M9888,1,0)+IF(I9888=N9888,1,0))","v":0}]
[null,null,{"$f":"IF(B9889=\"\",\"\",LOOKUP(B9889,Spiele!B:B,Spiele!C:C))","v":""},{"$f":"IF(B9889=\"\",\"\",LOOKUP(B9889,Spiele!B:B,Spiele!D:D))","v":""},{"$f":"IF(B9889=\"\",\"\",LOOKUP(B9889,Spiele!B:B,Spiele!E:E))","v":""},{"$f":"IF(B9889=\"\",\"\",LOOKUP(B9889,Spiele!B:B,Spiele!F:F))","v":""},"","","",null,null,-1,-1,1,0]
[null,null,{"$f":"IF(B9890=\"\",\"\",LOOKUP(B9890,Spiele!B:B,Spiele!C:C))","v":""},{"$f":"IF(B9890=\"\",\"\",LOOKUP(B9890,Spiele!B:B,Spiele!D:D))","v":""},{"$f":"IF(B9890=\"\",\"\",LOOKUP(B9890,Spiele!B:B,Spiele!E:E))","v":""},{"$f":"IF(B9890=\"\",\"\",LOOKUP(B9890,Spiele!B:B,Spiele!F:F))","v":""},"","","",null,null,-1,-1,1,0]
[null,null,{"$f":"IF(B9891=\"\",\"\",LOOKUP(B9891,Spiele!B:B,Spiele!C:C))","v":""},{"$f":"IF(B9891=\"\",\"\",LOOKUP(B9891,Spiele!B:B,Spiele!D:D))","v":""},{"$f":"IF(B9891=\"\",\"\",LOOKUP(B9891,Spiele!B:B,Spiele!E:E))","v":""},{"$f":"IF(B9891=\"\",\"\",LOOKUP(B9891,Spiele!B:B,Spiele!F:F))","v":""},"","","",null,null,-1,-1,1,0]
[null,null,{"$f":"IF(B9892=\"\",\"\",LOOKUP(B9892,Spiele!B:B,Spiele!C:C))","v":""},{"$f":"IF(B9892=\"\",\"\",LOOKUP(B9892,Spiele!B:B,Spiele!D:D))","v":""},{"$f":"IF(B9892=\"\",\"\",LOOKUP(B9892,Spiele!B:B,Spiele!E:E))","v":""},{"$f":"IF(B9892=\"\",\"\",LOOKUP(B9892,Spiele!B:B,Spiele!F:F))","v":""},"","","",null,null,-1,-1,1,0]
[null,null,{"$f":"IF(B9893=\"\",\"\",LOOKUP(B9893,Spiele!B:B,Spiele!C:C))","v":""},{"$f":"IF(B9893=\"\",\"\",LOOKUP(B9893,Spiele!B:B,Spiele!D:D))","v":""},{"$f":"IF(B9893=\"\",\"\",LOOKUP(B9893,Spiele!B:B,Spiele!E:E))","v":""},{"$f":"IF(B9893=\"\",\"\",LOOKUP(B9893,Spiele!B:B,Spiele!F:F))","v":""},"","","",null,null,-1,-1,1,0]
[null,null,{"$f":"IF(B9894=\"\",\"\",LOOKUP(B9894,Spiele!B:B,Spiele!C:C))","v":""},{"$f":"IF(B9894=\"\",\"\",LOOKUP(B9894,Spiele!B:B,Spiele!D:D))","v":""},{"$f":"IF(B9894=\"\",\"\",LOOKUP(B9894,Spiele!B:B,Spiele!E:E))","v":""},{"$f":"IF(B9894=\"\",\"\",LOOKUP(B9894,Spiele!B:B,Spiele!F:F))","v":""},"","","",null,null,-1,-1,1,0]
[null,null,{"$f":"IF(B9895=\"\",\"\",LOOKUP(B9895,Spiele!B:B,Spiele!C:C))","v":""},{"$f":"IF(B9895=\"\",\"\",LOOKUP(B9895,Spiele!B:B,Spiele!D:D))","v":""},{"$f":"IF(B9895=\"\",\"\",LOOKUP(B9895,Spiele!B:B,Spiele!E:E))","v":""},{"$f":"IF(B9895=\"\",\"\",LOOKUP(B9895,Spiele!B:B,Spiele!F:F))","v":""},"","","",null,null,-1,-1,1,0]
[null,null,{"$f":"IF(B9896=\"\",\"\",LOOKUP(B9896,Spiele!B:B,Spiele!C:C))","v":""},{"$f":"IF(B9896=\"\",\"\",LOOKUP(B9896,Spiele!B:B,Spiele!D:D))","v":""},{"$f":"IF(B9896=\"\",\"\",LOOKUP(B9896,Spiele!B:B,Spiele!E:E))","v":""},{"$f":"IF(B9896=\"\",\"\",LOOKUP(B9896,Spiele!B:B,Spiele!F:F))","v":""},"","","",null,null,-1,-1,1,0]
[null,null,{"$f":"IF(B9897=\"\",\"\",LOOKUP(B9897,Spiele!B:B,Spiele!C:C))","v":""},{"$f":"IF(B9897=\"\",\"\",LOOKUP(B9897,Spiele!B:B,Spiele!D:D))","v":""},{"$f":"IF(B9897=\"\",\"\",LOOKUP(B9897,Spiele!B:B,Spiele!E:E))","v":""},{"$f":"IF(B9897=\"\",\"\",LOOKUP(B9897,Spiele!B:B,Spiele!F:F))","v":""},"","","",null,null,-1,-1,1,0]
[null,null,{"$f":"IF(B9898=\"\",\"\",LOOKUP(B9898,Spiele!B:B,Spiele!C:C))","v":""},{"$f":"IF(B9898=\"\",\"\",LOOKUP(B9898,Spiele!B:B,Spiele!D:D))","v":""},{"$f":"IF(B9898=\"\",\"\",LOOKUP(B9898,Spiele!B:B,Spiele!E:E))","v":""},{"$f":"IF(B9898=\"\",\"\",LOOKUP(B9898,Spiele!B:B,Spiele!F:F))","v":""},"","","",null,null,-1,-1,1,0]
[null,null,{"$f":"IF(B9899=\"\",\"\",LOOKUP(B9899,Spiele!B:B,Spiele!C:C))","v":""},{"$f":"IF(B9899=\"\",\"\",LOOKUP(B9899,Spiele!B:B,Spiele!D:D))","v":""},{"$f":"IF(B9899=\"\",\"\",LOOKUP(B9899,Spiele!B:B,Spiele!E:E))","v":""},{"$f":"IF(B9899=\"\",\"\",LOOKUP(B9899,Spiele!B:B,Spiele!F:F))","v":""},"","","",null,null,-1,-1,1,0]
[null,null,{"$f":"IF(B9900=\"\",\"\",LOOKUP(B9900,Spiele!B:B,Spiele!C:C))","v":""},{"$f":"IF(B9900=\"\",\"\",LOOKUP(B9900,Spiele!B:B,Spiele!D:D))","v":""},{"$f":"IF(B9900=\"\",\"\",LOOKUP(B9900,Spiele!B:B,Spiele!E:E))","v":""},{"$f":"IF(B9900=\"\",\"\",LOOKUP(B9900,Spiele!B:B,Spiele!F:F))","v":""},"","","",null,null,-1,-1,1,0]
[null,null,{"$f":"IF(B9901=\"\",\"\",LOOKUP(B9901,Spiele!B:B,Spiele!C:C))","v":""},{"$f":"IF(B9901=\"\",\"\",LOOKUP(B9901,Spiele!B:B,Spiele!D:D))","v":""},{"$f":"IF(B9901=\"\",\"\",LOOKUP(B9901,Spiele!B:B,Spiele!E:E))","v":""},{"$f":"IF(B9901=\"\",\"\",LOOKUP(B9901,Spiele!B:B,Spiele!F:F))","v":""},"","","",null,null,-1,-1,1,0]
[null,null,{"$f":"IF(B9902=\"\",\"\",LOOKUP(B9902,Spiele!B:B,Spiele!C:C))","v":""},{"$f":"IF(B9902=\"\",\"\",LOOKUP(B9902,Spiele!B:B,Spiele!D:D))","v":""},{"$f":"IF(B9902=\"\",\"\",LOOKUP(B9902,Spiele!B:B,Spiele!E:E))","v":""},{"$f":"IF(B9902=\"\",\"\",LOOKUP(B9902,Spiele!B:B,Spiele!F:F))","v":""},"","","",null,null,-1,-1,1,0]
[null,null,{"$f":"IF(B9903=\"\",\"\",LOOKUP(B9903,Spiele!B:B,Spiele!C:C))","v":""},{"$f":"IF(B9903=\"\",\"\",LOOKUP(B9903,Spiele!B:B,Spiele!D:D))","v":""},{"$f":"IF(B9903=\"\",\"\",LOOKUP(B9903,Spiele!B:B,Spiele!E:E))","v":""},{"$f":"IF(B9903=\"\",\"\",LOOKUP(B9903,Spiele!B:B,Spiele!F:F))","v":""},"","","",null,null,-1,-1,1,0]
[null,null,{"$f":"IF(B9904=\"\",\"\",LOOKUP(B9904,Spiele!B:B,Spiele!C:C))","v":""},{"$f":"IF(B9904=\"\",\"\",LOOKUP(B9904,Spiele!B:B,Spiele!D:D))","v":""},{"$f":"IF(B9904=\"\",\"\",LOOKUP(B9904,Spiele!B:B,Spiele!E:E))","v":""},{"$f":"IF(B9904=\"\",\"\",LOOKUP(B9904,Spiele!B:B,Spiele!F:F))","v":""},"","","",null,null,-1,-1,1,0]
[null,null,{"$f":"IF(B9905=\"\",\"\",LOOKUP(B9905,Spiele!B:B,Spiele!C:C))","v":""},{"$f":"IF(B9905=\"\",\"\",LOOKUP(B9905,Spiele!B:B,Spiele!D:D))","v":""},{"$f":"IF(B9905=\"\",\"\",LOOKUP(B9905,Spiele!B:B,Spiele!E:E))","v":""},{"$f":"IF(B9905=\"\",\"\",LOOKUP(B9905,Spiele!B:B,Spiele!F:F))","v":""},"","","",null,null,-1,-1,1,0]
[null,null,{"$f":"IF(B9906=\"\",\"\",LOOKUP(B9906,Spiele!B:B,Spiele!C:C))","v":""},{"$f":"IF(B9906=\"\",\"\",LOOKUP(B9906,Spiele!B:B,Spiele!D:D))","v":""},{"$f":"IF(B9906=\"\",\"\",LOOKUP(B9906,Spiele!B:B,Spiele!E:E))","v":""},{"$f":"IF(B9906=\"\",\"\",LOOKUP(B9906,Spiele!B:B,Spiele!F:F))","v":""},"","","",null,null,-1,-1,1,0]
[null,null,{"$f":"IF(B9907=\"\",\"\",LOOKUP(B9907,Spiele!B:B,Spiele!C:C))","v":""},{"$f":"IF(B9907=\"\",\"\",LOOKUP(B9907,Spiele!B:B,Spiele!D:D))","v":""},{"$f":"IF(B9907=\"\",\"\",LOOKUP(B9907,Spiele!B:B,Spiele!E:E))","v":""},{"$f":"IF(B9907=\"\",\"\",LOOKUP(B9907,Spiele!B:B,Spiele!F:F))","v":""},"","","",null,null,-1,-1,1,0]
[null,null,{"$f":"IF(B9908=\"\",\"\",LOOKUP(B9908,Spiele!B:B,Spiele!C:C))","v":""},{"$f":"IF(B9908=\"\",\"\",LOOKUP(B9908,Spiele!B:B,Spiele!D:D))","v":""},{"$f":"IF(B9908=\"\",\"\",LOOKUP(B9908,Spiele!B:B,Spiele!E:E))","v":""},{"$f":"IF(B9908=\"\",\"\",LOOKUP(B9908,Spiele!B:B,Spiele!F:F))","v":""},"","","",null,null,-1,-1,1,0]
[null,null,{"$f":"IF(B9909=\"\",\"\",LOOKUP(B9909,Spiele!B:B,Spiele!C:C))","v":""},{"$f":"IF(B9909=\"\",\"\",LOOKUP(B9909,Spiele!B:B,Spiele!D:D))","v":""},{"$f":"IF(B9909=\"\",\"\",LOOKUP(B9909,Spiele!B:B,Spiele!E:E))","v":""},{"$f":"IF(B9909=\"\",\"\",LOOKUP(B9909,Spiele!B:B,Spiele!F:F))","v":""},"","","",null,null,-1,-1,1,0]
[null,null,{"$f":"IF(B9910=\"\",\"\",LOOKUP(B9910,Spiele!B:B,Spiele!C:C))","v":""},{"$f":"IF(B9910=\"\",\"\",LOOKUP(B9910,Spiele!B:B,Spiele!D:D))","v":""},{"$f":"IF(B9910=\"\",\"\",LOOKUP(B9910,Spiele!B:B,Spiele!E:E))","v":""},{"$f":"IF(B9910=\"\",\"\",LOOKUP(B9910,Spiele!B:B,Spiele!F:F))","v":""},"","","",null,null,-1,-1,1,0]
[null,null,{"$f":"IF(B9911=\"\",\"\",LOOKUP(B9911,Spiele!B:B,Spiele!C:C))","v":""},{"$f":"IF(B9911=\"\",\"\",LOOKUP(B9911,Spiele!B:B,Spiele!D:D))","v":""},{"$f":"IF(B9911=\"\",\"\",LOOKUP(B9911,Spiele!B:B,Spiele!E:E))","v":""},{"$f":"IF(B9911=\"\",\"\",LOOKUP(B9911,Spiele!B:B,Spiele!F:F))","v":""},"","","",null,null,-1,-1,1,0]
[null,null,{"$f":"IF(B9912=\"\",\"\",LOOKUP(B9912,Spiele!B:B,Spiele!C:C))","v":""},{"$f":"IF(B9912=\"\",\"\",LOOKUP(B9912,Spiele!B:B,Spiele!D:D))","v":""},{"$f":"IF(B9912=\"\",\"\",LOOKUP(B9912,Spiele!B:B,Spiele!E:E))","v":""},{"$f":"IF(B9912=\"\",\"\",LOOKUP(B9912,Spiele!B:B,Spiele!F:F))","v":""},"","","",null,null,-1,-1,1,0]
[null,null,{"$f":"IF(B9913=\"\",\"\",LOOKUP(B9913,Spiele!B:B,Spiele!C:C))","v":""},{"$f":"IF(B9913=\"\",\"\",LOOKUP(B9913,Spiele!B:B,Spiele!D:D))","v":""},{"$f":"IF(B9913=\"\",\"\",LOOKUP(B9913,Spiele!B:B,Spiele!E:E))","v":""},{"$f":"IF(B9913=\"\",\"\",LOOKUP(B9913,Spiele!B:B,Spiele!F:F))","v":""},"","","",null,null,-1,-1,1,0]
[null,null,{"$f":"IF(B9914=\"\",\"\",LOOKUP(B9914,Spiele!B:B,Spiele!C:C))","v":""},{"$f":"IF(B9914=\"\",\"\",LOOKUP(B9914,Spiele!B:B,Spiele!D:D))","v":""},{"$f":"IF(B9914=\"\",\"\",LOOKUP(B9914,Spiele!B:B,Spiele!E:E))","v":""},{"$f":"IF(B9914=\"\",\"\",LOOKUP(B9914,Spiele!B:B,Spiele!F:F))","v":""},"","","",null,null,-1,-1,1,0]
[null,null,{"$f":"IF(B9915=\"\",\"\",LOOKUP(B9915,Spiele!B:B,Spiele!C:C))","v":""},{"$f":"IF(B9915=\"\",\"\",LOOKUP(B9915,Spiele!B:B,Spiele!D:D))","v":""},{"$f":"IF(B9915=\"\",\"\",LOOKUP(B9915,Spiele!B:B,Spiele!E:E))","v":""},{"$f":"IF(B9915=\"\",\"\",LOOKUP(B9915,Spiele!B:B,Spiele!F:F))","v":""},"","","",null,null,-1,-1,1,0]
[null,null,{"$f":"IF(B9916=\"\",\"\",LOOKUP(B9916,Spiele!B:B,Spiele!C:C))","v":""},{"$f":"IF(B9916=\"\",\"\",LOOKUP(B9916,Spiele!B:B,Spiele!D:D))","v":""},{"$f":"IF(B9916=\"\",\"\",LOOKUP(B9916,Spiele!B:B,Spiele!E:E))","v":""},{"$f":"IF(B9916=\"\",\"\",LOOKUP(B9916,Spiele!B:B,Spiele!F:F))","v":""},"","","",null,null,-1,-1,1,0]
[null,null,{"$f":"IF(B9917=\"\",\"\",LOOKUP(B9917,Spiele!B:B,Spiele!C:C))","v":""},{"$f":"IF(B9917=\"\",\"\",LOOKUP(B9917,Spiele!B:B,Spiele!D:D))","v":""},{"$f":"IF(B9917=\"\",\"\",LOOKUP(B9917,Spiele!B:B,Spiele!E:E))","v":""},{"$f":"IF(B9917=\"\",\"\",LOOKUP(B9917,Spiele!B:B,Spiele!F:F))","v":""},"","","",null,null,-1,-1,1,0]
[null,null,{"$f":"IF(B9918=\"\",\"\",LOOKUP(B9918,Spiele!B:B,Spiele!C:C))","v":""},{"$f":"IF(B9918=\"\",\"\",LOOKUP(B9918,Spiele!B:B,Spiele!D:D))","v":""},{"$f":"IF(B9918=\"\",\"\",LOOKUP(B9918,Spiele!B:B,Spiele!E:E))","v":""},{"$f":"IF(B9918=\"\",\"\",LOOKUP(B9918,Spiele!B:B,Spiele!F:F))","v":""},"","","",null,null,-1,-1,1,0]
[null,null,{"$f":"IF(B9919=\"\",\"\",LOOKUP(B9919,Spiele!B:B,Spiele!C:C))","v":""},{"$f":"IF(B9919=\"\",\"\",LOOKUP(B9919,Spiele!B:B,Spiele!D:D))","v":""},{"$f":"IF(B9919=\"\",\"\",LOOKUP(B9919,Spiele!B:B,Spiele!E:E))","v":""},{"$f":"IF(B9919=\"\",\"\",LOOKUP(B9919,Spiele!B:B,Spiele!F:F))","v":""},"","","",null,null,-1,-1,1,0]
[null,null,{"$f":"IF(B9920=\"\",\"\",LOOKUP(B9920,Spiele!B:B,Spiele!C:C))","v":""},{"$f":"IF(B9920=\"\",\"\",LOOKUP(B9920,Spiele!B:B,Spiele!D:D))","v":""},{"$f":"IF(B9920=\"\",\"\",LOOKUP(B9920,Spiele!B:B,Spiele!E:E))","v":""},{"$f":"IF(B9920=\"\",\"\",LOOKUP(B9920,Spiele!B:B,Spiele!F:F))","v":""},"","","",null,null,-1,-1,1,0]
[null,null,{"$f":"IF(B9921=\"\",\"\",LOOKUP(B9921,Spiele!B:B,Spiele!C:C))","v":""},{"$f":"IF(B9921=\"\",\"\",LOOKUP(B9921,Spiele!B:B,Spiele!D:D))","v":""},{"$f":"IF(B9921=\"\",\"\",LOOKUP(B9921,Spiele!B:B,Spiele!E:E))","v":""},{"$f":"IF(B9921=\"\",\"\",LOOKUP(B9921,Spiele!B:B,Spiele!F:F))","v":""},"","","",null,null,-1,-1,1,0]
[null,null,{"$f":"IF(B9922=\"\",\"\",LOOKUP(B9922,Spiele!B:B,Spiele!C:C))","v":""},{"$f":"IF(B9922=\"\",\"\",LOOKUP(B9922,Spiele!B:B,Spiele!D:D))","v":""},{"$f":"IF(B9922=\"\",\"\",LOOKUP(B9922,Spiele!B:B,Spiele!E:E))","v":""},{"$f":"IF(B9922=\"\",\"\",LOOKUP(B9922,Spiele!B:B,Spiele!F:F))","v":""},"","","",null,null,-1,-1,1,0]
[null,null,{"$f":"IF(B9923=\"\",\"\",LOOKUP(B9923,Spiele!B:B,Spiele!C:C))","v":""},{"$f":"IF(B9923=\"\",\"\",LOOKUP(B9923,Spiele!B:B,Spiele!D:D))","v":""},{"$f":"IF(B9923=\"\",\"\",LOOKUP(B9923,Spiele!B:B,Spiele!E:E))","v":""},{"$f":"IF(B9923=\"\",\"\",LOOKUP(B9923,Spiele!B:B,Spiele!F:F))","v":""},"","","",null,null,-1,-1,1,0]
[null,null,{"$f":"IF(B9924=\"\",\"\",LOOKUP(B9924,Spiele!B:B,Spiele!C:C))","v":""},{"$f":"IF(B9924=\"\",\"\",LOOKUP(B9924,Spiele!B:B,Spiele!D:D))","v":""},{"$f":"IF(B9924=\"\",\"\",LOOKUP(B9924,Spiele!B:B,Spiele!E:E))","v":""},{"$f":"IF(B9924=\"\",\"\",LOOKUP(B9924,Spiele!B:B,Spiele!F:F))","v":""},"","","",null,null,-1,-1,1,0]
[null,null,{"$f":"IF(B9925=\"\",\"\",LOOKUP(B9925,Spiele!B:B,Spiele!C:C))","v":""},{"$f":"IF(B9925=\"\",\"\",LOOKUP(B9925,Spiele!B:B,Spiele!D:D))","v":""},{"$f":"IF(B9925=\"\",\"\",LOOKUP(B9925,Spiele!B:B,Spiele!E:E))","v":""},{"$f":"IF(B9925=\"\",\"\",LOOKUP(B9925,Spiele!B:B,Spiele!F:F))","v":""},"","","",null,null,-1,-1,1,0]
[null,null,{"$f":"IF(B9926=\"\",\"\",LOOKUP(B9926,Spiele!B:B,Spiele!C:C))","v":""},{"$f":"IF(B9926=\"\",\"\",LOOKUP(B9926,Spiele!B:B,Spiele!D:D))","v":""},{"$f":"IF(B9926=\"\",\"\",LOOKUP(B9926,Spiele!B:B,Spiele!E:E))","v":""},{"$f":"IF(B9926=\"\",\"\",LOOKUP(B9926,Spiele!B:B,Spiele!F:F))","v":""},"","","",null,null,-1,-1,1,0]
[null,null,{"$f":"IF(B9927=\"\",\"\",LOOKUP(B9927,Spiele!B:B,Spiele!C:C))","v":""},{"$f":"IF(B9927=\"\",\"\",LOOKUP(B9927,Spiele!B:B,Spiele!D:D))","v":""},{"$f":"IF(B9927=\"\",\"\",LOOKUP(B9927,Spiele!B:B,Spiele!E:E))","v":""},{"$f":"IF(B9927=\"\",\"\",LOOKUP(B9927,Spiele!B:B,Spiele!F:F))","v":""},"","","",null,null,-1,-1,1,0]
[null,null,{"$f":"IF(B9928=\"\",\"\",LOOKUP(B9928,Spiele!B:B,Spiele!C:C))","v":""},{"$f":"IF(B9928=\"\",\"\",LOOKUP(B9928,Spiele!B:B,Spiele!D:D))","v":""},{"$f":"IF(B9928=\"\",\"\",LOOKUP(B9928,Spiele!B:B,Spiele!E:E))","v":""},{"$f":"IF(B9928=\"\",\"\",LOOKUP(B9928,Spiele!B:B,Spiele!F:F))","v":""},"","","",null,null,-1,-1,1,0]
[null,null,{"$f":"IF(B9929=\"\",\"\",LOOKUP(B9929,Spiele!B:B,Spiele!C:C))","v":""},{"$f":"IF(B9929=\"\",\"\",LOOKUP(B9929,Spiele!B:B,Spiele!D:D))","v":""},{"$f":"IF(B9929=\"\",\"\",LOOKUP(B9929,Spiele!B:B,Spiele!E:E))","v":""},{"$f":"IF(B9929=\"\",\"\",LOOKUP(B9929,Spiele!B:B,Spiele!F:F))","v":""},"","","",null,null,-1,-1,1,0]
[null,null,{"$f":"IF(B9930=\"\",\"\",LOOKUP(B9930,Spiele!B:B,Spiele!C:C))","v":""},{"$f":"IF(B9930=\"\",\"\",LOOKUP(B9930,Spiele!B:B,Spiele!D:D))","v":""},{"$f":"IF(B9930=\"\",\"\",LOOKUP(B9930,Spiele!B:B,Spiele!E:E))","v":""},{"$f":"IF(B9930=\"\",\"\",LOOKUP(B9930,Spiele!B:B,Spiele!F:F))","v":""},"","","",null,null,-1,-1,1,0]
[null,null,{"$f":"IF(B9931=\"\",\"\",LOOKUP(B9931,Spiele!B:B,Spiele!C:C))","v":""},{"$f":"IF(B9931=\"\",\"\",LOOKUP(B9931,Spiele!B:B,Spiele!D:D))","v":""},{"$f":"IF(B9931=\"\",\"\",LOOKUP(B9931,Spiele!B:B,Spiele!E:E))","v":""},{"$f":"IF(B9931=\"\",\"\",LOOKUP(B9931,Spiele!B:B,Spiele!F:F))","v":""},"","","",null,null,-1,-1,1,0]
[null,null,{"$f":"IF(B9932=\"\",\"\",LOOKUP(B9932,Spiele!B:B,Spiele!C:C))","v":""},{"$f":"IF(B9932=\"\",\"\",LOOKUP(B9932,Spiele!B:B,Spiele!D:D))","v":""},{"$f":"IF(B9932=\"\",\"\",LOOKUP(B9932,Spiele!B:B,Spiele!E:E))","v":""},{"$f":"IF(B9932=\"\",\"\",LOOKUP(B9932,Spiele!B:B,Spiele!F:F))","v":""},"","","",null,null,-1,-1,1,0]
[null,null,{"$f":"IF(B9933=\"\",\"\",LOOKUP(B9933,Spiele!B:B,Spiele!C:C))","v":""},{"$f":"IF(B9933=\"\",\"\",LOOKUP(B9933,Spiele!B:B,Spiele!D:D))","v":""},{"$f":"IF(B9933=\"\",\"\",LOOKUP(B9933,Spiele!B:B,Spiele!E:E))","v":""},{"$f":"IF(B9933=\"\",\"\",LOOKUP(B9933,Spiele!B:B,Spiele!F:F))","v":""},"","","",null,null,-1,-1,1,0]
[null,null,{"$f":"IF(B9934=\"\",\"\",LOOKUP(B9934,Spiele!B:B,Spiele!C:C))","v":""},{"$f":"IF(B9934=\"\",\"\",LOOKUP(B9934,Spiele!B:B,Spiele!D:D))","v":""},{"$f":"IF(B9934=\"\",\"\",LOOKUP(B9934,Spiele!B:B,Spiele!E:E))","v":""},{"$f":"IF(B9934=\"\",\"\",LOOKUP(B9934,Spiele!B:B,Spiele!F:F))","v":""},"","","",null,null,-1,-1,1,0]
[null,null,{"$f":"IF(B9935=\"\",\"\",LOOKUP(B9935,Spiele!B:B,Spiele!C:C))","v":""},{"$f":"IF(B9935=\"\",\"\",LOOKUP(B9935,Spiele!B:B,Spiele!D:D))","v":""},{"$f":"IF(B9935=\"\",\"\",LOOKUP(B9935,Spiele!B:B,Spiele!E:E))","v":""},{"$f":"IF(B9935=\"\",\"\",LOOKUP(B9935,Spiele!B:B,Spiele!F:F))","v":""},"","","",null,null,-1,-1,1,0]
[null,null,{"$f":"IF(B9936=\"\",\"\",LOOKUP(B9936,Spiele!B:B,Spiele!C:C))","v":""},{"$f":"IF(B9936=\"\",\"\",LOOKUP(B9936,Spiele!B:B,Spiele!D:D))","v":""},{"$f":"IF(B9936=\"\",\"\",LOOKUP(B9936,Spiele!B:B,Spiele!E:E))","v":""},{"$f":"IF(B9936=\"\",\"\",LOOKUP(B9936,Spiele!B:B,Spiele!F:F))","v":""},"","","",null,null,-1,-1,1,0]
[null,null,{"$f":"IF(B9937=\"\",\"\",LOOKUP(B9937,Spiele!B:B,Spiele!C:C))","v":""},{"$f":"IF(B9937=\"\",\"\",LOOKUP(B9937,Spiele!B:B,Spiele!D:D))","v":""},{"$f":"IF(B9937=\"\",\"\",LOOKUP(B9937,Spiele!B:B,Spiele!E:E))","v":""},{"$f":"IF(B9937=\"\",\"\",LOOKUP(B9937,Spiele!B:B,Spiele!F:F))","v":""},"","","",null,null,-1,-1,1,0]
[null,null,{"$f":"IF(B9938=\"\",\"\",LOOKUP(B9938,Spiele!B:B,Spiele!C:C))","v":""},{"$f":"IF(B9938=\"\",\"\",LOOKUP(B9938,Spiele!B:B,Spiele!D:D))","v":""},{"$f":"IF(B9938=\"\",\"\",LOOKUP(B9938,Spiele!B:B,Spiele!E:E))","v":""},{"$f":"IF(B9938=\"\",\"\",LOOKUP(B9938,Spiele!B:B,Spiele!F:F))","v":""},"","","",null,null,-1,-1,1,0]
[null,null,{"$f":"IF(B9939=\"\",\"\",LOOKUP(B9939,Spiele!B:B,Spiele!C:C))","v":""},{"$f":"IF(B9939=\"\",\"\",LOOKUP(B9939,Spiele!B:B,Spiele!D:D))","v":""},{"$f":"IF(B9939=\"\",\"\",LOOKUP(B9939,Spiele!B:B,Spiele!E:E))","v":""},{"$f":"IF(B9939=\"\",\"\",LOOKUP(B9939,Spiele!B:B,Spiele!F:F))","v":""},"","","",null,null,-1,-1,1,0]
[null,null,{"$f":"IF(B9940=\"\",\"\",LOOKUP(B9940,Spiele!B:B,Spiele!C:C))","v":""},{"$f":"IF(B9940=\"\",\"\",LOOKUP(B9940,Spiele!B:B,Spiele!D:D))","v":""},{"$f":"IF(B9940=\"\",\"\",LOOKUP(B9940,Spiele!B:B,Spiele!E:E))","v":""},{"$f":"IF(B9940=\"\",\"\",LOOKUP(B9940,Spiele!B:B,Spiele!F:F))","v":""},"","","",null,null,-1,-1,1,0]
[null,null,{"$f":"IF(B9941=\"\",\"\",LOOKUP(B9941,Spiele!B:B,Spiele!C:C))","v":""},{"$f":"IF(B9941=\"\",\"\",LOOKUP(B9941,Spiele!B:B,Spiele!D:D))","v":""},{"$f":"IF(B9941=\"\",\"\",LOOKUP(B9941,Spiele!B:B,Spiele!E:E))","v":""},{"$f":"IF(B9941=\"\",\"\",LOOKUP(B9941,Spiele!B:B,Spiele!F:F))","v":""},"","","",null,null,-1,-1,1,0]
[null,null,{"$f":"IF(B9942=\"\",\"\",LOOKUP(B9942,Spiele!B:B,Spiele!C:C))","v":""},{"$f":"IF(B9942=\"\",\"\",LOOKUP(B9942,Spiele!B:B,Spiele!D:D))","v":""},{"$f":"IF(B9942=\"\",\"\",LOOKUP(B9942,Spiele!B:B,Spiele!E:E))","v":""},{"$f":"IF(B9942=\"\",\"\",LOOKUP(B9942,Spiele!B:B,Spiele!F:F))","v":""},"","","",null,null,-1,-1,1,0]
[null,null,{"$f":"IF(B9943=\"\",\"\",LOOKUP(B9943,Spiele!B:B,Spiele!C:C))","v":""},{"$f":"IF(B9943=\"\",\"\",LOOKUP(B9943,Spiele!B:B,Spiele!D:D))","v":""},{"$f":"IF(B9943=\"\",\"\",LOOKUP(B9943,Spiele!B:B,Spiele!E:E))","v":""},{"$f":"IF(B9943=\"\",\"\",LOOKUP(B9943,Spiele!B:B,Spiele!F:F))","v":""},"","","",null,null,-1,-1,1,0]
[null,null,{"$f":"IF(B9944=\"\",\"\",LOOKUP(B9944,Spiele!B:B,Spiele!C:C))","v":""},{"$f":"IF(B9944=\"\",\"\",LOOKUP(B9944,Spiele!B:B,Spiele!D:D))","v":""},{"$f":"IF(B9944=\"\",\"\",LOOKUP(B9944,Spiele!B:B,Spiele!E:E))","v":""},{"$f":"IF(B9944=\"\",\"\",LOOKUP(B9944,Spiele!B:B,Spiele!F:F))","v":""},"","","",null,null,-1,-1,1,0]
[null,null,{"$f":"IF(B9945=\"\",\"\",LOOKUP(B9945,Spiele!B:B,Spiele!C:C))","v":""},{"$f":"IF(B9945=\"\",\"\",LOOKUP(B9945,Spiele!B:B,Spiele!D:D))","v":""},{"$f":"IF(B9945=\"\",\"\",LOOKUP(B9945,Spiele!B:B,Spiele!E:E))","v":""},{"$f":"IF(B9945=\"\",\"\",LOOKUP(B9945,Spiele!B:B,Spiele!F:F))","v":""},"","","",null,null,-1,-1,1,0]
[null,null,{"$f":"IF(B9946=\"\",\"\",LOOKUP(B9946,Spiele!B:B,Spiele!C:C))","v":""},{"$f":"IF(B9946=\"\",\"\",LOOKUP(B9946,Spiele!B:B,Spiele!D:D))","v":""},{"$f":"IF(B9946=\"\",\"\",LOOKUP(B9946,Spiele!B:B,Spiele!E:E))","v":""},{"$f":"IF(B9946=\"\",\"\",LOOKUP(B9946,Spiele!B:B,Spiele!F:F))","v":""},"","","",null,null,-1,-1,1,0]
[null,null,{"$f":"IF(B9947=\"\",\"\",LOOKUP(B9947,Spiele!B:B,Spiele!C:C))","v":""},{"$f":"IF(B9947=\"\",\"\",LOOKUP(B9947,Spiele!B:B,Spiele!D:D))","v":""},{"$f":"IF(B9947=\"\",\"\",LOOKUP(B9947,Spiele!B:B,Spiele!E:E))","v":""},{"$f":"IF(B9947=\"\",\"\",LOOKUP(B9947,Spiele!B:B,Spiele!F:F))","v":""},"","","",null,null,-1,-1,1,0]
[null,null,{"$f":"IF(B9948=\"\",\"\",LOOKUP(B9948,Spiele!B:B,Spiele!C:C))","v":""},{"$f":"IF(B9948=\"\",\"\",LOOKUP(B9948,Spiele!B:B,Spiele!D:D))","v":""},{"$f":"IF(B9948=\"\",\"\",LOOKUP(B9948,Spiele!B:B,Spiele!E:E))","v":""},{"$f":"IF(B9948=\"\",\"\",LOOKUP(B9948,Spiele!B:B,Spiele!F:F))","v":""},"","","",null,null,-1,-1,1,0]
[null,null,{"$f":"IF(B9949=\"\",\"\",LOOKUP(B9949,Spiele!B:B,Spiele!C:C))","v":""},{"$f":"IF(B9949=\"\",\"\",LOOKUP(B9949,Spiele!B:B,Spiele!D:D))","v":""},{"$f":"IF(B9949=\"\",\"\",LOOKUP(B9949,Spiele!B:B,Spiele!E:E))","v":""},{"$f":"IF(B9949=\"\",\"\",LOOKUP(B9949,Spiele!B:B,Spiele!F:F))","v":""},"","","",null,null,-1,-1,1,0]
[null,null,{"$f":"IF(B9950=\"\",\"\",LOOKUP(B9950,Spiele!B:B,Spiele!C:C))","v":""},{"$f":"IF(B9950=\"\",\"\",LOOKUP(B9950,Spiele!B:B,Spiele!D:D))","v":""},{"$f":"IF(B9950=\"\",\"\",LOOKUP(B9950,Spiele!B:B,Spiele!E:E))","v":""},{"$f":"IF(B9950=\"\",\"\",LOOKUP(B9950,Spiele!B:B,Spiele!F:F))","v":""},"","","",null,null,-1,-1,1,0]
[null,null,{"$f":"IF(B9951=\"\",\"\",LOOKUP(B9951,Spiele!B:B,Spiele!C:C))","v":""},{"$f":"IF(B9951=\"\",\"\",LOOKUP(B9951,Spiele!B:B,Spiele!D:D))","v":""},{"$f":"IF(B9951=\"\",\"\",LOOKUP(B9951,Spiele!B:B,Spiele!E:E))","v":""},{"$f":"IF(B9951=\"\",\"\",LOOKUP(B9951,Spiele!B:B,Spiele!F:F))","v":""},"","","",null,null,-1,-1,1,0]
[null,null,{"$f":"IF(B9952=\"\",\"\",LOOKUP(B9952,Spiele!B:B,Spiele!C:C))","v":""},{"$f":"IF(B9952=\"\",\"\",LOOKUP(B9952,Spiele!B:B,Spiele!D:D))","v":""},{"$f":"IF(B9952=\"\",\"\",LOOKUP(B9952,Spiele!B:B,Spiele!E:E))","v":""},{"$f":"IF(B9952=\"\",\"\",LOOKUP(B9952,Spiele!B:B,Spiele!F:F))","v":""},{"$f":"IF(E9952=\"\",\"\",IF(E9952>F9952,1,0))","v":""},{"$f":"IF(F9952=\"\",\"\",IF(E9952<F9952,1,0))","v":""},{"$f":"IF(E9952=\"\",\"\",IF(E9952=F9952,1,0))","v":""},null,null,{"$f":"IF(E9952=\"\",-1,IF(J9952>K9952,1,-1))","v":-1},{"$f":"IF(F9952=\"\",-1,IF(J9952<K9952,1,-1))","v":-1},{"$f":"IF(E9952=\"-\",-1,IF(J9952=K9952,1,-1))","v":1},{"$f":"IF(E9952=\"\",0,IF(E9952=J9952,1,0)+IF(F9952=K9952,1,0)+IF(G9952=L9952,1,0)+IF(H9952=M9952,1,0)+IF(I9952=N9952,1,0))","v":0}]
[null,null,{"$f":"IF(B9953=\"\",\"\",LOOKUP(B9953,Spiele!B:B,Spiele!C:C))","v":""},{"$f":"IF(B9953=\"\",\"\",LOOKUP(B9953,Spiele!B:B,Spiele!D:D))","v":""},{"$f":"IF(B9953=\"\",\"\",LOOKUP(B9953,Spiele!B:B,Spiele!E:E))","v":""},{"$f":"IF(B9953=\"\",\"\",LOOKUP(B9953,Spiele!B:B,Spiele!F:F))","v":""},"","","",null,null,-1,-1,1,0]
[null,null,{"$f":"IF(B9954=\"\",\"\",LOOKUP(B9954,Spiele!B:B,Spiele!C:C))","v":""},{"$f":"IF(B9954=\"\",\"\",LOOKUP(B9954,Spiele!B:B,Spiele!D:D))","v":""},{"$f":"IF(B9954=\"\",\"\",LOOKUP(B9954,Spiele!B:B,Spiele!E:E))","v":""},{"$f":"IF(B9954=\"\",\"\",LOOKUP(B9954,Spiele!B:B,Spiele!F:F))","v":""},"","","",null,null,-1,-1,1,0]
[null,null,{"$f":"IF(B9955=\"\",\"\",LOOKUP(B9955,Spiele!B:B,Spiele!C:C))","v":""},{"$f":"IF(B9955=\"\",\"\",LOOKUP(B9955,Spiele!B:B,Spiele!D:D))","v":""},{"$f":"IF(B9955=\"\",\"\",LOOKUP(B9955,Spiele!B:B,Spiele!E:E))","v":""},{"$f":"IF(B9955=\"\",\"\",LOOKUP(B9955,Spiele!B:B,Spiele!F:F))","v":""},"","","",null,null,-1,-1,1,0]
[null,null,{"$f":"IF(B9956=\"\",\"\",LOOKUP(B9956,Spiele!B:B,Spiele!C:C))","v":""},{"$f":"IF(B9956=\"\",\"\",LOOKUP(B9956,Spiele!B:B,Spiele!D:D))","v":""},{"$f":"IF(B9956=\"\",\"\",LOOKUP(B9956,Spiele!B:B,Spiele!E:E))","v":""},{"$f":"IF(B9956=\"\",\"\",LOOKUP(B9956,Spiele!B:B,Spiele!F:F))","v":""},"","","",null,null,-1,-1,1,0]
[null,null,{"$f":"IF(B9957=\"\",\"\",LOOKUP(B9957,Spiele!B:B,Spiele!C:C))","v":""},{"$f":"IF(B9957=\"\",\"\",LOOKUP(B9957,Spiele!B:B,Spiele!D:D))","v":""},{"$f":"IF(B9957=\"\",\"\",LOOKUP(B9957,Spiele!B:B,Spiele!E:E))","v":""},{"$f":"IF(B9957=\"\",\"\",LOOKUP(B9957,Spiele!B:B,Spiele!F:F))","v":""},"","","",null,null,-1,-1,1,0]
[null,null,{"$f":"IF(B9958=\"\",\"\",LOOKUP(B9958,Spiele!B:B,Spiele!C:C))","v":""},{"$f":"IF(B9958=\"\",\"\",LOOKUP(B9958,Spiele!B:B,Spiele!D:D))","v":""},{"$f":"IF(B9958=\"\",\"\",LOOKUP(B9958,Spiele!B:B,Spiele!E:E))","v":""},{"$f":"IF(B9958=\"\",\"\",LOOKUP(B9958,Spiele!B:B,Spiele!F:F))","v":""},"","","",null,null,-1,-1,1,0]
[null,null,{"$f":"IF(B9959=\"\",\"\",LOOKUP(B9959,Spiele!B:B,Spiele!C:C))","v":""},{"$f":"IF(B9959=\"\",\"\",LOOKUP(B9959,Spiele!B:B,Spiele!D:D))","v":""},{"$f":"IF(B9959=\"\",\"\",LOOKUP(B9959,Spiele!B:B,Spiele!E:E))","v":""},{"$f":"IF(B9959=\"\",\"\",LOOKUP(B9959,Spiele!B:B,Spiele!F:F))","v":""},"","","",null,null,-1,-1,1,0]
[null,null,{"$f":"IF(B9960=\"\",\"\",LOOKUP(B9960,Spiele!B:B,Spiele!C:C))","v":""},{"$f":"IF(B9960=\"\",\"\",LOOKUP(B9960,Spiele!B:B,Spiele!D:D))","v":""},{"$f":"IF(B9960=\"\",\"\",LOOKUP(B9960,Spiele!B:B,Spiele!E:E))","v":""},{"$f":"IF(B9960=\"\",\"\",LOOKUP(B9960,Spiele!B:B,Spiele!F:F))","v":""},"","","",null,null,-1,-1,1,0]
[null,null,{"$f":"IF(B9961=\"\",\"\",LOOKUP(B9961,Spiele!B:B,Spiele!C:C))","v":""},{"$f":"IF(B9961=\"\",\"\",LOOKUP(B9961,Spiele!B:B,Spiele!D:D))","v":""},{"$f":"IF(B9961=\"\",\"\",LOOKUP(B9961,Spiele!B:B,Spiele!E:E))","v":""},{"$f":"IF(B9961=\"\",\"\",LOOKUP(B9961,Spiele!B:B,Spiele!F:F))","v":""},"","","",null,null,-1,-1,1,0]
[null,null,{"$f":"IF(B9962=\"\",\"\",LOOKUP(B9962,Spiele!B:B,Spiele!C:C))","v":""},{"$f":"IF(B9962=\"\",\"\",LOOKUP(B9962,Spiele!B:B,Spiele!D:D))","v":""},{"$f":"IF(B9962=\"\",\"\",LOOKUP(B9962,Spiele!B:B,Spiele!E:E))","v":""},{"$f":"IF(B9962=\"\",\"\",LOOKUP(B9962,Spiele!B:B,Spiele!F:F))","v":""},"","","",null,null,-1,-1,1,0]
[null,null,{"$f":"IF(B9963=\"\",\"\",LOOKUP(B9963,Spiele!B:B,Spiele!C:C))","v":""},{"$f":"IF(B9963=\"\",\"\",LOOKUP(B9963,Spiele!B:B,Spiele!D:D))","v":""},{"$f":"IF(B9963=\"\",\"\",LOOKUP(B9963,Spiele!B:B,Spiele!E:E))","v":""},{"$f":"IF(B9963=\"\",\"\",LOOKUP(B9963,Spiele!B:B,Spiele!F:F))","v":""},"","","",null,null,-1,-1,1,0]
[null,null,{"$f":"IF(B9964=\"\",\"\",LOOKUP(B9964,Spiele!B:B,Spiele!C:C))","v":""},{"$f":"IF(B9964=\"\",\"\",LOOKUP(B9964,Spiele!B:B,Spiele!D:D))","v":""},{"$f":"IF(B9964=\"\",\"\",LOOKUP(B9964,Spiele!B:B,Spiele!E:E))","v":""},{"$f":"IF(B9964=\"\",\"\",LOOKUP(B9964,Spiele!B:B,Spiele!F:F))","v":""},"","","",null,null,-1,-1,1,0]
[null,null,{"$f":"IF(B9965=\"\",\"\",LOOKUP(B9965,Spiele!B:B,Spiele!C:C))","v":""},{"$f":"IF(B9965=\"\",\"\",LOOKUP(B9965,Spiele!B:B,Spiele!D:D))","v":""},{"$f":"IF(B9965=\"\",\"\",LOOKUP(B9965,Spiele!B:B,Spiele!E:E))","v":""},{"$f":"IF(B9965=\"\",\"\",LOOKUP(B9965,Spiele!B:B,Spiele!F:F))","v":""},"","","",null,null,-1,-1,1,0]
[null,null,{"$f":"IF(B9966=\"\",\"\",LOOKUP(B9966,Spiele!B:B,Spiele!C:C))","v":""},{"$f":"IF(B9966=\"\",\"\",LOOKUP(B9966,Spiele!B:B,Spiele!D:D))","v":""},{"$f":"IF(B9966=\"\",\"\",LOOKUP(B9966,Spiele!B:B,Spiele!E:E))","v":""},{"$f":"IF(B9966=\"\",\"\",LOOKUP(B9966,Spiele!B:B,Spiele!F:F))","v":""},"","","",null,null,-1,-1,1,0]
[null,null,{"$f":"IF(B9967=\"\",\"\",LOOKUP(B9967,Spiele!B:B,Spiele!C:C))","v":""},{"$f":"IF(B9967=\"\",\"\",LOOKUP(B9967,Spiele!B:B,Spiele!D:D))","v":""},{"$f":"IF(B9967=\"\",\"\",LOOKUP(B9967,Spiele!B:B,Spiele!E:E))","v":""},{"$f":"IF(B9967=\"\",\"\",LOOKUP(B9967,Spiele!B:B,Spiele!F:F))","v":""},"","","",null,null,-1,-1,1,0]
[null,null,{"$f":"IF(B9968=\"\",\"\",LOOKUP(B9968,Spiele!B:B,Spiele!C:C))","v":""},{"$f":"IF(B9968=\"\",\"\",LOOKUP(B9968,Spiele!B:B,Spiele!D:D))","v":""},{"$f":"IF(B9968=\"\",\"\",LOOKUP(B9968,Spiele!B:B,Spiele!E:E))","v":""},{"$f":"IF(B9968=\"\",\"\",LOOKUP(B9968,Spiele!B:B,Spiele!F:F))","v":""},"","","",null,null,-1,-1,1,0]
[null,null,{"$f":"IF(B9969=\"\",\"\",LOOKUP(B9969,Spiele!B:B,Spiele!C:C))","v":""},{"$f":"IF(B9969=\"\",\"\",LOOKUP(B9969,Spiele!B:B,Spiele!D:D))","v":""},{"$f":"IF(B9969=\"\",\"\",LOOKUP(B9969,Spiele!B:B,Spiele!E:E))","v":""},{"$f":"IF(B9969=\"\",\"\",LOOKUP(B9969,Spiele!B:B,Spiele!F:F))","v":""},"","","",null,null,-1,-1,1,0]
[null,null,{"$f":"IF(B9970=\"\",\"\",LOOKUP(B9970,Spiele!B:B,Spiele!C:C))","v":""},{"$f":"IF(B9970=\"\",\"\",LOOKUP(B9970,Spiele!B:B,Spiele!D:D))","v":""},{"$f":"IF(B9970=\"\",\"\",LOOKUP(B9970,Spiele!B:B,Spiele!E:E))","v":""},{"$f":"IF(B9970=\"\",\"\",LOOKUP(B9970,Spiele!B:B,Spiele!F:F))","v":""},"","","",null,null,-1,-1,1,0]
[null,null,{"$f":"IF(B9971=\"\",\"\",LOOKUP(B9971,Spiele!B:B,Spiele!C:C))","v":""},{"$f":"IF(B9971=\"\",\"\",LOOKUP(B9971,Spiele!B:B,Spiele!D:D))","v":""},{"$f":"IF(B9971=\"\",\"\",LOOKUP(B9971,Spiele!B:B,Spiele!E:E))","v":""},{"$f":"IF(B9971=\"\",\"\",LOOKUP(B9971,Spiele!B:B,Spiele!F:F))","v":""},"","","",null,null,-1,-1,1,0]
[null,null,{"$f":"IF(B9972=\"\",\"\",LOOKUP(B9972,Spiele!B:B,Spiele!C:C))","v":""},{"$f":"IF(B9972=\"\",\"\",LOOKUP(B9972,Spiele!B:B,Spiele!D:D))","v":""},{"$f":"IF(B9972=\"\",\"\",LOOKUP(B9972,Spiele!B:B,Spiele!E:E))","v":""},{"$f":"IF(B9972=\"\",\"\",LOOKUP(B9972,Spiele!B:B,Spiele!F:F))","v":""},"","","",null,null,-1,-1,1,0]
[null,null,{"$f":"IF(B9973=\"\",\"\",LOOKUP(B9973,Spiele!B:B,Spiele!C:C))","v":""},{"$f":"IF(B9973=\"\",\"\",LOOKUP(B9973,Spiele!B:B,Spiele!D:D))","v":""},{"$f":"IF(B9973=\"\",\"\",LOOKUP(B9973,Spiele!B:B,Spiele!E:E))","v":""},{"$f":"IF(B9973=\"\",\"\",LOOKUP(B9973,Spiele!B:B,Spiele!F:F))","v":""},"","","",null,null,-1,-1,1,0]
[null,null,{"$f":"IF(B9974=\"\",\"\",LOOKUP(B9974,Spiele!B:B,Spiele!C:C))","v":""},{"$f":"IF(B9974=\"\",\"\",LOOKUP(B9974,Spiele!B:B,Spiele!D:D))","v":""},{"$f":"IF(B9974=\"\",\"\",LOOKUP(B9974,Spiele!B:B,Spiele!E:E))","v":""},{"$f":"IF(B9974=\"\",\"\",LOOKUP(B9974,Spiele!B:B,Spiele!F:F))","v":""},"","","",null,null,-1,-1,1,0]
[null,null,{"$f":"IF(B9975=\"\",\"\",LOOKUP(B9975,Spiele!B:B,Spiele!C:C))","v":""},{"$f":"IF(B9975=\"\",\"\",LOOKUP(B9975,Spiele!B:B,Spiele!D:D))","v":""},{"$f":"IF(B9975=\"\",\"\",LOOKUP(B9975,Spiele!B:B,Spiele!E:E))","v":""},{"$f":"IF(B9975=\"\",\"\",LOOKUP(B9975,Spiele!B:B,Spiele!F:F))","v":""},"","","",null,null,-1,-1,1,0]
[null,null,{"$f":"IF(B9976=\"\",\"\",LOOKUP(B9976,Spiele!B:B,Spiele!C:C))","v":""},{"$f":"IF(B9976=\"\",\"\",LOOKUP(B9976,Spiele!B:B,Spiele!D:D))","v":""},{"$f":"IF(B9976=\"\",\"\",LOOKUP(B9976,Spiele!B:B,Spiele!E:E))","v":""},{"$f":"IF(B9976=\"\",\"\",LOOKUP(B9976,Spiele!B:B,Spiele!F:F))","v":""},"","","",null,null,-1,-1,1,0]
[null,null,{"$f":"IF(B9977=\"\",\"\",LOOKUP(B9977,Spiele!B:B,Spiele!C:C))","v":""},{"$f":"IF(B9977=\"\",\"\",LOOKUP(B9977,Spiele!B:B,Spiele!D:D))","v":""},{"$f":"IF(B9977=\"\",\"\",LOOKUP(B9977,Spiele!B:B,Spiele!E:E))","v":""},{"$f":"IF(B9977=\"\",\"\",LOOKUP(B9977,Spiele!B:B,Spiele!F:F))","v":""},"","","",null,null,-1,-1,1,0]
[null,null,{"$f":"IF(B9978=\"\",\"\",LOOKUP(B9978,Spiele!B:B,Spiele!C:C))","v":""},{"$f":"IF(B9978=\"\",\"\",LOOKUP(B9978,Spiele!B:B,Spiele!D:D))","v":""},{"$f":"IF(B9978=\"\",\"\",LOOKUP(B9978,Spiele!B:B,Spiele!E:E))","v":""},{"$f":"IF(B9978=\"\",\"\",LOOKUP(B9978,Spiele!B:B,Spiele!F:F))","v":""},"","","",null,null,-1,-1,1,0]
[null,null,{"$f":"IF(B9979=\"\",\"\",LOOKUP(B9979,Spiele!B:B,Spiele!C:C))","v":""},{"$f":"IF(B9979=\"\",\"\",LOOKUP(B9979,Spiele!B:B,Spiele!D:D))","v":""},{"$f":"IF(B9979=\"\",\"\",LOOKUP(B9979,Spiele!B:B,Spiele!E:E))","v":""},{"$f":"IF(B9979=\"\",\"\",LOOKUP(B9979,Spiele!B:B,Spiele!F:F))","v":""},"","","",null,null,-1,-1,1,0]
[null,null,{"$f":"IF(B9980=\"\",\"\",LOOKUP(B9980,Spiele!B:B,Spiele!C:C))","v":""},{"$f":"IF(B9980=\"\",\"\",LOOKUP(B9980,Spiele!B:B,Spiele!D:D))","v":""},{"$f":"IF(B9980=\"\",\"\",LOOKUP(B9980,Spiele!B:B,Spiele!E:E))","v":""},{"$f":"IF(B9980=\"\",\"\",LOOKUP(B9980,Spiele!B:B,Spiele!F:F))","v":""},"","","",null,null,-1,-1,1,0]
[null,null,{"$f":"IF(B9981=\"\",\"\",LOOKUP(B9981,Spiele!B:B,Spiele!C:C))","v":""},{"$f":"IF(B9981=\"\",\"\",LOOKUP(B9981,Spiele!B:B,Spiele!D:D))","v":""},{"$f":"IF(B9981=\"\",\"\",LOOKUP(B9981,Spiele!B:B,Spiele!E:E))","v":""},{"$f":"IF(B9981=\"\",\"\",LOOKUP(B9981,Spiele!B:B,Spiele!F:F))","v":""},"","","",null,null,-1,-1,1,0]
[null,null,{"$f":"IF(B9982=\"\",\"\",LOOKUP(B9982,Spiele!B:B,Spiele!C:C))","v":""},{"$f":"IF(B9982=\"\",\"\",LOOKUP(B9982,Spiele!B:B,Spiele!D:D))","v":""},{"$f":"IF(B9982=\"\",\"\",LOOKUP(B9982,Spiele!B:B,Spiele!E:E))","v":""},{"$f":"IF(B9982=\"\",\"\",LOOKUP(B9982,Spiele!B:B,Spiele!F:F))","v":""},"","","",null,null,-1,-1,1,0]
[null,null,{"$f":"IF(B9983=\"\",\"\",LOOKUP(B9983,Spiele!B:B,Spiele!C:C))","v":""},{"$f":"IF(B9983=\"\",\"\",LOOKUP(B9983,Spiele!B:B,Spiele!D:D))","v":""},{"$f":"IF(B9983=\"\",\"\",LOOKUP(B9983,Spiele!B:B,Spiele!E:E))","v":""},{"$f":"IF(B9983=\"\",\"\",LOOKUP(B9983,Spiele!B:B,Spiele!F:F))","v":""},"","","",null,null,-1,-1,1,0]
[null,null,{"$f":"IF(B9984=\"\",\"\",LOOKUP(B9984,Spiele!B:B,Spiele!C:C))","v":""},{"$f":"IF(B9984=\"\",\"\",LOOKUP(B9984,Spiele!B:B,Spiele!D:D))","v":""},{"$f":"IF(B9984=\"\",\"\",LOOKUP(B9984,Spiele!B:B,Spiele!E:E))","v":""},{"$f":"IF(B9984=\"\",\"\",LOOKUP(B9984,Spiele!B:B,Spiele!F:F))","v":""},"","","",null,null,-1,-1,1,0]
[null,null,{"$f":"IF(B9985=\"\",\"\",LOOKUP(B9985,Spiele!B:B,Spiele!C:C))","v":""},{"$f":"IF(B9985=\"\",\"\",LOOKUP(B9985,Spiele!B:B,Spiele!D:D))","v":""},{"$f":"IF(B9985=\"\",\"\",LOOKUP(B9985,Spiele!B:B,Spiele!E:E))","v":""},{"$f":"IF(B9985=\"\",\"\",LOOKUP(B9985,Spiele!B:B,Spiele!F:F))","v":""},"","","",null,null,-1,-1,1,0]
[null,null,{"$f":"IF(B9986=\"\",\"\",LOOKUP(B9986,Spiele!B:B,Spiele!C:C))","v":""},{"$f":"IF(B9986=\"\",\"\",LOOKUP(B9986,Spiele!B:B,Spiele!D:D))","v":""},{"$f":"IF(B9986=\"\",\"\",LOOKUP(B9986,Spiele!B:B,Spiele!E:E))","v":""},{"$f":"IF(B9986=\"\",\"\",LOOKUP(B9986,Spiele!B:B,Spiele!F:F))","v":""},"","","",null,null,-1,-1,1,0]
[null,null,{"$f":"IF(B9987=\"\",\"\",LOOKUP(B9987,Spiele!B:B,Spiele!C:C))","v":""},{"$f":"IF(B9987=\"\",\"\",LOOKUP(B9987,Spiele!B:B,Spiele!D:D))","v":""},{"$f":"IF(B9987=\"\",\"\",LOOKUP(B9987,Spiele!B:B,Spiele!E:E))","v":""},{"$f":"IF(B9987=\"\",\"\",LOOKUP(B9987,Spiele!B:B,Spiele!F:F))","v":""},"","","",null,null,-1,-1,1,0]
[null,null,{"$f":"IF(B9988=\"\",\"\",LOOKUP(B9988,Spiele!B:B,Spiele!C:C))","v":""},{"$f":"IF(B9988=\"\",\"\",LOOKUP(B9988,Spiele!B:B,Spiele!D:D))","v":""},{"$f":"IF(B9988=\"\",\"\",LOOKUP(B9988,Spiele!B:B,Spiele!E:E))","v":""},{"$f":"IF(B9988=\"\",\"\",LOOKUP(B9988,Spiele!B:B,Spiele!F:F))","v":""},"","","",null,null,-1,-1,1,0]
[null,null,{"$f":"IF(B9989=\"\",\"\",LOOKUP(B9989,Spiele!B:B,Spiele!C:C))","v":""},{"$f":"IF(B9989=\"\",\"\",LOOKUP(B9989,Spiele!B:B,Spiele!D:D))","v":""},{"$f":"IF(B9989=\"\",\"\",LOOKUP(B9989,Spiele!B:B,Spiele!E:E))","v":""},{"$f":"IF(B9989=\"\",\"\",LOOKUP(B9989,Spiele!B:B,Spiele!F:F))","v":""},"","","",null,null,-1,-1,1,0]
[null,null,{"$f":"IF(B9990=\"\",\"\",LOOKUP(B9990,Spiele!B:B,Spiele!C:C))","v":""},{"$f":"IF(B9990=\"\",\"\",LOOKUP(B9990,Spiele!B:B,Spiele!D:D))","v":""},{"$f":"IF(B9990=\"\",\"\",LOOKUP(B9990,Spiele!B:B,Spiele!E:E))","v":""},{"$f":"IF(B9990=\"\",\"\",LOOKUP(B9990,Spiele!B:B,Spiele!F:F))","v":""},"","","",null,null,-1,-1,1,0]
[null,null,{"$f":"IF(B9991=\"\",\"\",LOOKUP(B9991,Spiele!B:B,Spiele!C:C))","v":""},{"$f":"IF(B9991=\"\",\"\",LOOKUP(B9991,Spiele!B:B,Spiele!D:D))","v":""},{"$f":"IF(B9991=\"\",\"\",LOOKUP(B9991,Spiele!B:B,Spiele!E:E))","v":""},{"$f":"IF(B9991=\"\",\"\",LOOKUP(B9991,Spiele!B:B,Spiele!F:F))","v":""},"","","",null,null,-1,-1,1,0]
[null,null,{"$f":"IF(B9992=\"\",\"\",LOOKUP(B9992,Spiele!B:B,Spiele!C:C))","v":""},{"$f":"IF(B9992=\"\",\"\",LOOKUP(B9992,Spiele!B:B,Spiele!D:D))","v":""},{"$f":"IF(B9992=\"\",\"\",LOOKUP(B9992,Spiele!B:B,Spiele!E:E))","v":""},{"$f":"IF(B9992=\"\",\"\",LOOKUP(B9992,Spiele!B:B,Spiele!F:F))","v":""},"","","",null,null,-1,-1,1,0]
[null,null,{"$f":"IF(B9993=\"\",\"\",LOOKUP(B9993,Spiele!B:B,Spiele!C:C))","v":""},{"$f":"IF(B9993=\"\",\"\",LOOKUP(B9993,Spiele!B:B,Spiele!D:D))","v":""},{"$f":"IF(B9993=\"\",\"\",LOOKUP(B9993,Spiele!B:B,Spiele!E:E))","v":""},{"$f":"IF(B9993=\"\",\"\",LOOKUP(B9993,Spiele!B:B,Spiele!F:F))","v":""},"","","",null,null,-1,-1,1,0]
[null,null,{"$f":"IF(B9994=\"\",\"\",LOOKUP(B9994,Spiele!B:B,Spiele!C:C))","v":""},{"$f":"IF(B9994=\"\",\"\",LOOKUP(B9994,Spiele!B:B,Spiele!D:D))","v":""},{"$f":"IF(B9994=\"\",\"\",LOOKUP(B9994,Spiele!B:B,Spiele!E:E))","v":""},{"$f":"IF(B9994=\"\",\"\",LOOKUP(B9994,Spiele!B:B,Spiele!F:F))","v":""},"","","",null,null,-1,-1,1,0]
[null,null,{"$f":"IF(B9995=\"\",\"\",LOOKUP(B9995,Spiele!B:B,Spiele!C:C))","v":""},{"$f":"IF(B9995=\"\",\"\",LOOKUP(B9995,Spiele!B:B,Spiele!D:D))","v":""},{"$f":"IF(B9995=\"\",\"\",LOOKUP(B9995,Spiele!B:B,Spiele!E:E))","v":""},{"$f":"IF(B9995=\"\",\"\",LOOKUP(B9995,Spiele!B:B,Spiele!F:F))","v":""},"","","",null,null,-1,-1,1,0]
[null,null,{"$f":"IF(B9996=\"\",\"\",LOOKUP(B9996,Spiele!B:B,Spiele!C:C))","v":""},{"$f":"IF(B9996=\"\",\"\",LOOKUP(B9996,Spiele!B:B,Spiele!D:D))","v":""},{"$f":"IF(B9996=\"\",\"\",LOOKUP(B9996,Spiele!B:B,Spiele!E:E))","v":""},{"$f":"IF(B9996=\"\",\"\",LOOKUP(B9996,Spiele!B:B,Spiele!F:F))","v":""},"","","",null,null,-1,-1,1,0]
[null,null,{"$f":"IF(B9997=\"\",\"\",LOOKUP(B9997,Spiele!B:B,Spiele!C:C))","v":""},{"$f":"IF(B9997=\"\",\"\",LOOKUP(B9997,Spiele!B:B,Spiele!D:D))","v":""},{"$f":"IF(B9997=\"\",\"\",LOOKUP(B9997,Spiele!B:B,Spiele!E:E))","v":""},{"$f":"IF(B9997=\"\",\"\",LOOKUP(B9997,Spiele!B:B,Spiele!F:F))","v":""},"","","",null,null,-1,-1,1,0]
[null,null,{"$f":"IF(B9998=\"\",\"\",LOOKUP(B9998,Spiele!B:B,Spiele!C:C))","v":""},{"$f":"IF(B9998=\"\",\"\",LOOKUP(B9998,Spiele!B:B,Spiele!D:D))","v":""},{"$f":"IF(B9998=\"\",\"\",LOOKUP(B9998,Spiele!B:B,Spiele!E:E))","v":""},{"$f":"IF(B9998=\"\",\"\",LOOKUP(B9998,Spiele!B:B,Spiele!F:F))","v":""},"","","",null,null,-1,-1,1,0]
[null,null,{"$f":"IF(B9999=\"\",\"\",LOOKUP(B9999,Spiele!B:B,Spiele!C:C))","v":""},{"$f":"IF(B9999=\"\",\"\",LOOKUP(B9999,Spiele!B:B,Spiele!D:D))","v":""},{"$f":"IF(B9999=\"\",\"\",LOOKUP(B9999,Spiele!B:B,Spiele!E:E))","v":""},{"$f":"IF(B9999=\"\",\"\",LOOKUP(B9999,Spiele!B:B,Spiele!F:F))","v":""},"","","",null,null,-1,-1,1,0]
[null,null,{"$f":"IF(B10000=\"\",\"\",LOOKUP(B10000,Spiele!B:B,Spiele!C:C))","v":""},{"$f":"IF(B10000=\"\",\"\",LOOKUP(B10000,Spiele!B:B,Spiele!D:D))","v":""},{"$f":"IF(B10000=\"\",\"\",LOOKUP(B10000,Spiele!B:B,Spiele!E:E))","v":""},{"$f":"IF(B10000=\"\",\"\",LOOKUP(B10000,Spiele!B:B,Spiele!F:F))","v":""},"","","",null,null,-1,-1,1,0]
[null,null,{"$f":"IF(B10001=\"\",\"\",LOOKUP(B10001,Spiele!B:B,Spiele!C:C))","v":""},{"$f":"IF(B10001=\"\",\"\",LOOKUP(B10001,Spiele!B:B,Spiele!D:D))","v":""},{"$f":"IF(B10001=\"\",\"\",LOOKUP(B10001,Spiele!B:B,Spiele!E:E))","v":""},{"$f":"IF(B10001=\"\",\"\",LOOKUP(B10001,Spiele!B:B,Spiele!F:F))","v":""},"","","",null,null,-1,-1,1,0]
[null,null,{"$f":"IF(B10002=\"\",\"\",LOOKUP(B10002,Spiele!B:B,Spiele!C:C))","v":""},{"$f":"IF(B10002=\"\",\"\",LOOKUP(B10002,Spiele!B:B,Spiele!D:D))","v":""},{"$f":"IF(B10002=\"\",\"\",LOOKUP(B10002,Spiele!B:B,Spiele!E:E))","v":""},{"$f":"IF(B10002=\"\",\"\",LOOKUP(B10002,Spiele!B:B,Spiele!F:F))","v":""},"","","",null,null,-1,-1,1,0]

{"sheet":"Tabelle","index":3,"n_rows":1002,"n_cols":5,"rows_kept":1002,"cut":false,"hidden":false,"merged":[]}
[]
[null,"Platz","Name Wett-Teilnehmer","Punkte","Quote"]
[null,"1.",{"$f":"IF(Teilnehmerliste!B5=\"\",\"\",Teilnehmerliste!B5)","v":"Lattenkracher"},{"$f":"SUMIF(Wetten!P$3:P$10002,C3,Wetten!O$3:O$10002)","v":0},{"$f":"1/SUM($D$3:$D$1002)*D3","v":{"$error":"#DIV/0!"}}]
[null,"2.",{"$f":"IF(Teilnehmerliste!B4=\"\",\"\",Teilnehmerliste!B4)","v":"Blutgrätsche"},{"$f":"SUMIF(Wetten!P$3:P$10002,C4,Wetten!O$3:O$10002)","v":0},{"$f":"1/SUM($D$3:$D$1002)*D4","v":{"$error":"#DIV/0!"}}]
[null,"3.",{"$f":"IF(Teilnehmerliste!B8=\"\",\"\",Teilnehmerliste!B8)","v":"Torwart"},{"$f":"SUMIF(Wetten!P$3:P$10002,C5,Wetten!O$3:O$10002)","v":0},{"$error":"#DIV/0!"}]
[null,"4.",{"$f":"IF(Teilnehmerliste!B6=\"\",\"\",Teilnehmerliste!B6)","v":"Vollpfosten"},{"$f":"SUMIF(Wetten!P$3:P$10002,C6,Wetten!O$3:O$10002)","v":0},{"$error":"#DIV/0!"}]
[null,"5.",{"$f":"IF(Teilnehmerliste!B7=\"\",\"\",Teilnehmerliste!B7)","v":"Stürmer"},{"$f":"SUMIF(Wetten!P$3:P$10002,C7,Wetten!O$3:O$10002)","v":0},{"$error":"#DIV/0!"}]
[null,"6.",{"$f":"IF(Teilnehmerliste!B9=\"\",\"\",Teilnehmerliste!B9)","v":""},{"$f":"SUMIF(Wetten!P$3:P$10002,C8,Wetten!O$3:O$10002)","v":0},{"$error":"#DIV/0!"}]
[null,"7.",{"$f":"IF(Teilnehmerliste!B10=\"\",\"\",Teilnehmerliste!B10)","v":""},{"$f":"SUMIF(Wetten!P$3:P$10002,C9,Wetten!O$3:O$10002)","v":0},{"$error":"#DIV/0!"}]
[null,"8.",{"$f":"IF(Teilnehmerliste!B11=\"\",\"\",Teilnehmerliste!B11)","v":""},{"$f":"SUMIF(Wetten!P$3:P$10002,C10,Wetten!O$3:O$10002)","v":0},{"$error":"#DIV/0!"}]
[null,"9.",{"$f":"IF(Teilnehmerliste!B12=\"\",\"\",Teilnehmerliste!B12)","v":""},{"$f":"SUMIF(Wetten!P$3:P$10002,C11,Wetten!O$3:O$10002)","v":0},{"$error":"#DIV/0!"}]
[null,"10.",{"$f":"IF(Teilnehmerliste!B13=\"\",\"\",Teilnehmerliste!B13)","v":""},{"$f":"SUMIF(Wetten!P$3:P$10002,C12,Wetten!O$3:O$10002)","v":0},{"$error":"#DIV/0!"}]
[null,"11.",{"$f":"IF(Teilnehmerliste!B14=\"\",\"\",Teilnehmerliste!B14)","v":""},{"$f":"SUMIF(Wetten!P$3:P$10002,C13,Wetten!O$3:O$10002)","v":0},{"$error":"#DIV/0!"}]
[null,"12.",{"$f":"IF(Teilnehmerliste!B15=\"\",\"\",Teilnehmerliste!B15)","v":""},{"$f":"SUMIF(Wetten!P$3:P$10002,C14,Wetten!O$3:O$10002)","v":0},{"$error":"#DIV/0!"}]
[null,"13.",{"$f":"IF(Teilnehmerliste!B16=\"\",\"\",Teilnehmerliste!B16)","v":""},{"$f":"SUMIF(Wetten!P$3:P$10002,C15,Wetten!O$3:O$10002)","v":0},{"$error":"#DIV/0!"}]
[null,"14.",{"$f":"IF(Teilnehmerliste!B17=\"\",\"\",Teilnehmerliste!B17)","v":""},{"$f":"SUMIF(Wetten!P$3:P$10002,C16,Wetten!O$3:O$10002)","v":0},{"$error":"#DIV/0!"}]
[null,"15.",{"$f":"IF(Teilnehmerliste!B18=\"\",\"\",Teilnehmerliste!B18)","v":""},{"$f":"SUMIF(Wetten!P$3:P$10002,C17,Wetten!O$3:O$10002)","v":0},{"$error":"#DIV/0!"}]
[null,"16.",{"$f":"IF(Teilnehmerliste!B19=\"\",\"\",Teilnehmerliste!B19)","v":""},{"$f":"SUMIF(Wetten!P$3:P$10002,C18,Wetten!O$3:O$10002)","v":0},{"$error":"#DIV/0!"}]
[null,"17.",{"$f":"IF(Teilnehmerliste!B20=\"\",\"\",Teilnehmerliste!B20)","v":""},{"$f":"SUMIF(Wetten!P$3:P$10002,C19,Wetten!O$3:O$10002)","v":0},{"$error":"#DIV/0!"}]
[null,"18.",{"$f":"IF(Teilnehmerliste!B21=\"\",\"\",Teilnehmerliste!B21)","v":""},{"$f":"SUMIF(Wetten!P$3:P$10002,C20,Wetten!O$3:O$10002)","v":0},{"$error":"#DIV/0!"}]
[null,"19.",{"$f":"IF(Teilnehmerliste!B22=\"\",\"\",Teilnehmerliste!B22)","v":""},{"$f":"SUMIF(Wetten!P$3:P$10002,C21,Wetten!O$3:O$10002)","v":0},{"$error":"#DIV/0!"}]
[null,"20.",{"$f":"IF(Teilnehmerliste!B23=\"\",\"\",Teilnehmerliste!B23)","v":""},{"$f":"SUMIF(Wetten!P$3:P$10002,C22,Wetten!O$3:O$10002)","v":0},{"$error":"#DIV/0!"}]
[null,"21.",{"$f":"IF(Teilnehmerliste!B24=\"\",\"\",Teilnehmerliste!B24)","v":""},{"$f":"SUMIF(Wetten!P$3:P$10002,C23,Wetten!O$3:O$10002)","v":0},{"$error":"#DIV/0!"}]
[null,"22.",{"$f":"IF(Teilnehmerliste!B25=\"\",\"\",Teilnehmerliste!B25)","v":""},{"$f":"SUMIF(Wetten!P$3:P$10002,C24,Wetten!O$3:O$10002)","v":0},{"$error":"#DIV/0!"}]
[null,"23.",{"$f":"IF(Teilnehmerliste!B26=\"\",\"\",Teilnehmerliste!B26)","v":""},{"$f":"SUMIF(Wetten!P$3:P$10002,C25,Wetten!O$3:O$10002)","v":0},{"$error":"#DIV/0!"}]
[null,"24.",{"$f":"IF(Teilnehmerliste!B27=\"\",\"\",Teilnehmerliste!B27)","v":""},{"$f":"SUMIF(Wetten!P$3:P$10002,C26,Wetten!O$3:O$10002)","v":0},{"$error":"#DIV/0!"}]
[null,"25.",{"$f":"IF(Teilnehmerliste!B28=\"\",\"\",Teilnehmerliste!B28)","v":""},{"$f":"SUMIF(Wetten!P$3:P$10002,C27,Wetten!O$3:O$10002)","v":0},{"$error":"#DIV/0!"}]
[null,"26.",{"$f":"IF(Teilnehmerliste!B29=\"\",\"\",Teilnehmerliste!B29)","v":""},{"$f":"SUMIF(Wetten!P$3:P$10002,C28,Wetten!O$3:O$10002)","v":0},{"$error":"#DIV/0!"}]
[null,"27.",{"$f":"IF(Teilnehmerliste!B30=\"\",\"\",Teilnehmerliste!B30)","v":""},{"$f":"SUMIF(Wetten!P$3:P$10002,C29,Wetten!O$3:O$10002)","v":0},{"$error":"#DIV/0!"}]
[null,"28.",{"$f":"IF(Teilnehmerliste!B31=\"\",\"\",Teilnehmerliste!B31)","v":""},{"$f":"SUMIF(Wetten!P$3:P$10002,C30,Wetten!O$3:O$10002)","v":0},{"$error":"#DIV/0!"}]
[null,"29.",{"$f":"IF(Teilnehmerliste!B32=\"\",\"\",Teilnehmerliste!B32)","v":""},{"$f":"SUMIF(Wetten!P$3:P$10002,C31,Wetten!O$3:O$10002)","v":0},{"$error":"#DIV/0!"}]
[null,"30.",{"$f":"IF(Teilnehmerliste!B33=\"\",\"\",Teilnehmerliste!B33)","v":""},{"$f":"SUMIF(Wetten!P$3:P$10002,C32,Wetten!O$3:O$10002)","v":0},{"$error":"#DIV/0!"}]
[null,"31.",{"$f":"IF(Teilnehmerliste!B34=\"\",\"\",Teilnehmerliste!B34)","v":""},{"$f":"SUMIF(Wetten!P$3:P$10002,C33,Wetten!O$3:O$10002)","v":0},{"$error":"#DIV/0!"}]
[null,"32.",{"$f":"IF(Teilnehmerliste!B35=\"\",\"\",Teilnehmerliste!B35)","v":""},{"$f":"SUMIF(Wetten!P$3:P$10002,C34,Wetten!O$3:O$10002)","v":0},{"$error":"#DIV/0!"}]
[null,"33.",{"$f":"IF(Teilnehmerliste!B36=\"\",\"\",Teilnehmerliste!B36)","v":""},{"$f":"SUMIF(Wetten!P$3:P$10002,C35,Wetten!O$3:O$10002)","v":0},{"$error":"#DIV/0!"}]
[null,"34.",{"$f":"IF(Teilnehmerliste!B37=\"\",\"\",Teilnehmerliste!B37)","v":""},{"$f":"SUMIF(Wetten!P$3:P$10002,C36,Wetten!O$3:O$10002)","v":0},{"$error":"#DIV/0!"}]
[null,"35.",{"$f":"IF(Teilnehmerliste!B38=\"\",\"\",Teilnehmerliste!B38)","v":""},{"$f":"SUMIF(Wetten!P$3:P$10002,C37,Wetten!O$3:O$10002)","v":0},{"$error":"#DIV/0!"}]
[null,"36.",{"$f":"IF(Teilnehmerliste!B39=\"\",\"\",Teilnehmerliste!B39)","v":""},{"$f":"SUMIF(Wetten!P$3:P$10002,C38,Wetten!O$3:O$10002)","v":0},{"$error":"#DIV/0!"}]
[null,"37.",{"$f":"IF(Teilnehmerliste!B40=\"\",\"\",Teilnehmerliste!B40)","v":""},{"$f":"SUMIF(Wetten!P$3:P$10002,C39,Wetten!O$3:O$10002)","v":0},{"$error":"#DIV/0!"}]
[null,"38.",{"$f":"IF(Teilnehmerliste!B41=\"\",\"\",Teilnehmerliste!B41)","v":""},{"$f":"SUMIF(Wetten!P$3:P$10002,C40,Wetten!O$3:O$10002)","v":0},{"$error":"#DIV/0!"}]
[null,"39.",{"$f":"IF(Teilnehmerliste!B42=\"\",\"\",Teilnehmerliste!B42)","v":""},{"$f":"SUMIF(Wetten!P$3:P$10002,C41,Wetten!O$3:O$10002)","v":0},{"$error":"#DIV/0!"}]
[null,"40.",{"$f":"IF(Teilnehmerliste!B43=\"\",\"\",Teilnehmerliste!B43)","v":""},{"$f":"SUMIF(Wetten!P$3:P$10002,C42,Wetten!O$3:O$10002)","v":0},{"$error":"#DIV/0!"}]
[null,"41.",{"$f":"IF(Teilnehmerliste!B44=\"\",\"\",Teilnehmerliste!B44)","v":""},{"$f":"SUMIF(Wetten!P$3:P$10002,C43,Wetten!O$3:O$10002)","v":0},{"$error":"#DIV/0!"}]
[null,"42.",{"$f":"IF(Teilnehmerliste!B45=\"\",\"\",Teilnehmerliste!B45)","v":""},{"$f":"SUMIF(Wetten!P$3:P$10002,C44,Wetten!O$3:O$10002)","v":0},{"$error":"#DIV/0!"}]
[null,"43.",{"$f":"IF(Teilnehmerliste!B46=\"\",\"\",Teilnehmerliste!B46)","v":""},{"$f":"SUMIF(Wetten!P$3:P$10002,C45,Wetten!O$3:O$10002)","v":0},{"$error":"#DIV/0!"}]
[null,"44.",{"$f":"IF(Teilnehmerliste!B47=\"\",\"\",Teilnehmerliste!B47)","v":""},{"$f":"SUMIF(Wetten!P$3:P$10002,C46,Wetten!O$3:O$10002)","v":0},{"$error":"#DIV/0!"}]
[null,"45.",{"$f":"IF(Teilnehmerliste!B48=\"\",\"\",Teilnehmerliste!B48)","v":""},{"$f":"SUMIF(Wetten!P$3:P$10002,C47,Wetten!O$3:O$10002)","v":0},{"$error":"#DIV/0!"}]
[null,"46.",{"$f":"IF(Teilnehmerliste!B49=\"\",\"\",Teilnehmerliste!B49)","v":""},{"$f":"SUMIF(Wetten!P$3:P$10002,C48,Wetten!O$3:O$10002)","v":0},{"$error":"#DIV/0!"}]
[null,"47.",{"$f":"IF(Teilnehmerliste!B50=\"\",\"\",Teilnehmerliste!B50)","v":""},{"$f":"SUMIF(Wetten!P$3:P$10002,C49,Wetten!O$3:O$10002)","v":0},{"$error":"#DIV/0!"}]
[null,"48.",{"$f":"IF(Teilnehmerliste!B51=\"\",\"\",Teilnehmerliste!B51)","v":""},{"$f":"SUMIF(Wetten!P$3:P$10002,C50,Wetten!O$3:O$10002)","v":0},{"$error":"#DIV/0!"}]
[null,"49.",{"$f":"IF(Teilnehmerliste!B52=\"\",\"\",Teilnehmerliste!B52)","v":""},{"$f":"SUMIF(Wetten!P$3:P$10002,C51,Wetten!O$3:O$10002)","v":0},{"$error":"#DIV/0!"}]
[null,"50.",{"$f":"IF(Teilnehmerliste!B53=\"\",\"\",Teilnehmerliste!B53)","v":""},{"$f":"SUMIF(Wetten!P$3:P$10002,C52,Wetten!O$3:O$10002)","v":0},{"$error":"#DIV/0!"}]
[null,"51.",{"$f":"IF(Teilnehmerliste!B54=\"\",\"\",Teilnehmerliste!B54)","v":""},{"$f":"SUMIF(Wetten!P$3:P$10002,C53,Wetten!O$3:O$10002)","v":0},{"$error":"#DIV/0!"}]
[null,"52.",{"$f":"IF(Teilnehmerliste!B55=\"\",\"\",Teilnehmerliste!B55)","v":""},{"$f":"SUMIF(Wetten!P$3:P$10002,C54,Wetten!O$3:O$10002)","v":0},{"$error":"#DIV/0!"}]
[null,"53.",{"$f":"IF(Teilnehmerliste!B56=\"\",\"\",Teilnehmerliste!B56)","v":""},{"$f":"SUMIF(Wetten!P$3:P$10002,C55,Wetten!O$3:O$10002)","v":0},{"$error":"#DIV/0!"}]
[null,"54.",{"$f":"IF(Teilnehmerliste!B57=\"\",\"\",Teilnehmerliste!B57)","v":""},{"$f":"SUMIF(Wetten!P$3:P$10002,C56,Wetten!O$3:O$10002)","v":0},{"$error":"#DIV/0!"}]
[null,"55.",{"$f":"IF(Teilnehmerliste!B58=\"\",\"\",Teilnehmerliste!B58)","v":""},{"$f":"SUMIF(Wetten!P$3:P$10002,C57,Wetten!O$3:O$10002)","v":0},{"$error":"#DIV/0!"}]
[null,"56.",{"$f":"IF(Teilnehmerliste!B59=\"\",\"\",Teilnehmerliste!B59)","v":""},{"$f":"SUMIF(Wetten!P$3:P$10002,C58,Wetten!O$3:O$10002)","v":0},{"$error":"#DIV/0!"}]
[null,"57.",{"$f":"IF(Teilnehmerliste!B60=\"\",\"\",Teilnehmerliste!B60)","v":""},{"$f":"SUMIF(Wetten!P$3:P$10002,C59,Wetten!O$3:O$10002)","v":0},{"$error":"#DIV/0!"}]
[null,"58.",{"$f":"IF(Teilnehmerliste!B61=\"\",\"\",Teilnehmerliste!B61)","v":""},{"$f":"SUMIF(Wetten!P$3:P$10002,C60,Wetten!O$3:O$10002)","v":0},{"$error":"#DIV/0!"}]
[null,"59.",{"$f":"IF(Teilnehmerliste!B62=\"\",\"\",Teilnehmerliste!B62)","v":""},{"$f":"SUMIF(Wetten!P$3:P$10002,C61,Wetten!O$3:O$10002)","v":0},{"$error":"#DIV/0!"}]
[null,"60.",{"$f":"IF(Teilnehmerliste!B63=\"\",\"\",Teilnehmerliste!B63)","v":""},{"$f":"SUMIF(Wetten!P$3:P$10002,C62,Wetten!O$3:O$10002)","v":0},{"$error":"#DIV/0!"}]
[null,"61.",{"$f":"IF(Teilnehmerliste!B64=\"\",\"\",Teilnehmerliste!B64)","v":""},{"$f":"SUMIF(Wetten!P$3:P$10002,C63,Wetten!O$3:O$10002)","v":0},{"$error":"#DIV/0!"}]
[null,"62.",{"$f":"IF(Teilnehmerliste!B65=\"\",\"\",Teilnehmerliste!B65)","v":""},{"$f":"SUMIF(Wetten!P$3:P$10002,C64,Wetten!O$3:O$10002)","v":0},{"$error":"#DIV/0!"}]
[null,"63.",{"$f":"IF(Teilnehmerliste!B66=\"\",\"\",Teilnehmerliste!B66)","v":""},{"$f":"SUMIF(Wetten!P$3:P$10002,C65,Wetten!O$3:O$10002)","v":0},{"$error":"#DIV/0!"}]
[null,"64.",{"$f":"IF(Teilnehmerliste!B67=\"\",\"\",Teilnehmerliste!B67)","v":""},{"$f":"SUMIF(Wetten!P$3:P$10002,C66,Wetten!O$3:O$10002)","v":0},{"$error":"#DIV/0!"}]
[null,"65.",{"$f":"IF(Teilnehmerliste!B68=\"\",\"\",Teilnehmerliste!B68)","v":""},{"$f":"SUMIF(Wetten!P$3:P$10002,C67,Wetten!O$3:O$10002)","v":0},{"$error":"#DIV/0!"}]
[null,"66.",{"$f":"IF(Teilnehmerliste!B69=\"\",\"\",Teilnehmerliste!B69)","v":""},{"$f":"SUMIF(Wetten!P$3:P$10002,C68,Wetten!O$3:O$10002)","v":0},{"$f":"1/SUM($D$3:$D$1002)*D68","v":{"$error":"#DIV/0!"}}]
[null,"67.",{"$f":"IF(Teilnehmerliste!B70=\"\",\"\",Teilnehmerliste!B70)","v":""},{"$f":"SUMIF(Wetten!P$3:P$10002,C69,Wetten!O$3:O$10002)","v":0},{"$error":"#DIV/0!"}]
[null,"68.",{"$f":"IF(Teilnehmerliste!B71=\"\",\"\",Teilnehmerliste!B71)","v":""},{"$f":"SUMIF(Wetten!P$3:P$10002,C70,Wetten!O$3:O$10002)","v":0},{"$error":"#DIV/0!"}]
[null,"69.",{"$f":"IF(Teilnehmerliste!B72=\"\",\"\",Teilnehmerliste!B72)","v":""},{"$f":"SUMIF(Wetten!P$3:P$10002,C71,Wetten!O$3:O$10002)","v":0},{"$error":"#DIV/0!"}]
[null,"70.",{"$f":"IF(Teilnehmerliste!B73=\"\",\"\",Teilnehmerliste!B73)","v":""},{"$f":"SUMIF(Wetten!P$3:P$10002,C72,Wetten!O$3:O$10002)","v":0},{"$error":"#DIV/0!"}]
[null,"71.",{"$f":"IF(Teilnehmerliste!B74=\"\",\"\",Teilnehmerliste!B74)","v":""},{"$f":"SUMIF(Wetten!P$3:P$10002,C73,Wetten!O$3:O$10002)","v":0},{"$error":"#DIV/0!"}]
[null,"72.",{"$f":"IF(Teilnehmerliste!B75=\"\",\"\",Teilnehmerliste!B75)","v":""},{"$f":"SUMIF(Wetten!P$3:P$10002,C74,Wetten!O$3:O$10002)","v":0},{"$error":"#DIV/0!"}]
[null,"73.",{"$f":"IF(Teilnehmerliste!B76=\"\",\"\",Teilnehmerliste!B76)","v":""},{"$f":"SUMIF(Wetten!P$3:P$10002,C75,Wetten!O$3:O$10002)","v":0},{"$error":"#DIV/0!"}]
[null,"74.",{"$f":"IF(Teilnehmerliste!B77=\"\",\"\",Teilnehmerliste!B77)","v":""},{"$f":"SUMIF(Wetten!P$3:P$10002,C76,Wetten!O$3:O$10002)","v":0},{"$error":"#DIV/0!"}]
[null,"75.",{"$f":"IF(Teilnehmerliste!B78=\"\",\"\",Teilnehmerliste!B78)","v":""},{"$f":"SUMIF(Wetten!P$3:P$10002,C77,Wetten!O$3:O$10002)","v":0},{"$error":"#DIV/0!"}]
[null,"76.",{"$f":"IF(Teilnehmerliste!B79=\"\",\"\",Teilnehmerliste!B79)","v":""},{"$f":"SUMIF(Wetten!P$3:P$10002,C78,Wetten!O$3:O$10002)","v":0},{"$error":"#DIV/0!"}]
[null,"77.",{"$f":"IF(Teilnehmerliste!B80=\"\",\"\",Teilnehmerliste!B80)","v":""},{"$f":"SUMIF(Wetten!P$3:P$10002,C79,Wetten!O$3:O$10002)","v":0},{"$error":"#DIV/0!"}]
[null,"78.",{"$f":"IF(Teilnehmerliste!B81=\"\",\"\",Teilnehmerliste!B81)","v":""},{"$f":"SUMIF(Wetten!P$3:P$10002,C80,Wetten!O$3:O$10002)","v":0},{"$error":"#DIV/0!"}]
[null,"79.",{"$f":"IF(Teilnehmerliste!B82=\"\",\"\",Teilnehmerliste!B82)","v":""},{"$f":"SUMIF(Wetten!P$3:P$10002,C81,Wetten!O$3:O$10002)","v":0},{"$error":"#DIV/0!"}]
[null,"80.",{"$f":"IF(Teilnehmerliste!B83=\"\",\"\",Teilnehmerliste!B83)","v":""},{"$f":"SUMIF(Wetten!P$3:P$10002,C82,Wetten!O$3:O$10002)","v":0},{"$error":"#DIV/0!"}]
[null,"81.",{"$f":"IF(Teilnehmerliste!B84=\"\",\"\",Teilnehmerliste!B84)","v":""},{"$f":"SUMIF(Wetten!P$3:P$10002,C83,Wetten!O$3:O$10002)","v":0},{"$error":"#DIV/0!"}]
[null,"82.",{"$f":"IF(Teilnehmerliste!B85=\"\",\"\",Teilnehmerliste!B85)","v":""},{"$f":"SUMIF(Wetten!P$3:P$10002,C84,Wetten!O$3:O$10002)","v":0},{"$error":"#DIV/0!"}]
[null,"83.",{"$f":"IF(Teilnehmerliste!B86=\"\",\"\",Teilnehmerliste!B86)","v":""},{"$f":"SUMIF(Wetten!P$3:P$10002,C85,Wetten!O$3:O$10002)","v":0},{"$error":"#DIV/0!"}]
[null,"84.",{"$f":"IF(Teilnehmerliste!B87=\"\",\"\",Teilnehmerliste!B87)","v":""},{"$f":"SUMIF(Wetten!P$3:P$10002,C86,Wetten!O$3:O$10002)","v":0},{"$error":"#DIV/0!"}]
[null,"85.",{"$f":"IF(Teilnehmerliste!B88=\"\",\"\",Teilnehmerliste!B88)","v":""},{"$f":"SUMIF(Wetten!P$3:P$10002,C87,Wetten!O$3:O$10002)","v":0},{"$error":"#DIV/0!"}]
[null,"86.",{"$f":"IF(Teilnehmerliste!B89=\"\",\"\",Teilnehmerliste!B89)","v":""},{"$f":"SUMIF(Wetten!P$3:P$10002,C88,Wetten!O$3:O$10002)","v":0},{"$error":"#DIV/0!"}]
[null,"87.",{"$f":"IF(Teilnehmerliste!B90=\"\",\"\",Teilnehmerliste!B90)","v":""},{"$f":"SUMIF(Wetten!P$3:P$10002,C89,Wetten!O$3:O$10002)","v":0},{"$error":"#DIV/0!"}]
[null,"88.",{"$f":"IF(Teilnehmerliste!B91=\"\",\"\",Teilnehmerliste!B91)","v":""},{"$f":"SUMIF(Wetten!P$3:P$10002,C90,Wetten!O$3:O$10002)","v":0},{"$error":"#DIV/0!"}]
[null,"89.",{"$f":"IF(Teilnehmerliste!B92=\"\",\"\",Teilnehmerliste!B92)","v":""},{"$f":"SUMIF(Wetten!P$3:P$10002,C91,Wetten!O$3:O$10002)","v":0},{"$error":"#DIV/0!"}]
[null,"90.",{"$f":"IF(Teilnehmerliste!B93=\"\",\"\",Teilnehmerliste!B93)","v":""},{"$f":"SUMIF(Wetten!P$3:P$10002,C92,Wetten!O$3:O$10002)","v":0},{"$error":"#DIV/0!"}]
[null,"91.",{"$f":"IF(Teilnehmerliste!B94=\"\",\"\",Teilnehmerliste!B94)","v":""},{"$f":"SUMIF(Wetten!P$3:P$10002,C93,Wetten!O$3:O$10002)","v":0},{"$error":"#DIV/0!"}]
[null,"92.",{"$f":"IF(Teilnehmerliste!B95=\"\",\"\",Teilnehmerliste!B95)","v":""},{"$f":"SUMIF(Wetten!P$3:P$10002,C94,Wetten!O$3:O$10002)","v":0},{"$error":"#DIV/0!"}]
[null,"93.",{"$f":"IF(Teilnehmerliste!B96=\"\",\"\",Teilnehmerliste!B96)","v":""},{"$f":"SUMIF(Wetten!P$3:P$10002,C95,Wetten!O$3:O$10002)","v":0},{"$error":"#DIV/0!"}]
[null,"94.",{"$f":"IF(Teilnehmerliste!B97=\"\",\"\",Teilnehmerliste!B97)","v":""},{"$f":"SUMIF(Wetten!P$3:P$10002,C96,Wetten!O$3:O$10002)","v":0},{"$error":"#DIV/0!"}]
[null,"95.",{"$f":"IF(Teilnehmerliste!B98=\"\",\"\",Teilnehmerliste!B98)","v":""},{"$f":"SUMIF(Wetten!P$3:P$10002,C97,Wetten!O$3:O$10002)","v":0},{"$error":"#DIV/0!"}]
[null,"96.",{"$f":"IF(Teilnehmerliste!B99=\"\",\"\",Teilnehmerliste!B99)","v":""},{"$f":"SUMIF(Wetten!P$3:P$10002,C98,Wetten!O$3:O$10002)","v":0},{"$error":"#DIV/0!"}]
[null,"97.",{"$f":"IF(Teilnehmerliste!B100=\"\",\"\",Teilnehmerliste!B100)","v":""},{"$f":"SUMIF(Wetten!P$3:P$10002,C99,Wetten!O$3:O$10002)","v":0},{"$error":"#DIV/0!"}]
[null,"98.",{"$f":"IF(Teilnehmerliste!B101=\"\",\"\",Teilnehmerliste!B101)","v":""},{"$f":"SUMIF(Wetten!P$3:P$10002,C100,Wetten!O$3:O$10002)","v":0},{"$error":"#DIV/0!"}]
[null,"99.",{"$f":"IF(Teilnehmerliste!B102=\"\",\"\",Teilnehmerliste!B102)","v":""},{"$f":"SUMIF(Wetten!P$3:P$10002,C101,Wetten!O$3:O$10002)","v":0},{"$error":"#DIV/0!"}]
[null,"100.",{"$f":"IF(Teilnehmerliste!B103=\"\",\"\",Teilnehmerliste!B103)","v":""},{"$f":"SUMIF(Wetten!P$3:P$10002,C102,Wetten!O$3:O$10002)","v":0},{"$error":"#DIV/0!"}]
[null,"101.",{"$f":"IF(Teilnehmerliste!B104=\"\",\"\",Teilnehmerliste!B104)","v":""},{"$f":"SUMIF(Wetten!P$3:P$10002,C103,Wetten!O$3:O$10002)","v":0},{"$error":"#DIV/0!"}]
[null,"102.",{"$f":"IF(Teilnehmerliste!B105=\"\",\"\",Teilnehmerliste!B105)","v":""},{"$f":"SUMIF(Wetten!P$3:P$10002,C104,Wetten!O$3:O$10002)","v":0},{"$error":"#DIV/0!"}]
[null,"103.",{"$f":"IF(Teilnehmerliste!B106=\"\",\"\",Teilnehmerliste!B106)","v":""},{"$f":"SUMIF(Wetten!P$3:P$10002,C105,Wetten!O$3:O$10002)","v":0},{"$error":"#DIV/0!"}]
[null,"104.",{"$f":"IF(Teilnehmerliste!B107=\"\",\"\",Teilnehmerliste!B107)","v":""},{"$f":"SUMIF(Wetten!P$3:P$10002,C106,Wetten!O$3:O$10002)","v":0},{"$error":"#DIV/0!"}]
[null,"105.",{"$f":"IF(Teilnehmerliste!B108=\"\",\"\",Teilnehmerliste!B108)","v":""},{"$f":"SUMIF(Wetten!P$3:P$10002,C107,Wetten!O$3:O$10002)","v":0},{"$error":"#DIV/0!"}]
[null,"106.",{"$f":"IF(Teilnehmerliste!B109=\"\",\"\",Teilnehmerliste!B109)","v":""},{"$f":"SUMIF(Wetten!P$3:P$10002,C108,Wetten!O$3:O$10002)","v":0},{"$error":"#DIV/0!"}]
[null,"107.",{"$f":"IF(Teilnehmerliste!B110=\"\",\"\",Teilnehmerliste!B110)","v":""},{"$f":"SUMIF(Wetten!P$3:P$10002,C109,Wetten!O$3:O$10002)","v":0},{"$error":"#DIV/0!"}]
[null,"108.",{"$f":"IF(Teilnehmerliste!B111=\"\",\"\",Teilnehmerliste!B111)","v":""},{"$f":"SUMIF(Wetten!P$3:P$10002,C110,Wetten!O$3:O$10002)","v":0},{"$error":"#DIV/0!"}]
[null,"109.",{"$f":"IF(Teilnehmerliste!B112=\"\",\"\",Teilnehmerliste!B112)","v":""},{"$f":"SUMIF(Wetten!P$3:P$10002,C111,Wetten!O$3:O$10002)","v":0},{"$error":"#DIV/0!"}]
[null,"110.",{"$f":"IF(Teilnehmerliste!B113=\"\",\"\",Teilnehmerliste!B113)","v":""},{"$f":"SUMIF(Wetten!P$3:P$10002,C112,Wetten!O$3:O$10002)","v":0},{"$error":"#DIV/0!"}]
[null,"111.",{"$f":"IF(Teilnehmerliste!B114=\"\",\"\",Teilnehmerliste!B114)","v":""},{"$f":"SUMIF(Wetten!P$3:P$10002,C113,Wetten!O$3:O$10002)","v":0},{"$error":"#DIV/0!"}]
[null,"112.",{"$f":"IF(Teilnehmerliste!B115=\"\",\"\",Teilnehmerliste!B115)","v":""},{"$f":"SUMIF(Wetten!P$3:P$10002,C114,Wetten!O$3:O$10002)","v":0},{"$error":"#DIV/0!"}]
[null,"113.",{"$f":"IF(Teilnehmerliste!B116=\"\",\"\",Teilnehmerliste!B116)","v":""},{"$f":"SUMIF(Wetten!P$3:P$10002,C115,Wetten!O$3:O$10002)","v":0},{"$error":"#DIV/0!"}]
[null,"114.",{"$f":"IF(Teilnehmerliste!B117=\"\",\"\",Teilnehmerliste!B117)","v":""},{"$f":"SUMIF(Wetten!P$3:P$10002,C116,Wetten!O$3:O$10002)","v":0},{"$error":"#DIV/0!"}]
[null,"115.",{"$f":"IF(Teilnehmerliste!B118=\"\",\"\",Teilnehmerliste!B118)","v":""},{"$f":"SUMIF(Wetten!P$3:P$10002,C117,Wetten!O$3:O$10002)","v":0},{"$error":"#DIV/0!"}]
[null,"116.",{"$f":"IF(Teilnehmerliste!B119=\"\",\"\",Teilnehmerliste!B119)","v":""},{"$f":"SUMIF(Wetten!P$3:P$10002,C118,Wetten!O$3:O$10002)","v":0},{"$error":"#DIV/0!"}]
[null,"117.",{"$f":"IF(Teilnehmerliste!B120=\"\",\"\",Teilnehmerliste!B120)","v":""},{"$f":"SUMIF(Wetten!P$3:P$10002,C119,Wetten!O$3:O$10002)","v":0},{"$error":"#DIV/0!"}]
[null,"118.",{"$f":"IF(Teilnehmerliste!B121=\"\",\"\",Teilnehmerliste!B121)","v":""},{"$f":"SUMIF(Wetten!P$3:P$10002,C120,Wetten!O$3:O$10002)","v":0},{"$error":"#DIV/0!"}]
[null,"119.",{"$f":"IF(Teilnehmerliste!B122=\"\",\"\",Teilnehmerliste!B122)","v":""},{"$f":"SUMIF(Wetten!P$3:P$10002,C121,Wetten!O$3:O$10002)","v":0},{"$error":"#DIV/0!"}]
[null,"120.",{"$f":"IF(Teilnehmerliste!B123=\"\",\"\",Teilnehmerliste!B123)","v":""},{"$f":"SUMIF(Wetten!P$3:P$10002,C122,Wetten!O$3:O$10002)","v":0},{"$error":"#DIV/0!"}]
[null,"121.",{"$f":"IF(Teilnehmerliste!B124=\"\",\"\",Teilnehmerliste!B124)","v":""},{"$f":"SUMIF(Wetten!P$3:P$10002,C123,Wetten!O$3:O$10002)","v":0},{"$error":"#DIV/0!"}]
[null,"122.",{"$f":"IF(Teilnehmerliste!B125=\"\",\"\",Teilnehmerliste!B125)","v":""},{"$f":"SUMIF(Wetten!P$3:P$10002,C124,Wetten!O$3:O$10002)","v":0},{"$error":"#DIV/0!"}]
[null,"123.",{"$f":"IF(Teilnehmerliste!B126=\"\",\"\",Teilnehmerliste!B126)","v":""},{"$f":"SUMIF(Wetten!P$3:P$10002,C125,Wetten!O$3:O$10002)","v":0},{"$error":"#DIV/0!"}]
[null,"124.",{"$f":"IF(Teilnehmerliste!B127=\"\",\"\",Teilnehmerliste!B127)","v":""},{"$f":"SUMIF(Wetten!P$3:P$10002,C126,Wetten!O$3:O$10002)","v":0},{"$error":"#DIV/0!"}]
[null,"125.",{"$f":"IF(Teilnehmerliste!B128=\"\",\"\",Teilnehmerliste!B128)","v":""},{"$f":"SUMIF(Wetten!P$3:P$10002,C127,Wetten!O$3:O$10002)","v":0},{"$error":"#DIV/0!"}]
[null,"126.",{"$f":"IF(Teilnehmerliste!B129=\"\",\"\",Teilnehmerliste!B129)","v":""},{"$f":"SUMIF(Wetten!P$3:P$10002,C128,Wetten!O$3:O$10002)","v":0},{"$error":"#DIV/0!"}]
[null,"127.",{"$f":"IF(Teilnehmerliste!B130=\"\",\"\",Teilnehmerliste!B130)","v":""},{"$f":"SUMIF(Wetten!P$3:P$10002,C129,Wetten!O$3:O$10002)","v":0},{"$error":"#DIV/0!"}]
[null,"128.",{"$f":"IF(Teilnehmerliste!B131=\"\",\"\",Teilnehmerliste!B131)","v":""},{"$f":"SUMIF(Wetten!P$3:P$10002,C130,Wetten!O$3:O$10002)","v":0},{"$error":"#DIV/0!"}]
[null,"129.",{"$f":"IF(Teilnehmerliste!B132=\"\",\"\",Teilnehmerliste!B132)","v":""},{"$f":"SUMIF(Wetten!P$3:P$10002,C131,Wetten!O$3:O$10002)","v":0},{"$error":"#DIV/0!"}]
[null,"130.",{"$f":"IF(Teilnehmerliste!B133=\"\",\"\",Teilnehmerliste!B133)","v":""},{"$f":"SUMIF(Wetten!P$3:P$10002,C132,Wetten!O$3:O$10002)","v":0},{"$f":"1/SUM($D$3:$D$1002)*D132","v":{"$error":"#DIV/0!"}}]
[null,"131.",{"$f":"IF(Teilnehmerliste!B134=\"\",\"\",Teilnehmerliste!B134)","v":""},{"$f":"SUMIF(Wetten!P$3:P$10002,C133,Wetten!O$3:O$10002)","v":0},{"$error":"#DIV/0!"}]
[null,"132.",{"$f":"IF(Teilnehmerliste!B135=\"\",\"\",Teilnehmerliste!B135)","v":""},{"$f":"SUMIF(Wetten!P$3:P$10002,C134,Wetten!O$3:O$10002)","v":0},{"$error":"#DIV/0!"}]
[null,"133.",{"$f":"IF(Teilnehmerliste!B136=\"\",\"\",Teilnehmerliste!B136)","v":""},{"$f":"SUMIF(Wetten!P$3:P$10002,C135,Wetten!O$3:O$10002)","v":0},{"$error":"#DIV/0!"}]
[null,"134.",{"$f":"IF(Teilnehmerliste!B137=\"\",\"\",Teilnehmerliste!B137)","v":""},{"$f":"SUMIF(Wetten!P$3:P$10002,C136,Wetten!O$3:O$10002)","v":0},{"$error":"#DIV/0!"}]
[null,"135.",{"$f":"IF(Teilnehmerliste!B138=\"\",\"\",Teilnehmerliste!B138)","v":""},{"$f":"SUMIF(Wetten!P$3:P$10002,C137,Wetten!O$3:O$10002)","v":0},{"$error":"#DIV/0!"}]
[null,"136.",{"$f":"IF(Teilnehmerliste!B139=\"\",\"\",Teilnehmerliste!B139)","v":""},{"$f":"SUMIF(Wetten!P$3:P$10002,C138,Wetten!O$3:O$10002)","v":0},{"$error":"#DIV/0!"}]
[null,"137.",{"$f":"IF(Teilnehmerliste!B140=\"\",\"\",Teilnehmerliste!B140)","v":""},{"$f":"SUMIF(Wetten!P$3:P$10002,C139,Wetten!O$3:O$10002)","v":0},{"$error":"#DIV/0!"}]
[null,"138.",{"$f":"IF(Teilnehmerliste!B141=\"\",\"\",Teilnehmerliste!B141)","v":""},{"$f":"SUMIF(Wetten!P$3:P$10002,C140,Wetten!O$3:O$10002)","v":0},{"$error":"#DIV/0!"}]
[null,"139.",{"$f":"IF(Teilnehmerliste!B142=\"\",\"\",Teilnehmerliste!B142)","v":""},{"$f":"SUMIF(Wetten!P$3:P$10002,C141,Wetten!O$3:O$10002)","v":0},{"$error":"#DIV/0!"}]
[null,"140.",{"$f":"IF(Teilnehmerliste!B143=\"\",\"\",Teilnehmerliste!B143)","v":""},{"$f":"SUMIF(Wetten!P$3:P$10002,C142,Wetten!O$3:O$10002)","v":0},{"$error":"#DIV/0!"}]
[null,"141.",{"$f":"IF(Teilnehmerliste!B144=\"\",\"\",Teilnehmerliste!B144)","v":""},{"$f":"SUMIF(Wetten!P$3:P$10002,C143,Wetten!O$3:O$10002)","v":0},{"$error":"#DIV/0!"}]
[null,"142.",{"$f":"IF(Teilnehmerliste!B145=\"\",\"\",Teilnehmerliste!B145)","v":""},{"$f":"SUMIF(Wetten!P$3:P$10002,C144,Wetten!O$3:O$10002)","v":0},{"$error":"#DIV/0!"}]
[null,"143.",{"$f":"IF(Teilnehmerliste!B146=\"\",\"\",Teilnehmerliste!B146)","v":""},{"$f":"SUMIF(Wetten!P$3:P$10002,C145,Wetten!O$3:O$10002)","v":0},{"$error":"#DIV/0!"}]
[null,"144.",{"$f":"IF(Teilnehmerliste!B147=\"\",\"\",Teilnehmerliste!B147)","v":""},{"$f":"SUMIF(Wetten!P$3:P$10002,C146,Wetten!O$3:O$10002)","v":0},{"$error":"#DIV/0!"}]
[null,"145.",{"$f":"IF(Teilnehmerliste!B148=\"\",\"\",Teilnehmerliste!B148)","v":""},{"$f":"SUMIF(Wetten!P$3:P$10002,C147,Wetten!O$3:O$10002)","v":0},{"$error":"#DIV/0!"}]
[null,"146.",{"$f":"IF(Teilnehmerliste!B149=\"\",\"\",Teilnehmerliste!B149)","v":""},{"$f":"SUMIF(Wetten!P$3:P$10002,C148,Wetten!O$3:O$10002)","v":0},{"$error":"#DIV/0!"}]
[null,"147.",{"$f":"IF(Teilnehmerliste!B150=\"\",\"\",Teilnehmerliste!B150)","v":""},{"$f":"SUMIF(Wetten!P$3:P$10002,C149,Wetten!O$3:O$10002)","v":0},{"$error":"#DIV/0!"}]
[null,"148.",{"$f":"IF(Teilnehmerliste!B151=\"\",\"\",Teilnehmerliste!B151)","v":""},{"$f":"SUMIF(Wetten!P$3:P$10002,C150,Wetten!O$3:O$10002)","v":0},{"$error":"#DIV/0!"}]
[null,"149.",{"$f":"IF(Teilnehmerliste!B152=\"\",\"\",Teilnehmerliste!B152)","v":""},{"$f":"SUMIF(Wetten!P$3:P$10002,C151,Wetten!O$3:O$10002)","v":0},{"$error":"#DIV/0!"}]
[null,"150.",{"$f":"IF(Teilnehmerliste!B153=\"\",\"\",Teilnehmerliste!B153)","v":""},{"$f":"SUMIF(Wetten!P$3:P$10002,C152,Wetten!O$3:O$10002)","v":0},{"$error":"#DIV/0!"}]
[null,"151.",{"$f":"IF(Teilnehmerliste!B154=\"\",\"\",Teilnehmerliste!B154)","v":""},{"$f":"SUMIF(Wetten!P$3:P$10002,C153,Wetten!O$3:O$10002)","v":0},{"$error":"#DIV/0!"}]
[null,"152.",{"$f":"IF(Teilnehmerliste!B155=\"\",\"\",Teilnehmerliste!B155)","v":""},{"$f":"SUMIF(Wetten!P$3:P$10002,C154,Wetten!O$3:O$10002)","v":0},{"$error":"#DIV/0!"}]
[null,"153.",{"$f":"IF(Teilnehmerliste!B156=\"\",\"\",Teilnehmerliste!B156)","v":""},{"$f":"SUMIF(Wetten!P$3:P$10002,C155,Wetten!O$3:O$10002)","v":0},{"$error":"#DIV/0!"}]
[null,"154.",{"$f":"IF(Teilnehmerliste!B157=\"\",\"\",Teilnehmerliste!B157)","v":""},{"$f":"SUMIF(Wetten!P$3:P$10002,C156,Wetten!O$3:O$10002)","v":0},{"$error":"#DIV/0!"}]
[null,"155.",{"$f":"IF(Teilnehmerliste!B158=\"\",\"\",Teilnehmerliste!B158)","v":""},{"$f":"SUMIF(Wetten!P$3:P$10002,C157,Wetten!O$3:O$10002)","v":0},{"$error":"#DIV/0!"}]
[null,"156.",{"$f":"IF(Teilnehmerliste!B159=\"\",\"\",Teilnehmerliste!B159)","v":""},{"$f":"SUMIF(Wetten!P$3:P$10002,C158,Wetten!O$3:O$10002)","v":0},{"$error":"#DIV/0!"}]
[null,"157.",{"$f":"IF(Teilnehmerliste!B160=\"\",\"\",Teilnehmerliste!B160)","v":""},{"$f":"SUMIF(Wetten!P$3:P$10002,C159,Wetten!O$3:O$10002)","v":0},{"$error":"#DIV/0!"}]
[null,"158.",{"$f":"IF(Teilnehmerliste!B161=\"\",\"\",Teilnehmerliste!B161)","v":""},{"$f":"SUMIF(Wetten!P$3:P$10002,C160,Wetten!O$3:O$10002)","v":0},{"$error":"#DIV/0!"}]
[null,"159.",{"$f":"IF(Teilnehmerliste!B162=\"\",\"\",Teilnehmerliste!B162)","v":""},{"$f":"SUMIF(Wetten!P$3:P$10002,C161,Wetten!O$3:O$10002)","v":0},{"$error":"#DIV/0!"}]
[null,"160.",{"$f":"IF(Teilnehmerliste!B163=\"\",\"\",Teilnehmerliste!B163)","v":""},{"$f":"SUMIF(Wetten!P$3:P$10002,C162,Wetten!O$3:O$10002)","v":0},{"$error":"#DIV/0!"}]
[null,"161.",{"$f":"IF(Teilnehmerliste!B164=\"\",\"\",Teilnehmerliste!B164)","v":""},{"$f":"SUMIF(Wetten!P$3:P$10002,C163,Wetten!O$3:O$10002)","v":0},{"$error":"#DIV/0!"}]
[null,"162.",{"$f":"IF(Teilnehmerliste!B165=\"\",\"\",Teilnehmerliste!B165)","v":""},{"$f":"SUMIF(Wetten!P$3:P$10002,C164,Wetten!O$3:O$10002)","v":0},{"$error":"#DIV/0!"}]
[null,"163.",{"$f":"IF(Teilnehmerliste!B166=\"\",\"\",Teilnehmerliste!B166)","v":""},{"$f":"SUMIF(Wetten!P$3:P$10002,C165,Wetten!O$3:O$10002)","v":0},{"$error":"#DIV/0!"}]
[null,"164.",{"$f":"IF(Teilnehmerliste!B167=\"\",\"\",Teilnehmerliste!B167)","v":""},{"$f":"SUMIF(Wetten!P$3:P$10002,C166,Wetten!O$3:O$10002)","v":0},{"$error":"#DIV/0!"}]
[null,"165.",{"$f":"IF(Teilnehmerliste!B168=\"\",\"\",Teilnehmerliste!B168)","v":""},{"$f":"SUMIF(Wetten!P$3:P$10002,C167,Wetten!O$3:O$10002)","v":0},{"$error":"#DIV/0!"}]
[null,"166.",{"$f":"IF(Teilnehmerliste!B169=\"\",\"\",Teilnehmerliste!B169)","v":""},{"$f":"SUMIF(Wetten!P$3:P$10002,C168,Wetten!O$3:O$10002)","v":0},{"$error":"#DIV/0!"}]
[null,"167.",{"$f":"IF(Teilnehmerliste!B170=\"\",\"\",Teilnehmerliste!B170)","v":""},{"$f":"SUMIF(Wetten!P$3:P$10002,C169,Wetten!O$3:O$10002)","v":0},{"$error":"#DIV/0!"}]
[null,"168.",{"$f":"IF(Teilnehmerliste!B171=\"\",\"\",Teilnehmerliste!B171)","v":""},{"$f":"SUMIF(Wetten!P$3:P$10002,C170,Wetten!O$3:O$10002)","v":0},{"$error":"#DIV/0!"}]
[null,"169.",{"$f":"IF(Teilnehmerliste!B172=\"\",\"\",Teilnehmerliste!B172)","v":""},{"$f":"SUMIF(Wetten!P$3:P$10002,C171,Wetten!O$3:O$10002)","v":0},{"$error":"#DIV/0!"}]
[null,"170.",{"$f":"IF(Teilnehmerliste!B173=\"\",\"\",Teilnehmerliste!B173)","v":""},{"$f":"SUMIF(Wetten!P$3:P$10002,C172,Wetten!O$3:O$10002)","v":0},{"$error":"#DIV/0!"}]
[null,"171.",{"$f":"IF(Teilnehmerliste!B174=\"\",\"\",Teilnehmerliste!B174)","v":""},{"$f":"SUMIF(Wetten!P$3:P$10002,C173,Wetten!O$3:O$10002)","v":0},{"$error":"#DIV/0!"}]
[null,"172.",{"$f":"IF(Teilnehmerliste!B175=\"\",\"\",Teilnehmerliste!B175)","v":""},{"$f":"SUMIF(Wetten!P$3:P$10002,C174,Wetten!O$3:O$10002)","v":0},{"$error":"#DIV/0!"}]
[null,"173.",{"$f":"IF(Teilnehmerliste!B176=\"\",\"\",Teilnehmerliste!B176)","v":""},{"$f":"SUMIF(Wetten!P$3:P$10002,C175,Wetten!O$3:O$10002)","v":0},{"$error":"#DIV/0!"}]
[null,"174.",{"$f":"IF(Teilnehmerliste!B177=\"\",\"\",Teilnehmerliste!B177)","v":""},{"$f":"SUMIF(Wetten!P$3:P$10002,C176,Wetten!O$3:O$10002)","v":0},{"$error":"#DIV/0!"}]
[null,"175.",{"$f":"IF(Teilnehmerliste!B178=\"\",\"\",Teilnehmerliste!B178)","v":""},{"$f":"SUMIF(Wetten!P$3:P$10002,C177,Wetten!O$3:O$10002)","v":0},{"$error":"#DIV/0!"}]
[null,"176.",{"$f":"IF(Teilnehmerliste!B179=\"\",\"\",Teilnehmerliste!B179)","v":""},{"$f":"SUMIF(Wetten!P$3:P$10002,C178,Wetten!O$3:O$10002)","v":0},{"$error":"#DIV/0!"}]
[null,"177.",{"$f":"IF(Teilnehmerliste!B180=\"\",\"\",Teilnehmerliste!B180)","v":""},{"$f":"SUMIF(Wetten!P$3:P$10002,C179,Wetten!O$3:O$10002)","v":0},{"$error":"#DIV/0!"}]
[null,"178.",{"$f":"IF(Teilnehmerliste!B181=\"\",\"\",Teilnehmerliste!B181)","v":""},{"$f":"SUMIF(Wetten!P$3:P$10002,C180,Wetten!O$3:O$10002)","v":0},{"$error":"#DIV/0!"}]
[null,"179.",{"$f":"IF(Teilnehmerliste!B182=\"\",\"\",Teilnehmerliste!B182)","v":""},{"$f":"SUMIF(Wetten!P$3:P$10002,C181,Wetten!O$3:O$10002)","v":0},{"$error":"#DIV/0!"}]
[null,"180.",{"$f":"IF(Teilnehmerliste!B183=\"\",\"\",Teilnehmerliste!B183)","v":""},{"$f":"SUMIF(Wetten!P$3:P$10002,C182,Wetten!O$3:O$10002)","v":0},{"$error":"#DIV/0!"}]
[null,"181.",{"$f":"IF(Teilnehmerliste!B184=\"\",\"\",Teilnehmerliste!B184)","v":""},{"$f":"SUMIF(Wetten!P$3:P$10002,C183,Wetten!O$3:O$10002)","v":0},{"$error":"#DIV/0!"}]
[null,"182.",{"$f":"IF(Teilnehmerliste!B185=\"\",\"\",Teilnehmerliste!B185)","v":""},{"$f":"SUMIF(Wetten!P$3:P$10002,C184,Wetten!O$3:O$10002)","v":0},{"$error":"#DIV/0!"}]
[null,"183.",{"$f":"IF(Teilnehmerliste!B186=\"\",\"\",Teilnehmerliste!B186)","v":""},{"$f":"SUMIF(Wetten!P$3:P$10002,C185,Wetten!O$3:O$10002)","v":0},{"$error":"#DIV/0!"}]
[null,"184.",{"$f":"IF(Teilnehmerliste!B187=\"\",\"\",Teilnehmerliste!B187)","v":""},{"$f":"SUMIF(Wetten!P$3:P$10002,C186,Wetten!O$3:O$10002)","v":0},{"$error":"#DIV/0!"}]
[null,"185.",{"$f":"IF(Teilnehmerliste!B188=\"\",\"\",Teilnehmerliste!B188)","v":""},{"$f":"SUMIF(Wetten!P$3:P$10002,C187,Wetten!O$3:O$10002)","v":0},{"$error":"#DIV/0!"}]
[null,"186.",{"$f":"IF(Teilnehmerliste!B189=\"\",\"\",Teilnehmerliste!B189)","v":""},{"$f":"SUMIF(Wetten!P$3:P$10002,C188,Wetten!O$3:O$10002)","v":0},{"$error":"#DIV/0!"}]
[null,"187.",{"$f":"IF(Teilnehmerliste!B190=\"\",\"\",Teilnehmerliste!B190)","v":""},{"$f":"SUMIF(Wetten!P$3:P$10002,C189,Wetten!O$3:O$10002)","v":0},{"$error":"#DIV/0!"}]
[null,"188.",{"$f":"IF(Teilnehmerliste!B191=\"\",\"\",Teilnehmerliste!B191)","v":""},{"$f":"SUMIF(Wetten!P$3:P$10002,C190,Wetten!O$3:O$10002)","v":0},{"$error":"#DIV/0!"}]
[null,"189.",{"$f":"IF(Teilnehmerliste!B192=\"\",\"\",Teilnehmerliste!B192)","v":""},{"$f":"SUMIF(Wetten!P$3:P$10002,C191,Wetten!O$3:O$10002)","v":0},{"$error":"#DIV/0!"}]
[null,"190.",{"$f":"IF(Teilnehmerliste!B193=\"\",\"\",Teilnehmerliste!B193)","v":""},{"$f":"SUMIF(Wetten!P$3:P$10002,C192,Wetten!O$3:O$10002)","v":0},{"$error":"#DIV/0!"}]
[null,"191.",{"$f":"IF(Teilnehmerliste!B194=\"\",\"\",Teilnehmerliste!B194)","v":""},{"$f":"SUMIF(Wetten!P$3:P$10002,C193,Wetten!O$3:O$10002)","v":0},{"$error":"#DIV/0!"}]
[null,"192.",{"$f":"IF(Teilnehmerliste!B195=\"\",\"\",Teilnehmerliste!B195)","v":""},{"$f":"SUMIF(Wetten!P$3:P$10002,C194,Wetten!O$3:O$10002)","v":0},{"$error":"#DIV/0!"}]
[null,"193.",{"$f":"IF(Teilnehmerliste!B196=\"\",\"\",Teilnehmerliste!B196)","v":""},{"$f":"SUMIF(Wetten!P$3:P$10002,C195,Wetten!O$3:O$10002)","v":0},{"$error":"#DIV/0!"}]
[null,"194.",{"$f":"IF(Teilnehmerliste!B197=\"\",\"\",Teilnehmerliste!B197)","v":""},{"$f":"SUMIF(Wetten!P$3:P$10002,C196,Wetten!O$3:O$10002)","v":0},{"$f":"1/SUM($D$3:$D$1002)*D196","v":{"$error":"#DIV/0!"}}]
[null,"195.",{"$f":"IF(Teilnehmerliste!B198=\"\",\"\",Teilnehmerliste!B198)","v":""},{"$f":"SUMIF(Wetten!P$3:P$10002,C197,Wetten!O$3:O$10002)","v":0},{"$error":"#DIV/0!"}]
[null,"196.",{"$f":"IF(Teilnehmerliste!B199=\"\",\"\",Teilnehmerliste!B199)","v":""},{"$f":"SUMIF(Wetten!P$3:P$10002,C198,Wetten!O$3:O$10002)","v":0},{"$error":"#DIV/0!"}]
[null,"197.",{"$f":"IF(Teilnehmerliste!B200=\"\",\"\",Teilnehmerliste!B200)","v":""},{"$f":"SUMIF(Wetten!P$3:P$10002,C199,Wetten!O$3:O$10002)","v":0},{"$error":"#DIV/0!"}]
[null,"198.",{"$f":"IF(Teilnehmerliste!B201=\"\",\"\",Teilnehmerliste!B201)","v":""},{"$f":"SUMIF(Wetten!P$3:P$10002,C200,Wetten!O$3:O$10002)","v":0},{"$error":"#DIV/0!"}]
[null,"199.",{"$f":"IF(Teilnehmerliste!B202=\"\",\"\",Teilnehmerliste!B202)","v":""},{"$f":"SUMIF(Wetten!P$3:P$10002,C201,Wetten!O$3:O$10002)","v":0},{"$error":"#DIV/0!"}]
[null,"200.",{"$f":"IF(Teilnehmerliste!B203=\"\",\"\",Teilnehmerliste!B203)","v":""},{"$f":"SUMIF(Wetten!P$3:P$10002,C202,Wetten!O$3:O$10002)","v":0},{"$error":"#DIV/0!"}]
[null,"201.",{"$f":"IF(Teilnehmerliste!B204=\"\",\"\",Teilnehmerliste!B204)","v":""},{"$f":"SUMIF(Wetten!P$3:P$10002,C203,Wetten!O$3:O$10002)","v":0},{"$error":"#DIV/0!"}]
[null,"202.",{"$f":"IF(Teilnehmerliste!B205=\"\",\"\",Teilnehmerliste!B205)","v":""},{"$f":"SUMIF(Wetten!P$3:P$10002,C204,Wetten!O$3:O$10002)","v":0},{"$error":"#DIV/0!"}]
[null,"203.",{"$f":"IF(Teilnehmerliste!B206=\"\",\"\",Teilnehmerliste!B206)","v":""},{"$f":"SUMIF(Wetten!P$3:P$10002,C205,Wetten!O$3:O$10002)","v":0},{"$error":"#DIV/0!"}]
[null,"204.",{"$f":"IF(Teilnehmerliste!B207=\"\",\"\",Teilnehmerliste!B207)","v":""},{"$f":"SUMIF(Wetten!P$3:P$10002,C206,Wetten!O$3:O$10002)","v":0},{"$error":"#DIV/0!"}]
[null,"205.",{"$f":"IF(Teilnehmerliste!B208=\"\",\"\",Teilnehmerliste!B208)","v":""},{"$f":"SUMIF(Wetten!P$3:P$10002,C207,Wetten!O$3:O$10002)","v":0},{"$error":"#DIV/0!"}]
[null,"206.",{"$f":"IF(Teilnehmerliste!B209=\"\",\"\",Teilnehmerliste!B209)","v":""},{"$f":"SUMIF(Wetten!P$3:P$10002,C208,Wetten!O$3:O$10002)","v":0},{"$error":"#DIV/0!"}]
[null,"207.",{"$f":"IF(Teilnehmerliste!B210=\"\",\"\",Teilnehmerliste!B210)","v":""},{"$f":"SUMIF(Wetten!P$3:P$10002,C209,Wetten!O$3:O$10002)","v":0},{"$error":"#DIV/0!"}]
[null,"208.",{"$f":"IF(Teilnehmerliste!B211=\"\",\"\",Teilnehmerliste!B211)","v":""},{"$f":"SUMIF(Wetten!P$3:P$10002,C210,Wetten!O$3:O$10002)","v":0},{"$error":"#DIV/0!"}]
[null,"209.",{"$f":"IF(Teilnehmerliste!B212=\"\",\"\",Teilnehmerliste!B212)","v":""},{"$f":"SUMIF(Wetten!P$3:P$10002,C211,Wetten!O$3:O$10002)","v":0},{"$error":"#DIV/0!"}]
[null,"210.",{"$f":"IF(Teilnehmerliste!B213=\"\",\"\",Teilnehmerliste!B213)","v":""},{"$f":"SUMIF(Wetten!P$3:P$10002,C212,Wetten!O$3:O$10002)","v":0},{"$error":"#DIV/0!"}]
[null,"211.",{"$f":"IF(Teilnehmerliste!B214=\"\",\"\",Teilnehmerliste!B214)","v":""},{"$f":"SUMIF(Wetten!P$3:P$10002,C213,Wetten!O$3:O$10002)","v":0},{"$error":"#DIV/0!"}]
[null,"212.",{"$f":"IF(Teilnehmerliste!B215=\"\",\"\",Teilnehmerliste!B215)","v":""},{"$f":"SUMIF(Wetten!P$3:P$10002,C214,Wetten!O$3:O$10002)","v":0},{"$error":"#DIV/0!"}]
[null,"213.",{"$f":"IF(Teilnehmerliste!B216=\"\",\"\",Teilnehmerliste!B216)","v":""},{"$f":"SUMIF(Wetten!P$3:P$10002,C215,Wetten!O$3:O$10002)","v":0},{"$error":"#DIV/0!"}]
[null,"214.",{"$f":"IF(Teilnehmerliste!B217=\"\",\"\",Teilnehmerliste!B217)","v":""},{"$f":"SUMIF(Wetten!P$3:P$10002,C216,Wetten!O$3:O$10002)","v":0},{"$error":"#DIV/0!"}]
[null,"215.",{"$f":"IF(Teilnehmerliste!B218=\"\",\"\",Teilnehmerliste!B218)","v":""},{"$f":"SUMIF(Wetten!P$3:P$10002,C217,Wetten!O$3:O$10002)","v":0},{"$error":"#DIV/0!"}]
[null,"216.",{"$f":"IF(Teilnehmerliste!B219=\"\",\"\",Teilnehmerliste!B219)","v":""},{"$f":"SUMIF(Wetten!P$3:P$10002,C218,Wetten!O$3:O$10002)","v":0},{"$error":"#DIV/0!"}]
[null,"217.",{"$f":"IF(Teilnehmerliste!B220=\"\",\"\",Teilnehmerliste!B220)","v":""},{"$f":"SUMIF(Wetten!P$3:P$10002,C219,Wetten!O$3:O$10002)","v":0},{"$error":"#DIV/0!"}]
[null,"218.",{"$f":"IF(Teilnehmerliste!B221=\"\",\"\",Teilnehmerliste!B221)","v":""},{"$f":"SUMIF(Wetten!P$3:P$10002,C220,Wetten!O$3:O$10002)","v":0},{"$error":"#DIV/0!"}]
[null,"219.",{"$f":"IF(Teilnehmerliste!B222=\"\",\"\",Teilnehmerliste!B222)","v":""},{"$f":"SUMIF(Wetten!P$3:P$10002,C221,Wetten!O$3:O$10002)","v":0},{"$error":"#DIV/0!"}]
[null,"220.",{"$f":"IF(Teilnehmerliste!B223=\"\",\"\",Teilnehmerliste!B223)","v":""},{"$f":"SUMIF(Wetten!P$3:P$10002,C222,Wetten!O$3:O$10002)","v":0},{"$error":"#DIV/0!"}]
[null,"221.",{"$f":"IF(Teilnehmerliste!B224=\"\",\"\",Teilnehmerliste!B224)","v":""},{"$f":"SUMIF(Wetten!P$3:P$10002,C223,Wetten!O$3:O$10002)","v":0},{"$error":"#DIV/0!"}]
[null,"222.",{"$f":"IF(Teilnehmerliste!B225=\"\",\"\",Teilnehmerliste!B225)","v":""},{"$f":"SUMIF(Wetten!P$3:P$10002,C224,Wetten!O$3:O$10002)","v":0},{"$error":"#DIV/0!"}]
[null,"223.",{"$f":"IF(Teilnehmerliste!B226=\"\",\"\",Teilnehmerliste!B226)","v":""},{"$f":"SUMIF(Wetten!P$3:P$10002,C225,Wetten!O$3:O$10002)","v":0},{"$error":"#DIV/0!"}]
[null,"224.",{"$f":"IF(Teilnehmerliste!B227=\"\",\"\",Teilnehmerliste!B227)","v":""},{"$f":"SUMIF(Wetten!P$3:P$10002,C226,Wetten!O$3:O$10002)","v":0},{"$error":"#DIV/0!"}]
[null,"225.",{"$f":"IF(Teilnehmerliste!B228=\"\",\"\",Teilnehmerliste!B228)","v":""},{"$f":"SUMIF(Wetten!P$3:P$10002,C227,Wetten!O$3:O$10002)","v":0},{"$error":"#DIV/0!"}]
[null,"226.",{"$f":"IF(Teilnehmerliste!B229=\"\",\"\",Teilnehmerliste!B229)","v":""},{"$f":"SUMIF(Wetten!P$3:P$10002,C228,Wetten!O$3:O$10002)","v":0},{"$error":"#DIV/0!"}]
[null,"227.",{"$f":"IF(Teilnehmerliste!B230=\"\",\"\",Teilnehmerliste!B230)","v":""},{"$f":"SUMIF(Wetten!P$3:P$10002,C229,Wetten!O$3:O$10002)","v":0},{"$error":"#DIV/0!"}]
[null,"228.",{"$f":"IF(Teilnehmerliste!B231=\"\",\"\",Teilnehmerliste!B231)","v":""},{"$f":"SUMIF(Wetten!P$3:P$10002,C230,Wetten!O$3:O$10002)","v":0},{"$error":"#DIV/0!"}]
[null,"229.",{"$f":"IF(Teilnehmerliste!B232=\"\",\"\",Teilnehmerliste!B232)","v":""},{"$f":"SUMIF(Wetten!P$3:P$10002,C231,Wetten!O$3:O$10002)","v":0},{"$error":"#DIV/0!"}]
[null,"230.",{"$f":"IF(Teilnehmerliste!B233=\"\",\"\",Teilnehmerliste!B233)","v":""},{"$f":"SUMIF(Wetten!P$3:P$10002,C232,Wetten!O$3:O$10002)","v":0},{"$error":"#DIV/0!"}]
[null,"231.",{"$f":"IF(Teilnehmerliste!B234=\"\",\"\",Teilnehmerliste!B234)","v":""},{"$f":"SUMIF(Wetten!P$3:P$10002,C233,Wetten!O$3:O$10002)","v":0},{"$error":"#DIV/0!"}]
[null,"232.",{"$f":"IF(Teilnehmerliste!B235=\"\",\"\",Teilnehmerliste!B235)","v":""},{"$f":"SUMIF(Wetten!P$3:P$10002,C234,Wetten!O$3:O$10002)","v":0},{"$error":"#DIV/0!"}]
[null,"233.",{"$f":"IF(Teilnehmerliste!B236=\"\",\"\",Teilnehmerliste!B236)","v":""},{"$f":"SUMIF(Wetten!P$3:P$10002,C235,Wetten!O$3:O$10002)","v":0},{"$error":"#DIV/0!"}]
[null,"234.",{"$f":"IF(Teilnehmerliste!B237=\"\",\"\",Teilnehmerliste!B237)","v":""},{"$f":"SUMIF(Wetten!P$3:P$10002,C236,Wetten!O$3:O$10002)","v":0},{"$error":"#DIV/0!"}]
[null,"235.",{"$f":"IF(Teilnehmerliste!B238=\"\",\"\",Teilnehmerliste!B238)","v":""},{"$f":"SUMIF(Wetten!P$3:P$10002,C237,Wetten!O$3:O$10002)","v":0},{"$error":"#DIV/0!"}]
[null,"236.",{"$f":"IF(Teilnehmerliste!B239=\"\",\"\",Teilnehmerliste!B239)","v":""},{"$f":"SUMIF(Wetten!P$3:P$10002,C238,Wetten!O$3:O$10002)","v":0},{"$error":"#DIV/0!"}]
[null,"237.",{"$f":"IF(Teilnehmerliste!B240=\"\",\"\",Teilnehmerliste!B240)","v":""},{"$f":"SUMIF(Wetten!P$3:P$10002,C239,Wetten!O$3:O$10002)","v":0},{"$error":"#DIV/0!"}]
[null,"238.",{"$f":"IF(Teilnehmerliste!B241=\"\",\"\",Teilnehmerliste!B241)","v":""},{"$f":"SUMIF(Wetten!P$3:P$10002,C240,Wetten!O$3:O$10002)","v":0},{"$error":"#DIV/0!"}]
[null,"239.",{"$f":"IF(Teilnehmerliste!B242=\"\",\"\",Teilnehmerliste!B242)","v":""},{"$f":"SUMIF(Wetten!P$3:P$10002,C241,Wetten!O$3:O$10002)","v":0},{"$error":"#DIV/0!"}]
[null,"240.",{"$f":"IF(Teilnehmerliste!B243=\"\",\"\",Teilnehmerliste!B243)","v":""},{"$f":"SUMIF(Wetten!P$3:P$10002,C242,Wetten!O$3:O$10002)","v":0},{"$error":"#DIV/0!"}]
[null,"241.",{"$f":"IF(Teilnehmerliste!B244=\"\",\"\",Teilnehmerliste!B244)","v":""},{"$f":"SUMIF(Wetten!P$3:P$10002,C243,Wetten!O$3:O$10002)","v":0},{"$error":"#DIV/0!"}]
[null,"242.",{"$f":"IF(Teilnehmerliste!B245=\"\",\"\",Teilnehmerliste!B245)","v":""},{"$f":"SUMIF(Wetten!P$3:P$10002,C244,Wetten!O$3:O$10002)","v":0},{"$error":"#DIV/0!"}]
[null,"243.",{"$f":"IF(Teilnehmerliste!B246=\"\",\"\",Teilnehmerliste!B246)","v":""},{"$f":"SUMIF(Wetten!P$3:P$10002,C245,Wetten!O$3:O$10002)","v":0},{"$error":"#DIV/0!"}]
[null,"244.",{"$f":"IF(Teilnehmerliste!B247=\"\",\"\",Teilnehmerliste!B247)","v":""},{"$f":"SUMIF(Wetten!P$3:P$10002,C246,Wetten!O$3:O$10002)","v":0},{"$error":"#DIV/0!"}]
[null,"245.",{"$f":"IF(Teilnehmerliste!B248=\"\",\"\",Teilnehmerliste!B248)","v":""},{"$f":"SUMIF(Wetten!P$3:P$10002,C247,Wetten!O$3:O$10002)","v":0},{"$error":"#DIV/0!"}]
[null,"246.",{"$f":"IF(Teilnehmerliste!B249=\"\",\"\",Teilnehmerliste!B249)","v":""},{"$f":"SUMIF(Wetten!P$3:P$10002,C248,Wetten!O$3:O$10002)","v":0},{"$error":"#DIV/0!"}]
[null,"247.",{"$f":"IF(Teilnehmerliste!B250=\"\",\"\",Teilnehmerliste!B250)","v":""},{"$f":"SUMIF(Wetten!P$3:P$10002,C249,Wetten!O$3:O$10002)","v":0},{"$error":"#DIV/0!"}]
[null,"248.",{"$f":"IF(Teilnehmerliste!B251=\"\",\"\",Teilnehmerliste!B251)","v":""},{"$f":"SUMIF(Wetten!P$3:P$10002,C250,Wetten!O$3:O$10002)","v":0},{"$error":"#DIV/0!"}]
[null,"249.",{"$f":"IF(Teilnehmerliste!B252=\"\",\"\",Teilnehmerliste!B252)","v":""},{"$f":"SUMIF(Wetten!P$3:P$10002,C251,Wetten!O$3:O$10002)","v":0},{"$error":"#DIV/0!"}]
[null,"250.",{"$f":"IF(Teilnehmerliste!B253=\"\",\"\",Teilnehmerliste!B253)","v":""},{"$f":"SUMIF(Wetten!P$3:P$10002,C252,Wetten!O$3:O$10002)","v":0},{"$error":"#DIV/0!"}]
[null,"251.",{"$f":"IF(Teilnehmerliste!B254=\"\",\"\",Teilnehmerliste!B254)","v":""},{"$f":"SUMIF(Wetten!P$3:P$10002,C253,Wetten!O$3:O$10002)","v":0},{"$error":"#DIV/0!"}]
[null,"252.",{"$f":"IF(Teilnehmerliste!B255=\"\",\"\",Teilnehmerliste!B255)","v":""},{"$f":"SUMIF(Wetten!P$3:P$10002,C254,Wetten!O$3:O$10002)","v":0},{"$error":"#DIV/0!"}]
[null,"253.",{"$f":"IF(Teilnehmerliste!B256=\"\",\"\",Teilnehmerliste!B256)","v":""},{"$f":"SUMIF(Wetten!P$3:P$10002,C255,Wetten!O$3:O$10002)","v":0},{"$error":"#DIV/0!"}]
[null,"254.",{"$f":"IF(Teilnehmerliste!B257=\"\",\"\",Teilnehmerliste!B257)","v":""},{"$f":"SUMIF(Wetten!P$3:P$10002,C256,Wetten!O$3:O$10002)","v":0},{"$error":"#DIV/0!"}]
[null,"255.",{"$f":"IF(Teilnehmerliste!B258=\"\",\"\",Teilnehmerliste!B258)","v":""},{"$f":"SUMIF(Wetten!P$3:P$10002,C257,Wetten!O$3:O$10002)","v":0},{"$error":"#DIV/0!"}]
[null,"256.",{"$f":"IF(Teilnehmerliste!B259=\"\",\"\",Teilnehmerliste!B259)","v":""},{"$f":"SUMIF(Wetten!P$3:P$10002,C258,Wetten!O$3:O$10002)","v":0},{"$error":"#DIV/0!"}]
[null,"257.",{"$f":"IF(Teilnehmerliste!B260=\"\",\"\",Teilnehmerliste!B260)","v":""},{"$f":"SUMIF(Wetten!P$3:P$10002,C259,Wetten!O$3:O$10002)","v":0},{"$error":"#DIV/0!"}]
[null,"258.",{"$f":"IF(Teilnehmerliste!B261=\"\",\"\",Teilnehmerliste!B261)","v":""},{"$f":"SUMIF(Wetten!P$3:P$10002,C260,Wetten!O$3:O$10002)","v":0},{"$f":"1/SUM($D$3:$D$1002)*D260","v":{"$error":"#DIV/0!"}}]
[null,"259.",{"$f":"IF(Teilnehmerliste!B262=\"\",\"\",Teilnehmerliste!B262)","v":""},{"$f":"SUMIF(Wetten!P$3:P$10002,C261,Wetten!O$3:O$10002)","v":0},{"$error":"#DIV/0!"}]
[null,"260.",{"$f":"IF(Teilnehmerliste!B263=\"\",\"\",Teilnehmerliste!B263)","v":""},{"$f":"SUMIF(Wetten!P$3:P$10002,C262,Wetten!O$3:O$10002)","v":0},{"$error":"#DIV/0!"}]
[null,"261.",{"$f":"IF(Teilnehmerliste!B264=\"\",\"\",Teilnehmerliste!B264)","v":""},{"$f":"SUMIF(Wetten!P$3:P$10002,C263,Wetten!O$3:O$10002)","v":0},{"$error":"#DIV/0!"}]
[null,"262.",{"$f":"IF(Teilnehmerliste!B265=\"\",\"\",Teilnehmerliste!B265)","v":""},{"$f":"SUMIF(Wetten!P$3:P$10002,C264,Wetten!O$3:O$10002)","v":0},{"$error":"#DIV/0!"}]
[null,"263.",{"$f":"IF(Teilnehmerliste!B266=\"\",\"\",Teilnehmerliste!B266)","v":""},{"$f":"SUMIF(Wetten!P$3:P$10002,C265,Wetten!O$3:O$10002)","v":0},{"$error":"#DIV/0!"}]
[null,"264.",{"$f":"IF(Teilnehmerliste!B267=\"\",\"\",Teilnehmerliste!B267)","v":""},{"$f":"SUMIF(Wetten!P$3:P$10002,C266,Wetten!O$3:O$10002)","v":0},{"$error":"#DIV/0!"}]
[null,"265.",{"$f":"IF(Teilnehmerliste!B268=\"\",\"\",Teilnehmerliste!B268)","v":""},{"$f":"SUMIF(Wetten!P$3:P$10002,C267,Wetten!O$3:O$10002)","v":0},{"$error":"#DIV/0!"}]
[null,"266.",{"$f":"IF(Teilnehmerliste!B269=\"\",\"\",Teilnehmerliste!B269)","v":""},{"$f":"SUMIF(Wetten!P$3:P$10002,C268,Wetten!O$3:O$10002)","v":0},{"$error":"#DIV/0!"}]
[null,"267.",{"$f":"IF(Teilnehmerliste!B270=\"\",\"\",Teilnehmerliste!B270)","v":""},{"$f":"SUMIF(Wetten!P$3:P$10002,C269,Wetten!O$3:O$10002)","v":0},{"$error":"#DIV/0!"}]
[null,"268.",{"$f":"IF(Teilnehmerliste!B271=\"\",\"\",Teilnehmerliste!B271)","v":""},{"$f":"SUMIF(Wetten!P$3:P$10002,C270,Wetten!O$3:O$10002)","v":0},{"$error":"#DIV/0!"}]
[null,"269.",{"$f":"IF(Teilnehmerliste!B272=\"\",\"\",Teilnehmerliste!B272)","v":""},{"$f":"SUMIF(Wetten!P$3:P$10002,C271,Wetten!O$3:O$10002)","v":0},{"$error":"#DIV/0!"}]
[null,"270.",{"$f":"IF(Teilnehmerliste!B273=\"\",\"\",Teilnehmerliste!B273)","v":""},{"$f":"SUMIF(Wetten!P$3:P$10002,C272,Wetten!O$3:O$10002)","v":0},{"$error":"#DIV/0!"}]
[null,"271.",{"$f":"IF(Teilnehmerliste!B274=\"\",\"\",Teilnehmerliste!B274)","v":""},{"$f":"SUMIF(Wetten!P$3:P$10002,C273,Wetten!O$3:O$10002)","v":0},{"$error":"#DIV/0!"}]
[null,"272.",{"$f":"IF(Teilnehmerliste!B275=\"\",\"\",Teilnehmerliste!B275)","v":""},{"$f":"SUMIF(Wetten!P$3:P$10002,C274,Wetten!O$3:O$10002)","v":0},{"$error":"#DIV/0!"}]
[null,"273.",{"$f":"IF(Teilnehmerliste!B276=\"\",\"\",Teilnehmerliste!B276)","v":""},{"$f":"SUMIF(Wetten!P$3:P$10002,C275,Wetten!O$3:O$10002)","v":0},{"$error":"#DIV/0!"}]
[null,"274.",{"$f":"IF(Teilnehmerliste!B277=\"\",\"\",Teilnehmerliste!B277)","v":""},{"$f":"SUMIF(Wetten!P$3:P$10002,C276,Wetten!O$3:O$10002)","v":0},{"$error":"#DIV/0!"}]
[null,"275.",{"$f":"IF(Teilnehmerliste!B278=\"\",\"\",Teilnehmerliste!B278)","v":""},{"$f":"SUMIF(Wetten!P$3:P$10002,C277,Wetten!O$3:O$10002)","v":0},{"$error":"#DIV/0!"}]
[null,"276.",{"$f":"IF(Teilnehmerliste!B279=\"\",\"\",Teilnehmerliste!B279)","v":""},{"$f":"SUMIF(Wetten!P$3:P$10002,C278,Wetten!O$3:O$10002)","v":0},{"$error":"#DIV/0!"}]
[null,"277.",{"$f":"IF(Teilnehmerliste!B280=\"\",\"\",Teilnehmerliste!B280)","v":""},{"$f":"SUMIF(Wetten!P$3:P$10002,C279,Wetten!O$3:O$10002)","v":0},{"$error":"#DIV/0!"}]
[null,"278.",{"$f":"IF(Teilnehmerliste!B281=\"\",\"\",Teilnehmerliste!B281)","v":""},{"$f":"SUMIF(Wetten!P$3:P$10002,C280,Wetten!O$3:O$10002)","v":0},{"$error":"#DIV/0!"}]
[null,"279.",{"$f":"IF(Teilnehmerliste!B282=\"\",\"\",Teilnehmerliste!B282)","v":""},{"$f":"SUMIF(Wetten!P$3:P$10002,C281,Wetten!O$3:O$10002)","v":0},{"$error":"#DIV/0!"}]
[null,"280.",{"$f":"IF(Teilnehmerliste!B283=\"\",\"\",Teilnehmerliste!B283)","v":""},{"$f":"SUMIF(Wetten!P$3:P$10002,C282,Wetten!O$3:O$10002)","v":0},{"$error":"#DIV/0!"}]
[null,"281.",{"$f":"IF(Teilnehmerliste!B284=\"\",\"\",Teilnehmerliste!B284)","v":""},{"$f":"SUMIF(Wetten!P$3:P$10002,C283,Wetten!O$3:O$10002)","v":0},{"$error":"#DIV/0!"}]
[null,"282.",{"$f":"IF(Teilnehmerliste!B285=\"\",\"\",Teilnehmerliste!B285)","v":""},{"$f":"SUMIF(Wetten!P$3:P$10002,C284,Wetten!O$3:O$10002)","v":0},{"$error":"#DIV/0!"}]
[null,"283.",{"$f":"IF(Teilnehmerliste!B286=\"\",\"\",Teilnehmerliste!B286)","v":""},{"$f":"SUMIF(Wetten!P$3:P$10002,C285,Wetten!O$3:O$10002)","v":0},{"$error":"#DIV/0!"}]
[null,"284.",{"$f":"IF(Teilnehmerliste!B287=\"\",\"\",Teilnehmerliste!B287)","v":""},{"$f":"SUMIF(Wetten!P$3:P$10002,C286,Wetten!O$3:O$10002)","v":0},{"$error":"#DIV/0!"}]
[null,"285.",{"$f":"IF(Teilnehmerliste!B288=\"\",\"\",Teilnehmerliste!B288)","v":""},{"$f":"SUMIF(Wetten!P$3:P$10002,C287,Wetten!O$3:O$10002)","v":0},{"$error":"#DIV/0!"}]
[null,"286.",{"$f":"IF(Teilnehmerliste!B289=\"\",\"\",Teilnehmerliste!B289)","v":""},{"$f":"SUMIF(Wetten!P$3:P$10002,C288,Wetten!O$3:O$10002)","v":0},{"$error":"#DIV/0!"}]
[null,"287.",{"$f":"IF(Teilnehmerliste!B290=\"\",\"\",Teilnehmerliste!B290)","v":""},{"$f":"SUMIF(Wetten!P$3:P$10002,C289,Wetten!O$3:O$10002)","v":0},{"$error":"#DIV/0!"}]
[null,"288.",{"$f":"IF(Teilnehmerliste!B291=\"\",\"\",Teilnehmerliste!B291)","v":""},{"$f":"SUMIF(Wetten!P$3:P$10002,C290,Wetten!O$3:O$10002)","v":0},{"$error":"#DIV/0!"}]
[null,"289.",{"$f":"IF(Teilnehmerliste!B292=\"\",\"\",Teilnehmerliste!B292)","v":""},{"$f":"SUMIF(Wetten!P$3:P$10002,C291,Wetten!O$3:O$10002)","v":0},{"$error":"#DIV/0!"}]
[null,"290.",{"$f":"IF(Teilnehmerliste!B293=\"\",\"\",Teilnehmerliste!B293)","v":""},{"$f":"SUMIF(Wetten!P$3:P$10002,C292,Wetten!O$3:O$10002)","v":0},{"$error":"#DIV/0!"}]
[null,"291.",{"$f":"IF(Teilnehmerliste!B294=\"\",\"\",Teilnehmerliste!B294)","v":""},{"$f":"SUMIF(Wetten!P$3:P$10002,C293,Wetten!O$3:O$10002)","v":0},{"$error":"#DIV/0!"}]
[null,"292.",{"$f":"IF(Teilnehmerliste!B295=\"\",\"\",Teilnehmerliste!B295)","v":""},{"$f":"SUMIF(Wetten!P$3:P$10002,C294,Wetten!O$3:O$10002)","v":0},{"$error":"#DIV/0!"}]
[null,"293.",{"$f":"IF(Teilnehmerliste!B296=\"\",\"\",Teilnehmerliste!B296)","v":""},{"$f":"SUMIF(Wetten!P$3:P$10002,C295,Wetten!O$3:O$10002)","v":0},{"$error":"#DIV/0!"}]
[null,"294.",{"$f":"IF(Teilnehmerliste!B297=\"\",\"\",Teilnehmerliste!B297)","v":""},{"$f":"SUMIF(Wetten!P$3:P$10002,C296,Wetten!O$3:O$10002)","v":0},{"$error":"#DIV/0!"}]
[null,"295.",{"$f":"IF(Teilnehmerliste!B298=\"\",\"\",Teilnehmerliste!B298)","v":""},{"$f":"SUMIF(Wetten!P$3:P$10002,C297,Wetten!O$3:O$10002)","v":0},{"$error":"#DIV/0!"}]
[null,"296.",{"$f":"IF(Teilnehmerliste!B299=\"\",\"\",Teilnehmerliste!B299)","v":""},{"$f":"SUMIF(Wetten!P$3:P$10002,C298,Wetten!O$3:O$10002)","v":0},{"$error":"#DIV/0!"}]
[null,"297.",{"$f":"IF(Teilnehmerliste!B300=\"\",\"\",Teilnehmerliste!B300)","v":""},{"$f":"SUMIF(Wetten!P$3:P$10002,C299,Wetten!O$3:O$10002)","v":0},{"$error":"#DIV/0!"}]
[null,"298.",{"$f":"IF(Teilnehmerliste!B301=\"\",\"\",Teilnehmerliste!B301)","v":""},{"$f":"SUMIF(Wetten!P$3:P$10002,C300,Wetten!O$3:O$10002)","v":0},{"$error":"#DIV/0!"}]
[null,"299.",{"$f":"IF(Teilnehmerliste!B302=\"\",\"\",Teilnehmerliste!B302)","v":""},{"$f":"SUMIF(Wetten!P$3:P$10002,C301,Wetten!O$3:O$10002)","v":0},{"$error":"#DIV/0!"}]
[null,"300.",{"$f":"IF(Teilnehmerliste!B303=\"\",\"\",Teilnehmerliste!B303)","v":""},{"$f":"SUMIF(Wetten!P$3:P$10002,C302,Wetten!O$3:O$10002)","v":0},{"$error":"#DIV/0!"}]
[null,"301.",{"$f":"IF(Teilnehmerliste!B304=\"\",\"\",Teilnehmerliste!B304)","v":""},{"$f":"SUMIF(Wetten!P$3:P$10002,C303,Wetten!O$3:O$10002)","v":0},{"$error":"#DIV/0!"}]
[null,"302.",{"$f":"IF(Teilnehmerliste!B305=\"\",\"\",Teilnehmerliste!B305)","v":""},{"$f":"SUMIF(Wetten!P$3:P$10002,C304,Wetten!O$3:O$10002)","v":0},{"$error":"#DIV/0!"}]
[null,"303.",{"$f":"IF(Teilnehmerliste!B306=\"\",\"\",Teilnehmerliste!B306)","v":""},{"$f":"SUMIF(Wetten!P$3:P$10002,C305,Wetten!O$3:O$10002)","v":0},{"$error":"#DIV/0!"}]
[null,"304.",{"$f":"IF(Teilnehmerliste!B307=\"\",\"\",Teilnehmerliste!B307)","v":""},{"$f":"SUMIF(Wetten!P$3:P$10002,C306,Wetten!O$3:O$10002)","v":0},{"$error":"#DIV/0!"}]
[null,"305.",{"$f":"IF(Teilnehmerliste!B308=\"\",\"\",Teilnehmerliste!B308)","v":""},{"$f":"SUMIF(Wetten!P$3:P$10002,C307,Wetten!O$3:O$10002)","v":0},{"$error":"#DIV/0!"}]
[null,"306.",{"$f":"IF(Teilnehmerliste!B309=\"\",\"\",Teilnehmerliste!B309)","v":""},{"$f":"SUMIF(Wetten!P$3:P$10002,C308,Wetten!O$3:O$10002)","v":0},{"$error":"#DIV/0!"}]
[null,"307.",{"$f":"IF(Teilnehmerliste!B310=\"\",\"\",Teilnehmerliste!B310)","v":""},{"$f":"SUMIF(Wetten!P$3:P$10002,C309,Wetten!O$3:O$10002)","v":0},{"$error":"#DIV/0!"}]
[null,"308.",{"$f":"IF(Teilnehmerliste!B311=\"\",\"\",Teilnehmerliste!B311)","v":""},{"$f":"SUMIF(Wetten!P$3:P$10002,C310,Wetten!O$3:O$10002)","v":0},{"$error":"#DIV/0!"}]
[null,"309.",{"$f":"IF(Teilnehmerliste!B312=\"\",\"\",Teilnehmerliste!B312)","v":""},{"$f":"SUMIF(Wetten!P$3:P$10002,C311,Wetten!O$3:O$10002)","v":0},{"$error":"#DIV/0!"}]
[null,"310.",{"$f":"IF(Teilnehmerliste!B313=\"\",\"\",Teilnehmerliste!B313)","v":""},{"$f":"SUMIF(Wetten!P$3:P$10002,C312,Wetten!O$3:O$10002)","v":0},{"$error":"#DIV/0!"}]
[null,"311.",{"$f":"IF(Teilnehmerliste!B314=\"\",\"\",Teilnehmerliste!B314)","v":""},{"$f":"SUMIF(Wetten!P$3:P$10002,C313,Wetten!O$3:O$10002)","v":0},{"$error":"#DIV/0!"}]
[null,"312.",{"$f":"IF(Teilnehmerliste!B315=\"\",\"\",Teilnehmerliste!B315)","v":""},{"$f":"SUMIF(Wetten!P$3:P$10002,C314,Wetten!O$3:O$10002)","v":0},{"$error":"#DIV/0!"}]
[null,"313.",{"$f":"IF(Teilnehmerliste!B316=\"\",\"\",Teilnehmerliste!B316)","v":""},{"$f":"SUMIF(Wetten!P$3:P$10002,C315,Wetten!O$3:O$10002)","v":0},{"$error":"#DIV/0!"}]
[null,"314.",{"$f":"IF(Teilnehmerliste!B317=\"\",\"\",Teilnehmerliste!B317)","v":""},{"$f":"SUMIF(Wetten!P$3:P$10002,C316,Wetten!O$3:O$10002)","v":0},{"$error":"#DIV/0!"}]
[null,"315.",{"$f":"IF(Teilnehmerliste!B318=\"\",\"\",Teilnehmerliste!B318)","v":""},{"$f":"SUMIF(Wetten!P$3:P$10002,C317,Wetten!O$3:O$10002)","v":0},{"$error":"#DIV/0!"}]
[null,"316.",{"$f":"IF(Teilnehmerliste!B319=\"\",\"\",Teilnehmerliste!B319)","v":""},{"$f":"SUMIF(Wetten!P$3:P$10002,C318,Wetten!O$3:O$10002)","v":0},{"$error":"#DIV/0!"}]
[null,"317.",{"$f":"IF(Teilnehmerliste!B320=\"\",\"\",Teilnehmerliste!B320)","v":""},{"$f":"SUMIF(Wetten!P$3:P$10002,C319,Wetten!O$3:O$10002)","v":0},{"$error":"#DIV/0!"}]
[null,"318.",{"$f":"IF(Teilnehmerliste!B321=\"\",\"\",Teilnehmerliste!B321)","v":""},{"$f":"SUMIF(Wetten!P$3:P$10002,C320,Wetten!O$3:O$10002)","v":0},{"$error":"#DIV/0!"}]
[null,"319.",{"$f":"IF(Teilnehmerliste!B322=\"\",\"\",Teilnehmerliste!B322)","v":""},{"$f":"SUMIF(Wetten!P$3:P$10002,C321,Wetten!O$3:O$10002)","v":0},{"$error":"#DIV/0!"}]
[null,"320.",{"$f":"IF(Teilnehmerliste!B323=\"\",\"\",Teilnehmerliste!B323)","v":""},{"$f":"SUMIF(Wetten!P$3:P$10002,C322,Wetten!O$3:O$10002)","v":0},{"$error":"#DIV/0!"}]
[null,"321.",{"$f":"IF(Teilnehmerliste!B324=\"\",\"\",Teilnehmerliste!B324)","v":""},{"$f":"SUMIF(Wetten!P$3:P$10002,C323,Wetten!O$3:O$10002)","v":0},{"$error":"#DIV/0!"}]
[null,"322.",{"$f":"IF(Teilnehmerliste!B325=\"\",\"\",Teilnehmerliste!B325)","v":""},{"$f":"SUMIF(Wetten!P$3:P$10002,C324,Wetten!O$3:O$10002)","v":0},{"$f":"1/SUM($D$3:$D$1002)*D324","v":{"$error":"#DIV/0!"}}]
[null,"323.",{"$f":"IF(Teilnehmerliste!B326=\"\",\"\",Teilnehmerliste!B326)","v":""},{"$f":"SUMIF(Wetten!P$3:P$10002,C325,Wetten!O$3:O$10002)","v":0},{"$error":"#DIV/0!"}]
[null,"324.",{"$f":"IF(Teilnehmerliste!B327=\"\",\"\",Teilnehmerliste!B327)","v":""},{"$f":"SUMIF(Wetten!P$3:P$10002,C326,Wetten!O$3:O$10002)","v":0},{"$error":"#DIV/0!"}]
[null,"325.",{"$f":"IF(Teilnehmerliste!B328=\"\",\"\",Teilnehmerliste!B328)","v":""},{"$f":"SUMIF(Wetten!P$3:P$10002,C327,Wetten!O$3:O$10002)","v":0},{"$error":"#DIV/0!"}]
[null,"326.",{"$f":"IF(Teilnehmerliste!B329=\"\",\"\",Teilnehmerliste!B329)","v":""},{"$f":"SUMIF(Wetten!P$3:P$10002,C328,Wetten!O$3:O$10002)","v":0},{"$error":"#DIV/0!"}]
[null,"327.",{"$f":"IF(Teilnehmerliste!B330=\"\",\"\",Teilnehmerliste!B330)","v":""},{"$f":"SUMIF(Wetten!P$3:P$10002,C329,Wetten!O$3:O$10002)","v":0},{"$error":"#DIV/0!"}]
[null,"328.",{"$f":"IF(Teilnehmerliste!B331=\"\",\"\",Teilnehmerliste!B331)","v":""},{"$f":"SUMIF(Wetten!P$3:P$10002,C330,Wetten!O$3:O$10002)","v":0},{"$error":"#DIV/0!"}]
[null,"329.",{"$f":"IF(Teilnehmerliste!B332=\"\",\"\",Teilnehmerliste!B332)","v":""},{"$f":"SUMIF(Wetten!P$3:P$10002,C331,Wetten!O$3:O$10002)","v":0},{"$error":"#DIV/0!"}]
[null,"330.",{"$f":"IF(Teilnehmerliste!B333=\"\",\"\",Teilnehmerliste!B333)","v":""},{"$f":"SUMIF(Wetten!P$3:P$10002,C332,Wetten!O$3:O$10002)","v":0},{"$error":"#DIV/0!"}]
[null,"331.",{"$f":"IF(Teilnehmerliste!B334=\"\",\"\",Teilnehmerliste!B334)","v":""},{"$f":"SUMIF(Wetten!P$3:P$10002,C333,Wetten!O$3:O$10002)","v":0},{"$error":"#DIV/0!"}]
[null,"332.",{"$f":"IF(Teilnehmerliste!B335=\"\",\"\",Teilnehmerliste!B335)","v":""},{"$f":"SUMIF(Wetten!P$3:P$10002,C334,Wetten!O$3:O$10002)","v":0},{"$error":"#DIV/0!"}]
[null,"333.",{"$f":"IF(Teilnehmerliste!B336=\"\",\"\",Teilnehmerliste!B336)","v":""},{"$f":"SUMIF(Wetten!P$3:P$10002,C335,Wetten!O$3:O$10002)","v":0},{"$error":"#DIV/0!"}]
[null,"334.",{"$f":"IF(Teilnehmerliste!B337=\"\",\"\",Teilnehmerliste!B337)","v":""},{"$f":"SUMIF(Wetten!P$3:P$10002,C336,Wetten!O$3:O$10002)","v":0},{"$error":"#DIV/0!"}]
[null,"335.",{"$f":"IF(Teilnehmerliste!B338=\"\",\"\",Teilnehmerliste!B338)","v":""},{"$f":"SUMIF(Wetten!P$3:P$10002,C337,Wetten!O$3:O$10002)","v":0},{"$error":"#DIV/0!"}]
[null,"336.",{"$f":"IF(Teilnehmerliste!B339=\"\",\"\",Teilnehmerliste!B339)","v":""},{"$f":"SUMIF(Wetten!P$3:P$10002,C338,Wetten!O$3:O$10002)","v":0},{"$error":"#DIV/0!"}]
[null,"337.",{"$f":"IF(Teilnehmerliste!B340=\"\",\"\",Teilnehmerliste!B340)","v":""},{"$f":"SUMIF(Wetten!P$3:P$10002,C339,Wetten!O$3:O$10002)","v":0},{"$error":"#DIV/0!"}]
[null,"338.",{"$f":"IF(Teilnehmerliste!B341=\"\",\"\",Teilnehmerliste!B341)","v":""},{"$f":"SUMIF(Wetten!P$3:P$10002,C340,Wetten!O$3:O$10002)","v":0},{"$error":"#DIV/0!"}]
[null,"339.",{"$f":"IF(Teilnehmerliste!B342=\"\",\"\",Teilnehmerliste!B342)","v":""},{"$f":"SUMIF(Wetten!P$3:P$10002,C341,Wetten!O$3:O$10002)","v":0},{"$error":"#DIV/0!"}]
[null,"340.",{"$f":"IF(Teilnehmerliste!B343=\"\",\"\",Teilnehmerliste!B343)","v":""},{"$f":"SUMIF(Wetten!P$3:P$10002,C342,Wetten!O$3:O$10002)","v":0},{"$error":"#DIV/0!"}]
[null,"341.",{"$f":"IF(Teilnehmerliste!B344=\"\",\"\",Teilnehmerliste!B344)","v":""},{"$f":"SUMIF(Wetten!P$3:P$10002,C343,Wetten!O$3:O$10002)","v":0},{"$error":"#DIV/0!"}]
[null,"342.",{"$f":"IF(Teilnehmerliste!B345=\"\",\"\",Teilnehmerliste!B345)","v":""},{"$f":"SUMIF(Wetten!P$3:P$10002,C344,Wetten!O$3:O$10002)","v":0},{"$error":"#DIV/0!"}]
[null,"343.",{"$f":"IF(Teilnehmerliste!B346=\"\",\"\",Teilnehmerliste!B346)","v":""},{"$f":"SUMIF(Wetten!P$3:P$10002,C345,Wetten!O$3:O$10002)","v":0},{"$error":"#DIV/0!"}]
[null,"344.",{"$f":"IF(Teilnehmerliste!B347=\"\",\"\",Teilnehmerliste!B347)","v":""},{"$f":"SUMIF(Wetten!P$3:P$10002,C346,Wetten!O$3:O$10002)","v":0},{"$error":"#DIV/0!"}]
[null,"345.",{"$f":"IF(Teilnehmerliste!B348=\"\",\"\",Teilnehmerliste!B348)","v":""},{"$f":"SUMIF(Wetten!P$3:P$10002,C347,Wetten!O$3:O$10002)","v":0},{"$error":"#DIV/0!"}]
[null,"346.",{"$f":"IF(Teilnehmerliste!B349=\"\",\"\",Teilnehmerliste!B349)","v":""},{"$f":"SUMIF(Wetten!P$3:P$10002,C348,Wetten!O$3:O$10002)","v":0},{"$error":"#DIV/0!"}]
[null,"347.",{"$f":"IF(Teilnehmerliste!B350=\"\",\"\",Teilnehmerliste!B350)","v":""},{"$f":"SUMIF(Wetten!P$3:P$10002,C349,Wetten!O$3:O$10002)","v":0},{"$error":"#DIV/0!"}]
[null,"348.",{"$f":"IF(Teilnehmerliste!B351=\"\",\"\",Teilnehmerliste!B351)","v":""},{"$f":"SUMIF(Wetten!P$3:P$10002,C350,Wetten!O$3:O$10002)","v":0},{"$error":"#DIV/0!"}]
[null,"349.",{"$f":"IF(Teilnehmerliste!B352=\"\",\"\",Teilnehmerliste!B352)","v":""},{"$f":"SUMIF(Wetten!P$3:P$10002,C351,Wetten!O$3:O$10002)","v":0},{"$error":"#DIV/0!"}]
[null,"350.",{"$f":"IF(Teilnehmerliste!B353=\"\",\"\",Teilnehmerliste!B353)","v":""},{"$f":"SUMIF(Wetten!P$3:P$10002,C352,Wetten!O$3:O$10002)","v":0},{"$error":"#DIV/0!"}]
[null,"351.",{"$f":"IF(Teilnehmerliste!B354=\"\",\"\",Teilnehmerliste!B354)","v":""},{"$f":"SUMIF(Wetten!P$3:P$10002,C353,Wetten!O$3:O$10002)","v":0},{"$error":"#DIV/0!"}]
[null,"352.",{"$f":"IF(Teilnehmerliste!B355=\"\",\"\",Teilnehmerliste!B355)","v":""},{"$f":"SUMIF(Wetten!P$3:P$10002,C354,Wetten!O$3:O$10002)","v":0},{"$error":"#DIV/0!"}]
[null,"353.",{"$f":"IF(Teilnehmerliste!B356=\"\",\"\",Teilnehmerliste!B356)","v":""},{"$f":"SUMIF(Wetten!P$3:P$10002,C355,Wetten!O$3:O$10002)","v":0},{"$error":"#DIV/0!"}]
[null,"354.",{"$f":"IF(Teilnehmerliste!B357=\"\",\"\",Teilnehmerliste!B357)","v":""},{"$f":"SUMIF(Wetten!P$3:P$10002,C356,Wetten!O$3:O$10002)","v":0},{"$error":"#DIV/0!"}]
[null,"355.",{"$f":"IF(Teilnehmerliste!B358=\"\",\"\",Teilnehmerliste!B358)","v":""},{"$f":"SUMIF(Wetten!P$3:P$10002,C357,Wetten!O$3:O$10002)","v":0},{"$error":"#DIV/0!"}]
[null,"356.",{"$f":"IF(Teilnehmerliste!B359=\"\",\"\",Teilnehmerliste!B359)","v":""},{"$f":"SUMIF(Wetten!P$3:P$10002,C358,Wetten!O$3:O$10002)","v":0},{"$error":"#DIV/0!"}]
[null,"357.",{"$f":"IF(Teilnehmerliste!B360=\"\",\"\",Teilnehmerliste!B360)","v":""},{"$f":"SUMIF(Wetten!P$3:P$10002,C359,Wetten!O$3:O$10002)","v":0},{"$error":"#DIV/0!"}]
[null,"358.",{"$f":"IF(Teilnehmerliste!B361=\"\",\"\",Teilnehmerliste!B361)","v":""},{"$f":"SUMIF(Wetten!P$3:P$10002,C360,Wetten!O$3:O$10002)","v":0},{"$error":"#DIV/0!"}]
[null,"359.",{"$f":"IF(Teilnehmerliste!B362=\"\",\"\",Teilnehmerliste!B362)","v":""},{"$f":"SUMIF(Wetten!P$3:P$10002,C361,Wetten!O$3:O$10002)","v":0},{"$error":"#DIV/0!"}]
[null,"360.",{"$f":"IF(Teilnehmerliste!B363=\"\",\"\",Teilnehmerliste!B363)","v":""},{"$f":"SUMIF(Wetten!P$3:P$10002,C362,Wetten!O$3:O$10002)","v":0},{"$error":"#DIV/0!"}]
[null,"361.",{"$f":"IF(Teilnehmerliste!B364=\"\",\"\",Teilnehmerliste!B364)","v":""},{"$f":"SUMIF(Wetten!P$3:P$10002,C363,Wetten!O$3:O$10002)","v":0},{"$error":"#DIV/0!"}]
[null,"362.",{"$f":"IF(Teilnehmerliste!B365=\"\",\"\",Teilnehmerliste!B365)","v":""},{"$f":"SUMIF(Wetten!P$3:P$10002,C364,Wetten!O$3:O$10002)","v":0},{"$error":"#DIV/0!"}]
[null,"363.",{"$f":"IF(Teilnehmerliste!B366=\"\",\"\",Teilnehmerliste!B366)","v":""},{"$f":"SUMIF(Wetten!P$3:P$10002,C365,Wetten!O$3:O$10002)","v":0},{"$error":"#DIV/0!"}]
[null,"364.",{"$f":"IF(Teilnehmerliste!B367=\"\",\"\",Teilnehmerliste!B367)","v":""},{"$f":"SUMIF(Wetten!P$3:P$10002,C366,Wetten!O$3:O$10002)","v":0},{"$error":"#DIV/0!"}]
[null,"365.",{"$f":"IF(Teilnehmerliste!B368=\"\",\"\",Teilnehmerliste!B368)","v":""},{"$f":"SUMIF(Wetten!P$3:P$10002,C367,Wetten!O$3:O$10002)","v":0},{"$error":"#DIV/0!"}]
[null,"366.",{"$f":"IF(Teilnehmerliste!B369=\"\",\"\",Teilnehmerliste!B369)","v":""},{"$f":"SUMIF(Wetten!P$3:P$10002,C368,Wetten!O$3:O$10002)","v":0},{"$error":"#DIV/0!"}]
[null,"367.",{"$f":"IF(Teilnehmerliste!B370=\"\",\"\",Teilnehmerliste!B370)","v":""},{"$f":"SUMIF(Wetten!P$3:P$10002,C369,Wetten!O$3:O$10002)","v":0},{"$error":"#DIV/0!"}]
[null,"368.",{"$f":"IF(Teilnehmerliste!B371=\"\",\"\",Teilnehmerliste!B371)","v":""},{"$f":"SUMIF(Wetten!P$3:P$10002,C370,Wetten!O$3:O$10002)","v":0},{"$error":"#DIV/0!"}]
[null,"369.",{"$f":"IF(Teilnehmerliste!B372=\"\",\"\",Teilnehmerliste!B372)","v":""},{"$f":"SUMIF(Wetten!P$3:P$10002,C371,Wetten!O$3:O$10002)","v":0},{"$error":"#DIV/0!"}]
[null,"370.",{"$f":"IF(Teilnehmerliste!B373=\"\",\"\",Teilnehmerliste!B373)","v":""},{"$f":"SUMIF(Wetten!P$3:P$10002,C372,Wetten!O$3:O$10002)","v":0},{"$error":"#DIV/0!"}]
[null,"371.",{"$f":"IF(Teilnehmerliste!B374=\"\",\"\",Teilnehmerliste!B374)","v":""},{"$f":"SUMIF(Wetten!P$3:P$10002,C373,Wetten!O$3:O$10002)","v":0},{"$error":"#DIV/0!"}]
[null,"372.",{"$f":"IF(Teilnehmerliste!B375=\"\",\"\",Teilnehmerliste!B375)","v":""},{"$f":"SUMIF(Wetten!P$3:P$10002,C374,Wetten!O$3:O$10002)","v":0},{"$error":"#DIV/0!"}]
[null,"373.",{"$f":"IF(Teilnehmerliste!B376=\"\",\"\",Teilnehmerliste!B376)","v":""},{"$f":"SUMIF(Wetten!P$3:P$10002,C375,Wetten!O$3:O$10002)","v":0},{"$error":"#DIV/0!"}]
[null,"374.",{"$f":"IF(Teilnehmerliste!B377=\"\",\"\",Teilnehmerliste!B377)","v":""},{"$f":"SUMIF(Wetten!P$3:P$10002,C376,Wetten!O$3:O$10002)","v":0},{"$error":"#DIV/0!"}]
[null,"375.",{"$f":"IF(Teilnehmerliste!B378=\"\",\"\",Teilnehmerliste!B378)","v":""},{"$f":"SUMIF(Wetten!P$3:P$10002,C377,Wetten!O$3:O$10002)","v":0},{"$error":"#DIV/0!"}]
[null,"376.",{"$f":"IF(Teilnehmerliste!B379=\"\",\"\",Teilnehmerliste!B379)","v":""},{"$f":"SUMIF(Wetten!P$3:P$10002,C378,Wetten!O$3:O$10002)","v":0},{"$error":"#DIV/0!"}]
[null,"377.",{"$f":"IF(Teilnehmerliste!B380=\"\",\"\",Teilnehmerliste!B380)","v":""},{"$f":"SUMIF(Wetten!P$3:P$10002,C379,Wetten!O$3:O$10002)","v":0},{"$error":"#DIV/0!"}]
[null,"378.",{"$f":"IF(Teilnehmerliste!B381=\"\",\"\",Teilnehmerliste!B381)","v":""},{"$f":"SUMIF(Wetten!P$3:P$10002,C380,Wetten!O$3:O$10002)","v":0},{"$error":"#DIV/0!"}]
[null,"379.",{"$f":"IF(Teilnehmerliste!B382=\"\",\"\",Teilnehmerliste!B382)","v":""},{"$f":"SUMIF(Wetten!P$3:P$10002,C381,Wetten!O$3:O$10002)","v":0},{"$error":"#DIV/0!"}]
[null,"380.",{"$f":"IF(Teilnehmerliste!B383=\"\",\"\",Teilnehmerliste!B383)","v":""},{"$f":"SUMIF(Wetten!P$3:P$10002,C382,Wetten!O$3:O$10002)","v":0},{"$error":"#DIV/0!"}]
[null,"381.",{"$f":"IF(Teilnehmerliste!B384=\"\",\"\",Teilnehmerliste!B384)","v":""},{"$f":"SUMIF(Wetten!P$3:P$10002,C383,Wetten!O$3:O$10002)","v":0},{"$error":"#DIV/0!"}]
[null,"382.",{"$f":"IF(Teilnehmerliste!B385=\"\",\"\",Teilnehmerliste!B385)","v":""},{"$f":"SUMIF(Wetten!P$3:P$10002,C384,Wetten!O$3:O$10002)","v":0},{"$error":"#DIV/0!"}]
[null,"383.",{"$f":"IF(Teilnehmerliste!B386=\"\",\"\",Teilnehmerliste!B386)","v":""},{"$f":"SUMIF(Wetten!P$3:P$10002,C385,Wetten!O$3:O$10002)","v":0},{"$error":"#DIV/0!"}]
[null,"384.",{"$f":"IF(Teilnehmerliste!B387=\"\",\"\",Teilnehmerliste!B387)","v":""},{"$f":"SUMIF(Wetten!P$3:P$10002,C386,Wetten!O$3:O$10002)","v":0},{"$error":"#DIV/0!"}]
[null,"385.",{"$f":"IF(Teilnehmerliste!B388=\"\",\"\",Teilnehmerliste!B388)","v":""},{"$f":"SUMIF(Wetten!P$3:P$10002,C387,Wetten!O$3:O$10002)","v":0},{"$error":"#DIV/0!"}]
[null,"386.",{"$f":"IF(Teilnehmerliste!B389=\"\",\"\",Teilnehmerliste!B389)","v":""},{"$f":"SUMIF(Wetten!P$3:P$10002,C388,Wetten!O$3:O$10002)","v":0},{"$f":"1/SUM($D$3:$D$1002)*D388","v":{"$error":"#DIV/0!"}}]
[null,"387.",{"$f":"IF(Teilnehmerliste!B390=\"\",\"\",Teilnehmerliste!B390)","v":""},{"$f":"SUMIF(Wetten!P$3:P$10002,C389,Wetten!O$3:O$10002)","v":0},{"$error":"#DIV/0!"}]
[null,"388.",{"$f":"IF(Teilnehmerliste!B391=\"\",\"\",Teilnehmerliste!B391)","v":""},{"$f":"SUMIF(Wetten!P$3:P$10002,C390,Wetten!O$3:O$10002)","v":0},{"$error":"#DIV/0!"}]
[null,"389.",{"$f":"IF(Teilnehmerliste!B392=\"\",\"\",Teilnehmerliste!B392)","v":""},{"$f":"SUMIF(Wetten!P$3:P$10002,C391,Wetten!O$3:O$10002)","v":0},{"$error":"#DIV/0!"}]
[null,"390.",{"$f":"IF(Teilnehmerliste!B393=\"\",\"\",Teilnehmerliste!B393)","v":""},{"$f":"SUMIF(Wetten!P$3:P$10002,C392,Wetten!O$3:O$10002)","v":0},{"$error":"#DIV/0!"}]
[null,"391.",{"$f":"IF(Teilnehmerliste!B394=\"\",\"\",Teilnehmerliste!B394)","v":""},{"$f":"SUMIF(Wetten!P$3:P$10002,C393,Wetten!O$3:O$10002)","v":0},{"$error":"#DIV/0!"}]
[null,"392.",{"$f":"IF(Teilnehmerliste!B395=\"\",\"\",Teilnehmerliste!B395)","v":""},{"$f":"SUMIF(Wetten!P$3:P$10002,C394,Wetten!O$3:O$10002)","v":0},{"$error":"#DIV/0!"}]
[null,"393.",{"$f":"IF(Teilnehmerliste!B396=\"\",\"\",Teilnehmerliste!B396)","v":""},{"$f":"SUMIF(Wetten!P$3:P$10002,C395,Wetten!O$3:O$10002)","v":0},{"$error":"#DIV/0!"}]
[null,"394.",{"$f":"IF(Teilnehmerliste!B397=\"\",\"\",Teilnehmerliste!B397)","v":""},{"$f":"SUMIF(Wetten!P$3:P$10002,C396,Wetten!O$3:O$10002)","v":0},{"$error":"#DIV/0!"}]
[null,"395.",{"$f":"IF(Teilnehmerliste!B398=\"\",\"\",Teilnehmerliste!B398)","v":""},{"$f":"SUMIF(Wetten!P$3:P$10002,C397,Wetten!O$3:O$10002)","v":0},{"$error":"#DIV/0!"}]
[null,"396.",{"$f":"IF(Teilnehmerliste!B399=\"\",\"\",Teilnehmerliste!B399)","v":""},{"$f":"SUMIF(Wetten!P$3:P$10002,C398,Wetten!O$3:O$10002)","v":0},{"$error":"#DIV/0!"}]
[null,"397.",{"$f":"IF(Teilnehmerliste!B400=\"\",\"\",Teilnehmerliste!B400)","v":""},{"$f":"SUMIF(Wetten!P$3:P$10002,C399,Wetten!O$3:O$10002)","v":0},{"$error":"#DIV/0!"}]
[null,"398.",{"$f":"IF(Teilnehmerliste!B401=\"\",\"\",Teilnehmerliste!B401)","v":""},{"$f":"SUMIF(Wetten!P$3:P$10002,C400,Wetten!O$3:O$10002)","v":0},{"$error":"#DIV/0!"}]
[null,"399.",{"$f":"IF(Teilnehmerliste!B402=\"\",\"\",Teilnehmerliste!B402)","v":""},{"$f":"SUMIF(Wetten!P$3:P$10002,C401,Wetten!O$3:O$10002)","v":0},{"$error":"#DIV/0!"}]
[null,"400.",{"$f":"IF(Teilnehmerliste!B403=\"\",\"\",Teilnehmerliste!B403)","v":""},{"$f":"SUMIF(Wetten!P$3:P$10002,C402,Wetten!O$3:O$10002)","v":0},{"$error":"#DIV/0!"}]
[null,"401.",{"$f":"IF(Teilnehmerliste!B404=\"\",\"\",Teilnehmerliste!B404)","v":""},{"$f":"SUMIF(Wetten!P$3:P$10002,C403,Wetten!O$3:O$10002)","v":0},{"$error":"#DIV/0!"}]
[null,"402.",{"$f":"IF(Teilnehmerliste!B405=\"\",\"\",Teilnehmerliste!B405)","v":""},{"$f":"SUMIF(Wetten!P$3:P$10002,C404,Wetten!O$3:O$10002)","v":0},{"$error":"#DIV/0!"}]
[null,"403.",{"$f":"IF(Teilnehmerliste!B406=\"\",\"\",Teilnehmerliste!B406)","v":""},{"$f":"SUMIF(Wetten!P$3:P$10002,C405,Wetten!O$3:O$10002)","v":0},{"$error":"#DIV/0!"}]
[null,"404.",{"$f":"IF(Teilnehmerliste!B407=\"\",\"\",Teilnehmerliste!B407)","v":""},{"$f":"SUMIF(Wetten!P$3:P$10002,C406,Wetten!O$3:O$10002)","v":0},{"$error":"#DIV/0!"}]
[null,"405.",{"$f":"IF(Teilnehmerliste!B408=\"\",\"\",Teilnehmerliste!B408)","v":""},{"$f":"SUMIF(Wetten!P$3:P$10002,C407,Wetten!O$3:O$10002)","v":0},{"$error":"#DIV/0!"}]
[null,"406.",{"$f":"IF(Teilnehmerliste!B409=\"\",\"\",Teilnehmerliste!B409)","v":""},{"$f":"SUMIF(Wetten!P$3:P$10002,C408,Wetten!O$3:O$10002)","v":0},{"$error":"#DIV/0!"}]
[null,"407.",{"$f":"IF(Teilnehmerliste!B410=\"\",\"\",Teilnehmerliste!B410)","v":""},{"$f":"SUMIF(Wetten!P$3:P$10002,C409,Wetten!O$3:O$10002)","v":0},{"$error":"#DIV/0!"}]
[null,"408.",{"$f":"IF(Teilnehmerliste!B411=\"\",\"\",Teilnehmerliste!B411)","v":""},{"$f":"SUMIF(Wetten!P$3:P$10002,C410,Wetten!O$3:O$10002)","v":0},{"$error":"#DIV/0!"}]
[null,"409.",{"$f":"IF(Teilnehmerliste!B412=\"\",\"\",Teilnehmerliste!B412)","v":""},{"$f":"SUMIF(Wetten!P$3:P$10002,C411,Wetten!O$3:O$10002)","v":0},{"$error":"#DIV/0!"}]
[null,"410.",{"$f":"IF(Teilnehmerliste!B413=\"\",\"\",Teilnehmerliste!B413)","v":""},{"$f":"SUMIF(Wetten!P$3:P$10002,C412,Wetten!O$3:O$10002)","v":0},{"$error":"#DIV/0!"}]
[null,"411.",{"$f":"IF(Teilnehmerliste!B414=\"\",\"\",Teilnehmerliste!B414)","v":""},{"$f":"SUMIF(Wetten!P$3:P$10002,C413,Wetten!O$3:O$10002)","v":0},{"$error":"#DIV/0!"}]
[null,"412.",{"$f":"IF(Teilnehmerliste!B415=\"\",\"\",Teilnehmerliste!B415)","v":""},{"$f":"SUMIF(Wetten!P$3:P$10002,C414,Wetten!O$3:O$10002)","v":0},{"$error":"#DIV/0!"}]
[null,"413.",{"$f":"IF(Teilnehmerliste!B416=\"\",\"\",Teilnehmerliste!B416)","v":""},{"$f":"SUMIF(Wetten!P$3:P$10002,C415,Wetten!O$3:O$10002)","v":0},{"$error":"#DIV/0!"}]
[null,"414.",{"$f":"IF(Teilnehmerliste!B417=\"\",\"\",Teilnehmerliste!B417)","v":""},{"$f":"SUMIF(Wetten!P$3:P$10002,C416,Wetten!O$3:O$10002)","v":0},{"$error":"#DIV/0!"}]
[null,"415.",{"$f":"IF(Teilnehmerliste!B418=\"\",\"\",Teilnehmerliste!B418)","v":""},{"$f":"SUMIF(Wetten!P$3:P$10002,C417,Wetten!O$3:O$10002)","v":0},{"$error":"#DIV/0!"}]
[null,"416.",{"$f":"IF(Teilnehmerliste!B419=\"\",\"\",Teilnehmerliste!B419)","v":""},{"$f":"SUMIF(Wetten!P$3:P$10002,C418,Wetten!O$3:O$10002)","v":0},{"$error":"#DIV/0!"}]
[null,"417.",{"$f":"IF(Teilnehmerliste!B420=\"\",\"\",Teilnehmerliste!B420)","v":""},{"$f":"SUMIF(Wetten!P$3:P$10002,C419,Wetten!O$3:O$10002)","v":0},{"$error":"#DIV/0!"}]
[null,"418.",{"$f":"IF(Teilnehmerliste!B421=\"\",\"\",Teilnehmerliste!B421)","v":""},{"$f":"SUMIF(Wetten!P$3:P$10002,C420,Wetten!O$3:O$10002)","v":0},{"$error":"#DIV/0!"}]
[null,"419.",{"$f":"IF(Teilnehmerliste!B422=\"\",\"\",Teilnehmerliste!B422)","v":""},{"$f":"SUMIF(Wetten!P$3:P$10002,C421,Wetten!O$3:O$10002)","v":0},{"$error":"#DIV/0!"}]
[null,"420.",{"$f":"IF(Teilnehmerliste!B423=\"\",\"\",Teilnehmerliste!B423)","v":""},{"$f":"SUMIF(Wetten!P$3:P$10002,C422,Wetten!O$3:O$10002)","v":0},{"$error":"#DIV/0!"}]
[null,"421.",{"$f":"IF(Teilnehmerliste!B424=\"\",\"\",Teilnehmerliste!B424)","v":""},{"$f":"SUMIF(Wetten!P$3:P$10002,C423,Wetten!O$3:O$10002)","v":0},{"$error":"#DIV/0!"}]
[null,"422.",{"$f":"IF(Teilnehmerliste!B425=\"\",\"\",Teilnehmerliste!B425)","v":""},{"$f":"SUMIF(Wetten!P$3:P$10002,C424,Wetten!O$3:O$10002)","v":0},{"$error":"#DIV/0!"}]
[null,"423.",{"$f":"IF(Teilnehmerliste!B426=\"\",\"\",Teilnehmerliste!B426)","v":""},{"$f":"SUMIF(Wetten!P$3:P$10002,C425,Wetten!O$3:O$10002)","v":0},{"$error":"#DIV/0!"}]
[null,"424.",{"$f":"IF(Teilnehmerliste!B427=\"\",\"\",Teilnehmerliste!B427)","v":""},{"$f":"SUMIF(Wetten!P$3:P$10002,C426,Wetten!O$3:O$10002)","v":0},{"$error":"#DIV/0!"}]
[null,"425.",{"$f":"IF(Teilnehmerliste!B428=\"\",\"\",Teilnehmerliste!B428)","v":""},{"$f":"SUMIF(Wetten!P$3:P$10002,C427,Wetten!O$3:O$10002)","v":0},{"$error":"#DIV/0!"}]
[null,"426.",{"$f":"IF(Teilnehmerliste!B429=\"\",\"\",Teilnehmerliste!B429)","v":""},{"$f":"SUMIF(Wetten!P$3:P$10002,C428,Wetten!O$3:O$10002)","v":0},{"$error":"#DIV/0!"}]
[null,"427.",{"$f":"IF(Teilnehmerliste!B430=\"\",\"\",Teilnehmerliste!B430)","v":""},{"$f":"SUMIF(Wetten!P$3:P$10002,C429,Wetten!O$3:O$10002)","v":0},{"$error":"#DIV/0!"}]
[null,"428.",{"$f":"IF(Teilnehmerliste!B431=\"\",\"\",Teilnehmerliste!B431)","v":""},{"$f":"SUMIF(Wetten!P$3:P$10002,C430,Wetten!O$3:O$10002)","v":0},{"$error":"#DIV/0!"}]
[null,"429.",{"$f":"IF(Teilnehmerliste!B432=\"\",\"\",Teilnehmerliste!B432)","v":""},{"$f":"SUMIF(Wetten!P$3:P$10002,C431,Wetten!O$3:O$10002)","v":0},{"$error":"#DIV/0!"}]
[null,"430.",{"$f":"IF(Teilnehmerliste!B433=\"\",\"\",Teilnehmerliste!B433)","v":""},{"$f":"SUMIF(Wetten!P$3:P$10002,C432,Wetten!O$3:O$10002)","v":0},{"$error":"#DIV/0!"}]
[null,"431.",{"$f":"IF(Teilnehmerliste!B434=\"\",\"\",Teilnehmerliste!B434)","v":""},{"$f":"SUMIF(Wetten!P$3:P$10002,C433,Wetten!O$3:O$10002)","v":0},{"$error":"#DIV/0!"}]
[null,"432.",{"$f":"IF(Teilnehmerliste!B435=\"\",\"\",Teilnehmerliste!B435)","v":""},{"$f":"SUMIF(Wetten!P$3:P$10002,C434,Wetten!O$3:O$10002)","v":0},{"$error":"#DIV/0!"}]
[null,"433.",{"$f":"IF(Teilnehmerliste!B436=\"\",\"\",Teilnehmerliste!B436)","v":""},{"$f":"SUMIF(Wetten!P$3:P$10002,C435,Wetten!O$3:O$10002)","v":0},{"$error":"#DIV/0!"}]
[null,"434.",{"$f":"IF(Teilnehmerliste!B437=\"\",\"\",Teilnehmerliste!B437)","v":""},{"$f":"SUMIF(Wetten!P$3:P$10002,C436,Wetten!O$3:O$10002)","v":0},{"$error":"#DIV/0!"}]
[null,"435.",{"$f":"IF(Teilnehmerliste!B438=\"\",\"\",Teilnehmerliste!B438)","v":""},{"$f":"SUMIF(Wetten!P$3:P$10002,C437,Wetten!O$3:O$10002)","v":0},{"$error":"#DIV/0!"}]
[null,"436.",{"$f":"IF(Teilnehmerliste!B439=\"\",\"\",Teilnehmerliste!B439)","v":""},{"$f":"SUMIF(Wetten!P$3:P$10002,C438,Wetten!O$3:O$10002)","v":0},{"$error":"#DIV/0!"}]
[null,"437.",{"$f":"IF(Teilnehmerliste!B440=\"\",\"\",Teilnehmerliste!B440)","v":""},{"$f":"SUMIF(Wetten!P$3:P$10002,C439,Wetten!O$3:O$10002)","v":0},{"$error":"#DIV/0!"}]
[null,"438.",{"$f":"IF(Teilnehmerliste!B441=\"\",\"\",Teilnehmerliste!B441)","v":""},{"$f":"SUMIF(Wetten!P$3:P$10002,C440,Wetten!O$3:O$10002)","v":0},{"$error":"#DIV/0!"}]
[null,"439.",{"$f":"IF(Teilnehmerliste!B442=\"\",\"\",Teilnehmerliste!B442)","v":""},{"$f":"SUMIF(Wetten!P$3:P$10002,C441,Wetten!O$3:O$10002)","v":0},{"$error":"#DIV/0!"}]
[null,"440.",{"$f":"IF(Teilnehmerliste!B443=\"\",\"\",Teilnehmerliste!B443)","v":""},{"$f":"SUMIF(Wetten!P$3:P$10002,C442,Wetten!O$3:O$10002)","v":0},{"$error":"#DIV/0!"}]
[null,"441.",{"$f":"IF(Teilnehmerliste!B444=\"\",\"\",Teilnehmerliste!B444)","v":""},{"$f":"SUMIF(Wetten!P$3:P$10002,C443,Wetten!O$3:O$10002)","v":0},{"$error":"#DIV/0!"}]
[null,"442.",{"$f":"IF(Teilnehmerliste!B445=\"\",\"\",Teilnehmerliste!B445)","v":""},{"$f":"SUMIF(Wetten!P$3:P$10002,C444,Wetten!O$3:O$10002)","v":0},{"$error":"#DIV/0!"}]
[null,"443.",{"$f":"IF(Teilnehmerliste!B446=\"\",\"\",Teilnehmerliste!B446)","v":""},{"$f":"SUMIF(Wetten!P$3:P$10002,C445,Wetten!O$3:O$10002)","v":0},{"$error":"#DIV/0!"}]
[null,"444.",{"$f":"IF(Teilnehmerliste!B447=\"\",\"\",Teilnehmerliste!B447)","v":""},{"$f":"SUMIF(Wetten!P$3:P$10002,C446,Wetten!O$3:O$10002)","v":0},{"$error":"#DIV/0!"}]
[null,"445.",{"$f":"IF(Teilnehmerliste!B448=\"\",\"\",Teilnehmerliste!B448)","v":""},{"$f":"SUMIF(Wetten!P$3:P$10002,C447,Wetten!O$3:O$10002)","v":0},{"$error":"#DIV/0!"}]
[null,"446.",{"$f":"IF(Teilnehmerliste!B449=\"\",\"\",Teilnehmerliste!B449)","v":""},{"$f":"SUMIF(Wetten!P$3:P$10002,C448,Wetten!O$3:O$10002)","v":0},{"$error":"#DIV/0!"}]
[null,"447.",{"$f":"IF(Teilnehmerliste!B450=\"\",\"\",Teilnehmerliste!B450)","v":""},{"$f":"SUMIF(Wetten!P$3:P$10002,C449,Wetten!O$3:O$10002)","v":0},{"$error":"#DIV/0!"}]
[null,"448.",{"$f":"IF(Teilnehmerliste!B451=\"\",\"\",Teilnehmerliste!B451)","v":""},{"$f":"SUMIF(Wetten!P$3:P$10002,C450,Wetten!O$3:O$10002)","v":0},{"$error":"#DIV/0!"}]
[null,"449.",{"$f":"IF(Teilnehmerliste!B452=\"\",\"\",Teilnehmerliste!B452)","v":""},{"$f":"SUMIF(Wetten!P$3:P$10002,C451,Wetten!O$3:O$10002)","v":0},{"$error":"#DIV/0!"}]
[null,"450.",{"$f":"IF(Teilnehmerliste!B453=\"\",\"\",Teilnehmerliste!B453)","v":""},{"$f":"SUMIF(Wetten!P$3:P$10002,C452,Wetten!O$3:O$10002)","v":0},{"$f":"1/SUM($D$3:$D$1002)*D452","v":{"$error":"#DIV/0!"}}]
[null,"451.",{"$f":"IF(Teilnehmerliste!B454=\"\",\"\",Teilnehmerliste!B454)","v":""},{"$f":"SUMIF(Wetten!P$3:P$10002,C453,Wetten!O$3:O$10002)","v":0},{"$error":"#DIV/0!"}]
[null,"452.",{"$f":"IF(Teilnehmerliste!B455=\"\",\"\",Teilnehmerliste!B455)","v":""},{"$f":"SUMIF(Wetten!P$3:P$10002,C454,Wetten!O$3:O$10002)","v":0},{"$error":"#DIV/0!"}]
[null,"453.",{"$f":"IF(Teilnehmerliste!B456=\"\",\"\",Teilnehmerliste!B456)","v":""},{"$f":"SUMIF(Wetten!P$3:P$10002,C455,Wetten!O$3:O$10002)","v":0},{"$error":"#DIV/0!"}]
[null,"454.",{"$f":"IF(Teilnehmerliste!B457=\"\",\"\",Teilnehmerliste!B457)","v":""},{"$f":"SUMIF(Wetten!P$3:P$10002,C456,Wetten!O$3:O$10002)","v":0},{"$error":"#DIV/0!"}]
[null,"455.",{"$f":"IF(Teilnehmerliste!B458=\"\",\"\",Teilnehmerliste!B458)","v":""},{"$f":"SUMIF(Wetten!P$3:P$10002,C457,Wetten!O$3:O$10002)","v":0},{"$error":"#DIV/0!"}]
[null,"456.",{"$f":"IF(Teilnehmerliste!B459=\"\",\"\",Teilnehmerliste!B459)","v":""},{"$f":"SUMIF(Wetten!P$3:P$10002,C458,Wetten!O$3:O$10002)","v":0},{"$error":"#DIV/0!"}]
[null,"457.",{"$f":"IF(Teilnehmerliste!B460=\"\",\"\",Teilnehmerliste!B460)","v":""},{"$f":"SUMIF(Wetten!P$3:P$10002,C459,Wetten!O$3:O$10002)","v":0},{"$error":"#DIV/0!"}]
[null,"458.",{"$f":"IF(Teilnehmerliste!B461=\"\",\"\",Teilnehmerliste!B461)","v":""},{"$f":"SUMIF(Wetten!P$3:P$10002,C460,Wetten!O$3:O$10002)","v":0},{"$error":"#DIV/0!"}]
[null,"459.",{"$f":"IF(Teilnehmerliste!B462=\"\",\"\",Teilnehmerliste!B462)","v":""},{"$f":"SUMIF(Wetten!P$3:P$10002,C461,Wetten!O$3:O$10002)","v":0},{"$error":"#DIV/0!"}]
[null,"460.",{"$f":"IF(Teilnehmerliste!B463=\"\",\"\",Teilnehmerliste!B463)","v":""},{"$f":"SUMIF(Wetten!P$3:P$10002,C462,Wetten!O$3:O$10002)","v":0},{"$error":"#DIV/0!"}]
[null,"461.",{"$f":"IF(Teilnehmerliste!B464=\"\",\"\",Teilnehmerliste!B464)","v":""},{"$f":"SUMIF(Wetten!P$3:P$10002,C463,Wetten!O$3:O$10002)","v":0},{"$error":"#DIV/0!"}]
[null,"462.",{"$f":"IF(Teilnehmerliste!B465=\"\",\"\",Teilnehmerliste!B465)","v":""},{"$f":"SUMIF(Wetten!P$3:P$10002,C464,Wetten!O$3:O$10002)","v":0},{"$error":"#DIV/0!"}]
[null,"463.",{"$f":"IF(Teilnehmerliste!B466=\"\",\"\",Teilnehmerliste!B466)","v":""},{"$f":"SUMIF(Wetten!P$3:P$10002,C465,Wetten!O$3:O$10002)","v":0},{"$error":"#DIV/0!"}]
[null,"464.",{"$f":"IF(Teilnehmerliste!B467=\"\",\"\",Teilnehmerliste!B467)","v":""},{"$f":"SUMIF(Wetten!P$3:P$10002,C466,Wetten!O$3:O$10002)","v":0},{"$error":"#DIV/0!"}]
[null,"465.",{"$f":"IF(Teilnehmerliste!B468=\"\",\"\",Teilnehmerliste!B468)","v":""},{"$f":"SUMIF(Wetten!P$3:P$10002,C467,Wetten!O$3:O$10002)","v":0},{"$error":"#DIV/0!"}]
[null,"466.",{"$f":"IF(Teilnehmerliste!B469=\"\",\"\",Teilnehmerliste!B469)","v":""},{"$f":"SUMIF(Wetten!P$3:P$10002,C468,Wetten!O$3:O$10002)","v":0},{"$error":"#DIV/0!"}]
[null,"467.",{"$f":"IF(Teilnehmerliste!B470=\"\",\"\",Teilnehmerliste!B470)","v":""},{"$f":"SUMIF(Wetten!P$3:P$10002,C469,Wetten!O$3:O$10002)","v":0},{"$error":"#DIV/0!"}]
[null,"468.",{"$f":"IF(Teilnehmerliste!B471=\"\",\"\",Teilnehmerliste!B471)","v":""},{"$f":"SUMIF(Wetten!P$3:P$10002,C470,Wetten!O$3:O$10002)","v":0},{"$error":"#DIV/0!"}]
[null,"469.",{"$f":"IF(Teilnehmerliste!B472=\"\",\"\",Teilnehmerliste!B472)","v":""},{"$f":"SUMIF(Wetten!P$3:P$10002,C471,Wetten!O$3:O$10002)","v":0},{"$error":"#DIV/0!"}]
[null,"470.",{"$f":"IF(Teilnehmerliste!B473=\"\",\"\",Teilnehmerliste!B473)","v":""},{"$f":"SUMIF(Wetten!P$3:P$10002,C472,Wetten!O$3:O$10002)","v":0},{"$error":"#DIV/0!"}]
[null,"471.",{"$f":"IF(Teilnehmerliste!B474=\"\",\"\",Teilnehmerliste!B474)","v":""},{"$f":"SUMIF(Wetten!P$3:P$10002,C473,Wetten!O$3:O$10002)","v":0},{"$error":"#DIV/0!"}]
[null,"472.",{"$f":"IF(Teilnehmerliste!B475=\"\",\"\",Teilnehmerliste!B475)","v":""},{"$f":"SUMIF(Wetten!P$3:P$10002,C474,Wetten!O$3:O$10002)","v":0},{"$error":"#DIV/0!"}]
[null,"473.",{"$f":"IF(Teilnehmerliste!B476=\"\",\"\",Teilnehmerliste!B476)","v":""},{"$f":"SUMIF(Wetten!P$3:P$10002,C475,Wetten!O$3:O$10002)","v":0},{"$error":"#DIV/0!"}]
[null,"474.",{"$f":"IF(Teilnehmerliste!B477=\"\",\"\",Teilnehmerliste!B477)","v":""},{"$f":"SUMIF(Wetten!P$3:P$10002,C476,Wetten!O$3:O$10002)","v":0},{"$error":"#DIV/0!"}]
[null,"475.",{"$f":"IF(Teilnehmerliste!B478=\"\",\"\",Teilnehmerliste!B478)","v":""},{"$f":"SUMIF(Wetten!P$3:P$10002,C477,Wetten!O$3:O$10002)","v":0},{"$error":"#DIV/0!"}]
[null,"476.",{"$f":"IF(Teilnehmerliste!B479=\"\",\"\",Teilnehmerliste!B479)","v":""},{"$f":"SUMIF(Wetten!P$3:P$10002,C478,Wetten!O$3:O$10002)","v":0},{"$error":"#DIV/0!"}]
[null,"477.",{"$f":"IF(Teilnehmerliste!B480=\"\",\"\",Teilnehmerliste!B480)","v":""},{"$f":"SUMIF(Wetten!P$3:P$10002,C479,Wetten!O$3:O$10002)","v":0},{"$error":"#DIV/0!"}]
[null,"478.",{"$f":"IF(Teilnehmerliste!B481=\"\",\"\",Teilnehmerliste!B481)","v":""},{"$f":"SUMIF(Wetten!P$3:P$10002,C480,Wetten!O$3:O$10002)","v":0},{"$error":"#DIV/0!"}]
[null,"479.",{"$f":"IF(Teilnehmerliste!B482=\"\",\"\",Teilnehmerliste!B482)","v":""},{"$f":"SUMIF(Wetten!P$3:P$10002,C481,Wetten!O$3:O$10002)","v":0},{"$error":"#DIV/0!"}]
[null,"480.",{"$f":"IF(Teilnehmerliste!B483=\"\",\"\",Teilnehmerliste!B483)","v":""},{"$f":"SUMIF(Wetten!P$3:P$10002,C482,Wetten!O$3:O$10002)","v":0},{"$error":"#DIV/0!"}]
[null,"481.",{"$f":"IF(Teilnehmerliste!B484=\"\",\"\",Teilnehmerliste!B484)","v":""},{"$f":"SUMIF(Wetten!P$3:P$10002,C483,Wetten!O$3:O$10002)","v":0},{"$error":"#DIV/0!"}]
[null,"482.",{"$f":"IF(Teilnehmerliste!B485=\"\",\"\",Teilnehmerliste!B485)","v":""},{"$f":"SUMIF(Wetten!P$3:P$10002,C484,Wetten!O$3:O$10002)","v":0},{"$error":"#DIV/0!"}]
[null,"483.",{"$f":"IF(Teilnehmerliste!B486=\"\",\"\",Teilnehmerliste!B486)","v":""},{"$f":"SUMIF(Wetten!P$3:P$10002,C485,Wetten!O$3:O$10002)","v":0},{"$error":"#DIV/0!"}]
[null,"484.",{"$f":"IF(Teilnehmerliste!B487=\"\",\"\",Teilnehmerliste!B487)","v":""},{"$f":"SUMIF(Wetten!P$3:P$10002,C486,Wetten!O$3:O$10002)","v":0},{"$error":"#DIV/0!"}]
[null,"485.",{"$f":"IF(Teilnehmerliste!B488=\"\",\"\",Teilnehmerliste!B488)","v":""},{"$f":"SUMIF(Wetten!P$3:P$10002,C487,Wetten!O$3:O$10002)","v":0},{"$error":"#DIV/0!"}]
[null,"486.",{"$f":"IF(Teilnehmerliste!B489=\"\",\"\",Teilnehmerliste!B489)","v":""},{"$f":"SUMIF(Wetten!P$3:P$10002,C488,Wetten!O$3:O$10002)","v":0},{"$error":"#DIV/0!"}]
[null,"487.",{"$f":"IF(Teilnehmerliste!B490=\"\",\"\",Teilnehmerliste!B490)","v":""},{"$f":"SUMIF(Wetten!P$3:P$10002,C489,Wetten!O$3:O$10002)","v":0},{"$error":"#DIV/0!"}]
[null,"488.",{"$f":"IF(Teilnehmerliste!B491=\"\",\"\",Teilnehmerliste!B491)","v":""},{"$f":"SUMIF(Wetten!P$3:P$10002,C490,Wetten!O$3:O$10002)","v":0},{"$error":"#DIV/0!"}]
[null,"489.",{"$f":"IF(Teilnehmerliste!B492=\"\",\"\",Teilnehmerliste!B492)","v":""},{"$f":"SUMIF(Wetten!P$3:P$10002,C491,Wetten!O$3:O$10002)","v":0},{"$error":"#DIV/0!"}]
[null,"490.",{"$f":"IF(Teilnehmerliste!B493=\"\",\"\",Teilnehmerliste!B493)","v":""},{"$f":"SUMIF(Wetten!P$3:P$10002,C492,Wetten!O$3:O$10002)","v":0},{"$error":"#DIV/0!"}]
[null,"491.",{"$f":"IF(Teilnehmerliste!B494=\"\",\"\",Teilnehmerliste!B494)","v":""},{"$f":"SUMIF(Wetten!P$3:P$10002,C493,Wetten!O$3:O$10002)","v":0},{"$error":"#DIV/0!"}]
[null,"492.",{"$f":"IF(Teilnehmerliste!B495=\"\",\"\",Teilnehmerliste!B495)","v":""},{"$f":"SUMIF(Wetten!P$3:P$10002,C494,Wetten!O$3:O$10002)","v":0},{"$error":"#DIV/0!"}]
[null,"493.",{"$f":"IF(Teilnehmerliste!B496=\"\",\"\",Teilnehmerliste!B496)","v":""},{"$f":"SUMIF(Wetten!P$3:P$10002,C495,Wetten!O$3:O$10002)","v":0},{"$error":"#DIV/0!"}]
[null,"494.",{"$f":"IF(Teilnehmerliste!B497=\"\",\"\",Teilnehmerliste!B497)","v":""},{"$f":"SUMIF(Wetten!P$3:P$10002,C496,Wetten!O$3:O$10002)","v":0},{"$error":"#DIV/0!"}]
[null,"495.",{"$f":"IF(Teilnehmerliste!B498=\"\",\"\",Teilnehmerliste!B498)","v":""},{"$f":"SUMIF(Wetten!P$3:P$10002,C497,Wetten!O$3:O$10002)","v":0},{"$error":"#DIV/0!"}]
[null,"496.",{"$f":"IF(Teilnehmerliste!B499=\"\",\"\",Teilnehmerliste!B499)","v":""},{"$f":"SUMIF(Wetten!P$3:P$10002,C498,Wetten!O$3:O$10002)","v":0},{"$error":"#DIV/0!"}]
[null,"497.",{"$f":"IF(Teilnehmerliste!B500=\"\",\"\",Teilnehmerliste!B500)","v":""},{"$f":"SUMIF(Wetten!P$3:P$10002,C499,Wetten!O$3:O$10002)","v":0},{"$error":"#DIV/0!"}]
[null,"498.",{"$f":"IF(Teilnehmerliste!B501=\"\",\"\",Teilnehmerliste!B501)","v":""},{"$f":"SUMIF(Wetten!P$3:P$10002,C500,Wetten!O$3:O$10002)","v":0},{"$error":"#DIV/0!"}]
[null,"499.",{"$f":"IF(Teilnehmerliste!B502=\"\",\"\",Teilnehmerliste!B502)","v":""},{"$f":"SUMIF(Wetten!P$3:P$10002,C501,Wetten!O$3:O$10002)","v":0},{"$error":"#DIV/0!"}]
[null,"500.",{"$f":"IF(Teilnehmerliste!B503=\"\",\"\",Teilnehmerliste!B503)","v":""},{"$f":"SUMIF(Wetten!P$3:P$10002,C502,Wetten!O$3:O$10002)","v":0},{"$error":"#DIV/0!"}]
[null,"501.",{"$f":"IF(Teilnehmerliste!B504=\"\",\"\",Teilnehmerliste!B504)","v":""},{"$f":"SUMIF(Wetten!P$3:P$10002,C503,Wetten!O$3:O$10002)","v":0},{"$error":"#DIV/0!"}]
[null,"502.",{"$f":"IF(Teilnehmerliste!B505=\"\",\"\",Teilnehmerliste!B505)","v":""},{"$f":"SUMIF(Wetten!P$3:P$10002,C504,Wetten!O$3:O$10002)","v":0},{"$error":"#DIV/0!"}]
[null,"503.",{"$f":"IF(Teilnehmerliste!B506=\"\",\"\",Teilnehmerliste!B506)","v":""},{"$f":"SUMIF(Wetten!P$3:P$10002,C505,Wetten!O$3:O$10002)","v":0},{"$error":"#DIV/0!"}]
[null,"504.",{"$f":"IF(Teilnehmerliste!B507=\"\",\"\",Teilnehmerliste!B507)","v":""},{"$f":"SUMIF(Wetten!P$3:P$10002,C506,Wetten!O$3:O$10002)","v":0},{"$error":"#DIV/0!"}]
[null,"505.",{"$f":"IF(Teilnehmerliste!B508=\"\",\"\",Teilnehmerliste!B508)","v":""},{"$f":"SUMIF(Wetten!P$3:P$10002,C507,Wetten!O$3:O$10002)","v":0},{"$error":"#DIV/0!"}]
[null,"506.",{"$f":"IF(Teilnehmerliste!B509=\"\",\"\",Teilnehmerliste!B509)","v":""},{"$f":"SUMIF(Wetten!P$3:P$10002,C508,Wetten!O$3:O$10002)","v":0},{"$error":"#DIV/0!"}]
[null,"507.",{"$f":"IF(Teilnehmerliste!B510=\"\",\"\",Teilnehmerliste!B510)","v":""},{"$f":"SUMIF(Wetten!P$3:P$10002,C509,Wetten!O$3:O$10002)","v":0},{"$error":"#DIV/0!"}]
[null,"508.",{"$f":"IF(Teilnehmerliste!B511=\"\",\"\",Teilnehmerliste!B511)","v":""},{"$f":"SUMIF(Wetten!P$3:P$10002,C510,Wetten!O$3:O$10002)","v":0},{"$error":"#DIV/0!"}]
[null,"509.",{"$f":"IF(Teilnehmerliste!B512=\"\",\"\",Teilnehmerliste!B512)","v":""},{"$f":"SUMIF(Wetten!P$3:P$10002,C511,Wetten!O$3:O$10002)","v":0},{"$error":"#DIV/0!"}]
[null,"510.",{"$f":"IF(Teilnehmerliste!B513=\"\",\"\",Teilnehmerliste!B513)","v":""},{"$f":"SUMIF(Wetten!P$3:P$10002,C512,Wetten!O$3:O$10002)","v":0},{"$error":"#DIV/0!"}]
[null,"511.",{"$f":"IF(Teilnehmerliste!B514=\"\",\"\",Teilnehmerliste!B514)","v":""},{"$f":"SUMIF(Wetten!P$3:P$10002,C513,Wetten!O$3:O$10002)","v":0},{"$error":"#DIV/0!"}]
[null,"512.",{"$f":"IF(Teilnehmerliste!B515=\"\",\"\",Teilnehmerliste!B515)","v":""},{"$f":"SUMIF(Wetten!P$3:P$10002,C514,Wetten!O$3:O$10002)","v":0},{"$error":"#DIV/0!"}]
[null,"513.",{"$f":"IF(Teilnehmerliste!B516=\"\",\"\",Teilnehmerliste!B516)","v":""},{"$f":"SUMIF(Wetten!P$3:P$10002,C515,Wetten!O$3:O$10002)","v":0},{"$error":"#DIV/0!"}]
[null,"514.",{"$f":"IF(Teilnehmerliste!B517=\"\",\"\",Teilnehmerliste!B517)","v":""},{"$f":"SUMIF(Wetten!P$3:P$10002,C516,Wetten!O$3:O$10002)","v":0},{"$f":"1/SUM($D$3:$D$1002)*D516","v":{"$error":"#DIV/0!"}}]
[null,"515.",{"$f":"IF(Teilnehmerliste!B518=\"\",\"\",Teilnehmerliste!B518)","v":""},{"$f":"SUMIF(Wetten!P$3:P$10002,C517,Wetten!O$3:O$10002)","v":0},{"$error":"#DIV/0!"}]
[null,"516.",{"$f":"IF(Teilnehmerliste!B519=\"\",\"\",Teilnehmerliste!B519)","v":""},{"$f":"SUMIF(Wetten!P$3:P$10002,C518,Wetten!O$3:O$10002)","v":0},{"$error":"#DIV/0!"}]
[null,"517.",{"$f":"IF(Teilnehmerliste!B520=\"\",\"\",Teilnehmerliste!B520)","v":""},{"$f":"SUMIF(Wetten!P$3:P$10002,C519,Wetten!O$3:O$10002)","v":0},{"$error":"#DIV/0!"}]
[null,"518.",{"$f":"IF(Teilnehmerliste!B521=\"\",\"\",Teilnehmerliste!B521)","v":""},{"$f":"SUMIF(Wetten!P$3:P$10002,C520,Wetten!O$3:O$10002)","v":0},{"$error":"#DIV/0!"}]
[null,"519.",{"$f":"IF(Teilnehmerliste!B522=\"\",\"\",Teilnehmerliste!B522)","v":""},{"$f":"SUMIF(Wetten!P$3:P$10002,C521,Wetten!O$3:O$10002)","v":0},{"$error":"#DIV/0!"}]
[null,"520.",{"$f":"IF(Teilnehmerliste!B523=\"\",\"\",Teilnehmerliste!B523)","v":""},{"$f":"SUMIF(Wetten!P$3:P$10002,C522,Wetten!O$3:O$10002)","v":0},{"$error":"#DIV/0!"}]
[null,"521.",{"$f":"IF(Teilnehmerliste!B524=\"\",\"\",Teilnehmerliste!B524)","v":""},{"$f":"SUMIF(Wetten!P$3:P$10002,C523,Wetten!O$3:O$10002)","v":0},{"$error":"#DIV/0!"}]
[null,"522.",{"$f":"IF(Teilnehmerliste!B525=\"\",\"\",Teilnehmerliste!B525)","v":""},{"$f":"SUMIF(Wetten!P$3:P$10002,C524,Wetten!O$3:O$10002)","v":0},{"$error":"#DIV/0!"}]
[null,"523.",{"$f":"IF(Teilnehmerliste!B526=\"\",\"\",Teilnehmerliste!B526)","v":""},{"$f":"SUMIF(Wetten!P$3:P$10002,C525,Wetten!O$3:O$10002)","v":0},{"$error":"#DIV/0!"}]
[null,"524.",{"$f":"IF(Teilnehmerliste!B527=\"\",\"\",Teilnehmerliste!B527)","v":""},{"$f":"SUMIF(Wetten!P$3:P$10002,C526,Wetten!O$3:O$10002)","v":0},{"$error":"#DIV/0!"}]
[null,"525.",{"$f":"IF(Teilnehmerliste!B528=\"\",\"\",Teilnehmerliste!B528)","v":""},{"$f":"SUMIF(Wetten!P$3:P$10002,C527,Wetten!O$3:O$10002)","v":0},{"$error":"#DIV/0!"}]
[null,"526.",{"$f":"IF(Teilnehmerliste!B529=\"\",\"\",Teilnehmerliste!B529)","v":""},{"$f":"SUMIF(Wetten!P$3:P$10002,C528,Wetten!O$3:O$10002)","v":0},{"$error":"#DIV/0!"}]
[null,"527.",{"$f":"IF(Teilnehmerliste!B530=\"\",\"\",Teilnehmerliste!B530)","v":""},{"$f":"SUMIF(Wetten!P$3:P$10002,C529,Wetten!O$3:O$10002)","v":0},{"$error":"#DIV/0!"}]
[null,"528.",{"$f":"IF(Teilnehmerliste!B531=\"\",\"\",Teilnehmerliste!B531)","v":""},{"$f":"SUMIF(Wetten!P$3:P$10002,C530,Wetten!O$3:O$10002)","v":0},{"$error":"#DIV/0!"}]
[null,"529.",{"$f":"IF(Teilnehmerliste!B532=\"\",\"\",Teilnehmerliste!B532)","v":""},{"$f":"SUMIF(Wetten!P$3:P$10002,C531,Wetten!O$3:O$10002)","v":0},{"$error":"#DIV/0!"}]
[null,"530.",{"$f":"IF(Teilnehmerliste!B533=\"\",\"\",Teilnehmerliste!B533)","v":""},{"$f":"SUMIF(Wetten!P$3:P$10002,C532,Wetten!O$3:O$10002)","v":0},{"$error":"#DIV/0!"}]
[null,"531.",{"$f":"IF(Teilnehmerliste!B534=\"\",\"\",Teilnehmerliste!B534)","v":""},{"$f":"SUMIF(Wetten!P$3:P$10002,C533,Wetten!O$3:O$10002)","v":0},{"$error":"#DIV/0!"}]
[null,"532.",{"$f":"IF(Teilnehmerliste!B535=\"\",\"\",Teilnehmerliste!B535)","v":""},{"$f":"SUMIF(Wetten!P$3:P$10002,C534,Wetten!O$3:O$10002)","v":0},{"$error":"#DIV/0!"}]
[null,"533.",{"$f":"IF(Teilnehmerliste!B536=\"\",\"\",Teilnehmerliste!B536)","v":""},{"$f":"SUMIF(Wetten!P$3:P$10002,C535,Wetten!O$3:O$10002)","v":0},{"$error":"#DIV/0!"}]
[null,"534.",{"$f":"IF(Teilnehmerliste!B537=\"\",\"\",Teilnehmerliste!B537)","v":""},{"$f":"SUMIF(Wetten!P$3:P$10002,C536,Wetten!O$3:O$10002)","v":0},{"$error":"#DIV/0!"}]
[null,"535.",{"$f":"IF(Teilnehmerliste!B538=\"\",\"\",Teilnehmerliste!B538)","v":""},{"$f":"SUMIF(Wetten!P$3:P$10002,C537,Wetten!O$3:O$10002)","v":0},{"$error":"#DIV/0!"}]
[null,"536.",{"$f":"IF(Teilnehmerliste!B539=\"\",\"\",Teilnehmerliste!B539)","v":""},{"$f":"SUMIF(Wetten!P$3:P$10002,C538,Wetten!O$3:O$10002)","v":0},{"$error":"#DIV/0!"}]
[null,"537.",{"$f":"IF(Teilnehmerliste!B540=\"\",\"\",Teilnehmerliste!B540)","v":""},{"$f":"SUMIF(Wetten!P$3:P$10002,C539,Wetten!O$3:O$10002)","v":0},{"$error":"#DIV/0!"}]
[null,"538.",{"$f":"IF(Teilnehmerliste!B541=\"\",\"\",Teilnehmerliste!B541)","v":""},{"$f":"SUMIF(Wetten!P$3:P$10002,C540,Wetten!O$3:O$10002)","v":0},{"$error":"#DIV/0!"}]
[null,"539.",{"$f":"IF(Teilnehmerliste!B542=\"\",\"\",Teilnehmerliste!B542)","v":""},{"$f":"SUMIF(Wetten!P$3:P$10002,C541,Wetten!O$3:O$10002)","v":0},{"$error":"#DIV/0!"}]
[null,"540.",{"$f":"IF(Teilnehmerliste!B543=\"\",\"\",Teilnehmerliste!B543)","v":""},{"$f":"SUMIF(Wetten!P$3:P$10002,C542,Wetten!O$3:O$10002)","v":0},{"$error":"#DIV/0!"}]
[null,"541.",{"$f":"IF(Teilnehmerliste!B544=\"\",\"\",Teilnehmerliste!B544)","v":""},{"$f":"SUMIF(Wetten!P$3:P$10002,C543,Wetten!O$3:O$10002)","v":0},{"$error":"#DIV/0!"}]
[null,"542.",{"$f":"IF(Teilnehmerliste!B545=\"\",\"\",Teilnehmerliste!B545)","v":""},{"$f":"SUMIF(Wetten!P$3:P$10002,C544,Wetten!O$3:O$10002)","v":0},{"$error":"#DIV/0!"}]
[null,"543.",{"$f":"IF(Teilnehmerliste!B546=\"\",\"\",Teilnehmerliste!B546)","v":""},{"$f":"SUMIF(Wetten!P$3:P$10002,C545,Wetten!O$3:O$10002)","v":0},{"$error":"#DIV/0!"}]
[null,"544.",{"$f":"IF(Teilnehmerliste!B547=\"\",\"\",Teilnehmerliste!B547)","v":""},{"$f":"SUMIF(Wetten!P$3:P$10002,C546,Wetten!O$3:O$10002)","v":0},{"$error":"#DIV/0!"}]
[null,"545.",{"$f":"IF(Teilnehmerliste!B548=\"\",\"\",Teilnehmerliste!B548)","v":""},{"$f":"SUMIF(Wetten!P$3:P$10002,C547,Wetten!O$3:O$10002)","v":0},{"$error":"#DIV/0!"}]
[null,"546.",{"$f":"IF(Teilnehmerliste!B549=\"\",\"\",Teilnehmerliste!B549)","v":""},{"$f":"SUMIF(Wetten!P$3:P$10002,C548,Wetten!O$3:O$10002)","v":0},{"$error":"#DIV/0!"}]
[null,"547.",{"$f":"IF(Teilnehmerliste!B550=\"\",\"\",Teilnehmerliste!B550)","v":""},{"$f":"SUMIF(Wetten!P$3:P$10002,C549,Wetten!O$3:O$10002)","v":0},{"$error":"#DIV/0!"}]
[null,"548.",{"$f":"IF(Teilnehmerliste!B551=\"\",\"\",Teilnehmerliste!B551)","v":""},{"$f":"SUMIF(Wetten!P$3:P$10002,C550,Wetten!O$3:O$10002)","v":0},{"$error":"#DIV/0!"}]
[null,"549.",{"$f":"IF(Teilnehmerliste!B552=\"\",\"\",Teilnehmerliste!B552)","v":""},{"$f":"SUMIF(Wetten!P$3:P$10002,C551,Wetten!O$3:O$10002)","v":0},{"$error":"#DIV/0!"}]
[null,"550.",{"$f":"IF(Teilnehmerliste!B553=\"\",\"\",Teilnehmerliste!B553)","v":""},{"$f":"SUMIF(Wetten!P$3:P$10002,C552,Wetten!O$3:O$10002)","v":0},{"$error":"#DIV/0!"}]
[null,"551.",{"$f":"IF(Teilnehmerliste!B554=\"\",\"\",Teilnehmerliste!B554)","v":""},{"$f":"SUMIF(Wetten!P$3:P$10002,C553,Wetten!O$3:O$10002)","v":0},{"$error":"#DIV/0!"}]
[null,"552.",{"$f":"IF(Teilnehmerliste!B555=\"\",\"\",Teilnehmerliste!B555)","v":""},{"$f":"SUMIF(Wetten!P$3:P$10002,C554,Wetten!O$3:O$10002)","v":0},{"$error":"#DIV/0!"}]
[null,"553.",{"$f":"IF(Teilnehmerliste!B556=\"\",\"\",Teilnehmerliste!B556)","v":""},{"$f":"SUMIF(Wetten!P$3:P$10002,C555,Wetten!O$3:O$10002)","v":0},{"$error":"#DIV/0!"}]
[null,"554.",{"$f":"IF(Teilnehmerliste!B557=\"\",\"\",Teilnehmerliste!B557)","v":""},{"$f":"SUMIF(Wetten!P$3:P$10002,C556,Wetten!O$3:O$10002)","v":0},{"$error":"#DIV/0!"}]
[null,"555.",{"$f":"IF(Teilnehmerliste!B558=\"\",\"\",Teilnehmerliste!B558)","v":""},{"$f":"SUMIF(Wetten!P$3:P$10002,C557,Wetten!O$3:O$10002)","v":0},{"$error":"#DIV/0!"}]
[null,"556.",{"$f":"IF(Teilnehmerliste!B559=\"\",\"\",Teilnehmerliste!B559)","v":""},{"$f":"SUMIF(Wetten!P$3:P$10002,C558,Wetten!O$3:O$10002)","v":0},{"$error":"#DIV/0!"}]
[null,"557.",{"$f":"IF(Teilnehmerliste!B560=\"\",\"\",Teilnehmerliste!B560)","v":""},{"$f":"SUMIF(Wetten!P$3:P$10002,C559,Wetten!O$3:O$10002)","v":0},{"$error":"#DIV/0!"}]
[null,"558.",{"$f":"IF(Teilnehmerliste!B561=\"\",\"\",Teilnehmerliste!B561)","v":""},{"$f":"SUMIF(Wetten!P$3:P$10002,C560,Wetten!O$3:O$10002)","v":0},{"$error":"#DIV/0!"}]
[null,"559.",{"$f":"IF(Teilnehmerliste!B562=\"\",\"\",Teilnehmerliste!B562)","v":""},{"$f":"SUMIF(Wetten!P$3:P$10002,C561,Wetten!O$3:O$10002)","v":0},{"$error":"#DIV/0!"}]
[null,"560.",{"$f":"IF(Teilnehmerliste!B563=\"\",\"\",Teilnehmerliste!B563)","v":""},{"$f":"SUMIF(Wetten!P$3:P$10002,C562,Wetten!O$3:O$10002)","v":0},{"$error":"#DIV/0!"}]
[null,"561.",{"$f":"IF(Teilnehmerliste!B564=\"\",\"\",Teilnehmerliste!B564)","v":""},{"$f":"SUMIF(Wetten!P$3:P$10002,C563,Wetten!O$3:O$10002)","v":0},{"$error":"#DIV/0!"}]
[null,"562.",{"$f":"IF(Teilnehmerliste!B565=\"\",\"\",Teilnehmerliste!B565)","v":""},{"$f":"SUMIF(Wetten!P$3:P$10002,C564,Wetten!O$3:O$10002)","v":0},{"$error":"#DIV/0!"}]
[null,"563.",{"$f":"IF(Teilnehmerliste!B566=\"\",\"\",Teilnehmerliste!B566)","v":""},{"$f":"SUMIF(Wetten!P$3:P$10002,C565,Wetten!O$3:O$10002)","v":0},{"$error":"#DIV/0!"}]
[null,"564.",{"$f":"IF(Teilnehmerliste!B567=\"\",\"\",Teilnehmerliste!B567)","v":""},{"$f":"SUMIF(Wetten!P$3:P$10002,C566,Wetten!O$3:O$10002)","v":0},{"$error":"#DIV/0!"}]
[null,"565.",{"$f":"IF(Teilnehmerliste!B568=\"\",\"\",Teilnehmerliste!B568)","v":""},{"$f":"SUMIF(Wetten!P$3:P$10002,C567,Wetten!O$3:O$10002)","v":0},{"$error":"#DIV/0!"}]
[null,"566.",{"$f":"IF(Teilnehmerliste!B569=\"\",\"\",Teilnehmerliste!B569)","v":""},{"$f":"SUMIF(Wetten!P$3:P$10002,C568,Wetten!O$3:O$10002)","v":0},{"$error":"#DIV/0!"}]
[null,"567.",{"$f":"IF(Teilnehmerliste!B570=\"\",\"\",Teilnehmerliste!B570)","v":""},{"$f":"SUMIF(Wetten!P$3:P$10002,C569,Wetten!O$3:O$10002)","v":0},{"$error":"#DIV/0!"}]
[null,"568.",{"$f":"IF(Teilnehmerliste!B571=\"\",\"\",Teilnehmerliste!B571)","v":""},{"$f":"SUMIF(Wetten!P$3:P$10002,C570,Wetten!O$3:O$10002)","v":0},{"$error":"#DIV/0!"}]
[null,"569.",{"$f":"IF(Teilnehmerliste!B572=\"\",\"\",Teilnehmerliste!B572)","v":""},{"$f":"SUMIF(Wetten!P$3:P$10002,C571,Wetten!O$3:O$10002)","v":0},{"$error":"#DIV/0!"}]
[null,"570.",{"$f":"IF(Teilnehmerliste!B573=\"\",\"\",Teilnehmerliste!B573)","v":""},{"$f":"SUMIF(Wetten!P$3:P$10002,C572,Wetten!O$3:O$10002)","v":0},{"$error":"#DIV/0!"}]
[null,"571.",{"$f":"IF(Teilnehmerliste!B574=\"\",\"\",Teilnehmerliste!B574)","v":""},{"$f":"SUMIF(Wetten!P$3:P$10002,C573,Wetten!O$3:O$10002)","v":0},{"$error":"#DIV/0!"}]
[null,"572.",{"$f":"IF(Teilnehmerliste!B575=\"\",\"\",Teilnehmerliste!B575)","v":""},{"$f":"SUMIF(Wetten!P$3:P$10002,C574,Wetten!O$3:O$10002)","v":0},{"$error":"#DIV/0!"}]
[null,"573.",{"$f":"IF(Teilnehmerliste!B576=\"\",\"\",Teilnehmerliste!B576)","v":""},{"$f":"SUMIF(Wetten!P$3:P$10002,C575,Wetten!O$3:O$10002)","v":0},{"$error":"#DIV/0!"}]
[null,"574.",{"$f":"IF(Teilnehmerliste!B577=\"\",\"\",Teilnehmerliste!B577)","v":""},{"$f":"SUMIF(Wetten!P$3:P$10002,C576,Wetten!O$3:O$10002)","v":0},{"$error":"#DIV/0!"}]
[null,"575.",{"$f":"IF(Teilnehmerliste!B578=\"\",\"\",Teilnehmerliste!B578)","v":""},{"$f":"SUMIF(Wetten!P$3:P$10002,C577,Wetten!O$3:O$10002)","v":0},{"$error":"#DIV/0!"}]
[null,"576.",{"$f":"IF(Teilnehmerliste!B579=\"\",\"\",Teilnehmerliste!B579)","v":""},{"$f":"SUMIF(Wetten!P$3:P$10002,C578,Wetten!O$3:O$10002)","v":0},{"$error":"#DIV/0!"}]
[null,"577.",{"$f":"IF(Teilnehmerliste!B580=\"\",\"\",Teilnehmerliste!B580)","v":""},{"$f":"SUMIF(Wetten!P$3:P$10002,C579,Wetten!O$3:O$10002)","v":0},{"$error":"#DIV/0!"}]
[null,"578.",{"$f":"IF(Teilnehmerliste!B581=\"\",\"\",Teilnehmerliste!B581)","v":""},{"$f":"SUMIF(Wetten!P$3:P$10002,C580,Wetten!O$3:O$10002)","v":0},{"$f":"1/SUM($D$3:$D$1002)*D580","v":{"$error":"#DIV/0!"}}]
[null,"579.",{"$f":"IF(Teilnehmerliste!B582=\"\",\"\",Teilnehmerliste!B582)","v":""},{"$f":"SUMIF(Wetten!P$3:P$10002,C581,Wetten!O$3:O$10002)","v":0},{"$error":"#DIV/0!"}]
[null,"580.",{"$f":"IF(Teilnehmerliste!B583=\"\",\"\",Teilnehmerliste!B583)","v":""},{"$f":"SUMIF(Wetten!P$3:P$10002,C582,Wetten!O$3:O$10002)","v":0},{"$error":"#DIV/0!"}]
[null,"581.",{"$f":"IF(Teilnehmerliste!B584=\"\",\"\",Teilnehmerliste!B584)","v":""},{"$f":"SUMIF(Wetten!P$3:P$10002,C583,Wetten!O$3:O$10002)","v":0},{"$error":"#DIV/0!"}]
[null,"582.",{"$f":"IF(Teilnehmerliste!B585=\"\",\"\",Teilnehmerliste!B585)","v":""},{"$f":"SUMIF(Wetten!P$3:P$10002,C584,Wetten!O$3:O$10002)","v":0},{"$error":"#DIV/0!"}]
[null,"583.",{"$f":"IF(Teilnehmerliste!B586=\"\",\"\",Teilnehmerliste!B586)","v":""},{"$f":"SUMIF(Wetten!P$3:P$10002,C585,Wetten!O$3:O$10002)","v":0},{"$error":"#DIV/0!"}]
[null,"584.",{"$f":"IF(Teilnehmerliste!B587=\"\",\"\",Teilnehmerliste!B587)","v":""},{"$f":"SUMIF(Wetten!P$3:P$10002,C586,Wetten!O$3:O$10002)","v":0},{"$error":"#DIV/0!"}]
[null,"585.",{"$f":"IF(Teilnehmerliste!B588=\"\",\"\",Teilnehmerliste!B588)","v":""},{"$f":"SUMIF(Wetten!P$3:P$10002,C587,Wetten!O$3:O$10002)","v":0},{"$error":"#DIV/0!"}]
[null,"586.",{"$f":"IF(Teilnehmerliste!B589=\"\",\"\",Teilnehmerliste!B589)","v":""},{"$f":"SUMIF(Wetten!P$3:P$10002,C588,Wetten!O$3:O$10002)","v":0},{"$error":"#DIV/0!"}]
[null,"587.",{"$f":"IF(Teilnehmerliste!B590=\"\",\"\",Teilnehmerliste!B590)","v":""},{"$f":"SUMIF(Wetten!P$3:P$10002,C589,Wetten!O$3:O$10002)","v":0},{"$error":"#DIV/0!"}]
[null,"588.",{"$f":"IF(Teilnehmerliste!B591=\"\",\"\",Teilnehmerliste!B591)","v":""},{"$f":"SUMIF(Wetten!P$3:P$10002,C590,Wetten!O$3:O$10002)","v":0},{"$error":"#DIV/0!"}]
[null,"589.",{"$f":"IF(Teilnehmerliste!B592=\"\",\"\",Teilnehmerliste!B592)","v":""},{"$f":"SUMIF(Wetten!P$3:P$10002,C591,Wetten!O$3:O$10002)","v":0},{"$error":"#DIV/0!"}]
[null,"590.",{"$f":"IF(Teilnehmerliste!B593=\"\",\"\",Teilnehmerliste!B593)","v":""},{"$f":"SUMIF(Wetten!P$3:P$10002,C592,Wetten!O$3:O$10002)","v":0},{"$error":"#DIV/0!"}]
[null,"591.",{"$f":"IF(Teilnehmerliste!B594=\"\",\"\",Teilnehmerliste!B594)","v":""},{"$f":"SUMIF(Wetten!P$3:P$10002,C593,Wetten!O$3:O$10002)","v":0},{"$error":"#DIV/0!"}]
[null,"592.",{"$f":"IF(Teilnehmerliste!B595=\"\",\"\",Teilnehmerliste!B595)","v":""},{"$f":"SUMIF(Wetten!P$3:P$10002,C594,Wetten!O$3:O$10002)","v":0},{"$error":"#DIV/0!"}]
[null,"593.",{"$f":"IF(Teilnehmerliste!B596=\"\",\"\",Teilnehmerliste!B596)","v":""},{"$f":"SUMIF(Wetten!P$3:P$10002,C595,Wetten!O$3:O$10002)","v":0},{"$error":"#DIV/0!"}]
[null,"594.",{"$f":"IF(Teilnehmerliste!B597=\"\",\"\",Teilnehmerliste!B597)","v":""},{"$f":"SUMIF(Wetten!P$3:P$10002,C596,Wetten!O$3:O$10002)","v":0},{"$error":"#DIV/0!"}]
[null,"595.",{"$f":"IF(Teilnehmerliste!B598=\"\",\"\",Teilnehmerliste!B598)","v":""},{"$f":"SUMIF(Wetten!P$3:P$10002,C597,Wetten!O$3:O$10002)","v":0},{"$error":"#DIV/0!"}]
[null,"596.",{"$f":"IF(Teilnehmerliste!B599=\"\",\"\",Teilnehmerliste!B599)","v":""},{"$f":"SUMIF(Wetten!P$3:P$10002,C598,Wetten!O$3:O$10002)","v":0},{"$error":"#DIV/0!"}]
[null,"597.",{"$f":"IF(Teilnehmerliste!B600=\"\",\"\",Teilnehmerliste!B600)","v":""},{"$f":"SUMIF(Wetten!P$3:P$10002,C599,Wetten!O$3:O$10002)","v":0},{"$error":"#DIV/0!"}]
[null,"598.",{"$f":"IF(Teilnehmerliste!B601=\"\",\"\",Teilnehmerliste!B601)","v":""},{"$f":"SUMIF(Wetten!P$3:P$10002,C600,Wetten!O$3:O$10002)","v":0},{"$error":"#DIV/0!"}]
[null,"599.",{"$f":"IF(Teilnehmerliste!B602=\"\",\"\",Teilnehmerliste!B602)","v":""},{"$f":"SUMIF(Wetten!P$3:P$10002,C601,Wetten!O$3:O$10002)","v":0},{"$error":"#DIV/0!"}]
[null,"600.",{"$f":"IF(Teilnehmerliste!B603=\"\",\"\",Teilnehmerliste!B603)","v":""},{"$f":"SUMIF(Wetten!P$3:P$10002,C602,Wetten!O$3:O$10002)","v":0},{"$error":"#DIV/0!"}]
[null,"601.",{"$f":"IF(Teilnehmerliste!B604=\"\",\"\",Teilnehmerliste!B604)","v":""},{"$f":"SUMIF(Wetten!P$3:P$10002,C603,Wetten!O$3:O$10002)","v":0},{"$error":"#DIV/0!"}]
[null,"602.",{"$f":"IF(Teilnehmerliste!B605=\"\",\"\",Teilnehmerliste!B605)","v":""},{"$f":"SUMIF(Wetten!P$3:P$10002,C604,Wetten!O$3:O$10002)","v":0},{"$error":"#DIV/0!"}]
[null,"603.",{"$f":"IF(Teilnehmerliste!B606=\"\",\"\",Teilnehmerliste!B606)","v":""},{"$f":"SUMIF(Wetten!P$3:P$10002,C605,Wetten!O$3:O$10002)","v":0},{"$error":"#DIV/0!"}]
[null,"604.",{"$f":"IF(Teilnehmerliste!B607=\"\",\"\",Teilnehmerliste!B607)","v":""},{"$f":"SUMIF(Wetten!P$3:P$10002,C606,Wetten!O$3:O$10002)","v":0},{"$error":"#DIV/0!"}]
[null,"605.",{"$f":"IF(Teilnehmerliste!B608=\"\",\"\",Teilnehmerliste!B608)","v":""},{"$f":"SUMIF(Wetten!P$3:P$10002,C607,Wetten!O$3:O$10002)","v":0},{"$error":"#DIV/0!"}]
[null,"606.",{"$f":"IF(Teilnehmerliste!B609=\"\",\"\",Teilnehmerliste!B609)","v":""},{"$f":"SUMIF(Wetten!P$3:P$10002,C608,Wetten!O$3:O$10002)","v":0},{"$error":"#DIV/0!"}]
[null,"607.",{"$f":"IF(Teilnehmerliste!B610=\"\",\"\",Teilnehmerliste!B610)","v":""},{"$f":"SUMIF(Wetten!P$3:P$10002,C609,Wetten!O$3:O$10002)","v":0},{"$error":"#DIV/0!"}]
[null,"608.",{"$f":"IF(Teilnehmerliste!B611=\"\",\"\",Teilnehmerliste!B611)","v":""},{"$f":"SUMIF(Wetten!P$3:P$10002,C610,Wetten!O$3:O$10002)","v":0},{"$error":"#DIV/0!"}]
[null,"609.",{"$f":"IF(Teilnehmerliste!B612=\"\",\"\",Teilnehmerliste!B612)","v":""},{"$f":"SUMIF(Wetten!P$3:P$10002,C611,Wetten!O$3:O$10002)","v":0},{"$error":"#DIV/0!"}]
[null,"610.",{"$f":"IF(Teilnehmerliste!B613=\"\",\"\",Teilnehmerliste!B613)","v":""},{"$f":"SUMIF(Wetten!P$3:P$10002,C612,Wetten!O$3:O$10002)","v":0},{"$error":"#DIV/0!"}]
[null,"611.",{"$f":"IF(Teilnehmerliste!B614=\"\",\"\",Teilnehmerliste!B614)","v":""},{"$f":"SUMIF(Wetten!P$3:P$10002,C613,Wetten!O$3:O$10002)","v":0},{"$error":"#DIV/0!"}]
[null,"612.",{"$f":"IF(Teilnehmerliste!B615=\"\",\"\",Teilnehmerliste!B615)","v":""},{"$f":"SUMIF(Wetten!P$3:P$10002,C614,Wetten!O$3:O$10002)","v":0},{"$error":"#DIV/0!"}]
[null,"613.",{"$f":"IF(Teilnehmerliste!B616=\"\",\"\",Teilnehmerliste!B616)","v":""},{"$f":"SUMIF(Wetten!P$3:P$10002,C615,Wetten!O$3:O$10002)","v":0},{"$error":"#DIV/0!"}]
[null,"614.",{"$f":"IF(Teilnehmerliste!B617=\"\",\"\",Teilnehmerliste!B617)","v":""},{"$f":"SUMIF(Wetten!P$3:P$10002,C616,Wetten!O$3:O$10002)","v":0},{"$error":"#DIV/0!"}]
[null,"615.",{"$f":"IF(Teilnehmerliste!B618=\"\",\"\",Teilnehmerliste!B618)","v":""},{"$f":"SUMIF(Wetten!P$3:P$10002,C617,Wetten!O$3:O$10002)","v":0},{"$error":"#DIV/0!"}]
[null,"616.",{"$f":"IF(Teilnehmerliste!B619=\"\",\"\",Teilnehmerliste!B619)","v":""},{"$f":"SUMIF(Wetten!P$3:P$10002,C618,Wetten!O$3:O$10002)","v":0},{"$error":"#DIV/0!"}]
[null,"617.",{"$f":"IF(Teilnehmerliste!B620=\"\",\"\",Teilnehmerliste!B620)","v":""},{"$f":"SUMIF(Wetten!P$3:P$10002,C619,Wetten!O$3:O$10002)","v":0},{"$error":"#DIV/0!"}]
[null,"618.",{"$f":"IF(Teilnehmerliste!B621=\"\",\"\",Teilnehmerliste!B621)","v":""},{"$f":"SUMIF(Wetten!P$3:P$10002,C620,Wetten!O$3:O$10002)","v":0},{"$error":"#DIV/0!"}]
[null,"619.",{"$f":"IF(Teilnehmerliste!B622=\"\",\"\",Teilnehmerliste!B622)","v":""},{"$f":"SUMIF(Wetten!P$3:P$10002,C621,Wetten!O$3:O$10002)","v":0},{"$error":"#DIV/0!"}]
[null,"620.",{"$f":"IF(Teilnehmerliste!B623=\"\",\"\",Teilnehmerliste!B623)","v":""},{"$f":"SUMIF(Wetten!P$3:P$10002,C622,Wetten!O$3:O$10002)","v":0},{"$error":"#DIV/0!"}]
[null,"621.",{"$f":"IF(Teilnehmerliste!B624=\"\",\"\",Teilnehmerliste!B624)","v":""},{"$f":"SUMIF(Wetten!P$3:P$10002,C623,Wetten!O$3:O$10002)","v":0},{"$error":"#DIV/0!"}]
[null,"622.",{"$f":"IF(Teilnehmerliste!B625=\"\",\"\",Teilnehmerliste!B625)","v":""},{"$f":"SUMIF(Wetten!P$3:P$10002,C624,Wetten!O$3:O$10002)","v":0},{"$error":"#DIV/0!"}]
[null,"623.",{"$f":"IF(Teilnehmerliste!B626=\"\",\"\",Teilnehmerliste!B626)","v":""},{"$f":"SUMIF(Wetten!P$3:P$10002,C625,Wetten!O$3:O$10002)","v":0},{"$error":"#DIV/0!"}]
[null,"624.",{"$f":"IF(Teilnehmerliste!B627=\"\",\"\",Teilnehmerliste!B627)","v":""},{"$f":"SUMIF(Wetten!P$3:P$10002,C626,Wetten!O$3:O$10002)","v":0},{"$error":"#DIV/0!"}]
[null,"625.",{"$f":"IF(Teilnehmerliste!B628=\"\",\"\",Teilnehmerliste!B628)","v":""},{"$f":"SUMIF(Wetten!P$3:P$10002,C627,Wetten!O$3:O$10002)","v":0},{"$error":"#DIV/0!"}]
[null,"626.",{"$f":"IF(Teilnehmerliste!B629=\"\",\"\",Teilnehmerliste!B629)","v":""},{"$f":"SUMIF(Wetten!P$3:P$10002,C628,Wetten!O$3:O$10002)","v":0},{"$error":"#DIV/0!"}]
[null,"627.",{"$f":"IF(Teilnehmerliste!B630=\"\",\"\",Teilnehmerliste!B630)","v":""},{"$f":"SUMIF(Wetten!P$3:P$10002,C629,Wetten!O$3:O$10002)","v":0},{"$error":"#DIV/0!"}]
[null,"628.",{"$f":"IF(Teilnehmerliste!B631=\"\",\"\",Teilnehmerliste!B631)","v":""},{"$f":"SUMIF(Wetten!P$3:P$10002,C630,Wetten!O$3:O$10002)","v":0},{"$error":"#DIV/0!"}]
[null,"629.",{"$f":"IF(Teilnehmerliste!B632=\"\",\"\",Teilnehmerliste!B632)","v":""},{"$f":"SUMIF(Wetten!P$3:P$10002,C631,Wetten!O$3:O$10002)","v":0},{"$error":"#DIV/0!"}]
[null,"630.",{"$f":"IF(Teilnehmerliste!B633=\"\",\"\",Teilnehmerliste!B633)","v":""},{"$f":"SUMIF(Wetten!P$3:P$10002,C632,Wetten!O$3:O$10002)","v":0},{"$error":"#DIV/0!"}]
[null,"631.",{"$f":"IF(Teilnehmerliste!B634=\"\",\"\",Teilnehmerliste!B634)","v":""},{"$f":"SUMIF(Wetten!P$3:P$10002,C633,Wetten!O$3:O$10002)","v":0},{"$error":"#DIV/0!"}]
[null,"632.",{"$f":"IF(Teilnehmerliste!B635=\"\",\"\",Teilnehmerliste!B635)","v":""},{"$f":"SUMIF(Wetten!P$3:P$10002,C634,Wetten!O$3:O$10002)","v":0},{"$error":"#DIV/0!"}]
[null,"633.",{"$f":"IF(Teilnehmerliste!B636=\"\",\"\",Teilnehmerliste!B636)","v":""},{"$f":"SUMIF(Wetten!P$3:P$10002,C635,Wetten!O$3:O$10002)","v":0},{"$error":"#DIV/0!"}]
[null,"634.",{"$f":"IF(Teilnehmerliste!B637=\"\",\"\",Teilnehmerliste!B637)","v":""},{"$f":"SUMIF(Wetten!P$3:P$10002,C636,Wetten!O$3:O$10002)","v":0},{"$error":"#DIV/0!"}]
[null,"635.",{"$f":"IF(Teilnehmerliste!B638=\"\",\"\",Teilnehmerliste!B638)","v":""},{"$f":"SUMIF(Wetten!P$3:P$10002,C637,Wetten!O$3:O$10002)","v":0},{"$error":"#DIV/0!"}]
[null,"636.",{"$f":"IF(Teilnehmerliste!B639=\"\",\"\",Teilnehmerliste!B639)","v":""},{"$f":"SUMIF(Wetten!P$3:P$10002,C638,Wetten!O$3:O$10002)","v":0},{"$error":"#DIV/0!"}]
[null,"637.",{"$f":"IF(Teilnehmerliste!B640=\"\",\"\",Teilnehmerliste!B640)","v":""},{"$f":"SUMIF(Wetten!P$3:P$10002,C639,Wetten!O$3:O$10002)","v":0},{"$error":"#DIV/0!"}]
[null,"638.",{"$f":"IF(Teilnehmerliste!B641=\"\",\"\",Teilnehmerliste!B641)","v":""},{"$f":"SUMIF(Wetten!P$3:P$10002,C640,Wetten!O$3:O$10002)","v":0},{"$error":"#DIV/0!"}]
[null,"639.",{"$f":"IF(Teilnehmerliste!B642=\"\",\"\",Teilnehmerliste!B642)","v":""},{"$f":"SUMIF(Wetten!P$3:P$10002,C641,Wetten!O$3:O$10002)","v":0},{"$error":"#DIV/0!"}]
[null,"640.",{"$f":"IF(Teilnehmerliste!B643=\"\",\"\",Teilnehmerliste!B643)","v":""},{"$f":"SUMIF(Wetten!P$3:P$10002,C642,Wetten!O$3:O$10002)","v":0},{"$error":"#DIV/0!"}]
[null,"641.",{"$f":"IF(Teilnehmerliste!B644=\"\",\"\",Teilnehmerliste!B644)","v":""},{"$f":"SUMIF(Wetten!P$3:P$10002,C643,Wetten!O$3:O$10002)","v":0},{"$error":"#DIV/0!"}]
[null,"642.",{"$f":"IF(Teilnehmerliste!B645=\"\",\"\",Teilnehmerliste!B645)","v":""},{"$f":"SUMIF(Wetten!P$3:P$10002,C644,Wetten!O$3:O$10002)","v":0},{"$f":"1/SUM($D$3:$D$1002)*D644","v":{"$error":"#DIV/0!"}}]
[null,"643.",{"$f":"IF(Teilnehmerliste!B646=\"\",\"\",Teilnehmerliste!B646)","v":""},{"$f":"SUMIF(Wetten!P$3:P$10002,C645,Wetten!O$3:O$10002)","v":0},{"$error":"#DIV/0!"}]
[null,"644.",{"$f":"IF(Teilnehmerliste!B647=\"\",\"\",Teilnehmerliste!B647)","v":""},{"$f":"SUMIF(Wetten!P$3:P$10002,C646,Wetten!O$3:O$10002)","v":0},{"$error":"#DIV/0!"}]
[null,"645.",{"$f":"IF(Teilnehmerliste!B648=\"\",\"\",Teilnehmerliste!B648)","v":""},{"$f":"SUMIF(Wetten!P$3:P$10002,C647,Wetten!O$3:O$10002)","v":0},{"$error":"#DIV/0!"}]
[null,"646.",{"$f":"IF(Teilnehmerliste!B649=\"\",\"\",Teilnehmerliste!B649)","v":""},{"$f":"SUMIF(Wetten!P$3:P$10002,C648,Wetten!O$3:O$10002)","v":0},{"$error":"#DIV/0!"}]
[null,"647.",{"$f":"IF(Teilnehmerliste!B650=\"\",\"\",Teilnehmerliste!B650)","v":""},{"$f":"SUMIF(Wetten!P$3:P$10002,C649,Wetten!O$3:O$10002)","v":0},{"$error":"#DIV/0!"}]
[null,"648.",{"$f":"IF(Teilnehmerliste!B651=\"\",\"\",Teilnehmerliste!B651)","v":""},{"$f":"SUMIF(Wetten!P$3:P$10002,C650,Wetten!O$3:O$10002)","v":0},{"$error":"#DIV/0!"}]
[null,"649.",{"$f":"IF(Teilnehmerliste!B652=\"\",\"\",Teilnehmerliste!B652)","v":""},{"$f":"SUMIF(Wetten!P$3:P$10002,C651,Wetten!O$3:O$10002)","v":0},{"$error":"#DIV/0!"}]
[null,"650.",{"$f":"IF(Teilnehmerliste!B653=\"\",\"\",Teilnehmerliste!B653)","v":""},{"$f":"SUMIF(Wetten!P$3:P$10002,C652,Wetten!O$3:O$10002)","v":0},{"$error":"#DIV/0!"}]
[null,"651.",{"$f":"IF(Teilnehmerliste!B654=\"\",\"\",Teilnehmerliste!B654)","v":""},{"$f":"SUMIF(Wetten!P$3:P$10002,C653,Wetten!O$3:O$10002)","v":0},{"$error":"#DIV/0!"}]
[null,"652.",{"$f":"IF(Teilnehmerliste!B655=\"\",\"\",Teilnehmerliste!B655)","v":""},{"$f":"SUMIF(Wetten!P$3:P$10002,C654,Wetten!O$3:O$10002)","v":0},{"$error":"#DIV/0!"}]
[null,"653.",{"$f":"IF(Teilnehmerliste!B656=\"\",\"\",Teilnehmerliste!B656)","v":""},{"$f":"SUMIF(Wetten!P$3:P$10002,C655,Wetten!O$3:O$10002)","v":0},{"$error":"#DIV/0!"}]
[null,"654.",{"$f":"IF(Teilnehmerliste!B657=\"\",\"\",Teilnehmerliste!B657)","v":""},{"$f":"SUMIF(Wetten!P$3:P$10002,C656,Wetten!O$3:O$10002)","v":0},{"$error":"#DIV/0!"}]
[null,"655.",{"$f":"IF(Teilnehmerliste!B658=\"\",\"\",Teilnehmerliste!B658)","v":""},{"$f":"SUMIF(Wetten!P$3:P$10002,C657,Wetten!O$3:O$10002)","v":0},{"$error":"#DIV/0!"}]
[null,"656.",{"$f":"IF(Teilnehmerliste!B659=\"\",\"\",Teilnehmerliste!B659)","v":""},{"$f":"SUMIF(Wetten!P$3:P$10002,C658,Wetten!O$3:O$10002)","v":0},{"$error":"#DIV/0!"}]
[null,"657.",{"$f":"IF(Teilnehmerliste!B660=\"\",\"\",Teilnehmerliste!B660)","v":""},{"$f":"SUMIF(Wetten!P$3:P$10002,C659,Wetten!O$3:O$10002)","v":0},{"$error":"#DIV/0!"}]
[null,"658.",{"$f":"IF(Teilnehmerliste!B661=\"\",\"\",Teilnehmerliste!B661)","v":""},{"$f":"SUMIF(Wetten!P$3:P$10002,C660,Wetten!O$3:O$10002)","v":0},{"$error":"#DIV/0!"}]
[null,"659.",{"$f":"IF(Teilnehmerliste!B662=\"\",\"\",Teilnehmerliste!B662)","v":""},{"$f":"SUMIF(Wetten!P$3:P$10002,C661,Wetten!O$3:O$10002)","v":0},{"$error":"#DIV/0!"}]
[null,"660.",{"$f":"IF(Teilnehmerliste!B663=\"\",\"\",Teilnehmerliste!B663)","v":""},{"$f":"SUMIF(Wetten!P$3:P$10002,C662,Wetten!O$3:O$10002)","v":0},{"$error":"#DIV/0!"}]
[null,"661.",{"$f":"IF(Teilnehmerliste!B664=\"\",\"\",Teilnehmerliste!B664)","v":""},{"$f":"SUMIF(Wetten!P$3:P$10002,C663,Wetten!O$3:O$10002)","v":0},{"$error":"#DIV/0!"}]
[null,"662.",{"$f":"IF(Teilnehmerliste!B665=\"\",\"\",Teilnehmerliste!B665)","v":""},{"$f":"SUMIF(Wetten!P$3:P$10002,C664,Wetten!O$3:O$10002)","v":0},{"$error":"#DIV/0!"}]
[null,"663.",{"$f":"IF(Teilnehmerliste!B666=\"\",\"\",Teilnehmerliste!B666)","v":""},{"$f":"SUMIF(Wetten!P$3:P$10002,C665,Wetten!O$3:O$10002)","v":0},{"$error":"#DIV/0!"}]
[null,"664.",{"$f":"IF(Teilnehmerliste!B667=\"\",\"\",Teilnehmerliste!B667)","v":""},{"$f":"SUMIF(Wetten!P$3:P$10002,C666,Wetten!O$3:O$10002)","v":0},{"$error":"#DIV/0!"}]
[null,"665.",{"$f":"IF(Teilnehmerliste!B668=\"\",\"\",Teilnehmerliste!B668)","v":""},{"$f":"SUMIF(Wetten!P$3:P$10002,C667,Wetten!O$3:O$10002)","v":0},{"$error":"#DIV/0!"}]
[null,"666.",{"$f":"IF(Teilnehmerliste!B669=\"\",\"\",Teilnehmerliste!B669)","v":""},{"$f":"SUMIF(Wetten!P$3:P$10002,C668,Wetten!O$3:O$10002)","v":0},{"$error":"#DIV/0!"}]
[null,"667.",{"$f":"IF(Teilnehmerliste!B670=\"\",\"\",Teilnehmerliste!B670)","v":""},{"$f":"SUMIF(Wetten!P$3:P$10002,C669,Wetten!O$3:O$10002)","v":0},{"$error":"#DIV/0!"}]
[null,"668.",{"$f":"IF(Teilnehmerliste!B671=\"\",\"\",Teilnehmerliste!B671)","v":""},{"$f":"SUMIF(Wetten!P$3:P$10002,C670,Wetten!O$3:O$10002)","v":0},{"$error":"#DIV/0!"}]
[null,"669.",{"$f":"IF(Teilnehmerliste!B672=\"\",\"\",Teilnehmerliste!B672)","v":""},{"$f":"SUMIF(Wetten!P$3:P$10002,C671,Wetten!O$3:O$10002)","v":0},{"$error":"#DIV/0!"}]
[null,"670.",{"$f":"IF(Teilnehmerliste!B673=\"\",\"\",Teilnehmerliste!B673)","v":""},{"$f":"SUMIF(Wetten!P$3:P$10002,C672,Wetten!O$3:O$10002)","v":0},{"$error":"#DIV/0!"}]
[null,"671.",{"$f":"IF(Teilnehmerliste!B674=\"\",\"\",Teilnehmerliste!B674)","v":""},{"$f":"SUMIF(Wetten!P$3:P$10002,C673,Wetten!O$3:O$10002)","v":0},{"$error":"#DIV/0!"}]
[null,"672.",{"$f":"IF(Teilnehmerliste!B675=\"\",\"\",Teilnehmerliste!B675)","v":""},{"$f":"SUMIF(Wetten!P$3:P$10002,C674,Wetten!O$3:O$10002)","v":0},{"$error":"#DIV/0!"}]
[null,"673.",{"$f":"IF(Teilnehmerliste!B676=\"\",\"\",Teilnehmerliste!B676)","v":""},{"$f":"SUMIF(Wetten!P$3:P$10002,C675,Wetten!O$3:O$10002)","v":0},{"$error":"#DIV/0!"}]
[null,"674.",{"$f":"IF(Teilnehmerliste!B677=\"\",\"\",Teilnehmerliste!B677)","v":""},{"$f":"SUMIF(Wetten!P$3:P$10002,C676,Wetten!O$3:O$10002)","v":0},{"$error":"#DIV/0!"}]
[null,"675.",{"$f":"IF(Teilnehmerliste!B678=\"\",\"\",Teilnehmerliste!B678)","v":""},{"$f":"SUMIF(Wetten!P$3:P$10002,C677,Wetten!O$3:O$10002)","v":0},{"$error":"#DIV/0!"}]
[null,"676.",{"$f":"IF(Teilnehmerliste!B679=\"\",\"\",Teilnehmerliste!B679)","v":""},{"$f":"SUMIF(Wetten!P$3:P$10002,C678,Wetten!O$3:O$10002)","v":0},{"$error":"#DIV/0!"}]
[null,"677.",{"$f":"IF(Teilnehmerliste!B680=\"\",\"\",Teilnehmerliste!B680)","v":""},{"$f":"SUMIF(Wetten!P$3:P$10002,C679,Wetten!O$3:O$10002)","v":0},{"$error":"#DIV/0!"}]
[null,"678.",{"$f":"IF(Teilnehmerliste!B681=\"\",\"\",Teilnehmerliste!B681)","v":""},{"$f":"SUMIF(Wetten!P$3:P$10002,C680,Wetten!O$3:O$10002)","v":0},{"$error":"#DIV/0!"}]
[null,"679.",{"$f":"IF(Teilnehmerliste!B682=\"\",\"\",Teilnehmerliste!B682)","v":""},{"$f":"SUMIF(Wetten!P$3:P$10002,C681,Wetten!O$3:O$10002)","v":0},{"$error":"#DIV/0!"}]
[null,"680.",{"$f":"IF(Teilnehmerliste!B683=\"\",\"\",Teilnehmerliste!B683)","v":""},{"$f":"SUMIF(Wetten!P$3:P$10002,C682,Wetten!O$3:O$10002)","v":0},{"$error":"#DIV/0!"}]
[null,"681.",{"$f":"IF(Teilnehmerliste!B684=\"\",\"\",Teilnehmerliste!B684)","v":""},{"$f":"SUMIF(Wetten!P$3:P$10002,C683,Wetten!O$3:O$10002)","v":0},{"$error":"#DIV/0!"}]
[null,"682.",{"$f":"IF(Teilnehmerliste!B685=\"\",\"\",Teilnehmerliste!B685)","v":""},{"$f":"SUMIF(Wetten!P$3:P$10002,C684,Wetten!O$3:O$10002)","v":0},{"$error":"#DIV/0!"}]
[null,"683.",{"$f":"IF(Teilnehmerliste!B686=\"\",\"\",Teilnehmerliste!B686)","v":""},{"$f":"SUMIF(Wetten!P$3:P$10002,C685,Wetten!O$3:O$10002)","v":0},{"$error":"#DIV/0!"}]
[null,"684.",{"$f":"IF(Teilnehmerliste!B687=\"\",\"\",Teilnehmerliste!B687)","v":""},{"$f":"SUMIF(Wetten!P$3:P$10002,C686,Wetten!O$3:O$10002)","v":0},{"$error":"#DIV/0!"}]
[null,"685.",{"$f":"IF(Teilnehmerliste!B688=\"\",\"\",Teilnehmerliste!B688)","v":""},{"$f":"SUMIF(Wetten!P$3:P$10002,C687,Wetten!O$3:O$10002)","v":0},{"$error":"#DIV/0!"}]
[null,"686.",{"$f":"IF(Teilnehmerliste!B689=\"\",\"\",Teilnehmerliste!B689)","v":""},{"$f":"SUMIF(Wetten!P$3:P$10002,C688,Wetten!O$3:O$10002)","v":0},{"$error":"#DIV/0!"}]
[null,"687.",{"$f":"IF(Teilnehmerliste!B690=\"\",\"\",Teilnehmerliste!B690)","v":""},{"$f":"SUMIF(Wetten!P$3:P$10002,C689,Wetten!O$3:O$10002)","v":0},{"$error":"#DIV/0!"}]
[null,"688.",{"$f":"IF(Teilnehmerliste!B691=\"\",\"\",Teilnehmerliste!B691)","v":""},{"$f":"SUMIF(Wetten!P$3:P$10002,C690,Wetten!O$3:O$10002)","v":0},{"$error":"#DIV/0!"}]
[null,"689.",{"$f":"IF(Teilnehmerliste!B692=\"\",\"\",Teilnehmerliste!B692)","v":""},{"$f":"SUMIF(Wetten!P$3:P$10002,C691,Wetten!O$3:O$10002)","v":0},{"$error":"#DIV/0!"}]
[null,"690.",{"$f":"IF(Teilnehmerliste!B693=\"\",\"\",Teilnehmerliste!B693)","v":""},{"$f":"SUMIF(Wetten!P$3:P$10002,C692,Wetten!O$3:O$10002)","v":0},{"$error":"#DIV/0!"}]
[null,"691.",{"$f":"IF(Teilnehmerliste!B694=\"\",\"\",Teilnehmerliste!B694)","v":""},{"$f":"SUMIF(Wetten!P$3:P$10002,C693,Wetten!O$3:O$10002)","v":0},{"$error":"#DIV/0!"}]
[null,"692.",{"$f":"IF(Teilnehmerliste!B695=\"\",\"\",Teilnehmerliste!B695)","v":""},{"$f":"SUMIF(Wetten!P$3:P$10002,C694,Wetten!O$3:O$10002)","v":0},{"$error":"#DIV/0!"}]
[null,"693.",{"$f":"IF(Teilnehmerliste!B696=\"\",\"\",Teilnehmerliste!B696)","v":""},{"$f":"SUMIF(Wetten!P$3:P$10002,C695,Wetten!O$3:O$10002)","v":0},{"$error":"#DIV/0!"}]
[null,"694.",{"$f":"IF(Teilnehmerliste!B697=\"\",\"\",Teilnehmerliste!B697)","v":""},{"$f":"SUMIF(Wetten!P$3:P$10002,C696,Wetten!O$3:O$10002)","v":0},{"$error":"#DIV/0!"}]
[null,"695.",{"$f":"IF(Teilnehmerliste!B698=\"\",\"\",Teilnehmerliste!B698)","v":""},{"$f":"SUMIF(Wetten!P$3:P$10002,C697,Wetten!O$3:O$10002)","v":0},{"$error":"#DIV/0!"}]
[null,"696.",{"$f":"IF(Teilnehmerliste!B699=\"\",\"\",Teilnehmerliste!B699)","v":""},{"$f":"SUMIF(Wetten!P$3:P$10002,C698,Wetten!O$3:O$10002)","v":0},{"$error":"#DIV/0!"}]
[null,"697.",{"$f":"IF(Teilnehmerliste!B700=\"\",\"\",Teilnehmerliste!B700)","v":""},{"$f":"SUMIF(Wetten!P$3:P$10002,C699,Wetten!O$3:O$10002)","v":0},{"$error":"#DIV/0!"}]
[null,"698.",{"$f":"IF(Teilnehmerliste!B701=\"\",\"\",Teilnehmerliste!B701)","v":""},{"$f":"SUMIF(Wetten!P$3:P$10002,C700,Wetten!O$3:O$10002)","v":0},{"$error":"#DIV/0!"}]
[null,"699.",{"$f":"IF(Teilnehmerliste!B702=\"\",\"\",Teilnehmerliste!B702)","v":""},{"$f":"SUMIF(Wetten!P$3:P$10002,C701,Wetten!O$3:O$10002)","v":0},{"$error":"#DIV/0!"}]
[null,"700.",{"$f":"IF(Teilnehmerliste!B703=\"\",\"\",Teilnehmerliste!B703)","v":""},{"$f":"SUMIF(Wetten!P$3:P$10002,C702,Wetten!O$3:O$10002)","v":0},{"$error":"#DIV/0!"}]
[null,"701.",{"$f":"IF(Teilnehmerliste!B704=\"\",\"\",Teilnehmerliste!B704)","v":""},{"$f":"SUMIF(Wetten!P$3:P$10002,C703,Wetten!O$3:O$10002)","v":0},{"$error":"#DIV/0!"}]
[null,"702.",{"$f":"IF(Teilnehmerliste!B705=\"\",\"\",Teilnehmerliste!B705)","v":""},{"$f":"SUMIF(Wetten!P$3:P$10002,C704,Wetten!O$3:O$10002)","v":0},{"$error":"#DIV/0!"}]
[null,"703.",{"$f":"IF(Teilnehmerliste!B706=\"\",\"\",Teilnehmerliste!B706)","v":""},{"$f":"SUMIF(Wetten!P$3:P$10002,C705,Wetten!O$3:O$10002)","v":0},{"$error":"#DIV/0!"}]
[null,"704.",{"$f":"IF(Teilnehmerliste!B707=\"\",\"\",Teilnehmerliste!B707)","v":""},{"$f":"SUMIF(Wetten!P$3:P$10002,C706,Wetten!O$3:O$10002)","v":0},{"$error":"#DIV/0!"}]
[null,"705.",{"$f":"IF(Teilnehmerliste!B708=\"\",\"\",Teilnehmerliste!B708)","v":""},{"$f":"SUMIF(Wetten!P$3:P$10002,C707,Wetten!O$3:O$10002)","v":0},{"$error":"#DIV/0!"}]
[null,"706.",{"$f":"IF(Teilnehmerliste!B709=\"\",\"\",Teilnehmerliste!B709)","v":""},{"$f":"SUMIF(Wetten!P$3:P$10002,C708,Wetten!O$3:O$10002)","v":0},{"$f":"1/SUM($D$3:$D$1002)*D708","v":{"$error":"#DIV/0!"}}]
[null,"707.",{"$f":"IF(Teilnehmerliste!B710=\"\",\"\",Teilnehmerliste!B710)","v":""},{"$f":"SUMIF(Wetten!P$3:P$10002,C709,Wetten!O$3:O$10002)","v":0},{"$error":"#DIV/0!"}]
[null,"708.",{"$f":"IF(Teilnehmerliste!B711=\"\",\"\",Teilnehmerliste!B711)","v":""},{"$f":"SUMIF(Wetten!P$3:P$10002,C710,Wetten!O$3:O$10002)","v":0},{"$error":"#DIV/0!"}]
[null,"709.",{"$f":"IF(Teilnehmerliste!B712=\"\",\"\",Teilnehmerliste!B712)","v":""},{"$f":"SUMIF(Wetten!P$3:P$10002,C711,Wetten!O$3:O$10002)","v":0},{"$error":"#DIV/0!"}]
[null,"710.",{"$f":"IF(Teilnehmerliste!B713=\"\",\"\",Teilnehmerliste!B713)","v":""},{"$f":"SUMIF(Wetten!P$3:P$10002,C712,Wetten!O$3:O$10002)","v":0},{"$error":"#DIV/0!"}]
[null,"711.",{"$f":"IF(Teilnehmerliste!B714=\"\",\"\",Teilnehmerliste!B714)","v":""},{"$f":"SUMIF(Wetten!P$3:P$10002,C713,Wetten!O$3:O$10002)","v":0},{"$error":"#DIV/0!"}]
[null,"712.",{"$f":"IF(Teilnehmerliste!B715=\"\",\"\",Teilnehmerliste!B715)","v":""},{"$f":"SUMIF(Wetten!P$3:P$10002,C714,Wetten!O$3:O$10002)","v":0},{"$error":"#DIV/0!"}]
[null,"713.",{"$f":"IF(Teilnehmerliste!B716=\"\",\"\",Teilnehmerliste!B716)","v":""},{"$f":"SUMIF(Wetten!P$3:P$10002,C715,Wetten!O$3:O$10002)","v":0},{"$error":"#DIV/0!"}]
[null,"714.",{"$f":"IF(Teilnehmerliste!B717=\"\",\"\",Teilnehmerliste!B717)","v":""},{"$f":"SUMIF(Wetten!P$3:P$10002,C716,Wetten!O$3:O$10002)","v":0},{"$error":"#DIV/0!"}]
[null,"715.",{"$f":"IF(Teilnehmerliste!B718=\"\",\"\",Teilnehmerliste!B718)","v":""},{"$f":"SUMIF(Wetten!P$3:P$10002,C717,Wetten!O$3:O$10002)","v":0},{"$error":"#DIV/0!"}]
[null,"716.",{"$f":"IF(Teilnehmerliste!B719=\"\",\"\",Teilnehmerliste!B719)","v":""},{"$f":"SUMIF(Wetten!P$3:P$10002,C718,Wetten!O$3:O$10002)","v":0},{"$error":"#DIV/0!"}]
[null,"717.",{"$f":"IF(Teilnehmerliste!B720=\"\",\"\",Teilnehmerliste!B720)","v":""},{"$f":"SUMIF(Wetten!P$3:P$10002,C719,Wetten!O$3:O$10002)","v":0},{"$error":"#DIV/0!"}]
[null,"718.",{"$f":"IF(Teilnehmerliste!B721=\"\",\"\",Teilnehmerliste!B721)","v":""},{"$f":"SUMIF(Wetten!P$3:P$10002,C720,Wetten!O$3:O$10002)","v":0},{"$error":"#DIV/0!"}]
[null,"719.",{"$f":"IF(Teilnehmerliste!B722=\"\",\"\",Teilnehmerliste!B722)","v":""},{"$f":"SUMIF(Wetten!P$3:P$10002,C721,Wetten!O$3:O$10002)","v":0},{"$error":"#DIV/0!"}]
[null,"720.",{"$f":"IF(Teilnehmerliste!B723=\"\",\"\",Teilnehmerliste!B723)","v":""},{"$f":"SUMIF(Wetten!P$3:P$10002,C722,Wetten!O$3:O$10002)","v":0},{"$error":"#DIV/0!"}]
[null,"721.",{"$f":"IF(Teilnehmerliste!B724=\"\",\"\",Teilnehmerliste!B724)","v":""},{"$f":"SUMIF(Wetten!P$3:P$10002,C723,Wetten!O$3:O$10002)","v":0},{"$error":"#DIV/0!"}]
[null,"722.",{"$f":"IF(Teilnehmerliste!B725=\"\",\"\",Teilnehmerliste!B725)","v":""},{"$f":"SUMIF(Wetten!P$3:P$10002,C724,Wetten!O$3:O$10002)","v":0},{"$error":"#DIV/0!"}]
[null,"723.",{"$f":"IF(Teilnehmerliste!B726=\"\",\"\",Teilnehmerliste!B726)","v":""},{"$f":"SUMIF(Wetten!P$3:P$10002,C725,Wetten!O$3:O$10002)","v":0},{"$error":"#DIV/0!"}]
[null,"724.",{"$f":"IF(Teilnehmerliste!B727=\"\",\"\",Teilnehmerliste!B727)","v":""},{"$f":"SUMIF(Wetten!P$3:P$10002,C726,Wetten!O$3:O$10002)","v":0},{"$error":"#DIV/0!"}]
[null,"725.",{"$f":"IF(Teilnehmerliste!B728=\"\",\"\",Teilnehmerliste!B728)","v":""},{"$f":"SUMIF(Wetten!P$3:P$10002,C727,Wetten!O$3:O$10002)","v":0},{"$error":"#DIV/0!"}]
[null,"726.",{"$f":"IF(Teilnehmerliste!B729=\"\",\"\",Teilnehmerliste!B729)","v":""},{"$f":"SUMIF(Wetten!P$3:P$10002,C728,Wetten!O$3:O$10002)","v":0},{"$error":"#DIV/0!"}]
[null,"727.",{"$f":"IF(Teilnehmerliste!B730=\"\",\"\",Teilnehmerliste!B730)","v":""},{"$f":"SUMIF(Wetten!P$3:P$10002,C729,Wetten!O$3:O$10002)","v":0},{"$error":"#DIV/0!"}]
[null,"728.",{"$f":"IF(Teilnehmerliste!B731=\"\",\"\",Teilnehmerliste!B731)","v":""},{"$f":"SUMIF(Wetten!P$3:P$10002,C730,Wetten!O$3:O$10002)","v":0},{"$error":"#DIV/0!"}]
[null,"729.",{"$f":"IF(Teilnehmerliste!B732=\"\",\"\",Teilnehmerliste!B732)","v":""},{"$f":"SUMIF(Wetten!P$3:P$10002,C731,Wetten!O$3:O$10002)","v":0},{"$error":"#DIV/0!"}]
[null,"730.",{"$f":"IF(Teilnehmerliste!B733=\"\",\"\",Teilnehmerliste!B733)","v":""},{"$f":"SUMIF(Wetten!P$3:P$10002,C732,Wetten!O$3:O$10002)","v":0},{"$error":"#DIV/0!"}]
[null,"731.",{"$f":"IF(Teilnehmerliste!B734=\"\",\"\",Teilnehmerliste!B734)","v":""},{"$f":"SUMIF(Wetten!P$3:P$10002,C733,Wetten!O$3:O$10002)","v":0},{"$error":"#DIV/0!"}]
[null,"732.",{"$f":"IF(Teilnehmerliste!B735=\"\",\"\",Teilnehmerliste!B735)","v":""},{"$f":"SUMIF(Wetten!P$3:P$10002,C734,Wetten!O$3:O$10002)","v":0},{"$error":"#DIV/0!"}]
[null,"733.",{"$f":"IF(Teilnehmerliste!B736=\"\",\"\",Teilnehmerliste!B736)","v":""},{"$f":"SUMIF(Wetten!P$3:P$10002,C735,Wetten!O$3:O$10002)","v":0},{"$error":"#DIV/0!"}]
[null,"734.",{"$f":"IF(Teilnehmerliste!B737=\"\",\"\",Teilnehmerliste!B737)","v":""},{"$f":"SUMIF(Wetten!P$3:P$10002,C736,Wetten!O$3:O$10002)","v":0},{"$error":"#DIV/0!"}]
[null,"735.",{"$f":"IF(Teilnehmerliste!B738=\"\",\"\",Teilnehmerliste!B738)","v":""},{"$f":"SUMIF(Wetten!P$3:P$10002,C737,Wetten!O$3:O$10002)","v":0},{"$error":"#DIV/0!"}]
[null,"736.",{"$f":"IF(Teilnehmerliste!B739=\"\",\"\",Teilnehmerliste!B739)","v":""},{"$f":"SUMIF(Wetten!P$3:P$10002,C738,Wetten!O$3:O$10002)","v":0},{"$error":"#DIV/0!"}]
[null,"737.",{"$f":"IF(Teilnehmerliste!B740=\"\",\"\",Teilnehmerliste!B740)","v":""},{"$f":"SUMIF(Wetten!P$3:P$10002,C739,Wetten!O$3:O$10002)","v":0},{"$error":"#DIV/0!"}]
[null,"738.",{"$f":"IF(Teilnehmerliste!B741=\"\",\"\",Teilnehmerliste!B741)","v":""},{"$f":"SUMIF(Wetten!P$3:P$10002,C740,Wetten!O$3:O$10002)","v":0},{"$error":"#DIV/0!"}]
[null,"739.",{"$f":"IF(Teilnehmerliste!B742=\"\",\"\",Teilnehmerliste!B742)","v":""},{"$f":"SUMIF(Wetten!P$3:P$10002,C741,Wetten!O$3:O$10002)","v":0},{"$error":"#DIV/0!"}]
[null,"740.",{"$f":"IF(Teilnehmerliste!B743=\"\",\"\",Teilnehmerliste!B743)","v":""},{"$f":"SUMIF(Wetten!P$3:P$10002,C742,Wetten!O$3:O$10002)","v":0},{"$error":"#DIV/0!"}]
[null,"741.",{"$f":"IF(Teilnehmerliste!B744=\"\",\"\",Teilnehmerliste!B744)","v":""},{"$f":"SUMIF(Wetten!P$3:P$10002,C743,Wetten!O$3:O$10002)","v":0},{"$error":"#DIV/0!"}]
[null,"742.",{"$f":"IF(Teilnehmerliste!B745=\"\",\"\",Teilnehmerliste!B745)","v":""},{"$f":"SUMIF(Wetten!P$3:P$10002,C744,Wetten!O$3:O$10002)","v":0},{"$error":"#DIV/0!"}]
[null,"743.",{"$f":"IF(Teilnehmerliste!B746=\"\",\"\",Teilnehmerliste!B746)","v":""},{"$f":"SUMIF(Wetten!P$3:P$10002,C745,Wetten!O$3:O$10002)","v":0},{"$error":"#DIV/0!"}]
[null,"744.",{"$f":"IF(Teilnehmerliste!B747=\"\",\"\",Teilnehmerliste!B747)","v":""},{"$f":"SUMIF(Wetten!P$3:P$10002,C746,Wetten!O$3:O$10002)","v":0},{"$error":"#DIV/0!"}]
[null,"745.",{"$f":"IF(Teilnehmerliste!B748=\"\",\"\",Teilnehmerliste!B748)","v":""},{"$f":"SUMIF(Wetten!P$3:P$10002,C747,Wetten!O$3:O$10002)","v":0},{"$error":"#DIV/0!"}]
[null,"746.",{"$f":"IF(Teilnehmerliste!B749=\"\",\"\",Teilnehmerliste!B749)","v":""},{"$f":"SUMIF(Wetten!P$3:P$10002,C748,Wetten!O$3:O$10002)","v":0},{"$error":"#DIV/0!"}]
[null,"747.",{"$f":"IF(Teilnehmerliste!B750=\"\",\"\",Teilnehmerliste!B750)","v":""},{"$f":"SUMIF(Wetten!P$3:P$10002,C749,Wetten!O$3:O$10002)","v":0},{"$error":"#DIV/0!"}]
[null,"748.",{"$f":"IF(Teilnehmerliste!B751=\"\",\"\",Teilnehmerliste!B751)","v":""},{"$f":"SUMIF(Wetten!P$3:P$10002,C750,Wetten!O$3:O$10002)","v":0},{"$error":"#DIV/0!"}]
[null,"749.",{"$f":"IF(Teilnehmerliste!B752=\"\",\"\",Teilnehmerliste!B752)","v":""},{"$f":"SUMIF(Wetten!P$3:P$10002,C751,Wetten!O$3:O$10002)","v":0},{"$error":"#DIV/0!"}]
[null,"750.",{"$f":"IF(Teilnehmerliste!B753=\"\",\"\",Teilnehmerliste!B753)","v":""},{"$f":"SUMIF(Wetten!P$3:P$10002,C752,Wetten!O$3:O$10002)","v":0},{"$error":"#DIV/0!"}]
[null,"751.",{"$f":"IF(Teilnehmerliste!B754=\"\",\"\",Teilnehmerliste!B754)","v":""},{"$f":"SUMIF(Wetten!P$3:P$10002,C753,Wetten!O$3:O$10002)","v":0},{"$error":"#DIV/0!"}]
[null,"752.",{"$f":"IF(Teilnehmerliste!B755=\"\",\"\",Teilnehmerliste!B755)","v":""},{"$f":"SUMIF(Wetten!P$3:P$10002,C754,Wetten!O$3:O$10002)","v":0},{"$error":"#DIV/0!"}]
[null,"753.",{"$f":"IF(Teilnehmerliste!B756=\"\",\"\",Teilnehmerliste!B756)","v":""},{"$f":"SUMIF(Wetten!P$3:P$10002,C755,Wetten!O$3:O$10002)","v":0},{"$error":"#DIV/0!"}]
[null,"754.",{"$f":"IF(Teilnehmerliste!B757=\"\",\"\",Teilnehmerliste!B757)","v":""},{"$f":"SUMIF(Wetten!P$3:P$10002,C756,Wetten!O$3:O$10002)","v":0},{"$error":"#DIV/0!"}]
[null,"755.",{"$f":"IF(Teilnehmerliste!B758=\"\",\"\",Teilnehmerliste!B758)","v":""},{"$f":"SUMIF(Wetten!P$3:P$10002,C757,Wetten!O$3:O$10002)","v":0},{"$error":"#DIV/0!"}]
[null,"756.",{"$f":"IF(Teilnehmerliste!B759=\"\",\"\",Teilnehmerliste!B759)","v":""},{"$f":"SUMIF(Wetten!P$3:P$10002,C758,Wetten!O$3:O$10002)","v":0},{"$error":"#DIV/0!"}]
[null,"757.",{"$f":"IF(Teilnehmerliste!B760=\"\",\"\",Teilnehmerliste!B760)","v":""},{"$f":"SUMIF(Wetten!P$3:P$10002,C759,Wetten!O$3:O$10002)","v":0},{"$error":"#DIV/0!"}]
[null,"758.",{"$f":"IF(Teilnehmerliste!B761=\"\",\"\",Teilnehmerliste!B761)","v":""},{"$f":"SUMIF(Wetten!P$3:P$10002,C760,Wetten!O$3:O$10002)","v":0},{"$error":"#DIV/0!"}]
[null,"759.",{"$f":"IF(Teilnehmerliste!B762=\"\",\"\",Teilnehmerliste!B762)","v":""},{"$f":"SUMIF(Wetten!P$3:P$10002,C761,Wetten!O$3:O$10002)","v":0},{"$error":"#DIV/0!"}]
[null,"760.",{"$f":"IF(Teilnehmerliste!B763=\"\",\"\",Teilnehmerliste!B763)","v":""},{"$f":"SUMIF(Wetten!P$3:P$10002,C762,Wetten!O$3:O$10002)","v":0},{"$error":"#DIV/0!"}]
[null,"761.",{"$f":"IF(Teilnehmerliste!B764=\"\",\"\",Teilnehmerliste!B764)","v":""},{"$f":"SUMIF(Wetten!P$3:P$10002,C763,Wetten!O$3:O$10002)","v":0},{"$error":"#DIV/0!"}]
[null,"762.",{"$f":"IF(Teilnehmerliste!B765=\"\",\"\",Teilnehmerliste!B765)","v":""},{"$f":"SUMIF(Wetten!P$3:P$10002,C764,Wetten!O$3:O$10002)","v":0},{"$error":"#DIV/0!"}]
[null,"763.",{"$f":"IF(Teilnehmerliste!B766=\"\",\"\",Teilnehmerliste!B766)","v":""},{"$f":"SUMIF(Wetten!P$3:P$10002,C765,Wetten!O$3:O$10002)","v":0},{"$error":"#DIV/0!"}]
[null,"764.",{"$f":"IF(Teilnehmerliste!B767=\"\",\"\",Teilnehmerliste!B767)","v":""},{"$f":"SUMIF(Wetten!P$3:P$10002,C766,Wetten!O$3:O$10002)","v":0},{"$error":"#DIV/0!"}]
[null,"765.",{"$f":"IF(Teilnehmerliste!B768=\"\",\"\",Teilnehmerliste!B768)","v":""},{"$f":"SUMIF(Wetten!P$3:P$10002,C767,Wetten!O$3:O$10002)","v":0},{"$error":"#DIV/0!"}]
[null,"766.",{"$f":"IF(Teilnehmerliste!B769=\"\",\"\",Teilnehmerliste!B769)","v":""},{"$f":"SUMIF(Wetten!P$3:P$10002,C768,Wetten!O$3:O$10002)","v":0},{"$error":"#DIV/0!"}]
[null,"767.",{"$f":"IF(Teilnehmerliste!B770=\"\",\"\",Teilnehmerliste!B770)","v":""},{"$f":"SUMIF(Wetten!P$3:P$10002,C769,Wetten!O$3:O$10002)","v":0},{"$error":"#DIV/0!"}]
[null,"768.",{"$f":"IF(Teilnehmerliste!B771=\"\",\"\",Teilnehmerliste!B771)","v":""},{"$f":"SUMIF(Wetten!P$3:P$10002,C770,Wetten!O$3:O$10002)","v":0},{"$error":"#DIV/0!"}]
[null,"769.",{"$f":"IF(Teilnehmerliste!B772=\"\",\"\",Teilnehmerliste!B772)","v":""},{"$f":"SUMIF(Wetten!P$3:P$10002,C771,Wetten!O$3:O$10002)","v":0},{"$error":"#DIV/0!"}]
[null,"770.",{"$f":"IF(Teilnehmerliste!B773=\"\",\"\",Teilnehmerliste!B773)","v":""},{"$f":"SUMIF(Wetten!P$3:P$10002,C772,Wetten!O$3:O$10002)","v":0},{"$f":"1/SUM($D$3:$D$1002)*D772","v":{"$error":"#DIV/0!"}}]
[null,"771.",{"$f":"IF(Teilnehmerliste!B774=\"\",\"\",Teilnehmerliste!B774)","v":""},{"$f":"SUMIF(Wetten!P$3:P$10002,C773,Wetten!O$3:O$10002)","v":0},{"$error":"#DIV/0!"}]
[null,"772.",{"$f":"IF(Teilnehmerliste!B775=\"\",\"\",Teilnehmerliste!B775)","v":""},{"$f":"SUMIF(Wetten!P$3:P$10002,C774,Wetten!O$3:O$10002)","v":0},{"$error":"#DIV/0!"}]
[null,"773.",{"$f":"IF(Teilnehmerliste!B776=\"\",\"\",Teilnehmerliste!B776)","v":""},{"$f":"SUMIF(Wetten!P$3:P$10002,C775,Wetten!O$3:O$10002)","v":0},{"$error":"#DIV/0!"}]
[null,"774.",{"$f":"IF(Teilnehmerliste!B777=\"\",\"\",Teilnehmerliste!B777)","v":""},{"$f":"SUMIF(Wetten!P$3:P$10002,C776,Wetten!O$3:O$10002)","v":0},{"$error":"#DIV/0!"}]
[null,"775.",{"$f":"IF(Teilnehmerliste!B778=\"\",\"\",Teilnehmerliste!B778)","v":""},{"$f":"SUMIF(Wetten!P$3:P$10002,C777,Wetten!O$3:O$10002)","v":0},{"$error":"#DIV/0!"}]
[null,"776.",{"$f":"IF(Teilnehmerliste!B779=\"\",\"\",Teilnehmerliste!B779)","v":""},{"$f":"SUMIF(Wetten!P$3:P$10002,C778,Wetten!O$3:O$10002)","v":0},{"$error":"#DIV/0!"}]
[null,"777.",{"$f":"IF(Teilnehmerliste!B780=\"\",\"\",Teilnehmerliste!B780)","v":""},{"$f":"SUMIF(Wetten!P$3:P$10002,C779,Wetten!O$3:O$10002)","v":0},{"$error":"#DIV/0!"}]
[null,"778.",{"$f":"IF(Teilnehmerliste!B781=\"\",\"\",Teilnehmerliste!B781)","v":""},{"$f":"SUMIF(Wetten!P$3:P$10002,C780,Wetten!O$3:O$10002)","v":0},{"$error":"#DIV/0!"}]
[null,"779.",{"$f":"IF(Teilnehmerliste!B782=\"\",\"\",Teilnehmerliste!B782)","v":""},{"$f":"SUMIF(Wetten!P$3:P$10002,C781,Wetten!O$3:O$10002)","v":0},{"$error":"#DIV/0!"}]
[null,"780.",{"$f":"IF(Teilnehmerliste!B783=\"\",\"\",Teilnehmerliste!B783)","v":""},{"$f":"SUMIF(Wetten!P$3:P$10002,C782,Wetten!O$3:O$10002)","v":0},{"$error":"#DIV/0!"}]
[null,"781.",{"$f":"IF(Teilnehmerliste!B784=\"\",\"\",Teilnehmerliste!B784)","v":""},{"$f":"SUMIF(Wetten!P$3:P$10002,C783,Wetten!O$3:O$10002)","v":0},{"$error":"#DIV/0!"}]
[null,"782.",{"$f":"IF(Teilnehmerliste!B785=\"\",\"\",Teilnehmerliste!B785)","v":""},{"$f":"SUMIF(Wetten!P$3:P$10002,C784,Wetten!O$3:O$10002)","v":0},{"$error":"#DIV/0!"}]
[null,"783.",{"$f":"IF(Teilnehmerliste!B786=\"\",\"\",Teilnehmerliste!B786)","v":""},{"$f":"SUMIF(Wetten!P$3:P$10002,C785,Wetten!O$3:O$10002)","v":0},{"$error":"#DIV/0!"}]
[null,"784.",{"$f":"IF(Teilnehmerliste!B787=\"\",\"\",Teilnehmerliste!B787)","v":""},{"$f":"SUMIF(Wetten!P$3:P$10002,C786,Wetten!O$3:O$10002)","v":0},{"$error":"#DIV/0!"}]
[null,"785.",{"$f":"IF(Teilnehmerliste!B788=\"\",\"\",Teilnehmerliste!B788)","v":""},{"$f":"SUMIF(Wetten!P$3:P$10002,C787,Wetten!O$3:O$10002)","v":0},{"$error":"#DIV/0!"}]
[null,"786.",{"$f":"IF(Teilnehmerliste!B789=\"\",\"\",Teilnehmerliste!B789)","v":""},{"$f":"SUMIF(Wetten!P$3:P$10002,C788,Wetten!O$3:O$10002)","v":0},{"$error":"#DIV/0!"}]
[null,"787.",{"$f":"IF(Teilnehmerliste!B790=\"\",\"\",Teilnehmerliste!B790)","v":""},{"$f":"SUMIF(Wetten!P$3:P$10002,C789,Wetten!O$3:O$10002)","v":0},{"$error":"#DIV/0!"}]
[null,"788.",{"$f":"IF(Teilnehmerliste!B791=\"\",\"\",Teilnehmerliste!B791)","v":""},{"$f":"SUMIF(Wetten!P$3:P$10002,C790,Wetten!O$3:O$10002)","v":0},{"$error":"#DIV/0!"}]
[null,"789.",{"$f":"IF(Teilnehmerliste!B792=\"\",\"\",Teilnehmerliste!B792)","v":""},{"$f":"SUMIF(Wetten!P$3:P$10002,C791,Wetten!O$3:O$10002)","v":0},{"$error":"#DIV/0!"}]
[null,"790.",{"$f":"IF(Teilnehmerliste!B793=\"\",\"\",Teilnehmerliste!B793)","v":""},{"$f":"SUMIF(Wetten!P$3:P$10002,C792,Wetten!O$3:O$10002)","v":0},{"$error":"#DIV/0!"}]
[null,"791.",{"$f":"IF(Teilnehmerliste!B794=\"\",\"\",Teilnehmerliste!B794)","v":""},{"$f":"SUMIF(Wetten!P$3:P$10002,C793,Wetten!O$3:O$10002)","v":0},{"$error":"#DIV/0!"}]
[null,"792.",{"$f":"IF(Teilnehmerliste!B795=\"\",\"\",Teilnehmerliste!B795)","v":""},{"$f":"SUMIF(Wetten!P$3:P$10002,C794,Wetten!O$3:O$10002)","v":0},{"$error":"#DIV/0!"}]
[null,"793.",{"$f":"IF(Teilnehmerliste!B796=\"\",\"\",Teilnehmerliste!B796)","v":""},{"$f":"SUMIF(Wetten!P$3:P$10002,C795,Wetten!O$3:O$10002)","v":0},{"$error":"#DIV/0!"}]
[null,"794.",{"$f":"IF(Teilnehmerliste!B797=\"\",\"\",Teilnehmerliste!B797)","v":""},{"$f":"SUMIF(Wetten!P$3:P$10002,C796,Wetten!O$3:O$10002)","v":0},{"$error":"#DIV/0!"}]
[null,"795.",{"$f":"IF(Teilnehmerliste!B798=\"\",\"\",Teilnehmerliste!B798)","v":""},{"$f":"SUMIF(Wetten!P$3:P$10002,C797,Wetten!O$3:O$10002)","v":0},{"$error":"#DIV/0!"}]
[null,"796.",{"$f":"IF(Teilnehmerliste!B799=\"\",\"\",Teilnehmerliste!B799)","v":""},{"$f":"SUMIF(Wetten!P$3:P$10002,C798,Wetten!O$3:O$10002)","v":0},{"$error":"#DIV/0!"}]
[null,"797.",{"$f":"IF(Teilnehmerliste!B800=\"\",\"\",Teilnehmerliste!B800)","v":""},{"$f":"SUMIF(Wetten!P$3:P$10002,C799,Wetten!O$3:O$10002)","v":0},{"$error":"#DIV/0!"}]
[null,"798.",{"$f":"IF(Teilnehmerliste!B801=\"\",\"\",Teilnehmerliste!B801)","v":""},{"$f":"SUMIF(Wetten!P$3:P$10002,C800,Wetten!O$3:O$10002)","v":0},{"$error":"#DIV/0!"}]
[null,"799.",{"$f":"IF(Teilnehmerliste!B802=\"\",\"\",Teilnehmerliste!B802)","v":""},{"$f":"SUMIF(Wetten!P$3:P$10002,C801,Wetten!O$3:O$10002)","v":0},{"$error":"#DIV/0!"}]
[null,"800.",{"$f":"IF(Teilnehmerliste!B803=\"\",\"\",Teilnehmerliste!B803)","v":""},{"$f":"SUMIF(Wetten!P$3:P$10002,C802,Wetten!O$3:O$10002)","v":0},{"$error":"#DIV/0!"}]
[null,"801.",{"$f":"IF(Teilnehmerliste!B804=\"\",\"\",Teilnehmerliste!B804)","v":""},{"$f":"SUMIF(Wetten!P$3:P$10002,C803,Wetten!O$3:O$10002)","v":0},{"$error":"#DIV/0!"}]
[null,"802.",{"$f":"IF(Teilnehmerliste!B805=\"\",\"\",Teilnehmerliste!B805)","v":""},{"$f":"SUMIF(Wetten!P$3:P$10002,C804,Wetten!O$3:O$10002)","v":0},{"$error":"#DIV/0!"}]
[null,"803.",{"$f":"IF(Teilnehmerliste!B806=\"\",\"\",Teilnehmerliste!B806)","v":""},{"$f":"SUMIF(Wetten!P$3:P$10002,C805,Wetten!O$3:O$10002)","v":0},{"$error":"#DIV/0!"}]
[null,"804.",{"$f":"IF(Teilnehmerliste!B807=\"\",\"\",Teilnehmerliste!B807)","v":""},{"$f":"SUMIF(Wetten!P$3:P$10002,C806,Wetten!O$3:O$10002)","v":0},{"$error":"#DIV/0!"}]
[null,"805.",{"$f":"IF(Teilnehmerliste!B808=\"\",\"\",Teilnehmerliste!B808)","v":""},{"$f":"SUMIF(Wetten!P$3:P$10002,C807,Wetten!O$3:O$10002)","v":0},{"$error":"#DIV/0!"}]
[null,"806.",{"$f":"IF(Teilnehmerliste!B809=\"\",\"\",Teilnehmerliste!B809)","v":""},{"$f":"SUMIF(Wetten!P$3:P$10002,C808,Wetten!O$3:O$10002)","v":0},{"$error":"#DIV/0!"}]
[null,"807.",{"$f":"IF(Teilnehmerliste!B810=\"\",\"\",Teilnehmerliste!B810)","v":""},{"$f":"SUMIF(Wetten!P$3:P$10002,C809,Wetten!O$3:O$10002)","v":0},{"$error":"#DIV/0!"}]
[null,"808.",{"$f":"IF(Teilnehmerliste!B811=\"\",\"\",Teilnehmerliste!B811)","v":""},{"$f":"SUMIF(Wetten!P$3:P$10002,C810,Wetten!O$3:O$10002)","v":0},{"$error":"#DIV/0!"}]
[null,"809.",{"$f":"IF(Teilnehmerliste!B812=\"\",\"\",Teilnehmerliste!B812)","v":""},{"$f":"SUMIF(Wetten!P$3:P$10002,C811,Wetten!O$3:O$10002)","v":0},{"$error":"#DIV/0!"}]
[null,"810.",{"$f":"IF(Teilnehmerliste!B813=\"\",\"\",Teilnehmerliste!B813)","v":""},{"$f":"SUMIF(Wetten!P$3:P$10002,C812,Wetten!O$3:O$10002)","v":0},{"$error":"#DIV/0!"}]
[null,"811.",{"$f":"IF(Teilnehmerliste!B814=\"\",\"\",Teilnehmerliste!B814)","v":""},{"$f":"SUMIF(Wetten!P$3:P$10002,C813,Wetten!O$3:O$10002)","v":0},{"$error":"#DIV/0!"}]
[null,"812.",{"$f":"IF(Teilnehmerliste!B815=\"\",\"\",Teilnehmerliste!B815)","v":""},{"$f":"SUMIF(Wetten!P$3:P$10002,C814,Wetten!O$3:O$10002)","v":0},{"$error":"#DIV/0!"}]
[null,"813.",{"$f":"IF(Teilnehmerliste!B816=\"\",\"\",Teilnehmerliste!B816)","v":""},{"$f":"SUMIF(Wetten!P$3:P$10002,C815,Wetten!O$3:O$10002)","v":0},{"$error":"#DIV/0!"}]
[null,"814.",{"$f":"IF(Teilnehmerliste!B817=\"\",\"\",Teilnehmerliste!B817)","v":""},{"$f":"SUMIF(Wetten!P$3:P$10002,C816,Wetten!O$3:O$10002)","v":0},{"$error":"#DIV/0!"}]
[null,"815.",{"$f":"IF(Teilnehmerliste!B818=\"\",\"\",Teilnehmerliste!B818)","v":""},{"$f":"SUMIF(Wetten!P$3:P$10002,C817,Wetten!O$3:O$10002)","v":0},{"$error":"#DIV/0!"}]
[null,"816.",{"$f":"IF(Teilnehmerliste!B819=\"\",\"\",Teilnehmerliste!B819)","v":""},{"$f":"SUMIF(Wetten!P$3:P$10002,C818,Wetten!O$3:O$10002)","v":0},{"$error":"#DIV/0!"}]
[null,"817.",{"$f":"IF(Teilnehmerliste!B820=\"\",\"\",Teilnehmerliste!B820)","v":""},{"$f":"SUMIF(Wetten!P$3:P$10002,C819,Wetten!O$3:O$10002)","v":0},{"$error":"#DIV/0!"}]
[null,"818.",{"$f":"IF(Teilnehmerliste!B821=\"\",\"\",Teilnehmerliste!B821)","v":""},{"$f":"SUMIF(Wetten!P$3:P$10002,C820,Wetten!O$3:O$10002)","v":0},{"$error":"#DIV/0!"}]
[null,"819.",{"$f":"IF(Teilnehmerliste!B822=\"\",\"\",Teilnehmerliste!B822)","v":""},{"$f":"SUMIF(Wetten!P$3:P$10002,C821,Wetten!O$3:O$10002)","v":0},{"$error":"#DIV/0!"}]
[null,"820.",{"$f":"IF(Teilnehmerliste!B823=\"\",\"\",Teilnehmerliste!B823)","v":""},{"$f":"SUMIF(Wetten!P$3:P$10002,C822,Wetten!O$3:O$10002)","v":0},{"$error":"#DIV/0!"}]
[null,"821.",{"$f":"IF(Teilnehmerliste!B824=\"\",\"\",Teilnehmerliste!B824)","v":""},{"$f":"SUMIF(Wetten!P$3:P$10002,C823,Wetten!O$3:O$10002)","v":0},{"$error":"#DIV/0!"}]
[null,"822.",{"$f":"IF(Teilnehmerliste!B825=\"\",\"\",Teilnehmerliste!B825)","v":""},{"$f":"SUMIF(Wetten!P$3:P$10002,C824,Wetten!O$3:O$10002)","v":0},{"$error":"#DIV/0!"}]
[null,"823.",{"$f":"IF(Teilnehmerliste!B826=\"\",\"\",Teilnehmerliste!B826)","v":""},{"$f":"SUMIF(Wetten!P$3:P$10002,C825,Wetten!O$3:O$10002)","v":0},{"$error":"#DIV/0!"}]
[null,"824.",{"$f":"IF(Teilnehmerliste!B827=\"\",\"\",Teilnehmerliste!B827)","v":""},{"$f":"SUMIF(Wetten!P$3:P$10002,C826,Wetten!O$3:O$10002)","v":0},{"$error":"#DIV/0!"}]
[null,"825.",{"$f":"IF(Teilnehmerliste!B828=\"\",\"\",Teilnehmerliste!B828)","v":""},{"$f":"SUMIF(Wetten!P$3:P$10002,C827,Wetten!O$3:O$10002)","v":0},{"$error":"#DIV/0!"}]
[null,"826.",{"$f":"IF(Teilnehmerliste!B829=\"\",\"\",Teilnehmerliste!B829)","v":""},{"$f":"SUMIF(Wetten!P$3:P$10002,C828,Wetten!O$3:O$10002)","v":0},{"$error":"#DIV/0!"}]
[null,"827.",{"$f":"IF(Teilnehmerliste!B830=\"\",\"\",Teilnehmerliste!B830)","v":""},{"$f":"SUMIF(Wetten!P$3:P$10002,C829,Wetten!O$3:O$10002)","v":0},{"$error":"#DIV/0!"}]
[null,"828.",{"$f":"IF(Teilnehmerliste!B831=\"\",\"\",Teilnehmerliste!B831)","v":""},{"$f":"SUMIF(Wetten!P$3:P$10002,C830,Wetten!O$3:O$10002)","v":0},{"$error":"#DIV/0!"}]
[null,"829.",{"$f":"IF(Teilnehmerliste!B832=\"\",\"\",Teilnehmerliste!B832)","v":""},{"$f":"SUMIF(Wetten!P$3:P$10002,C831,Wetten!O$3:O$10002)","v":0},{"$error":"#DIV/0!"}]
[null,"830.",{"$f":"IF(Teilnehmerliste!B833=\"\",\"\",Teilnehmerliste!B833)","v":""},{"$f":"SUMIF(Wetten!P$3:P$10002,C832,Wetten!O$3:O$10002)","v":0},{"$error":"#DIV/0!"}]
[null,"831.",{"$f":"IF(Teilnehmerliste!B834=\"\",\"\",Teilnehmerliste!B834)","v":""},{"$f":"SUMIF(Wetten!P$3:P$10002,C833,Wetten!O$3:O$10002)","v":0},{"$error":"#DIV/0!"}]
[null,"832.",{"$f":"IF(Teilnehmerliste!B835=\"\",\"\",Teilnehmerliste!B835)","v":""},{"$f":"SUMIF(Wetten!P$3:P$10002,C834,Wetten!O$3:O$10002)","v":0},{"$error":"#DIV/0!"}]
[null,"833.",{"$f":"IF(Teilnehmerliste!B836=\"\",\"\",Teilnehmerliste!B836)","v":""},{"$f":"SUMIF(Wetten!P$3:P$10002,C835,Wetten!O$3:O$10002)","v":0},{"$error":"#DIV/0!"}]
[null,"834.",{"$f":"IF(Teilnehmerliste!B837=\"\",\"\",Teilnehmerliste!B837)","v":""},{"$f":"SUMIF(Wetten!P$3:P$10002,C836,Wetten!O$3:O$10002)","v":0},{"$f":"1/SUM($D$3:$D$1002)*D836","v":{"$error":"#DIV/0!"}}]
[null,"835.",{"$f":"IF(Teilnehmerliste!B838=\"\",\"\",Teilnehmerliste!B838)","v":""},{"$f":"SUMIF(Wetten!P$3:P$10002,C837,Wetten!O$3:O$10002)","v":0},{"$error":"#DIV/0!"}]
[null,"836.",{"$f":"IF(Teilnehmerliste!B839=\"\",\"\",Teilnehmerliste!B839)","v":""},{"$f":"SUMIF(Wetten!P$3:P$10002,C838,Wetten!O$3:O$10002)","v":0},{"$error":"#DIV/0!"}]
[null,"837.",{"$f":"IF(Teilnehmerliste!B840=\"\",\"\",Teilnehmerliste!B840)","v":""},{"$f":"SUMIF(Wetten!P$3:P$10002,C839,Wetten!O$3:O$10002)","v":0},{"$error":"#DIV/0!"}]
[null,"838.",{"$f":"IF(Teilnehmerliste!B841=\"\",\"\",Teilnehmerliste!B841)","v":""},{"$f":"SUMIF(Wetten!P$3:P$10002,C840,Wetten!O$3:O$10002)","v":0},{"$error":"#DIV/0!"}]
[null,"839.",{"$f":"IF(Teilnehmerliste!B842=\"\",\"\",Teilnehmerliste!B842)","v":""},{"$f":"SUMIF(Wetten!P$3:P$10002,C841,Wetten!O$3:O$10002)","v":0},{"$error":"#DIV/0!"}]
[null,"840.",{"$f":"IF(Teilnehmerliste!B843=\"\",\"\",Teilnehmerliste!B843)","v":""},{"$f":"SUMIF(Wetten!P$3:P$10002,C842,Wetten!O$3:O$10002)","v":0},{"$error":"#DIV/0!"}]
[null,"841.",{"$f":"IF(Teilnehmerliste!B844=\"\",\"\",Teilnehmerliste!B844)","v":""},{"$f":"SUMIF(Wetten!P$3:P$10002,C843,Wetten!O$3:O$10002)","v":0},{"$error":"#DIV/0!"}]
[null,"842.",{"$f":"IF(Teilnehmerliste!B845=\"\",\"\",Teilnehmerliste!B845)","v":""},{"$f":"SUMIF(Wetten!P$3:P$10002,C844,Wetten!O$3:O$10002)","v":0},{"$error":"#DIV/0!"}]
[null,"843.",{"$f":"IF(Teilnehmerliste!B846=\"\",\"\",Teilnehmerliste!B846)","v":""},{"$f":"SUMIF(Wetten!P$3:P$10002,C845,Wetten!O$3:O$10002)","v":0},{"$error":"#DIV/0!"}]
[null,"844.",{"$f":"IF(Teilnehmerliste!B847=\"\",\"\",Teilnehmerliste!B847)","v":""},{"$f":"SUMIF(Wetten!P$3:P$10002,C846,Wetten!O$3:O$10002)","v":0},{"$error":"#DIV/0!"}]
[null,"845.",{"$f":"IF(Teilnehmerliste!B848=\"\",\"\",Teilnehmerliste!B848)","v":""},{"$f":"SUMIF(Wetten!P$3:P$10002,C847,Wetten!O$3:O$10002)","v":0},{"$error":"#DIV/0!"}]
[null,"846.",{"$f":"IF(Teilnehmerliste!B849=\"\",\"\",Teilnehmerliste!B849)","v":""},{"$f":"SUMIF(Wetten!P$3:P$10002,C848,Wetten!O$3:O$10002)","v":0},{"$error":"#DIV/0!"}]
[null,"847.",{"$f":"IF(Teilnehmerliste!B850=\"\",\"\",Teilnehmerliste!B850)","v":""},{"$f":"SUMIF(Wetten!P$3:P$10002,C849,Wetten!O$3:O$10002)","v":0},{"$error":"#DIV/0!"}]
[null,"848.",{"$f":"IF(Teilnehmerliste!B851=\"\",\"\",Teilnehmerliste!B851)","v":""},{"$f":"SUMIF(Wetten!P$3:P$10002,C850,Wetten!O$3:O$10002)","v":0},{"$error":"#DIV/0!"}]
[null,"849.",{"$f":"IF(Teilnehmerliste!B852=\"\",\"\",Teilnehmerliste!B852)","v":""},{"$f":"SUMIF(Wetten!P$3:P$10002,C851,Wetten!O$3:O$10002)","v":0},{"$error":"#DIV/0!"}]
[null,"850.",{"$f":"IF(Teilnehmerliste!B853=\"\",\"\",Teilnehmerliste!B853)","v":""},{"$f":"SUMIF(Wetten!P$3:P$10002,C852,Wetten!O$3:O$10002)","v":0},{"$error":"#DIV/0!"}]
[null,"851.",{"$f":"IF(Teilnehmerliste!B854=\"\",\"\",Teilnehmerliste!B854)","v":""},{"$f":"SUMIF(Wetten!P$3:P$10002,C853,Wetten!O$3:O$10002)","v":0},{"$error":"#DIV/0!"}]
[null,"852.",{"$f":"IF(Teilnehmerliste!B855=\"\",\"\",Teilnehmerliste!B855)","v":""},{"$f":"SUMIF(Wetten!P$3:P$10002,C854,Wetten!O$3:O$10002)","v":0},{"$error":"#DIV/0!"}]
[null,"853.",{"$f":"IF(Teilnehmerliste!B856=\"\",\"\",Teilnehmerliste!B856)","v":""},{"$f":"SUMIF(Wetten!P$3:P$10002,C855,Wetten!O$3:O$10002)","v":0},{"$error":"#DIV/0!"}]
[null,"854.",{"$f":"IF(Teilnehmerliste!B857=\"\",\"\",Teilnehmerliste!B857)","v":""},{"$f":"SUMIF(Wetten!P$3:P$10002,C856,Wetten!O$3:O$10002)","v":0},{"$error":"#DIV/0!"}]
[null,"855.",{"$f":"IF(Teilnehmerliste!B858=\"\",\"\",Teilnehmerliste!B858)","v":""},{"$f":"SUMIF(Wetten!P$3:P$10002,C857,Wetten!O$3:O$10002)","v":0},{"$error":"#DIV/0!"}]
[null,"856.",{"$f":"IF(Teilnehmerliste!B859=\"\",\"\",Teilnehmerliste!B859)","v":""},{"$f":"SUMIF(Wetten!P$3:P$10002,C858,Wetten!O$3:O$10002)","v":0},{"$error":"#DIV/0!"}]
[null,"857.",{"$f":"IF(Teilnehmerliste!B860=\"\",\"\",Teilnehmerliste!B860)","v":""},{"$f":"SUMIF(Wetten!P$3:P$10002,C859,Wetten!O$3:O$10002)","v":0},{"$error":"#DIV/0!"}]
[null,"858.",{"$f":"IF(Teilnehmerliste!B861=\"\",\"\",Teilnehmerliste!B861)","v":""},{"$f":"SUMIF(Wetten!P$3:P$10002,C860,Wetten!O$3:O$10002)","v":0},{"$error":"#DIV/0!"}]
[null,"859.",{"$f":"IF(Teilnehmerliste!B862=\"\",\"\",Teilnehmerliste!B862)","v":""},{"$f":"SUMIF(Wetten!P$3:P$10002,C861,Wetten!O$3:O$10002)","v":0},{"$error":"#DIV/0!"}]
[null,"860.",{"$f":"IF(Teilnehmerliste!B863=\"\",\"\",Teilnehmerliste!B863)","v":""},{"$f":"SUMIF(Wetten!P$3:P$10002,C862,Wetten!O$3:O$10002)","v":0},{"$error":"#DIV/0!"}]
[null,"861.",{"$f":"IF(Teilnehmerliste!B864=\"\",\"\",Teilnehmerliste!B864)","v":""},{"$f":"SUMIF(Wetten!P$3:P$10002,C863,Wetten!O$3:O$10002)","v":0},{"$error":"#DIV/0!"}]
[null,"862.",{"$f":"IF(Teilnehmerliste!B865=\"\",\"\",Teilnehmerliste!B865)","v":""},{"$f":"SUMIF(Wetten!P$3:P$10002,C864,Wetten!O$3:O$10002)","v":0},{"$error":"#DIV/0!"}]
[null,"863.",{"$f":"IF(Teilnehmerliste!B866=\"\",\"\",Teilnehmerliste!B866)","v":""},{"$f":"SUMIF(Wetten!P$3:P$10002,C865,Wetten!O$3:O$10002)","v":0},{"$error":"#DIV/0!"}]
[null,"864.",{"$f":"IF(Teilnehmerliste!B867=\"\",\"\",Teilnehmerliste!B867)","v":""},{"$f":"SUMIF(Wetten!P$3:P$10002,C866,Wetten!O$3:O$10002)","v":0},{"$error":"#DIV/0!"}]
[null,"865.",{"$f":"IF(Teilnehmerliste!B868=\"\",\"\",Teilnehmerliste!B868)","v":""},{"$f":"SUMIF(Wetten!P$3:P$10002,C867,Wetten!O$3:O$10002)","v":0},{"$error":"#DIV/0!"}]
[null,"866.",{"$f":"IF(Teilnehmerliste!B869=\"\",\"\",Teilnehmerliste!B869)","v":""},{"$f":"SUMIF(Wetten!P$3:P$10002,C868,Wetten!O$3:O$10002)","v":0},{"$error":"#DIV/0!"}]
[null,"867.",{"$f":"IF(Teilnehmerliste!B870=\"\",\"\",Teilnehmerliste!B870)","v":""},{"$f":"SUMIF(Wetten!P$3:P$10002,C869,Wetten!O$3:O$10002)","v":0},{"$error":"#DIV/0!"}]
[null,"868.",{"$f":"IF(Teilnehmerliste!B871=\"\",\"\",Teilnehmerliste!B871)","v":""},{"$f":"SUMIF(Wetten!P$3:P$10002,C870,Wetten!O$3:O$10002)","v":0},{"$error":"#DIV/0!"}]
[null,"869.",{"$f":"IF(Teilnehmerliste!B872=\"\",\"\",Teilnehmerliste!B872)","v":""},{"$f":"SUMIF(Wetten!P$3:P$10002,C871,Wetten!O$3:O$10002)","v":0},{"$error":"#DIV/0!"}]
[null,"870.",{"$f":"IF(Teilnehmerliste!B873=\"\",\"\",Teilnehmerliste!B873)","v":""},{"$f":"SUMIF(Wetten!P$3:P$10002,C872,Wetten!O$3:O$10002)","v":0},{"$error":"#DIV/0!"}]
[null,"871.",{"$f":"IF(Teilnehmerliste!B874=\"\",\"\",Teilnehmerliste!B874)","v":""},{"$f":"SUMIF(Wetten!P$3:P$10002,C873,Wetten!O$3:O$10002)","v":0},{"$error":"#DIV/0!"}]
[null,"872.",{"$f":"IF(Teilnehmerliste!B875=\"\",\"\",Teilnehmerliste!B875)","v":""},{"$f":"SUMIF(Wetten!P$3:P$10002,C874,Wetten!O$3:O$10002)","v":0},{"$error":"#DIV/0!"}]
[null,"873.",{"$f":"IF(Teilnehmerliste!B876=\"\",\"\",Teilnehmerliste!B876)","v":""},{"$f":"SUMIF(Wetten!P$3:P$10002,C875,Wetten!O$3:O$10002)","v":0},{"$error":"#DIV/0!"}]
[null,"874.",{"$f":"IF(Teilnehmerliste!B877=\"\",\"\",Teilnehmerliste!B877)","v":""},{"$f":"SUMIF(Wetten!P$3:P$10002,C876,Wetten!O$3:O$10002)","v":0},{"$error":"#DIV/0!"}]
[null,"875.",{"$f":"IF(Teilnehmerliste!B878=\"\",\"\",Teilnehmerliste!B878)","v":""},{"$f":"SUMIF(Wetten!P$3:P$10002,C877,Wetten!O$3:O$10002)","v":0},{"$error":"#DIV/0!"}]
[null,"876.",{"$f":"IF(Teilnehmerliste!B879=\"\",\"\",Teilnehmerliste!B879)","v":""},{"$f":"SUMIF(Wetten!P$3:P$10002,C878,Wetten!O$3:O$10002)","v":0},{"$error":"#DIV/0!"}]
[null,"877.",{"$f":"IF(Teilnehmerliste!B880=\"\",\"\",Teilnehmerliste!B880)","v":""},{"$f":"SUMIF(Wetten!P$3:P$10002,C879,Wetten!O$3:O$10002)","v":0},{"$error":"#DIV/0!"}]
[null,"878.",{"$f":"IF(Teilnehmerliste!B881=\"\",\"\",Teilnehmerliste!B881)","v":""},{"$f":"SUMIF(Wetten!P$3:P$10002,C880,Wetten!O$3:O$10002)","v":0},{"$error":"#DIV/0!"}]
[null,"879.",{"$f":"IF(Teilnehmerliste!B882=\"\",\"\",Teilnehmerliste!B882)","v":""},{"$f":"SUMIF(Wetten!P$3:P$10002,C881,Wetten!O$3:O$10002)","v":0},{"$error":"#DIV/0!"}]
[null,"880.",{"$f":"IF(Teilnehmerliste!B883=\"\",\"\",Teilnehmerliste!B883)","v":""},{"$f":"SUMIF(Wetten!P$3:P$10002,C882,Wetten!O$3:O$10002)","v":0},{"$error":"#DIV/0!"}]
[null,"881.",{"$f":"IF(Teilnehmerliste!B884=\"\",\"\",Teilnehmerliste!B884)","v":""},{"$f":"SUMIF(Wetten!P$3:P$10002,C883,Wetten!O$3:O$10002)","v":0},{"$error":"#DIV/0!"}]
[null,"882.",{"$f":"IF(Teilnehmerliste!B885=\"\",\"\",Teilnehmerliste!B885)","v":""},{"$f":"SUMIF(Wetten!P$3:P$10002,C884,Wetten!O$3:O$10002)","v":0},{"$error":"#DIV/0!"}]
[null,"883.",{"$f":"IF(Teilnehmerliste!B886=\"\",\"\",Teilnehmerliste!B886)","v":""},{"$f":"SUMIF(Wetten!P$3:P$10002,C885,Wetten!O$3:O$10002)","v":0},{"$error":"#DIV/0!"}]
[null,"884.",{"$f":"IF(Teilnehmerliste!B887=\"\",\"\",Teilnehmerliste!B887)","v":""},{"$f":"SUMIF(Wetten!P$3:P$10002,C886,Wetten!O$3:O$10002)","v":0},{"$error":"#DIV/0!"}]
[null,"885.",{"$f":"IF(Teilnehmerliste!B888=\"\",\"\",Teilnehmerliste!B888)","v":""},{"$f":"SUMIF(Wetten!P$3:P$10002,C887,Wetten!O$3:O$10002)","v":0},{"$error":"#DIV/0!"}]
[null,"886.",{"$f":"IF(Teilnehmerliste!B889=\"\",\"\",Teilnehmerliste!B889)","v":""},{"$f":"SUMIF(Wetten!P$3:P$10002,C888,Wetten!O$3:O$10002)","v":0},{"$error":"#DIV/0!"}]
[null,"887.",{"$f":"IF(Teilnehmerliste!B890=\"\",\"\",Teilnehmerliste!B890)","v":""},{"$f":"SUMIF(Wetten!P$3:P$10002,C889,Wetten!O$3:O$10002)","v":0},{"$error":"#DIV/0!"}]
[null,"888.",{"$f":"IF(Teilnehmerliste!B891=\"\",\"\",Teilnehmerliste!B891)","v":""},{"$f":"SUMIF(Wetten!P$3:P$10002,C890,Wetten!O$3:O$10002)","v":0},{"$error":"#DIV/0!"}]
[null,"889.",{"$f":"IF(Teilnehmerliste!B892=\"\",\"\",Teilnehmerliste!B892)","v":""},{"$f":"SUMIF(Wetten!P$3:P$10002,C891,Wetten!O$3:O$10002)","v":0},{"$error":"#DIV/0!"}]
[null,"890.",{"$f":"IF(Teilnehmerliste!B893=\"\",\"\",Teilnehmerliste!B893)","v":""},{"$f":"SUMIF(Wetten!P$3:P$10002,C892,Wetten!O$3:O$10002)","v":0},{"$error":"#DIV/0!"}]
[null,"891.",{"$f":"IF(Teilnehmerliste!B894=\"\",\"\",Teilnehmerliste!B894)","v":""},{"$f":"SUMIF(Wetten!P$3:P$10002,C893,Wetten!O$3:O$10002)","v":0},{"$error":"#DIV/0!"}]
[null,"892.",{"$f":"IF(Teilnehmerliste!B895=\"\",\"\",Teilnehmerliste!B895)","v":""},{"$f":"SUMIF(Wetten!P$3:P$10002,C894,Wetten!O$3:O$10002)","v":0},{"$error":"#DIV/0!"}]
[null,"893.",{"$f":"IF(Teilnehmerliste!B896=\"\",\"\",Teilnehmerliste!B896)","v":""},{"$f":"SUMIF(Wetten!P$3:P$10002,C895,Wetten!O$3:O$10002)","v":0},{"$error":"#DIV/0!"}]
[null,"894.",{"$f":"IF(Teilnehmerliste!B897=\"\",\"\",Teilnehmerliste!B897)","v":""},{"$f":"SUMIF(Wetten!P$3:P$10002,C896,Wetten!O$3:O$10002)","v":0},{"$error":"#DIV/0!"}]
[null,"895.",{"$f":"IF(Teilnehmerliste!B898=\"\",\"\",Teilnehmerliste!B898)","v":""},{"$f":"SUMIF(Wetten!P$3:P$10002,C897,Wetten!O$3:O$10002)","v":0},{"$error":"#DIV/0!"}]
[null,"896.",{"$f":"IF(Teilnehmerliste!B899=\"\",\"\",Teilnehmerliste!B899)","v":""},{"$f":"SUMIF(Wetten!P$3:P$10002,C898,Wetten!O$3:O$10002)","v":0},{"$error":"#DIV/0!"}]
[null,"897.",{"$f":"IF(Teilnehmerliste!B900=\"\",\"\",Teilnehmerliste!B900)","v":""},{"$f":"SUMIF(Wetten!P$3:P$10002,C899,Wetten!O$3:O$10002)","v":0},{"$error":"#DIV/0!"}]
[null,"898.",{"$f":"IF(Teilnehmerliste!B901=\"\",\"\",Teilnehmerliste!B901)","v":""},{"$f":"SUMIF(Wetten!P$3:P$10002,C900,Wetten!O$3:O$10002)","v":0},{"$f":"1/SUM($D$3:$D$1002)*D900","v":{"$error":"#DIV/0!"}}]
[null,"899.",{"$f":"IF(Teilnehmerliste!B902=\"\",\"\",Teilnehmerliste!B902)","v":""},{"$f":"SUMIF(Wetten!P$3:P$10002,C901,Wetten!O$3:O$10002)","v":0},{"$error":"#DIV/0!"}]
[null,"900.",{"$f":"IF(Teilnehmerliste!B903=\"\",\"\",Teilnehmerliste!B903)","v":""},{"$f":"SUMIF(Wetten!P$3:P$10002,C902,Wetten!O$3:O$10002)","v":0},{"$error":"#DIV/0!"}]
[null,"901.",{"$f":"IF(Teilnehmerliste!B904=\"\",\"\",Teilnehmerliste!B904)","v":""},{"$f":"SUMIF(Wetten!P$3:P$10002,C903,Wetten!O$3:O$10002)","v":0},{"$error":"#DIV/0!"}]
[null,"902.",{"$f":"IF(Teilnehmerliste!B905=\"\",\"\",Teilnehmerliste!B905)","v":""},{"$f":"SUMIF(Wetten!P$3:P$10002,C904,Wetten!O$3:O$10002)","v":0},{"$error":"#DIV/0!"}]
[null,"903.",{"$f":"IF(Teilnehmerliste!B906=\"\",\"\",Teilnehmerliste!B906)","v":""},{"$f":"SUMIF(Wetten!P$3:P$10002,C905,Wetten!O$3:O$10002)","v":0},{"$error":"#DIV/0!"}]
[null,"904.",{"$f":"IF(Teilnehmerliste!B907=\"\",\"\",Teilnehmerliste!B907)","v":""},{"$f":"SUMIF(Wetten!P$3:P$10002,C906,Wetten!O$3:O$10002)","v":0},{"$error":"#DIV/0!"}]
[null,"905.",{"$f":"IF(Teilnehmerliste!B908=\"\",\"\",Teilnehmerliste!B908)","v":""},{"$f":"SUMIF(Wetten!P$3:P$10002,C907,Wetten!O$3:O$10002)","v":0},{"$error":"#DIV/0!"}]
[null,"906.",{"$f":"IF(Teilnehmerliste!B909=\"\",\"\",Teilnehmerliste!B909)","v":""},{"$f":"SUMIF(Wetten!P$3:P$10002,C908,Wetten!O$3:O$10002)","v":0},{"$error":"#DIV/0!"}]
[null,"907.",{"$f":"IF(Teilnehmerliste!B910=\"\",\"\",Teilnehmerliste!B910)","v":""},{"$f":"SUMIF(Wetten!P$3:P$10002,C909,Wetten!O$3:O$10002)","v":0},{"$error":"#DIV/0!"}]
[null,"908.",{"$f":"IF(Teilnehmerliste!B911=\"\",\"\",Teilnehmerliste!B911)","v":""},{"$f":"SUMIF(Wetten!P$3:P$10002,C910,Wetten!O$3:O$10002)","v":0},{"$error":"#DIV/0!"}]
[null,"909.",{"$f":"IF(Teilnehmerliste!B912=\"\",\"\",Teilnehmerliste!B912)","v":""},{"$f":"SUMIF(Wetten!P$3:P$10002,C911,Wetten!O$3:O$10002)","v":0},{"$error":"#DIV/0!"}]
[null,"910.",{"$f":"IF(Teilnehmerliste!B913=\"\",\"\",Teilnehmerliste!B913)","v":""},{"$f":"SUMIF(Wetten!P$3:P$10002,C912,Wetten!O$3:O$10002)","v":0},{"$error":"#DIV/0!"}]
[null,"911.",{"$f":"IF(Teilnehmerliste!B914=\"\",\"\",Teilnehmerliste!B914)","v":""},{"$f":"SUMIF(Wetten!P$3:P$10002,C913,Wetten!O$3:O$10002)","v":0},{"$error":"#DIV/0!"}]
[null,"912.",{"$f":"IF(Teilnehmerliste!B915=\"\",\"\",Teilnehmerliste!B915)","v":""},{"$f":"SUMIF(Wetten!P$3:P$10002,C914,Wetten!O$3:O$10002)","v":0},{"$error":"#DIV/0!"}]
[null,"913.",{"$f":"IF(Teilnehmerliste!B916=\"\",\"\",Teilnehmerliste!B916)","v":""},{"$f":"SUMIF(Wetten!P$3:P$10002,C915,Wetten!O$3:O$10002)","v":0},{"$error":"#DIV/0!"}]
[null,"914.",{"$f":"IF(Teilnehmerliste!B917=\"\",\"\",Teilnehmerliste!B917)","v":""},{"$f":"SUMIF(Wetten!P$3:P$10002,C916,Wetten!O$3:O$10002)","v":0},{"$error":"#DIV/0!"}]
[null,"915.",{"$f":"IF(Teilnehmerliste!B918=\"\",\"\",Teilnehmerliste!B918)","v":""},{"$f":"SUMIF(Wetten!P$3:P$10002,C917,Wetten!O$3:O$10002)","v":0},{"$error":"#DIV/0!"}]
[null,"916.",{"$f":"IF(Teilnehmerliste!B919=\"\",\"\",Teilnehmerliste!B919)","v":""},{"$f":"SUMIF(Wetten!P$3:P$10002,C918,Wetten!O$3:O$10002)","v":0},{"$error":"#DIV/0!"}]
[null,"917.",{"$f":"IF(Teilnehmerliste!B920=\"\",\"\",Teilnehmerliste!B920)","v":""},{"$f":"SUMIF(Wetten!P$3:P$10002,C919,Wetten!O$3:O$10002)","v":0},{"$error":"#DIV/0!"}]
[null,"918.",{"$f":"IF(Teilnehmerliste!B921=\"\",\"\",Teilnehmerliste!B921)","v":""},{"$f":"SUMIF(Wetten!P$3:P$10002,C920,Wetten!O$3:O$10002)","v":0},{"$error":"#DIV/0!"}]
[null,"919.",{"$f":"IF(Teilnehmerliste!B922=\"\",\"\",Teilnehmerliste!B922)","v":""},{"$f":"SUMIF(Wetten!P$3:P$10002,C921,Wetten!O$3:O$10002)","v":0},{"$error":"#DIV/0!"}]
[null,"920.",{"$f":"IF(Teilnehmerliste!B923=\"\",\"\",Teilnehmerliste!B923)","v":""},{"$f":"SUMIF(Wetten!P$3:P$10002,C922,Wetten!O$3:O$10002)","v":0},{"$error":"#DIV/0!"}]
[null,"921.",{"$f":"IF(Teilnehmerliste!B924=\"\",\"\",Teilnehmerliste!B924)","v":""},{"$f":"SUMIF(Wetten!P$3:P$10002,C923,Wetten!O$3:O$10002)","v":0},{"$error":"#DIV/0!"}]
[null,"922.",{"$f":"IF(Teilnehmerliste!B925=\"\",\"\",Teilnehmerliste!B925)","v":""},{"$f":"SUMIF(Wetten!P$3:P$10002,C924,Wetten!O$3:O$10002)","v":0},{"$error":"#DIV/0!"}]
[null,"923.",{"$f":"IF(Teilnehmerliste!B926=\"\",\"\",Teilnehmerliste!B926)","v":""},{"$f":"SUMIF(Wetten!P$3:P$10002,C925,Wetten!O$3:O$10002)","v":0},{"$error":"#DIV/0!"}]
[null,"924.",{"$f":"IF(Teilnehmerliste!B927=\"\",\"\",Teilnehmerliste!B927)","v":""},{"$f":"SUMIF(Wetten!P$3:P$10002,C926,Wetten!O$3:O$10002)","v":0},{"$error":"#DIV/0!"}]
[null,"925.",{"$f":"IF(Teilnehmerliste!B928=\"\",\"\",Teilnehmerliste!B928)","v":""},{"$f":"SUMIF(Wetten!P$3:P$10002,C927,Wetten!O$3:O$10002)","v":0},{"$error":"#DIV/0!"}]
[null,"926.",{"$f":"IF(Teilnehmerliste!B929=\"\",\"\",Teilnehmerliste!B929)","v":""},{"$f":"SUMIF(Wetten!P$3:P$10002,C928,Wetten!O$3:O$10002)","v":0},{"$error":"#DIV/0!"}]
[null,"927.",{"$f":"IF(Teilnehmerliste!B930=\"\",\"\",Teilnehmerliste!B930)","v":""},{"$f":"SUMIF(Wetten!P$3:P$10002,C929,Wetten!O$3:O$10002)","v":0},{"$error":"#DIV/0!"}]
[null,"928.",{"$f":"IF(Teilnehmerliste!B931=\"\",\"\",Teilnehmerliste!B931)","v":""},{"$f":"SUMIF(Wetten!P$3:P$10002,C930,Wetten!O$3:O$10002)","v":0},{"$error":"#DIV/0!"}]
[null,"929.",{"$f":"IF(Teilnehmerliste!B932=\"\",\"\",Teilnehmerliste!B932)","v":""},{"$f":"SUMIF(Wetten!P$3:P$10002,C931,Wetten!O$3:O$10002)","v":0},{"$error":"#DIV/0!"}]
[null,"930.",{"$f":"IF(Teilnehmerliste!B933=\"\",\"\",Teilnehmerliste!B933)","v":""},{"$f":"SUMIF(Wetten!P$3:P$10002,C932,Wetten!O$3:O$10002)","v":0},{"$error":"#DIV/0!"}]
[null,"931.",{"$f":"IF(Teilnehmerliste!B934=\"\",\"\",Teilnehmerliste!B934)","v":""},{"$f":"SUMIF(Wetten!P$3:P$10002,C933,Wetten!O$3:O$10002)","v":0},{"$error":"#DIV/0!"}]
[null,"932.",{"$f":"IF(Teilnehmerliste!B935=\"\",\"\",Teilnehmerliste!B935)","v":""},{"$f":"SUMIF(Wetten!P$3:P$10002,C934,Wetten!O$3:O$10002)","v":0},{"$error":"#DIV/0!"}]
[null,"933.",{"$f":"IF(Teilnehmerliste!B936=\"\",\"\",Teilnehmerliste!B936)","v":""},{"$f":"SUMIF(Wetten!P$3:P$10002,C935,Wetten!O$3:O$10002)","v":0},{"$error":"#DIV/0!"}]
[null,"934.",{"$f":"IF(Teilnehmerliste!B937=\"\",\"\",Teilnehmerliste!B937)","v":""},{"$f":"SUMIF(Wetten!P$3:P$10002,C936,Wetten!O$3:O$10002)","v":0},{"$error":"#DIV/0!"}]
[null,"935.",{"$f":"IF(Teilnehmerliste!B938=\"\",\"\",Teilnehmerliste!B938)","v":""},{"$f":"SUMIF(Wetten!P$3:P$10002,C937,Wetten!O$3:O$10002)","v":0},{"$error":"#DIV/0!"}]
[null,"936.",{"$f":"IF(Teilnehmerliste!B939=\"\",\"\",Teilnehmerliste!B939)","v":""},{"$f":"SUMIF(Wetten!P$3:P$10002,C938,Wetten!O$3:O$10002)","v":0},{"$error":"#DIV/0!"}]
[null,"937.",{"$f":"IF(Teilnehmerliste!B940=\"\",\"\",Teilnehmerliste!B940)","v":""},{"$f":"SUMIF(Wetten!P$3:P$10002,C939,Wetten!O$3:O$10002)","v":0},{"$error":"#DIV/0!"}]
[null,"938.",{"$f":"IF(Teilnehmerliste!B941=\"\",\"\",Teilnehmerliste!B941)","v":""},{"$f":"SUMIF(Wetten!P$3:P$10002,C940,Wetten!O$3:O$10002)","v":0},{"$error":"#DIV/0!"}]
[null,"939.",{"$f":"IF(Teilnehmerliste!B942=\"\",\"\",Teilnehmerliste!B942)","v":""},{"$f":"SUMIF(Wetten!P$3:P$10002,C941,Wetten!O$3:O$10002)","v":0},{"$error":"#DIV/0!"}]
[null,"940.",{"$f":"IF(Teilnehmerliste!B943=\"\",\"\",Teilnehmerliste!B943)","v":""},{"$f":"SUMIF(Wetten!P$3:P$10002,C942,Wetten!O$3:O$10002)","v":0},{"$error":"#DIV/0!"}]
[null,"941.",{"$f":"IF(Teilnehmerliste!B944=\"\",\"\",Teilnehmerliste!B944)","v":""},{"$f":"SUMIF(Wetten!P$3:P$10002,C943,Wetten!O$3:O$10002)","v":0},{"$error":"#DIV/0!"}]
[null,"942.",{"$f":"IF(Teilnehmerliste!B945=\"\",\"\",Teilnehmerliste!B945)","v":""},{"$f":"SUMIF(Wetten!P$3:P$10002,C944,Wetten!O$3:O$10002)","v":0},{"$error":"#DIV/0!"}]
[null,"943.",{"$f":"IF(Teilnehmerliste!B946=\"\",\"\",Teilnehmerliste!B946)","v":""},{"$f":"SUMIF(Wetten!P$3:P$10002,C945,Wetten!O$3:O$10002)","v":0},{"$error":"#DIV/0!"}]
[null,"944.",{"$f":"IF(Teilnehmerliste!B947=\"\",\"\",Teilnehmerliste!B947)","v":""},{"$f":"SUMIF(Wetten!P$3:P$10002,C946,Wetten!O$3:O$10002)","v":0},{"$error":"#DIV/0!"}]
[null,"945.",{"$f":"IF(Teilnehmerliste!B948=\"\",\"\",Teilnehmerliste!B948)","v":""},{"$f":"SUMIF(Wetten!P$3:P$10002,C947,Wetten!O$3:O$10002)","v":0},{"$error":"#DIV/0!"}]
[null,"946.",{"$f":"IF(Teilnehmerliste!B949=\"\",\"\",Teilnehmerliste!B949)","v":""},{"$f":"SUMIF(Wetten!P$3:P$10002,C948,Wetten!O$3:O$10002)","v":0},{"$error":"#DIV/0!"}]
[null,"947.",{"$f":"IF(Teilnehmerliste!B950=\"\",\"\",Teilnehmerliste!B950)","v":""},{"$f":"SUMIF(Wetten!P$3:P$10002,C949,Wetten!O$3:O$10002)","v":0},{"$error":"#DIV/0!"}]
[null,"948.",{"$f":"IF(Teilnehmerliste!B951=\"\",\"\",Teilnehmerliste!B951)","v":""},{"$f":"SUMIF(Wetten!P$3:P$10002,C950,Wetten!O$3:O$10002)","v":0},{"$error":"#DIV/0!"}]
[null,"949.",{"$f":"IF(Teilnehmerliste!B952=\"\",\"\",Teilnehmerliste!B952)","v":""},{"$f":"SUMIF(Wetten!P$3:P$10002,C951,Wetten!O$3:O$10002)","v":0},{"$error":"#DIV/0!"}]
[null,"950.",{"$f":"IF(Teilnehmerliste!B953=\"\",\"\",Teilnehmerliste!B953)","v":""},{"$f":"SUMIF(Wetten!P$3:P$10002,C952,Wetten!O$3:O$10002)","v":0},{"$error":"#DIV/0!"}]
[null,"951.",{"$f":"IF(Teilnehmerliste!B954=\"\",\"\",Teilnehmerliste!B954)","v":""},{"$f":"SUMIF(Wetten!P$3:P$10002,C953,Wetten!O$3:O$10002)","v":0},{"$error":"#DIV/0!"}]
[null,"952.",{"$f":"IF(Teilnehmerliste!B955=\"\",\"\",Teilnehmerliste!B955)","v":""},{"$f":"SUMIF(Wetten!P$3:P$10002,C954,Wetten!O$3:O$10002)","v":0},{"$error":"#DIV/0!"}]
[null,"953.",{"$f":"IF(Teilnehmerliste!B956=\"\",\"\",Teilnehmerliste!B956)","v":""},{"$f":"SUMIF(Wetten!P$3:P$10002,C955,Wetten!O$3:O$10002)","v":0},{"$error":"#DIV/0!"}]
[null,"954.",{"$f":"IF(Teilnehmerliste!B957=\"\",\"\",Teilnehmerliste!B957)","v":""},{"$f":"SUMIF(Wetten!P$3:P$10002,C956,Wetten!O$3:O$10002)","v":0},{"$error":"#DIV/0!"}]
[null,"955.",{"$f":"IF(Teilnehmerliste!B958=\"\",\"\",Teilnehmerliste!B958)","v":""},{"$f":"SUMIF(Wetten!P$3:P$10002,C957,Wetten!O$3:O$10002)","v":0},{"$error":"#DIV/0!"}]
[null,"956.",{"$f":"IF(Teilnehmerliste!B959=\"\",\"\",Teilnehmerliste!B959)","v":""},{"$f":"SUMIF(Wetten!P$3:P$10002,C958,Wetten!O$3:O$10002)","v":0},{"$error":"#DIV/0!"}]
[null,"957.",{"$f":"IF(Teilnehmerliste!B960=\"\",\"\",Teilnehmerliste!B960)","v":""},{"$f":"SUMIF(Wetten!P$3:P$10002,C959,Wetten!O$3:O$10002)","v":0},{"$error":"#DIV/0!"}]
[null,"958.",{"$f":"IF(Teilnehmerliste!B961=\"\",\"\",Teilnehmerliste!B961)","v":""},{"$f":"SUMIF(Wetten!P$3:P$10002,C960,Wetten!O$3:O$10002)","v":0},{"$error":"#DIV/0!"}]
[null,"959.",{"$f":"IF(Teilnehmerliste!B962=\"\",\"\",Teilnehmerliste!B962)","v":""},{"$f":"SUMIF(Wetten!P$3:P$10002,C961,Wetten!O$3:O$10002)","v":0},{"$error":"#DIV/0!"}]
[null,"960.",{"$f":"IF(Teilnehmerliste!B963=\"\",\"\",Teilnehmerliste!B963)","v":""},{"$f":"SUMIF(Wetten!P$3:P$10002,C962,Wetten!O$3:O$10002)","v":0},{"$error":"#DIV/0!"}]
[null,"961.",{"$f":"IF(Teilnehmerliste!B964=\"\",\"\",Teilnehmerliste!B964)","v":""},{"$f":"SUMIF(Wetten!P$3:P$10002,C963,Wetten!O$3:O$10002)","v":0},{"$error":"#DIV/0!"}]
[null,"962.",{"$f":"IF(Teilnehmerliste!B965=\"\",\"\",Teilnehmerliste!B965)","v":""},{"$f":"SUMIF(Wetten!P$3:P$10002,C964,Wetten!O$3:O$10002)","v":0},{"$f":"1/SUM($D$3:$D$1002)*D964","v":{"$error":"#DIV/0!"}}]
[null,"963.",{"$f":"IF(Teilnehmerliste!B966=\"\",\"\",Teilnehmerliste!B966)","v":""},{"$f":"SUMIF(Wetten!P$3:P$10002,C965,Wetten!O$3:O$10002)","v":0},{"$error":"#DIV/0!"}]
[null,"964.",{"$f":"IF(Teilnehmerliste!B967=\"\",\"\",Teilnehmerliste!B967)","v":""},{"$f":"SUMIF(Wetten!P$3:P$10002,C966,Wetten!O$3:O$10002)","v":0},{"$error":"#DIV/0!"}]
[null,"965.",{"$f":"IF(Teilnehmerliste!B968=\"\",\"\",Teilnehmerliste!B968)","v":""},{"$f":"SUMIF(Wetten!P$3:P$10002,C967,Wetten!O$3:O$10002)","v":0},{"$error":"#DIV/0!"}]
[null,"966.",{"$f":"IF(Teilnehmerliste!B969=\"\",\"\",Teilnehmerliste!B969)","v":""},{"$f":"SUMIF(Wetten!P$3:P$10002,C968,Wetten!O$3:O$10002)","v":0},{"$error":"#DIV/0!"}]
[null,"967.",{"$f":"IF(Teilnehmerliste!B970=\"\",\"\",Teilnehmerliste!B970)","v":""},{"$f":"SUMIF(Wetten!P$3:P$10002,C969,Wetten!O$3:O$10002)","v":0},{"$error":"#DIV/0!"}]
[null,"968.",{"$f":"IF(Teilnehmerliste!B971=\"\",\"\",Teilnehmerliste!B971)","v":""},{"$f":"SUMIF(Wetten!P$3:P$10002,C970,Wetten!O$3:O$10002)","v":0},{"$error":"#DIV/0!"}]
[null,"969.",{"$f":"IF(Teilnehmerliste!B972=\"\",\"\",Teilnehmerliste!B972)","v":""},{"$f":"SUMIF(Wetten!P$3:P$10002,C971,Wetten!O$3:O$10002)","v":0},{"$error":"#DIV/0!"}]
[null,"970.",{"$f":"IF(Teilnehmerliste!B973=\"\",\"\",Teilnehmerliste!B973)","v":""},{"$f":"SUMIF(Wetten!P$3:P$10002,C972,Wetten!O$3:O$10002)","v":0},{"$error":"#DIV/0!"}]
[null,"971.",{"$f":"IF(Teilnehmerliste!B974=\"\",\"\",Teilnehmerliste!B974)","v":""},{"$f":"SUMIF(Wetten!P$3:P$10002,C973,Wetten!O$3:O$10002)","v":0},{"$error":"#DIV/0!"}]
[null,"972.",{"$f":"IF(Teilnehmerliste!B975=\"\",\"\",Teilnehmerliste!B975)","v":""},{"$f":"SUMIF(Wetten!P$3:P$10002,C974,Wetten!O$3:O$10002)","v":0},{"$error":"#DIV/0!"}]
[null,"973.",{"$f":"IF(Teilnehmerliste!B976=\"\",\"\",Teilnehmerliste!B976)","v":""},{"$f":"SUMIF(Wetten!P$3:P$10002,C975,Wetten!O$3:O$10002)","v":0},{"$error":"#DIV/0!"}]
[null,"974.",{"$f":"IF(Teilnehmerliste!B977=\"\",\"\",Teilnehmerliste!B977)","v":""},{"$f":"SUMIF(Wetten!P$3:P$10002,C976,Wetten!O$3:O$10002)","v":0},{"$error":"#DIV/0!"}]
[null,"975.",{"$f":"IF(Teilnehmerliste!B978=\"\",\"\",Teilnehmerliste!B978)","v":""},{"$f":"SUMIF(Wetten!P$3:P$10002,C977,Wetten!O$3:O$10002)","v":0},{"$error":"#DIV/0!"}]
[null,"976.",{"$f":"IF(Teilnehmerliste!B979=\"\",\"\",Teilnehmerliste!B979)","v":""},{"$f":"SUMIF(Wetten!P$3:P$10002,C978,Wetten!O$3:O$10002)","v":0},{"$error":"#DIV/0!"}]
[null,"977.",{"$f":"IF(Teilnehmerliste!B980=\"\",\"\",Teilnehmerliste!B980)","v":""},{"$f":"SUMIF(Wetten!P$3:P$10002,C979,Wetten!O$3:O$10002)","v":0},{"$error":"#DIV/0!"}]
[null,"978.",{"$f":"IF(Teilnehmerliste!B981=\"\",\"\",Teilnehmerliste!B981)","v":""},{"$f":"SUMIF(Wetten!P$3:P$10002,C980,Wetten!O$3:O$10002)","v":0},{"$error":"#DIV/0!"}]
[null,"979.",{"$f":"IF(Teilnehmerliste!B982=\"\",\"\",Teilnehmerliste!B982)","v":""},{"$f":"SUMIF(Wetten!P$3:P$10002,C981,Wetten!O$3:O$10002)","v":0},{"$error":"#DIV/0!"}]
[null,"980.",{"$f":"IF(Teilnehmerliste!B983=\"\",\"\",Teilnehmerliste!B983)","v":""},{"$f":"SUMIF(Wetten!P$3:P$10002,C982,Wetten!O$3:O$10002)","v":0},{"$error":"#DIV/0!"}]
[null,"981.",{"$f":"IF(Teilnehmerliste!B984=\"\",\"\",Teilnehmerliste!B984)","v":""},{"$f":"SUMIF(Wetten!P$3:P$10002,C983,Wetten!O$3:O$10002)","v":0},{"$error":"#DIV/0!"}]
[null,"982.",{"$f":"IF(Teilnehmerliste!B985=\"\",\"\",Teilnehmerliste!B985)","v":""},{"$f":"SUMIF(Wetten!P$3:P$10002,C984,Wetten!O$3:O$10002)","v":0},{"$error":"#DIV/0!"}]
[null,"983.",{"$f":"IF(Teilnehmerliste!B986=\"\",\"\",Teilnehmerliste!B986)","v":""},{"$f":"SUMIF(Wetten!P$3:P$10002,C985,Wetten!O$3:O$10002)","v":0},{"$error":"#DIV/0!"}]
[null,"984.",{"$f":"IF(Teilnehmerliste!B987=\"\",\"\",Teilnehmerliste!B987)","v":""},{"$f":"SUMIF(Wetten!P$3:P$10002,C986,Wetten!O$3:O$10002)","v":0},{"$error":"#DIV/0!"}]
[null,"985.",{"$f":"IF(Teilnehmerliste!B988=\"\",\"\",Teilnehmerliste!B988)","v":""},{"$f":"SUMIF(Wetten!P$3:P$10002,C987,Wetten!O$3:O$10002)","v":0},{"$error":"#DIV/0!"}]
[null,"986.",{"$f":"IF(Teilnehmerliste!B989=\"\",\"\",Teilnehmerliste!B989)","v":""},{"$f":"SUMIF(Wetten!P$3:P$10002,C988,Wetten!O$3:O$10002)","v":0},{"$error":"#DIV/0!"}]
[null,"987.",{"$f":"IF(Teilnehmerliste!B990=\"\",\"\",Teilnehmerliste!B990)","v":""},{"$f":"SUMIF(Wetten!P$3:P$10002,C989,Wetten!O$3:O$10002)","v":0},{"$error":"#DIV/0!"}]
[null,"988.",{"$f":"IF(Teilnehmerliste!B991=\"\",\"\",Teilnehmerliste!B991)","v":""},{"$f":"SUMIF(Wetten!P$3:P$10002,C990,Wetten!O$3:O$10002)","v":0},{"$error":"#DIV/0!"}]
[null,"989.",{"$f":"IF(Teilnehmerliste!B992=\"\",\"\",Teilnehmerliste!B992)","v":""},{"$f":"SUMIF(Wetten!P$3:P$10002,C991,Wetten!O$3:O$10002)","v":0},{"$error":"#DIV/0!"}]
[null,"990.",{"$f":"IF(Teilnehmerliste!B993=\"\",\"\",Teilnehmerliste!B993)","v":""},{"$f":"SUMIF(Wetten!P$3:P$10002,C992,Wetten!O$3:O$10002)","v":0},{"$error":"#DIV/0!"}]
[null,"991.",{"$f":"IF(Teilnehmerliste!B994=\"\",\"\",Teilnehmerliste!B994)","v":""},{"$f":"SUMIF(Wetten!P$3:P$10002,C993,Wetten!O$3:O$10002)","v":0},{"$error":"#DIV/0!"}]
[null,"992.",{"$f":"IF(Teilnehmerliste!B995=\"\",\"\",Teilnehmerliste!B995)","v":""},{"$f":"SUMIF(Wetten!P$3:P$10002,C994,Wetten!O$3:O$10002)","v":0},{"$error":"#DIV/0!"}]
[null,"993.",{"$f":"IF(Teilnehmerliste!B996=\"\",\"\",Teilnehmerliste!B996)","v":""},{"$f":"SUMIF(Wetten!P$3:P$10002,C995,Wetten!O$3:O$10002)","v":0},{"$error":"#DIV/0!"}]
[null,"994.",{"$f":"IF(Teilnehmerliste!B997=\"\",\"\",Teilnehmerliste!B997)","v":""},{"$f":"SUMIF(Wetten!P$3:P$10002,C996,Wetten!O$3:O$10002)","v":0},{"$error":"#DIV/0!"}]
[null,"995.",{"$f":"IF(Teilnehmerliste!B998=\"\",\"\",Teilnehmerliste!B998)","v":""},{"$f":"SUMIF(Wetten!P$3:P$10002,C997,Wetten!O$3:O$10002)","v":0},{"$error":"#DIV/0!"}]
[null,"996.",{"$f":"IF(Teilnehmerliste!B999=\"\",\"\",Teilnehmerliste!B999)","v":""},{"$f":"SUMIF(Wetten!P$3:P$10002,C998,Wetten!O$3:O$10002)","v":0},{"$error":"#DIV/0!"}]
[null,"997.",{"$f":"IF(Teilnehmerliste!B1000=\"\",\"\",Teilnehmerliste!B1000)","v":""},{"$f":"SUMIF(Wetten!P$3:P$10002,C999,Wetten!O$3:O$10002)","v":0},{"$error":"#DIV/0!"}]
[null,"998.",{"$f":"IF(Teilnehmerliste!B1001=\"\",\"\",Teilnehmerliste!B1001)","v":""},{"$f":"SUMIF(Wetten!P$3:P$10002,C1000,Wetten!O$3:O$10002)","v":0},{"$error":"#DIV/0!"}]
[null,"999.",{"$f":"IF(Teilnehmerliste!B1002=\"\",\"\",Teilnehmerliste!B1002)","v":""},{"$f":"SUMIF(Wetten!P$3:P$10002,C1001,Wetten!O$3:O$10002)","v":0},{"$error":"#DIV/0!"}]
[null,"1000.",{"$f":"IF(Teilnehmerliste!B1003=\"\",\"\",Teilnehmerliste!B1003)","v":""},{"$f":"SUMIF(Wetten!P$3:P$10002,C1002,Wetten!O$3:O$10002)","v":0},{"$error":"#DIV/0!"}]

{"sheet":"Teilnehmerliste","index":4,"n_rows":8,"n_cols":2,"rows_kept":8,"cut":false,"hidden":false,"merged":[]}
[]
[null,"Wett-Teilnehmer (Name)"]
[]
[null,"Blutgrätsche"]
[null,"Lattenkracher"]
[null,"Vollpfosten"]
[null,"Stürmer"]
[null,"Torwart"]